{"text_format":"1","workbook":"xlsx","n_sheets":7,"sheets":["Instructions"," macros entry sheet","FREE TEXT","Daily record summary","Monthly record summary","Earliest & latest date, peak No","Sheet2"],"not_rendered":{"charts":0,"images":3,"macros":1,"external_links":0,"defined_names":1,"comments":0,"pivot_tables":3},"unopened":[],"bounds":{"document_bytes":16777216,"sheet_cells":100000,"rows_first":2000,"rows_last":500,"rows_between":2000,"halvings":0,"cell_chars":16384,"cell_head_chars":4096},"cells_cut":0,"cells_raw":0,"read":"whole","date_system":"1900"}

{"sheet":"Instructions","index":0,"n_rows":33,"n_cols":2,"rows_kept":33,"cut":false,"hidden":false,"merged":[]}
["These entry sheets are designed so that all you only have to enter the COMMON NAME to populate the name fields.  "]
[]
[1,"Select the macro entry sheet.  If you try to enter micros onto the sheet it will not work"]
[]
[2,"Select the COMMON NAME cell (column C) in the next blank row and type in the  name of the moth until the correct name appears OR click on the dropdown arrow and select the name"]
[]
[3,"The taxon, RES and B&S number  (if there is one) will automatically populate"]
[]
[4,"Enter the remaining data across the row"]
[null,"Please enter the date as 3/4 (for 3rd of April) this will automatincall populate as the correct date format and will add the current year"]
[]
[5,"You do not have to type data into every row.  If date, site, grid reference, recorder etc are the same for each row then  you can automatically fill them by:"]
[5.0999999999999996,"Highlight the cells that you want to copy, typically this will be columns E - I in the completed row"]
[5.2,"Click on the bottom right hand corner of the highlighted cells to get a +"]
[5.3,"Hold down the Ctrl key "]
[5.4,"Drag down to the last row that you want to complete"]
[5.5,"Check that this has worked because you may find that the date has been changed in each row"]
[5.6,"If that is the case you can click on the box that will be present in the bottom right corner and select copy cells"]
[]
[6,"FOR NAMES THAT DO NOT GIVE A SPECIES"]
[6.1,"If the name that you have put in doesn't give a species check that the spelling is correct and that you are not trying to enter a micro"]
[6.2,"If the name is correct you can free text this record into the FREE TEXT sheet, these records will not show in the summary tables"]
[]
[]
["Summary sheets"]
[1,"The summary sheets will refresh automatically when you open the workbook."]
[2,"To update after adding data click on any cell in the table, right click with your mouse button and select refresh"]
[3,"The default is that all data recorded in the entry sheets will appear"]
[4,"There are filters at the top of each summary table that allow you to select the site, stage, method used and comments"]
[null,"The summary tables show"]
[null,"Daily records - total count of each species for that night"]
[null,"Monthly summary - total count of each species for that night"]
[null,"Earliest and latest dates and peak number in a night"]

{"sheet":" macros entry sheet","index":1,"n_rows":50292,"n_cols":19,"rows_kept":4500,"cut":true,"hidden":false,"merged":[],"bounds":{"rows_first":2000,"rows_last":500,"rows_between":2000,"halvings":0}}
["RES No","B&S","Common name",null,"Taxon","id lookup","ID Guide","Site","Gridref","VC","Recorder","Determiner","Date","Quantity","Method","Sex","Stage","Status","Comment"]
[{"$f":"IF(OR(C2=\"\",ISBLANK(C2)),\"\",VLOOKUP(C2,Sheet2!A:F,2,FALSE))","v":""},{"$f":"IF(OR(C2=\"\",ISBLANK(C2)),\"\",VLOOKUP(C2,Sheet2!A:G,4,FALSE))","v":""},"",null,{"$f":"IF(OR(C2=\"\",ISBLANK(C2)),\"\",VLOOKUP(C2,Sheet2!A:F,3,FALSE))","v":""},{"$f":"IF(OR(C2=\"\",ISBLANK(C2)),\"\",VLOOKUP(C2,Sheet2!A:G,6,FALSE))","v":""},{"$f":"IF(F2=0,\"\",F2)","v":""}]
[{"$f":"IF(OR(C3=\"\",ISBLANK(C3)),\"\",VLOOKUP(C3,Sheet2!A:F,2,FALSE))","v":""},{"$f":"IF(OR(C3=\"\",ISBLANK(C3)),\"\",VLOOKUP(C3,Sheet2!A:G,4,FALSE))","v":""},"",null,{"$f":"IF(OR(C3=\"\",ISBLANK(C3)),\"\",VLOOKUP(C3,Sheet2!A:F,3,FALSE))","v":""},{"$f":"IF(OR(C3=\"\",ISBLANK(C3)),\"\",VLOOKUP(C3,Sheet2!A:G,6,FALSE))","v":""},{"$f":"IF(F3=0,\"\",F3)","v":""}]
[{"$f":"IF(OR(C4=\"\",ISBLANK(C4)),\"\",VLOOKUP(C4,Sheet2!A:F,2,FALSE))","v":""},{"$f":"IF(OR(C4=\"\",ISBLANK(C4)),\"\",VLOOKUP(C4,Sheet2!A:G,4,FALSE))","v":""},"",null,{"$f":"IF(OR(C4=\"\",ISBLANK(C4)),\"\",VLOOKUP(C4,Sheet2!A:F,3,FALSE))","v":""},{"$f":"IF(OR(C4=\"\",ISBLANK(C4)),\"\",VLOOKUP(C4,Sheet2!A:G,6,FALSE))","v":""},""]
[{"$f":"IF(OR(C5=\"\",ISBLANK(C5)),\"\",VLOOKUP(C5,Sheet2!A:F,2,FALSE))","v":""},{"$f":"IF(OR(C5=\"\",ISBLANK(C5)),\"\",VLOOKUP(C5,Sheet2!A:G,4,FALSE))","v":""},"",null,{"$f":"IF(OR(C5=\"\",ISBLANK(C5)),\"\",VLOOKUP(C5,Sheet2!A:F,3,FALSE))","v":""},{"$f":"IF(OR(C5=\"\",ISBLANK(C5)),\"\",VLOOKUP(C5,Sheet2!A:G,6,FALSE))","v":""},""]
[{"$f":"IF(OR(C6=\"\",ISBLANK(C6)),\"\",VLOOKUP(C6,Sheet2!A:F,2,FALSE))","v":""},{"$f":"IF(OR(C6=\"\",ISBLANK(C6)),\"\",VLOOKUP(C6,Sheet2!A:G,4,FALSE))","v":""},null,null,{"$f":"IF(OR(C6=\"\",ISBLANK(C6)),\"\",VLOOKUP(C6,Sheet2!A:F,3,FALSE))","v":""},{"$f":"IF(OR(C6=\"\",ISBLANK(C6)),\"\",VLOOKUP(C6,Sheet2!A:G,6,FALSE))","v":""},""]
[{"$f":"IF(OR(C7=\"\",ISBLANK(C7)),\"\",VLOOKUP(C7,Sheet2!A:F,2,FALSE))","v":""},{"$f":"IF(OR(C7=\"\",ISBLANK(C7)),\"\",VLOOKUP(C7,Sheet2!A:G,4,FALSE))","v":""},null,null,{"$f":"IF(OR(C7=\"\",ISBLANK(C7)),\"\",VLOOKUP(C7,Sheet2!A:F,3,FALSE))","v":""},{"$f":"IF(OR(C7=\"\",ISBLANK(C7)),\"\",VLOOKUP(C7,Sheet2!A:G,6,FALSE))","v":""},""]
[{"$f":"IF(OR(C8=\"\",ISBLANK(C8)),\"\",VLOOKUP(C8,Sheet2!A:F,2,FALSE))","v":""},{"$f":"IF(OR(C8=\"\",ISBLANK(C8)),\"\",VLOOKUP(C8,Sheet2!A:G,4,FALSE))","v":""},null,null,{"$f":"IF(OR(C8=\"\",ISBLANK(C8)),\"\",VLOOKUP(C8,Sheet2!A:F,3,FALSE))","v":""},{"$f":"IF(OR(C8=\"\",ISBLANK(C8)),\"\",VLOOKUP(C8,Sheet2!A:G,6,FALSE))","v":""},""]
[{"$f":"IF(OR(C9=\"\",ISBLANK(C9)),\"\",VLOOKUP(C9,Sheet2!A:F,2,FALSE))","v":""},{"$f":"IF(OR(C9=\"\",ISBLANK(C9)),\"\",VLOOKUP(C9,Sheet2!A:G,4,FALSE))","v":""},null,null,{"$f":"IF(OR(C9=\"\",ISBLANK(C9)),\"\",VLOOKUP(C9,Sheet2!A:F,3,FALSE))","v":""},{"$f":"IF(OR(C9=\"\",ISBLANK(C9)),\"\",VLOOKUP(C9,Sheet2!A:G,6,FALSE))","v":""},""]
[{"$f":"IF(OR(C10=\"\",ISBLANK(C10)),\"\",VLOOKUP(C10,Sheet2!A:F,2,FALSE))","v":""},{"$f":"IF(OR(C10=\"\",ISBLANK(C10)),\"\",VLOOKUP(C10,Sheet2!A:G,4,FALSE))","v":""},null,null,{"$f":"IF(OR(C10=\"\",ISBLANK(C10)),\"\",VLOOKUP(C10,Sheet2!A:F,3,FALSE))","v":""},{"$f":"IF(OR(C10=\"\",ISBLANK(C10)),\"\",VLOOKUP(C10,Sheet2!A:G,6,FALSE))","v":""},""]
[{"$f":"IF(OR(C11=\"\",ISBLANK(C11)),\"\",VLOOKUP(C11,Sheet2!A:F,2,FALSE))","v":""},{"$f":"IF(OR(C11=\"\",ISBLANK(C11)),\"\",VLOOKUP(C11,Sheet2!A:G,4,FALSE))","v":""},null,null,{"$f":"IF(OR(C11=\"\",ISBLANK(C11)),\"\",VLOOKUP(C11,Sheet2!A:F,3,FALSE))","v":""},{"$f":"IF(OR(C11=\"\",ISBLANK(C11)),\"\",VLOOKUP(C11,Sheet2!A:G,6,FALSE))","v":""},""]
[{"$f":"IF(OR(C12=\"\",ISBLANK(C12)),\"\",VLOOKUP(C12,Sheet2!A:F,2,FALSE))","v":""},{"$f":"IF(OR(C12=\"\",ISBLANK(C12)),\"\",VLOOKUP(C12,Sheet2!A:G,4,FALSE))","v":""},null,null,{"$f":"IF(OR(C12=\"\",ISBLANK(C12)),\"\",VLOOKUP(C12,Sheet2!A:F,3,FALSE))","v":""},{"$f":"IF(OR(C12=\"\",ISBLANK(C12)),\"\",VLOOKUP(C12,Sheet2!A:G,6,FALSE))","v":""},""]
[{"$f":"IF(OR(C13=\"\",ISBLANK(C13)),\"\",VLOOKUP(C13,Sheet2!A:F,2,FALSE))","v":""},{"$f":"IF(OR(C13=\"\",ISBLANK(C13)),\"\",VLOOKUP(C13,Sheet2!A:G,4,FALSE))","v":""},null,null,{"$f":"IF(OR(C13=\"\",ISBLANK(C13)),\"\",VLOOKUP(C13,Sheet2!A:F,3,FALSE))","v":""},{"$f":"IF(OR(C13=\"\",ISBLANK(C13)),\"\",VLOOKUP(C13,Sheet2!A:G,6,FALSE))","v":""},""]
[{"$f":"IF(OR(C14=\"\",ISBLANK(C14)),\"\",VLOOKUP(C14,Sheet2!A:F,2,FALSE))","v":""},{"$f":"IF(OR(C14=\"\",ISBLANK(C14)),\"\",VLOOKUP(C14,Sheet2!A:G,4,FALSE))","v":""},null,null,{"$f":"IF(OR(C14=\"\",ISBLANK(C14)),\"\",VLOOKUP(C14,Sheet2!A:F,3,FALSE))","v":""},{"$f":"IF(OR(C14=\"\",ISBLANK(C14)),\"\",VLOOKUP(C14,Sheet2!A:G,6,FALSE))","v":""},""]
[{"$f":"IF(OR(C15=\"\",ISBLANK(C15)),\"\",VLOOKUP(C15,Sheet2!A:F,2,FALSE))","v":""},{"$f":"IF(OR(C15=\"\",ISBLANK(C15)),\"\",VLOOKUP(C15,Sheet2!A:G,4,FALSE))","v":""},null,null,{"$f":"IF(OR(C15=\"\",ISBLANK(C15)),\"\",VLOOKUP(C15,Sheet2!A:F,3,FALSE))","v":""},{"$f":"IF(OR(C15=\"\",ISBLANK(C15)),\"\",VLOOKUP(C15,Sheet2!A:G,6,FALSE))","v":""},""]
[{"$f":"IF(OR(C16=\"\",ISBLANK(C16)),\"\",VLOOKUP(C16,Sheet2!A:F,2,FALSE))","v":""},{"$f":"IF(OR(C16=\"\",ISBLANK(C16)),\"\",VLOOKUP(C16,Sheet2!A:G,4,FALSE))","v":""},null,null,{"$f":"IF(OR(C16=\"\",ISBLANK(C16)),\"\",VLOOKUP(C16,Sheet2!A:F,3,FALSE))","v":""},{"$f":"IF(OR(C16=\"\",ISBLANK(C16)),\"\",VLOOKUP(C16,Sheet2!A:G,6,FALSE))","v":""},""]
[{"$f":"IF(OR(C17=\"\",ISBLANK(C17)),\"\",VLOOKUP(C17,Sheet2!A:F,2,FALSE))","v":""},{"$f":"IF(OR(C17=\"\",ISBLANK(C17)),\"\",VLOOKUP(C17,Sheet2!A:G,4,FALSE))","v":""},null,null,{"$f":"IF(OR(C17=\"\",ISBLANK(C17)),\"\",VLOOKUP(C17,Sheet2!A:F,3,FALSE))","v":""},{"$f":"IF(OR(C17=\"\",ISBLANK(C17)),\"\",VLOOKUP(C17,Sheet2!A:G,6,FALSE))","v":""},""]
[{"$f":"IF(OR(C18=\"\",ISBLANK(C18)),\"\",VLOOKUP(C18,Sheet2!A:F,2,FALSE))","v":""},{"$f":"IF(OR(C18=\"\",ISBLANK(C18)),\"\",VLOOKUP(C18,Sheet2!A:G,4,FALSE))","v":""},null,null,{"$f":"IF(OR(C18=\"\",ISBLANK(C18)),\"\",VLOOKUP(C18,Sheet2!A:F,3,FALSE))","v":""},{"$f":"IF(OR(C18=\"\",ISBLANK(C18)),\"\",VLOOKUP(C18,Sheet2!A:G,6,FALSE))","v":""},""]
[{"$f":"IF(OR(C19=\"\",ISBLANK(C19)),\"\",VLOOKUP(C19,Sheet2!A:F,2,FALSE))","v":""},{"$f":"IF(OR(C19=\"\",ISBLANK(C19)),\"\",VLOOKUP(C19,Sheet2!A:G,4,FALSE))","v":""},null,null,{"$f":"IF(OR(C19=\"\",ISBLANK(C19)),\"\",VLOOKUP(C19,Sheet2!A:F,3,FALSE))","v":""},{"$f":"IF(OR(C19=\"\",ISBLANK(C19)),\"\",VLOOKUP(C19,Sheet2!A:G,6,FALSE))","v":""},""]
[{"$f":"IF(OR(C20=\"\",ISBLANK(C20)),\"\",VLOOKUP(C20,Sheet2!A:F,2,FALSE))","v":""},{"$f":"IF(OR(C20=\"\",ISBLANK(C20)),\"\",VLOOKUP(C20,Sheet2!A:G,4,FALSE))","v":""},null,null,{"$f":"IF(OR(C20=\"\",ISBLANK(C20)),\"\",VLOOKUP(C20,Sheet2!A:F,3,FALSE))","v":""},{"$f":"IF(OR(C20=\"\",ISBLANK(C20)),\"\",VLOOKUP(C20,Sheet2!A:G,6,FALSE))","v":""},""]
[{"$f":"IF(OR(C21=\"\",ISBLANK(C21)),\"\",VLOOKUP(C21,Sheet2!A:F,2,FALSE))","v":""},{"$f":"IF(OR(C21=\"\",ISBLANK(C21)),\"\",VLOOKUP(C21,Sheet2!A:G,4,FALSE))","v":""},null,null,{"$f":"IF(OR(C21=\"\",ISBLANK(C21)),\"\",VLOOKUP(C21,Sheet2!A:F,3,FALSE))","v":""},{"$f":"IF(OR(C21=\"\",ISBLANK(C21)),\"\",VLOOKUP(C21,Sheet2!A:G,6,FALSE))","v":""},""]
[{"$f":"IF(OR(C22=\"\",ISBLANK(C22)),\"\",VLOOKUP(C22,Sheet2!A:F,2,FALSE))","v":""},{"$f":"IF(OR(C22=\"\",ISBLANK(C22)),\"\",VLOOKUP(C22,Sheet2!A:G,4,FALSE))","v":""},null,null,{"$f":"IF(OR(C22=\"\",ISBLANK(C22)),\"\",VLOOKUP(C22,Sheet2!A:F,3,FALSE))","v":""},{"$f":"IF(OR(C22=\"\",ISBLANK(C22)),\"\",VLOOKUP(C22,Sheet2!A:G,6,FALSE))","v":""},""]
[{"$f":"IF(OR(C23=\"\",ISBLANK(C23)),\"\",VLOOKUP(C23,Sheet2!A:F,2,FALSE))","v":""},{"$f":"IF(OR(C23=\"\",ISBLANK(C23)),\"\",VLOOKUP(C23,Sheet2!A:G,4,FALSE))","v":""},null,null,{"$f":"IF(OR(C23=\"\",ISBLANK(C23)),\"\",VLOOKUP(C23,Sheet2!A:F,3,FALSE))","v":""},{"$f":"IF(OR(C23=\"\",ISBLANK(C23)),\"\",VLOOKUP(C23,Sheet2!A:G,6,FALSE))","v":""},""]
[{"$f":"IF(OR(C24=\"\",ISBLANK(C24)),\"\",VLOOKUP(C24,Sheet2!A:F,2,FALSE))","v":""},{"$f":"IF(OR(C24=\"\",ISBLANK(C24)),\"\",VLOOKUP(C24,Sheet2!A:G,4,FALSE))","v":""},null,null,{"$f":"IF(OR(C24=\"\",ISBLANK(C24)),\"\",VLOOKUP(C24,Sheet2!A:F,3,FALSE))","v":""},{"$f":"IF(OR(C24=\"\",ISBLANK(C24)),\"\",VLOOKUP(C24,Sheet2!A:G,6,FALSE))","v":""},""]
[{"$f":"IF(OR(C25=\"\",ISBLANK(C25)),\"\",VLOOKUP(C25,Sheet2!A:F,2,FALSE))","v":""},{"$f":"IF(OR(C25=\"\",ISBLANK(C25)),\"\",VLOOKUP(C25,Sheet2!A:G,4,FALSE))","v":""},null,null,{"$f":"IF(OR(C25=\"\",ISBLANK(C25)),\"\",VLOOKUP(C25,Sheet2!A:F,3,FALSE))","v":""},{"$f":"IF(OR(C25=\"\",ISBLANK(C25)),\"\",VLOOKUP(C25,Sheet2!A:G,6,FALSE))","v":""},""]
[{"$f":"IF(OR(C26=\"\",ISBLANK(C26)),\"\",VLOOKUP(C26,Sheet2!A:F,2,FALSE))","v":""},{"$f":"IF(OR(C26=\"\",ISBLANK(C26)),\"\",VLOOKUP(C26,Sheet2!A:G,4,FALSE))","v":""},null,null,{"$f":"IF(OR(C26=\"\",ISBLANK(C26)),\"\",VLOOKUP(C26,Sheet2!A:F,3,FALSE))","v":""},{"$f":"IF(OR(C26=\"\",ISBLANK(C26)),\"\",VLOOKUP(C26,Sheet2!A:G,6,FALSE))","v":""},""]
[{"$f":"IF(OR(C27=\"\",ISBLANK(C27)),\"\",VLOOKUP(C27,Sheet2!A:F,2,FALSE))","v":""},{"$f":"IF(OR(C27=\"\",ISBLANK(C27)),\"\",VLOOKUP(C27,Sheet2!A:G,4,FALSE))","v":""},null,null,{"$f":"IF(OR(C27=\"\",ISBLANK(C27)),\"\",VLOOKUP(C27,Sheet2!A:F,3,FALSE))","v":""},{"$f":"IF(OR(C27=\"\",ISBLANK(C27)),\"\",VLOOKUP(C27,Sheet2!A:G,6,FALSE))","v":""},""]
[{"$f":"IF(OR(C28=\"\",ISBLANK(C28)),\"\",VLOOKUP(C28,Sheet2!A:F,2,FALSE))","v":""},{"$f":"IF(OR(C28=\"\",ISBLANK(C28)),\"\",VLOOKUP(C28,Sheet2!A:G,4,FALSE))","v":""},null,null,{"$f":"IF(OR(C28=\"\",ISBLANK(C28)),\"\",VLOOKUP(C28,Sheet2!A:F,3,FALSE))","v":""},{"$f":"IF(OR(C28=\"\",ISBLANK(C28)),\"\",VLOOKUP(C28,Sheet2!A:G,6,FALSE))","v":""},""]
[{"$f":"IF(OR(C29=\"\",ISBLANK(C29)),\"\",VLOOKUP(C29,Sheet2!A:F,2,FALSE))","v":""},{"$f":"IF(OR(C29=\"\",ISBLANK(C29)),\"\",VLOOKUP(C29,Sheet2!A:G,4,FALSE))","v":""},null,null,{"$f":"IF(OR(C29=\"\",ISBLANK(C29)),\"\",VLOOKUP(C29,Sheet2!A:F,3,FALSE))","v":""},{"$f":"IF(OR(C29=\"\",ISBLANK(C29)),\"\",VLOOKUP(C29,Sheet2!A:G,6,FALSE))","v":""},""]
[{"$f":"IF(OR(C30=\"\",ISBLANK(C30)),\"\",VLOOKUP(C30,Sheet2!A:F,2,FALSE))","v":""},{"$f":"IF(OR(C30=\"\",ISBLANK(C30)),\"\",VLOOKUP(C30,Sheet2!A:G,4,FALSE))","v":""},null,null,{"$f":"IF(OR(C30=\"\",ISBLANK(C30)),\"\",VLOOKUP(C30,Sheet2!A:F,3,FALSE))","v":""},{"$f":"IF(OR(C30=\"\",ISBLANK(C30)),\"\",VLOOKUP(C30,Sheet2!A:G,6,FALSE))","v":""},""]
[{"$f":"IF(OR(C31=\"\",ISBLANK(C31)),\"\",VLOOKUP(C31,Sheet2!A:F,2,FALSE))","v":""},{"$f":"IF(OR(C31=\"\",ISBLANK(C31)),\"\",VLOOKUP(C31,Sheet2!A:G,4,FALSE))","v":""},null,null,{"$f":"IF(OR(C31=\"\",ISBLANK(C31)),\"\",VLOOKUP(C31,Sheet2!A:F,3,FALSE))","v":""},{"$f":"IF(OR(C31=\"\",ISBLANK(C31)),\"\",VLOOKUP(C31,Sheet2!A:G,6,FALSE))","v":""},""]
[{"$f":"IF(OR(C32=\"\",ISBLANK(C32)),\"\",VLOOKUP(C32,Sheet2!A:F,2,FALSE))","v":""},{"$f":"IF(OR(C32=\"\",ISBLANK(C32)),\"\",VLOOKUP(C32,Sheet2!A:G,4,FALSE))","v":""},null,null,{"$f":"IF(OR(C32=\"\",ISBLANK(C32)),\"\",VLOOKUP(C32,Sheet2!A:F,3,FALSE))","v":""},{"$f":"IF(OR(C32=\"\",ISBLANK(C32)),\"\",VLOOKUP(C32,Sheet2!A:G,6,FALSE))","v":""},""]
[{"$f":"IF(OR(C33=\"\",ISBLANK(C33)),\"\",VLOOKUP(C33,Sheet2!A:F,2,FALSE))","v":""},{"$f":"IF(OR(C33=\"\",ISBLANK(C33)),\"\",VLOOKUP(C33,Sheet2!A:G,4,FALSE))","v":""},null,null,{"$f":"IF(OR(C33=\"\",ISBLANK(C33)),\"\",VLOOKUP(C33,Sheet2!A:F,3,FALSE))","v":""},{"$f":"IF(OR(C33=\"\",ISBLANK(C33)),\"\",VLOOKUP(C33,Sheet2!A:G,6,FALSE))","v":""},""]
[{"$f":"IF(OR(C34=\"\",ISBLANK(C34)),\"\",VLOOKUP(C34,Sheet2!A:F,2,FALSE))","v":""},{"$f":"IF(OR(C34=\"\",ISBLANK(C34)),\"\",VLOOKUP(C34,Sheet2!A:G,4,FALSE))","v":""},null,null,{"$f":"IF(OR(C34=\"\",ISBLANK(C34)),\"\",VLOOKUP(C34,Sheet2!A:F,3,FALSE))","v":""},{"$f":"IF(OR(C34=\"\",ISBLANK(C34)),\"\",VLOOKUP(C34,Sheet2!A:G,6,FALSE))","v":""},""]
[{"$f":"IF(OR(C35=\"\",ISBLANK(C35)),\"\",VLOOKUP(C35,Sheet2!A:F,2,FALSE))","v":""},{"$f":"IF(OR(C35=\"\",ISBLANK(C35)),\"\",VLOOKUP(C35,Sheet2!A:G,4,FALSE))","v":""},null,null,{"$f":"IF(OR(C35=\"\",ISBLANK(C35)),\"\",VLOOKUP(C35,Sheet2!A:F,3,FALSE))","v":""},{"$f":"IF(OR(C35=\"\",ISBLANK(C35)),\"\",VLOOKUP(C35,Sheet2!A:G,6,FALSE))","v":""},""]
[{"$f":"IF(OR(C36=\"\",ISBLANK(C36)),\"\",VLOOKUP(C36,Sheet2!A:F,2,FALSE))","v":""},{"$f":"IF(OR(C36=\"\",ISBLANK(C36)),\"\",VLOOKUP(C36,Sheet2!A:G,4,FALSE))","v":""},null,null,{"$f":"IF(OR(C36=\"\",ISBLANK(C36)),\"\",VLOOKUP(C36,Sheet2!A:F,3,FALSE))","v":""},{"$f":"IF(OR(C36=\"\",ISBLANK(C36)),\"\",VLOOKUP(C36,Sheet2!A:G,6,FALSE))","v":""},""]
[{"$f":"IF(OR(C37=\"\",ISBLANK(C37)),\"\",VLOOKUP(C37,Sheet2!A:F,2,FALSE))","v":""},{"$f":"IF(OR(C37=\"\",ISBLANK(C37)),\"\",VLOOKUP(C37,Sheet2!A:G,4,FALSE))","v":""},null,null,{"$f":"IF(OR(C37=\"\",ISBLANK(C37)),\"\",VLOOKUP(C37,Sheet2!A:F,3,FALSE))","v":""},{"$f":"IF(OR(C37=\"\",ISBLANK(C37)),\"\",VLOOKUP(C37,Sheet2!A:G,6,FALSE))","v":""},""]
[{"$f":"IF(OR(C38=\"\",ISBLANK(C38)),\"\",VLOOKUP(C38,Sheet2!A:F,2,FALSE))","v":""},{"$f":"IF(OR(C38=\"\",ISBLANK(C38)),\"\",VLOOKUP(C38,Sheet2!A:G,4,FALSE))","v":""},null,null,{"$f":"IF(OR(C38=\"\",ISBLANK(C38)),\"\",VLOOKUP(C38,Sheet2!A:F,3,FALSE))","v":""},{"$f":"IF(OR(C38=\"\",ISBLANK(C38)),\"\",VLOOKUP(C38,Sheet2!A:G,6,FALSE))","v":""},""]
[{"$f":"IF(OR(C39=\"\",ISBLANK(C39)),\"\",VLOOKUP(C39,Sheet2!A:F,2,FALSE))","v":""},{"$f":"IF(OR(C39=\"\",ISBLANK(C39)),\"\",VLOOKUP(C39,Sheet2!A:G,4,FALSE))","v":""},null,null,{"$f":"IF(OR(C39=\"\",ISBLANK(C39)),\"\",VLOOKUP(C39,Sheet2!A:F,3,FALSE))","v":""},{"$f":"IF(OR(C39=\"\",ISBLANK(C39)),\"\",VLOOKUP(C39,Sheet2!A:G,6,FALSE))","v":""},""]
[{"$f":"IF(OR(C40=\"\",ISBLANK(C40)),\"\",VLOOKUP(C40,Sheet2!A:F,2,FALSE))","v":""},{"$f":"IF(OR(C40=\"\",ISBLANK(C40)),\"\",VLOOKUP(C40,Sheet2!A:G,4,FALSE))","v":""},null,null,{"$f":"IF(OR(C40=\"\",ISBLANK(C40)),\"\",VLOOKUP(C40,Sheet2!A:F,3,FALSE))","v":""},{"$f":"IF(OR(C40=\"\",ISBLANK(C40)),\"\",VLOOKUP(C40,Sheet2!A:G,6,FALSE))","v":""},""]
[{"$f":"IF(OR(C41=\"\",ISBLANK(C41)),\"\",VLOOKUP(C41,Sheet2!A:F,2,FALSE))","v":""},{"$f":"IF(OR(C41=\"\",ISBLANK(C41)),\"\",VLOOKUP(C41,Sheet2!A:G,4,FALSE))","v":""},null,null,{"$f":"IF(OR(C41=\"\",ISBLANK(C41)),\"\",VLOOKUP(C41,Sheet2!A:F,3,FALSE))","v":""},{"$f":"IF(OR(C41=\"\",ISBLANK(C41)),\"\",VLOOKUP(C41,Sheet2!A:G,6,FALSE))","v":""},""]
[{"$f":"IF(OR(C42=\"\",ISBLANK(C42)),\"\",VLOOKUP(C42,Sheet2!A:F,2,FALSE))","v":""},{"$f":"IF(OR(C42=\"\",ISBLANK(C42)),\"\",VLOOKUP(C42,Sheet2!A:G,4,FALSE))","v":""},null,null,{"$f":"IF(OR(C42=\"\",ISBLANK(C42)),\"\",VLOOKUP(C42,Sheet2!A:F,3,FALSE))","v":""},{"$f":"IF(OR(C42=\"\",ISBLANK(C42)),\"\",VLOOKUP(C42,Sheet2!A:G,6,FALSE))","v":""},""]
[{"$f":"IF(OR(C43=\"\",ISBLANK(C43)),\"\",VLOOKUP(C43,Sheet2!A:F,2,FALSE))","v":""},{"$f":"IF(OR(C43=\"\",ISBLANK(C43)),\"\",VLOOKUP(C43,Sheet2!A:G,4,FALSE))","v":""},null,null,{"$f":"IF(OR(C43=\"\",ISBLANK(C43)),\"\",VLOOKUP(C43,Sheet2!A:F,3,FALSE))","v":""},{"$f":"IF(OR(C43=\"\",ISBLANK(C43)),\"\",VLOOKUP(C43,Sheet2!A:G,6,FALSE))","v":""},""]
[{"$f":"IF(OR(C44=\"\",ISBLANK(C44)),\"\",VLOOKUP(C44,Sheet2!A:F,2,FALSE))","v":""},{"$f":"IF(OR(C44=\"\",ISBLANK(C44)),\"\",VLOOKUP(C44,Sheet2!A:G,4,FALSE))","v":""},null,null,{"$f":"IF(OR(C44=\"\",ISBLANK(C44)),\"\",VLOOKUP(C44,Sheet2!A:F,3,FALSE))","v":""},{"$f":"IF(OR(C44=\"\",ISBLANK(C44)),\"\",VLOOKUP(C44,Sheet2!A:G,6,FALSE))","v":""},""]
[{"$f":"IF(OR(C45=\"\",ISBLANK(C45)),\"\",VLOOKUP(C45,Sheet2!A:F,2,FALSE))","v":""},{"$f":"IF(OR(C45=\"\",ISBLANK(C45)),\"\",VLOOKUP(C45,Sheet2!A:G,4,FALSE))","v":""},null,null,{"$f":"IF(OR(C45=\"\",ISBLANK(C45)),\"\",VLOOKUP(C45,Sheet2!A:F,3,FALSE))","v":""},{"$f":"IF(OR(C45=\"\",ISBLANK(C45)),\"\",VLOOKUP(C45,Sheet2!A:G,6,FALSE))","v":""},""]
[{"$f":"IF(OR(C46=\"\",ISBLANK(C46)),\"\",VLOOKUP(C46,Sheet2!A:F,2,FALSE))","v":""},{"$f":"IF(OR(C46=\"\",ISBLANK(C46)),\"\",VLOOKUP(C46,Sheet2!A:G,4,FALSE))","v":""},null,null,{"$f":"IF(OR(C46=\"\",ISBLANK(C46)),\"\",VLOOKUP(C46,Sheet2!A:F,3,FALSE))","v":""},{"$f":"IF(OR(C46=\"\",ISBLANK(C46)),\"\",VLOOKUP(C46,Sheet2!A:G,6,FALSE))","v":""},""]
[{"$f":"IF(OR(C47=\"\",ISBLANK(C47)),\"\",VLOOKUP(C47,Sheet2!A:F,2,FALSE))","v":""},{"$f":"IF(OR(C47=\"\",ISBLANK(C47)),\"\",VLOOKUP(C47,Sheet2!A:G,4,FALSE))","v":""},null,null,{"$f":"IF(OR(C47=\"\",ISBLANK(C47)),\"\",VLOOKUP(C47,Sheet2!A:F,3,FALSE))","v":""},{"$f":"IF(OR(C47=\"\",ISBLANK(C47)),\"\",VLOOKUP(C47,Sheet2!A:G,6,FALSE))","v":""},""]
[{"$f":"IF(OR(C48=\"\",ISBLANK(C48)),\"\",VLOOKUP(C48,Sheet2!A:F,2,FALSE))","v":""},{"$f":"IF(OR(C48=\"\",ISBLANK(C48)),\"\",VLOOKUP(C48,Sheet2!A:G,4,FALSE))","v":""},null,null,{"$f":"IF(OR(C48=\"\",ISBLANK(C48)),\"\",VLOOKUP(C48,Sheet2!A:F,3,FALSE))","v":""},{"$f":"IF(OR(C48=\"\",ISBLANK(C48)),\"\",VLOOKUP(C48,Sheet2!A:G,6,FALSE))","v":""},""]
[{"$f":"IF(OR(C49=\"\",ISBLANK(C49)),\"\",VLOOKUP(C49,Sheet2!A:F,2,FALSE))","v":""},{"$f":"IF(OR(C49=\"\",ISBLANK(C49)),\"\",VLOOKUP(C49,Sheet2!A:G,4,FALSE))","v":""},null,null,{"$f":"IF(OR(C49=\"\",ISBLANK(C49)),\"\",VLOOKUP(C49,Sheet2!A:F,3,FALSE))","v":""},{"$f":"IF(OR(C49=\"\",ISBLANK(C49)),\"\",VLOOKUP(C49,Sheet2!A:G,6,FALSE))","v":""},""]
[{"$f":"IF(OR(C50=\"\",ISBLANK(C50)),\"\",VLOOKUP(C50,Sheet2!A:F,2,FALSE))","v":""},{"$f":"IF(OR(C50=\"\",ISBLANK(C50)),\"\",VLOOKUP(C50,Sheet2!A:G,4,FALSE))","v":""},null,null,{"$f":"IF(OR(C50=\"\",ISBLANK(C50)),\"\",VLOOKUP(C50,Sheet2!A:F,3,FALSE))","v":""},{"$f":"IF(OR(C50=\"\",ISBLANK(C50)),\"\",VLOOKUP(C50,Sheet2!A:G,6,FALSE))","v":""},""]
[{"$f":"IF(OR(C51=\"\",ISBLANK(C51)),\"\",VLOOKUP(C51,Sheet2!A:F,2,FALSE))","v":""},{"$f":"IF(OR(C51=\"\",ISBLANK(C51)),\"\",VLOOKUP(C51,Sheet2!A:G,4,FALSE))","v":""},null,null,{"$f":"IF(OR(C51=\"\",ISBLANK(C51)),\"\",VLOOKUP(C51,Sheet2!A:F,3,FALSE))","v":""},{"$f":"IF(OR(C51=\"\",ISBLANK(C51)),\"\",VLOOKUP(C51,Sheet2!A:G,6,FALSE))","v":""},""]
[{"$f":"IF(OR(C52=\"\",ISBLANK(C52)),\"\",VLOOKUP(C52,Sheet2!A:F,2,FALSE))","v":""},{"$f":"IF(OR(C52=\"\",ISBLANK(C52)),\"\",VLOOKUP(C52,Sheet2!A:G,4,FALSE))","v":""},null,null,{"$f":"IF(OR(C52=\"\",ISBLANK(C52)),\"\",VLOOKUP(C52,Sheet2!A:F,3,FALSE))","v":""},{"$f":"IF(OR(C52=\"\",ISBLANK(C52)),\"\",VLOOKUP(C52,Sheet2!A:G,6,FALSE))","v":""},""]
[{"$f":"IF(OR(C53=\"\",ISBLANK(C53)),\"\",VLOOKUP(C53,Sheet2!A:F,2,FALSE))","v":""},{"$f":"IF(OR(C53=\"\",ISBLANK(C53)),\"\",VLOOKUP(C53,Sheet2!A:G,4,FALSE))","v":""},null,null,{"$f":"IF(OR(C53=\"\",ISBLANK(C53)),\"\",VLOOKUP(C53,Sheet2!A:F,3,FALSE))","v":""},{"$f":"IF(OR(C53=\"\",ISBLANK(C53)),\"\",VLOOKUP(C53,Sheet2!A:G,6,FALSE))","v":""},""]
[{"$f":"IF(OR(C54=\"\",ISBLANK(C54)),\"\",VLOOKUP(C54,Sheet2!A:F,2,FALSE))","v":""},{"$f":"IF(OR(C54=\"\",ISBLANK(C54)),\"\",VLOOKUP(C54,Sheet2!A:G,4,FALSE))","v":""},null,null,{"$f":"IF(OR(C54=\"\",ISBLANK(C54)),\"\",VLOOKUP(C54,Sheet2!A:F,3,FALSE))","v":""},{"$f":"IF(OR(C54=\"\",ISBLANK(C54)),\"\",VLOOKUP(C54,Sheet2!A:G,6,FALSE))","v":""},""]
[{"$f":"IF(OR(C55=\"\",ISBLANK(C55)),\"\",VLOOKUP(C55,Sheet2!A:F,2,FALSE))","v":""},{"$f":"IF(OR(C55=\"\",ISBLANK(C55)),\"\",VLOOKUP(C55,Sheet2!A:G,4,FALSE))","v":""},null,null,{"$f":"IF(OR(C55=\"\",ISBLANK(C55)),\"\",VLOOKUP(C55,Sheet2!A:F,3,FALSE))","v":""},{"$f":"IF(OR(C55=\"\",ISBLANK(C55)),\"\",VLOOKUP(C55,Sheet2!A:G,6,FALSE))","v":""},""]
[{"$f":"IF(OR(C56=\"\",ISBLANK(C56)),\"\",VLOOKUP(C56,Sheet2!A:F,2,FALSE))","v":""},{"$f":"IF(OR(C56=\"\",ISBLANK(C56)),\"\",VLOOKUP(C56,Sheet2!A:G,4,FALSE))","v":""},null,null,{"$f":"IF(OR(C56=\"\",ISBLANK(C56)),\"\",VLOOKUP(C56,Sheet2!A:F,3,FALSE))","v":""},{"$f":"IF(OR(C56=\"\",ISBLANK(C56)),\"\",VLOOKUP(C56,Sheet2!A:G,6,FALSE))","v":""},""]
[{"$f":"IF(OR(C57=\"\",ISBLANK(C57)),\"\",VLOOKUP(C57,Sheet2!A:F,2,FALSE))","v":""},{"$f":"IF(OR(C57=\"\",ISBLANK(C57)),\"\",VLOOKUP(C57,Sheet2!A:G,4,FALSE))","v":""},null,null,{"$f":"IF(OR(C57=\"\",ISBLANK(C57)),\"\",VLOOKUP(C57,Sheet2!A:F,3,FALSE))","v":""},{"$f":"IF(OR(C57=\"\",ISBLANK(C57)),\"\",VLOOKUP(C57,Sheet2!A:G,6,FALSE))","v":""},""]
[{"$f":"IF(OR(C58=\"\",ISBLANK(C58)),\"\",VLOOKUP(C58,Sheet2!A:F,2,FALSE))","v":""},{"$f":"IF(OR(C58=\"\",ISBLANK(C58)),\"\",VLOOKUP(C58,Sheet2!A:G,4,FALSE))","v":""},null,null,{"$f":"IF(OR(C58=\"\",ISBLANK(C58)),\"\",VLOOKUP(C58,Sheet2!A:F,3,FALSE))","v":""},{"$f":"IF(OR(C58=\"\",ISBLANK(C58)),\"\",VLOOKUP(C58,Sheet2!A:G,6,FALSE))","v":""},""]
[{"$f":"IF(OR(C59=\"\",ISBLANK(C59)),\"\",VLOOKUP(C59,Sheet2!A:F,2,FALSE))","v":""},{"$f":"IF(OR(C59=\"\",ISBLANK(C59)),\"\",VLOOKUP(C59,Sheet2!A:G,4,FALSE))","v":""},null,null,{"$f":"IF(OR(C59=\"\",ISBLANK(C59)),\"\",VLOOKUP(C59,Sheet2!A:F,3,FALSE))","v":""},{"$f":"IF(OR(C59=\"\",ISBLANK(C59)),\"\",VLOOKUP(C59,Sheet2!A:G,6,FALSE))","v":""},""]
[{"$f":"IF(OR(C60=\"\",ISBLANK(C60)),\"\",VLOOKUP(C60,Sheet2!A:F,2,FALSE))","v":""},{"$f":"IF(OR(C60=\"\",ISBLANK(C60)),\"\",VLOOKUP(C60,Sheet2!A:G,4,FALSE))","v":""},null,null,{"$f":"IF(OR(C60=\"\",ISBLANK(C60)),\"\",VLOOKUP(C60,Sheet2!A:F,3,FALSE))","v":""},{"$f":"IF(OR(C60=\"\",ISBLANK(C60)),\"\",VLOOKUP(C60,Sheet2!A:G,6,FALSE))","v":""},""]
[{"$f":"IF(OR(C61=\"\",ISBLANK(C61)),\"\",VLOOKUP(C61,Sheet2!A:F,2,FALSE))","v":""},{"$f":"IF(OR(C61=\"\",ISBLANK(C61)),\"\",VLOOKUP(C61,Sheet2!A:G,4,FALSE))","v":""},null,null,{"$f":"IF(OR(C61=\"\",ISBLANK(C61)),\"\",VLOOKUP(C61,Sheet2!A:F,3,FALSE))","v":""},{"$f":"IF(OR(C61=\"\",ISBLANK(C61)),\"\",VLOOKUP(C61,Sheet2!A:G,6,FALSE))","v":""},""]
[{"$f":"IF(OR(C62=\"\",ISBLANK(C62)),\"\",VLOOKUP(C62,Sheet2!A:F,2,FALSE))","v":""},{"$f":"IF(OR(C62=\"\",ISBLANK(C62)),\"\",VLOOKUP(C62,Sheet2!A:G,4,FALSE))","v":""},null,null,{"$f":"IF(OR(C62=\"\",ISBLANK(C62)),\"\",VLOOKUP(C62,Sheet2!A:F,3,FALSE))","v":""},{"$f":"IF(OR(C62=\"\",ISBLANK(C62)),\"\",VLOOKUP(C62,Sheet2!A:G,6,FALSE))","v":""},""]
[{"$f":"IF(OR(C63=\"\",ISBLANK(C63)),\"\",VLOOKUP(C63,Sheet2!A:F,2,FALSE))","v":""},{"$f":"IF(OR(C63=\"\",ISBLANK(C63)),\"\",VLOOKUP(C63,Sheet2!A:G,4,FALSE))","v":""},null,null,{"$f":"IF(OR(C63=\"\",ISBLANK(C63)),\"\",VLOOKUP(C63,Sheet2!A:F,3,FALSE))","v":""},{"$f":"IF(OR(C63=\"\",ISBLANK(C63)),\"\",VLOOKUP(C63,Sheet2!A:G,6,FALSE))","v":""},""]
[{"$f":"IF(OR(C64=\"\",ISBLANK(C64)),\"\",VLOOKUP(C64,Sheet2!A:F,2,FALSE))","v":""},{"$f":"IF(OR(C64=\"\",ISBLANK(C64)),\"\",VLOOKUP(C64,Sheet2!A:G,4,FALSE))","v":""},null,null,{"$f":"IF(OR(C64=\"\",ISBLANK(C64)),\"\",VLOOKUP(C64,Sheet2!A:F,3,FALSE))","v":""},{"$f":"IF(OR(C64=\"\",ISBLANK(C64)),\"\",VLOOKUP(C64,Sheet2!A:G,6,FALSE))","v":""},""]
[{"$f":"IF(OR(C65=\"\",ISBLANK(C65)),\"\",VLOOKUP(C65,Sheet2!A:F,2,FALSE))","v":""},{"$f":"IF(OR(C65=\"\",ISBLANK(C65)),\"\",VLOOKUP(C65,Sheet2!A:G,4,FALSE))","v":""},null,null,{"$f":"IF(OR(C65=\"\",ISBLANK(C65)),\"\",VLOOKUP(C65,Sheet2!A:F,3,FALSE))","v":""},{"$f":"IF(OR(C65=\"\",ISBLANK(C65)),\"\",VLOOKUP(C65,Sheet2!A:G,6,FALSE))","v":""},""]
[{"$f":"IF(OR(C66=\"\",ISBLANK(C66)),\"\",VLOOKUP(C66,Sheet2!A:F,2,FALSE))","v":""},{"$f":"IF(OR(C66=\"\",ISBLANK(C66)),\"\",VLOOKUP(C66,Sheet2!A:G,4,FALSE))","v":""},null,null,{"$f":"IF(OR(C66=\"\",ISBLANK(C66)),\"\",VLOOKUP(C66,Sheet2!A:F,3,FALSE))","v":""},{"$f":"IF(OR(C66=\"\",ISBLANK(C66)),\"\",VLOOKUP(C66,Sheet2!A:G,6,FALSE))","v":""},""]
[{"$f":"IF(OR(C67=\"\",ISBLANK(C67)),\"\",VLOOKUP(C67,Sheet2!A:F,2,FALSE))","v":""},{"$f":"IF(OR(C67=\"\",ISBLANK(C67)),\"\",VLOOKUP(C67,Sheet2!A:G,4,FALSE))","v":""},null,null,{"$f":"IF(OR(C67=\"\",ISBLANK(C67)),\"\",VLOOKUP(C67,Sheet2!A:F,3,FALSE))","v":""},{"$f":"IF(OR(C67=\"\",ISBLANK(C67)),\"\",VLOOKUP(C67,Sheet2!A:G,6,FALSE))","v":""},{"$f":"IF(F67=0,\"\",F67)","v":""}]
[{"$f":"IF(OR(C68=\"\",ISBLANK(C68)),\"\",VLOOKUP(C68,Sheet2!A:F,2,FALSE))","v":""},{"$f":"IF(OR(C68=\"\",ISBLANK(C68)),\"\",VLOOKUP(C68,Sheet2!A:G,4,FALSE))","v":""},null,null,{"$f":"IF(OR(C68=\"\",ISBLANK(C68)),\"\",VLOOKUP(C68,Sheet2!A:F,3,FALSE))","v":""},{"$f":"IF(OR(C68=\"\",ISBLANK(C68)),\"\",VLOOKUP(C68,Sheet2!A:G,6,FALSE))","v":""},""]
[{"$f":"IF(OR(C69=\"\",ISBLANK(C69)),\"\",VLOOKUP(C69,Sheet2!A:F,2,FALSE))","v":""},{"$f":"IF(OR(C69=\"\",ISBLANK(C69)),\"\",VLOOKUP(C69,Sheet2!A:G,4,FALSE))","v":""},null,null,{"$f":"IF(OR(C69=\"\",ISBLANK(C69)),\"\",VLOOKUP(C69,Sheet2!A:F,3,FALSE))","v":""},{"$f":"IF(OR(C69=\"\",ISBLANK(C69)),\"\",VLOOKUP(C69,Sheet2!A:G,6,FALSE))","v":""},""]
[{"$f":"IF(OR(C70=\"\",ISBLANK(C70)),\"\",VLOOKUP(C70,Sheet2!A:F,2,FALSE))","v":""},{"$f":"IF(OR(C70=\"\",ISBLANK(C70)),\"\",VLOOKUP(C70,Sheet2!A:G,4,FALSE))","v":""},null,null,{"$f":"IF(OR(C70=\"\",ISBLANK(C70)),\"\",VLOOKUP(C70,Sheet2!A:F,3,FALSE))","v":""},{"$f":"IF(OR(C70=\"\",ISBLANK(C70)),\"\",VLOOKUP(C70,Sheet2!A:G,6,FALSE))","v":""},""]
[{"$f":"IF(OR(C71=\"\",ISBLANK(C71)),\"\",VLOOKUP(C71,Sheet2!A:F,2,FALSE))","v":""},{"$f":"IF(OR(C71=\"\",ISBLANK(C71)),\"\",VLOOKUP(C71,Sheet2!A:G,4,FALSE))","v":""},null,null,{"$f":"IF(OR(C71=\"\",ISBLANK(C71)),\"\",VLOOKUP(C71,Sheet2!A:F,3,FALSE))","v":""},{"$f":"IF(OR(C71=\"\",ISBLANK(C71)),\"\",VLOOKUP(C71,Sheet2!A:G,6,FALSE))","v":""},""]
[{"$f":"IF(OR(C72=\"\",ISBLANK(C72)),\"\",VLOOKUP(C72,Sheet2!A:F,2,FALSE))","v":""},{"$f":"IF(OR(C72=\"\",ISBLANK(C72)),\"\",VLOOKUP(C72,Sheet2!A:G,4,FALSE))","v":""},null,null,{"$f":"IF(OR(C72=\"\",ISBLANK(C72)),\"\",VLOOKUP(C72,Sheet2!A:F,3,FALSE))","v":""},{"$f":"IF(OR(C72=\"\",ISBLANK(C72)),\"\",VLOOKUP(C72,Sheet2!A:G,6,FALSE))","v":""},""]
[{"$f":"IF(OR(C73=\"\",ISBLANK(C73)),\"\",VLOOKUP(C73,Sheet2!A:F,2,FALSE))","v":""},{"$f":"IF(OR(C73=\"\",ISBLANK(C73)),\"\",VLOOKUP(C73,Sheet2!A:G,4,FALSE))","v":""},null,null,{"$f":"IF(OR(C73=\"\",ISBLANK(C73)),\"\",VLOOKUP(C73,Sheet2!A:F,3,FALSE))","v":""},{"$f":"IF(OR(C73=\"\",ISBLANK(C73)),\"\",VLOOKUP(C73,Sheet2!A:G,6,FALSE))","v":""},""]
[{"$f":"IF(OR(C74=\"\",ISBLANK(C74)),\"\",VLOOKUP(C74,Sheet2!A:F,2,FALSE))","v":""},{"$f":"IF(OR(C74=\"\",ISBLANK(C74)),\"\",VLOOKUP(C74,Sheet2!A:G,4,FALSE))","v":""},null,null,{"$f":"IF(OR(C74=\"\",ISBLANK(C74)),\"\",VLOOKUP(C74,Sheet2!A:F,3,FALSE))","v":""},{"$f":"IF(OR(C74=\"\",ISBLANK(C74)),\"\",VLOOKUP(C74,Sheet2!A:G,6,FALSE))","v":""},""]
[{"$f":"IF(OR(C75=\"\",ISBLANK(C75)),\"\",VLOOKUP(C75,Sheet2!A:F,2,FALSE))","v":""},{"$f":"IF(OR(C75=\"\",ISBLANK(C75)),\"\",VLOOKUP(C75,Sheet2!A:G,4,FALSE))","v":""},null,null,{"$f":"IF(OR(C75=\"\",ISBLANK(C75)),\"\",VLOOKUP(C75,Sheet2!A:F,3,FALSE))","v":""},{"$f":"IF(OR(C75=\"\",ISBLANK(C75)),\"\",VLOOKUP(C75,Sheet2!A:G,6,FALSE))","v":""},""]
[{"$f":"IF(OR(C76=\"\",ISBLANK(C76)),\"\",VLOOKUP(C76,Sheet2!A:F,2,FALSE))","v":""},{"$f":"IF(OR(C76=\"\",ISBLANK(C76)),\"\",VLOOKUP(C76,Sheet2!A:G,4,FALSE))","v":""},null,null,{"$f":"IF(OR(C76=\"\",ISBLANK(C76)),\"\",VLOOKUP(C76,Sheet2!A:F,3,FALSE))","v":""},{"$f":"IF(OR(C76=\"\",ISBLANK(C76)),\"\",VLOOKUP(C76,Sheet2!A:G,6,FALSE))","v":""},""]
[{"$f":"IF(OR(C77=\"\",ISBLANK(C77)),\"\",VLOOKUP(C77,Sheet2!A:F,2,FALSE))","v":""},{"$f":"IF(OR(C77=\"\",ISBLANK(C77)),\"\",VLOOKUP(C77,Sheet2!A:G,4,FALSE))","v":""},null,null,{"$f":"IF(OR(C77=\"\",ISBLANK(C77)),\"\",VLOOKUP(C77,Sheet2!A:F,3,FALSE))","v":""},{"$f":"IF(OR(C77=\"\",ISBLANK(C77)),\"\",VLOOKUP(C77,Sheet2!A:G,6,FALSE))","v":""},""]
[{"$f":"IF(OR(C78=\"\",ISBLANK(C78)),\"\",VLOOKUP(C78,Sheet2!A:F,2,FALSE))","v":""},{"$f":"IF(OR(C78=\"\",ISBLANK(C78)),\"\",VLOOKUP(C78,Sheet2!A:G,4,FALSE))","v":""},null,null,{"$f":"IF(OR(C78=\"\",ISBLANK(C78)),\"\",VLOOKUP(C78,Sheet2!A:F,3,FALSE))","v":""},{"$f":"IF(OR(C78=\"\",ISBLANK(C78)),\"\",VLOOKUP(C78,Sheet2!A:G,6,FALSE))","v":""},""]
[{"$f":"IF(OR(C79=\"\",ISBLANK(C79)),\"\",VLOOKUP(C79,Sheet2!A:F,2,FALSE))","v":""},{"$f":"IF(OR(C79=\"\",ISBLANK(C79)),\"\",VLOOKUP(C79,Sheet2!A:G,4,FALSE))","v":""},null,null,{"$f":"IF(OR(C79=\"\",ISBLANK(C79)),\"\",VLOOKUP(C79,Sheet2!A:F,3,FALSE))","v":""},{"$f":"IF(OR(C79=\"\",ISBLANK(C79)),\"\",VLOOKUP(C79,Sheet2!A:G,6,FALSE))","v":""},""]
[{"$f":"IF(OR(C80=\"\",ISBLANK(C80)),\"\",VLOOKUP(C80,Sheet2!A:F,2,FALSE))","v":""},{"$f":"IF(OR(C80=\"\",ISBLANK(C80)),\"\",VLOOKUP(C80,Sheet2!A:G,4,FALSE))","v":""},null,null,{"$f":"IF(OR(C80=\"\",ISBLANK(C80)),\"\",VLOOKUP(C80,Sheet2!A:F,3,FALSE))","v":""},{"$f":"IF(OR(C80=\"\",ISBLANK(C80)),\"\",VLOOKUP(C80,Sheet2!A:G,6,FALSE))","v":""},""]
[{"$f":"IF(OR(C81=\"\",ISBLANK(C81)),\"\",VLOOKUP(C81,Sheet2!A:F,2,FALSE))","v":""},{"$f":"IF(OR(C81=\"\",ISBLANK(C81)),\"\",VLOOKUP(C81,Sheet2!A:G,4,FALSE))","v":""},null,null,{"$f":"IF(OR(C81=\"\",ISBLANK(C81)),\"\",VLOOKUP(C81,Sheet2!A:F,3,FALSE))","v":""},{"$f":"IF(OR(C81=\"\",ISBLANK(C81)),\"\",VLOOKUP(C81,Sheet2!A:G,6,FALSE))","v":""},""]
[{"$f":"IF(OR(C82=\"\",ISBLANK(C82)),\"\",VLOOKUP(C82,Sheet2!A:F,2,FALSE))","v":""},{"$f":"IF(OR(C82=\"\",ISBLANK(C82)),\"\",VLOOKUP(C82,Sheet2!A:G,4,FALSE))","v":""},null,null,{"$f":"IF(OR(C82=\"\",ISBLANK(C82)),\"\",VLOOKUP(C82,Sheet2!A:F,3,FALSE))","v":""},{"$f":"IF(OR(C82=\"\",ISBLANK(C82)),\"\",VLOOKUP(C82,Sheet2!A:G,6,FALSE))","v":""},""]
[{"$f":"IF(OR(C83=\"\",ISBLANK(C83)),\"\",VLOOKUP(C83,Sheet2!A:F,2,FALSE))","v":""},{"$f":"IF(OR(C83=\"\",ISBLANK(C83)),\"\",VLOOKUP(C83,Sheet2!A:G,4,FALSE))","v":""},null,null,{"$f":"IF(OR(C83=\"\",ISBLANK(C83)),\"\",VLOOKUP(C83,Sheet2!A:F,3,FALSE))","v":""},{"$f":"IF(OR(C83=\"\",ISBLANK(C83)),\"\",VLOOKUP(C83,Sheet2!A:G,6,FALSE))","v":""},""]
[{"$f":"IF(OR(C84=\"\",ISBLANK(C84)),\"\",VLOOKUP(C84,Sheet2!A:F,2,FALSE))","v":""},{"$f":"IF(OR(C84=\"\",ISBLANK(C84)),\"\",VLOOKUP(C84,Sheet2!A:G,4,FALSE))","v":""},null,null,{"$f":"IF(OR(C84=\"\",ISBLANK(C84)),\"\",VLOOKUP(C84,Sheet2!A:F,3,FALSE))","v":""},{"$f":"IF(OR(C84=\"\",ISBLANK(C84)),\"\",VLOOKUP(C84,Sheet2!A:G,6,FALSE))","v":""},""]
[{"$f":"IF(OR(C85=\"\",ISBLANK(C85)),\"\",VLOOKUP(C85,Sheet2!A:F,2,FALSE))","v":""},{"$f":"IF(OR(C85=\"\",ISBLANK(C85)),\"\",VLOOKUP(C85,Sheet2!A:G,4,FALSE))","v":""},null,null,{"$f":"IF(OR(C85=\"\",ISBLANK(C85)),\"\",VLOOKUP(C85,Sheet2!A:F,3,FALSE))","v":""},{"$f":"IF(OR(C85=\"\",ISBLANK(C85)),\"\",VLOOKUP(C85,Sheet2!A:G,6,FALSE))","v":""},""]
[{"$f":"IF(OR(C86=\"\",ISBLANK(C86)),\"\",VLOOKUP(C86,Sheet2!A:F,2,FALSE))","v":""},{"$f":"IF(OR(C86=\"\",ISBLANK(C86)),\"\",VLOOKUP(C86,Sheet2!A:G,4,FALSE))","v":""},null,null,{"$f":"IF(OR(C86=\"\",ISBLANK(C86)),\"\",VLOOKUP(C86,Sheet2!A:F,3,FALSE))","v":""},{"$f":"IF(OR(C86=\"\",ISBLANK(C86)),\"\",VLOOKUP(C86,Sheet2!A:G,6,FALSE))","v":""},""]
[{"$f":"IF(OR(C87=\"\",ISBLANK(C87)),\"\",VLOOKUP(C87,Sheet2!A:F,2,FALSE))","v":""},{"$f":"IF(OR(C87=\"\",ISBLANK(C87)),\"\",VLOOKUP(C87,Sheet2!A:G,4,FALSE))","v":""},null,null,{"$f":"IF(OR(C87=\"\",ISBLANK(C87)),\"\",VLOOKUP(C87,Sheet2!A:F,3,FALSE))","v":""},{"$f":"IF(OR(C87=\"\",ISBLANK(C87)),\"\",VLOOKUP(C87,Sheet2!A:G,6,FALSE))","v":""},""]
[{"$f":"IF(OR(C88=\"\",ISBLANK(C88)),\"\",VLOOKUP(C88,Sheet2!A:F,2,FALSE))","v":""},{"$f":"IF(OR(C88=\"\",ISBLANK(C88)),\"\",VLOOKUP(C88,Sheet2!A:G,4,FALSE))","v":""},null,null,{"$f":"IF(OR(C88=\"\",ISBLANK(C88)),\"\",VLOOKUP(C88,Sheet2!A:F,3,FALSE))","v":""},{"$f":"IF(OR(C88=\"\",ISBLANK(C88)),\"\",VLOOKUP(C88,Sheet2!A:G,6,FALSE))","v":""},""]
[{"$f":"IF(OR(C89=\"\",ISBLANK(C89)),\"\",VLOOKUP(C89,Sheet2!A:F,2,FALSE))","v":""},{"$f":"IF(OR(C89=\"\",ISBLANK(C89)),\"\",VLOOKUP(C89,Sheet2!A:G,4,FALSE))","v":""},null,null,{"$f":"IF(OR(C89=\"\",ISBLANK(C89)),\"\",VLOOKUP(C89,Sheet2!A:F,3,FALSE))","v":""},{"$f":"IF(OR(C89=\"\",ISBLANK(C89)),\"\",VLOOKUP(C89,Sheet2!A:G,6,FALSE))","v":""},""]
[{"$f":"IF(OR(C90=\"\",ISBLANK(C90)),\"\",VLOOKUP(C90,Sheet2!A:F,2,FALSE))","v":""},{"$f":"IF(OR(C90=\"\",ISBLANK(C90)),\"\",VLOOKUP(C90,Sheet2!A:G,4,FALSE))","v":""},null,null,{"$f":"IF(OR(C90=\"\",ISBLANK(C90)),\"\",VLOOKUP(C90,Sheet2!A:F,3,FALSE))","v":""},{"$f":"IF(OR(C90=\"\",ISBLANK(C90)),\"\",VLOOKUP(C90,Sheet2!A:G,6,FALSE))","v":""},""]
[{"$f":"IF(OR(C91=\"\",ISBLANK(C91)),\"\",VLOOKUP(C91,Sheet2!A:F,2,FALSE))","v":""},{"$f":"IF(OR(C91=\"\",ISBLANK(C91)),\"\",VLOOKUP(C91,Sheet2!A:G,4,FALSE))","v":""},null,null,{"$f":"IF(OR(C91=\"\",ISBLANK(C91)),\"\",VLOOKUP(C91,Sheet2!A:F,3,FALSE))","v":""},{"$f":"IF(OR(C91=\"\",ISBLANK(C91)),\"\",VLOOKUP(C91,Sheet2!A:G,6,FALSE))","v":""},""]
[{"$f":"IF(OR(C92=\"\",ISBLANK(C92)),\"\",VLOOKUP(C92,Sheet2!A:F,2,FALSE))","v":""},{"$f":"IF(OR(C92=\"\",ISBLANK(C92)),\"\",VLOOKUP(C92,Sheet2!A:G,4,FALSE))","v":""},null,null,{"$f":"IF(OR(C92=\"\",ISBLANK(C92)),\"\",VLOOKUP(C92,Sheet2!A:F,3,FALSE))","v":""},{"$f":"IF(OR(C92=\"\",ISBLANK(C92)),\"\",VLOOKUP(C92,Sheet2!A:G,6,FALSE))","v":""},""]
[{"$f":"IF(OR(C93=\"\",ISBLANK(C93)),\"\",VLOOKUP(C93,Sheet2!A:F,2,FALSE))","v":""},{"$f":"IF(OR(C93=\"\",ISBLANK(C93)),\"\",VLOOKUP(C93,Sheet2!A:G,4,FALSE))","v":""},null,null,{"$f":"IF(OR(C93=\"\",ISBLANK(C93)),\"\",VLOOKUP(C93,Sheet2!A:F,3,FALSE))","v":""},{"$f":"IF(OR(C93=\"\",ISBLANK(C93)),\"\",VLOOKUP(C93,Sheet2!A:G,6,FALSE))","v":""},""]
[{"$f":"IF(OR(C94=\"\",ISBLANK(C94)),\"\",VLOOKUP(C94,Sheet2!A:F,2,FALSE))","v":""},{"$f":"IF(OR(C94=\"\",ISBLANK(C94)),\"\",VLOOKUP(C94,Sheet2!A:G,4,FALSE))","v":""},null,null,{"$f":"IF(OR(C94=\"\",ISBLANK(C94)),\"\",VLOOKUP(C94,Sheet2!A:F,3,FALSE))","v":""},{"$f":"IF(OR(C94=\"\",ISBLANK(C94)),\"\",VLOOKUP(C94,Sheet2!A:G,6,FALSE))","v":""},""]
[{"$f":"IF(OR(C95=\"\",ISBLANK(C95)),\"\",VLOOKUP(C95,Sheet2!A:F,2,FALSE))","v":""},{"$f":"IF(OR(C95=\"\",ISBLANK(C95)),\"\",VLOOKUP(C95,Sheet2!A:G,4,FALSE))","v":""},null,null,{"$f":"IF(OR(C95=\"\",ISBLANK(C95)),\"\",VLOOKUP(C95,Sheet2!A:F,3,FALSE))","v":""},{"$f":"IF(OR(C95=\"\",ISBLANK(C95)),\"\",VLOOKUP(C95,Sheet2!A:G,6,FALSE))","v":""},""]
[{"$f":"IF(OR(C96=\"\",ISBLANK(C96)),\"\",VLOOKUP(C96,Sheet2!A:F,2,FALSE))","v":""},{"$f":"IF(OR(C96=\"\",ISBLANK(C96)),\"\",VLOOKUP(C96,Sheet2!A:G,4,FALSE))","v":""},null,null,{"$f":"IF(OR(C96=\"\",ISBLANK(C96)),\"\",VLOOKUP(C96,Sheet2!A:F,3,FALSE))","v":""},{"$f":"IF(OR(C96=\"\",ISBLANK(C96)),\"\",VLOOKUP(C96,Sheet2!A:G,6,FALSE))","v":""},""]
[{"$f":"IF(OR(C97=\"\",ISBLANK(C97)),\"\",VLOOKUP(C97,Sheet2!A:F,2,FALSE))","v":""},{"$f":"IF(OR(C97=\"\",ISBLANK(C97)),\"\",VLOOKUP(C97,Sheet2!A:G,4,FALSE))","v":""},null,null,{"$f":"IF(OR(C97=\"\",ISBLANK(C97)),\"\",VLOOKUP(C97,Sheet2!A:F,3,FALSE))","v":""},{"$f":"IF(OR(C97=\"\",ISBLANK(C97)),\"\",VLOOKUP(C97,Sheet2!A:G,6,FALSE))","v":""},""]
[{"$f":"IF(OR(C98=\"\",ISBLANK(C98)),\"\",VLOOKUP(C98,Sheet2!A:F,2,FALSE))","v":""},{"$f":"IF(OR(C98=\"\",ISBLANK(C98)),\"\",VLOOKUP(C98,Sheet2!A:G,4,FALSE))","v":""},null,null,{"$f":"IF(OR(C98=\"\",ISBLANK(C98)),\"\",VLOOKUP(C98,Sheet2!A:F,3,FALSE))","v":""},{"$f":"IF(OR(C98=\"\",ISBLANK(C98)),\"\",VLOOKUP(C98,Sheet2!A:G,6,FALSE))","v":""},""]
[{"$f":"IF(OR(C99=\"\",ISBLANK(C99)),\"\",VLOOKUP(C99,Sheet2!A:F,2,FALSE))","v":""},{"$f":"IF(OR(C99=\"\",ISBLANK(C99)),\"\",VLOOKUP(C99,Sheet2!A:G,4,FALSE))","v":""},null,null,{"$f":"IF(OR(C99=\"\",ISBLANK(C99)),\"\",VLOOKUP(C99,Sheet2!A:F,3,FALSE))","v":""},{"$f":"IF(OR(C99=\"\",ISBLANK(C99)),\"\",VLOOKUP(C99,Sheet2!A:G,6,FALSE))","v":""},""]
[{"$f":"IF(OR(C100=\"\",ISBLANK(C100)),\"\",VLOOKUP(C100,Sheet2!A:F,2,FALSE))","v":""},{"$f":"IF(OR(C100=\"\",ISBLANK(C100)),\"\",VLOOKUP(C100,Sheet2!A:G,4,FALSE))","v":""},null,null,{"$f":"IF(OR(C100=\"\",ISBLANK(C100)),\"\",VLOOKUP(C100,Sheet2!A:F,3,FALSE))","v":""},{"$f":"IF(OR(C100=\"\",ISBLANK(C100)),\"\",VLOOKUP(C100,Sheet2!A:G,6,FALSE))","v":""},""]
[{"$f":"IF(OR(C101=\"\",ISBLANK(C101)),\"\",VLOOKUP(C101,Sheet2!A:F,2,FALSE))","v":""},{"$f":"IF(OR(C101=\"\",ISBLANK(C101)),\"\",VLOOKUP(C101,Sheet2!A:G,4,FALSE))","v":""},null,null,{"$f":"IF(OR(C101=\"\",ISBLANK(C101)),\"\",VLOOKUP(C101,Sheet2!A:F,3,FALSE))","v":""},{"$f":"IF(OR(C101=\"\",ISBLANK(C101)),\"\",VLOOKUP(C101,Sheet2!A:G,6,FALSE))","v":""},""]
[{"$f":"IF(OR(C102=\"\",ISBLANK(C102)),\"\",VLOOKUP(C102,Sheet2!A:F,2,FALSE))","v":""},{"$f":"IF(OR(C102=\"\",ISBLANK(C102)),\"\",VLOOKUP(C102,Sheet2!A:G,4,FALSE))","v":""},null,null,{"$f":"IF(OR(C102=\"\",ISBLANK(C102)),\"\",VLOOKUP(C102,Sheet2!A:F,3,FALSE))","v":""},{"$f":"IF(OR(C102=\"\",ISBLANK(C102)),\"\",VLOOKUP(C102,Sheet2!A:G,6,FALSE))","v":""},""]
[{"$f":"IF(OR(C103=\"\",ISBLANK(C103)),\"\",VLOOKUP(C103,Sheet2!A:F,2,FALSE))","v":""},{"$f":"IF(OR(C103=\"\",ISBLANK(C103)),\"\",VLOOKUP(C103,Sheet2!A:G,4,FALSE))","v":""},null,null,{"$f":"IF(OR(C103=\"\",ISBLANK(C103)),\"\",VLOOKUP(C103,Sheet2!A:F,3,FALSE))","v":""},{"$f":"IF(OR(C103=\"\",ISBLANK(C103)),\"\",VLOOKUP(C103,Sheet2!A:G,6,FALSE))","v":""},""]
[{"$f":"IF(OR(C104=\"\",ISBLANK(C104)),\"\",VLOOKUP(C104,Sheet2!A:F,2,FALSE))","v":""},{"$f":"IF(OR(C104=\"\",ISBLANK(C104)),\"\",VLOOKUP(C104,Sheet2!A:G,4,FALSE))","v":""},null,null,{"$f":"IF(OR(C104=\"\",ISBLANK(C104)),\"\",VLOOKUP(C104,Sheet2!A:F,3,FALSE))","v":""},{"$f":"IF(OR(C104=\"\",ISBLANK(C104)),\"\",VLOOKUP(C104,Sheet2!A:G,6,FALSE))","v":""},""]
[{"$f":"IF(OR(C105=\"\",ISBLANK(C105)),\"\",VLOOKUP(C105,Sheet2!A:F,2,FALSE))","v":""},{"$f":"IF(OR(C105=\"\",ISBLANK(C105)),\"\",VLOOKUP(C105,Sheet2!A:G,4,FALSE))","v":""},null,null,{"$f":"IF(OR(C105=\"\",ISBLANK(C105)),\"\",VLOOKUP(C105,Sheet2!A:F,3,FALSE))","v":""},{"$f":"IF(OR(C105=\"\",ISBLANK(C105)),\"\",VLOOKUP(C105,Sheet2!A:G,6,FALSE))","v":""},""]
[{"$f":"IF(OR(C106=\"\",ISBLANK(C106)),\"\",VLOOKUP(C106,Sheet2!A:F,2,FALSE))","v":""},{"$f":"IF(OR(C106=\"\",ISBLANK(C106)),\"\",VLOOKUP(C106,Sheet2!A:G,4,FALSE))","v":""},null,null,{"$f":"IF(OR(C106=\"\",ISBLANK(C106)),\"\",VLOOKUP(C106,Sheet2!A:F,3,FALSE))","v":""},{"$f":"IF(OR(C106=\"\",ISBLANK(C106)),\"\",VLOOKUP(C106,Sheet2!A:G,6,FALSE))","v":""},""]
[{"$f":"IF(OR(C107=\"\",ISBLANK(C107)),\"\",VLOOKUP(C107,Sheet2!A:F,2,FALSE))","v":""},{"$f":"IF(OR(C107=\"\",ISBLANK(C107)),\"\",VLOOKUP(C107,Sheet2!A:G,4,FALSE))","v":""},null,null,{"$f":"IF(OR(C107=\"\",ISBLANK(C107)),\"\",VLOOKUP(C107,Sheet2!A:F,3,FALSE))","v":""},{"$f":"IF(OR(C107=\"\",ISBLANK(C107)),\"\",VLOOKUP(C107,Sheet2!A:G,6,FALSE))","v":""},""]
[{"$f":"IF(OR(C108=\"\",ISBLANK(C108)),\"\",VLOOKUP(C108,Sheet2!A:F,2,FALSE))","v":""},{"$f":"IF(OR(C108=\"\",ISBLANK(C108)),\"\",VLOOKUP(C108,Sheet2!A:G,4,FALSE))","v":""},null,null,{"$f":"IF(OR(C108=\"\",ISBLANK(C108)),\"\",VLOOKUP(C108,Sheet2!A:F,3,FALSE))","v":""},{"$f":"IF(OR(C108=\"\",ISBLANK(C108)),\"\",VLOOKUP(C108,Sheet2!A:G,6,FALSE))","v":""},""]
[{"$f":"IF(OR(C109=\"\",ISBLANK(C109)),\"\",VLOOKUP(C109,Sheet2!A:F,2,FALSE))","v":""},{"$f":"IF(OR(C109=\"\",ISBLANK(C109)),\"\",VLOOKUP(C109,Sheet2!A:G,4,FALSE))","v":""},null,null,{"$f":"IF(OR(C109=\"\",ISBLANK(C109)),\"\",VLOOKUP(C109,Sheet2!A:F,3,FALSE))","v":""},{"$f":"IF(OR(C109=\"\",ISBLANK(C109)),\"\",VLOOKUP(C109,Sheet2!A:G,6,FALSE))","v":""},""]
[{"$f":"IF(OR(C110=\"\",ISBLANK(C110)),\"\",VLOOKUP(C110,Sheet2!A:F,2,FALSE))","v":""},{"$f":"IF(OR(C110=\"\",ISBLANK(C110)),\"\",VLOOKUP(C110,Sheet2!A:G,4,FALSE))","v":""},null,null,{"$f":"IF(OR(C110=\"\",ISBLANK(C110)),\"\",VLOOKUP(C110,Sheet2!A:F,3,FALSE))","v":""},{"$f":"IF(OR(C110=\"\",ISBLANK(C110)),\"\",VLOOKUP(C110,Sheet2!A:G,6,FALSE))","v":""},""]
[{"$f":"IF(OR(C111=\"\",ISBLANK(C111)),\"\",VLOOKUP(C111,Sheet2!A:F,2,FALSE))","v":""},{"$f":"IF(OR(C111=\"\",ISBLANK(C111)),\"\",VLOOKUP(C111,Sheet2!A:G,4,FALSE))","v":""},null,null,{"$f":"IF(OR(C111=\"\",ISBLANK(C111)),\"\",VLOOKUP(C111,Sheet2!A:F,3,FALSE))","v":""},{"$f":"IF(OR(C111=\"\",ISBLANK(C111)),\"\",VLOOKUP(C111,Sheet2!A:G,6,FALSE))","v":""},""]
[{"$f":"IF(OR(C112=\"\",ISBLANK(C112)),\"\",VLOOKUP(C112,Sheet2!A:F,2,FALSE))","v":""},{"$f":"IF(OR(C112=\"\",ISBLANK(C112)),\"\",VLOOKUP(C112,Sheet2!A:G,4,FALSE))","v":""},null,null,{"$f":"IF(OR(C112=\"\",ISBLANK(C112)),\"\",VLOOKUP(C112,Sheet2!A:F,3,FALSE))","v":""},{"$f":"IF(OR(C112=\"\",ISBLANK(C112)),\"\",VLOOKUP(C112,Sheet2!A:G,6,FALSE))","v":""},""]
[{"$f":"IF(OR(C113=\"\",ISBLANK(C113)),\"\",VLOOKUP(C113,Sheet2!A:F,2,FALSE))","v":""},{"$f":"IF(OR(C113=\"\",ISBLANK(C113)),\"\",VLOOKUP(C113,Sheet2!A:G,4,FALSE))","v":""},null,null,{"$f":"IF(OR(C113=\"\",ISBLANK(C113)),\"\",VLOOKUP(C113,Sheet2!A:F,3,FALSE))","v":""},{"$f":"IF(OR(C113=\"\",ISBLANK(C113)),\"\",VLOOKUP(C113,Sheet2!A:G,6,FALSE))","v":""},""]
[{"$f":"IF(OR(C114=\"\",ISBLANK(C114)),\"\",VLOOKUP(C114,Sheet2!A:F,2,FALSE))","v":""},{"$f":"IF(OR(C114=\"\",ISBLANK(C114)),\"\",VLOOKUP(C114,Sheet2!A:G,4,FALSE))","v":""},null,null,{"$f":"IF(OR(C114=\"\",ISBLANK(C114)),\"\",VLOOKUP(C114,Sheet2!A:F,3,FALSE))","v":""},{"$f":"IF(OR(C114=\"\",ISBLANK(C114)),\"\",VLOOKUP(C114,Sheet2!A:G,6,FALSE))","v":""},""]
[{"$f":"IF(OR(C115=\"\",ISBLANK(C115)),\"\",VLOOKUP(C115,Sheet2!A:F,2,FALSE))","v":""},{"$f":"IF(OR(C115=\"\",ISBLANK(C115)),\"\",VLOOKUP(C115,Sheet2!A:G,4,FALSE))","v":""},null,null,{"$f":"IF(OR(C115=\"\",ISBLANK(C115)),\"\",VLOOKUP(C115,Sheet2!A:F,3,FALSE))","v":""},{"$f":"IF(OR(C115=\"\",ISBLANK(C115)),\"\",VLOOKUP(C115,Sheet2!A:G,6,FALSE))","v":""},""]
[{"$f":"IF(OR(C116=\"\",ISBLANK(C116)),\"\",VLOOKUP(C116,Sheet2!A:F,2,FALSE))","v":""},{"$f":"IF(OR(C116=\"\",ISBLANK(C116)),\"\",VLOOKUP(C116,Sheet2!A:G,4,FALSE))","v":""},null,null,{"$f":"IF(OR(C116=\"\",ISBLANK(C116)),\"\",VLOOKUP(C116,Sheet2!A:F,3,FALSE))","v":""},{"$f":"IF(OR(C116=\"\",ISBLANK(C116)),\"\",VLOOKUP(C116,Sheet2!A:G,6,FALSE))","v":""},""]
[{"$f":"IF(OR(C117=\"\",ISBLANK(C117)),\"\",VLOOKUP(C117,Sheet2!A:F,2,FALSE))","v":""},{"$f":"IF(OR(C117=\"\",ISBLANK(C117)),\"\",VLOOKUP(C117,Sheet2!A:G,4,FALSE))","v":""},null,null,{"$f":"IF(OR(C117=\"\",ISBLANK(C117)),\"\",VLOOKUP(C117,Sheet2!A:F,3,FALSE))","v":""},{"$f":"IF(OR(C117=\"\",ISBLANK(C117)),\"\",VLOOKUP(C117,Sheet2!A:G,6,FALSE))","v":""},""]
[{"$f":"IF(OR(C118=\"\",ISBLANK(C118)),\"\",VLOOKUP(C118,Sheet2!A:F,2,FALSE))","v":""},{"$f":"IF(OR(C118=\"\",ISBLANK(C118)),\"\",VLOOKUP(C118,Sheet2!A:G,4,FALSE))","v":""},null,null,{"$f":"IF(OR(C118=\"\",ISBLANK(C118)),\"\",VLOOKUP(C118,Sheet2!A:F,3,FALSE))","v":""},{"$f":"IF(OR(C118=\"\",ISBLANK(C118)),\"\",VLOOKUP(C118,Sheet2!A:G,6,FALSE))","v":""},""]
[{"$f":"IF(OR(C119=\"\",ISBLANK(C119)),\"\",VLOOKUP(C119,Sheet2!A:F,2,FALSE))","v":""},{"$f":"IF(OR(C119=\"\",ISBLANK(C119)),\"\",VLOOKUP(C119,Sheet2!A:G,4,FALSE))","v":""},null,null,{"$f":"IF(OR(C119=\"\",ISBLANK(C119)),\"\",VLOOKUP(C119,Sheet2!A:F,3,FALSE))","v":""},{"$f":"IF(OR(C119=\"\",ISBLANK(C119)),\"\",VLOOKUP(C119,Sheet2!A:G,6,FALSE))","v":""},""]
[{"$f":"IF(OR(C120=\"\",ISBLANK(C120)),\"\",VLOOKUP(C120,Sheet2!A:F,2,FALSE))","v":""},{"$f":"IF(OR(C120=\"\",ISBLANK(C120)),\"\",VLOOKUP(C120,Sheet2!A:G,4,FALSE))","v":""},null,null,{"$f":"IF(OR(C120=\"\",ISBLANK(C120)),\"\",VLOOKUP(C120,Sheet2!A:F,3,FALSE))","v":""},{"$f":"IF(OR(C120=\"\",ISBLANK(C120)),\"\",VLOOKUP(C120,Sheet2!A:G,6,FALSE))","v":""},""]
[{"$f":"IF(OR(C121=\"\",ISBLANK(C121)),\"\",VLOOKUP(C121,Sheet2!A:F,2,FALSE))","v":""},{"$f":"IF(OR(C121=\"\",ISBLANK(C121)),\"\",VLOOKUP(C121,Sheet2!A:G,4,FALSE))","v":""},null,null,{"$f":"IF(OR(C121=\"\",ISBLANK(C121)),\"\",VLOOKUP(C121,Sheet2!A:F,3,FALSE))","v":""},{"$f":"IF(OR(C121=\"\",ISBLANK(C121)),\"\",VLOOKUP(C121,Sheet2!A:G,6,FALSE))","v":""},""]
[{"$f":"IF(OR(C122=\"\",ISBLANK(C122)),\"\",VLOOKUP(C122,Sheet2!A:F,2,FALSE))","v":""},{"$f":"IF(OR(C122=\"\",ISBLANK(C122)),\"\",VLOOKUP(C122,Sheet2!A:G,4,FALSE))","v":""},null,null,{"$f":"IF(OR(C122=\"\",ISBLANK(C122)),\"\",VLOOKUP(C122,Sheet2!A:F,3,FALSE))","v":""},{"$f":"IF(OR(C122=\"\",ISBLANK(C122)),\"\",VLOOKUP(C122,Sheet2!A:G,6,FALSE))","v":""},""]
[{"$f":"IF(OR(C123=\"\",ISBLANK(C123)),\"\",VLOOKUP(C123,Sheet2!A:F,2,FALSE))","v":""},{"$f":"IF(OR(C123=\"\",ISBLANK(C123)),\"\",VLOOKUP(C123,Sheet2!A:G,4,FALSE))","v":""},null,null,{"$f":"IF(OR(C123=\"\",ISBLANK(C123)),\"\",VLOOKUP(C123,Sheet2!A:F,3,FALSE))","v":""},{"$f":"IF(OR(C123=\"\",ISBLANK(C123)),\"\",VLOOKUP(C123,Sheet2!A:G,6,FALSE))","v":""},""]
[{"$f":"IF(OR(C124=\"\",ISBLANK(C124)),\"\",VLOOKUP(C124,Sheet2!A:F,2,FALSE))","v":""},{"$f":"IF(OR(C124=\"\",ISBLANK(C124)),\"\",VLOOKUP(C124,Sheet2!A:G,4,FALSE))","v":""},null,null,{"$f":"IF(OR(C124=\"\",ISBLANK(C124)),\"\",VLOOKUP(C124,Sheet2!A:F,3,FALSE))","v":""},{"$f":"IF(OR(C124=\"\",ISBLANK(C124)),\"\",VLOOKUP(C124,Sheet2!A:G,6,FALSE))","v":""},""]
[{"$f":"IF(OR(C125=\"\",ISBLANK(C125)),\"\",VLOOKUP(C125,Sheet2!A:F,2,FALSE))","v":""},{"$f":"IF(OR(C125=\"\",ISBLANK(C125)),\"\",VLOOKUP(C125,Sheet2!A:G,4,FALSE))","v":""},null,null,{"$f":"IF(OR(C125=\"\",ISBLANK(C125)),\"\",VLOOKUP(C125,Sheet2!A:F,3,FALSE))","v":""},{"$f":"IF(OR(C125=\"\",ISBLANK(C125)),\"\",VLOOKUP(C125,Sheet2!A:G,6,FALSE))","v":""},""]
[{"$f":"IF(OR(C126=\"\",ISBLANK(C126)),\"\",VLOOKUP(C126,Sheet2!A:F,2,FALSE))","v":""},{"$f":"IF(OR(C126=\"\",ISBLANK(C126)),\"\",VLOOKUP(C126,Sheet2!A:G,4,FALSE))","v":""},null,null,{"$f":"IF(OR(C126=\"\",ISBLANK(C126)),\"\",VLOOKUP(C126,Sheet2!A:F,3,FALSE))","v":""},{"$f":"IF(OR(C126=\"\",ISBLANK(C126)),\"\",VLOOKUP(C126,Sheet2!A:G,6,FALSE))","v":""},""]
[{"$f":"IF(OR(C127=\"\",ISBLANK(C127)),\"\",VLOOKUP(C127,Sheet2!A:F,2,FALSE))","v":""},{"$f":"IF(OR(C127=\"\",ISBLANK(C127)),\"\",VLOOKUP(C127,Sheet2!A:G,4,FALSE))","v":""},null,null,{"$f":"IF(OR(C127=\"\",ISBLANK(C127)),\"\",VLOOKUP(C127,Sheet2!A:F,3,FALSE))","v":""},{"$f":"IF(OR(C127=\"\",ISBLANK(C127)),\"\",VLOOKUP(C127,Sheet2!A:G,6,FALSE))","v":""},""]
[{"$f":"IF(OR(C128=\"\",ISBLANK(C128)),\"\",VLOOKUP(C128,Sheet2!A:F,2,FALSE))","v":""},{"$f":"IF(OR(C128=\"\",ISBLANK(C128)),\"\",VLOOKUP(C128,Sheet2!A:G,4,FALSE))","v":""},null,null,{"$f":"IF(OR(C128=\"\",ISBLANK(C128)),\"\",VLOOKUP(C128,Sheet2!A:F,3,FALSE))","v":""},{"$f":"IF(OR(C128=\"\",ISBLANK(C128)),\"\",VLOOKUP(C128,Sheet2!A:G,6,FALSE))","v":""},""]
[{"$f":"IF(OR(C129=\"\",ISBLANK(C129)),\"\",VLOOKUP(C129,Sheet2!A:F,2,FALSE))","v":""},{"$f":"IF(OR(C129=\"\",ISBLANK(C129)),\"\",VLOOKUP(C129,Sheet2!A:G,4,FALSE))","v":""},null,null,{"$f":"IF(OR(C129=\"\",ISBLANK(C129)),\"\",VLOOKUP(C129,Sheet2!A:F,3,FALSE))","v":""},{"$f":"IF(OR(C129=\"\",ISBLANK(C129)),\"\",VLOOKUP(C129,Sheet2!A:G,6,FALSE))","v":""},""]
[{"$f":"IF(OR(C130=\"\",ISBLANK(C130)),\"\",VLOOKUP(C130,Sheet2!A:F,2,FALSE))","v":""},{"$f":"IF(OR(C130=\"\",ISBLANK(C130)),\"\",VLOOKUP(C130,Sheet2!A:G,4,FALSE))","v":""},null,null,{"$f":"IF(OR(C130=\"\",ISBLANK(C130)),\"\",VLOOKUP(C130,Sheet2!A:F,3,FALSE))","v":""},{"$f":"IF(OR(C130=\"\",ISBLANK(C130)),\"\",VLOOKUP(C130,Sheet2!A:G,6,FALSE))","v":""},""]
[{"$f":"IF(OR(C131=\"\",ISBLANK(C131)),\"\",VLOOKUP(C131,Sheet2!A:F,2,FALSE))","v":""},{"$f":"IF(OR(C131=\"\",ISBLANK(C131)),\"\",VLOOKUP(C131,Sheet2!A:G,4,FALSE))","v":""},null,null,{"$f":"IF(OR(C131=\"\",ISBLANK(C131)),\"\",VLOOKUP(C131,Sheet2!A:F,3,FALSE))","v":""},{"$f":"IF(OR(C131=\"\",ISBLANK(C131)),\"\",VLOOKUP(C131,Sheet2!A:G,6,FALSE))","v":""},{"$f":"IF(F131=0,\"\",F131)","v":""}]
[{"$f":"IF(OR(C132=\"\",ISBLANK(C132)),\"\",VLOOKUP(C132,Sheet2!A:F,2,FALSE))","v":""},{"$f":"IF(OR(C132=\"\",ISBLANK(C132)),\"\",VLOOKUP(C132,Sheet2!A:G,4,FALSE))","v":""},null,null,{"$f":"IF(OR(C132=\"\",ISBLANK(C132)),\"\",VLOOKUP(C132,Sheet2!A:F,3,FALSE))","v":""},{"$f":"IF(OR(C132=\"\",ISBLANK(C132)),\"\",VLOOKUP(C132,Sheet2!A:G,6,FALSE))","v":""},""]
[{"$f":"IF(OR(C133=\"\",ISBLANK(C133)),\"\",VLOOKUP(C133,Sheet2!A:F,2,FALSE))","v":""},{"$f":"IF(OR(C133=\"\",ISBLANK(C133)),\"\",VLOOKUP(C133,Sheet2!A:G,4,FALSE))","v":""},null,null,{"$f":"IF(OR(C133=\"\",ISBLANK(C133)),\"\",VLOOKUP(C133,Sheet2!A:F,3,FALSE))","v":""},{"$f":"IF(OR(C133=\"\",ISBLANK(C133)),\"\",VLOOKUP(C133,Sheet2!A:G,6,FALSE))","v":""},""]
[{"$f":"IF(OR(C134=\"\",ISBLANK(C134)),\"\",VLOOKUP(C134,Sheet2!A:F,2,FALSE))","v":""},{"$f":"IF(OR(C134=\"\",ISBLANK(C134)),\"\",VLOOKUP(C134,Sheet2!A:G,4,FALSE))","v":""},null,null,{"$f":"IF(OR(C134=\"\",ISBLANK(C134)),\"\",VLOOKUP(C134,Sheet2!A:F,3,FALSE))","v":""},{"$f":"IF(OR(C134=\"\",ISBLANK(C134)),\"\",VLOOKUP(C134,Sheet2!A:G,6,FALSE))","v":""},""]
[{"$f":"IF(OR(C135=\"\",ISBLANK(C135)),\"\",VLOOKUP(C135,Sheet2!A:F,2,FALSE))","v":""},{"$f":"IF(OR(C135=\"\",ISBLANK(C135)),\"\",VLOOKUP(C135,Sheet2!A:G,4,FALSE))","v":""},null,null,{"$f":"IF(OR(C135=\"\",ISBLANK(C135)),\"\",VLOOKUP(C135,Sheet2!A:F,3,FALSE))","v":""},{"$f":"IF(OR(C135=\"\",ISBLANK(C135)),\"\",VLOOKUP(C135,Sheet2!A:G,6,FALSE))","v":""},""]
[{"$f":"IF(OR(C136=\"\",ISBLANK(C136)),\"\",VLOOKUP(C136,Sheet2!A:F,2,FALSE))","v":""},{"$f":"IF(OR(C136=\"\",ISBLANK(C136)),\"\",VLOOKUP(C136,Sheet2!A:G,4,FALSE))","v":""},null,null,{"$f":"IF(OR(C136=\"\",ISBLANK(C136)),\"\",VLOOKUP(C136,Sheet2!A:F,3,FALSE))","v":""},{"$f":"IF(OR(C136=\"\",ISBLANK(C136)),\"\",VLOOKUP(C136,Sheet2!A:G,6,FALSE))","v":""},""]
[{"$f":"IF(OR(C137=\"\",ISBLANK(C137)),\"\",VLOOKUP(C137,Sheet2!A:F,2,FALSE))","v":""},{"$f":"IF(OR(C137=\"\",ISBLANK(C137)),\"\",VLOOKUP(C137,Sheet2!A:G,4,FALSE))","v":""},null,null,{"$f":"IF(OR(C137=\"\",ISBLANK(C137)),\"\",VLOOKUP(C137,Sheet2!A:F,3,FALSE))","v":""},{"$f":"IF(OR(C137=\"\",ISBLANK(C137)),\"\",VLOOKUP(C137,Sheet2!A:G,6,FALSE))","v":""},""]
[{"$f":"IF(OR(C138=\"\",ISBLANK(C138)),\"\",VLOOKUP(C138,Sheet2!A:F,2,FALSE))","v":""},{"$f":"IF(OR(C138=\"\",ISBLANK(C138)),\"\",VLOOKUP(C138,Sheet2!A:G,4,FALSE))","v":""},null,null,{"$f":"IF(OR(C138=\"\",ISBLANK(C138)),\"\",VLOOKUP(C138,Sheet2!A:F,3,FALSE))","v":""},{"$f":"IF(OR(C138=\"\",ISBLANK(C138)),\"\",VLOOKUP(C138,Sheet2!A:G,6,FALSE))","v":""},""]
[{"$f":"IF(OR(C139=\"\",ISBLANK(C139)),\"\",VLOOKUP(C139,Sheet2!A:F,2,FALSE))","v":""},{"$f":"IF(OR(C139=\"\",ISBLANK(C139)),\"\",VLOOKUP(C139,Sheet2!A:G,4,FALSE))","v":""},null,null,{"$f":"IF(OR(C139=\"\",ISBLANK(C139)),\"\",VLOOKUP(C139,Sheet2!A:F,3,FALSE))","v":""},{"$f":"IF(OR(C139=\"\",ISBLANK(C139)),\"\",VLOOKUP(C139,Sheet2!A:G,6,FALSE))","v":""},""]
[{"$f":"IF(OR(C140=\"\",ISBLANK(C140)),\"\",VLOOKUP(C140,Sheet2!A:F,2,FALSE))","v":""},{"$f":"IF(OR(C140=\"\",ISBLANK(C140)),\"\",VLOOKUP(C140,Sheet2!A:G,4,FALSE))","v":""},null,null,{"$f":"IF(OR(C140=\"\",ISBLANK(C140)),\"\",VLOOKUP(C140,Sheet2!A:F,3,FALSE))","v":""},{"$f":"IF(OR(C140=\"\",ISBLANK(C140)),\"\",VLOOKUP(C140,Sheet2!A:G,6,FALSE))","v":""},""]
[{"$f":"IF(OR(C141=\"\",ISBLANK(C141)),\"\",VLOOKUP(C141,Sheet2!A:F,2,FALSE))","v":""},{"$f":"IF(OR(C141=\"\",ISBLANK(C141)),\"\",VLOOKUP(C141,Sheet2!A:G,4,FALSE))","v":""},null,null,{"$f":"IF(OR(C141=\"\",ISBLANK(C141)),\"\",VLOOKUP(C141,Sheet2!A:F,3,FALSE))","v":""},{"$f":"IF(OR(C141=\"\",ISBLANK(C141)),\"\",VLOOKUP(C141,Sheet2!A:G,6,FALSE))","v":""},""]
[{"$f":"IF(OR(C142=\"\",ISBLANK(C142)),\"\",VLOOKUP(C142,Sheet2!A:F,2,FALSE))","v":""},{"$f":"IF(OR(C142=\"\",ISBLANK(C142)),\"\",VLOOKUP(C142,Sheet2!A:G,4,FALSE))","v":""},null,null,{"$f":"IF(OR(C142=\"\",ISBLANK(C142)),\"\",VLOOKUP(C142,Sheet2!A:F,3,FALSE))","v":""},{"$f":"IF(OR(C142=\"\",ISBLANK(C142)),\"\",VLOOKUP(C142,Sheet2!A:G,6,FALSE))","v":""},""]
[{"$f":"IF(OR(C143=\"\",ISBLANK(C143)),\"\",VLOOKUP(C143,Sheet2!A:F,2,FALSE))","v":""},{"$f":"IF(OR(C143=\"\",ISBLANK(C143)),\"\",VLOOKUP(C143,Sheet2!A:G,4,FALSE))","v":""},null,null,{"$f":"IF(OR(C143=\"\",ISBLANK(C143)),\"\",VLOOKUP(C143,Sheet2!A:F,3,FALSE))","v":""},{"$f":"IF(OR(C143=\"\",ISBLANK(C143)),\"\",VLOOKUP(C143,Sheet2!A:G,6,FALSE))","v":""},""]
[{"$f":"IF(OR(C144=\"\",ISBLANK(C144)),\"\",VLOOKUP(C144,Sheet2!A:F,2,FALSE))","v":""},{"$f":"IF(OR(C144=\"\",ISBLANK(C144)),\"\",VLOOKUP(C144,Sheet2!A:G,4,FALSE))","v":""},null,null,{"$f":"IF(OR(C144=\"\",ISBLANK(C144)),\"\",VLOOKUP(C144,Sheet2!A:F,3,FALSE))","v":""},{"$f":"IF(OR(C144=\"\",ISBLANK(C144)),\"\",VLOOKUP(C144,Sheet2!A:G,6,FALSE))","v":""},""]
[{"$f":"IF(OR(C145=\"\",ISBLANK(C145)),\"\",VLOOKUP(C145,Sheet2!A:F,2,FALSE))","v":""},{"$f":"IF(OR(C145=\"\",ISBLANK(C145)),\"\",VLOOKUP(C145,Sheet2!A:G,4,FALSE))","v":""},null,null,{"$f":"IF(OR(C145=\"\",ISBLANK(C145)),\"\",VLOOKUP(C145,Sheet2!A:F,3,FALSE))","v":""},{"$f":"IF(OR(C145=\"\",ISBLANK(C145)),\"\",VLOOKUP(C145,Sheet2!A:G,6,FALSE))","v":""},""]
[{"$f":"IF(OR(C146=\"\",ISBLANK(C146)),\"\",VLOOKUP(C146,Sheet2!A:F,2,FALSE))","v":""},{"$f":"IF(OR(C146=\"\",ISBLANK(C146)),\"\",VLOOKUP(C146,Sheet2!A:G,4,FALSE))","v":""},null,null,{"$f":"IF(OR(C146=\"\",ISBLANK(C146)),\"\",VLOOKUP(C146,Sheet2!A:F,3,FALSE))","v":""},{"$f":"IF(OR(C146=\"\",ISBLANK(C146)),\"\",VLOOKUP(C146,Sheet2!A:G,6,FALSE))","v":""},""]
[{"$f":"IF(OR(C147=\"\",ISBLANK(C147)),\"\",VLOOKUP(C147,Sheet2!A:F,2,FALSE))","v":""},{"$f":"IF(OR(C147=\"\",ISBLANK(C147)),\"\",VLOOKUP(C147,Sheet2!A:G,4,FALSE))","v":""},null,null,{"$f":"IF(OR(C147=\"\",ISBLANK(C147)),\"\",VLOOKUP(C147,Sheet2!A:F,3,FALSE))","v":""},{"$f":"IF(OR(C147=\"\",ISBLANK(C147)),\"\",VLOOKUP(C147,Sheet2!A:G,6,FALSE))","v":""},""]
[{"$f":"IF(OR(C148=\"\",ISBLANK(C148)),\"\",VLOOKUP(C148,Sheet2!A:F,2,FALSE))","v":""},{"$f":"IF(OR(C148=\"\",ISBLANK(C148)),\"\",VLOOKUP(C148,Sheet2!A:G,4,FALSE))","v":""},null,null,{"$f":"IF(OR(C148=\"\",ISBLANK(C148)),\"\",VLOOKUP(C148,Sheet2!A:F,3,FALSE))","v":""},{"$f":"IF(OR(C148=\"\",ISBLANK(C148)),\"\",VLOOKUP(C148,Sheet2!A:G,6,FALSE))","v":""},""]
[{"$f":"IF(OR(C149=\"\",ISBLANK(C149)),\"\",VLOOKUP(C149,Sheet2!A:F,2,FALSE))","v":""},{"$f":"IF(OR(C149=\"\",ISBLANK(C149)),\"\",VLOOKUP(C149,Sheet2!A:G,4,FALSE))","v":""},null,null,{"$f":"IF(OR(C149=\"\",ISBLANK(C149)),\"\",VLOOKUP(C149,Sheet2!A:F,3,FALSE))","v":""},{"$f":"IF(OR(C149=\"\",ISBLANK(C149)),\"\",VLOOKUP(C149,Sheet2!A:G,6,FALSE))","v":""},""]
[{"$f":"IF(OR(C150=\"\",ISBLANK(C150)),\"\",VLOOKUP(C150,Sheet2!A:F,2,FALSE))","v":""},{"$f":"IF(OR(C150=\"\",ISBLANK(C150)),\"\",VLOOKUP(C150,Sheet2!A:G,4,FALSE))","v":""},null,null,{"$f":"IF(OR(C150=\"\",ISBLANK(C150)),\"\",VLOOKUP(C150,Sheet2!A:F,3,FALSE))","v":""},{"$f":"IF(OR(C150=\"\",ISBLANK(C150)),\"\",VLOOKUP(C150,Sheet2!A:G,6,FALSE))","v":""},""]
[{"$f":"IF(OR(C151=\"\",ISBLANK(C151)),\"\",VLOOKUP(C151,Sheet2!A:F,2,FALSE))","v":""},{"$f":"IF(OR(C151=\"\",ISBLANK(C151)),\"\",VLOOKUP(C151,Sheet2!A:G,4,FALSE))","v":""},null,null,{"$f":"IF(OR(C151=\"\",ISBLANK(C151)),\"\",VLOOKUP(C151,Sheet2!A:F,3,FALSE))","v":""},{"$f":"IF(OR(C151=\"\",ISBLANK(C151)),\"\",VLOOKUP(C151,Sheet2!A:G,6,FALSE))","v":""},""]
[{"$f":"IF(OR(C152=\"\",ISBLANK(C152)),\"\",VLOOKUP(C152,Sheet2!A:F,2,FALSE))","v":""},{"$f":"IF(OR(C152=\"\",ISBLANK(C152)),\"\",VLOOKUP(C152,Sheet2!A:G,4,FALSE))","v":""},null,null,{"$f":"IF(OR(C152=\"\",ISBLANK(C152)),\"\",VLOOKUP(C152,Sheet2!A:F,3,FALSE))","v":""},{"$f":"IF(OR(C152=\"\",ISBLANK(C152)),\"\",VLOOKUP(C152,Sheet2!A:G,6,FALSE))","v":""},""]
[{"$f":"IF(OR(C153=\"\",ISBLANK(C153)),\"\",VLOOKUP(C153,Sheet2!A:F,2,FALSE))","v":""},{"$f":"IF(OR(C153=\"\",ISBLANK(C153)),\"\",VLOOKUP(C153,Sheet2!A:G,4,FALSE))","v":""},null,null,{"$f":"IF(OR(C153=\"\",ISBLANK(C153)),\"\",VLOOKUP(C153,Sheet2!A:F,3,FALSE))","v":""},{"$f":"IF(OR(C153=\"\",ISBLANK(C153)),\"\",VLOOKUP(C153,Sheet2!A:G,6,FALSE))","v":""},""]
[{"$f":"IF(OR(C154=\"\",ISBLANK(C154)),\"\",VLOOKUP(C154,Sheet2!A:F,2,FALSE))","v":""},{"$f":"IF(OR(C154=\"\",ISBLANK(C154)),\"\",VLOOKUP(C154,Sheet2!A:G,4,FALSE))","v":""},null,null,{"$f":"IF(OR(C154=\"\",ISBLANK(C154)),\"\",VLOOKUP(C154,Sheet2!A:F,3,FALSE))","v":""},{"$f":"IF(OR(C154=\"\",ISBLANK(C154)),\"\",VLOOKUP(C154,Sheet2!A:G,6,FALSE))","v":""},""]
[{"$f":"IF(OR(C155=\"\",ISBLANK(C155)),\"\",VLOOKUP(C155,Sheet2!A:F,2,FALSE))","v":""},{"$f":"IF(OR(C155=\"\",ISBLANK(C155)),\"\",VLOOKUP(C155,Sheet2!A:G,4,FALSE))","v":""},null,null,{"$f":"IF(OR(C155=\"\",ISBLANK(C155)),\"\",VLOOKUP(C155,Sheet2!A:F,3,FALSE))","v":""},{"$f":"IF(OR(C155=\"\",ISBLANK(C155)),\"\",VLOOKUP(C155,Sheet2!A:G,6,FALSE))","v":""},""]
[{"$f":"IF(OR(C156=\"\",ISBLANK(C156)),\"\",VLOOKUP(C156,Sheet2!A:F,2,FALSE))","v":""},{"$f":"IF(OR(C156=\"\",ISBLANK(C156)),\"\",VLOOKUP(C156,Sheet2!A:G,4,FALSE))","v":""},null,null,{"$f":"IF(OR(C156=\"\",ISBLANK(C156)),\"\",VLOOKUP(C156,Sheet2!A:F,3,FALSE))","v":""},{"$f":"IF(OR(C156=\"\",ISBLANK(C156)),\"\",VLOOKUP(C156,Sheet2!A:G,6,FALSE))","v":""},""]
[{"$f":"IF(OR(C157=\"\",ISBLANK(C157)),\"\",VLOOKUP(C157,Sheet2!A:F,2,FALSE))","v":""},{"$f":"IF(OR(C157=\"\",ISBLANK(C157)),\"\",VLOOKUP(C157,Sheet2!A:G,4,FALSE))","v":""},null,null,{"$f":"IF(OR(C157=\"\",ISBLANK(C157)),\"\",VLOOKUP(C157,Sheet2!A:F,3,FALSE))","v":""},{"$f":"IF(OR(C157=\"\",ISBLANK(C157)),\"\",VLOOKUP(C157,Sheet2!A:G,6,FALSE))","v":""},""]
[{"$f":"IF(OR(C158=\"\",ISBLANK(C158)),\"\",VLOOKUP(C158,Sheet2!A:F,2,FALSE))","v":""},{"$f":"IF(OR(C158=\"\",ISBLANK(C158)),\"\",VLOOKUP(C158,Sheet2!A:G,4,FALSE))","v":""},null,null,{"$f":"IF(OR(C158=\"\",ISBLANK(C158)),\"\",VLOOKUP(C158,Sheet2!A:F,3,FALSE))","v":""},{"$f":"IF(OR(C158=\"\",ISBLANK(C158)),\"\",VLOOKUP(C158,Sheet2!A:G,6,FALSE))","v":""},""]
[{"$f":"IF(OR(C159=\"\",ISBLANK(C159)),\"\",VLOOKUP(C159,Sheet2!A:F,2,FALSE))","v":""},{"$f":"IF(OR(C159=\"\",ISBLANK(C159)),\"\",VLOOKUP(C159,Sheet2!A:G,4,FALSE))","v":""},null,null,{"$f":"IF(OR(C159=\"\",ISBLANK(C159)),\"\",VLOOKUP(C159,Sheet2!A:F,3,FALSE))","v":""},{"$f":"IF(OR(C159=\"\",ISBLANK(C159)),\"\",VLOOKUP(C159,Sheet2!A:G,6,FALSE))","v":""},""]
[{"$f":"IF(OR(C160=\"\",ISBLANK(C160)),\"\",VLOOKUP(C160,Sheet2!A:F,2,FALSE))","v":""},{"$f":"IF(OR(C160=\"\",ISBLANK(C160)),\"\",VLOOKUP(C160,Sheet2!A:G,4,FALSE))","v":""},null,null,{"$f":"IF(OR(C160=\"\",ISBLANK(C160)),\"\",VLOOKUP(C160,Sheet2!A:F,3,FALSE))","v":""},{"$f":"IF(OR(C160=\"\",ISBLANK(C160)),\"\",VLOOKUP(C160,Sheet2!A:G,6,FALSE))","v":""},""]
[{"$f":"IF(OR(C161=\"\",ISBLANK(C161)),\"\",VLOOKUP(C161,Sheet2!A:F,2,FALSE))","v":""},{"$f":"IF(OR(C161=\"\",ISBLANK(C161)),\"\",VLOOKUP(C161,Sheet2!A:G,4,FALSE))","v":""},null,null,{"$f":"IF(OR(C161=\"\",ISBLANK(C161)),\"\",VLOOKUP(C161,Sheet2!A:F,3,FALSE))","v":""},{"$f":"IF(OR(C161=\"\",ISBLANK(C161)),\"\",VLOOKUP(C161,Sheet2!A:G,6,FALSE))","v":""},""]
[{"$f":"IF(OR(C162=\"\",ISBLANK(C162)),\"\",VLOOKUP(C162,Sheet2!A:F,2,FALSE))","v":""},{"$f":"IF(OR(C162=\"\",ISBLANK(C162)),\"\",VLOOKUP(C162,Sheet2!A:G,4,FALSE))","v":""},null,null,{"$f":"IF(OR(C162=\"\",ISBLANK(C162)),\"\",VLOOKUP(C162,Sheet2!A:F,3,FALSE))","v":""},{"$f":"IF(OR(C162=\"\",ISBLANK(C162)),\"\",VLOOKUP(C162,Sheet2!A:G,6,FALSE))","v":""},""]
[{"$f":"IF(OR(C163=\"\",ISBLANK(C163)),\"\",VLOOKUP(C163,Sheet2!A:F,2,FALSE))","v":""},{"$f":"IF(OR(C163=\"\",ISBLANK(C163)),\"\",VLOOKUP(C163,Sheet2!A:G,4,FALSE))","v":""},null,null,{"$f":"IF(OR(C163=\"\",ISBLANK(C163)),\"\",VLOOKUP(C163,Sheet2!A:F,3,FALSE))","v":""},{"$f":"IF(OR(C163=\"\",ISBLANK(C163)),\"\",VLOOKUP(C163,Sheet2!A:G,6,FALSE))","v":""},""]
[{"$f":"IF(OR(C164=\"\",ISBLANK(C164)),\"\",VLOOKUP(C164,Sheet2!A:F,2,FALSE))","v":""},{"$f":"IF(OR(C164=\"\",ISBLANK(C164)),\"\",VLOOKUP(C164,Sheet2!A:G,4,FALSE))","v":""},null,null,{"$f":"IF(OR(C164=\"\",ISBLANK(C164)),\"\",VLOOKUP(C164,Sheet2!A:F,3,FALSE))","v":""},{"$f":"IF(OR(C164=\"\",ISBLANK(C164)),\"\",VLOOKUP(C164,Sheet2!A:G,6,FALSE))","v":""},""]
[{"$f":"IF(OR(C165=\"\",ISBLANK(C165)),\"\",VLOOKUP(C165,Sheet2!A:F,2,FALSE))","v":""},{"$f":"IF(OR(C165=\"\",ISBLANK(C165)),\"\",VLOOKUP(C165,Sheet2!A:G,4,FALSE))","v":""},null,null,{"$f":"IF(OR(C165=\"\",ISBLANK(C165)),\"\",VLOOKUP(C165,Sheet2!A:F,3,FALSE))","v":""},{"$f":"IF(OR(C165=\"\",ISBLANK(C165)),\"\",VLOOKUP(C165,Sheet2!A:G,6,FALSE))","v":""},""]
[{"$f":"IF(OR(C166=\"\",ISBLANK(C166)),\"\",VLOOKUP(C166,Sheet2!A:F,2,FALSE))","v":""},{"$f":"IF(OR(C166=\"\",ISBLANK(C166)),\"\",VLOOKUP(C166,Sheet2!A:G,4,FALSE))","v":""},null,null,{"$f":"IF(OR(C166=\"\",ISBLANK(C166)),\"\",VLOOKUP(C166,Sheet2!A:F,3,FALSE))","v":""},{"$f":"IF(OR(C166=\"\",ISBLANK(C166)),\"\",VLOOKUP(C166,Sheet2!A:G,6,FALSE))","v":""},""]
[{"$f":"IF(OR(C167=\"\",ISBLANK(C167)),\"\",VLOOKUP(C167,Sheet2!A:F,2,FALSE))","v":""},{"$f":"IF(OR(C167=\"\",ISBLANK(C167)),\"\",VLOOKUP(C167,Sheet2!A:G,4,FALSE))","v":""},null,null,{"$f":"IF(OR(C167=\"\",ISBLANK(C167)),\"\",VLOOKUP(C167,Sheet2!A:F,3,FALSE))","v":""},{"$f":"IF(OR(C167=\"\",ISBLANK(C167)),\"\",VLOOKUP(C167,Sheet2!A:G,6,FALSE))","v":""},""]
[{"$f":"IF(OR(C168=\"\",ISBLANK(C168)),\"\",VLOOKUP(C168,Sheet2!A:F,2,FALSE))","v":""},{"$f":"IF(OR(C168=\"\",ISBLANK(C168)),\"\",VLOOKUP(C168,Sheet2!A:G,4,FALSE))","v":""},null,null,{"$f":"IF(OR(C168=\"\",ISBLANK(C168)),\"\",VLOOKUP(C168,Sheet2!A:F,3,FALSE))","v":""},{"$f":"IF(OR(C168=\"\",ISBLANK(C168)),\"\",VLOOKUP(C168,Sheet2!A:G,6,FALSE))","v":""},""]
[{"$f":"IF(OR(C169=\"\",ISBLANK(C169)),\"\",VLOOKUP(C169,Sheet2!A:F,2,FALSE))","v":""},{"$f":"IF(OR(C169=\"\",ISBLANK(C169)),\"\",VLOOKUP(C169,Sheet2!A:G,4,FALSE))","v":""},null,null,{"$f":"IF(OR(C169=\"\",ISBLANK(C169)),\"\",VLOOKUP(C169,Sheet2!A:F,3,FALSE))","v":""},{"$f":"IF(OR(C169=\"\",ISBLANK(C169)),\"\",VLOOKUP(C169,Sheet2!A:G,6,FALSE))","v":""},""]
[{"$f":"IF(OR(C170=\"\",ISBLANK(C170)),\"\",VLOOKUP(C170,Sheet2!A:F,2,FALSE))","v":""},{"$f":"IF(OR(C170=\"\",ISBLANK(C170)),\"\",VLOOKUP(C170,Sheet2!A:G,4,FALSE))","v":""},null,null,{"$f":"IF(OR(C170=\"\",ISBLANK(C170)),\"\",VLOOKUP(C170,Sheet2!A:F,3,FALSE))","v":""},{"$f":"IF(OR(C170=\"\",ISBLANK(C170)),\"\",VLOOKUP(C170,Sheet2!A:G,6,FALSE))","v":""},""]
[{"$f":"IF(OR(C171=\"\",ISBLANK(C171)),\"\",VLOOKUP(C171,Sheet2!A:F,2,FALSE))","v":""},{"$f":"IF(OR(C171=\"\",ISBLANK(C171)),\"\",VLOOKUP(C171,Sheet2!A:G,4,FALSE))","v":""},null,null,{"$f":"IF(OR(C171=\"\",ISBLANK(C171)),\"\",VLOOKUP(C171,Sheet2!A:F,3,FALSE))","v":""},{"$f":"IF(OR(C171=\"\",ISBLANK(C171)),\"\",VLOOKUP(C171,Sheet2!A:G,6,FALSE))","v":""},""]
[{"$f":"IF(OR(C172=\"\",ISBLANK(C172)),\"\",VLOOKUP(C172,Sheet2!A:F,2,FALSE))","v":""},{"$f":"IF(OR(C172=\"\",ISBLANK(C172)),\"\",VLOOKUP(C172,Sheet2!A:G,4,FALSE))","v":""},null,null,{"$f":"IF(OR(C172=\"\",ISBLANK(C172)),\"\",VLOOKUP(C172,Sheet2!A:F,3,FALSE))","v":""},{"$f":"IF(OR(C172=\"\",ISBLANK(C172)),\"\",VLOOKUP(C172,Sheet2!A:G,6,FALSE))","v":""},""]
[{"$f":"IF(OR(C173=\"\",ISBLANK(C173)),\"\",VLOOKUP(C173,Sheet2!A:F,2,FALSE))","v":""},{"$f":"IF(OR(C173=\"\",ISBLANK(C173)),\"\",VLOOKUP(C173,Sheet2!A:G,4,FALSE))","v":""},null,null,{"$f":"IF(OR(C173=\"\",ISBLANK(C173)),\"\",VLOOKUP(C173,Sheet2!A:F,3,FALSE))","v":""},{"$f":"IF(OR(C173=\"\",ISBLANK(C173)),\"\",VLOOKUP(C173,Sheet2!A:G,6,FALSE))","v":""},""]
[{"$f":"IF(OR(C174=\"\",ISBLANK(C174)),\"\",VLOOKUP(C174,Sheet2!A:F,2,FALSE))","v":""},{"$f":"IF(OR(C174=\"\",ISBLANK(C174)),\"\",VLOOKUP(C174,Sheet2!A:G,4,FALSE))","v":""},null,null,{"$f":"IF(OR(C174=\"\",ISBLANK(C174)),\"\",VLOOKUP(C174,Sheet2!A:F,3,FALSE))","v":""},{"$f":"IF(OR(C174=\"\",ISBLANK(C174)),\"\",VLOOKUP(C174,Sheet2!A:G,6,FALSE))","v":""},""]
[{"$f":"IF(OR(C175=\"\",ISBLANK(C175)),\"\",VLOOKUP(C175,Sheet2!A:F,2,FALSE))","v":""},{"$f":"IF(OR(C175=\"\",ISBLANK(C175)),\"\",VLOOKUP(C175,Sheet2!A:G,4,FALSE))","v":""},null,null,{"$f":"IF(OR(C175=\"\",ISBLANK(C175)),\"\",VLOOKUP(C175,Sheet2!A:F,3,FALSE))","v":""},{"$f":"IF(OR(C175=\"\",ISBLANK(C175)),\"\",VLOOKUP(C175,Sheet2!A:G,6,FALSE))","v":""},""]
[{"$f":"IF(OR(C176=\"\",ISBLANK(C176)),\"\",VLOOKUP(C176,Sheet2!A:F,2,FALSE))","v":""},{"$f":"IF(OR(C176=\"\",ISBLANK(C176)),\"\",VLOOKUP(C176,Sheet2!A:G,4,FALSE))","v":""},null,null,{"$f":"IF(OR(C176=\"\",ISBLANK(C176)),\"\",VLOOKUP(C176,Sheet2!A:F,3,FALSE))","v":""},{"$f":"IF(OR(C176=\"\",ISBLANK(C176)),\"\",VLOOKUP(C176,Sheet2!A:G,6,FALSE))","v":""},""]
[{"$f":"IF(OR(C177=\"\",ISBLANK(C177)),\"\",VLOOKUP(C177,Sheet2!A:F,2,FALSE))","v":""},{"$f":"IF(OR(C177=\"\",ISBLANK(C177)),\"\",VLOOKUP(C177,Sheet2!A:G,4,FALSE))","v":""},null,null,{"$f":"IF(OR(C177=\"\",ISBLANK(C177)),\"\",VLOOKUP(C177,Sheet2!A:F,3,FALSE))","v":""},{"$f":"IF(OR(C177=\"\",ISBLANK(C177)),\"\",VLOOKUP(C177,Sheet2!A:G,6,FALSE))","v":""},""]
[{"$f":"IF(OR(C178=\"\",ISBLANK(C178)),\"\",VLOOKUP(C178,Sheet2!A:F,2,FALSE))","v":""},{"$f":"IF(OR(C178=\"\",ISBLANK(C178)),\"\",VLOOKUP(C178,Sheet2!A:G,4,FALSE))","v":""},null,null,{"$f":"IF(OR(C178=\"\",ISBLANK(C178)),\"\",VLOOKUP(C178,Sheet2!A:F,3,FALSE))","v":""},{"$f":"IF(OR(C178=\"\",ISBLANK(C178)),\"\",VLOOKUP(C178,Sheet2!A:G,6,FALSE))","v":""},""]
[{"$f":"IF(OR(C179=\"\",ISBLANK(C179)),\"\",VLOOKUP(C179,Sheet2!A:F,2,FALSE))","v":""},{"$f":"IF(OR(C179=\"\",ISBLANK(C179)),\"\",VLOOKUP(C179,Sheet2!A:G,4,FALSE))","v":""},null,null,{"$f":"IF(OR(C179=\"\",ISBLANK(C179)),\"\",VLOOKUP(C179,Sheet2!A:F,3,FALSE))","v":""},{"$f":"IF(OR(C179=\"\",ISBLANK(C179)),\"\",VLOOKUP(C179,Sheet2!A:G,6,FALSE))","v":""},""]
[{"$f":"IF(OR(C180=\"\",ISBLANK(C180)),\"\",VLOOKUP(C180,Sheet2!A:F,2,FALSE))","v":""},{"$f":"IF(OR(C180=\"\",ISBLANK(C180)),\"\",VLOOKUP(C180,Sheet2!A:G,4,FALSE))","v":""},null,null,{"$f":"IF(OR(C180=\"\",ISBLANK(C180)),\"\",VLOOKUP(C180,Sheet2!A:F,3,FALSE))","v":""},{"$f":"IF(OR(C180=\"\",ISBLANK(C180)),\"\",VLOOKUP(C180,Sheet2!A:G,6,FALSE))","v":""},""]
[{"$f":"IF(OR(C181=\"\",ISBLANK(C181)),\"\",VLOOKUP(C181,Sheet2!A:F,2,FALSE))","v":""},{"$f":"IF(OR(C181=\"\",ISBLANK(C181)),\"\",VLOOKUP(C181,Sheet2!A:G,4,FALSE))","v":""},null,null,{"$f":"IF(OR(C181=\"\",ISBLANK(C181)),\"\",VLOOKUP(C181,Sheet2!A:F,3,FALSE))","v":""},{"$f":"IF(OR(C181=\"\",ISBLANK(C181)),\"\",VLOOKUP(C181,Sheet2!A:G,6,FALSE))","v":""},""]
[{"$f":"IF(OR(C182=\"\",ISBLANK(C182)),\"\",VLOOKUP(C182,Sheet2!A:F,2,FALSE))","v":""},{"$f":"IF(OR(C182=\"\",ISBLANK(C182)),\"\",VLOOKUP(C182,Sheet2!A:G,4,FALSE))","v":""},null,null,{"$f":"IF(OR(C182=\"\",ISBLANK(C182)),\"\",VLOOKUP(C182,Sheet2!A:F,3,FALSE))","v":""},{"$f":"IF(OR(C182=\"\",ISBLANK(C182)),\"\",VLOOKUP(C182,Sheet2!A:G,6,FALSE))","v":""},""]
[{"$f":"IF(OR(C183=\"\",ISBLANK(C183)),\"\",VLOOKUP(C183,Sheet2!A:F,2,FALSE))","v":""},{"$f":"IF(OR(C183=\"\",ISBLANK(C183)),\"\",VLOOKUP(C183,Sheet2!A:G,4,FALSE))","v":""},null,null,{"$f":"IF(OR(C183=\"\",ISBLANK(C183)),\"\",VLOOKUP(C183,Sheet2!A:F,3,FALSE))","v":""},{"$f":"IF(OR(C183=\"\",ISBLANK(C183)),\"\",VLOOKUP(C183,Sheet2!A:G,6,FALSE))","v":""},""]
[{"$f":"IF(OR(C184=\"\",ISBLANK(C184)),\"\",VLOOKUP(C184,Sheet2!A:F,2,FALSE))","v":""},{"$f":"IF(OR(C184=\"\",ISBLANK(C184)),\"\",VLOOKUP(C184,Sheet2!A:G,4,FALSE))","v":""},null,null,{"$f":"IF(OR(C184=\"\",ISBLANK(C184)),\"\",VLOOKUP(C184,Sheet2!A:F,3,FALSE))","v":""},{"$f":"IF(OR(C184=\"\",ISBLANK(C184)),\"\",VLOOKUP(C184,Sheet2!A:G,6,FALSE))","v":""},""]
[{"$f":"IF(OR(C185=\"\",ISBLANK(C185)),\"\",VLOOKUP(C185,Sheet2!A:F,2,FALSE))","v":""},{"$f":"IF(OR(C185=\"\",ISBLANK(C185)),\"\",VLOOKUP(C185,Sheet2!A:G,4,FALSE))","v":""},null,null,{"$f":"IF(OR(C185=\"\",ISBLANK(C185)),\"\",VLOOKUP(C185,Sheet2!A:F,3,FALSE))","v":""},{"$f":"IF(OR(C185=\"\",ISBLANK(C185)),\"\",VLOOKUP(C185,Sheet2!A:G,6,FALSE))","v":""},""]
[{"$f":"IF(OR(C186=\"\",ISBLANK(C186)),\"\",VLOOKUP(C186,Sheet2!A:F,2,FALSE))","v":""},{"$f":"IF(OR(C186=\"\",ISBLANK(C186)),\"\",VLOOKUP(C186,Sheet2!A:G,4,FALSE))","v":""},null,null,{"$f":"IF(OR(C186=\"\",ISBLANK(C186)),\"\",VLOOKUP(C186,Sheet2!A:F,3,FALSE))","v":""},{"$f":"IF(OR(C186=\"\",ISBLANK(C186)),\"\",VLOOKUP(C186,Sheet2!A:G,6,FALSE))","v":""},""]
[{"$f":"IF(OR(C187=\"\",ISBLANK(C187)),\"\",VLOOKUP(C187,Sheet2!A:F,2,FALSE))","v":""},{"$f":"IF(OR(C187=\"\",ISBLANK(C187)),\"\",VLOOKUP(C187,Sheet2!A:G,4,FALSE))","v":""},null,null,{"$f":"IF(OR(C187=\"\",ISBLANK(C187)),\"\",VLOOKUP(C187,Sheet2!A:F,3,FALSE))","v":""},{"$f":"IF(OR(C187=\"\",ISBLANK(C187)),\"\",VLOOKUP(C187,Sheet2!A:G,6,FALSE))","v":""},""]
[{"$f":"IF(OR(C188=\"\",ISBLANK(C188)),\"\",VLOOKUP(C188,Sheet2!A:F,2,FALSE))","v":""},{"$f":"IF(OR(C188=\"\",ISBLANK(C188)),\"\",VLOOKUP(C188,Sheet2!A:G,4,FALSE))","v":""},null,null,{"$f":"IF(OR(C188=\"\",ISBLANK(C188)),\"\",VLOOKUP(C188,Sheet2!A:F,3,FALSE))","v":""},{"$f":"IF(OR(C188=\"\",ISBLANK(C188)),\"\",VLOOKUP(C188,Sheet2!A:G,6,FALSE))","v":""},""]
[{"$f":"IF(OR(C189=\"\",ISBLANK(C189)),\"\",VLOOKUP(C189,Sheet2!A:F,2,FALSE))","v":""},{"$f":"IF(OR(C189=\"\",ISBLANK(C189)),\"\",VLOOKUP(C189,Sheet2!A:G,4,FALSE))","v":""},null,null,{"$f":"IF(OR(C189=\"\",ISBLANK(C189)),\"\",VLOOKUP(C189,Sheet2!A:F,3,FALSE))","v":""},{"$f":"IF(OR(C189=\"\",ISBLANK(C189)),\"\",VLOOKUP(C189,Sheet2!A:G,6,FALSE))","v":""},""]
[{"$f":"IF(OR(C190=\"\",ISBLANK(C190)),\"\",VLOOKUP(C190,Sheet2!A:F,2,FALSE))","v":""},{"$f":"IF(OR(C190=\"\",ISBLANK(C190)),\"\",VLOOKUP(C190,Sheet2!A:G,4,FALSE))","v":""},null,null,{"$f":"IF(OR(C190=\"\",ISBLANK(C190)),\"\",VLOOKUP(C190,Sheet2!A:F,3,FALSE))","v":""},{"$f":"IF(OR(C190=\"\",ISBLANK(C190)),\"\",VLOOKUP(C190,Sheet2!A:G,6,FALSE))","v":""},""]
[{"$f":"IF(OR(C191=\"\",ISBLANK(C191)),\"\",VLOOKUP(C191,Sheet2!A:F,2,FALSE))","v":""},{"$f":"IF(OR(C191=\"\",ISBLANK(C191)),\"\",VLOOKUP(C191,Sheet2!A:G,4,FALSE))","v":""},null,null,{"$f":"IF(OR(C191=\"\",ISBLANK(C191)),\"\",VLOOKUP(C191,Sheet2!A:F,3,FALSE))","v":""},{"$f":"IF(OR(C191=\"\",ISBLANK(C191)),\"\",VLOOKUP(C191,Sheet2!A:G,6,FALSE))","v":""},""]
[{"$f":"IF(OR(C192=\"\",ISBLANK(C192)),\"\",VLOOKUP(C192,Sheet2!A:F,2,FALSE))","v":""},{"$f":"IF(OR(C192=\"\",ISBLANK(C192)),\"\",VLOOKUP(C192,Sheet2!A:G,4,FALSE))","v":""},null,null,{"$f":"IF(OR(C192=\"\",ISBLANK(C192)),\"\",VLOOKUP(C192,Sheet2!A:F,3,FALSE))","v":""},{"$f":"IF(OR(C192=\"\",ISBLANK(C192)),\"\",VLOOKUP(C192,Sheet2!A:G,6,FALSE))","v":""},""]
[{"$f":"IF(OR(C193=\"\",ISBLANK(C193)),\"\",VLOOKUP(C193,Sheet2!A:F,2,FALSE))","v":""},{"$f":"IF(OR(C193=\"\",ISBLANK(C193)),\"\",VLOOKUP(C193,Sheet2!A:G,4,FALSE))","v":""},null,null,{"$f":"IF(OR(C193=\"\",ISBLANK(C193)),\"\",VLOOKUP(C193,Sheet2!A:F,3,FALSE))","v":""},{"$f":"IF(OR(C193=\"\",ISBLANK(C193)),\"\",VLOOKUP(C193,Sheet2!A:G,6,FALSE))","v":""},""]
[{"$f":"IF(OR(C194=\"\",ISBLANK(C194)),\"\",VLOOKUP(C194,Sheet2!A:F,2,FALSE))","v":""},{"$f":"IF(OR(C194=\"\",ISBLANK(C194)),\"\",VLOOKUP(C194,Sheet2!A:G,4,FALSE))","v":""},null,null,{"$f":"IF(OR(C194=\"\",ISBLANK(C194)),\"\",VLOOKUP(C194,Sheet2!A:F,3,FALSE))","v":""},{"$f":"IF(OR(C194=\"\",ISBLANK(C194)),\"\",VLOOKUP(C194,Sheet2!A:G,6,FALSE))","v":""},""]
[{"$f":"IF(OR(C195=\"\",ISBLANK(C195)),\"\",VLOOKUP(C195,Sheet2!A:F,2,FALSE))","v":""},{"$f":"IF(OR(C195=\"\",ISBLANK(C195)),\"\",VLOOKUP(C195,Sheet2!A:G,4,FALSE))","v":""},null,null,{"$f":"IF(OR(C195=\"\",ISBLANK(C195)),\"\",VLOOKUP(C195,Sheet2!A:F,3,FALSE))","v":""},{"$f":"IF(OR(C195=\"\",ISBLANK(C195)),\"\",VLOOKUP(C195,Sheet2!A:G,6,FALSE))","v":""},{"$f":"IF(F195=0,\"\",F195)","v":""}]
[{"$f":"IF(OR(C196=\"\",ISBLANK(C196)),\"\",VLOOKUP(C196,Sheet2!A:F,2,FALSE))","v":""},{"$f":"IF(OR(C196=\"\",ISBLANK(C196)),\"\",VLOOKUP(C196,Sheet2!A:G,4,FALSE))","v":""},null,null,{"$f":"IF(OR(C196=\"\",ISBLANK(C196)),\"\",VLOOKUP(C196,Sheet2!A:F,3,FALSE))","v":""},{"$f":"IF(OR(C196=\"\",ISBLANK(C196)),\"\",VLOOKUP(C196,Sheet2!A:G,6,FALSE))","v":""},""]
[{"$f":"IF(OR(C197=\"\",ISBLANK(C197)),\"\",VLOOKUP(C197,Sheet2!A:F,2,FALSE))","v":""},{"$f":"IF(OR(C197=\"\",ISBLANK(C197)),\"\",VLOOKUP(C197,Sheet2!A:G,4,FALSE))","v":""},null,null,{"$f":"IF(OR(C197=\"\",ISBLANK(C197)),\"\",VLOOKUP(C197,Sheet2!A:F,3,FALSE))","v":""},{"$f":"IF(OR(C197=\"\",ISBLANK(C197)),\"\",VLOOKUP(C197,Sheet2!A:G,6,FALSE))","v":""},""]
[{"$f":"IF(OR(C198=\"\",ISBLANK(C198)),\"\",VLOOKUP(C198,Sheet2!A:F,2,FALSE))","v":""},{"$f":"IF(OR(C198=\"\",ISBLANK(C198)),\"\",VLOOKUP(C198,Sheet2!A:G,4,FALSE))","v":""},null,null,{"$f":"IF(OR(C198=\"\",ISBLANK(C198)),\"\",VLOOKUP(C198,Sheet2!A:F,3,FALSE))","v":""},{"$f":"IF(OR(C198=\"\",ISBLANK(C198)),\"\",VLOOKUP(C198,Sheet2!A:G,6,FALSE))","v":""},""]
[{"$f":"IF(OR(C199=\"\",ISBLANK(C199)),\"\",VLOOKUP(C199,Sheet2!A:F,2,FALSE))","v":""},{"$f":"IF(OR(C199=\"\",ISBLANK(C199)),\"\",VLOOKUP(C199,Sheet2!A:G,4,FALSE))","v":""},null,null,{"$f":"IF(OR(C199=\"\",ISBLANK(C199)),\"\",VLOOKUP(C199,Sheet2!A:F,3,FALSE))","v":""},{"$f":"IF(OR(C199=\"\",ISBLANK(C199)),\"\",VLOOKUP(C199,Sheet2!A:G,6,FALSE))","v":""},""]
[{"$f":"IF(OR(C200=\"\",ISBLANK(C200)),\"\",VLOOKUP(C200,Sheet2!A:F,2,FALSE))","v":""},{"$f":"IF(OR(C200=\"\",ISBLANK(C200)),\"\",VLOOKUP(C200,Sheet2!A:G,4,FALSE))","v":""},null,null,{"$f":"IF(OR(C200=\"\",ISBLANK(C200)),\"\",VLOOKUP(C200,Sheet2!A:F,3,FALSE))","v":""},{"$f":"IF(OR(C200=\"\",ISBLANK(C200)),\"\",VLOOKUP(C200,Sheet2!A:G,6,FALSE))","v":""},""]
[{"$f":"IF(OR(C201=\"\",ISBLANK(C201)),\"\",VLOOKUP(C201,Sheet2!A:F,2,FALSE))","v":""},{"$f":"IF(OR(C201=\"\",ISBLANK(C201)),\"\",VLOOKUP(C201,Sheet2!A:G,4,FALSE))","v":""},null,null,{"$f":"IF(OR(C201=\"\",ISBLANK(C201)),\"\",VLOOKUP(C201,Sheet2!A:F,3,FALSE))","v":""},{"$f":"IF(OR(C201=\"\",ISBLANK(C201)),\"\",VLOOKUP(C201,Sheet2!A:G,6,FALSE))","v":""},""]
[{"$f":"IF(OR(C202=\"\",ISBLANK(C202)),\"\",VLOOKUP(C202,Sheet2!A:F,2,FALSE))","v":""},{"$f":"IF(OR(C202=\"\",ISBLANK(C202)),\"\",VLOOKUP(C202,Sheet2!A:G,4,FALSE))","v":""},null,null,{"$f":"IF(OR(C202=\"\",ISBLANK(C202)),\"\",VLOOKUP(C202,Sheet2!A:F,3,FALSE))","v":""},{"$f":"IF(OR(C202=\"\",ISBLANK(C202)),\"\",VLOOKUP(C202,Sheet2!A:G,6,FALSE))","v":""},""]
[{"$f":"IF(OR(C203=\"\",ISBLANK(C203)),\"\",VLOOKUP(C203,Sheet2!A:F,2,FALSE))","v":""},{"$f":"IF(OR(C203=\"\",ISBLANK(C203)),\"\",VLOOKUP(C203,Sheet2!A:G,4,FALSE))","v":""},null,null,{"$f":"IF(OR(C203=\"\",ISBLANK(C203)),\"\",VLOOKUP(C203,Sheet2!A:F,3,FALSE))","v":""},{"$f":"IF(OR(C203=\"\",ISBLANK(C203)),\"\",VLOOKUP(C203,Sheet2!A:G,6,FALSE))","v":""},""]
[{"$f":"IF(OR(C204=\"\",ISBLANK(C204)),\"\",VLOOKUP(C204,Sheet2!A:F,2,FALSE))","v":""},{"$f":"IF(OR(C204=\"\",ISBLANK(C204)),\"\",VLOOKUP(C204,Sheet2!A:G,4,FALSE))","v":""},null,null,{"$f":"IF(OR(C204=\"\",ISBLANK(C204)),\"\",VLOOKUP(C204,Sheet2!A:F,3,FALSE))","v":""},{"$f":"IF(OR(C204=\"\",ISBLANK(C204)),\"\",VLOOKUP(C204,Sheet2!A:G,6,FALSE))","v":""},""]
[{"$f":"IF(OR(C205=\"\",ISBLANK(C205)),\"\",VLOOKUP(C205,Sheet2!A:F,2,FALSE))","v":""},{"$f":"IF(OR(C205=\"\",ISBLANK(C205)),\"\",VLOOKUP(C205,Sheet2!A:G,4,FALSE))","v":""},null,null,{"$f":"IF(OR(C205=\"\",ISBLANK(C205)),\"\",VLOOKUP(C205,Sheet2!A:F,3,FALSE))","v":""},{"$f":"IF(OR(C205=\"\",ISBLANK(C205)),\"\",VLOOKUP(C205,Sheet2!A:G,6,FALSE))","v":""},""]
[{"$f":"IF(OR(C206=\"\",ISBLANK(C206)),\"\",VLOOKUP(C206,Sheet2!A:F,2,FALSE))","v":""},{"$f":"IF(OR(C206=\"\",ISBLANK(C206)),\"\",VLOOKUP(C206,Sheet2!A:G,4,FALSE))","v":""},null,null,{"$f":"IF(OR(C206=\"\",ISBLANK(C206)),\"\",VLOOKUP(C206,Sheet2!A:F,3,FALSE))","v":""},{"$f":"IF(OR(C206=\"\",ISBLANK(C206)),\"\",VLOOKUP(C206,Sheet2!A:G,6,FALSE))","v":""},""]
[{"$f":"IF(OR(C207=\"\",ISBLANK(C207)),\"\",VLOOKUP(C207,Sheet2!A:F,2,FALSE))","v":""},{"$f":"IF(OR(C207=\"\",ISBLANK(C207)),\"\",VLOOKUP(C207,Sheet2!A:G,4,FALSE))","v":""},null,null,{"$f":"IF(OR(C207=\"\",ISBLANK(C207)),\"\",VLOOKUP(C207,Sheet2!A:F,3,FALSE))","v":""},{"$f":"IF(OR(C207=\"\",ISBLANK(C207)),\"\",VLOOKUP(C207,Sheet2!A:G,6,FALSE))","v":""},""]
[{"$f":"IF(OR(C208=\"\",ISBLANK(C208)),\"\",VLOOKUP(C208,Sheet2!A:F,2,FALSE))","v":""},{"$f":"IF(OR(C208=\"\",ISBLANK(C208)),\"\",VLOOKUP(C208,Sheet2!A:G,4,FALSE))","v":""},null,null,{"$f":"IF(OR(C208=\"\",ISBLANK(C208)),\"\",VLOOKUP(C208,Sheet2!A:F,3,FALSE))","v":""},{"$f":"IF(OR(C208=\"\",ISBLANK(C208)),\"\",VLOOKUP(C208,Sheet2!A:G,6,FALSE))","v":""},""]
[{"$f":"IF(OR(C209=\"\",ISBLANK(C209)),\"\",VLOOKUP(C209,Sheet2!A:F,2,FALSE))","v":""},{"$f":"IF(OR(C209=\"\",ISBLANK(C209)),\"\",VLOOKUP(C209,Sheet2!A:G,4,FALSE))","v":""},null,null,{"$f":"IF(OR(C209=\"\",ISBLANK(C209)),\"\",VLOOKUP(C209,Sheet2!A:F,3,FALSE))","v":""},{"$f":"IF(OR(C209=\"\",ISBLANK(C209)),\"\",VLOOKUP(C209,Sheet2!A:G,6,FALSE))","v":""},""]
[{"$f":"IF(OR(C210=\"\",ISBLANK(C210)),\"\",VLOOKUP(C210,Sheet2!A:F,2,FALSE))","v":""},{"$f":"IF(OR(C210=\"\",ISBLANK(C210)),\"\",VLOOKUP(C210,Sheet2!A:G,4,FALSE))","v":""},null,null,{"$f":"IF(OR(C210=\"\",ISBLANK(C210)),\"\",VLOOKUP(C210,Sheet2!A:F,3,FALSE))","v":""},{"$f":"IF(OR(C210=\"\",ISBLANK(C210)),\"\",VLOOKUP(C210,Sheet2!A:G,6,FALSE))","v":""},""]
[{"$f":"IF(OR(C211=\"\",ISBLANK(C211)),\"\",VLOOKUP(C211,Sheet2!A:F,2,FALSE))","v":""},{"$f":"IF(OR(C211=\"\",ISBLANK(C211)),\"\",VLOOKUP(C211,Sheet2!A:G,4,FALSE))","v":""},null,null,{"$f":"IF(OR(C211=\"\",ISBLANK(C211)),\"\",VLOOKUP(C211,Sheet2!A:F,3,FALSE))","v":""},{"$f":"IF(OR(C211=\"\",ISBLANK(C211)),\"\",VLOOKUP(C211,Sheet2!A:G,6,FALSE))","v":""},""]
[{"$f":"IF(OR(C212=\"\",ISBLANK(C212)),\"\",VLOOKUP(C212,Sheet2!A:F,2,FALSE))","v":""},{"$f":"IF(OR(C212=\"\",ISBLANK(C212)),\"\",VLOOKUP(C212,Sheet2!A:G,4,FALSE))","v":""},null,null,{"$f":"IF(OR(C212=\"\",ISBLANK(C212)),\"\",VLOOKUP(C212,Sheet2!A:F,3,FALSE))","v":""},{"$f":"IF(OR(C212=\"\",ISBLANK(C212)),\"\",VLOOKUP(C212,Sheet2!A:G,6,FALSE))","v":""},""]
[{"$f":"IF(OR(C213=\"\",ISBLANK(C213)),\"\",VLOOKUP(C213,Sheet2!A:F,2,FALSE))","v":""},{"$f":"IF(OR(C213=\"\",ISBLANK(C213)),\"\",VLOOKUP(C213,Sheet2!A:G,4,FALSE))","v":""},null,null,{"$f":"IF(OR(C213=\"\",ISBLANK(C213)),\"\",VLOOKUP(C213,Sheet2!A:F,3,FALSE))","v":""},{"$f":"IF(OR(C213=\"\",ISBLANK(C213)),\"\",VLOOKUP(C213,Sheet2!A:G,6,FALSE))","v":""},""]
[{"$f":"IF(OR(C214=\"\",ISBLANK(C214)),\"\",VLOOKUP(C214,Sheet2!A:F,2,FALSE))","v":""},{"$f":"IF(OR(C214=\"\",ISBLANK(C214)),\"\",VLOOKUP(C214,Sheet2!A:G,4,FALSE))","v":""},null,null,{"$f":"IF(OR(C214=\"\",ISBLANK(C214)),\"\",VLOOKUP(C214,Sheet2!A:F,3,FALSE))","v":""},{"$f":"IF(OR(C214=\"\",ISBLANK(C214)),\"\",VLOOKUP(C214,Sheet2!A:G,6,FALSE))","v":""},""]
[{"$f":"IF(OR(C215=\"\",ISBLANK(C215)),\"\",VLOOKUP(C215,Sheet2!A:F,2,FALSE))","v":""},{"$f":"IF(OR(C215=\"\",ISBLANK(C215)),\"\",VLOOKUP(C215,Sheet2!A:G,4,FALSE))","v":""},null,null,{"$f":"IF(OR(C215=\"\",ISBLANK(C215)),\"\",VLOOKUP(C215,Sheet2!A:F,3,FALSE))","v":""},{"$f":"IF(OR(C215=\"\",ISBLANK(C215)),\"\",VLOOKUP(C215,Sheet2!A:G,6,FALSE))","v":""},""]
[{"$f":"IF(OR(C216=\"\",ISBLANK(C216)),\"\",VLOOKUP(C216,Sheet2!A:F,2,FALSE))","v":""},{"$f":"IF(OR(C216=\"\",ISBLANK(C216)),\"\",VLOOKUP(C216,Sheet2!A:G,4,FALSE))","v":""},null,null,{"$f":"IF(OR(C216=\"\",ISBLANK(C216)),\"\",VLOOKUP(C216,Sheet2!A:F,3,FALSE))","v":""},{"$f":"IF(OR(C216=\"\",ISBLANK(C216)),\"\",VLOOKUP(C216,Sheet2!A:G,6,FALSE))","v":""},""]
[{"$f":"IF(OR(C217=\"\",ISBLANK(C217)),\"\",VLOOKUP(C217,Sheet2!A:F,2,FALSE))","v":""},{"$f":"IF(OR(C217=\"\",ISBLANK(C217)),\"\",VLOOKUP(C217,Sheet2!A:G,4,FALSE))","v":""},null,null,{"$f":"IF(OR(C217=\"\",ISBLANK(C217)),\"\",VLOOKUP(C217,Sheet2!A:F,3,FALSE))","v":""},{"$f":"IF(OR(C217=\"\",ISBLANK(C217)),\"\",VLOOKUP(C217,Sheet2!A:G,6,FALSE))","v":""},""]
[{"$f":"IF(OR(C218=\"\",ISBLANK(C218)),\"\",VLOOKUP(C218,Sheet2!A:F,2,FALSE))","v":""},{"$f":"IF(OR(C218=\"\",ISBLANK(C218)),\"\",VLOOKUP(C218,Sheet2!A:G,4,FALSE))","v":""},null,null,{"$f":"IF(OR(C218=\"\",ISBLANK(C218)),\"\",VLOOKUP(C218,Sheet2!A:F,3,FALSE))","v":""},{"$f":"IF(OR(C218=\"\",ISBLANK(C218)),\"\",VLOOKUP(C218,Sheet2!A:G,6,FALSE))","v":""},""]
[{"$f":"IF(OR(C219=\"\",ISBLANK(C219)),\"\",VLOOKUP(C219,Sheet2!A:F,2,FALSE))","v":""},{"$f":"IF(OR(C219=\"\",ISBLANK(C219)),\"\",VLOOKUP(C219,Sheet2!A:G,4,FALSE))","v":""},null,null,{"$f":"IF(OR(C219=\"\",ISBLANK(C219)),\"\",VLOOKUP(C219,Sheet2!A:F,3,FALSE))","v":""},{"$f":"IF(OR(C219=\"\",ISBLANK(C219)),\"\",VLOOKUP(C219,Sheet2!A:G,6,FALSE))","v":""},""]
[{"$f":"IF(OR(C220=\"\",ISBLANK(C220)),\"\",VLOOKUP(C220,Sheet2!A:F,2,FALSE))","v":""},{"$f":"IF(OR(C220=\"\",ISBLANK(C220)),\"\",VLOOKUP(C220,Sheet2!A:G,4,FALSE))","v":""},null,null,{"$f":"IF(OR(C220=\"\",ISBLANK(C220)),\"\",VLOOKUP(C220,Sheet2!A:F,3,FALSE))","v":""},{"$f":"IF(OR(C220=\"\",ISBLANK(C220)),\"\",VLOOKUP(C220,Sheet2!A:G,6,FALSE))","v":""},""]
[{"$f":"IF(OR(C221=\"\",ISBLANK(C221)),\"\",VLOOKUP(C221,Sheet2!A:F,2,FALSE))","v":""},{"$f":"IF(OR(C221=\"\",ISBLANK(C221)),\"\",VLOOKUP(C221,Sheet2!A:G,4,FALSE))","v":""},null,null,{"$f":"IF(OR(C221=\"\",ISBLANK(C221)),\"\",VLOOKUP(C221,Sheet2!A:F,3,FALSE))","v":""},{"$f":"IF(OR(C221=\"\",ISBLANK(C221)),\"\",VLOOKUP(C221,Sheet2!A:G,6,FALSE))","v":""},""]
[{"$f":"IF(OR(C222=\"\",ISBLANK(C222)),\"\",VLOOKUP(C222,Sheet2!A:F,2,FALSE))","v":""},{"$f":"IF(OR(C222=\"\",ISBLANK(C222)),\"\",VLOOKUP(C222,Sheet2!A:G,4,FALSE))","v":""},null,null,{"$f":"IF(OR(C222=\"\",ISBLANK(C222)),\"\",VLOOKUP(C222,Sheet2!A:F,3,FALSE))","v":""},{"$f":"IF(OR(C222=\"\",ISBLANK(C222)),\"\",VLOOKUP(C222,Sheet2!A:G,6,FALSE))","v":""},""]
[{"$f":"IF(OR(C223=\"\",ISBLANK(C223)),\"\",VLOOKUP(C223,Sheet2!A:F,2,FALSE))","v":""},{"$f":"IF(OR(C223=\"\",ISBLANK(C223)),\"\",VLOOKUP(C223,Sheet2!A:G,4,FALSE))","v":""},null,null,{"$f":"IF(OR(C223=\"\",ISBLANK(C223)),\"\",VLOOKUP(C223,Sheet2!A:F,3,FALSE))","v":""},{"$f":"IF(OR(C223=\"\",ISBLANK(C223)),\"\",VLOOKUP(C223,Sheet2!A:G,6,FALSE))","v":""},""]
[{"$f":"IF(OR(C224=\"\",ISBLANK(C224)),\"\",VLOOKUP(C224,Sheet2!A:F,2,FALSE))","v":""},{"$f":"IF(OR(C224=\"\",ISBLANK(C224)),\"\",VLOOKUP(C224,Sheet2!A:G,4,FALSE))","v":""},null,null,{"$f":"IF(OR(C224=\"\",ISBLANK(C224)),\"\",VLOOKUP(C224,Sheet2!A:F,3,FALSE))","v":""},{"$f":"IF(OR(C224=\"\",ISBLANK(C224)),\"\",VLOOKUP(C224,Sheet2!A:G,6,FALSE))","v":""},""]
[{"$f":"IF(OR(C225=\"\",ISBLANK(C225)),\"\",VLOOKUP(C225,Sheet2!A:F,2,FALSE))","v":""},{"$f":"IF(OR(C225=\"\",ISBLANK(C225)),\"\",VLOOKUP(C225,Sheet2!A:G,4,FALSE))","v":""},null,null,{"$f":"IF(OR(C225=\"\",ISBLANK(C225)),\"\",VLOOKUP(C225,Sheet2!A:F,3,FALSE))","v":""},{"$f":"IF(OR(C225=\"\",ISBLANK(C225)),\"\",VLOOKUP(C225,Sheet2!A:G,6,FALSE))","v":""},""]
[{"$f":"IF(OR(C226=\"\",ISBLANK(C226)),\"\",VLOOKUP(C226,Sheet2!A:F,2,FALSE))","v":""},{"$f":"IF(OR(C226=\"\",ISBLANK(C226)),\"\",VLOOKUP(C226,Sheet2!A:G,4,FALSE))","v":""},null,null,{"$f":"IF(OR(C226=\"\",ISBLANK(C226)),\"\",VLOOKUP(C226,Sheet2!A:F,3,FALSE))","v":""},{"$f":"IF(OR(C226=\"\",ISBLANK(C226)),\"\",VLOOKUP(C226,Sheet2!A:G,6,FALSE))","v":""},""]
[{"$f":"IF(OR(C227=\"\",ISBLANK(C227)),\"\",VLOOKUP(C227,Sheet2!A:F,2,FALSE))","v":""},{"$f":"IF(OR(C227=\"\",ISBLANK(C227)),\"\",VLOOKUP(C227,Sheet2!A:G,4,FALSE))","v":""},null,null,{"$f":"IF(OR(C227=\"\",ISBLANK(C227)),\"\",VLOOKUP(C227,Sheet2!A:F,3,FALSE))","v":""},{"$f":"IF(OR(C227=\"\",ISBLANK(C227)),\"\",VLOOKUP(C227,Sheet2!A:G,6,FALSE))","v":""},""]
[{"$f":"IF(OR(C228=\"\",ISBLANK(C228)),\"\",VLOOKUP(C228,Sheet2!A:F,2,FALSE))","v":""},{"$f":"IF(OR(C228=\"\",ISBLANK(C228)),\"\",VLOOKUP(C228,Sheet2!A:G,4,FALSE))","v":""},null,null,{"$f":"IF(OR(C228=\"\",ISBLANK(C228)),\"\",VLOOKUP(C228,Sheet2!A:F,3,FALSE))","v":""},{"$f":"IF(OR(C228=\"\",ISBLANK(C228)),\"\",VLOOKUP(C228,Sheet2!A:G,6,FALSE))","v":""},""]
[{"$f":"IF(OR(C229=\"\",ISBLANK(C229)),\"\",VLOOKUP(C229,Sheet2!A:F,2,FALSE))","v":""},{"$f":"IF(OR(C229=\"\",ISBLANK(C229)),\"\",VLOOKUP(C229,Sheet2!A:G,4,FALSE))","v":""},null,null,{"$f":"IF(OR(C229=\"\",ISBLANK(C229)),\"\",VLOOKUP(C229,Sheet2!A:F,3,FALSE))","v":""},{"$f":"IF(OR(C229=\"\",ISBLANK(C229)),\"\",VLOOKUP(C229,Sheet2!A:G,6,FALSE))","v":""},""]
[{"$f":"IF(OR(C230=\"\",ISBLANK(C230)),\"\",VLOOKUP(C230,Sheet2!A:F,2,FALSE))","v":""},{"$f":"IF(OR(C230=\"\",ISBLANK(C230)),\"\",VLOOKUP(C230,Sheet2!A:G,4,FALSE))","v":""},null,null,{"$f":"IF(OR(C230=\"\",ISBLANK(C230)),\"\",VLOOKUP(C230,Sheet2!A:F,3,FALSE))","v":""},{"$f":"IF(OR(C230=\"\",ISBLANK(C230)),\"\",VLOOKUP(C230,Sheet2!A:G,6,FALSE))","v":""},""]
[{"$f":"IF(OR(C231=\"\",ISBLANK(C231)),\"\",VLOOKUP(C231,Sheet2!A:F,2,FALSE))","v":""},{"$f":"IF(OR(C231=\"\",ISBLANK(C231)),\"\",VLOOKUP(C231,Sheet2!A:G,4,FALSE))","v":""},null,null,{"$f":"IF(OR(C231=\"\",ISBLANK(C231)),\"\",VLOOKUP(C231,Sheet2!A:F,3,FALSE))","v":""},{"$f":"IF(OR(C231=\"\",ISBLANK(C231)),\"\",VLOOKUP(C231,Sheet2!A:G,6,FALSE))","v":""},""]
[{"$f":"IF(OR(C232=\"\",ISBLANK(C232)),\"\",VLOOKUP(C232,Sheet2!A:F,2,FALSE))","v":""},{"$f":"IF(OR(C232=\"\",ISBLANK(C232)),\"\",VLOOKUP(C232,Sheet2!A:G,4,FALSE))","v":""},null,null,{"$f":"IF(OR(C232=\"\",ISBLANK(C232)),\"\",VLOOKUP(C232,Sheet2!A:F,3,FALSE))","v":""},{"$f":"IF(OR(C232=\"\",ISBLANK(C232)),\"\",VLOOKUP(C232,Sheet2!A:G,6,FALSE))","v":""},""]
[{"$f":"IF(OR(C233=\"\",ISBLANK(C233)),\"\",VLOOKUP(C233,Sheet2!A:F,2,FALSE))","v":""},{"$f":"IF(OR(C233=\"\",ISBLANK(C233)),\"\",VLOOKUP(C233,Sheet2!A:G,4,FALSE))","v":""},null,null,{"$f":"IF(OR(C233=\"\",ISBLANK(C233)),\"\",VLOOKUP(C233,Sheet2!A:F,3,FALSE))","v":""},{"$f":"IF(OR(C233=\"\",ISBLANK(C233)),\"\",VLOOKUP(C233,Sheet2!A:G,6,FALSE))","v":""},""]
[{"$f":"IF(OR(C234=\"\",ISBLANK(C234)),\"\",VLOOKUP(C234,Sheet2!A:F,2,FALSE))","v":""},{"$f":"IF(OR(C234=\"\",ISBLANK(C234)),\"\",VLOOKUP(C234,Sheet2!A:G,4,FALSE))","v":""},null,null,{"$f":"IF(OR(C234=\"\",ISBLANK(C234)),\"\",VLOOKUP(C234,Sheet2!A:F,3,FALSE))","v":""},{"$f":"IF(OR(C234=\"\",ISBLANK(C234)),\"\",VLOOKUP(C234,Sheet2!A:G,6,FALSE))","v":""},""]
[{"$f":"IF(OR(C235=\"\",ISBLANK(C235)),\"\",VLOOKUP(C235,Sheet2!A:F,2,FALSE))","v":""},{"$f":"IF(OR(C235=\"\",ISBLANK(C235)),\"\",VLOOKUP(C235,Sheet2!A:G,4,FALSE))","v":""},null,null,{"$f":"IF(OR(C235=\"\",ISBLANK(C235)),\"\",VLOOKUP(C235,Sheet2!A:F,3,FALSE))","v":""},{"$f":"IF(OR(C235=\"\",ISBLANK(C235)),\"\",VLOOKUP(C235,Sheet2!A:G,6,FALSE))","v":""},""]
[{"$f":"IF(OR(C236=\"\",ISBLANK(C236)),\"\",VLOOKUP(C236,Sheet2!A:F,2,FALSE))","v":""},{"$f":"IF(OR(C236=\"\",ISBLANK(C236)),\"\",VLOOKUP(C236,Sheet2!A:G,4,FALSE))","v":""},null,null,{"$f":"IF(OR(C236=\"\",ISBLANK(C236)),\"\",VLOOKUP(C236,Sheet2!A:F,3,FALSE))","v":""},{"$f":"IF(OR(C236=\"\",ISBLANK(C236)),\"\",VLOOKUP(C236,Sheet2!A:G,6,FALSE))","v":""},""]
[{"$f":"IF(OR(C237=\"\",ISBLANK(C237)),\"\",VLOOKUP(C237,Sheet2!A:F,2,FALSE))","v":""},{"$f":"IF(OR(C237=\"\",ISBLANK(C237)),\"\",VLOOKUP(C237,Sheet2!A:G,4,FALSE))","v":""},null,null,{"$f":"IF(OR(C237=\"\",ISBLANK(C237)),\"\",VLOOKUP(C237,Sheet2!A:F,3,FALSE))","v":""},{"$f":"IF(OR(C237=\"\",ISBLANK(C237)),\"\",VLOOKUP(C237,Sheet2!A:G,6,FALSE))","v":""},""]
[{"$f":"IF(OR(C238=\"\",ISBLANK(C238)),\"\",VLOOKUP(C238,Sheet2!A:F,2,FALSE))","v":""},{"$f":"IF(OR(C238=\"\",ISBLANK(C238)),\"\",VLOOKUP(C238,Sheet2!A:G,4,FALSE))","v":""},null,null,{"$f":"IF(OR(C238=\"\",ISBLANK(C238)),\"\",VLOOKUP(C238,Sheet2!A:F,3,FALSE))","v":""},{"$f":"IF(OR(C238=\"\",ISBLANK(C238)),\"\",VLOOKUP(C238,Sheet2!A:G,6,FALSE))","v":""},""]
[{"$f":"IF(OR(C239=\"\",ISBLANK(C239)),\"\",VLOOKUP(C239,Sheet2!A:F,2,FALSE))","v":""},{"$f":"IF(OR(C239=\"\",ISBLANK(C239)),\"\",VLOOKUP(C239,Sheet2!A:G,4,FALSE))","v":""},null,null,{"$f":"IF(OR(C239=\"\",ISBLANK(C239)),\"\",VLOOKUP(C239,Sheet2!A:F,3,FALSE))","v":""},{"$f":"IF(OR(C239=\"\",ISBLANK(C239)),\"\",VLOOKUP(C239,Sheet2!A:G,6,FALSE))","v":""},""]
[{"$f":"IF(OR(C240=\"\",ISBLANK(C240)),\"\",VLOOKUP(C240,Sheet2!A:F,2,FALSE))","v":""},{"$f":"IF(OR(C240=\"\",ISBLANK(C240)),\"\",VLOOKUP(C240,Sheet2!A:G,4,FALSE))","v":""},null,null,{"$f":"IF(OR(C240=\"\",ISBLANK(C240)),\"\",VLOOKUP(C240,Sheet2!A:F,3,FALSE))","v":""},{"$f":"IF(OR(C240=\"\",ISBLANK(C240)),\"\",VLOOKUP(C240,Sheet2!A:G,6,FALSE))","v":""},""]
[{"$f":"IF(OR(C241=\"\",ISBLANK(C241)),\"\",VLOOKUP(C241,Sheet2!A:F,2,FALSE))","v":""},{"$f":"IF(OR(C241=\"\",ISBLANK(C241)),\"\",VLOOKUP(C241,Sheet2!A:G,4,FALSE))","v":""},null,null,{"$f":"IF(OR(C241=\"\",ISBLANK(C241)),\"\",VLOOKUP(C241,Sheet2!A:F,3,FALSE))","v":""},{"$f":"IF(OR(C241=\"\",ISBLANK(C241)),\"\",VLOOKUP(C241,Sheet2!A:G,6,FALSE))","v":""},""]
[{"$f":"IF(OR(C242=\"\",ISBLANK(C242)),\"\",VLOOKUP(C242,Sheet2!A:F,2,FALSE))","v":""},{"$f":"IF(OR(C242=\"\",ISBLANK(C242)),\"\",VLOOKUP(C242,Sheet2!A:G,4,FALSE))","v":""},null,null,{"$f":"IF(OR(C242=\"\",ISBLANK(C242)),\"\",VLOOKUP(C242,Sheet2!A:F,3,FALSE))","v":""},{"$f":"IF(OR(C242=\"\",ISBLANK(C242)),\"\",VLOOKUP(C242,Sheet2!A:G,6,FALSE))","v":""},""]
[{"$f":"IF(OR(C243=\"\",ISBLANK(C243)),\"\",VLOOKUP(C243,Sheet2!A:F,2,FALSE))","v":""},{"$f":"IF(OR(C243=\"\",ISBLANK(C243)),\"\",VLOOKUP(C243,Sheet2!A:G,4,FALSE))","v":""},null,null,{"$f":"IF(OR(C243=\"\",ISBLANK(C243)),\"\",VLOOKUP(C243,Sheet2!A:F,3,FALSE))","v":""},{"$f":"IF(OR(C243=\"\",ISBLANK(C243)),\"\",VLOOKUP(C243,Sheet2!A:G,6,FALSE))","v":""},""]
[{"$f":"IF(OR(C244=\"\",ISBLANK(C244)),\"\",VLOOKUP(C244,Sheet2!A:F,2,FALSE))","v":""},{"$f":"IF(OR(C244=\"\",ISBLANK(C244)),\"\",VLOOKUP(C244,Sheet2!A:G,4,FALSE))","v":""},null,null,{"$f":"IF(OR(C244=\"\",ISBLANK(C244)),\"\",VLOOKUP(C244,Sheet2!A:F,3,FALSE))","v":""},{"$f":"IF(OR(C244=\"\",ISBLANK(C244)),\"\",VLOOKUP(C244,Sheet2!A:G,6,FALSE))","v":""},""]
[{"$f":"IF(OR(C245=\"\",ISBLANK(C245)),\"\",VLOOKUP(C245,Sheet2!A:F,2,FALSE))","v":""},{"$f":"IF(OR(C245=\"\",ISBLANK(C245)),\"\",VLOOKUP(C245,Sheet2!A:G,4,FALSE))","v":""},null,null,{"$f":"IF(OR(C245=\"\",ISBLANK(C245)),\"\",VLOOKUP(C245,Sheet2!A:F,3,FALSE))","v":""},{"$f":"IF(OR(C245=\"\",ISBLANK(C245)),\"\",VLOOKUP(C245,Sheet2!A:G,6,FALSE))","v":""},""]
[{"$f":"IF(OR(C246=\"\",ISBLANK(C246)),\"\",VLOOKUP(C246,Sheet2!A:F,2,FALSE))","v":""},{"$f":"IF(OR(C246=\"\",ISBLANK(C246)),\"\",VLOOKUP(C246,Sheet2!A:G,4,FALSE))","v":""},null,null,{"$f":"IF(OR(C246=\"\",ISBLANK(C246)),\"\",VLOOKUP(C246,Sheet2!A:F,3,FALSE))","v":""},{"$f":"IF(OR(C246=\"\",ISBLANK(C246)),\"\",VLOOKUP(C246,Sheet2!A:G,6,FALSE))","v":""},""]
[{"$f":"IF(OR(C247=\"\",ISBLANK(C247)),\"\",VLOOKUP(C247,Sheet2!A:F,2,FALSE))","v":""},{"$f":"IF(OR(C247=\"\",ISBLANK(C247)),\"\",VLOOKUP(C247,Sheet2!A:G,4,FALSE))","v":""},null,null,{"$f":"IF(OR(C247=\"\",ISBLANK(C247)),\"\",VLOOKUP(C247,Sheet2!A:F,3,FALSE))","v":""},{"$f":"IF(OR(C247=\"\",ISBLANK(C247)),\"\",VLOOKUP(C247,Sheet2!A:G,6,FALSE))","v":""},""]
[{"$f":"IF(OR(C248=\"\",ISBLANK(C248)),\"\",VLOOKUP(C248,Sheet2!A:F,2,FALSE))","v":""},{"$f":"IF(OR(C248=\"\",ISBLANK(C248)),\"\",VLOOKUP(C248,Sheet2!A:G,4,FALSE))","v":""},null,null,{"$f":"IF(OR(C248=\"\",ISBLANK(C248)),\"\",VLOOKUP(C248,Sheet2!A:F,3,FALSE))","v":""},{"$f":"IF(OR(C248=\"\",ISBLANK(C248)),\"\",VLOOKUP(C248,Sheet2!A:G,6,FALSE))","v":""},""]
[{"$f":"IF(OR(C249=\"\",ISBLANK(C249)),\"\",VLOOKUP(C249,Sheet2!A:F,2,FALSE))","v":""},{"$f":"IF(OR(C249=\"\",ISBLANK(C249)),\"\",VLOOKUP(C249,Sheet2!A:G,4,FALSE))","v":""},null,null,{"$f":"IF(OR(C249=\"\",ISBLANK(C249)),\"\",VLOOKUP(C249,Sheet2!A:F,3,FALSE))","v":""},{"$f":"IF(OR(C249=\"\",ISBLANK(C249)),\"\",VLOOKUP(C249,Sheet2!A:G,6,FALSE))","v":""},""]
[{"$f":"IF(OR(C250=\"\",ISBLANK(C250)),\"\",VLOOKUP(C250,Sheet2!A:F,2,FALSE))","v":""},{"$f":"IF(OR(C250=\"\",ISBLANK(C250)),\"\",VLOOKUP(C250,Sheet2!A:G,4,FALSE))","v":""},null,null,{"$f":"IF(OR(C250=\"\",ISBLANK(C250)),\"\",VLOOKUP(C250,Sheet2!A:F,3,FALSE))","v":""},{"$f":"IF(OR(C250=\"\",ISBLANK(C250)),\"\",VLOOKUP(C250,Sheet2!A:G,6,FALSE))","v":""},""]
[{"$f":"IF(OR(C251=\"\",ISBLANK(C251)),\"\",VLOOKUP(C251,Sheet2!A:F,2,FALSE))","v":""},{"$f":"IF(OR(C251=\"\",ISBLANK(C251)),\"\",VLOOKUP(C251,Sheet2!A:G,4,FALSE))","v":""},null,null,{"$f":"IF(OR(C251=\"\",ISBLANK(C251)),\"\",VLOOKUP(C251,Sheet2!A:F,3,FALSE))","v":""},{"$f":"IF(OR(C251=\"\",ISBLANK(C251)),\"\",VLOOKUP(C251,Sheet2!A:G,6,FALSE))","v":""},""]
[{"$f":"IF(OR(C252=\"\",ISBLANK(C252)),\"\",VLOOKUP(C252,Sheet2!A:F,2,FALSE))","v":""},{"$f":"IF(OR(C252=\"\",ISBLANK(C252)),\"\",VLOOKUP(C252,Sheet2!A:G,4,FALSE))","v":""},null,null,{"$f":"IF(OR(C252=\"\",ISBLANK(C252)),\"\",VLOOKUP(C252,Sheet2!A:F,3,FALSE))","v":""},{"$f":"IF(OR(C252=\"\",ISBLANK(C252)),\"\",VLOOKUP(C252,Sheet2!A:G,6,FALSE))","v":""},""]
[{"$f":"IF(OR(C253=\"\",ISBLANK(C253)),\"\",VLOOKUP(C253,Sheet2!A:F,2,FALSE))","v":""},{"$f":"IF(OR(C253=\"\",ISBLANK(C253)),\"\",VLOOKUP(C253,Sheet2!A:G,4,FALSE))","v":""},null,null,{"$f":"IF(OR(C253=\"\",ISBLANK(C253)),\"\",VLOOKUP(C253,Sheet2!A:F,3,FALSE))","v":""},{"$f":"IF(OR(C253=\"\",ISBLANK(C253)),\"\",VLOOKUP(C253,Sheet2!A:G,6,FALSE))","v":""},""]
[{"$f":"IF(OR(C254=\"\",ISBLANK(C254)),\"\",VLOOKUP(C254,Sheet2!A:F,2,FALSE))","v":""},{"$f":"IF(OR(C254=\"\",ISBLANK(C254)),\"\",VLOOKUP(C254,Sheet2!A:G,4,FALSE))","v":""},null,null,{"$f":"IF(OR(C254=\"\",ISBLANK(C254)),\"\",VLOOKUP(C254,Sheet2!A:F,3,FALSE))","v":""},{"$f":"IF(OR(C254=\"\",ISBLANK(C254)),\"\",VLOOKUP(C254,Sheet2!A:G,6,FALSE))","v":""},""]
[{"$f":"IF(OR(C255=\"\",ISBLANK(C255)),\"\",VLOOKUP(C255,Sheet2!A:F,2,FALSE))","v":""},{"$f":"IF(OR(C255=\"\",ISBLANK(C255)),\"\",VLOOKUP(C255,Sheet2!A:G,4,FALSE))","v":""},null,null,{"$f":"IF(OR(C255=\"\",ISBLANK(C255)),\"\",VLOOKUP(C255,Sheet2!A:F,3,FALSE))","v":""},{"$f":"IF(OR(C255=\"\",ISBLANK(C255)),\"\",VLOOKUP(C255,Sheet2!A:G,6,FALSE))","v":""},""]
[{"$f":"IF(OR(C256=\"\",ISBLANK(C256)),\"\",VLOOKUP(C256,Sheet2!A:F,2,FALSE))","v":""},{"$f":"IF(OR(C256=\"\",ISBLANK(C256)),\"\",VLOOKUP(C256,Sheet2!A:G,4,FALSE))","v":""},null,null,{"$f":"IF(OR(C256=\"\",ISBLANK(C256)),\"\",VLOOKUP(C256,Sheet2!A:F,3,FALSE))","v":""},{"$f":"IF(OR(C256=\"\",ISBLANK(C256)),\"\",VLOOKUP(C256,Sheet2!A:G,6,FALSE))","v":""},""]
[{"$f":"IF(OR(C257=\"\",ISBLANK(C257)),\"\",VLOOKUP(C257,Sheet2!A:F,2,FALSE))","v":""},{"$f":"IF(OR(C257=\"\",ISBLANK(C257)),\"\",VLOOKUP(C257,Sheet2!A:G,4,FALSE))","v":""},null,null,{"$f":"IF(OR(C257=\"\",ISBLANK(C257)),\"\",VLOOKUP(C257,Sheet2!A:F,3,FALSE))","v":""},{"$f":"IF(OR(C257=\"\",ISBLANK(C257)),\"\",VLOOKUP(C257,Sheet2!A:G,6,FALSE))","v":""},""]
[{"$f":"IF(OR(C258=\"\",ISBLANK(C258)),\"\",VLOOKUP(C258,Sheet2!A:F,2,FALSE))","v":""},{"$f":"IF(OR(C258=\"\",ISBLANK(C258)),\"\",VLOOKUP(C258,Sheet2!A:G,4,FALSE))","v":""},null,null,{"$f":"IF(OR(C258=\"\",ISBLANK(C258)),\"\",VLOOKUP(C258,Sheet2!A:F,3,FALSE))","v":""},{"$f":"IF(OR(C258=\"\",ISBLANK(C258)),\"\",VLOOKUP(C258,Sheet2!A:G,6,FALSE))","v":""},""]
[{"$f":"IF(OR(C259=\"\",ISBLANK(C259)),\"\",VLOOKUP(C259,Sheet2!A:F,2,FALSE))","v":""},{"$f":"IF(OR(C259=\"\",ISBLANK(C259)),\"\",VLOOKUP(C259,Sheet2!A:G,4,FALSE))","v":""},null,null,{"$f":"IF(OR(C259=\"\",ISBLANK(C259)),\"\",VLOOKUP(C259,Sheet2!A:F,3,FALSE))","v":""},{"$f":"IF(OR(C259=\"\",ISBLANK(C259)),\"\",VLOOKUP(C259,Sheet2!A:G,6,FALSE))","v":""},{"$f":"IF(F259=0,\"\",F259)","v":""}]
[{"$f":"IF(OR(C260=\"\",ISBLANK(C260)),\"\",VLOOKUP(C260,Sheet2!A:F,2,FALSE))","v":""},{"$f":"IF(OR(C260=\"\",ISBLANK(C260)),\"\",VLOOKUP(C260,Sheet2!A:G,4,FALSE))","v":""},null,null,{"$f":"IF(OR(C260=\"\",ISBLANK(C260)),\"\",VLOOKUP(C260,Sheet2!A:F,3,FALSE))","v":""},{"$f":"IF(OR(C260=\"\",ISBLANK(C260)),\"\",VLOOKUP(C260,Sheet2!A:G,6,FALSE))","v":""},""]
[{"$f":"IF(OR(C261=\"\",ISBLANK(C261)),\"\",VLOOKUP(C261,Sheet2!A:F,2,FALSE))","v":""},{"$f":"IF(OR(C261=\"\",ISBLANK(C261)),\"\",VLOOKUP(C261,Sheet2!A:G,4,FALSE))","v":""},null,null,{"$f":"IF(OR(C261=\"\",ISBLANK(C261)),\"\",VLOOKUP(C261,Sheet2!A:F,3,FALSE))","v":""},{"$f":"IF(OR(C261=\"\",ISBLANK(C261)),\"\",VLOOKUP(C261,Sheet2!A:G,6,FALSE))","v":""},""]
[{"$f":"IF(OR(C262=\"\",ISBLANK(C262)),\"\",VLOOKUP(C262,Sheet2!A:F,2,FALSE))","v":""},{"$f":"IF(OR(C262=\"\",ISBLANK(C262)),\"\",VLOOKUP(C262,Sheet2!A:G,4,FALSE))","v":""},null,null,{"$f":"IF(OR(C262=\"\",ISBLANK(C262)),\"\",VLOOKUP(C262,Sheet2!A:F,3,FALSE))","v":""},{"$f":"IF(OR(C262=\"\",ISBLANK(C262)),\"\",VLOOKUP(C262,Sheet2!A:G,6,FALSE))","v":""},""]
[{"$f":"IF(OR(C263=\"\",ISBLANK(C263)),\"\",VLOOKUP(C263,Sheet2!A:F,2,FALSE))","v":""},{"$f":"IF(OR(C263=\"\",ISBLANK(C263)),\"\",VLOOKUP(C263,Sheet2!A:G,4,FALSE))","v":""},null,null,{"$f":"IF(OR(C263=\"\",ISBLANK(C263)),\"\",VLOOKUP(C263,Sheet2!A:F,3,FALSE))","v":""},{"$f":"IF(OR(C263=\"\",ISBLANK(C263)),\"\",VLOOKUP(C263,Sheet2!A:G,6,FALSE))","v":""},""]
[{"$f":"IF(OR(C264=\"\",ISBLANK(C264)),\"\",VLOOKUP(C264,Sheet2!A:F,2,FALSE))","v":""},{"$f":"IF(OR(C264=\"\",ISBLANK(C264)),\"\",VLOOKUP(C264,Sheet2!A:G,4,FALSE))","v":""},null,null,{"$f":"IF(OR(C264=\"\",ISBLANK(C264)),\"\",VLOOKUP(C264,Sheet2!A:F,3,FALSE))","v":""},{"$f":"IF(OR(C264=\"\",ISBLANK(C264)),\"\",VLOOKUP(C264,Sheet2!A:G,6,FALSE))","v":""},""]
[{"$f":"IF(OR(C265=\"\",ISBLANK(C265)),\"\",VLOOKUP(C265,Sheet2!A:F,2,FALSE))","v":""},{"$f":"IF(OR(C265=\"\",ISBLANK(C265)),\"\",VLOOKUP(C265,Sheet2!A:G,4,FALSE))","v":""},null,null,{"$f":"IF(OR(C265=\"\",ISBLANK(C265)),\"\",VLOOKUP(C265,Sheet2!A:F,3,FALSE))","v":""},{"$f":"IF(OR(C265=\"\",ISBLANK(C265)),\"\",VLOOKUP(C265,Sheet2!A:G,6,FALSE))","v":""},""]
[{"$f":"IF(OR(C266=\"\",ISBLANK(C266)),\"\",VLOOKUP(C266,Sheet2!A:F,2,FALSE))","v":""},{"$f":"IF(OR(C266=\"\",ISBLANK(C266)),\"\",VLOOKUP(C266,Sheet2!A:G,4,FALSE))","v":""},null,null,{"$f":"IF(OR(C266=\"\",ISBLANK(C266)),\"\",VLOOKUP(C266,Sheet2!A:F,3,FALSE))","v":""},{"$f":"IF(OR(C266=\"\",ISBLANK(C266)),\"\",VLOOKUP(C266,Sheet2!A:G,6,FALSE))","v":""},""]
[{"$f":"IF(OR(C267=\"\",ISBLANK(C267)),\"\",VLOOKUP(C267,Sheet2!A:F,2,FALSE))","v":""},{"$f":"IF(OR(C267=\"\",ISBLANK(C267)),\"\",VLOOKUP(C267,Sheet2!A:G,4,FALSE))","v":""},null,null,{"$f":"IF(OR(C267=\"\",ISBLANK(C267)),\"\",VLOOKUP(C267,Sheet2!A:F,3,FALSE))","v":""},{"$f":"IF(OR(C267=\"\",ISBLANK(C267)),\"\",VLOOKUP(C267,Sheet2!A:G,6,FALSE))","v":""},""]
[{"$f":"IF(OR(C268=\"\",ISBLANK(C268)),\"\",VLOOKUP(C268,Sheet2!A:F,2,FALSE))","v":""},{"$f":"IF(OR(C268=\"\",ISBLANK(C268)),\"\",VLOOKUP(C268,Sheet2!A:G,4,FALSE))","v":""},null,null,{"$f":"IF(OR(C268=\"\",ISBLANK(C268)),\"\",VLOOKUP(C268,Sheet2!A:F,3,FALSE))","v":""},{"$f":"IF(OR(C268=\"\",ISBLANK(C268)),\"\",VLOOKUP(C268,Sheet2!A:G,6,FALSE))","v":""},""]
[{"$f":"IF(OR(C269=\"\",ISBLANK(C269)),\"\",VLOOKUP(C269,Sheet2!A:F,2,FALSE))","v":""},{"$f":"IF(OR(C269=\"\",ISBLANK(C269)),\"\",VLOOKUP(C269,Sheet2!A:G,4,FALSE))","v":""},null,null,{"$f":"IF(OR(C269=\"\",ISBLANK(C269)),\"\",VLOOKUP(C269,Sheet2!A:F,3,FALSE))","v":""},{"$f":"IF(OR(C269=\"\",ISBLANK(C269)),\"\",VLOOKUP(C269,Sheet2!A:G,6,FALSE))","v":""},""]
[{"$f":"IF(OR(C270=\"\",ISBLANK(C270)),\"\",VLOOKUP(C270,Sheet2!A:F,2,FALSE))","v":""},{"$f":"IF(OR(C270=\"\",ISBLANK(C270)),\"\",VLOOKUP(C270,Sheet2!A:G,4,FALSE))","v":""},null,null,{"$f":"IF(OR(C270=\"\",ISBLANK(C270)),\"\",VLOOKUP(C270,Sheet2!A:F,3,FALSE))","v":""},{"$f":"IF(OR(C270=\"\",ISBLANK(C270)),\"\",VLOOKUP(C270,Sheet2!A:G,6,FALSE))","v":""},""]
[{"$f":"IF(OR(C271=\"\",ISBLANK(C271)),\"\",VLOOKUP(C271,Sheet2!A:F,2,FALSE))","v":""},{"$f":"IF(OR(C271=\"\",ISBLANK(C271)),\"\",VLOOKUP(C271,Sheet2!A:G,4,FALSE))","v":""},null,null,{"$f":"IF(OR(C271=\"\",ISBLANK(C271)),\"\",VLOOKUP(C271,Sheet2!A:F,3,FALSE))","v":""},{"$f":"IF(OR(C271=\"\",ISBLANK(C271)),\"\",VLOOKUP(C271,Sheet2!A:G,6,FALSE))","v":""},""]
[{"$f":"IF(OR(C272=\"\",ISBLANK(C272)),\"\",VLOOKUP(C272,Sheet2!A:F,2,FALSE))","v":""},{"$f":"IF(OR(C272=\"\",ISBLANK(C272)),\"\",VLOOKUP(C272,Sheet2!A:G,4,FALSE))","v":""},null,null,{"$f":"IF(OR(C272=\"\",ISBLANK(C272)),\"\",VLOOKUP(C272,Sheet2!A:F,3,FALSE))","v":""},{"$f":"IF(OR(C272=\"\",ISBLANK(C272)),\"\",VLOOKUP(C272,Sheet2!A:G,6,FALSE))","v":""},""]
[{"$f":"IF(OR(C273=\"\",ISBLANK(C273)),\"\",VLOOKUP(C273,Sheet2!A:F,2,FALSE))","v":""},{"$f":"IF(OR(C273=\"\",ISBLANK(C273)),\"\",VLOOKUP(C273,Sheet2!A:G,4,FALSE))","v":""},null,null,{"$f":"IF(OR(C273=\"\",ISBLANK(C273)),\"\",VLOOKUP(C273,Sheet2!A:F,3,FALSE))","v":""},{"$f":"IF(OR(C273=\"\",ISBLANK(C273)),\"\",VLOOKUP(C273,Sheet2!A:G,6,FALSE))","v":""},""]
[{"$f":"IF(OR(C274=\"\",ISBLANK(C274)),\"\",VLOOKUP(C274,Sheet2!A:F,2,FALSE))","v":""},{"$f":"IF(OR(C274=\"\",ISBLANK(C274)),\"\",VLOOKUP(C274,Sheet2!A:G,4,FALSE))","v":""},null,null,{"$f":"IF(OR(C274=\"\",ISBLANK(C274)),\"\",VLOOKUP(C274,Sheet2!A:F,3,FALSE))","v":""},{"$f":"IF(OR(C274=\"\",ISBLANK(C274)),\"\",VLOOKUP(C274,Sheet2!A:G,6,FALSE))","v":""},""]
[{"$f":"IF(OR(C275=\"\",ISBLANK(C275)),\"\",VLOOKUP(C275,Sheet2!A:F,2,FALSE))","v":""},{"$f":"IF(OR(C275=\"\",ISBLANK(C275)),\"\",VLOOKUP(C275,Sheet2!A:G,4,FALSE))","v":""},null,null,{"$f":"IF(OR(C275=\"\",ISBLANK(C275)),\"\",VLOOKUP(C275,Sheet2!A:F,3,FALSE))","v":""},{"$f":"IF(OR(C275=\"\",ISBLANK(C275)),\"\",VLOOKUP(C275,Sheet2!A:G,6,FALSE))","v":""},""]
[{"$f":"IF(OR(C276=\"\",ISBLANK(C276)),\"\",VLOOKUP(C276,Sheet2!A:F,2,FALSE))","v":""},{"$f":"IF(OR(C276=\"\",ISBLANK(C276)),\"\",VLOOKUP(C276,Sheet2!A:G,4,FALSE))","v":""},null,null,{"$f":"IF(OR(C276=\"\",ISBLANK(C276)),\"\",VLOOKUP(C276,Sheet2!A:F,3,FALSE))","v":""},{"$f":"IF(OR(C276=\"\",ISBLANK(C276)),\"\",VLOOKUP(C276,Sheet2!A:G,6,FALSE))","v":""},""]
[{"$f":"IF(OR(C277=\"\",ISBLANK(C277)),\"\",VLOOKUP(C277,Sheet2!A:F,2,FALSE))","v":""},{"$f":"IF(OR(C277=\"\",ISBLANK(C277)),\"\",VLOOKUP(C277,Sheet2!A:G,4,FALSE))","v":""},null,null,{"$f":"IF(OR(C277=\"\",ISBLANK(C277)),\"\",VLOOKUP(C277,Sheet2!A:F,3,FALSE))","v":""},{"$f":"IF(OR(C277=\"\",ISBLANK(C277)),\"\",VLOOKUP(C277,Sheet2!A:G,6,FALSE))","v":""},""]
[{"$f":"IF(OR(C278=\"\",ISBLANK(C278)),\"\",VLOOKUP(C278,Sheet2!A:F,2,FALSE))","v":""},{"$f":"IF(OR(C278=\"\",ISBLANK(C278)),\"\",VLOOKUP(C278,Sheet2!A:G,4,FALSE))","v":""},null,null,{"$f":"IF(OR(C278=\"\",ISBLANK(C278)),\"\",VLOOKUP(C278,Sheet2!A:F,3,FALSE))","v":""},{"$f":"IF(OR(C278=\"\",ISBLANK(C278)),\"\",VLOOKUP(C278,Sheet2!A:G,6,FALSE))","v":""},""]
[{"$f":"IF(OR(C279=\"\",ISBLANK(C279)),\"\",VLOOKUP(C279,Sheet2!A:F,2,FALSE))","v":""},{"$f":"IF(OR(C279=\"\",ISBLANK(C279)),\"\",VLOOKUP(C279,Sheet2!A:G,4,FALSE))","v":""},null,null,{"$f":"IF(OR(C279=\"\",ISBLANK(C279)),\"\",VLOOKUP(C279,Sheet2!A:F,3,FALSE))","v":""},{"$f":"IF(OR(C279=\"\",ISBLANK(C279)),\"\",VLOOKUP(C279,Sheet2!A:G,6,FALSE))","v":""},""]
[{"$f":"IF(OR(C280=\"\",ISBLANK(C280)),\"\",VLOOKUP(C280,Sheet2!A:F,2,FALSE))","v":""},{"$f":"IF(OR(C280=\"\",ISBLANK(C280)),\"\",VLOOKUP(C280,Sheet2!A:G,4,FALSE))","v":""},null,null,{"$f":"IF(OR(C280=\"\",ISBLANK(C280)),\"\",VLOOKUP(C280,Sheet2!A:F,3,FALSE))","v":""},{"$f":"IF(OR(C280=\"\",ISBLANK(C280)),\"\",VLOOKUP(C280,Sheet2!A:G,6,FALSE))","v":""},""]
[{"$f":"IF(OR(C281=\"\",ISBLANK(C281)),\"\",VLOOKUP(C281,Sheet2!A:F,2,FALSE))","v":""},{"$f":"IF(OR(C281=\"\",ISBLANK(C281)),\"\",VLOOKUP(C281,Sheet2!A:G,4,FALSE))","v":""},null,null,{"$f":"IF(OR(C281=\"\",ISBLANK(C281)),\"\",VLOOKUP(C281,Sheet2!A:F,3,FALSE))","v":""},{"$f":"IF(OR(C281=\"\",ISBLANK(C281)),\"\",VLOOKUP(C281,Sheet2!A:G,6,FALSE))","v":""},""]
[{"$f":"IF(OR(C282=\"\",ISBLANK(C282)),\"\",VLOOKUP(C282,Sheet2!A:F,2,FALSE))","v":""},{"$f":"IF(OR(C282=\"\",ISBLANK(C282)),\"\",VLOOKUP(C282,Sheet2!A:G,4,FALSE))","v":""},null,null,{"$f":"IF(OR(C282=\"\",ISBLANK(C282)),\"\",VLOOKUP(C282,Sheet2!A:F,3,FALSE))","v":""},{"$f":"IF(OR(C282=\"\",ISBLANK(C282)),\"\",VLOOKUP(C282,Sheet2!A:G,6,FALSE))","v":""},""]
[{"$f":"IF(OR(C283=\"\",ISBLANK(C283)),\"\",VLOOKUP(C283,Sheet2!A:F,2,FALSE))","v":""},{"$f":"IF(OR(C283=\"\",ISBLANK(C283)),\"\",VLOOKUP(C283,Sheet2!A:G,4,FALSE))","v":""},null,null,{"$f":"IF(OR(C283=\"\",ISBLANK(C283)),\"\",VLOOKUP(C283,Sheet2!A:F,3,FALSE))","v":""},{"$f":"IF(OR(C283=\"\",ISBLANK(C283)),\"\",VLOOKUP(C283,Sheet2!A:G,6,FALSE))","v":""},""]
[{"$f":"IF(OR(C284=\"\",ISBLANK(C284)),\"\",VLOOKUP(C284,Sheet2!A:F,2,FALSE))","v":""},{"$f":"IF(OR(C284=\"\",ISBLANK(C284)),\"\",VLOOKUP(C284,Sheet2!A:G,4,FALSE))","v":""},null,null,{"$f":"IF(OR(C284=\"\",ISBLANK(C284)),\"\",VLOOKUP(C284,Sheet2!A:F,3,FALSE))","v":""},{"$f":"IF(OR(C284=\"\",ISBLANK(C284)),\"\",VLOOKUP(C284,Sheet2!A:G,6,FALSE))","v":""},""]
[{"$f":"IF(OR(C285=\"\",ISBLANK(C285)),\"\",VLOOKUP(C285,Sheet2!A:F,2,FALSE))","v":""},{"$f":"IF(OR(C285=\"\",ISBLANK(C285)),\"\",VLOOKUP(C285,Sheet2!A:G,4,FALSE))","v":""},null,null,{"$f":"IF(OR(C285=\"\",ISBLANK(C285)),\"\",VLOOKUP(C285,Sheet2!A:F,3,FALSE))","v":""},{"$f":"IF(OR(C285=\"\",ISBLANK(C285)),\"\",VLOOKUP(C285,Sheet2!A:G,6,FALSE))","v":""},""]
[{"$f":"IF(OR(C286=\"\",ISBLANK(C286)),\"\",VLOOKUP(C286,Sheet2!A:F,2,FALSE))","v":""},{"$f":"IF(OR(C286=\"\",ISBLANK(C286)),\"\",VLOOKUP(C286,Sheet2!A:G,4,FALSE))","v":""},null,null,{"$f":"IF(OR(C286=\"\",ISBLANK(C286)),\"\",VLOOKUP(C286,Sheet2!A:F,3,FALSE))","v":""},{"$f":"IF(OR(C286=\"\",ISBLANK(C286)),\"\",VLOOKUP(C286,Sheet2!A:G,6,FALSE))","v":""},""]
[{"$f":"IF(OR(C287=\"\",ISBLANK(C287)),\"\",VLOOKUP(C287,Sheet2!A:F,2,FALSE))","v":""},{"$f":"IF(OR(C287=\"\",ISBLANK(C287)),\"\",VLOOKUP(C287,Sheet2!A:G,4,FALSE))","v":""},null,null,{"$f":"IF(OR(C287=\"\",ISBLANK(C287)),\"\",VLOOKUP(C287,Sheet2!A:F,3,FALSE))","v":""},{"$f":"IF(OR(C287=\"\",ISBLANK(C287)),\"\",VLOOKUP(C287,Sheet2!A:G,6,FALSE))","v":""},""]
[{"$f":"IF(OR(C288=\"\",ISBLANK(C288)),\"\",VLOOKUP(C288,Sheet2!A:F,2,FALSE))","v":""},{"$f":"IF(OR(C288=\"\",ISBLANK(C288)),\"\",VLOOKUP(C288,Sheet2!A:G,4,FALSE))","v":""},null,null,{"$f":"IF(OR(C288=\"\",ISBLANK(C288)),\"\",VLOOKUP(C288,Sheet2!A:F,3,FALSE))","v":""},{"$f":"IF(OR(C288=\"\",ISBLANK(C288)),\"\",VLOOKUP(C288,Sheet2!A:G,6,FALSE))","v":""},""]
[{"$f":"IF(OR(C289=\"\",ISBLANK(C289)),\"\",VLOOKUP(C289,Sheet2!A:F,2,FALSE))","v":""},{"$f":"IF(OR(C289=\"\",ISBLANK(C289)),\"\",VLOOKUP(C289,Sheet2!A:G,4,FALSE))","v":""},null,null,{"$f":"IF(OR(C289=\"\",ISBLANK(C289)),\"\",VLOOKUP(C289,Sheet2!A:F,3,FALSE))","v":""},{"$f":"IF(OR(C289=\"\",ISBLANK(C289)),\"\",VLOOKUP(C289,Sheet2!A:G,6,FALSE))","v":""},""]
[{"$f":"IF(OR(C290=\"\",ISBLANK(C290)),\"\",VLOOKUP(C290,Sheet2!A:F,2,FALSE))","v":""},{"$f":"IF(OR(C290=\"\",ISBLANK(C290)),\"\",VLOOKUP(C290,Sheet2!A:G,4,FALSE))","v":""},null,null,{"$f":"IF(OR(C290=\"\",ISBLANK(C290)),\"\",VLOOKUP(C290,Sheet2!A:F,3,FALSE))","v":""},{"$f":"IF(OR(C290=\"\",ISBLANK(C290)),\"\",VLOOKUP(C290,Sheet2!A:G,6,FALSE))","v":""},""]
[{"$f":"IF(OR(C291=\"\",ISBLANK(C291)),\"\",VLOOKUP(C291,Sheet2!A:F,2,FALSE))","v":""},{"$f":"IF(OR(C291=\"\",ISBLANK(C291)),\"\",VLOOKUP(C291,Sheet2!A:G,4,FALSE))","v":""},null,null,{"$f":"IF(OR(C291=\"\",ISBLANK(C291)),\"\",VLOOKUP(C291,Sheet2!A:F,3,FALSE))","v":""},{"$f":"IF(OR(C291=\"\",ISBLANK(C291)),\"\",VLOOKUP(C291,Sheet2!A:G,6,FALSE))","v":""},""]
[{"$f":"IF(OR(C292=\"\",ISBLANK(C292)),\"\",VLOOKUP(C292,Sheet2!A:F,2,FALSE))","v":""},{"$f":"IF(OR(C292=\"\",ISBLANK(C292)),\"\",VLOOKUP(C292,Sheet2!A:G,4,FALSE))","v":""},null,null,{"$f":"IF(OR(C292=\"\",ISBLANK(C292)),\"\",VLOOKUP(C292,Sheet2!A:F,3,FALSE))","v":""},{"$f":"IF(OR(C292=\"\",ISBLANK(C292)),\"\",VLOOKUP(C292,Sheet2!A:G,6,FALSE))","v":""},""]
[{"$f":"IF(OR(C293=\"\",ISBLANK(C293)),\"\",VLOOKUP(C293,Sheet2!A:F,2,FALSE))","v":""},{"$f":"IF(OR(C293=\"\",ISBLANK(C293)),\"\",VLOOKUP(C293,Sheet2!A:G,4,FALSE))","v":""},null,null,{"$f":"IF(OR(C293=\"\",ISBLANK(C293)),\"\",VLOOKUP(C293,Sheet2!A:F,3,FALSE))","v":""},{"$f":"IF(OR(C293=\"\",ISBLANK(C293)),\"\",VLOOKUP(C293,Sheet2!A:G,6,FALSE))","v":""},""]
[{"$f":"IF(OR(C294=\"\",ISBLANK(C294)),\"\",VLOOKUP(C294,Sheet2!A:F,2,FALSE))","v":""},{"$f":"IF(OR(C294=\"\",ISBLANK(C294)),\"\",VLOOKUP(C294,Sheet2!A:G,4,FALSE))","v":""},null,null,{"$f":"IF(OR(C294=\"\",ISBLANK(C294)),\"\",VLOOKUP(C294,Sheet2!A:F,3,FALSE))","v":""},{"$f":"IF(OR(C294=\"\",ISBLANK(C294)),\"\",VLOOKUP(C294,Sheet2!A:G,6,FALSE))","v":""},""]
[{"$f":"IF(OR(C295=\"\",ISBLANK(C295)),\"\",VLOOKUP(C295,Sheet2!A:F,2,FALSE))","v":""},{"$f":"IF(OR(C295=\"\",ISBLANK(C295)),\"\",VLOOKUP(C295,Sheet2!A:G,4,FALSE))","v":""},null,null,{"$f":"IF(OR(C295=\"\",ISBLANK(C295)),\"\",VLOOKUP(C295,Sheet2!A:F,3,FALSE))","v":""},{"$f":"IF(OR(C295=\"\",ISBLANK(C295)),\"\",VLOOKUP(C295,Sheet2!A:G,6,FALSE))","v":""},""]
[{"$f":"IF(OR(C296=\"\",ISBLANK(C296)),\"\",VLOOKUP(C296,Sheet2!A:F,2,FALSE))","v":""},{"$f":"IF(OR(C296=\"\",ISBLANK(C296)),\"\",VLOOKUP(C296,Sheet2!A:G,4,FALSE))","v":""},null,null,{"$f":"IF(OR(C296=\"\",ISBLANK(C296)),\"\",VLOOKUP(C296,Sheet2!A:F,3,FALSE))","v":""},{"$f":"IF(OR(C296=\"\",ISBLANK(C296)),\"\",VLOOKUP(C296,Sheet2!A:G,6,FALSE))","v":""},""]
[{"$f":"IF(OR(C297=\"\",ISBLANK(C297)),\"\",VLOOKUP(C297,Sheet2!A:F,2,FALSE))","v":""},{"$f":"IF(OR(C297=\"\",ISBLANK(C297)),\"\",VLOOKUP(C297,Sheet2!A:G,4,FALSE))","v":""},null,null,{"$f":"IF(OR(C297=\"\",ISBLANK(C297)),\"\",VLOOKUP(C297,Sheet2!A:F,3,FALSE))","v":""},{"$f":"IF(OR(C297=\"\",ISBLANK(C297)),\"\",VLOOKUP(C297,Sheet2!A:G,6,FALSE))","v":""},""]
[{"$f":"IF(OR(C298=\"\",ISBLANK(C298)),\"\",VLOOKUP(C298,Sheet2!A:F,2,FALSE))","v":""},{"$f":"IF(OR(C298=\"\",ISBLANK(C298)),\"\",VLOOKUP(C298,Sheet2!A:G,4,FALSE))","v":""},null,null,{"$f":"IF(OR(C298=\"\",ISBLANK(C298)),\"\",VLOOKUP(C298,Sheet2!A:F,3,FALSE))","v":""},{"$f":"IF(OR(C298=\"\",ISBLANK(C298)),\"\",VLOOKUP(C298,Sheet2!A:G,6,FALSE))","v":""},""]
[{"$f":"IF(OR(C299=\"\",ISBLANK(C299)),\"\",VLOOKUP(C299,Sheet2!A:F,2,FALSE))","v":""},{"$f":"IF(OR(C299=\"\",ISBLANK(C299)),\"\",VLOOKUP(C299,Sheet2!A:G,4,FALSE))","v":""},null,null,{"$f":"IF(OR(C299=\"\",ISBLANK(C299)),\"\",VLOOKUP(C299,Sheet2!A:F,3,FALSE))","v":""},{"$f":"IF(OR(C299=\"\",ISBLANK(C299)),\"\",VLOOKUP(C299,Sheet2!A:G,6,FALSE))","v":""},""]
[{"$f":"IF(OR(C300=\"\",ISBLANK(C300)),\"\",VLOOKUP(C300,Sheet2!A:F,2,FALSE))","v":""},{"$f":"IF(OR(C300=\"\",ISBLANK(C300)),\"\",VLOOKUP(C300,Sheet2!A:G,4,FALSE))","v":""},null,null,{"$f":"IF(OR(C300=\"\",ISBLANK(C300)),\"\",VLOOKUP(C300,Sheet2!A:F,3,FALSE))","v":""},{"$f":"IF(OR(C300=\"\",ISBLANK(C300)),\"\",VLOOKUP(C300,Sheet2!A:G,6,FALSE))","v":""},""]
[{"$f":"IF(OR(C301=\"\",ISBLANK(C301)),\"\",VLOOKUP(C301,Sheet2!A:F,2,FALSE))","v":""},{"$f":"IF(OR(C301=\"\",ISBLANK(C301)),\"\",VLOOKUP(C301,Sheet2!A:G,4,FALSE))","v":""},null,null,{"$f":"IF(OR(C301=\"\",ISBLANK(C301)),\"\",VLOOKUP(C301,Sheet2!A:F,3,FALSE))","v":""},{"$f":"IF(OR(C301=\"\",ISBLANK(C301)),\"\",VLOOKUP(C301,Sheet2!A:G,6,FALSE))","v":""},""]
[{"$f":"IF(OR(C302=\"\",ISBLANK(C302)),\"\",VLOOKUP(C302,Sheet2!A:F,2,FALSE))","v":""},{"$f":"IF(OR(C302=\"\",ISBLANK(C302)),\"\",VLOOKUP(C302,Sheet2!A:G,4,FALSE))","v":""},null,null,{"$f":"IF(OR(C302=\"\",ISBLANK(C302)),\"\",VLOOKUP(C302,Sheet2!A:F,3,FALSE))","v":""},{"$f":"IF(OR(C302=\"\",ISBLANK(C302)),\"\",VLOOKUP(C302,Sheet2!A:G,6,FALSE))","v":""},""]
[{"$f":"IF(OR(C303=\"\",ISBLANK(C303)),\"\",VLOOKUP(C303,Sheet2!A:F,2,FALSE))","v":""},{"$f":"IF(OR(C303=\"\",ISBLANK(C303)),\"\",VLOOKUP(C303,Sheet2!A:G,4,FALSE))","v":""},null,null,{"$f":"IF(OR(C303=\"\",ISBLANK(C303)),\"\",VLOOKUP(C303,Sheet2!A:F,3,FALSE))","v":""},{"$f":"IF(OR(C303=\"\",ISBLANK(C303)),\"\",VLOOKUP(C303,Sheet2!A:G,6,FALSE))","v":""},""]
[{"$f":"IF(OR(C304=\"\",ISBLANK(C304)),\"\",VLOOKUP(C304,Sheet2!A:F,2,FALSE))","v":""},{"$f":"IF(OR(C304=\"\",ISBLANK(C304)),\"\",VLOOKUP(C304,Sheet2!A:G,4,FALSE))","v":""},null,null,{"$f":"IF(OR(C304=\"\",ISBLANK(C304)),\"\",VLOOKUP(C304,Sheet2!A:F,3,FALSE))","v":""},{"$f":"IF(OR(C304=\"\",ISBLANK(C304)),\"\",VLOOKUP(C304,Sheet2!A:G,6,FALSE))","v":""},""]
[{"$f":"IF(OR(C305=\"\",ISBLANK(C305)),\"\",VLOOKUP(C305,Sheet2!A:F,2,FALSE))","v":""},{"$f":"IF(OR(C305=\"\",ISBLANK(C305)),\"\",VLOOKUP(C305,Sheet2!A:G,4,FALSE))","v":""},null,null,{"$f":"IF(OR(C305=\"\",ISBLANK(C305)),\"\",VLOOKUP(C305,Sheet2!A:F,3,FALSE))","v":""},{"$f":"IF(OR(C305=\"\",ISBLANK(C305)),\"\",VLOOKUP(C305,Sheet2!A:G,6,FALSE))","v":""},""]
[{"$f":"IF(OR(C306=\"\",ISBLANK(C306)),\"\",VLOOKUP(C306,Sheet2!A:F,2,FALSE))","v":""},{"$f":"IF(OR(C306=\"\",ISBLANK(C306)),\"\",VLOOKUP(C306,Sheet2!A:G,4,FALSE))","v":""},null,null,{"$f":"IF(OR(C306=\"\",ISBLANK(C306)),\"\",VLOOKUP(C306,Sheet2!A:F,3,FALSE))","v":""},{"$f":"IF(OR(C306=\"\",ISBLANK(C306)),\"\",VLOOKUP(C306,Sheet2!A:G,6,FALSE))","v":""},""]
[{"$f":"IF(OR(C307=\"\",ISBLANK(C307)),\"\",VLOOKUP(C307,Sheet2!A:F,2,FALSE))","v":""},{"$f":"IF(OR(C307=\"\",ISBLANK(C307)),\"\",VLOOKUP(C307,Sheet2!A:G,4,FALSE))","v":""},null,null,{"$f":"IF(OR(C307=\"\",ISBLANK(C307)),\"\",VLOOKUP(C307,Sheet2!A:F,3,FALSE))","v":""},{"$f":"IF(OR(C307=\"\",ISBLANK(C307)),\"\",VLOOKUP(C307,Sheet2!A:G,6,FALSE))","v":""},""]
[{"$f":"IF(OR(C308=\"\",ISBLANK(C308)),\"\",VLOOKUP(C308,Sheet2!A:F,2,FALSE))","v":""},{"$f":"IF(OR(C308=\"\",ISBLANK(C308)),\"\",VLOOKUP(C308,Sheet2!A:G,4,FALSE))","v":""},null,null,{"$f":"IF(OR(C308=\"\",ISBLANK(C308)),\"\",VLOOKUP(C308,Sheet2!A:F,3,FALSE))","v":""},{"$f":"IF(OR(C308=\"\",ISBLANK(C308)),\"\",VLOOKUP(C308,Sheet2!A:G,6,FALSE))","v":""},""]
[{"$f":"IF(OR(C309=\"\",ISBLANK(C309)),\"\",VLOOKUP(C309,Sheet2!A:F,2,FALSE))","v":""},{"$f":"IF(OR(C309=\"\",ISBLANK(C309)),\"\",VLOOKUP(C309,Sheet2!A:G,4,FALSE))","v":""},null,null,{"$f":"IF(OR(C309=\"\",ISBLANK(C309)),\"\",VLOOKUP(C309,Sheet2!A:F,3,FALSE))","v":""},{"$f":"IF(OR(C309=\"\",ISBLANK(C309)),\"\",VLOOKUP(C309,Sheet2!A:G,6,FALSE))","v":""},""]
[{"$f":"IF(OR(C310=\"\",ISBLANK(C310)),\"\",VLOOKUP(C310,Sheet2!A:F,2,FALSE))","v":""},{"$f":"IF(OR(C310=\"\",ISBLANK(C310)),\"\",VLOOKUP(C310,Sheet2!A:G,4,FALSE))","v":""},null,null,{"$f":"IF(OR(C310=\"\",ISBLANK(C310)),\"\",VLOOKUP(C310,Sheet2!A:F,3,FALSE))","v":""},{"$f":"IF(OR(C310=\"\",ISBLANK(C310)),\"\",VLOOKUP(C310,Sheet2!A:G,6,FALSE))","v":""},""]
[{"$f":"IF(OR(C311=\"\",ISBLANK(C311)),\"\",VLOOKUP(C311,Sheet2!A:F,2,FALSE))","v":""},{"$f":"IF(OR(C311=\"\",ISBLANK(C311)),\"\",VLOOKUP(C311,Sheet2!A:G,4,FALSE))","v":""},null,null,{"$f":"IF(OR(C311=\"\",ISBLANK(C311)),\"\",VLOOKUP(C311,Sheet2!A:F,3,FALSE))","v":""},{"$f":"IF(OR(C311=\"\",ISBLANK(C311)),\"\",VLOOKUP(C311,Sheet2!A:G,6,FALSE))","v":""},""]
[{"$f":"IF(OR(C312=\"\",ISBLANK(C312)),\"\",VLOOKUP(C312,Sheet2!A:F,2,FALSE))","v":""},{"$f":"IF(OR(C312=\"\",ISBLANK(C312)),\"\",VLOOKUP(C312,Sheet2!A:G,4,FALSE))","v":""},null,null,{"$f":"IF(OR(C312=\"\",ISBLANK(C312)),\"\",VLOOKUP(C312,Sheet2!A:F,3,FALSE))","v":""},{"$f":"IF(OR(C312=\"\",ISBLANK(C312)),\"\",VLOOKUP(C312,Sheet2!A:G,6,FALSE))","v":""},""]
[{"$f":"IF(OR(C313=\"\",ISBLANK(C313)),\"\",VLOOKUP(C313,Sheet2!A:F,2,FALSE))","v":""},{"$f":"IF(OR(C313=\"\",ISBLANK(C313)),\"\",VLOOKUP(C313,Sheet2!A:G,4,FALSE))","v":""},null,null,{"$f":"IF(OR(C313=\"\",ISBLANK(C313)),\"\",VLOOKUP(C313,Sheet2!A:F,3,FALSE))","v":""},{"$f":"IF(OR(C313=\"\",ISBLANK(C313)),\"\",VLOOKUP(C313,Sheet2!A:G,6,FALSE))","v":""},""]
[{"$f":"IF(OR(C314=\"\",ISBLANK(C314)),\"\",VLOOKUP(C314,Sheet2!A:F,2,FALSE))","v":""},{"$f":"IF(OR(C314=\"\",ISBLANK(C314)),\"\",VLOOKUP(C314,Sheet2!A:G,4,FALSE))","v":""},null,null,{"$f":"IF(OR(C314=\"\",ISBLANK(C314)),\"\",VLOOKUP(C314,Sheet2!A:F,3,FALSE))","v":""},{"$f":"IF(OR(C314=\"\",ISBLANK(C314)),\"\",VLOOKUP(C314,Sheet2!A:G,6,FALSE))","v":""},""]
[{"$f":"IF(OR(C315=\"\",ISBLANK(C315)),\"\",VLOOKUP(C315,Sheet2!A:F,2,FALSE))","v":""},{"$f":"IF(OR(C315=\"\",ISBLANK(C315)),\"\",VLOOKUP(C315,Sheet2!A:G,4,FALSE))","v":""},null,null,{"$f":"IF(OR(C315=\"\",ISBLANK(C315)),\"\",VLOOKUP(C315,Sheet2!A:F,3,FALSE))","v":""},{"$f":"IF(OR(C315=\"\",ISBLANK(C315)),\"\",VLOOKUP(C315,Sheet2!A:G,6,FALSE))","v":""},""]
[{"$f":"IF(OR(C316=\"\",ISBLANK(C316)),\"\",VLOOKUP(C316,Sheet2!A:F,2,FALSE))","v":""},{"$f":"IF(OR(C316=\"\",ISBLANK(C316)),\"\",VLOOKUP(C316,Sheet2!A:G,4,FALSE))","v":""},null,null,{"$f":"IF(OR(C316=\"\",ISBLANK(C316)),\"\",VLOOKUP(C316,Sheet2!A:F,3,FALSE))","v":""},{"$f":"IF(OR(C316=\"\",ISBLANK(C316)),\"\",VLOOKUP(C316,Sheet2!A:G,6,FALSE))","v":""},""]
[{"$f":"IF(OR(C317=\"\",ISBLANK(C317)),\"\",VLOOKUP(C317,Sheet2!A:F,2,FALSE))","v":""},{"$f":"IF(OR(C317=\"\",ISBLANK(C317)),\"\",VLOOKUP(C317,Sheet2!A:G,4,FALSE))","v":""},null,null,{"$f":"IF(OR(C317=\"\",ISBLANK(C317)),\"\",VLOOKUP(C317,Sheet2!A:F,3,FALSE))","v":""},{"$f":"IF(OR(C317=\"\",ISBLANK(C317)),\"\",VLOOKUP(C317,Sheet2!A:G,6,FALSE))","v":""},""]
[{"$f":"IF(OR(C318=\"\",ISBLANK(C318)),\"\",VLOOKUP(C318,Sheet2!A:F,2,FALSE))","v":""},{"$f":"IF(OR(C318=\"\",ISBLANK(C318)),\"\",VLOOKUP(C318,Sheet2!A:G,4,FALSE))","v":""},null,null,{"$f":"IF(OR(C318=\"\",ISBLANK(C318)),\"\",VLOOKUP(C318,Sheet2!A:F,3,FALSE))","v":""},{"$f":"IF(OR(C318=\"\",ISBLANK(C318)),\"\",VLOOKUP(C318,Sheet2!A:G,6,FALSE))","v":""},""]
[{"$f":"IF(OR(C319=\"\",ISBLANK(C319)),\"\",VLOOKUP(C319,Sheet2!A:F,2,FALSE))","v":""},{"$f":"IF(OR(C319=\"\",ISBLANK(C319)),\"\",VLOOKUP(C319,Sheet2!A:G,4,FALSE))","v":""},null,null,{"$f":"IF(OR(C319=\"\",ISBLANK(C319)),\"\",VLOOKUP(C319,Sheet2!A:F,3,FALSE))","v":""},{"$f":"IF(OR(C319=\"\",ISBLANK(C319)),\"\",VLOOKUP(C319,Sheet2!A:G,6,FALSE))","v":""},""]
[{"$f":"IF(OR(C320=\"\",ISBLANK(C320)),\"\",VLOOKUP(C320,Sheet2!A:F,2,FALSE))","v":""},{"$f":"IF(OR(C320=\"\",ISBLANK(C320)),\"\",VLOOKUP(C320,Sheet2!A:G,4,FALSE))","v":""},null,null,{"$f":"IF(OR(C320=\"\",ISBLANK(C320)),\"\",VLOOKUP(C320,Sheet2!A:F,3,FALSE))","v":""},{"$f":"IF(OR(C320=\"\",ISBLANK(C320)),\"\",VLOOKUP(C320,Sheet2!A:G,6,FALSE))","v":""},""]
[{"$f":"IF(OR(C321=\"\",ISBLANK(C321)),\"\",VLOOKUP(C321,Sheet2!A:F,2,FALSE))","v":""},{"$f":"IF(OR(C321=\"\",ISBLANK(C321)),\"\",VLOOKUP(C321,Sheet2!A:G,4,FALSE))","v":""},null,null,{"$f":"IF(OR(C321=\"\",ISBLANK(C321)),\"\",VLOOKUP(C321,Sheet2!A:F,3,FALSE))","v":""},{"$f":"IF(OR(C321=\"\",ISBLANK(C321)),\"\",VLOOKUP(C321,Sheet2!A:G,6,FALSE))","v":""},""]
[{"$f":"IF(OR(C322=\"\",ISBLANK(C322)),\"\",VLOOKUP(C322,Sheet2!A:F,2,FALSE))","v":""},{"$f":"IF(OR(C322=\"\",ISBLANK(C322)),\"\",VLOOKUP(C322,Sheet2!A:G,4,FALSE))","v":""},null,null,{"$f":"IF(OR(C322=\"\",ISBLANK(C322)),\"\",VLOOKUP(C322,Sheet2!A:F,3,FALSE))","v":""},{"$f":"IF(OR(C322=\"\",ISBLANK(C322)),\"\",VLOOKUP(C322,Sheet2!A:G,6,FALSE))","v":""},""]
[{"$f":"IF(OR(C323=\"\",ISBLANK(C323)),\"\",VLOOKUP(C323,Sheet2!A:F,2,FALSE))","v":""},{"$f":"IF(OR(C323=\"\",ISBLANK(C323)),\"\",VLOOKUP(C323,Sheet2!A:G,4,FALSE))","v":""},null,null,{"$f":"IF(OR(C323=\"\",ISBLANK(C323)),\"\",VLOOKUP(C323,Sheet2!A:F,3,FALSE))","v":""},{"$f":"IF(OR(C323=\"\",ISBLANK(C323)),\"\",VLOOKUP(C323,Sheet2!A:G,6,FALSE))","v":""},{"$f":"IF(F323=0,\"\",F323)","v":""}]
[{"$f":"IF(OR(C324=\"\",ISBLANK(C324)),\"\",VLOOKUP(C324,Sheet2!A:F,2,FALSE))","v":""},{"$f":"IF(OR(C324=\"\",ISBLANK(C324)),\"\",VLOOKUP(C324,Sheet2!A:G,4,FALSE))","v":""},null,null,{"$f":"IF(OR(C324=\"\",ISBLANK(C324)),\"\",VLOOKUP(C324,Sheet2!A:F,3,FALSE))","v":""},{"$f":"IF(OR(C324=\"\",ISBLANK(C324)),\"\",VLOOKUP(C324,Sheet2!A:G,6,FALSE))","v":""},""]
[{"$f":"IF(OR(C325=\"\",ISBLANK(C325)),\"\",VLOOKUP(C325,Sheet2!A:F,2,FALSE))","v":""},{"$f":"IF(OR(C325=\"\",ISBLANK(C325)),\"\",VLOOKUP(C325,Sheet2!A:G,4,FALSE))","v":""},null,null,{"$f":"IF(OR(C325=\"\",ISBLANK(C325)),\"\",VLOOKUP(C325,Sheet2!A:F,3,FALSE))","v":""},{"$f":"IF(OR(C325=\"\",ISBLANK(C325)),\"\",VLOOKUP(C325,Sheet2!A:G,6,FALSE))","v":""},""]
[{"$f":"IF(OR(C326=\"\",ISBLANK(C326)),\"\",VLOOKUP(C326,Sheet2!A:F,2,FALSE))","v":""},{"$f":"IF(OR(C326=\"\",ISBLANK(C326)),\"\",VLOOKUP(C326,Sheet2!A:G,4,FALSE))","v":""},null,null,{"$f":"IF(OR(C326=\"\",ISBLANK(C326)),\"\",VLOOKUP(C326,Sheet2!A:F,3,FALSE))","v":""},{"$f":"IF(OR(C326=\"\",ISBLANK(C326)),\"\",VLOOKUP(C326,Sheet2!A:G,6,FALSE))","v":""},""]
[{"$f":"IF(OR(C327=\"\",ISBLANK(C327)),\"\",VLOOKUP(C327,Sheet2!A:F,2,FALSE))","v":""},{"$f":"IF(OR(C327=\"\",ISBLANK(C327)),\"\",VLOOKUP(C327,Sheet2!A:G,4,FALSE))","v":""},null,null,{"$f":"IF(OR(C327=\"\",ISBLANK(C327)),\"\",VLOOKUP(C327,Sheet2!A:F,3,FALSE))","v":""},{"$f":"IF(OR(C327=\"\",ISBLANK(C327)),\"\",VLOOKUP(C327,Sheet2!A:G,6,FALSE))","v":""},""]
[{"$f":"IF(OR(C328=\"\",ISBLANK(C328)),\"\",VLOOKUP(C328,Sheet2!A:F,2,FALSE))","v":""},{"$f":"IF(OR(C328=\"\",ISBLANK(C328)),\"\",VLOOKUP(C328,Sheet2!A:G,4,FALSE))","v":""},null,null,{"$f":"IF(OR(C328=\"\",ISBLANK(C328)),\"\",VLOOKUP(C328,Sheet2!A:F,3,FALSE))","v":""},{"$f":"IF(OR(C328=\"\",ISBLANK(C328)),\"\",VLOOKUP(C328,Sheet2!A:G,6,FALSE))","v":""},""]
[{"$f":"IF(OR(C329=\"\",ISBLANK(C329)),\"\",VLOOKUP(C329,Sheet2!A:F,2,FALSE))","v":""},{"$f":"IF(OR(C329=\"\",ISBLANK(C329)),\"\",VLOOKUP(C329,Sheet2!A:G,4,FALSE))","v":""},null,null,{"$f":"IF(OR(C329=\"\",ISBLANK(C329)),\"\",VLOOKUP(C329,Sheet2!A:F,3,FALSE))","v":""},{"$f":"IF(OR(C329=\"\",ISBLANK(C329)),\"\",VLOOKUP(C329,Sheet2!A:G,6,FALSE))","v":""},""]
[{"$f":"IF(OR(C330=\"\",ISBLANK(C330)),\"\",VLOOKUP(C330,Sheet2!A:F,2,FALSE))","v":""},{"$f":"IF(OR(C330=\"\",ISBLANK(C330)),\"\",VLOOKUP(C330,Sheet2!A:G,4,FALSE))","v":""},null,null,{"$f":"IF(OR(C330=\"\",ISBLANK(C330)),\"\",VLOOKUP(C330,Sheet2!A:F,3,FALSE))","v":""},{"$f":"IF(OR(C330=\"\",ISBLANK(C330)),\"\",VLOOKUP(C330,Sheet2!A:G,6,FALSE))","v":""},""]
[{"$f":"IF(OR(C331=\"\",ISBLANK(C331)),\"\",VLOOKUP(C331,Sheet2!A:F,2,FALSE))","v":""},{"$f":"IF(OR(C331=\"\",ISBLANK(C331)),\"\",VLOOKUP(C331,Sheet2!A:G,4,FALSE))","v":""},null,null,{"$f":"IF(OR(C331=\"\",ISBLANK(C331)),\"\",VLOOKUP(C331,Sheet2!A:F,3,FALSE))","v":""},{"$f":"IF(OR(C331=\"\",ISBLANK(C331)),\"\",VLOOKUP(C331,Sheet2!A:G,6,FALSE))","v":""},""]
[{"$f":"IF(OR(C332=\"\",ISBLANK(C332)),\"\",VLOOKUP(C332,Sheet2!A:F,2,FALSE))","v":""},{"$f":"IF(OR(C332=\"\",ISBLANK(C332)),\"\",VLOOKUP(C332,Sheet2!A:G,4,FALSE))","v":""},null,null,{"$f":"IF(OR(C332=\"\",ISBLANK(C332)),\"\",VLOOKUP(C332,Sheet2!A:F,3,FALSE))","v":""},{"$f":"IF(OR(C332=\"\",ISBLANK(C332)),\"\",VLOOKUP(C332,Sheet2!A:G,6,FALSE))","v":""},""]
[{"$f":"IF(OR(C333=\"\",ISBLANK(C333)),\"\",VLOOKUP(C333,Sheet2!A:F,2,FALSE))","v":""},{"$f":"IF(OR(C333=\"\",ISBLANK(C333)),\"\",VLOOKUP(C333,Sheet2!A:G,4,FALSE))","v":""},null,null,{"$f":"IF(OR(C333=\"\",ISBLANK(C333)),\"\",VLOOKUP(C333,Sheet2!A:F,3,FALSE))","v":""},{"$f":"IF(OR(C333=\"\",ISBLANK(C333)),\"\",VLOOKUP(C333,Sheet2!A:G,6,FALSE))","v":""},""]
[{"$f":"IF(OR(C334=\"\",ISBLANK(C334)),\"\",VLOOKUP(C334,Sheet2!A:F,2,FALSE))","v":""},{"$f":"IF(OR(C334=\"\",ISBLANK(C334)),\"\",VLOOKUP(C334,Sheet2!A:G,4,FALSE))","v":""},null,null,{"$f":"IF(OR(C334=\"\",ISBLANK(C334)),\"\",VLOOKUP(C334,Sheet2!A:F,3,FALSE))","v":""},{"$f":"IF(OR(C334=\"\",ISBLANK(C334)),\"\",VLOOKUP(C334,Sheet2!A:G,6,FALSE))","v":""},""]
[{"$f":"IF(OR(C335=\"\",ISBLANK(C335)),\"\",VLOOKUP(C335,Sheet2!A:F,2,FALSE))","v":""},{"$f":"IF(OR(C335=\"\",ISBLANK(C335)),\"\",VLOOKUP(C335,Sheet2!A:G,4,FALSE))","v":""},null,null,{"$f":"IF(OR(C335=\"\",ISBLANK(C335)),\"\",VLOOKUP(C335,Sheet2!A:F,3,FALSE))","v":""},{"$f":"IF(OR(C335=\"\",ISBLANK(C335)),\"\",VLOOKUP(C335,Sheet2!A:G,6,FALSE))","v":""},""]
[{"$f":"IF(OR(C336=\"\",ISBLANK(C336)),\"\",VLOOKUP(C336,Sheet2!A:F,2,FALSE))","v":""},{"$f":"IF(OR(C336=\"\",ISBLANK(C336)),\"\",VLOOKUP(C336,Sheet2!A:G,4,FALSE))","v":""},null,null,{"$f":"IF(OR(C336=\"\",ISBLANK(C336)),\"\",VLOOKUP(C336,Sheet2!A:F,3,FALSE))","v":""},{"$f":"IF(OR(C336=\"\",ISBLANK(C336)),\"\",VLOOKUP(C336,Sheet2!A:G,6,FALSE))","v":""},""]
[{"$f":"IF(OR(C337=\"\",ISBLANK(C337)),\"\",VLOOKUP(C337,Sheet2!A:F,2,FALSE))","v":""},{"$f":"IF(OR(C337=\"\",ISBLANK(C337)),\"\",VLOOKUP(C337,Sheet2!A:G,4,FALSE))","v":""},null,null,{"$f":"IF(OR(C337=\"\",ISBLANK(C337)),\"\",VLOOKUP(C337,Sheet2!A:F,3,FALSE))","v":""},{"$f":"IF(OR(C337=\"\",ISBLANK(C337)),\"\",VLOOKUP(C337,Sheet2!A:G,6,FALSE))","v":""},""]
[{"$f":"IF(OR(C338=\"\",ISBLANK(C338)),\"\",VLOOKUP(C338,Sheet2!A:F,2,FALSE))","v":""},{"$f":"IF(OR(C338=\"\",ISBLANK(C338)),\"\",VLOOKUP(C338,Sheet2!A:G,4,FALSE))","v":""},null,null,{"$f":"IF(OR(C338=\"\",ISBLANK(C338)),\"\",VLOOKUP(C338,Sheet2!A:F,3,FALSE))","v":""},{"$f":"IF(OR(C338=\"\",ISBLANK(C338)),\"\",VLOOKUP(C338,Sheet2!A:G,6,FALSE))","v":""},""]
[{"$f":"IF(OR(C339=\"\",ISBLANK(C339)),\"\",VLOOKUP(C339,Sheet2!A:F,2,FALSE))","v":""},{"$f":"IF(OR(C339=\"\",ISBLANK(C339)),\"\",VLOOKUP(C339,Sheet2!A:G,4,FALSE))","v":""},null,null,{"$f":"IF(OR(C339=\"\",ISBLANK(C339)),\"\",VLOOKUP(C339,Sheet2!A:F,3,FALSE))","v":""},{"$f":"IF(OR(C339=\"\",ISBLANK(C339)),\"\",VLOOKUP(C339,Sheet2!A:G,6,FALSE))","v":""},""]
[{"$f":"IF(OR(C340=\"\",ISBLANK(C340)),\"\",VLOOKUP(C340,Sheet2!A:F,2,FALSE))","v":""},{"$f":"IF(OR(C340=\"\",ISBLANK(C340)),\"\",VLOOKUP(C340,Sheet2!A:G,4,FALSE))","v":""},null,null,{"$f":"IF(OR(C340=\"\",ISBLANK(C340)),\"\",VLOOKUP(C340,Sheet2!A:F,3,FALSE))","v":""},{"$f":"IF(OR(C340=\"\",ISBLANK(C340)),\"\",VLOOKUP(C340,Sheet2!A:G,6,FALSE))","v":""},""]
[{"$f":"IF(OR(C341=\"\",ISBLANK(C341)),\"\",VLOOKUP(C341,Sheet2!A:F,2,FALSE))","v":""},{"$f":"IF(OR(C341=\"\",ISBLANK(C341)),\"\",VLOOKUP(C341,Sheet2!A:G,4,FALSE))","v":""},null,null,{"$f":"IF(OR(C341=\"\",ISBLANK(C341)),\"\",VLOOKUP(C341,Sheet2!A:F,3,FALSE))","v":""},{"$f":"IF(OR(C341=\"\",ISBLANK(C341)),\"\",VLOOKUP(C341,Sheet2!A:G,6,FALSE))","v":""},""]
[{"$f":"IF(OR(C342=\"\",ISBLANK(C342)),\"\",VLOOKUP(C342,Sheet2!A:F,2,FALSE))","v":""},{"$f":"IF(OR(C342=\"\",ISBLANK(C342)),\"\",VLOOKUP(C342,Sheet2!A:G,4,FALSE))","v":""},null,null,{"$f":"IF(OR(C342=\"\",ISBLANK(C342)),\"\",VLOOKUP(C342,Sheet2!A:F,3,FALSE))","v":""},{"$f":"IF(OR(C342=\"\",ISBLANK(C342)),\"\",VLOOKUP(C342,Sheet2!A:G,6,FALSE))","v":""},""]
[{"$f":"IF(OR(C343=\"\",ISBLANK(C343)),\"\",VLOOKUP(C343,Sheet2!A:F,2,FALSE))","v":""},{"$f":"IF(OR(C343=\"\",ISBLANK(C343)),\"\",VLOOKUP(C343,Sheet2!A:G,4,FALSE))","v":""},null,null,{"$f":"IF(OR(C343=\"\",ISBLANK(C343)),\"\",VLOOKUP(C343,Sheet2!A:F,3,FALSE))","v":""},{"$f":"IF(OR(C343=\"\",ISBLANK(C343)),\"\",VLOOKUP(C343,Sheet2!A:G,6,FALSE))","v":""},""]
[{"$f":"IF(OR(C344=\"\",ISBLANK(C344)),\"\",VLOOKUP(C344,Sheet2!A:F,2,FALSE))","v":""},{"$f":"IF(OR(C344=\"\",ISBLANK(C344)),\"\",VLOOKUP(C344,Sheet2!A:G,4,FALSE))","v":""},null,null,{"$f":"IF(OR(C344=\"\",ISBLANK(C344)),\"\",VLOOKUP(C344,Sheet2!A:F,3,FALSE))","v":""},{"$f":"IF(OR(C344=\"\",ISBLANK(C344)),\"\",VLOOKUP(C344,Sheet2!A:G,6,FALSE))","v":""},""]
[{"$f":"IF(OR(C345=\"\",ISBLANK(C345)),\"\",VLOOKUP(C345,Sheet2!A:F,2,FALSE))","v":""},{"$f":"IF(OR(C345=\"\",ISBLANK(C345)),\"\",VLOOKUP(C345,Sheet2!A:G,4,FALSE))","v":""},null,null,{"$f":"IF(OR(C345=\"\",ISBLANK(C345)),\"\",VLOOKUP(C345,Sheet2!A:F,3,FALSE))","v":""},{"$f":"IF(OR(C345=\"\",ISBLANK(C345)),\"\",VLOOKUP(C345,Sheet2!A:G,6,FALSE))","v":""},""]
[{"$f":"IF(OR(C346=\"\",ISBLANK(C346)),\"\",VLOOKUP(C346,Sheet2!A:F,2,FALSE))","v":""},{"$f":"IF(OR(C346=\"\",ISBLANK(C346)),\"\",VLOOKUP(C346,Sheet2!A:G,4,FALSE))","v":""},null,null,{"$f":"IF(OR(C346=\"\",ISBLANK(C346)),\"\",VLOOKUP(C346,Sheet2!A:F,3,FALSE))","v":""},{"$f":"IF(OR(C346=\"\",ISBLANK(C346)),\"\",VLOOKUP(C346,Sheet2!A:G,6,FALSE))","v":""},""]
[{"$f":"IF(OR(C347=\"\",ISBLANK(C347)),\"\",VLOOKUP(C347,Sheet2!A:F,2,FALSE))","v":""},{"$f":"IF(OR(C347=\"\",ISBLANK(C347)),\"\",VLOOKUP(C347,Sheet2!A:G,4,FALSE))","v":""},null,null,{"$f":"IF(OR(C347=\"\",ISBLANK(C347)),\"\",VLOOKUP(C347,Sheet2!A:F,3,FALSE))","v":""},{"$f":"IF(OR(C347=\"\",ISBLANK(C347)),\"\",VLOOKUP(C347,Sheet2!A:G,6,FALSE))","v":""},""]
[{"$f":"IF(OR(C348=\"\",ISBLANK(C348)),\"\",VLOOKUP(C348,Sheet2!A:F,2,FALSE))","v":""},{"$f":"IF(OR(C348=\"\",ISBLANK(C348)),\"\",VLOOKUP(C348,Sheet2!A:G,4,FALSE))","v":""},null,null,{"$f":"IF(OR(C348=\"\",ISBLANK(C348)),\"\",VLOOKUP(C348,Sheet2!A:F,3,FALSE))","v":""},{"$f":"IF(OR(C348=\"\",ISBLANK(C348)),\"\",VLOOKUP(C348,Sheet2!A:G,6,FALSE))","v":""},""]
[{"$f":"IF(OR(C349=\"\",ISBLANK(C349)),\"\",VLOOKUP(C349,Sheet2!A:F,2,FALSE))","v":""},{"$f":"IF(OR(C349=\"\",ISBLANK(C349)),\"\",VLOOKUP(C349,Sheet2!A:G,4,FALSE))","v":""},null,null,{"$f":"IF(OR(C349=\"\",ISBLANK(C349)),\"\",VLOOKUP(C349,Sheet2!A:F,3,FALSE))","v":""},{"$f":"IF(OR(C349=\"\",ISBLANK(C349)),\"\",VLOOKUP(C349,Sheet2!A:G,6,FALSE))","v":""},""]
[{"$f":"IF(OR(C350=\"\",ISBLANK(C350)),\"\",VLOOKUP(C350,Sheet2!A:F,2,FALSE))","v":""},{"$f":"IF(OR(C350=\"\",ISBLANK(C350)),\"\",VLOOKUP(C350,Sheet2!A:G,4,FALSE))","v":""},null,null,{"$f":"IF(OR(C350=\"\",ISBLANK(C350)),\"\",VLOOKUP(C350,Sheet2!A:F,3,FALSE))","v":""},{"$f":"IF(OR(C350=\"\",ISBLANK(C350)),\"\",VLOOKUP(C350,Sheet2!A:G,6,FALSE))","v":""},""]
[{"$f":"IF(OR(C351=\"\",ISBLANK(C351)),\"\",VLOOKUP(C351,Sheet2!A:F,2,FALSE))","v":""},{"$f":"IF(OR(C351=\"\",ISBLANK(C351)),\"\",VLOOKUP(C351,Sheet2!A:G,4,FALSE))","v":""},null,null,{"$f":"IF(OR(C351=\"\",ISBLANK(C351)),\"\",VLOOKUP(C351,Sheet2!A:F,3,FALSE))","v":""},{"$f":"IF(OR(C351=\"\",ISBLANK(C351)),\"\",VLOOKUP(C351,Sheet2!A:G,6,FALSE))","v":""},""]
[{"$f":"IF(OR(C352=\"\",ISBLANK(C352)),\"\",VLOOKUP(C352,Sheet2!A:F,2,FALSE))","v":""},{"$f":"IF(OR(C352=\"\",ISBLANK(C352)),\"\",VLOOKUP(C352,Sheet2!A:G,4,FALSE))","v":""},null,null,{"$f":"IF(OR(C352=\"\",ISBLANK(C352)),\"\",VLOOKUP(C352,Sheet2!A:F,3,FALSE))","v":""},{"$f":"IF(OR(C352=\"\",ISBLANK(C352)),\"\",VLOOKUP(C352,Sheet2!A:G,6,FALSE))","v":""},""]
[{"$f":"IF(OR(C353=\"\",ISBLANK(C353)),\"\",VLOOKUP(C353,Sheet2!A:F,2,FALSE))","v":""},{"$f":"IF(OR(C353=\"\",ISBLANK(C353)),\"\",VLOOKUP(C353,Sheet2!A:G,4,FALSE))","v":""},null,null,{"$f":"IF(OR(C353=\"\",ISBLANK(C353)),\"\",VLOOKUP(C353,Sheet2!A:F,3,FALSE))","v":""},{"$f":"IF(OR(C353=\"\",ISBLANK(C353)),\"\",VLOOKUP(C353,Sheet2!A:G,6,FALSE))","v":""},""]
[{"$f":"IF(OR(C354=\"\",ISBLANK(C354)),\"\",VLOOKUP(C354,Sheet2!A:F,2,FALSE))","v":""},{"$f":"IF(OR(C354=\"\",ISBLANK(C354)),\"\",VLOOKUP(C354,Sheet2!A:G,4,FALSE))","v":""},null,null,{"$f":"IF(OR(C354=\"\",ISBLANK(C354)),\"\",VLOOKUP(C354,Sheet2!A:F,3,FALSE))","v":""},{"$f":"IF(OR(C354=\"\",ISBLANK(C354)),\"\",VLOOKUP(C354,Sheet2!A:G,6,FALSE))","v":""},""]
[{"$f":"IF(OR(C355=\"\",ISBLANK(C355)),\"\",VLOOKUP(C355,Sheet2!A:F,2,FALSE))","v":""},{"$f":"IF(OR(C355=\"\",ISBLANK(C355)),\"\",VLOOKUP(C355,Sheet2!A:G,4,FALSE))","v":""},null,null,{"$f":"IF(OR(C355=\"\",ISBLANK(C355)),\"\",VLOOKUP(C355,Sheet2!A:F,3,FALSE))","v":""},{"$f":"IF(OR(C355=\"\",ISBLANK(C355)),\"\",VLOOKUP(C355,Sheet2!A:G,6,FALSE))","v":""},""]
[{"$f":"IF(OR(C356=\"\",ISBLANK(C356)),\"\",VLOOKUP(C356,Sheet2!A:F,2,FALSE))","v":""},{"$f":"IF(OR(C356=\"\",ISBLANK(C356)),\"\",VLOOKUP(C356,Sheet2!A:G,4,FALSE))","v":""},null,null,{"$f":"IF(OR(C356=\"\",ISBLANK(C356)),\"\",VLOOKUP(C356,Sheet2!A:F,3,FALSE))","v":""},{"$f":"IF(OR(C356=\"\",ISBLANK(C356)),\"\",VLOOKUP(C356,Sheet2!A:G,6,FALSE))","v":""},""]
[{"$f":"IF(OR(C357=\"\",ISBLANK(C357)),\"\",VLOOKUP(C357,Sheet2!A:F,2,FALSE))","v":""},{"$f":"IF(OR(C357=\"\",ISBLANK(C357)),\"\",VLOOKUP(C357,Sheet2!A:G,4,FALSE))","v":""},null,null,{"$f":"IF(OR(C357=\"\",ISBLANK(C357)),\"\",VLOOKUP(C357,Sheet2!A:F,3,FALSE))","v":""},{"$f":"IF(OR(C357=\"\",ISBLANK(C357)),\"\",VLOOKUP(C357,Sheet2!A:G,6,FALSE))","v":""},""]
[{"$f":"IF(OR(C358=\"\",ISBLANK(C358)),\"\",VLOOKUP(C358,Sheet2!A:F,2,FALSE))","v":""},{"$f":"IF(OR(C358=\"\",ISBLANK(C358)),\"\",VLOOKUP(C358,Sheet2!A:G,4,FALSE))","v":""},null,null,{"$f":"IF(OR(C358=\"\",ISBLANK(C358)),\"\",VLOOKUP(C358,Sheet2!A:F,3,FALSE))","v":""},{"$f":"IF(OR(C358=\"\",ISBLANK(C358)),\"\",VLOOKUP(C358,Sheet2!A:G,6,FALSE))","v":""},""]
[{"$f":"IF(OR(C359=\"\",ISBLANK(C359)),\"\",VLOOKUP(C359,Sheet2!A:F,2,FALSE))","v":""},{"$f":"IF(OR(C359=\"\",ISBLANK(C359)),\"\",VLOOKUP(C359,Sheet2!A:G,4,FALSE))","v":""},null,null,{"$f":"IF(OR(C359=\"\",ISBLANK(C359)),\"\",VLOOKUP(C359,Sheet2!A:F,3,FALSE))","v":""},{"$f":"IF(OR(C359=\"\",ISBLANK(C359)),\"\",VLOOKUP(C359,Sheet2!A:G,6,FALSE))","v":""},""]
[{"$f":"IF(OR(C360=\"\",ISBLANK(C360)),\"\",VLOOKUP(C360,Sheet2!A:F,2,FALSE))","v":""},{"$f":"IF(OR(C360=\"\",ISBLANK(C360)),\"\",VLOOKUP(C360,Sheet2!A:G,4,FALSE))","v":""},null,null,{"$f":"IF(OR(C360=\"\",ISBLANK(C360)),\"\",VLOOKUP(C360,Sheet2!A:F,3,FALSE))","v":""},{"$f":"IF(OR(C360=\"\",ISBLANK(C360)),\"\",VLOOKUP(C360,Sheet2!A:G,6,FALSE))","v":""},""]
[{"$f":"IF(OR(C361=\"\",ISBLANK(C361)),\"\",VLOOKUP(C361,Sheet2!A:F,2,FALSE))","v":""},{"$f":"IF(OR(C361=\"\",ISBLANK(C361)),\"\",VLOOKUP(C361,Sheet2!A:G,4,FALSE))","v":""},null,null,{"$f":"IF(OR(C361=\"\",ISBLANK(C361)),\"\",VLOOKUP(C361,Sheet2!A:F,3,FALSE))","v":""},{"$f":"IF(OR(C361=\"\",ISBLANK(C361)),\"\",VLOOKUP(C361,Sheet2!A:G,6,FALSE))","v":""},""]
[{"$f":"IF(OR(C362=\"\",ISBLANK(C362)),\"\",VLOOKUP(C362,Sheet2!A:F,2,FALSE))","v":""},{"$f":"IF(OR(C362=\"\",ISBLANK(C362)),\"\",VLOOKUP(C362,Sheet2!A:G,4,FALSE))","v":""},null,null,{"$f":"IF(OR(C362=\"\",ISBLANK(C362)),\"\",VLOOKUP(C362,Sheet2!A:F,3,FALSE))","v":""},{"$f":"IF(OR(C362=\"\",ISBLANK(C362)),\"\",VLOOKUP(C362,Sheet2!A:G,6,FALSE))","v":""},""]
[{"$f":"IF(OR(C363=\"\",ISBLANK(C363)),\"\",VLOOKUP(C363,Sheet2!A:F,2,FALSE))","v":""},{"$f":"IF(OR(C363=\"\",ISBLANK(C363)),\"\",VLOOKUP(C363,Sheet2!A:G,4,FALSE))","v":""},null,null,{"$f":"IF(OR(C363=\"\",ISBLANK(C363)),\"\",VLOOKUP(C363,Sheet2!A:F,3,FALSE))","v":""},{"$f":"IF(OR(C363=\"\",ISBLANK(C363)),\"\",VLOOKUP(C363,Sheet2!A:G,6,FALSE))","v":""},""]
[{"$f":"IF(OR(C364=\"\",ISBLANK(C364)),\"\",VLOOKUP(C364,Sheet2!A:F,2,FALSE))","v":""},{"$f":"IF(OR(C364=\"\",ISBLANK(C364)),\"\",VLOOKUP(C364,Sheet2!A:G,4,FALSE))","v":""},null,null,{"$f":"IF(OR(C364=\"\",ISBLANK(C364)),\"\",VLOOKUP(C364,Sheet2!A:F,3,FALSE))","v":""},{"$f":"IF(OR(C364=\"\",ISBLANK(C364)),\"\",VLOOKUP(C364,Sheet2!A:G,6,FALSE))","v":""},""]
[{"$f":"IF(OR(C365=\"\",ISBLANK(C365)),\"\",VLOOKUP(C365,Sheet2!A:F,2,FALSE))","v":""},{"$f":"IF(OR(C365=\"\",ISBLANK(C365)),\"\",VLOOKUP(C365,Sheet2!A:G,4,FALSE))","v":""},null,null,{"$f":"IF(OR(C365=\"\",ISBLANK(C365)),\"\",VLOOKUP(C365,Sheet2!A:F,3,FALSE))","v":""},{"$f":"IF(OR(C365=\"\",ISBLANK(C365)),\"\",VLOOKUP(C365,Sheet2!A:G,6,FALSE))","v":""},""]
[{"$f":"IF(OR(C366=\"\",ISBLANK(C366)),\"\",VLOOKUP(C366,Sheet2!A:F,2,FALSE))","v":""},{"$f":"IF(OR(C366=\"\",ISBLANK(C366)),\"\",VLOOKUP(C366,Sheet2!A:G,4,FALSE))","v":""},null,null,{"$f":"IF(OR(C366=\"\",ISBLANK(C366)),\"\",VLOOKUP(C366,Sheet2!A:F,3,FALSE))","v":""},{"$f":"IF(OR(C366=\"\",ISBLANK(C366)),\"\",VLOOKUP(C366,Sheet2!A:G,6,FALSE))","v":""},""]
[{"$f":"IF(OR(C367=\"\",ISBLANK(C367)),\"\",VLOOKUP(C367,Sheet2!A:F,2,FALSE))","v":""},{"$f":"IF(OR(C367=\"\",ISBLANK(C367)),\"\",VLOOKUP(C367,Sheet2!A:G,4,FALSE))","v":""},null,null,{"$f":"IF(OR(C367=\"\",ISBLANK(C367)),\"\",VLOOKUP(C367,Sheet2!A:F,3,FALSE))","v":""},{"$f":"IF(OR(C367=\"\",ISBLANK(C367)),\"\",VLOOKUP(C367,Sheet2!A:G,6,FALSE))","v":""},""]
[{"$f":"IF(OR(C368=\"\",ISBLANK(C368)),\"\",VLOOKUP(C368,Sheet2!A:F,2,FALSE))","v":""},{"$f":"IF(OR(C368=\"\",ISBLANK(C368)),\"\",VLOOKUP(C368,Sheet2!A:G,4,FALSE))","v":""},null,null,{"$f":"IF(OR(C368=\"\",ISBLANK(C368)),\"\",VLOOKUP(C368,Sheet2!A:F,3,FALSE))","v":""},{"$f":"IF(OR(C368=\"\",ISBLANK(C368)),\"\",VLOOKUP(C368,Sheet2!A:G,6,FALSE))","v":""},""]
[{"$f":"IF(OR(C369=\"\",ISBLANK(C369)),\"\",VLOOKUP(C369,Sheet2!A:F,2,FALSE))","v":""},{"$f":"IF(OR(C369=\"\",ISBLANK(C369)),\"\",VLOOKUP(C369,Sheet2!A:G,4,FALSE))","v":""},null,null,{"$f":"IF(OR(C369=\"\",ISBLANK(C369)),\"\",VLOOKUP(C369,Sheet2!A:F,3,FALSE))","v":""},{"$f":"IF(OR(C369=\"\",ISBLANK(C369)),\"\",VLOOKUP(C369,Sheet2!A:G,6,FALSE))","v":""},""]
[{"$f":"IF(OR(C370=\"\",ISBLANK(C370)),\"\",VLOOKUP(C370,Sheet2!A:F,2,FALSE))","v":""},{"$f":"IF(OR(C370=\"\",ISBLANK(C370)),\"\",VLOOKUP(C370,Sheet2!A:G,4,FALSE))","v":""},null,null,{"$f":"IF(OR(C370=\"\",ISBLANK(C370)),\"\",VLOOKUP(C370,Sheet2!A:F,3,FALSE))","v":""},{"$f":"IF(OR(C370=\"\",ISBLANK(C370)),\"\",VLOOKUP(C370,Sheet2!A:G,6,FALSE))","v":""},""]
[{"$f":"IF(OR(C371=\"\",ISBLANK(C371)),\"\",VLOOKUP(C371,Sheet2!A:F,2,FALSE))","v":""},{"$f":"IF(OR(C371=\"\",ISBLANK(C371)),\"\",VLOOKUP(C371,Sheet2!A:G,4,FALSE))","v":""},null,null,{"$f":"IF(OR(C371=\"\",ISBLANK(C371)),\"\",VLOOKUP(C371,Sheet2!A:F,3,FALSE))","v":""},{"$f":"IF(OR(C371=\"\",ISBLANK(C371)),\"\",VLOOKUP(C371,Sheet2!A:G,6,FALSE))","v":""},""]
[{"$f":"IF(OR(C372=\"\",ISBLANK(C372)),\"\",VLOOKUP(C372,Sheet2!A:F,2,FALSE))","v":""},{"$f":"IF(OR(C372=\"\",ISBLANK(C372)),\"\",VLOOKUP(C372,Sheet2!A:G,4,FALSE))","v":""},null,null,{"$f":"IF(OR(C372=\"\",ISBLANK(C372)),\"\",VLOOKUP(C372,Sheet2!A:F,3,FALSE))","v":""},{"$f":"IF(OR(C372=\"\",ISBLANK(C372)),\"\",VLOOKUP(C372,Sheet2!A:G,6,FALSE))","v":""},""]
[{"$f":"IF(OR(C373=\"\",ISBLANK(C373)),\"\",VLOOKUP(C373,Sheet2!A:F,2,FALSE))","v":""},{"$f":"IF(OR(C373=\"\",ISBLANK(C373)),\"\",VLOOKUP(C373,Sheet2!A:G,4,FALSE))","v":""},null,null,{"$f":"IF(OR(C373=\"\",ISBLANK(C373)),\"\",VLOOKUP(C373,Sheet2!A:F,3,FALSE))","v":""},{"$f":"IF(OR(C373=\"\",ISBLANK(C373)),\"\",VLOOKUP(C373,Sheet2!A:G,6,FALSE))","v":""},""]
[{"$f":"IF(OR(C374=\"\",ISBLANK(C374)),\"\",VLOOKUP(C374,Sheet2!A:F,2,FALSE))","v":""},{"$f":"IF(OR(C374=\"\",ISBLANK(C374)),\"\",VLOOKUP(C374,Sheet2!A:G,4,FALSE))","v":""},null,null,{"$f":"IF(OR(C374=\"\",ISBLANK(C374)),\"\",VLOOKUP(C374,Sheet2!A:F,3,FALSE))","v":""},{"$f":"IF(OR(C374=\"\",ISBLANK(C374)),\"\",VLOOKUP(C374,Sheet2!A:G,6,FALSE))","v":""},""]
[{"$f":"IF(OR(C375=\"\",ISBLANK(C375)),\"\",VLOOKUP(C375,Sheet2!A:F,2,FALSE))","v":""},{"$f":"IF(OR(C375=\"\",ISBLANK(C375)),\"\",VLOOKUP(C375,Sheet2!A:G,4,FALSE))","v":""},null,null,{"$f":"IF(OR(C375=\"\",ISBLANK(C375)),\"\",VLOOKUP(C375,Sheet2!A:F,3,FALSE))","v":""},{"$f":"IF(OR(C375=\"\",ISBLANK(C375)),\"\",VLOOKUP(C375,Sheet2!A:G,6,FALSE))","v":""},""]
[{"$f":"IF(OR(C376=\"\",ISBLANK(C376)),\"\",VLOOKUP(C376,Sheet2!A:F,2,FALSE))","v":""},{"$f":"IF(OR(C376=\"\",ISBLANK(C376)),\"\",VLOOKUP(C376,Sheet2!A:G,4,FALSE))","v":""},null,null,{"$f":"IF(OR(C376=\"\",ISBLANK(C376)),\"\",VLOOKUP(C376,Sheet2!A:F,3,FALSE))","v":""},{"$f":"IF(OR(C376=\"\",ISBLANK(C376)),\"\",VLOOKUP(C376,Sheet2!A:G,6,FALSE))","v":""},""]
[{"$f":"IF(OR(C377=\"\",ISBLANK(C377)),\"\",VLOOKUP(C377,Sheet2!A:F,2,FALSE))","v":""},{"$f":"IF(OR(C377=\"\",ISBLANK(C377)),\"\",VLOOKUP(C377,Sheet2!A:G,4,FALSE))","v":""},null,null,{"$f":"IF(OR(C377=\"\",ISBLANK(C377)),\"\",VLOOKUP(C377,Sheet2!A:F,3,FALSE))","v":""},{"$f":"IF(OR(C377=\"\",ISBLANK(C377)),\"\",VLOOKUP(C377,Sheet2!A:G,6,FALSE))","v":""},""]
[{"$f":"IF(OR(C378=\"\",ISBLANK(C378)),\"\",VLOOKUP(C378,Sheet2!A:F,2,FALSE))","v":""},{"$f":"IF(OR(C378=\"\",ISBLANK(C378)),\"\",VLOOKUP(C378,Sheet2!A:G,4,FALSE))","v":""},null,null,{"$f":"IF(OR(C378=\"\",ISBLANK(C378)),\"\",VLOOKUP(C378,Sheet2!A:F,3,FALSE))","v":""},{"$f":"IF(OR(C378=\"\",ISBLANK(C378)),\"\",VLOOKUP(C378,Sheet2!A:G,6,FALSE))","v":""},""]
[{"$f":"IF(OR(C379=\"\",ISBLANK(C379)),\"\",VLOOKUP(C379,Sheet2!A:F,2,FALSE))","v":""},{"$f":"IF(OR(C379=\"\",ISBLANK(C379)),\"\",VLOOKUP(C379,Sheet2!A:G,4,FALSE))","v":""},null,null,{"$f":"IF(OR(C379=\"\",ISBLANK(C379)),\"\",VLOOKUP(C379,Sheet2!A:F,3,FALSE))","v":""},{"$f":"IF(OR(C379=\"\",ISBLANK(C379)),\"\",VLOOKUP(C379,Sheet2!A:G,6,FALSE))","v":""},""]
[{"$f":"IF(OR(C380=\"\",ISBLANK(C380)),\"\",VLOOKUP(C380,Sheet2!A:F,2,FALSE))","v":""},{"$f":"IF(OR(C380=\"\",ISBLANK(C380)),\"\",VLOOKUP(C380,Sheet2!A:G,4,FALSE))","v":""},null,null,{"$f":"IF(OR(C380=\"\",ISBLANK(C380)),\"\",VLOOKUP(C380,Sheet2!A:F,3,FALSE))","v":""},{"$f":"IF(OR(C380=\"\",ISBLANK(C380)),\"\",VLOOKUP(C380,Sheet2!A:G,6,FALSE))","v":""},""]
[{"$f":"IF(OR(C381=\"\",ISBLANK(C381)),\"\",VLOOKUP(C381,Sheet2!A:F,2,FALSE))","v":""},{"$f":"IF(OR(C381=\"\",ISBLANK(C381)),\"\",VLOOKUP(C381,Sheet2!A:G,4,FALSE))","v":""},null,null,{"$f":"IF(OR(C381=\"\",ISBLANK(C381)),\"\",VLOOKUP(C381,Sheet2!A:F,3,FALSE))","v":""},{"$f":"IF(OR(C381=\"\",ISBLANK(C381)),\"\",VLOOKUP(C381,Sheet2!A:G,6,FALSE))","v":""},""]
[{"$f":"IF(OR(C382=\"\",ISBLANK(C382)),\"\",VLOOKUP(C382,Sheet2!A:F,2,FALSE))","v":""},{"$f":"IF(OR(C382=\"\",ISBLANK(C382)),\"\",VLOOKUP(C382,Sheet2!A:G,4,FALSE))","v":""},null,null,{"$f":"IF(OR(C382=\"\",ISBLANK(C382)),\"\",VLOOKUP(C382,Sheet2!A:F,3,FALSE))","v":""},{"$f":"IF(OR(C382=\"\",ISBLANK(C382)),\"\",VLOOKUP(C382,Sheet2!A:G,6,FALSE))","v":""},""]
[{"$f":"IF(OR(C383=\"\",ISBLANK(C383)),\"\",VLOOKUP(C383,Sheet2!A:F,2,FALSE))","v":""},{"$f":"IF(OR(C383=\"\",ISBLANK(C383)),\"\",VLOOKUP(C383,Sheet2!A:G,4,FALSE))","v":""},null,null,{"$f":"IF(OR(C383=\"\",ISBLANK(C383)),\"\",VLOOKUP(C383,Sheet2!A:F,3,FALSE))","v":""},{"$f":"IF(OR(C383=\"\",ISBLANK(C383)),\"\",VLOOKUP(C383,Sheet2!A:G,6,FALSE))","v":""},""]
[{"$f":"IF(OR(C384=\"\",ISBLANK(C384)),\"\",VLOOKUP(C384,Sheet2!A:F,2,FALSE))","v":""},{"$f":"IF(OR(C384=\"\",ISBLANK(C384)),\"\",VLOOKUP(C384,Sheet2!A:G,4,FALSE))","v":""},null,null,{"$f":"IF(OR(C384=\"\",ISBLANK(C384)),\"\",VLOOKUP(C384,Sheet2!A:F,3,FALSE))","v":""},{"$f":"IF(OR(C384=\"\",ISBLANK(C384)),\"\",VLOOKUP(C384,Sheet2!A:G,6,FALSE))","v":""},""]
[{"$f":"IF(OR(C385=\"\",ISBLANK(C385)),\"\",VLOOKUP(C385,Sheet2!A:F,2,FALSE))","v":""},{"$f":"IF(OR(C385=\"\",ISBLANK(C385)),\"\",VLOOKUP(C385,Sheet2!A:G,4,FALSE))","v":""},null,null,{"$f":"IF(OR(C385=\"\",ISBLANK(C385)),\"\",VLOOKUP(C385,Sheet2!A:F,3,FALSE))","v":""},{"$f":"IF(OR(C385=\"\",ISBLANK(C385)),\"\",VLOOKUP(C385,Sheet2!A:G,6,FALSE))","v":""},""]
[{"$f":"IF(OR(C386=\"\",ISBLANK(C386)),\"\",VLOOKUP(C386,Sheet2!A:F,2,FALSE))","v":""},{"$f":"IF(OR(C386=\"\",ISBLANK(C386)),\"\",VLOOKUP(C386,Sheet2!A:G,4,FALSE))","v":""},null,null,{"$f":"IF(OR(C386=\"\",ISBLANK(C386)),\"\",VLOOKUP(C386,Sheet2!A:F,3,FALSE))","v":""},{"$f":"IF(OR(C386=\"\",ISBLANK(C386)),\"\",VLOOKUP(C386,Sheet2!A:G,6,FALSE))","v":""},""]
[{"$f":"IF(OR(C387=\"\",ISBLANK(C387)),\"\",VLOOKUP(C387,Sheet2!A:F,2,FALSE))","v":""},{"$f":"IF(OR(C387=\"\",ISBLANK(C387)),\"\",VLOOKUP(C387,Sheet2!A:G,4,FALSE))","v":""},null,null,{"$f":"IF(OR(C387=\"\",ISBLANK(C387)),\"\",VLOOKUP(C387,Sheet2!A:F,3,FALSE))","v":""},{"$f":"IF(OR(C387=\"\",ISBLANK(C387)),\"\",VLOOKUP(C387,Sheet2!A:G,6,FALSE))","v":""},{"$f":"IF(F387=0,\"\",F387)","v":""}]
[{"$f":"IF(OR(C388=\"\",ISBLANK(C388)),\"\",VLOOKUP(C388,Sheet2!A:F,2,FALSE))","v":""},{"$f":"IF(OR(C388=\"\",ISBLANK(C388)),\"\",VLOOKUP(C388,Sheet2!A:G,4,FALSE))","v":""},null,null,{"$f":"IF(OR(C388=\"\",ISBLANK(C388)),\"\",VLOOKUP(C388,Sheet2!A:F,3,FALSE))","v":""},{"$f":"IF(OR(C388=\"\",ISBLANK(C388)),\"\",VLOOKUP(C388,Sheet2!A:G,6,FALSE))","v":""},""]
[{"$f":"IF(OR(C389=\"\",ISBLANK(C389)),\"\",VLOOKUP(C389,Sheet2!A:F,2,FALSE))","v":""},{"$f":"IF(OR(C389=\"\",ISBLANK(C389)),\"\",VLOOKUP(C389,Sheet2!A:G,4,FALSE))","v":""},null,null,{"$f":"IF(OR(C389=\"\",ISBLANK(C389)),\"\",VLOOKUP(C389,Sheet2!A:F,3,FALSE))","v":""},{"$f":"IF(OR(C389=\"\",ISBLANK(C389)),\"\",VLOOKUP(C389,Sheet2!A:G,6,FALSE))","v":""},""]
[{"$f":"IF(OR(C390=\"\",ISBLANK(C390)),\"\",VLOOKUP(C390,Sheet2!A:F,2,FALSE))","v":""},{"$f":"IF(OR(C390=\"\",ISBLANK(C390)),\"\",VLOOKUP(C390,Sheet2!A:G,4,FALSE))","v":""},null,null,{"$f":"IF(OR(C390=\"\",ISBLANK(C390)),\"\",VLOOKUP(C390,Sheet2!A:F,3,FALSE))","v":""},{"$f":"IF(OR(C390=\"\",ISBLANK(C390)),\"\",VLOOKUP(C390,Sheet2!A:G,6,FALSE))","v":""},""]
[{"$f":"IF(OR(C391=\"\",ISBLANK(C391)),\"\",VLOOKUP(C391,Sheet2!A:F,2,FALSE))","v":""},{"$f":"IF(OR(C391=\"\",ISBLANK(C391)),\"\",VLOOKUP(C391,Sheet2!A:G,4,FALSE))","v":""},null,null,{"$f":"IF(OR(C391=\"\",ISBLANK(C391)),\"\",VLOOKUP(C391,Sheet2!A:F,3,FALSE))","v":""},{"$f":"IF(OR(C391=\"\",ISBLANK(C391)),\"\",VLOOKUP(C391,Sheet2!A:G,6,FALSE))","v":""},""]
[{"$f":"IF(OR(C392=\"\",ISBLANK(C392)),\"\",VLOOKUP(C392,Sheet2!A:F,2,FALSE))","v":""},{"$f":"IF(OR(C392=\"\",ISBLANK(C392)),\"\",VLOOKUP(C392,Sheet2!A:G,4,FALSE))","v":""},null,null,{"$f":"IF(OR(C392=\"\",ISBLANK(C392)),\"\",VLOOKUP(C392,Sheet2!A:F,3,FALSE))","v":""},{"$f":"IF(OR(C392=\"\",ISBLANK(C392)),\"\",VLOOKUP(C392,Sheet2!A:G,6,FALSE))","v":""},""]
[{"$f":"IF(OR(C393=\"\",ISBLANK(C393)),\"\",VLOOKUP(C393,Sheet2!A:F,2,FALSE))","v":""},{"$f":"IF(OR(C393=\"\",ISBLANK(C393)),\"\",VLOOKUP(C393,Sheet2!A:G,4,FALSE))","v":""},null,null,{"$f":"IF(OR(C393=\"\",ISBLANK(C393)),\"\",VLOOKUP(C393,Sheet2!A:F,3,FALSE))","v":""},{"$f":"IF(OR(C393=\"\",ISBLANK(C393)),\"\",VLOOKUP(C393,Sheet2!A:G,6,FALSE))","v":""},""]
[{"$f":"IF(OR(C394=\"\",ISBLANK(C394)),\"\",VLOOKUP(C394,Sheet2!A:F,2,FALSE))","v":""},{"$f":"IF(OR(C394=\"\",ISBLANK(C394)),\"\",VLOOKUP(C394,Sheet2!A:G,4,FALSE))","v":""},null,null,{"$f":"IF(OR(C394=\"\",ISBLANK(C394)),\"\",VLOOKUP(C394,Sheet2!A:F,3,FALSE))","v":""},{"$f":"IF(OR(C394=\"\",ISBLANK(C394)),\"\",VLOOKUP(C394,Sheet2!A:G,6,FALSE))","v":""},""]
[{"$f":"IF(OR(C395=\"\",ISBLANK(C395)),\"\",VLOOKUP(C395,Sheet2!A:F,2,FALSE))","v":""},{"$f":"IF(OR(C395=\"\",ISBLANK(C395)),\"\",VLOOKUP(C395,Sheet2!A:G,4,FALSE))","v":""},null,null,{"$f":"IF(OR(C395=\"\",ISBLANK(C395)),\"\",VLOOKUP(C395,Sheet2!A:F,3,FALSE))","v":""},{"$f":"IF(OR(C395=\"\",ISBLANK(C395)),\"\",VLOOKUP(C395,Sheet2!A:G,6,FALSE))","v":""},""]
[{"$f":"IF(OR(C396=\"\",ISBLANK(C396)),\"\",VLOOKUP(C396,Sheet2!A:F,2,FALSE))","v":""},{"$f":"IF(OR(C396=\"\",ISBLANK(C396)),\"\",VLOOKUP(C396,Sheet2!A:G,4,FALSE))","v":""},null,null,{"$f":"IF(OR(C396=\"\",ISBLANK(C396)),\"\",VLOOKUP(C396,Sheet2!A:F,3,FALSE))","v":""},{"$f":"IF(OR(C396=\"\",ISBLANK(C396)),\"\",VLOOKUP(C396,Sheet2!A:G,6,FALSE))","v":""},""]
[{"$f":"IF(OR(C397=\"\",ISBLANK(C397)),\"\",VLOOKUP(C397,Sheet2!A:F,2,FALSE))","v":""},{"$f":"IF(OR(C397=\"\",ISBLANK(C397)),\"\",VLOOKUP(C397,Sheet2!A:G,4,FALSE))","v":""},null,null,{"$f":"IF(OR(C397=\"\",ISBLANK(C397)),\"\",VLOOKUP(C397,Sheet2!A:F,3,FALSE))","v":""},{"$f":"IF(OR(C397=\"\",ISBLANK(C397)),\"\",VLOOKUP(C397,Sheet2!A:G,6,FALSE))","v":""},""]
[{"$f":"IF(OR(C398=\"\",ISBLANK(C398)),\"\",VLOOKUP(C398,Sheet2!A:F,2,FALSE))","v":""},{"$f":"IF(OR(C398=\"\",ISBLANK(C398)),\"\",VLOOKUP(C398,Sheet2!A:G,4,FALSE))","v":""},null,null,{"$f":"IF(OR(C398=\"\",ISBLANK(C398)),\"\",VLOOKUP(C398,Sheet2!A:F,3,FALSE))","v":""},{"$f":"IF(OR(C398=\"\",ISBLANK(C398)),\"\",VLOOKUP(C398,Sheet2!A:G,6,FALSE))","v":""},""]
[{"$f":"IF(OR(C399=\"\",ISBLANK(C399)),\"\",VLOOKUP(C399,Sheet2!A:F,2,FALSE))","v":""},{"$f":"IF(OR(C399=\"\",ISBLANK(C399)),\"\",VLOOKUP(C399,Sheet2!A:G,4,FALSE))","v":""},null,null,{"$f":"IF(OR(C399=\"\",ISBLANK(C399)),\"\",VLOOKUP(C399,Sheet2!A:F,3,FALSE))","v":""},{"$f":"IF(OR(C399=\"\",ISBLANK(C399)),\"\",VLOOKUP(C399,Sheet2!A:G,6,FALSE))","v":""},""]
[{"$f":"IF(OR(C400=\"\",ISBLANK(C400)),\"\",VLOOKUP(C400,Sheet2!A:F,2,FALSE))","v":""},{"$f":"IF(OR(C400=\"\",ISBLANK(C400)),\"\",VLOOKUP(C400,Sheet2!A:G,4,FALSE))","v":""},null,null,{"$f":"IF(OR(C400=\"\",ISBLANK(C400)),\"\",VLOOKUP(C400,Sheet2!A:F,3,FALSE))","v":""},{"$f":"IF(OR(C400=\"\",ISBLANK(C400)),\"\",VLOOKUP(C400,Sheet2!A:G,6,FALSE))","v":""},""]
[{"$f":"IF(OR(C401=\"\",ISBLANK(C401)),\"\",VLOOKUP(C401,Sheet2!A:F,2,FALSE))","v":""},{"$f":"IF(OR(C401=\"\",ISBLANK(C401)),\"\",VLOOKUP(C401,Sheet2!A:G,4,FALSE))","v":""},null,null,{"$f":"IF(OR(C401=\"\",ISBLANK(C401)),\"\",VLOOKUP(C401,Sheet2!A:F,3,FALSE))","v":""},{"$f":"IF(OR(C401=\"\",ISBLANK(C401)),\"\",VLOOKUP(C401,Sheet2!A:G,6,FALSE))","v":""},""]
[{"$f":"IF(OR(C402=\"\",ISBLANK(C402)),\"\",VLOOKUP(C402,Sheet2!A:F,2,FALSE))","v":""},{"$f":"IF(OR(C402=\"\",ISBLANK(C402)),\"\",VLOOKUP(C402,Sheet2!A:G,4,FALSE))","v":""},null,null,{"$f":"IF(OR(C402=\"\",ISBLANK(C402)),\"\",VLOOKUP(C402,Sheet2!A:F,3,FALSE))","v":""},{"$f":"IF(OR(C402=\"\",ISBLANK(C402)),\"\",VLOOKUP(C402,Sheet2!A:G,6,FALSE))","v":""},""]
[{"$f":"IF(OR(C403=\"\",ISBLANK(C403)),\"\",VLOOKUP(C403,Sheet2!A:F,2,FALSE))","v":""},{"$f":"IF(OR(C403=\"\",ISBLANK(C403)),\"\",VLOOKUP(C403,Sheet2!A:G,4,FALSE))","v":""},null,null,{"$f":"IF(OR(C403=\"\",ISBLANK(C403)),\"\",VLOOKUP(C403,Sheet2!A:F,3,FALSE))","v":""},{"$f":"IF(OR(C403=\"\",ISBLANK(C403)),\"\",VLOOKUP(C403,Sheet2!A:G,6,FALSE))","v":""},""]
[{"$f":"IF(OR(C404=\"\",ISBLANK(C404)),\"\",VLOOKUP(C404,Sheet2!A:F,2,FALSE))","v":""},{"$f":"IF(OR(C404=\"\",ISBLANK(C404)),\"\",VLOOKUP(C404,Sheet2!A:G,4,FALSE))","v":""},null,null,{"$f":"IF(OR(C404=\"\",ISBLANK(C404)),\"\",VLOOKUP(C404,Sheet2!A:F,3,FALSE))","v":""},{"$f":"IF(OR(C404=\"\",ISBLANK(C404)),\"\",VLOOKUP(C404,Sheet2!A:G,6,FALSE))","v":""},""]
[{"$f":"IF(OR(C405=\"\",ISBLANK(C405)),\"\",VLOOKUP(C405,Sheet2!A:F,2,FALSE))","v":""},{"$f":"IF(OR(C405=\"\",ISBLANK(C405)),\"\",VLOOKUP(C405,Sheet2!A:G,4,FALSE))","v":""},null,null,{"$f":"IF(OR(C405=\"\",ISBLANK(C405)),\"\",VLOOKUP(C405,Sheet2!A:F,3,FALSE))","v":""},{"$f":"IF(OR(C405=\"\",ISBLANK(C405)),\"\",VLOOKUP(C405,Sheet2!A:G,6,FALSE))","v":""},""]
[{"$f":"IF(OR(C406=\"\",ISBLANK(C406)),\"\",VLOOKUP(C406,Sheet2!A:F,2,FALSE))","v":""},{"$f":"IF(OR(C406=\"\",ISBLANK(C406)),\"\",VLOOKUP(C406,Sheet2!A:G,4,FALSE))","v":""},null,null,{"$f":"IF(OR(C406=\"\",ISBLANK(C406)),\"\",VLOOKUP(C406,Sheet2!A:F,3,FALSE))","v":""},{"$f":"IF(OR(C406=\"\",ISBLANK(C406)),\"\",VLOOKUP(C406,Sheet2!A:G,6,FALSE))","v":""},""]
[{"$f":"IF(OR(C407=\"\",ISBLANK(C407)),\"\",VLOOKUP(C407,Sheet2!A:F,2,FALSE))","v":""},{"$f":"IF(OR(C407=\"\",ISBLANK(C407)),\"\",VLOOKUP(C407,Sheet2!A:G,4,FALSE))","v":""},null,null,{"$f":"IF(OR(C407=\"\",ISBLANK(C407)),\"\",VLOOKUP(C407,Sheet2!A:F,3,FALSE))","v":""},{"$f":"IF(OR(C407=\"\",ISBLANK(C407)),\"\",VLOOKUP(C407,Sheet2!A:G,6,FALSE))","v":""},""]
[{"$f":"IF(OR(C408=\"\",ISBLANK(C408)),\"\",VLOOKUP(C408,Sheet2!A:F,2,FALSE))","v":""},{"$f":"IF(OR(C408=\"\",ISBLANK(C408)),\"\",VLOOKUP(C408,Sheet2!A:G,4,FALSE))","v":""},null,null,{"$f":"IF(OR(C408=\"\",ISBLANK(C408)),\"\",VLOOKUP(C408,Sheet2!A:F,3,FALSE))","v":""},{"$f":"IF(OR(C408=\"\",ISBLANK(C408)),\"\",VLOOKUP(C408,Sheet2!A:G,6,FALSE))","v":""},""]
[{"$f":"IF(OR(C409=\"\",ISBLANK(C409)),\"\",VLOOKUP(C409,Sheet2!A:F,2,FALSE))","v":""},{"$f":"IF(OR(C409=\"\",ISBLANK(C409)),\"\",VLOOKUP(C409,Sheet2!A:G,4,FALSE))","v":""},null,null,{"$f":"IF(OR(C409=\"\",ISBLANK(C409)),\"\",VLOOKUP(C409,Sheet2!A:F,3,FALSE))","v":""},{"$f":"IF(OR(C409=\"\",ISBLANK(C409)),\"\",VLOOKUP(C409,Sheet2!A:G,6,FALSE))","v":""},""]
[{"$f":"IF(OR(C410=\"\",ISBLANK(C410)),\"\",VLOOKUP(C410,Sheet2!A:F,2,FALSE))","v":""},{"$f":"IF(OR(C410=\"\",ISBLANK(C410)),\"\",VLOOKUP(C410,Sheet2!A:G,4,FALSE))","v":""},null,null,{"$f":"IF(OR(C410=\"\",ISBLANK(C410)),\"\",VLOOKUP(C410,Sheet2!A:F,3,FALSE))","v":""},{"$f":"IF(OR(C410=\"\",ISBLANK(C410)),\"\",VLOOKUP(C410,Sheet2!A:G,6,FALSE))","v":""},""]
[{"$f":"IF(OR(C411=\"\",ISBLANK(C411)),\"\",VLOOKUP(C411,Sheet2!A:F,2,FALSE))","v":""},{"$f":"IF(OR(C411=\"\",ISBLANK(C411)),\"\",VLOOKUP(C411,Sheet2!A:G,4,FALSE))","v":""},null,null,{"$f":"IF(OR(C411=\"\",ISBLANK(C411)),\"\",VLOOKUP(C411,Sheet2!A:F,3,FALSE))","v":""},{"$f":"IF(OR(C411=\"\",ISBLANK(C411)),\"\",VLOOKUP(C411,Sheet2!A:G,6,FALSE))","v":""},""]
[{"$f":"IF(OR(C412=\"\",ISBLANK(C412)),\"\",VLOOKUP(C412,Sheet2!A:F,2,FALSE))","v":""},{"$f":"IF(OR(C412=\"\",ISBLANK(C412)),\"\",VLOOKUP(C412,Sheet2!A:G,4,FALSE))","v":""},null,null,{"$f":"IF(OR(C412=\"\",ISBLANK(C412)),\"\",VLOOKUP(C412,Sheet2!A:F,3,FALSE))","v":""},{"$f":"IF(OR(C412=\"\",ISBLANK(C412)),\"\",VLOOKUP(C412,Sheet2!A:G,6,FALSE))","v":""},""]
[{"$f":"IF(OR(C413=\"\",ISBLANK(C413)),\"\",VLOOKUP(C413,Sheet2!A:F,2,FALSE))","v":""},{"$f":"IF(OR(C413=\"\",ISBLANK(C413)),\"\",VLOOKUP(C413,Sheet2!A:G,4,FALSE))","v":""},null,null,{"$f":"IF(OR(C413=\"\",ISBLANK(C413)),\"\",VLOOKUP(C413,Sheet2!A:F,3,FALSE))","v":""},{"$f":"IF(OR(C413=\"\",ISBLANK(C413)),\"\",VLOOKUP(C413,Sheet2!A:G,6,FALSE))","v":""},""]
[{"$f":"IF(OR(C414=\"\",ISBLANK(C414)),\"\",VLOOKUP(C414,Sheet2!A:F,2,FALSE))","v":""},{"$f":"IF(OR(C414=\"\",ISBLANK(C414)),\"\",VLOOKUP(C414,Sheet2!A:G,4,FALSE))","v":""},null,null,{"$f":"IF(OR(C414=\"\",ISBLANK(C414)),\"\",VLOOKUP(C414,Sheet2!A:F,3,FALSE))","v":""},{"$f":"IF(OR(C414=\"\",ISBLANK(C414)),\"\",VLOOKUP(C414,Sheet2!A:G,6,FALSE))","v":""},""]
[{"$f":"IF(OR(C415=\"\",ISBLANK(C415)),\"\",VLOOKUP(C415,Sheet2!A:F,2,FALSE))","v":""},{"$f":"IF(OR(C415=\"\",ISBLANK(C415)),\"\",VLOOKUP(C415,Sheet2!A:G,4,FALSE))","v":""},null,null,{"$f":"IF(OR(C415=\"\",ISBLANK(C415)),\"\",VLOOKUP(C415,Sheet2!A:F,3,FALSE))","v":""},{"$f":"IF(OR(C415=\"\",ISBLANK(C415)),\"\",VLOOKUP(C415,Sheet2!A:G,6,FALSE))","v":""},""]
[{"$f":"IF(OR(C416=\"\",ISBLANK(C416)),\"\",VLOOKUP(C416,Sheet2!A:F,2,FALSE))","v":""},{"$f":"IF(OR(C416=\"\",ISBLANK(C416)),\"\",VLOOKUP(C416,Sheet2!A:G,4,FALSE))","v":""},null,null,{"$f":"IF(OR(C416=\"\",ISBLANK(C416)),\"\",VLOOKUP(C416,Sheet2!A:F,3,FALSE))","v":""},{"$f":"IF(OR(C416=\"\",ISBLANK(C416)),\"\",VLOOKUP(C416,Sheet2!A:G,6,FALSE))","v":""},""]
[{"$f":"IF(OR(C417=\"\",ISBLANK(C417)),\"\",VLOOKUP(C417,Sheet2!A:F,2,FALSE))","v":""},{"$f":"IF(OR(C417=\"\",ISBLANK(C417)),\"\",VLOOKUP(C417,Sheet2!A:G,4,FALSE))","v":""},null,null,{"$f":"IF(OR(C417=\"\",ISBLANK(C417)),\"\",VLOOKUP(C417,Sheet2!A:F,3,FALSE))","v":""},{"$f":"IF(OR(C417=\"\",ISBLANK(C417)),\"\",VLOOKUP(C417,Sheet2!A:G,6,FALSE))","v":""},""]
[{"$f":"IF(OR(C418=\"\",ISBLANK(C418)),\"\",VLOOKUP(C418,Sheet2!A:F,2,FALSE))","v":""},{"$f":"IF(OR(C418=\"\",ISBLANK(C418)),\"\",VLOOKUP(C418,Sheet2!A:G,4,FALSE))","v":""},null,null,{"$f":"IF(OR(C418=\"\",ISBLANK(C418)),\"\",VLOOKUP(C418,Sheet2!A:F,3,FALSE))","v":""},{"$f":"IF(OR(C418=\"\",ISBLANK(C418)),\"\",VLOOKUP(C418,Sheet2!A:G,6,FALSE))","v":""},""]
[{"$f":"IF(OR(C419=\"\",ISBLANK(C419)),\"\",VLOOKUP(C419,Sheet2!A:F,2,FALSE))","v":""},{"$f":"IF(OR(C419=\"\",ISBLANK(C419)),\"\",VLOOKUP(C419,Sheet2!A:G,4,FALSE))","v":""},null,null,{"$f":"IF(OR(C419=\"\",ISBLANK(C419)),\"\",VLOOKUP(C419,Sheet2!A:F,3,FALSE))","v":""},{"$f":"IF(OR(C419=\"\",ISBLANK(C419)),\"\",VLOOKUP(C419,Sheet2!A:G,6,FALSE))","v":""},""]
[{"$f":"IF(OR(C420=\"\",ISBLANK(C420)),\"\",VLOOKUP(C420,Sheet2!A:F,2,FALSE))","v":""},{"$f":"IF(OR(C420=\"\",ISBLANK(C420)),\"\",VLOOKUP(C420,Sheet2!A:G,4,FALSE))","v":""},null,null,{"$f":"IF(OR(C420=\"\",ISBLANK(C420)),\"\",VLOOKUP(C420,Sheet2!A:F,3,FALSE))","v":""},{"$f":"IF(OR(C420=\"\",ISBLANK(C420)),\"\",VLOOKUP(C420,Sheet2!A:G,6,FALSE))","v":""},""]
[{"$f":"IF(OR(C421=\"\",ISBLANK(C421)),\"\",VLOOKUP(C421,Sheet2!A:F,2,FALSE))","v":""},{"$f":"IF(OR(C421=\"\",ISBLANK(C421)),\"\",VLOOKUP(C421,Sheet2!A:G,4,FALSE))","v":""},null,null,{"$f":"IF(OR(C421=\"\",ISBLANK(C421)),\"\",VLOOKUP(C421,Sheet2!A:F,3,FALSE))","v":""},{"$f":"IF(OR(C421=\"\",ISBLANK(C421)),\"\",VLOOKUP(C421,Sheet2!A:G,6,FALSE))","v":""},""]
[{"$f":"IF(OR(C422=\"\",ISBLANK(C422)),\"\",VLOOKUP(C422,Sheet2!A:F,2,FALSE))","v":""},{"$f":"IF(OR(C422=\"\",ISBLANK(C422)),\"\",VLOOKUP(C422,Sheet2!A:G,4,FALSE))","v":""},null,null,{"$f":"IF(OR(C422=\"\",ISBLANK(C422)),\"\",VLOOKUP(C422,Sheet2!A:F,3,FALSE))","v":""},{"$f":"IF(OR(C422=\"\",ISBLANK(C422)),\"\",VLOOKUP(C422,Sheet2!A:G,6,FALSE))","v":""},""]
[{"$f":"IF(OR(C423=\"\",ISBLANK(C423)),\"\",VLOOKUP(C423,Sheet2!A:F,2,FALSE))","v":""},{"$f":"IF(OR(C423=\"\",ISBLANK(C423)),\"\",VLOOKUP(C423,Sheet2!A:G,4,FALSE))","v":""},null,null,{"$f":"IF(OR(C423=\"\",ISBLANK(C423)),\"\",VLOOKUP(C423,Sheet2!A:F,3,FALSE))","v":""},{"$f":"IF(OR(C423=\"\",ISBLANK(C423)),\"\",VLOOKUP(C423,Sheet2!A:G,6,FALSE))","v":""},""]
[{"$f":"IF(OR(C424=\"\",ISBLANK(C424)),\"\",VLOOKUP(C424,Sheet2!A:F,2,FALSE))","v":""},{"$f":"IF(OR(C424=\"\",ISBLANK(C424)),\"\",VLOOKUP(C424,Sheet2!A:G,4,FALSE))","v":""},null,null,{"$f":"IF(OR(C424=\"\",ISBLANK(C424)),\"\",VLOOKUP(C424,Sheet2!A:F,3,FALSE))","v":""},{"$f":"IF(OR(C424=\"\",ISBLANK(C424)),\"\",VLOOKUP(C424,Sheet2!A:G,6,FALSE))","v":""},""]
[{"$f":"IF(OR(C425=\"\",ISBLANK(C425)),\"\",VLOOKUP(C425,Sheet2!A:F,2,FALSE))","v":""},{"$f":"IF(OR(C425=\"\",ISBLANK(C425)),\"\",VLOOKUP(C425,Sheet2!A:G,4,FALSE))","v":""},null,null,{"$f":"IF(OR(C425=\"\",ISBLANK(C425)),\"\",VLOOKUP(C425,Sheet2!A:F,3,FALSE))","v":""},{"$f":"IF(OR(C425=\"\",ISBLANK(C425)),\"\",VLOOKUP(C425,Sheet2!A:G,6,FALSE))","v":""},""]
[{"$f":"IF(OR(C426=\"\",ISBLANK(C426)),\"\",VLOOKUP(C426,Sheet2!A:F,2,FALSE))","v":""},{"$f":"IF(OR(C426=\"\",ISBLANK(C426)),\"\",VLOOKUP(C426,Sheet2!A:G,4,FALSE))","v":""},null,null,{"$f":"IF(OR(C426=\"\",ISBLANK(C426)),\"\",VLOOKUP(C426,Sheet2!A:F,3,FALSE))","v":""},{"$f":"IF(OR(C426=\"\",ISBLANK(C426)),\"\",VLOOKUP(C426,Sheet2!A:G,6,FALSE))","v":""},""]
[{"$f":"IF(OR(C427=\"\",ISBLANK(C427)),\"\",VLOOKUP(C427,Sheet2!A:F,2,FALSE))","v":""},{"$f":"IF(OR(C427=\"\",ISBLANK(C427)),\"\",VLOOKUP(C427,Sheet2!A:G,4,FALSE))","v":""},null,null,{"$f":"IF(OR(C427=\"\",ISBLANK(C427)),\"\",VLOOKUP(C427,Sheet2!A:F,3,FALSE))","v":""},{"$f":"IF(OR(C427=\"\",ISBLANK(C427)),\"\",VLOOKUP(C427,Sheet2!A:G,6,FALSE))","v":""},""]
[{"$f":"IF(OR(C428=\"\",ISBLANK(C428)),\"\",VLOOKUP(C428,Sheet2!A:F,2,FALSE))","v":""},{"$f":"IF(OR(C428=\"\",ISBLANK(C428)),\"\",VLOOKUP(C428,Sheet2!A:G,4,FALSE))","v":""},null,null,{"$f":"IF(OR(C428=\"\",ISBLANK(C428)),\"\",VLOOKUP(C428,Sheet2!A:F,3,FALSE))","v":""},{"$f":"IF(OR(C428=\"\",ISBLANK(C428)),\"\",VLOOKUP(C428,Sheet2!A:G,6,FALSE))","v":""},""]
[{"$f":"IF(OR(C429=\"\",ISBLANK(C429)),\"\",VLOOKUP(C429,Sheet2!A:F,2,FALSE))","v":""},{"$f":"IF(OR(C429=\"\",ISBLANK(C429)),\"\",VLOOKUP(C429,Sheet2!A:G,4,FALSE))","v":""},null,null,{"$f":"IF(OR(C429=\"\",ISBLANK(C429)),\"\",VLOOKUP(C429,Sheet2!A:F,3,FALSE))","v":""},{"$f":"IF(OR(C429=\"\",ISBLANK(C429)),\"\",VLOOKUP(C429,Sheet2!A:G,6,FALSE))","v":""},""]
[{"$f":"IF(OR(C430=\"\",ISBLANK(C430)),\"\",VLOOKUP(C430,Sheet2!A:F,2,FALSE))","v":""},{"$f":"IF(OR(C430=\"\",ISBLANK(C430)),\"\",VLOOKUP(C430,Sheet2!A:G,4,FALSE))","v":""},null,null,{"$f":"IF(OR(C430=\"\",ISBLANK(C430)),\"\",VLOOKUP(C430,Sheet2!A:F,3,FALSE))","v":""},{"$f":"IF(OR(C430=\"\",ISBLANK(C430)),\"\",VLOOKUP(C430,Sheet2!A:G,6,FALSE))","v":""},""]
[{"$f":"IF(OR(C431=\"\",ISBLANK(C431)),\"\",VLOOKUP(C431,Sheet2!A:F,2,FALSE))","v":""},{"$f":"IF(OR(C431=\"\",ISBLANK(C431)),\"\",VLOOKUP(C431,Sheet2!A:G,4,FALSE))","v":""},null,null,{"$f":"IF(OR(C431=\"\",ISBLANK(C431)),\"\",VLOOKUP(C431,Sheet2!A:F,3,FALSE))","v":""},{"$f":"IF(OR(C431=\"\",ISBLANK(C431)),\"\",VLOOKUP(C431,Sheet2!A:G,6,FALSE))","v":""},""]
[{"$f":"IF(OR(C432=\"\",ISBLANK(C432)),\"\",VLOOKUP(C432,Sheet2!A:F,2,FALSE))","v":""},{"$f":"IF(OR(C432=\"\",ISBLANK(C432)),\"\",VLOOKUP(C432,Sheet2!A:G,4,FALSE))","v":""},null,null,{"$f":"IF(OR(C432=\"\",ISBLANK(C432)),\"\",VLOOKUP(C432,Sheet2!A:F,3,FALSE))","v":""},{"$f":"IF(OR(C432=\"\",ISBLANK(C432)),\"\",VLOOKUP(C432,Sheet2!A:G,6,FALSE))","v":""},""]
[{"$f":"IF(OR(C433=\"\",ISBLANK(C433)),\"\",VLOOKUP(C433,Sheet2!A:F,2,FALSE))","v":""},{"$f":"IF(OR(C433=\"\",ISBLANK(C433)),\"\",VLOOKUP(C433,Sheet2!A:G,4,FALSE))","v":""},null,null,{"$f":"IF(OR(C433=\"\",ISBLANK(C433)),\"\",VLOOKUP(C433,Sheet2!A:F,3,FALSE))","v":""},{"$f":"IF(OR(C433=\"\",ISBLANK(C433)),\"\",VLOOKUP(C433,Sheet2!A:G,6,FALSE))","v":""},""]
[{"$f":"IF(OR(C434=\"\",ISBLANK(C434)),\"\",VLOOKUP(C434,Sheet2!A:F,2,FALSE))","v":""},{"$f":"IF(OR(C434=\"\",ISBLANK(C434)),\"\",VLOOKUP(C434,Sheet2!A:G,4,FALSE))","v":""},null,null,{"$f":"IF(OR(C434=\"\",ISBLANK(C434)),\"\",VLOOKUP(C434,Sheet2!A:F,3,FALSE))","v":""},{"$f":"IF(OR(C434=\"\",ISBLANK(C434)),\"\",VLOOKUP(C434,Sheet2!A:G,6,FALSE))","v":""},""]
[{"$f":"IF(OR(C435=\"\",ISBLANK(C435)),\"\",VLOOKUP(C435,Sheet2!A:F,2,FALSE))","v":""},{"$f":"IF(OR(C435=\"\",ISBLANK(C435)),\"\",VLOOKUP(C435,Sheet2!A:G,4,FALSE))","v":""},null,null,{"$f":"IF(OR(C435=\"\",ISBLANK(C435)),\"\",VLOOKUP(C435,Sheet2!A:F,3,FALSE))","v":""},{"$f":"IF(OR(C435=\"\",ISBLANK(C435)),\"\",VLOOKUP(C435,Sheet2!A:G,6,FALSE))","v":""},""]
[{"$f":"IF(OR(C436=\"\",ISBLANK(C436)),\"\",VLOOKUP(C436,Sheet2!A:F,2,FALSE))","v":""},{"$f":"IF(OR(C436=\"\",ISBLANK(C436)),\"\",VLOOKUP(C436,Sheet2!A:G,4,FALSE))","v":""},null,null,{"$f":"IF(OR(C436=\"\",ISBLANK(C436)),\"\",VLOOKUP(C436,Sheet2!A:F,3,FALSE))","v":""},{"$f":"IF(OR(C436=\"\",ISBLANK(C436)),\"\",VLOOKUP(C436,Sheet2!A:G,6,FALSE))","v":""},""]
[{"$f":"IF(OR(C437=\"\",ISBLANK(C437)),\"\",VLOOKUP(C437,Sheet2!A:F,2,FALSE))","v":""},{"$f":"IF(OR(C437=\"\",ISBLANK(C437)),\"\",VLOOKUP(C437,Sheet2!A:G,4,FALSE))","v":""},null,null,{"$f":"IF(OR(C437=\"\",ISBLANK(C437)),\"\",VLOOKUP(C437,Sheet2!A:F,3,FALSE))","v":""},{"$f":"IF(OR(C437=\"\",ISBLANK(C437)),\"\",VLOOKUP(C437,Sheet2!A:G,6,FALSE))","v":""},""]
[{"$f":"IF(OR(C438=\"\",ISBLANK(C438)),\"\",VLOOKUP(C438,Sheet2!A:F,2,FALSE))","v":""},{"$f":"IF(OR(C438=\"\",ISBLANK(C438)),\"\",VLOOKUP(C438,Sheet2!A:G,4,FALSE))","v":""},null,null,{"$f":"IF(OR(C438=\"\",ISBLANK(C438)),\"\",VLOOKUP(C438,Sheet2!A:F,3,FALSE))","v":""},{"$f":"IF(OR(C438=\"\",ISBLANK(C438)),\"\",VLOOKUP(C438,Sheet2!A:G,6,FALSE))","v":""},""]
[{"$f":"IF(OR(C439=\"\",ISBLANK(C439)),\"\",VLOOKUP(C439,Sheet2!A:F,2,FALSE))","v":""},{"$f":"IF(OR(C439=\"\",ISBLANK(C439)),\"\",VLOOKUP(C439,Sheet2!A:G,4,FALSE))","v":""},null,null,{"$f":"IF(OR(C439=\"\",ISBLANK(C439)),\"\",VLOOKUP(C439,Sheet2!A:F,3,FALSE))","v":""},{"$f":"IF(OR(C439=\"\",ISBLANK(C439)),\"\",VLOOKUP(C439,Sheet2!A:G,6,FALSE))","v":""},""]
[{"$f":"IF(OR(C440=\"\",ISBLANK(C440)),\"\",VLOOKUP(C440,Sheet2!A:F,2,FALSE))","v":""},{"$f":"IF(OR(C440=\"\",ISBLANK(C440)),\"\",VLOOKUP(C440,Sheet2!A:G,4,FALSE))","v":""},null,null,{"$f":"IF(OR(C440=\"\",ISBLANK(C440)),\"\",VLOOKUP(C440,Sheet2!A:F,3,FALSE))","v":""},{"$f":"IF(OR(C440=\"\",ISBLANK(C440)),\"\",VLOOKUP(C440,Sheet2!A:G,6,FALSE))","v":""},""]
[{"$f":"IF(OR(C441=\"\",ISBLANK(C441)),\"\",VLOOKUP(C441,Sheet2!A:F,2,FALSE))","v":""},{"$f":"IF(OR(C441=\"\",ISBLANK(C441)),\"\",VLOOKUP(C441,Sheet2!A:G,4,FALSE))","v":""},null,null,{"$f":"IF(OR(C441=\"\",ISBLANK(C441)),\"\",VLOOKUP(C441,Sheet2!A:F,3,FALSE))","v":""},{"$f":"IF(OR(C441=\"\",ISBLANK(C441)),\"\",VLOOKUP(C441,Sheet2!A:G,6,FALSE))","v":""},""]
[{"$f":"IF(OR(C442=\"\",ISBLANK(C442)),\"\",VLOOKUP(C442,Sheet2!A:F,2,FALSE))","v":""},{"$f":"IF(OR(C442=\"\",ISBLANK(C442)),\"\",VLOOKUP(C442,Sheet2!A:G,4,FALSE))","v":""},null,null,{"$f":"IF(OR(C442=\"\",ISBLANK(C442)),\"\",VLOOKUP(C442,Sheet2!A:F,3,FALSE))","v":""},{"$f":"IF(OR(C442=\"\",ISBLANK(C442)),\"\",VLOOKUP(C442,Sheet2!A:G,6,FALSE))","v":""},""]
[{"$f":"IF(OR(C443=\"\",ISBLANK(C443)),\"\",VLOOKUP(C443,Sheet2!A:F,2,FALSE))","v":""},{"$f":"IF(OR(C443=\"\",ISBLANK(C443)),\"\",VLOOKUP(C443,Sheet2!A:G,4,FALSE))","v":""},null,null,{"$f":"IF(OR(C443=\"\",ISBLANK(C443)),\"\",VLOOKUP(C443,Sheet2!A:F,3,FALSE))","v":""},{"$f":"IF(OR(C443=\"\",ISBLANK(C443)),\"\",VLOOKUP(C443,Sheet2!A:G,6,FALSE))","v":""},""]
[{"$f":"IF(OR(C444=\"\",ISBLANK(C444)),\"\",VLOOKUP(C444,Sheet2!A:F,2,FALSE))","v":""},{"$f":"IF(OR(C444=\"\",ISBLANK(C444)),\"\",VLOOKUP(C444,Sheet2!A:G,4,FALSE))","v":""},null,null,{"$f":"IF(OR(C444=\"\",ISBLANK(C444)),\"\",VLOOKUP(C444,Sheet2!A:F,3,FALSE))","v":""},{"$f":"IF(OR(C444=\"\",ISBLANK(C444)),\"\",VLOOKUP(C444,Sheet2!A:G,6,FALSE))","v":""},""]
[{"$f":"IF(OR(C445=\"\",ISBLANK(C445)),\"\",VLOOKUP(C445,Sheet2!A:F,2,FALSE))","v":""},{"$f":"IF(OR(C445=\"\",ISBLANK(C445)),\"\",VLOOKUP(C445,Sheet2!A:G,4,FALSE))","v":""},null,null,{"$f":"IF(OR(C445=\"\",ISBLANK(C445)),\"\",VLOOKUP(C445,Sheet2!A:F,3,FALSE))","v":""},{"$f":"IF(OR(C445=\"\",ISBLANK(C445)),\"\",VLOOKUP(C445,Sheet2!A:G,6,FALSE))","v":""},""]
[{"$f":"IF(OR(C446=\"\",ISBLANK(C446)),\"\",VLOOKUP(C446,Sheet2!A:F,2,FALSE))","v":""},{"$f":"IF(OR(C446=\"\",ISBLANK(C446)),\"\",VLOOKUP(C446,Sheet2!A:G,4,FALSE))","v":""},null,null,{"$f":"IF(OR(C446=\"\",ISBLANK(C446)),\"\",VLOOKUP(C446,Sheet2!A:F,3,FALSE))","v":""},{"$f":"IF(OR(C446=\"\",ISBLANK(C446)),\"\",VLOOKUP(C446,Sheet2!A:G,6,FALSE))","v":""},""]
[{"$f":"IF(OR(C447=\"\",ISBLANK(C447)),\"\",VLOOKUP(C447,Sheet2!A:F,2,FALSE))","v":""},{"$f":"IF(OR(C447=\"\",ISBLANK(C447)),\"\",VLOOKUP(C447,Sheet2!A:G,4,FALSE))","v":""},null,null,{"$f":"IF(OR(C447=\"\",ISBLANK(C447)),\"\",VLOOKUP(C447,Sheet2!A:F,3,FALSE))","v":""},{"$f":"IF(OR(C447=\"\",ISBLANK(C447)),\"\",VLOOKUP(C447,Sheet2!A:G,6,FALSE))","v":""},""]
[{"$f":"IF(OR(C448=\"\",ISBLANK(C448)),\"\",VLOOKUP(C448,Sheet2!A:F,2,FALSE))","v":""},{"$f":"IF(OR(C448=\"\",ISBLANK(C448)),\"\",VLOOKUP(C448,Sheet2!A:G,4,FALSE))","v":""},null,null,{"$f":"IF(OR(C448=\"\",ISBLANK(C448)),\"\",VLOOKUP(C448,Sheet2!A:F,3,FALSE))","v":""},{"$f":"IF(OR(C448=\"\",ISBLANK(C448)),\"\",VLOOKUP(C448,Sheet2!A:G,6,FALSE))","v":""},""]
[{"$f":"IF(OR(C449=\"\",ISBLANK(C449)),\"\",VLOOKUP(C449,Sheet2!A:F,2,FALSE))","v":""},{"$f":"IF(OR(C449=\"\",ISBLANK(C449)),\"\",VLOOKUP(C449,Sheet2!A:G,4,FALSE))","v":""},null,null,{"$f":"IF(OR(C449=\"\",ISBLANK(C449)),\"\",VLOOKUP(C449,Sheet2!A:F,3,FALSE))","v":""},{"$f":"IF(OR(C449=\"\",ISBLANK(C449)),\"\",VLOOKUP(C449,Sheet2!A:G,6,FALSE))","v":""},""]
[{"$f":"IF(OR(C450=\"\",ISBLANK(C450)),\"\",VLOOKUP(C450,Sheet2!A:F,2,FALSE))","v":""},{"$f":"IF(OR(C450=\"\",ISBLANK(C450)),\"\",VLOOKUP(C450,Sheet2!A:G,4,FALSE))","v":""},null,null,{"$f":"IF(OR(C450=\"\",ISBLANK(C450)),\"\",VLOOKUP(C450,Sheet2!A:F,3,FALSE))","v":""},{"$f":"IF(OR(C450=\"\",ISBLANK(C450)),\"\",VLOOKUP(C450,Sheet2!A:G,6,FALSE))","v":""},""]
[{"$f":"IF(OR(C451=\"\",ISBLANK(C451)),\"\",VLOOKUP(C451,Sheet2!A:F,2,FALSE))","v":""},{"$f":"IF(OR(C451=\"\",ISBLANK(C451)),\"\",VLOOKUP(C451,Sheet2!A:G,4,FALSE))","v":""},null,null,{"$f":"IF(OR(C451=\"\",ISBLANK(C451)),\"\",VLOOKUP(C451,Sheet2!A:F,3,FALSE))","v":""},{"$f":"IF(OR(C451=\"\",ISBLANK(C451)),\"\",VLOOKUP(C451,Sheet2!A:G,6,FALSE))","v":""},{"$f":"IF(F451=0,\"\",F451)","v":""}]
[{"$f":"IF(OR(C452=\"\",ISBLANK(C452)),\"\",VLOOKUP(C452,Sheet2!A:F,2,FALSE))","v":""},{"$f":"IF(OR(C452=\"\",ISBLANK(C452)),\"\",VLOOKUP(C452,Sheet2!A:G,4,FALSE))","v":""},null,null,{"$f":"IF(OR(C452=\"\",ISBLANK(C452)),\"\",VLOOKUP(C452,Sheet2!A:F,3,FALSE))","v":""},{"$f":"IF(OR(C452=\"\",ISBLANK(C452)),\"\",VLOOKUP(C452,Sheet2!A:G,6,FALSE))","v":""},""]
[{"$f":"IF(OR(C453=\"\",ISBLANK(C453)),\"\",VLOOKUP(C453,Sheet2!A:F,2,FALSE))","v":""},{"$f":"IF(OR(C453=\"\",ISBLANK(C453)),\"\",VLOOKUP(C453,Sheet2!A:G,4,FALSE))","v":""},null,null,{"$f":"IF(OR(C453=\"\",ISBLANK(C453)),\"\",VLOOKUP(C453,Sheet2!A:F,3,FALSE))","v":""},{"$f":"IF(OR(C453=\"\",ISBLANK(C453)),\"\",VLOOKUP(C453,Sheet2!A:G,6,FALSE))","v":""},""]
[{"$f":"IF(OR(C454=\"\",ISBLANK(C454)),\"\",VLOOKUP(C454,Sheet2!A:F,2,FALSE))","v":""},{"$f":"IF(OR(C454=\"\",ISBLANK(C454)),\"\",VLOOKUP(C454,Sheet2!A:G,4,FALSE))","v":""},null,null,{"$f":"IF(OR(C454=\"\",ISBLANK(C454)),\"\",VLOOKUP(C454,Sheet2!A:F,3,FALSE))","v":""},{"$f":"IF(OR(C454=\"\",ISBLANK(C454)),\"\",VLOOKUP(C454,Sheet2!A:G,6,FALSE))","v":""},""]
[{"$f":"IF(OR(C455=\"\",ISBLANK(C455)),\"\",VLOOKUP(C455,Sheet2!A:F,2,FALSE))","v":""},{"$f":"IF(OR(C455=\"\",ISBLANK(C455)),\"\",VLOOKUP(C455,Sheet2!A:G,4,FALSE))","v":""},null,null,{"$f":"IF(OR(C455=\"\",ISBLANK(C455)),\"\",VLOOKUP(C455,Sheet2!A:F,3,FALSE))","v":""},{"$f":"IF(OR(C455=\"\",ISBLANK(C455)),\"\",VLOOKUP(C455,Sheet2!A:G,6,FALSE))","v":""},""]
[{"$f":"IF(OR(C456=\"\",ISBLANK(C456)),\"\",VLOOKUP(C456,Sheet2!A:F,2,FALSE))","v":""},{"$f":"IF(OR(C456=\"\",ISBLANK(C456)),\"\",VLOOKUP(C456,Sheet2!A:G,4,FALSE))","v":""},null,null,{"$f":"IF(OR(C456=\"\",ISBLANK(C456)),\"\",VLOOKUP(C456,Sheet2!A:F,3,FALSE))","v":""},{"$f":"IF(OR(C456=\"\",ISBLANK(C456)),\"\",VLOOKUP(C456,Sheet2!A:G,6,FALSE))","v":""},""]
[{"$f":"IF(OR(C457=\"\",ISBLANK(C457)),\"\",VLOOKUP(C457,Sheet2!A:F,2,FALSE))","v":""},{"$f":"IF(OR(C457=\"\",ISBLANK(C457)),\"\",VLOOKUP(C457,Sheet2!A:G,4,FALSE))","v":""},null,null,{"$f":"IF(OR(C457=\"\",ISBLANK(C457)),\"\",VLOOKUP(C457,Sheet2!A:F,3,FALSE))","v":""},{"$f":"IF(OR(C457=\"\",ISBLANK(C457)),\"\",VLOOKUP(C457,Sheet2!A:G,6,FALSE))","v":""},""]
[{"$f":"IF(OR(C458=\"\",ISBLANK(C458)),\"\",VLOOKUP(C458,Sheet2!A:F,2,FALSE))","v":""},{"$f":"IF(OR(C458=\"\",ISBLANK(C458)),\"\",VLOOKUP(C458,Sheet2!A:G,4,FALSE))","v":""},null,null,{"$f":"IF(OR(C458=\"\",ISBLANK(C458)),\"\",VLOOKUP(C458,Sheet2!A:F,3,FALSE))","v":""},{"$f":"IF(OR(C458=\"\",ISBLANK(C458)),\"\",VLOOKUP(C458,Sheet2!A:G,6,FALSE))","v":""},""]
[{"$f":"IF(OR(C459=\"\",ISBLANK(C459)),\"\",VLOOKUP(C459,Sheet2!A:F,2,FALSE))","v":""},{"$f":"IF(OR(C459=\"\",ISBLANK(C459)),\"\",VLOOKUP(C459,Sheet2!A:G,4,FALSE))","v":""},null,null,{"$f":"IF(OR(C459=\"\",ISBLANK(C459)),\"\",VLOOKUP(C459,Sheet2!A:F,3,FALSE))","v":""},{"$f":"IF(OR(C459=\"\",ISBLANK(C459)),\"\",VLOOKUP(C459,Sheet2!A:G,6,FALSE))","v":""},""]
[{"$f":"IF(OR(C460=\"\",ISBLANK(C460)),\"\",VLOOKUP(C460,Sheet2!A:F,2,FALSE))","v":""},{"$f":"IF(OR(C460=\"\",ISBLANK(C460)),\"\",VLOOKUP(C460,Sheet2!A:G,4,FALSE))","v":""},null,null,{"$f":"IF(OR(C460=\"\",ISBLANK(C460)),\"\",VLOOKUP(C460,Sheet2!A:F,3,FALSE))","v":""},{"$f":"IF(OR(C460=\"\",ISBLANK(C460)),\"\",VLOOKUP(C460,Sheet2!A:G,6,FALSE))","v":""},""]
[{"$f":"IF(OR(C461=\"\",ISBLANK(C461)),\"\",VLOOKUP(C461,Sheet2!A:F,2,FALSE))","v":""},{"$f":"IF(OR(C461=\"\",ISBLANK(C461)),\"\",VLOOKUP(C461,Sheet2!A:G,4,FALSE))","v":""},null,null,{"$f":"IF(OR(C461=\"\",ISBLANK(C461)),\"\",VLOOKUP(C461,Sheet2!A:F,3,FALSE))","v":""},{"$f":"IF(OR(C461=\"\",ISBLANK(C461)),\"\",VLOOKUP(C461,Sheet2!A:G,6,FALSE))","v":""},""]
[{"$f":"IF(OR(C462=\"\",ISBLANK(C462)),\"\",VLOOKUP(C462,Sheet2!A:F,2,FALSE))","v":""},{"$f":"IF(OR(C462=\"\",ISBLANK(C462)),\"\",VLOOKUP(C462,Sheet2!A:G,4,FALSE))","v":""},null,null,{"$f":"IF(OR(C462=\"\",ISBLANK(C462)),\"\",VLOOKUP(C462,Sheet2!A:F,3,FALSE))","v":""},{"$f":"IF(OR(C462=\"\",ISBLANK(C462)),\"\",VLOOKUP(C462,Sheet2!A:G,6,FALSE))","v":""},""]
[{"$f":"IF(OR(C463=\"\",ISBLANK(C463)),\"\",VLOOKUP(C463,Sheet2!A:F,2,FALSE))","v":""},{"$f":"IF(OR(C463=\"\",ISBLANK(C463)),\"\",VLOOKUP(C463,Sheet2!A:G,4,FALSE))","v":""},null,null,{"$f":"IF(OR(C463=\"\",ISBLANK(C463)),\"\",VLOOKUP(C463,Sheet2!A:F,3,FALSE))","v":""},{"$f":"IF(OR(C463=\"\",ISBLANK(C463)),\"\",VLOOKUP(C463,Sheet2!A:G,6,FALSE))","v":""},""]
[{"$f":"IF(OR(C464=\"\",ISBLANK(C464)),\"\",VLOOKUP(C464,Sheet2!A:F,2,FALSE))","v":""},{"$f":"IF(OR(C464=\"\",ISBLANK(C464)),\"\",VLOOKUP(C464,Sheet2!A:G,4,FALSE))","v":""},null,null,{"$f":"IF(OR(C464=\"\",ISBLANK(C464)),\"\",VLOOKUP(C464,Sheet2!A:F,3,FALSE))","v":""},{"$f":"IF(OR(C464=\"\",ISBLANK(C464)),\"\",VLOOKUP(C464,Sheet2!A:G,6,FALSE))","v":""},""]
[{"$f":"IF(OR(C465=\"\",ISBLANK(C465)),\"\",VLOOKUP(C465,Sheet2!A:F,2,FALSE))","v":""},{"$f":"IF(OR(C465=\"\",ISBLANK(C465)),\"\",VLOOKUP(C465,Sheet2!A:G,4,FALSE))","v":""},null,null,{"$f":"IF(OR(C465=\"\",ISBLANK(C465)),\"\",VLOOKUP(C465,Sheet2!A:F,3,FALSE))","v":""},{"$f":"IF(OR(C465=\"\",ISBLANK(C465)),\"\",VLOOKUP(C465,Sheet2!A:G,6,FALSE))","v":""},""]
[{"$f":"IF(OR(C466=\"\",ISBLANK(C466)),\"\",VLOOKUP(C466,Sheet2!A:F,2,FALSE))","v":""},{"$f":"IF(OR(C466=\"\",ISBLANK(C466)),\"\",VLOOKUP(C466,Sheet2!A:G,4,FALSE))","v":""},null,null,{"$f":"IF(OR(C466=\"\",ISBLANK(C466)),\"\",VLOOKUP(C466,Sheet2!A:F,3,FALSE))","v":""},{"$f":"IF(OR(C466=\"\",ISBLANK(C466)),\"\",VLOOKUP(C466,Sheet2!A:G,6,FALSE))","v":""},""]
[{"$f":"IF(OR(C467=\"\",ISBLANK(C467)),\"\",VLOOKUP(C467,Sheet2!A:F,2,FALSE))","v":""},{"$f":"IF(OR(C467=\"\",ISBLANK(C467)),\"\",VLOOKUP(C467,Sheet2!A:G,4,FALSE))","v":""},null,null,{"$f":"IF(OR(C467=\"\",ISBLANK(C467)),\"\",VLOOKUP(C467,Sheet2!A:F,3,FALSE))","v":""},{"$f":"IF(OR(C467=\"\",ISBLANK(C467)),\"\",VLOOKUP(C467,Sheet2!A:G,6,FALSE))","v":""},""]
[{"$f":"IF(OR(C468=\"\",ISBLANK(C468)),\"\",VLOOKUP(C468,Sheet2!A:F,2,FALSE))","v":""},{"$f":"IF(OR(C468=\"\",ISBLANK(C468)),\"\",VLOOKUP(C468,Sheet2!A:G,4,FALSE))","v":""},null,null,{"$f":"IF(OR(C468=\"\",ISBLANK(C468)),\"\",VLOOKUP(C468,Sheet2!A:F,3,FALSE))","v":""},{"$f":"IF(OR(C468=\"\",ISBLANK(C468)),\"\",VLOOKUP(C468,Sheet2!A:G,6,FALSE))","v":""},""]
[{"$f":"IF(OR(C469=\"\",ISBLANK(C469)),\"\",VLOOKUP(C469,Sheet2!A:F,2,FALSE))","v":""},{"$f":"IF(OR(C469=\"\",ISBLANK(C469)),\"\",VLOOKUP(C469,Sheet2!A:G,4,FALSE))","v":""},null,null,{"$f":"IF(OR(C469=\"\",ISBLANK(C469)),\"\",VLOOKUP(C469,Sheet2!A:F,3,FALSE))","v":""},{"$f":"IF(OR(C469=\"\",ISBLANK(C469)),\"\",VLOOKUP(C469,Sheet2!A:G,6,FALSE))","v":""},""]
[{"$f":"IF(OR(C470=\"\",ISBLANK(C470)),\"\",VLOOKUP(C470,Sheet2!A:F,2,FALSE))","v":""},{"$f":"IF(OR(C470=\"\",ISBLANK(C470)),\"\",VLOOKUP(C470,Sheet2!A:G,4,FALSE))","v":""},null,null,{"$f":"IF(OR(C470=\"\",ISBLANK(C470)),\"\",VLOOKUP(C470,Sheet2!A:F,3,FALSE))","v":""},{"$f":"IF(OR(C470=\"\",ISBLANK(C470)),\"\",VLOOKUP(C470,Sheet2!A:G,6,FALSE))","v":""},""]
[{"$f":"IF(OR(C471=\"\",ISBLANK(C471)),\"\",VLOOKUP(C471,Sheet2!A:F,2,FALSE))","v":""},{"$f":"IF(OR(C471=\"\",ISBLANK(C471)),\"\",VLOOKUP(C471,Sheet2!A:G,4,FALSE))","v":""},null,null,{"$f":"IF(OR(C471=\"\",ISBLANK(C471)),\"\",VLOOKUP(C471,Sheet2!A:F,3,FALSE))","v":""},{"$f":"IF(OR(C471=\"\",ISBLANK(C471)),\"\",VLOOKUP(C471,Sheet2!A:G,6,FALSE))","v":""},""]
[{"$f":"IF(OR(C472=\"\",ISBLANK(C472)),\"\",VLOOKUP(C472,Sheet2!A:F,2,FALSE))","v":""},{"$f":"IF(OR(C472=\"\",ISBLANK(C472)),\"\",VLOOKUP(C472,Sheet2!A:G,4,FALSE))","v":""},null,null,{"$f":"IF(OR(C472=\"\",ISBLANK(C472)),\"\",VLOOKUP(C472,Sheet2!A:F,3,FALSE))","v":""},{"$f":"IF(OR(C472=\"\",ISBLANK(C472)),\"\",VLOOKUP(C472,Sheet2!A:G,6,FALSE))","v":""},""]
[{"$f":"IF(OR(C473=\"\",ISBLANK(C473)),\"\",VLOOKUP(C473,Sheet2!A:F,2,FALSE))","v":""},{"$f":"IF(OR(C473=\"\",ISBLANK(C473)),\"\",VLOOKUP(C473,Sheet2!A:G,4,FALSE))","v":""},null,null,{"$f":"IF(OR(C473=\"\",ISBLANK(C473)),\"\",VLOOKUP(C473,Sheet2!A:F,3,FALSE))","v":""},{"$f":"IF(OR(C473=\"\",ISBLANK(C473)),\"\",VLOOKUP(C473,Sheet2!A:G,6,FALSE))","v":""},""]
[{"$f":"IF(OR(C474=\"\",ISBLANK(C474)),\"\",VLOOKUP(C474,Sheet2!A:F,2,FALSE))","v":""},{"$f":"IF(OR(C474=\"\",ISBLANK(C474)),\"\",VLOOKUP(C474,Sheet2!A:G,4,FALSE))","v":""},null,null,{"$f":"IF(OR(C474=\"\",ISBLANK(C474)),\"\",VLOOKUP(C474,Sheet2!A:F,3,FALSE))","v":""},{"$f":"IF(OR(C474=\"\",ISBLANK(C474)),\"\",VLOOKUP(C474,Sheet2!A:G,6,FALSE))","v":""},""]
[{"$f":"IF(OR(C475=\"\",ISBLANK(C475)),\"\",VLOOKUP(C475,Sheet2!A:F,2,FALSE))","v":""},{"$f":"IF(OR(C475=\"\",ISBLANK(C475)),\"\",VLOOKUP(C475,Sheet2!A:G,4,FALSE))","v":""},null,null,{"$f":"IF(OR(C475=\"\",ISBLANK(C475)),\"\",VLOOKUP(C475,Sheet2!A:F,3,FALSE))","v":""},{"$f":"IF(OR(C475=\"\",ISBLANK(C475)),\"\",VLOOKUP(C475,Sheet2!A:G,6,FALSE))","v":""},""]
[{"$f":"IF(OR(C476=\"\",ISBLANK(C476)),\"\",VLOOKUP(C476,Sheet2!A:F,2,FALSE))","v":""},{"$f":"IF(OR(C476=\"\",ISBLANK(C476)),\"\",VLOOKUP(C476,Sheet2!A:G,4,FALSE))","v":""},null,null,{"$f":"IF(OR(C476=\"\",ISBLANK(C476)),\"\",VLOOKUP(C476,Sheet2!A:F,3,FALSE))","v":""},{"$f":"IF(OR(C476=\"\",ISBLANK(C476)),\"\",VLOOKUP(C476,Sheet2!A:G,6,FALSE))","v":""},""]
[{"$f":"IF(OR(C477=\"\",ISBLANK(C477)),\"\",VLOOKUP(C477,Sheet2!A:F,2,FALSE))","v":""},{"$f":"IF(OR(C477=\"\",ISBLANK(C477)),\"\",VLOOKUP(C477,Sheet2!A:G,4,FALSE))","v":""},null,null,{"$f":"IF(OR(C477=\"\",ISBLANK(C477)),\"\",VLOOKUP(C477,Sheet2!A:F,3,FALSE))","v":""},{"$f":"IF(OR(C477=\"\",ISBLANK(C477)),\"\",VLOOKUP(C477,Sheet2!A:G,6,FALSE))","v":""},""]
[{"$f":"IF(OR(C478=\"\",ISBLANK(C478)),\"\",VLOOKUP(C478,Sheet2!A:F,2,FALSE))","v":""},{"$f":"IF(OR(C478=\"\",ISBLANK(C478)),\"\",VLOOKUP(C478,Sheet2!A:G,4,FALSE))","v":""},null,null,{"$f":"IF(OR(C478=\"\",ISBLANK(C478)),\"\",VLOOKUP(C478,Sheet2!A:F,3,FALSE))","v":""},{"$f":"IF(OR(C478=\"\",ISBLANK(C478)),\"\",VLOOKUP(C478,Sheet2!A:G,6,FALSE))","v":""},""]
[{"$f":"IF(OR(C479=\"\",ISBLANK(C479)),\"\",VLOOKUP(C479,Sheet2!A:F,2,FALSE))","v":""},{"$f":"IF(OR(C479=\"\",ISBLANK(C479)),\"\",VLOOKUP(C479,Sheet2!A:G,4,FALSE))","v":""},null,null,{"$f":"IF(OR(C479=\"\",ISBLANK(C479)),\"\",VLOOKUP(C479,Sheet2!A:F,3,FALSE))","v":""},{"$f":"IF(OR(C479=\"\",ISBLANK(C479)),\"\",VLOOKUP(C479,Sheet2!A:G,6,FALSE))","v":""},""]
[{"$f":"IF(OR(C480=\"\",ISBLANK(C480)),\"\",VLOOKUP(C480,Sheet2!A:F,2,FALSE))","v":""},{"$f":"IF(OR(C480=\"\",ISBLANK(C480)),\"\",VLOOKUP(C480,Sheet2!A:G,4,FALSE))","v":""},null,null,{"$f":"IF(OR(C480=\"\",ISBLANK(C480)),\"\",VLOOKUP(C480,Sheet2!A:F,3,FALSE))","v":""},{"$f":"IF(OR(C480=\"\",ISBLANK(C480)),\"\",VLOOKUP(C480,Sheet2!A:G,6,FALSE))","v":""},""]
[{"$f":"IF(OR(C481=\"\",ISBLANK(C481)),\"\",VLOOKUP(C481,Sheet2!A:F,2,FALSE))","v":""},{"$f":"IF(OR(C481=\"\",ISBLANK(C481)),\"\",VLOOKUP(C481,Sheet2!A:G,4,FALSE))","v":""},null,null,{"$f":"IF(OR(C481=\"\",ISBLANK(C481)),\"\",VLOOKUP(C481,Sheet2!A:F,3,FALSE))","v":""},{"$f":"IF(OR(C481=\"\",ISBLANK(C481)),\"\",VLOOKUP(C481,Sheet2!A:G,6,FALSE))","v":""},""]
[{"$f":"IF(OR(C482=\"\",ISBLANK(C482)),\"\",VLOOKUP(C482,Sheet2!A:F,2,FALSE))","v":""},{"$f":"IF(OR(C482=\"\",ISBLANK(C482)),\"\",VLOOKUP(C482,Sheet2!A:G,4,FALSE))","v":""},null,null,{"$f":"IF(OR(C482=\"\",ISBLANK(C482)),\"\",VLOOKUP(C482,Sheet2!A:F,3,FALSE))","v":""},{"$f":"IF(OR(C482=\"\",ISBLANK(C482)),\"\",VLOOKUP(C482,Sheet2!A:G,6,FALSE))","v":""},""]
[{"$f":"IF(OR(C483=\"\",ISBLANK(C483)),\"\",VLOOKUP(C483,Sheet2!A:F,2,FALSE))","v":""},{"$f":"IF(OR(C483=\"\",ISBLANK(C483)),\"\",VLOOKUP(C483,Sheet2!A:G,4,FALSE))","v":""},null,null,{"$f":"IF(OR(C483=\"\",ISBLANK(C483)),\"\",VLOOKUP(C483,Sheet2!A:F,3,FALSE))","v":""},{"$f":"IF(OR(C483=\"\",ISBLANK(C483)),\"\",VLOOKUP(C483,Sheet2!A:G,6,FALSE))","v":""},""]
[{"$f":"IF(OR(C484=\"\",ISBLANK(C484)),\"\",VLOOKUP(C484,Sheet2!A:F,2,FALSE))","v":""},{"$f":"IF(OR(C484=\"\",ISBLANK(C484)),\"\",VLOOKUP(C484,Sheet2!A:G,4,FALSE))","v":""},null,null,{"$f":"IF(OR(C484=\"\",ISBLANK(C484)),\"\",VLOOKUP(C484,Sheet2!A:F,3,FALSE))","v":""},{"$f":"IF(OR(C484=\"\",ISBLANK(C484)),\"\",VLOOKUP(C484,Sheet2!A:G,6,FALSE))","v":""},""]
[{"$f":"IF(OR(C485=\"\",ISBLANK(C485)),\"\",VLOOKUP(C485,Sheet2!A:F,2,FALSE))","v":""},{"$f":"IF(OR(C485=\"\",ISBLANK(C485)),\"\",VLOOKUP(C485,Sheet2!A:G,4,FALSE))","v":""},null,null,{"$f":"IF(OR(C485=\"\",ISBLANK(C485)),\"\",VLOOKUP(C485,Sheet2!A:F,3,FALSE))","v":""},{"$f":"IF(OR(C485=\"\",ISBLANK(C485)),\"\",VLOOKUP(C485,Sheet2!A:G,6,FALSE))","v":""},""]
[{"$f":"IF(OR(C486=\"\",ISBLANK(C486)),\"\",VLOOKUP(C486,Sheet2!A:F,2,FALSE))","v":""},{"$f":"IF(OR(C486=\"\",ISBLANK(C486)),\"\",VLOOKUP(C486,Sheet2!A:G,4,FALSE))","v":""},null,null,{"$f":"IF(OR(C486=\"\",ISBLANK(C486)),\"\",VLOOKUP(C486,Sheet2!A:F,3,FALSE))","v":""},{"$f":"IF(OR(C486=\"\",ISBLANK(C486)),\"\",VLOOKUP(C486,Sheet2!A:G,6,FALSE))","v":""},""]
[{"$f":"IF(OR(C487=\"\",ISBLANK(C487)),\"\",VLOOKUP(C487,Sheet2!A:F,2,FALSE))","v":""},{"$f":"IF(OR(C487=\"\",ISBLANK(C487)),\"\",VLOOKUP(C487,Sheet2!A:G,4,FALSE))","v":""},null,null,{"$f":"IF(OR(C487=\"\",ISBLANK(C487)),\"\",VLOOKUP(C487,Sheet2!A:F,3,FALSE))","v":""},{"$f":"IF(OR(C487=\"\",ISBLANK(C487)),\"\",VLOOKUP(C487,Sheet2!A:G,6,FALSE))","v":""},""]
[{"$f":"IF(OR(C488=\"\",ISBLANK(C488)),\"\",VLOOKUP(C488,Sheet2!A:F,2,FALSE))","v":""},{"$f":"IF(OR(C488=\"\",ISBLANK(C488)),\"\",VLOOKUP(C488,Sheet2!A:G,4,FALSE))","v":""},null,null,{"$f":"IF(OR(C488=\"\",ISBLANK(C488)),\"\",VLOOKUP(C488,Sheet2!A:F,3,FALSE))","v":""},{"$f":"IF(OR(C488=\"\",ISBLANK(C488)),\"\",VLOOKUP(C488,Sheet2!A:G,6,FALSE))","v":""},""]
[{"$f":"IF(OR(C489=\"\",ISBLANK(C489)),\"\",VLOOKUP(C489,Sheet2!A:F,2,FALSE))","v":""},{"$f":"IF(OR(C489=\"\",ISBLANK(C489)),\"\",VLOOKUP(C489,Sheet2!A:G,4,FALSE))","v":""},null,null,{"$f":"IF(OR(C489=\"\",ISBLANK(C489)),\"\",VLOOKUP(C489,Sheet2!A:F,3,FALSE))","v":""},{"$f":"IF(OR(C489=\"\",ISBLANK(C489)),\"\",VLOOKUP(C489,Sheet2!A:G,6,FALSE))","v":""},""]
[{"$f":"IF(OR(C490=\"\",ISBLANK(C490)),\"\",VLOOKUP(C490,Sheet2!A:F,2,FALSE))","v":""},{"$f":"IF(OR(C490=\"\",ISBLANK(C490)),\"\",VLOOKUP(C490,Sheet2!A:G,4,FALSE))","v":""},null,null,{"$f":"IF(OR(C490=\"\",ISBLANK(C490)),\"\",VLOOKUP(C490,Sheet2!A:F,3,FALSE))","v":""},{"$f":"IF(OR(C490=\"\",ISBLANK(C490)),\"\",VLOOKUP(C490,Sheet2!A:G,6,FALSE))","v":""},""]
[{"$f":"IF(OR(C491=\"\",ISBLANK(C491)),\"\",VLOOKUP(C491,Sheet2!A:F,2,FALSE))","v":""},{"$f":"IF(OR(C491=\"\",ISBLANK(C491)),\"\",VLOOKUP(C491,Sheet2!A:G,4,FALSE))","v":""},null,null,{"$f":"IF(OR(C491=\"\",ISBLANK(C491)),\"\",VLOOKUP(C491,Sheet2!A:F,3,FALSE))","v":""},{"$f":"IF(OR(C491=\"\",ISBLANK(C491)),\"\",VLOOKUP(C491,Sheet2!A:G,6,FALSE))","v":""},""]
[{"$f":"IF(OR(C492=\"\",ISBLANK(C492)),\"\",VLOOKUP(C492,Sheet2!A:F,2,FALSE))","v":""},{"$f":"IF(OR(C492=\"\",ISBLANK(C492)),\"\",VLOOKUP(C492,Sheet2!A:G,4,FALSE))","v":""},null,null,{"$f":"IF(OR(C492=\"\",ISBLANK(C492)),\"\",VLOOKUP(C492,Sheet2!A:F,3,FALSE))","v":""},{"$f":"IF(OR(C492=\"\",ISBLANK(C492)),\"\",VLOOKUP(C492,Sheet2!A:G,6,FALSE))","v":""},""]
[{"$f":"IF(OR(C493=\"\",ISBLANK(C493)),\"\",VLOOKUP(C493,Sheet2!A:F,2,FALSE))","v":""},{"$f":"IF(OR(C493=\"\",ISBLANK(C493)),\"\",VLOOKUP(C493,Sheet2!A:G,4,FALSE))","v":""},null,null,{"$f":"IF(OR(C493=\"\",ISBLANK(C493)),\"\",VLOOKUP(C493,Sheet2!A:F,3,FALSE))","v":""},{"$f":"IF(OR(C493=\"\",ISBLANK(C493)),\"\",VLOOKUP(C493,Sheet2!A:G,6,FALSE))","v":""},""]
[{"$f":"IF(OR(C494=\"\",ISBLANK(C494)),\"\",VLOOKUP(C494,Sheet2!A:F,2,FALSE))","v":""},{"$f":"IF(OR(C494=\"\",ISBLANK(C494)),\"\",VLOOKUP(C494,Sheet2!A:G,4,FALSE))","v":""},null,null,{"$f":"IF(OR(C494=\"\",ISBLANK(C494)),\"\",VLOOKUP(C494,Sheet2!A:F,3,FALSE))","v":""},{"$f":"IF(OR(C494=\"\",ISBLANK(C494)),\"\",VLOOKUP(C494,Sheet2!A:G,6,FALSE))","v":""},""]
[{"$f":"IF(OR(C495=\"\",ISBLANK(C495)),\"\",VLOOKUP(C495,Sheet2!A:F,2,FALSE))","v":""},{"$f":"IF(OR(C495=\"\",ISBLANK(C495)),\"\",VLOOKUP(C495,Sheet2!A:G,4,FALSE))","v":""},null,null,{"$f":"IF(OR(C495=\"\",ISBLANK(C495)),\"\",VLOOKUP(C495,Sheet2!A:F,3,FALSE))","v":""},{"$f":"IF(OR(C495=\"\",ISBLANK(C495)),\"\",VLOOKUP(C495,Sheet2!A:G,6,FALSE))","v":""},""]
[{"$f":"IF(OR(C496=\"\",ISBLANK(C496)),\"\",VLOOKUP(C496,Sheet2!A:F,2,FALSE))","v":""},{"$f":"IF(OR(C496=\"\",ISBLANK(C496)),\"\",VLOOKUP(C496,Sheet2!A:G,4,FALSE))","v":""},null,null,{"$f":"IF(OR(C496=\"\",ISBLANK(C496)),\"\",VLOOKUP(C496,Sheet2!A:F,3,FALSE))","v":""},{"$f":"IF(OR(C496=\"\",ISBLANK(C496)),\"\",VLOOKUP(C496,Sheet2!A:G,6,FALSE))","v":""},""]
[{"$f":"IF(OR(C497=\"\",ISBLANK(C497)),\"\",VLOOKUP(C497,Sheet2!A:F,2,FALSE))","v":""},{"$f":"IF(OR(C497=\"\",ISBLANK(C497)),\"\",VLOOKUP(C497,Sheet2!A:G,4,FALSE))","v":""},null,null,{"$f":"IF(OR(C497=\"\",ISBLANK(C497)),\"\",VLOOKUP(C497,Sheet2!A:F,3,FALSE))","v":""},{"$f":"IF(OR(C497=\"\",ISBLANK(C497)),\"\",VLOOKUP(C497,Sheet2!A:G,6,FALSE))","v":""},""]
[{"$f":"IF(OR(C498=\"\",ISBLANK(C498)),\"\",VLOOKUP(C498,Sheet2!A:F,2,FALSE))","v":""},{"$f":"IF(OR(C498=\"\",ISBLANK(C498)),\"\",VLOOKUP(C498,Sheet2!A:G,4,FALSE))","v":""},null,null,{"$f":"IF(OR(C498=\"\",ISBLANK(C498)),\"\",VLOOKUP(C498,Sheet2!A:F,3,FALSE))","v":""},{"$f":"IF(OR(C498=\"\",ISBLANK(C498)),\"\",VLOOKUP(C498,Sheet2!A:G,6,FALSE))","v":""},""]
[{"$f":"IF(OR(C499=\"\",ISBLANK(C499)),\"\",VLOOKUP(C499,Sheet2!A:F,2,FALSE))","v":""},{"$f":"IF(OR(C499=\"\",ISBLANK(C499)),\"\",VLOOKUP(C499,Sheet2!A:G,4,FALSE))","v":""},null,null,{"$f":"IF(OR(C499=\"\",ISBLANK(C499)),\"\",VLOOKUP(C499,Sheet2!A:F,3,FALSE))","v":""},{"$f":"IF(OR(C499=\"\",ISBLANK(C499)),\"\",VLOOKUP(C499,Sheet2!A:G,6,FALSE))","v":""},""]
[{"$f":"IF(OR(C500=\"\",ISBLANK(C500)),\"\",VLOOKUP(C500,Sheet2!A:F,2,FALSE))","v":""},{"$f":"IF(OR(C500=\"\",ISBLANK(C500)),\"\",VLOOKUP(C500,Sheet2!A:G,4,FALSE))","v":""},null,null,{"$f":"IF(OR(C500=\"\",ISBLANK(C500)),\"\",VLOOKUP(C500,Sheet2!A:F,3,FALSE))","v":""},{"$f":"IF(OR(C500=\"\",ISBLANK(C500)),\"\",VLOOKUP(C500,Sheet2!A:G,6,FALSE))","v":""},""]
[{"$f":"IF(OR(C501=\"\",ISBLANK(C501)),\"\",VLOOKUP(C501,Sheet2!A:F,2,FALSE))","v":""},{"$f":"IF(OR(C501=\"\",ISBLANK(C501)),\"\",VLOOKUP(C501,Sheet2!A:G,4,FALSE))","v":""},null,null,{"$f":"IF(OR(C501=\"\",ISBLANK(C501)),\"\",VLOOKUP(C501,Sheet2!A:F,3,FALSE))","v":""},{"$f":"IF(OR(C501=\"\",ISBLANK(C501)),\"\",VLOOKUP(C501,Sheet2!A:G,6,FALSE))","v":""},""]
[{"$f":"IF(OR(C502=\"\",ISBLANK(C502)),\"\",VLOOKUP(C502,Sheet2!A:F,2,FALSE))","v":""},{"$f":"IF(OR(C502=\"\",ISBLANK(C502)),\"\",VLOOKUP(C502,Sheet2!A:G,4,FALSE))","v":""},null,null,{"$f":"IF(OR(C502=\"\",ISBLANK(C502)),\"\",VLOOKUP(C502,Sheet2!A:F,3,FALSE))","v":""},{"$f":"IF(OR(C502=\"\",ISBLANK(C502)),\"\",VLOOKUP(C502,Sheet2!A:G,6,FALSE))","v":""},""]
[{"$f":"IF(OR(C503=\"\",ISBLANK(C503)),\"\",VLOOKUP(C503,Sheet2!A:F,2,FALSE))","v":""},{"$f":"IF(OR(C503=\"\",ISBLANK(C503)),\"\",VLOOKUP(C503,Sheet2!A:G,4,FALSE))","v":""},null,null,{"$f":"IF(OR(C503=\"\",ISBLANK(C503)),\"\",VLOOKUP(C503,Sheet2!A:F,3,FALSE))","v":""},{"$f":"IF(OR(C503=\"\",ISBLANK(C503)),\"\",VLOOKUP(C503,Sheet2!A:G,6,FALSE))","v":""},""]
[{"$f":"IF(OR(C504=\"\",ISBLANK(C504)),\"\",VLOOKUP(C504,Sheet2!A:F,2,FALSE))","v":""},{"$f":"IF(OR(C504=\"\",ISBLANK(C504)),\"\",VLOOKUP(C504,Sheet2!A:G,4,FALSE))","v":""},null,null,{"$f":"IF(OR(C504=\"\",ISBLANK(C504)),\"\",VLOOKUP(C504,Sheet2!A:F,3,FALSE))","v":""},{"$f":"IF(OR(C504=\"\",ISBLANK(C504)),\"\",VLOOKUP(C504,Sheet2!A:G,6,FALSE))","v":""},""]
[{"$f":"IF(OR(C505=\"\",ISBLANK(C505)),\"\",VLOOKUP(C505,Sheet2!A:F,2,FALSE))","v":""},{"$f":"IF(OR(C505=\"\",ISBLANK(C505)),\"\",VLOOKUP(C505,Sheet2!A:G,4,FALSE))","v":""},null,null,{"$f":"IF(OR(C505=\"\",ISBLANK(C505)),\"\",VLOOKUP(C505,Sheet2!A:F,3,FALSE))","v":""},{"$f":"IF(OR(C505=\"\",ISBLANK(C505)),\"\",VLOOKUP(C505,Sheet2!A:G,6,FALSE))","v":""},""]
[{"$f":"IF(OR(C506=\"\",ISBLANK(C506)),\"\",VLOOKUP(C506,Sheet2!A:F,2,FALSE))","v":""},{"$f":"IF(OR(C506=\"\",ISBLANK(C506)),\"\",VLOOKUP(C506,Sheet2!A:G,4,FALSE))","v":""},null,null,{"$f":"IF(OR(C506=\"\",ISBLANK(C506)),\"\",VLOOKUP(C506,Sheet2!A:F,3,FALSE))","v":""},{"$f":"IF(OR(C506=\"\",ISBLANK(C506)),\"\",VLOOKUP(C506,Sheet2!A:G,6,FALSE))","v":""},""]
[{"$f":"IF(OR(C507=\"\",ISBLANK(C507)),\"\",VLOOKUP(C507,Sheet2!A:F,2,FALSE))","v":""},{"$f":"IF(OR(C507=\"\",ISBLANK(C507)),\"\",VLOOKUP(C507,Sheet2!A:G,4,FALSE))","v":""},null,null,{"$f":"IF(OR(C507=\"\",ISBLANK(C507)),\"\",VLOOKUP(C507,Sheet2!A:F,3,FALSE))","v":""},{"$f":"IF(OR(C507=\"\",ISBLANK(C507)),\"\",VLOOKUP(C507,Sheet2!A:G,6,FALSE))","v":""},""]
[{"$f":"IF(OR(C508=\"\",ISBLANK(C508)),\"\",VLOOKUP(C508,Sheet2!A:F,2,FALSE))","v":""},{"$f":"IF(OR(C508=\"\",ISBLANK(C508)),\"\",VLOOKUP(C508,Sheet2!A:G,4,FALSE))","v":""},null,null,{"$f":"IF(OR(C508=\"\",ISBLANK(C508)),\"\",VLOOKUP(C508,Sheet2!A:F,3,FALSE))","v":""},{"$f":"IF(OR(C508=\"\",ISBLANK(C508)),\"\",VLOOKUP(C508,Sheet2!A:G,6,FALSE))","v":""},""]
[{"$f":"IF(OR(C509=\"\",ISBLANK(C509)),\"\",VLOOKUP(C509,Sheet2!A:F,2,FALSE))","v":""},{"$f":"IF(OR(C509=\"\",ISBLANK(C509)),\"\",VLOOKUP(C509,Sheet2!A:G,4,FALSE))","v":""},null,null,{"$f":"IF(OR(C509=\"\",ISBLANK(C509)),\"\",VLOOKUP(C509,Sheet2!A:F,3,FALSE))","v":""},{"$f":"IF(OR(C509=\"\",ISBLANK(C509)),\"\",VLOOKUP(C509,Sheet2!A:G,6,FALSE))","v":""},""]
[{"$f":"IF(OR(C510=\"\",ISBLANK(C510)),\"\",VLOOKUP(C510,Sheet2!A:F,2,FALSE))","v":""},{"$f":"IF(OR(C510=\"\",ISBLANK(C510)),\"\",VLOOKUP(C510,Sheet2!A:G,4,FALSE))","v":""},null,null,{"$f":"IF(OR(C510=\"\",ISBLANK(C510)),\"\",VLOOKUP(C510,Sheet2!A:F,3,FALSE))","v":""},{"$f":"IF(OR(C510=\"\",ISBLANK(C510)),\"\",VLOOKUP(C510,Sheet2!A:G,6,FALSE))","v":""},""]
[{"$f":"IF(OR(C511=\"\",ISBLANK(C511)),\"\",VLOOKUP(C511,Sheet2!A:F,2,FALSE))","v":""},{"$f":"IF(OR(C511=\"\",ISBLANK(C511)),\"\",VLOOKUP(C511,Sheet2!A:G,4,FALSE))","v":""},null,null,{"$f":"IF(OR(C511=\"\",ISBLANK(C511)),\"\",VLOOKUP(C511,Sheet2!A:F,3,FALSE))","v":""},{"$f":"IF(OR(C511=\"\",ISBLANK(C511)),\"\",VLOOKUP(C511,Sheet2!A:G,6,FALSE))","v":""},""]
[{"$f":"IF(OR(C512=\"\",ISBLANK(C512)),\"\",VLOOKUP(C512,Sheet2!A:F,2,FALSE))","v":""},{"$f":"IF(OR(C512=\"\",ISBLANK(C512)),\"\",VLOOKUP(C512,Sheet2!A:G,4,FALSE))","v":""},null,null,{"$f":"IF(OR(C512=\"\",ISBLANK(C512)),\"\",VLOOKUP(C512,Sheet2!A:F,3,FALSE))","v":""},{"$f":"IF(OR(C512=\"\",ISBLANK(C512)),\"\",VLOOKUP(C512,Sheet2!A:G,6,FALSE))","v":""},""]
[{"$f":"IF(OR(C513=\"\",ISBLANK(C513)),\"\",VLOOKUP(C513,Sheet2!A:F,2,FALSE))","v":""},{"$f":"IF(OR(C513=\"\",ISBLANK(C513)),\"\",VLOOKUP(C513,Sheet2!A:G,4,FALSE))","v":""},null,null,{"$f":"IF(OR(C513=\"\",ISBLANK(C513)),\"\",VLOOKUP(C513,Sheet2!A:F,3,FALSE))","v":""},{"$f":"IF(OR(C513=\"\",ISBLANK(C513)),\"\",VLOOKUP(C513,Sheet2!A:G,6,FALSE))","v":""},""]
[{"$f":"IF(OR(C514=\"\",ISBLANK(C514)),\"\",VLOOKUP(C514,Sheet2!A:F,2,FALSE))","v":""},{"$f":"IF(OR(C514=\"\",ISBLANK(C514)),\"\",VLOOKUP(C514,Sheet2!A:G,4,FALSE))","v":""},null,null,{"$f":"IF(OR(C514=\"\",ISBLANK(C514)),\"\",VLOOKUP(C514,Sheet2!A:F,3,FALSE))","v":""},{"$f":"IF(OR(C514=\"\",ISBLANK(C514)),\"\",VLOOKUP(C514,Sheet2!A:G,6,FALSE))","v":""},""]
[{"$f":"IF(OR(C515=\"\",ISBLANK(C515)),\"\",VLOOKUP(C515,Sheet2!A:F,2,FALSE))","v":""},{"$f":"IF(OR(C515=\"\",ISBLANK(C515)),\"\",VLOOKUP(C515,Sheet2!A:G,4,FALSE))","v":""},null,null,{"$f":"IF(OR(C515=\"\",ISBLANK(C515)),\"\",VLOOKUP(C515,Sheet2!A:F,3,FALSE))","v":""},{"$f":"IF(OR(C515=\"\",ISBLANK(C515)),\"\",VLOOKUP(C515,Sheet2!A:G,6,FALSE))","v":""},{"$f":"IF(F515=0,\"\",F515)","v":""}]
[{"$f":"IF(OR(C516=\"\",ISBLANK(C516)),\"\",VLOOKUP(C516,Sheet2!A:F,2,FALSE))","v":""},{"$f":"IF(OR(C516=\"\",ISBLANK(C516)),\"\",VLOOKUP(C516,Sheet2!A:G,4,FALSE))","v":""},null,null,{"$f":"IF(OR(C516=\"\",ISBLANK(C516)),\"\",VLOOKUP(C516,Sheet2!A:F,3,FALSE))","v":""},{"$f":"IF(OR(C516=\"\",ISBLANK(C516)),\"\",VLOOKUP(C516,Sheet2!A:G,6,FALSE))","v":""},""]
[{"$f":"IF(OR(C517=\"\",ISBLANK(C517)),\"\",VLOOKUP(C517,Sheet2!A:F,2,FALSE))","v":""},{"$f":"IF(OR(C517=\"\",ISBLANK(C517)),\"\",VLOOKUP(C517,Sheet2!A:G,4,FALSE))","v":""},null,null,{"$f":"IF(OR(C517=\"\",ISBLANK(C517)),\"\",VLOOKUP(C517,Sheet2!A:F,3,FALSE))","v":""},{"$f":"IF(OR(C517=\"\",ISBLANK(C517)),\"\",VLOOKUP(C517,Sheet2!A:G,6,FALSE))","v":""},""]
[{"$f":"IF(OR(C518=\"\",ISBLANK(C518)),\"\",VLOOKUP(C518,Sheet2!A:F,2,FALSE))","v":""},{"$f":"IF(OR(C518=\"\",ISBLANK(C518)),\"\",VLOOKUP(C518,Sheet2!A:G,4,FALSE))","v":""},null,null,{"$f":"IF(OR(C518=\"\",ISBLANK(C518)),\"\",VLOOKUP(C518,Sheet2!A:F,3,FALSE))","v":""},{"$f":"IF(OR(C518=\"\",ISBLANK(C518)),\"\",VLOOKUP(C518,Sheet2!A:G,6,FALSE))","v":""},""]
[{"$f":"IF(OR(C519=\"\",ISBLANK(C519)),\"\",VLOOKUP(C519,Sheet2!A:F,2,FALSE))","v":""},{"$f":"IF(OR(C519=\"\",ISBLANK(C519)),\"\",VLOOKUP(C519,Sheet2!A:G,4,FALSE))","v":""},null,null,{"$f":"IF(OR(C519=\"\",ISBLANK(C519)),\"\",VLOOKUP(C519,Sheet2!A:F,3,FALSE))","v":""},{"$f":"IF(OR(C519=\"\",ISBLANK(C519)),\"\",VLOOKUP(C519,Sheet2!A:G,6,FALSE))","v":""},""]
[{"$f":"IF(OR(C520=\"\",ISBLANK(C520)),\"\",VLOOKUP(C520,Sheet2!A:F,2,FALSE))","v":""},{"$f":"IF(OR(C520=\"\",ISBLANK(C520)),\"\",VLOOKUP(C520,Sheet2!A:G,4,FALSE))","v":""},null,null,{"$f":"IF(OR(C520=\"\",ISBLANK(C520)),\"\",VLOOKUP(C520,Sheet2!A:F,3,FALSE))","v":""},{"$f":"IF(OR(C520=\"\",ISBLANK(C520)),\"\",VLOOKUP(C520,Sheet2!A:G,6,FALSE))","v":""},""]
[{"$f":"IF(OR(C521=\"\",ISBLANK(C521)),\"\",VLOOKUP(C521,Sheet2!A:F,2,FALSE))","v":""},{"$f":"IF(OR(C521=\"\",ISBLANK(C521)),\"\",VLOOKUP(C521,Sheet2!A:G,4,FALSE))","v":""},null,null,{"$f":"IF(OR(C521=\"\",ISBLANK(C521)),\"\",VLOOKUP(C521,Sheet2!A:F,3,FALSE))","v":""},{"$f":"IF(OR(C521=\"\",ISBLANK(C521)),\"\",VLOOKUP(C521,Sheet2!A:G,6,FALSE))","v":""},""]
[{"$f":"IF(OR(C522=\"\",ISBLANK(C522)),\"\",VLOOKUP(C522,Sheet2!A:F,2,FALSE))","v":""},{"$f":"IF(OR(C522=\"\",ISBLANK(C522)),\"\",VLOOKUP(C522,Sheet2!A:G,4,FALSE))","v":""},null,null,{"$f":"IF(OR(C522=\"\",ISBLANK(C522)),\"\",VLOOKUP(C522,Sheet2!A:F,3,FALSE))","v":""},{"$f":"IF(OR(C522=\"\",ISBLANK(C522)),\"\",VLOOKUP(C522,Sheet2!A:G,6,FALSE))","v":""},""]
[{"$f":"IF(OR(C523=\"\",ISBLANK(C523)),\"\",VLOOKUP(C523,Sheet2!A:F,2,FALSE))","v":""},{"$f":"IF(OR(C523=\"\",ISBLANK(C523)),\"\",VLOOKUP(C523,Sheet2!A:G,4,FALSE))","v":""},null,null,{"$f":"IF(OR(C523=\"\",ISBLANK(C523)),\"\",VLOOKUP(C523,Sheet2!A:F,3,FALSE))","v":""},{"$f":"IF(OR(C523=\"\",ISBLANK(C523)),\"\",VLOOKUP(C523,Sheet2!A:G,6,FALSE))","v":""},""]
[{"$f":"IF(OR(C524=\"\",ISBLANK(C524)),\"\",VLOOKUP(C524,Sheet2!A:F,2,FALSE))","v":""},{"$f":"IF(OR(C524=\"\",ISBLANK(C524)),\"\",VLOOKUP(C524,Sheet2!A:G,4,FALSE))","v":""},null,null,{"$f":"IF(OR(C524=\"\",ISBLANK(C524)),\"\",VLOOKUP(C524,Sheet2!A:F,3,FALSE))","v":""},{"$f":"IF(OR(C524=\"\",ISBLANK(C524)),\"\",VLOOKUP(C524,Sheet2!A:G,6,FALSE))","v":""},""]
[{"$f":"IF(OR(C525=\"\",ISBLANK(C525)),\"\",VLOOKUP(C525,Sheet2!A:F,2,FALSE))","v":""},{"$f":"IF(OR(C525=\"\",ISBLANK(C525)),\"\",VLOOKUP(C525,Sheet2!A:G,4,FALSE))","v":""},null,null,{"$f":"IF(OR(C525=\"\",ISBLANK(C525)),\"\",VLOOKUP(C525,Sheet2!A:F,3,FALSE))","v":""},{"$f":"IF(OR(C525=\"\",ISBLANK(C525)),\"\",VLOOKUP(C525,Sheet2!A:G,6,FALSE))","v":""},""]
[{"$f":"IF(OR(C526=\"\",ISBLANK(C526)),\"\",VLOOKUP(C526,Sheet2!A:F,2,FALSE))","v":""},{"$f":"IF(OR(C526=\"\",ISBLANK(C526)),\"\",VLOOKUP(C526,Sheet2!A:G,4,FALSE))","v":""},null,null,{"$f":"IF(OR(C526=\"\",ISBLANK(C526)),\"\",VLOOKUP(C526,Sheet2!A:F,3,FALSE))","v":""},{"$f":"IF(OR(C526=\"\",ISBLANK(C526)),\"\",VLOOKUP(C526,Sheet2!A:G,6,FALSE))","v":""},""]
[{"$f":"IF(OR(C527=\"\",ISBLANK(C527)),\"\",VLOOKUP(C527,Sheet2!A:F,2,FALSE))","v":""},{"$f":"IF(OR(C527=\"\",ISBLANK(C527)),\"\",VLOOKUP(C527,Sheet2!A:G,4,FALSE))","v":""},null,null,{"$f":"IF(OR(C527=\"\",ISBLANK(C527)),\"\",VLOOKUP(C527,Sheet2!A:F,3,FALSE))","v":""},{"$f":"IF(OR(C527=\"\",ISBLANK(C527)),\"\",VLOOKUP(C527,Sheet2!A:G,6,FALSE))","v":""},""]
[{"$f":"IF(OR(C528=\"\",ISBLANK(C528)),\"\",VLOOKUP(C528,Sheet2!A:F,2,FALSE))","v":""},{"$f":"IF(OR(C528=\"\",ISBLANK(C528)),\"\",VLOOKUP(C528,Sheet2!A:G,4,FALSE))","v":""},null,null,{"$f":"IF(OR(C528=\"\",ISBLANK(C528)),\"\",VLOOKUP(C528,Sheet2!A:F,3,FALSE))","v":""},{"$f":"IF(OR(C528=\"\",ISBLANK(C528)),\"\",VLOOKUP(C528,Sheet2!A:G,6,FALSE))","v":""},""]
[{"$f":"IF(OR(C529=\"\",ISBLANK(C529)),\"\",VLOOKUP(C529,Sheet2!A:F,2,FALSE))","v":""},{"$f":"IF(OR(C529=\"\",ISBLANK(C529)),\"\",VLOOKUP(C529,Sheet2!A:G,4,FALSE))","v":""},null,null,{"$f":"IF(OR(C529=\"\",ISBLANK(C529)),\"\",VLOOKUP(C529,Sheet2!A:F,3,FALSE))","v":""},{"$f":"IF(OR(C529=\"\",ISBLANK(C529)),\"\",VLOOKUP(C529,Sheet2!A:G,6,FALSE))","v":""},""]
[{"$f":"IF(OR(C530=\"\",ISBLANK(C530)),\"\",VLOOKUP(C530,Sheet2!A:F,2,FALSE))","v":""},{"$f":"IF(OR(C530=\"\",ISBLANK(C530)),\"\",VLOOKUP(C530,Sheet2!A:G,4,FALSE))","v":""},null,null,{"$f":"IF(OR(C530=\"\",ISBLANK(C530)),\"\",VLOOKUP(C530,Sheet2!A:F,3,FALSE))","v":""},{"$f":"IF(OR(C530=\"\",ISBLANK(C530)),\"\",VLOOKUP(C530,Sheet2!A:G,6,FALSE))","v":""},""]
[{"$f":"IF(OR(C531=\"\",ISBLANK(C531)),\"\",VLOOKUP(C531,Sheet2!A:F,2,FALSE))","v":""},{"$f":"IF(OR(C531=\"\",ISBLANK(C531)),\"\",VLOOKUP(C531,Sheet2!A:G,4,FALSE))","v":""},null,null,{"$f":"IF(OR(C531=\"\",ISBLANK(C531)),\"\",VLOOKUP(C531,Sheet2!A:F,3,FALSE))","v":""},{"$f":"IF(OR(C531=\"\",ISBLANK(C531)),\"\",VLOOKUP(C531,Sheet2!A:G,6,FALSE))","v":""},""]
[{"$f":"IF(OR(C532=\"\",ISBLANK(C532)),\"\",VLOOKUP(C532,Sheet2!A:F,2,FALSE))","v":""},{"$f":"IF(OR(C532=\"\",ISBLANK(C532)),\"\",VLOOKUP(C532,Sheet2!A:G,4,FALSE))","v":""},null,null,{"$f":"IF(OR(C532=\"\",ISBLANK(C532)),\"\",VLOOKUP(C532,Sheet2!A:F,3,FALSE))","v":""},{"$f":"IF(OR(C532=\"\",ISBLANK(C532)),\"\",VLOOKUP(C532,Sheet2!A:G,6,FALSE))","v":""},""]
[{"$f":"IF(OR(C533=\"\",ISBLANK(C533)),\"\",VLOOKUP(C533,Sheet2!A:F,2,FALSE))","v":""},{"$f":"IF(OR(C533=\"\",ISBLANK(C533)),\"\",VLOOKUP(C533,Sheet2!A:G,4,FALSE))","v":""},null,null,{"$f":"IF(OR(C533=\"\",ISBLANK(C533)),\"\",VLOOKUP(C533,Sheet2!A:F,3,FALSE))","v":""},{"$f":"IF(OR(C533=\"\",ISBLANK(C533)),\"\",VLOOKUP(C533,Sheet2!A:G,6,FALSE))","v":""},""]
[{"$f":"IF(OR(C534=\"\",ISBLANK(C534)),\"\",VLOOKUP(C534,Sheet2!A:F,2,FALSE))","v":""},{"$f":"IF(OR(C534=\"\",ISBLANK(C534)),\"\",VLOOKUP(C534,Sheet2!A:G,4,FALSE))","v":""},null,null,{"$f":"IF(OR(C534=\"\",ISBLANK(C534)),\"\",VLOOKUP(C534,Sheet2!A:F,3,FALSE))","v":""},{"$f":"IF(OR(C534=\"\",ISBLANK(C534)),\"\",VLOOKUP(C534,Sheet2!A:G,6,FALSE))","v":""},""]
[{"$f":"IF(OR(C535=\"\",ISBLANK(C535)),\"\",VLOOKUP(C535,Sheet2!A:F,2,FALSE))","v":""},{"$f":"IF(OR(C535=\"\",ISBLANK(C535)),\"\",VLOOKUP(C535,Sheet2!A:G,4,FALSE))","v":""},null,null,{"$f":"IF(OR(C535=\"\",ISBLANK(C535)),\"\",VLOOKUP(C535,Sheet2!A:F,3,FALSE))","v":""},{"$f":"IF(OR(C535=\"\",ISBLANK(C535)),\"\",VLOOKUP(C535,Sheet2!A:G,6,FALSE))","v":""},""]
[{"$f":"IF(OR(C536=\"\",ISBLANK(C536)),\"\",VLOOKUP(C536,Sheet2!A:F,2,FALSE))","v":""},{"$f":"IF(OR(C536=\"\",ISBLANK(C536)),\"\",VLOOKUP(C536,Sheet2!A:G,4,FALSE))","v":""},null,null,{"$f":"IF(OR(C536=\"\",ISBLANK(C536)),\"\",VLOOKUP(C536,Sheet2!A:F,3,FALSE))","v":""},{"$f":"IF(OR(C536=\"\",ISBLANK(C536)),\"\",VLOOKUP(C536,Sheet2!A:G,6,FALSE))","v":""},""]
[{"$f":"IF(OR(C537=\"\",ISBLANK(C537)),\"\",VLOOKUP(C537,Sheet2!A:F,2,FALSE))","v":""},{"$f":"IF(OR(C537=\"\",ISBLANK(C537)),\"\",VLOOKUP(C537,Sheet2!A:G,4,FALSE))","v":""},null,null,{"$f":"IF(OR(C537=\"\",ISBLANK(C537)),\"\",VLOOKUP(C537,Sheet2!A:F,3,FALSE))","v":""},{"$f":"IF(OR(C537=\"\",ISBLANK(C537)),\"\",VLOOKUP(C537,Sheet2!A:G,6,FALSE))","v":""},""]
[{"$f":"IF(OR(C538=\"\",ISBLANK(C538)),\"\",VLOOKUP(C538,Sheet2!A:F,2,FALSE))","v":""},{"$f":"IF(OR(C538=\"\",ISBLANK(C538)),\"\",VLOOKUP(C538,Sheet2!A:G,4,FALSE))","v":""},null,null,{"$f":"IF(OR(C538=\"\",ISBLANK(C538)),\"\",VLOOKUP(C538,Sheet2!A:F,3,FALSE))","v":""},{"$f":"IF(OR(C538=\"\",ISBLANK(C538)),\"\",VLOOKUP(C538,Sheet2!A:G,6,FALSE))","v":""},""]
[{"$f":"IF(OR(C539=\"\",ISBLANK(C539)),\"\",VLOOKUP(C539,Sheet2!A:F,2,FALSE))","v":""},{"$f":"IF(OR(C539=\"\",ISBLANK(C539)),\"\",VLOOKUP(C539,Sheet2!A:G,4,FALSE))","v":""},null,null,{"$f":"IF(OR(C539=\"\",ISBLANK(C539)),\"\",VLOOKUP(C539,Sheet2!A:F,3,FALSE))","v":""},{"$f":"IF(OR(C539=\"\",ISBLANK(C539)),\"\",VLOOKUP(C539,Sheet2!A:G,6,FALSE))","v":""},""]
[{"$f":"IF(OR(C540=\"\",ISBLANK(C540)),\"\",VLOOKUP(C540,Sheet2!A:F,2,FALSE))","v":""},{"$f":"IF(OR(C540=\"\",ISBLANK(C540)),\"\",VLOOKUP(C540,Sheet2!A:G,4,FALSE))","v":""},null,null,{"$f":"IF(OR(C540=\"\",ISBLANK(C540)),\"\",VLOOKUP(C540,Sheet2!A:F,3,FALSE))","v":""},{"$f":"IF(OR(C540=\"\",ISBLANK(C540)),\"\",VLOOKUP(C540,Sheet2!A:G,6,FALSE))","v":""},""]
[{"$f":"IF(OR(C541=\"\",ISBLANK(C541)),\"\",VLOOKUP(C541,Sheet2!A:F,2,FALSE))","v":""},{"$f":"IF(OR(C541=\"\",ISBLANK(C541)),\"\",VLOOKUP(C541,Sheet2!A:G,4,FALSE))","v":""},null,null,{"$f":"IF(OR(C541=\"\",ISBLANK(C541)),\"\",VLOOKUP(C541,Sheet2!A:F,3,FALSE))","v":""},{"$f":"IF(OR(C541=\"\",ISBLANK(C541)),\"\",VLOOKUP(C541,Sheet2!A:G,6,FALSE))","v":""},""]
[{"$f":"IF(OR(C542=\"\",ISBLANK(C542)),\"\",VLOOKUP(C542,Sheet2!A:F,2,FALSE))","v":""},{"$f":"IF(OR(C542=\"\",ISBLANK(C542)),\"\",VLOOKUP(C542,Sheet2!A:G,4,FALSE))","v":""},null,null,{"$f":"IF(OR(C542=\"\",ISBLANK(C542)),\"\",VLOOKUP(C542,Sheet2!A:F,3,FALSE))","v":""},{"$f":"IF(OR(C542=\"\",ISBLANK(C542)),\"\",VLOOKUP(C542,Sheet2!A:G,6,FALSE))","v":""},""]
[{"$f":"IF(OR(C543=\"\",ISBLANK(C543)),\"\",VLOOKUP(C543,Sheet2!A:F,2,FALSE))","v":""},{"$f":"IF(OR(C543=\"\",ISBLANK(C543)),\"\",VLOOKUP(C543,Sheet2!A:G,4,FALSE))","v":""},null,null,{"$f":"IF(OR(C543=\"\",ISBLANK(C543)),\"\",VLOOKUP(C543,Sheet2!A:F,3,FALSE))","v":""},{"$f":"IF(OR(C543=\"\",ISBLANK(C543)),\"\",VLOOKUP(C543,Sheet2!A:G,6,FALSE))","v":""},""]
[{"$f":"IF(OR(C544=\"\",ISBLANK(C544)),\"\",VLOOKUP(C544,Sheet2!A:F,2,FALSE))","v":""},{"$f":"IF(OR(C544=\"\",ISBLANK(C544)),\"\",VLOOKUP(C544,Sheet2!A:G,4,FALSE))","v":""},null,null,{"$f":"IF(OR(C544=\"\",ISBLANK(C544)),\"\",VLOOKUP(C544,Sheet2!A:F,3,FALSE))","v":""},{"$f":"IF(OR(C544=\"\",ISBLANK(C544)),\"\",VLOOKUP(C544,Sheet2!A:G,6,FALSE))","v":""},""]
[{"$f":"IF(OR(C545=\"\",ISBLANK(C545)),\"\",VLOOKUP(C545,Sheet2!A:F,2,FALSE))","v":""},{"$f":"IF(OR(C545=\"\",ISBLANK(C545)),\"\",VLOOKUP(C545,Sheet2!A:G,4,FALSE))","v":""},null,null,{"$f":"IF(OR(C545=\"\",ISBLANK(C545)),\"\",VLOOKUP(C545,Sheet2!A:F,3,FALSE))","v":""},{"$f":"IF(OR(C545=\"\",ISBLANK(C545)),\"\",VLOOKUP(C545,Sheet2!A:G,6,FALSE))","v":""},""]
[{"$f":"IF(OR(C546=\"\",ISBLANK(C546)),\"\",VLOOKUP(C546,Sheet2!A:F,2,FALSE))","v":""},{"$f":"IF(OR(C546=\"\",ISBLANK(C546)),\"\",VLOOKUP(C546,Sheet2!A:G,4,FALSE))","v":""},null,null,{"$f":"IF(OR(C546=\"\",ISBLANK(C546)),\"\",VLOOKUP(C546,Sheet2!A:F,3,FALSE))","v":""},{"$f":"IF(OR(C546=\"\",ISBLANK(C546)),\"\",VLOOKUP(C546,Sheet2!A:G,6,FALSE))","v":""},""]
[{"$f":"IF(OR(C547=\"\",ISBLANK(C547)),\"\",VLOOKUP(C547,Sheet2!A:F,2,FALSE))","v":""},{"$f":"IF(OR(C547=\"\",ISBLANK(C547)),\"\",VLOOKUP(C547,Sheet2!A:G,4,FALSE))","v":""},null,null,{"$f":"IF(OR(C547=\"\",ISBLANK(C547)),\"\",VLOOKUP(C547,Sheet2!A:F,3,FALSE))","v":""},{"$f":"IF(OR(C547=\"\",ISBLANK(C547)),\"\",VLOOKUP(C547,Sheet2!A:G,6,FALSE))","v":""},""]
[{"$f":"IF(OR(C548=\"\",ISBLANK(C548)),\"\",VLOOKUP(C548,Sheet2!A:F,2,FALSE))","v":""},{"$f":"IF(OR(C548=\"\",ISBLANK(C548)),\"\",VLOOKUP(C548,Sheet2!A:G,4,FALSE))","v":""},null,null,{"$f":"IF(OR(C548=\"\",ISBLANK(C548)),\"\",VLOOKUP(C548,Sheet2!A:F,3,FALSE))","v":""},{"$f":"IF(OR(C548=\"\",ISBLANK(C548)),\"\",VLOOKUP(C548,Sheet2!A:G,6,FALSE))","v":""},""]
[{"$f":"IF(OR(C549=\"\",ISBLANK(C549)),\"\",VLOOKUP(C549,Sheet2!A:F,2,FALSE))","v":""},{"$f":"IF(OR(C549=\"\",ISBLANK(C549)),\"\",VLOOKUP(C549,Sheet2!A:G,4,FALSE))","v":""},null,null,{"$f":"IF(OR(C549=\"\",ISBLANK(C549)),\"\",VLOOKUP(C549,Sheet2!A:F,3,FALSE))","v":""},{"$f":"IF(OR(C549=\"\",ISBLANK(C549)),\"\",VLOOKUP(C549,Sheet2!A:G,6,FALSE))","v":""},""]
[{"$f":"IF(OR(C550=\"\",ISBLANK(C550)),\"\",VLOOKUP(C550,Sheet2!A:F,2,FALSE))","v":""},{"$f":"IF(OR(C550=\"\",ISBLANK(C550)),\"\",VLOOKUP(C550,Sheet2!A:G,4,FALSE))","v":""},null,null,{"$f":"IF(OR(C550=\"\",ISBLANK(C550)),\"\",VLOOKUP(C550,Sheet2!A:F,3,FALSE))","v":""},{"$f":"IF(OR(C550=\"\",ISBLANK(C550)),\"\",VLOOKUP(C550,Sheet2!A:G,6,FALSE))","v":""},""]
[{"$f":"IF(OR(C551=\"\",ISBLANK(C551)),\"\",VLOOKUP(C551,Sheet2!A:F,2,FALSE))","v":""},{"$f":"IF(OR(C551=\"\",ISBLANK(C551)),\"\",VLOOKUP(C551,Sheet2!A:G,4,FALSE))","v":""},null,null,{"$f":"IF(OR(C551=\"\",ISBLANK(C551)),\"\",VLOOKUP(C551,Sheet2!A:F,3,FALSE))","v":""},{"$f":"IF(OR(C551=\"\",ISBLANK(C551)),\"\",VLOOKUP(C551,Sheet2!A:G,6,FALSE))","v":""},""]
[{"$f":"IF(OR(C552=\"\",ISBLANK(C552)),\"\",VLOOKUP(C552,Sheet2!A:F,2,FALSE))","v":""},{"$f":"IF(OR(C552=\"\",ISBLANK(C552)),\"\",VLOOKUP(C552,Sheet2!A:G,4,FALSE))","v":""},null,null,{"$f":"IF(OR(C552=\"\",ISBLANK(C552)),\"\",VLOOKUP(C552,Sheet2!A:F,3,FALSE))","v":""},{"$f":"IF(OR(C552=\"\",ISBLANK(C552)),\"\",VLOOKUP(C552,Sheet2!A:G,6,FALSE))","v":""},""]
[{"$f":"IF(OR(C553=\"\",ISBLANK(C553)),\"\",VLOOKUP(C553,Sheet2!A:F,2,FALSE))","v":""},{"$f":"IF(OR(C553=\"\",ISBLANK(C553)),\"\",VLOOKUP(C553,Sheet2!A:G,4,FALSE))","v":""},null,null,{"$f":"IF(OR(C553=\"\",ISBLANK(C553)),\"\",VLOOKUP(C553,Sheet2!A:F,3,FALSE))","v":""},{"$f":"IF(OR(C553=\"\",ISBLANK(C553)),\"\",VLOOKUP(C553,Sheet2!A:G,6,FALSE))","v":""},""]
[{"$f":"IF(OR(C554=\"\",ISBLANK(C554)),\"\",VLOOKUP(C554,Sheet2!A:F,2,FALSE))","v":""},{"$f":"IF(OR(C554=\"\",ISBLANK(C554)),\"\",VLOOKUP(C554,Sheet2!A:G,4,FALSE))","v":""},null,null,{"$f":"IF(OR(C554=\"\",ISBLANK(C554)),\"\",VLOOKUP(C554,Sheet2!A:F,3,FALSE))","v":""},{"$f":"IF(OR(C554=\"\",ISBLANK(C554)),\"\",VLOOKUP(C554,Sheet2!A:G,6,FALSE))","v":""},""]
[{"$f":"IF(OR(C555=\"\",ISBLANK(C555)),\"\",VLOOKUP(C555,Sheet2!A:F,2,FALSE))","v":""},{"$f":"IF(OR(C555=\"\",ISBLANK(C555)),\"\",VLOOKUP(C555,Sheet2!A:G,4,FALSE))","v":""},null,null,{"$f":"IF(OR(C555=\"\",ISBLANK(C555)),\"\",VLOOKUP(C555,Sheet2!A:F,3,FALSE))","v":""},{"$f":"IF(OR(C555=\"\",ISBLANK(C555)),\"\",VLOOKUP(C555,Sheet2!A:G,6,FALSE))","v":""},""]
[{"$f":"IF(OR(C556=\"\",ISBLANK(C556)),\"\",VLOOKUP(C556,Sheet2!A:F,2,FALSE))","v":""},{"$f":"IF(OR(C556=\"\",ISBLANK(C556)),\"\",VLOOKUP(C556,Sheet2!A:G,4,FALSE))","v":""},null,null,{"$f":"IF(OR(C556=\"\",ISBLANK(C556)),\"\",VLOOKUP(C556,Sheet2!A:F,3,FALSE))","v":""},{"$f":"IF(OR(C556=\"\",ISBLANK(C556)),\"\",VLOOKUP(C556,Sheet2!A:G,6,FALSE))","v":""},""]
[{"$f":"IF(OR(C557=\"\",ISBLANK(C557)),\"\",VLOOKUP(C557,Sheet2!A:F,2,FALSE))","v":""},{"$f":"IF(OR(C557=\"\",ISBLANK(C557)),\"\",VLOOKUP(C557,Sheet2!A:G,4,FALSE))","v":""},null,null,{"$f":"IF(OR(C557=\"\",ISBLANK(C557)),\"\",VLOOKUP(C557,Sheet2!A:F,3,FALSE))","v":""},{"$f":"IF(OR(C557=\"\",ISBLANK(C557)),\"\",VLOOKUP(C557,Sheet2!A:G,6,FALSE))","v":""},""]
[{"$f":"IF(OR(C558=\"\",ISBLANK(C558)),\"\",VLOOKUP(C558,Sheet2!A:F,2,FALSE))","v":""},{"$f":"IF(OR(C558=\"\",ISBLANK(C558)),\"\",VLOOKUP(C558,Sheet2!A:G,4,FALSE))","v":""},null,null,{"$f":"IF(OR(C558=\"\",ISBLANK(C558)),\"\",VLOOKUP(C558,Sheet2!A:F,3,FALSE))","v":""},{"$f":"IF(OR(C558=\"\",ISBLANK(C558)),\"\",VLOOKUP(C558,Sheet2!A:G,6,FALSE))","v":""},""]
[{"$f":"IF(OR(C559=\"\",ISBLANK(C559)),\"\",VLOOKUP(C559,Sheet2!A:F,2,FALSE))","v":""},{"$f":"IF(OR(C559=\"\",ISBLANK(C559)),\"\",VLOOKUP(C559,Sheet2!A:G,4,FALSE))","v":""},null,null,{"$f":"IF(OR(C559=\"\",ISBLANK(C559)),\"\",VLOOKUP(C559,Sheet2!A:F,3,FALSE))","v":""},{"$f":"IF(OR(C559=\"\",ISBLANK(C559)),\"\",VLOOKUP(C559,Sheet2!A:G,6,FALSE))","v":""},""]
[{"$f":"IF(OR(C560=\"\",ISBLANK(C560)),\"\",VLOOKUP(C560,Sheet2!A:F,2,FALSE))","v":""},{"$f":"IF(OR(C560=\"\",ISBLANK(C560)),\"\",VLOOKUP(C560,Sheet2!A:G,4,FALSE))","v":""},null,null,{"$f":"IF(OR(C560=\"\",ISBLANK(C560)),\"\",VLOOKUP(C560,Sheet2!A:F,3,FALSE))","v":""},{"$f":"IF(OR(C560=\"\",ISBLANK(C560)),\"\",VLOOKUP(C560,Sheet2!A:G,6,FALSE))","v":""},""]
[{"$f":"IF(OR(C561=\"\",ISBLANK(C561)),\"\",VLOOKUP(C561,Sheet2!A:F,2,FALSE))","v":""},{"$f":"IF(OR(C561=\"\",ISBLANK(C561)),\"\",VLOOKUP(C561,Sheet2!A:G,4,FALSE))","v":""},null,null,{"$f":"IF(OR(C561=\"\",ISBLANK(C561)),\"\",VLOOKUP(C561,Sheet2!A:F,3,FALSE))","v":""},{"$f":"IF(OR(C561=\"\",ISBLANK(C561)),\"\",VLOOKUP(C561,Sheet2!A:G,6,FALSE))","v":""},""]
[{"$f":"IF(OR(C562=\"\",ISBLANK(C562)),\"\",VLOOKUP(C562,Sheet2!A:F,2,FALSE))","v":""},{"$f":"IF(OR(C562=\"\",ISBLANK(C562)),\"\",VLOOKUP(C562,Sheet2!A:G,4,FALSE))","v":""},null,null,{"$f":"IF(OR(C562=\"\",ISBLANK(C562)),\"\",VLOOKUP(C562,Sheet2!A:F,3,FALSE))","v":""},{"$f":"IF(OR(C562=\"\",ISBLANK(C562)),\"\",VLOOKUP(C562,Sheet2!A:G,6,FALSE))","v":""},""]
[{"$f":"IF(OR(C563=\"\",ISBLANK(C563)),\"\",VLOOKUP(C563,Sheet2!A:F,2,FALSE))","v":""},{"$f":"IF(OR(C563=\"\",ISBLANK(C563)),\"\",VLOOKUP(C563,Sheet2!A:G,4,FALSE))","v":""},null,null,{"$f":"IF(OR(C563=\"\",ISBLANK(C563)),\"\",VLOOKUP(C563,Sheet2!A:F,3,FALSE))","v":""},{"$f":"IF(OR(C563=\"\",ISBLANK(C563)),\"\",VLOOKUP(C563,Sheet2!A:G,6,FALSE))","v":""},""]
[{"$f":"IF(OR(C564=\"\",ISBLANK(C564)),\"\",VLOOKUP(C564,Sheet2!A:F,2,FALSE))","v":""},{"$f":"IF(OR(C564=\"\",ISBLANK(C564)),\"\",VLOOKUP(C564,Sheet2!A:G,4,FALSE))","v":""},null,null,{"$f":"IF(OR(C564=\"\",ISBLANK(C564)),\"\",VLOOKUP(C564,Sheet2!A:F,3,FALSE))","v":""},{"$f":"IF(OR(C564=\"\",ISBLANK(C564)),\"\",VLOOKUP(C564,Sheet2!A:G,6,FALSE))","v":""},""]
[{"$f":"IF(OR(C565=\"\",ISBLANK(C565)),\"\",VLOOKUP(C565,Sheet2!A:F,2,FALSE))","v":""},{"$f":"IF(OR(C565=\"\",ISBLANK(C565)),\"\",VLOOKUP(C565,Sheet2!A:G,4,FALSE))","v":""},null,null,{"$f":"IF(OR(C565=\"\",ISBLANK(C565)),\"\",VLOOKUP(C565,Sheet2!A:F,3,FALSE))","v":""},{"$f":"IF(OR(C565=\"\",ISBLANK(C565)),\"\",VLOOKUP(C565,Sheet2!A:G,6,FALSE))","v":""},""]
[{"$f":"IF(OR(C566=\"\",ISBLANK(C566)),\"\",VLOOKUP(C566,Sheet2!A:F,2,FALSE))","v":""},{"$f":"IF(OR(C566=\"\",ISBLANK(C566)),\"\",VLOOKUP(C566,Sheet2!A:G,4,FALSE))","v":""},null,null,{"$f":"IF(OR(C566=\"\",ISBLANK(C566)),\"\",VLOOKUP(C566,Sheet2!A:F,3,FALSE))","v":""},{"$f":"IF(OR(C566=\"\",ISBLANK(C566)),\"\",VLOOKUP(C566,Sheet2!A:G,6,FALSE))","v":""},""]
[{"$f":"IF(OR(C567=\"\",ISBLANK(C567)),\"\",VLOOKUP(C567,Sheet2!A:F,2,FALSE))","v":""},{"$f":"IF(OR(C567=\"\",ISBLANK(C567)),\"\",VLOOKUP(C567,Sheet2!A:G,4,FALSE))","v":""},null,null,{"$f":"IF(OR(C567=\"\",ISBLANK(C567)),\"\",VLOOKUP(C567,Sheet2!A:F,3,FALSE))","v":""},{"$f":"IF(OR(C567=\"\",ISBLANK(C567)),\"\",VLOOKUP(C567,Sheet2!A:G,6,FALSE))","v":""},""]
[{"$f":"IF(OR(C568=\"\",ISBLANK(C568)),\"\",VLOOKUP(C568,Sheet2!A:F,2,FALSE))","v":""},{"$f":"IF(OR(C568=\"\",ISBLANK(C568)),\"\",VLOOKUP(C568,Sheet2!A:G,4,FALSE))","v":""},null,null,{"$f":"IF(OR(C568=\"\",ISBLANK(C568)),\"\",VLOOKUP(C568,Sheet2!A:F,3,FALSE))","v":""},{"$f":"IF(OR(C568=\"\",ISBLANK(C568)),\"\",VLOOKUP(C568,Sheet2!A:G,6,FALSE))","v":""},""]
[{"$f":"IF(OR(C569=\"\",ISBLANK(C569)),\"\",VLOOKUP(C569,Sheet2!A:F,2,FALSE))","v":""},{"$f":"IF(OR(C569=\"\",ISBLANK(C569)),\"\",VLOOKUP(C569,Sheet2!A:G,4,FALSE))","v":""},null,null,{"$f":"IF(OR(C569=\"\",ISBLANK(C569)),\"\",VLOOKUP(C569,Sheet2!A:F,3,FALSE))","v":""},{"$f":"IF(OR(C569=\"\",ISBLANK(C569)),\"\",VLOOKUP(C569,Sheet2!A:G,6,FALSE))","v":""},""]
[{"$f":"IF(OR(C570=\"\",ISBLANK(C570)),\"\",VLOOKUP(C570,Sheet2!A:F,2,FALSE))","v":""},{"$f":"IF(OR(C570=\"\",ISBLANK(C570)),\"\",VLOOKUP(C570,Sheet2!A:G,4,FALSE))","v":""},null,null,{"$f":"IF(OR(C570=\"\",ISBLANK(C570)),\"\",VLOOKUP(C570,Sheet2!A:F,3,FALSE))","v":""},{"$f":"IF(OR(C570=\"\",ISBLANK(C570)),\"\",VLOOKUP(C570,Sheet2!A:G,6,FALSE))","v":""},""]
[{"$f":"IF(OR(C571=\"\",ISBLANK(C571)),\"\",VLOOKUP(C571,Sheet2!A:F,2,FALSE))","v":""},{"$f":"IF(OR(C571=\"\",ISBLANK(C571)),\"\",VLOOKUP(C571,Sheet2!A:G,4,FALSE))","v":""},null,null,{"$f":"IF(OR(C571=\"\",ISBLANK(C571)),\"\",VLOOKUP(C571,Sheet2!A:F,3,FALSE))","v":""},{"$f":"IF(OR(C571=\"\",ISBLANK(C571)),\"\",VLOOKUP(C571,Sheet2!A:G,6,FALSE))","v":""},""]
[{"$f":"IF(OR(C572=\"\",ISBLANK(C572)),\"\",VLOOKUP(C572,Sheet2!A:F,2,FALSE))","v":""},{"$f":"IF(OR(C572=\"\",ISBLANK(C572)),\"\",VLOOKUP(C572,Sheet2!A:G,4,FALSE))","v":""},null,null,{"$f":"IF(OR(C572=\"\",ISBLANK(C572)),\"\",VLOOKUP(C572,Sheet2!A:F,3,FALSE))","v":""},{"$f":"IF(OR(C572=\"\",ISBLANK(C572)),\"\",VLOOKUP(C572,Sheet2!A:G,6,FALSE))","v":""},""]
[{"$f":"IF(OR(C573=\"\",ISBLANK(C573)),\"\",VLOOKUP(C573,Sheet2!A:F,2,FALSE))","v":""},{"$f":"IF(OR(C573=\"\",ISBLANK(C573)),\"\",VLOOKUP(C573,Sheet2!A:G,4,FALSE))","v":""},null,null,{"$f":"IF(OR(C573=\"\",ISBLANK(C573)),\"\",VLOOKUP(C573,Sheet2!A:F,3,FALSE))","v":""},{"$f":"IF(OR(C573=\"\",ISBLANK(C573)),\"\",VLOOKUP(C573,Sheet2!A:G,6,FALSE))","v":""},""]
[{"$f":"IF(OR(C574=\"\",ISBLANK(C574)),\"\",VLOOKUP(C574,Sheet2!A:F,2,FALSE))","v":""},{"$f":"IF(OR(C574=\"\",ISBLANK(C574)),\"\",VLOOKUP(C574,Sheet2!A:G,4,FALSE))","v":""},null,null,{"$f":"IF(OR(C574=\"\",ISBLANK(C574)),\"\",VLOOKUP(C574,Sheet2!A:F,3,FALSE))","v":""},{"$f":"IF(OR(C574=\"\",ISBLANK(C574)),\"\",VLOOKUP(C574,Sheet2!A:G,6,FALSE))","v":""},""]
[{"$f":"IF(OR(C575=\"\",ISBLANK(C575)),\"\",VLOOKUP(C575,Sheet2!A:F,2,FALSE))","v":""},{"$f":"IF(OR(C575=\"\",ISBLANK(C575)),\"\",VLOOKUP(C575,Sheet2!A:G,4,FALSE))","v":""},null,null,{"$f":"IF(OR(C575=\"\",ISBLANK(C575)),\"\",VLOOKUP(C575,Sheet2!A:F,3,FALSE))","v":""},{"$f":"IF(OR(C575=\"\",ISBLANK(C575)),\"\",VLOOKUP(C575,Sheet2!A:G,6,FALSE))","v":""},""]
[{"$f":"IF(OR(C576=\"\",ISBLANK(C576)),\"\",VLOOKUP(C576,Sheet2!A:F,2,FALSE))","v":""},{"$f":"IF(OR(C576=\"\",ISBLANK(C576)),\"\",VLOOKUP(C576,Sheet2!A:G,4,FALSE))","v":""},null,null,{"$f":"IF(OR(C576=\"\",ISBLANK(C576)),\"\",VLOOKUP(C576,Sheet2!A:F,3,FALSE))","v":""},{"$f":"IF(OR(C576=\"\",ISBLANK(C576)),\"\",VLOOKUP(C576,Sheet2!A:G,6,FALSE))","v":""},""]
[{"$f":"IF(OR(C577=\"\",ISBLANK(C577)),\"\",VLOOKUP(C577,Sheet2!A:F,2,FALSE))","v":""},{"$f":"IF(OR(C577=\"\",ISBLANK(C577)),\"\",VLOOKUP(C577,Sheet2!A:G,4,FALSE))","v":""},null,null,{"$f":"IF(OR(C577=\"\",ISBLANK(C577)),\"\",VLOOKUP(C577,Sheet2!A:F,3,FALSE))","v":""},{"$f":"IF(OR(C577=\"\",ISBLANK(C577)),\"\",VLOOKUP(C577,Sheet2!A:G,6,FALSE))","v":""},""]
[{"$f":"IF(OR(C578=\"\",ISBLANK(C578)),\"\",VLOOKUP(C578,Sheet2!A:F,2,FALSE))","v":""},{"$f":"IF(OR(C578=\"\",ISBLANK(C578)),\"\",VLOOKUP(C578,Sheet2!A:G,4,FALSE))","v":""},null,null,{"$f":"IF(OR(C578=\"\",ISBLANK(C578)),\"\",VLOOKUP(C578,Sheet2!A:F,3,FALSE))","v":""},{"$f":"IF(OR(C578=\"\",ISBLANK(C578)),\"\",VLOOKUP(C578,Sheet2!A:G,6,FALSE))","v":""},""]
[{"$f":"IF(OR(C579=\"\",ISBLANK(C579)),\"\",VLOOKUP(C579,Sheet2!A:F,2,FALSE))","v":""},{"$f":"IF(OR(C579=\"\",ISBLANK(C579)),\"\",VLOOKUP(C579,Sheet2!A:G,4,FALSE))","v":""},null,null,{"$f":"IF(OR(C579=\"\",ISBLANK(C579)),\"\",VLOOKUP(C579,Sheet2!A:F,3,FALSE))","v":""},{"$f":"IF(OR(C579=\"\",ISBLANK(C579)),\"\",VLOOKUP(C579,Sheet2!A:G,6,FALSE))","v":""},{"$f":"IF(F579=0,\"\",F579)","v":""}]
[{"$f":"IF(OR(C580=\"\",ISBLANK(C580)),\"\",VLOOKUP(C580,Sheet2!A:F,2,FALSE))","v":""},{"$f":"IF(OR(C580=\"\",ISBLANK(C580)),\"\",VLOOKUP(C580,Sheet2!A:G,4,FALSE))","v":""},null,null,{"$f":"IF(OR(C580=\"\",ISBLANK(C580)),\"\",VLOOKUP(C580,Sheet2!A:F,3,FALSE))","v":""},{"$f":"IF(OR(C580=\"\",ISBLANK(C580)),\"\",VLOOKUP(C580,Sheet2!A:G,6,FALSE))","v":""},""]
[{"$f":"IF(OR(C581=\"\",ISBLANK(C581)),\"\",VLOOKUP(C581,Sheet2!A:F,2,FALSE))","v":""},{"$f":"IF(OR(C581=\"\",ISBLANK(C581)),\"\",VLOOKUP(C581,Sheet2!A:G,4,FALSE))","v":""},null,null,{"$f":"IF(OR(C581=\"\",ISBLANK(C581)),\"\",VLOOKUP(C581,Sheet2!A:F,3,FALSE))","v":""},{"$f":"IF(OR(C581=\"\",ISBLANK(C581)),\"\",VLOOKUP(C581,Sheet2!A:G,6,FALSE))","v":""},""]
[{"$f":"IF(OR(C582=\"\",ISBLANK(C582)),\"\",VLOOKUP(C582,Sheet2!A:F,2,FALSE))","v":""},{"$f":"IF(OR(C582=\"\",ISBLANK(C582)),\"\",VLOOKUP(C582,Sheet2!A:G,4,FALSE))","v":""},null,null,{"$f":"IF(OR(C582=\"\",ISBLANK(C582)),\"\",VLOOKUP(C582,Sheet2!A:F,3,FALSE))","v":""},{"$f":"IF(OR(C582=\"\",ISBLANK(C582)),\"\",VLOOKUP(C582,Sheet2!A:G,6,FALSE))","v":""},""]
[{"$f":"IF(OR(C583=\"\",ISBLANK(C583)),\"\",VLOOKUP(C583,Sheet2!A:F,2,FALSE))","v":""},{"$f":"IF(OR(C583=\"\",ISBLANK(C583)),\"\",VLOOKUP(C583,Sheet2!A:G,4,FALSE))","v":""},null,null,{"$f":"IF(OR(C583=\"\",ISBLANK(C583)),\"\",VLOOKUP(C583,Sheet2!A:F,3,FALSE))","v":""},{"$f":"IF(OR(C583=\"\",ISBLANK(C583)),\"\",VLOOKUP(C583,Sheet2!A:G,6,FALSE))","v":""},""]
[{"$f":"IF(OR(C584=\"\",ISBLANK(C584)),\"\",VLOOKUP(C584,Sheet2!A:F,2,FALSE))","v":""},{"$f":"IF(OR(C584=\"\",ISBLANK(C584)),\"\",VLOOKUP(C584,Sheet2!A:G,4,FALSE))","v":""},null,null,{"$f":"IF(OR(C584=\"\",ISBLANK(C584)),\"\",VLOOKUP(C584,Sheet2!A:F,3,FALSE))","v":""},{"$f":"IF(OR(C584=\"\",ISBLANK(C584)),\"\",VLOOKUP(C584,Sheet2!A:G,6,FALSE))","v":""},""]
[{"$f":"IF(OR(C585=\"\",ISBLANK(C585)),\"\",VLOOKUP(C585,Sheet2!A:F,2,FALSE))","v":""},{"$f":"IF(OR(C585=\"\",ISBLANK(C585)),\"\",VLOOKUP(C585,Sheet2!A:G,4,FALSE))","v":""},null,null,{"$f":"IF(OR(C585=\"\",ISBLANK(C585)),\"\",VLOOKUP(C585,Sheet2!A:F,3,FALSE))","v":""},{"$f":"IF(OR(C585=\"\",ISBLANK(C585)),\"\",VLOOKUP(C585,Sheet2!A:G,6,FALSE))","v":""},""]
[{"$f":"IF(OR(C586=\"\",ISBLANK(C586)),\"\",VLOOKUP(C586,Sheet2!A:F,2,FALSE))","v":""},{"$f":"IF(OR(C586=\"\",ISBLANK(C586)),\"\",VLOOKUP(C586,Sheet2!A:G,4,FALSE))","v":""},null,null,{"$f":"IF(OR(C586=\"\",ISBLANK(C586)),\"\",VLOOKUP(C586,Sheet2!A:F,3,FALSE))","v":""},{"$f":"IF(OR(C586=\"\",ISBLANK(C586)),\"\",VLOOKUP(C586,Sheet2!A:G,6,FALSE))","v":""},""]
[{"$f":"IF(OR(C587=\"\",ISBLANK(C587)),\"\",VLOOKUP(C587,Sheet2!A:F,2,FALSE))","v":""},{"$f":"IF(OR(C587=\"\",ISBLANK(C587)),\"\",VLOOKUP(C587,Sheet2!A:G,4,FALSE))","v":""},null,null,{"$f":"IF(OR(C587=\"\",ISBLANK(C587)),\"\",VLOOKUP(C587,Sheet2!A:F,3,FALSE))","v":""},{"$f":"IF(OR(C587=\"\",ISBLANK(C587)),\"\",VLOOKUP(C587,Sheet2!A:G,6,FALSE))","v":""},""]
[{"$f":"IF(OR(C588=\"\",ISBLANK(C588)),\"\",VLOOKUP(C588,Sheet2!A:F,2,FALSE))","v":""},{"$f":"IF(OR(C588=\"\",ISBLANK(C588)),\"\",VLOOKUP(C588,Sheet2!A:G,4,FALSE))","v":""},null,null,{"$f":"IF(OR(C588=\"\",ISBLANK(C588)),\"\",VLOOKUP(C588,Sheet2!A:F,3,FALSE))","v":""},{"$f":"IF(OR(C588=\"\",ISBLANK(C588)),\"\",VLOOKUP(C588,Sheet2!A:G,6,FALSE))","v":""},""]
[{"$f":"IF(OR(C589=\"\",ISBLANK(C589)),\"\",VLOOKUP(C589,Sheet2!A:F,2,FALSE))","v":""},{"$f":"IF(OR(C589=\"\",ISBLANK(C589)),\"\",VLOOKUP(C589,Sheet2!A:G,4,FALSE))","v":""},null,null,{"$f":"IF(OR(C589=\"\",ISBLANK(C589)),\"\",VLOOKUP(C589,Sheet2!A:F,3,FALSE))","v":""},{"$f":"IF(OR(C589=\"\",ISBLANK(C589)),\"\",VLOOKUP(C589,Sheet2!A:G,6,FALSE))","v":""},""]
[{"$f":"IF(OR(C590=\"\",ISBLANK(C590)),\"\",VLOOKUP(C590,Sheet2!A:F,2,FALSE))","v":""},{"$f":"IF(OR(C590=\"\",ISBLANK(C590)),\"\",VLOOKUP(C590,Sheet2!A:G,4,FALSE))","v":""},null,null,{"$f":"IF(OR(C590=\"\",ISBLANK(C590)),\"\",VLOOKUP(C590,Sheet2!A:F,3,FALSE))","v":""},{"$f":"IF(OR(C590=\"\",ISBLANK(C590)),\"\",VLOOKUP(C590,Sheet2!A:G,6,FALSE))","v":""},""]
[{"$f":"IF(OR(C591=\"\",ISBLANK(C591)),\"\",VLOOKUP(C591,Sheet2!A:F,2,FALSE))","v":""},{"$f":"IF(OR(C591=\"\",ISBLANK(C591)),\"\",VLOOKUP(C591,Sheet2!A:G,4,FALSE))","v":""},null,null,{"$f":"IF(OR(C591=\"\",ISBLANK(C591)),\"\",VLOOKUP(C591,Sheet2!A:F,3,FALSE))","v":""},{"$f":"IF(OR(C591=\"\",ISBLANK(C591)),\"\",VLOOKUP(C591,Sheet2!A:G,6,FALSE))","v":""},""]
[{"$f":"IF(OR(C592=\"\",ISBLANK(C592)),\"\",VLOOKUP(C592,Sheet2!A:F,2,FALSE))","v":""},{"$f":"IF(OR(C592=\"\",ISBLANK(C592)),\"\",VLOOKUP(C592,Sheet2!A:G,4,FALSE))","v":""},null,null,{"$f":"IF(OR(C592=\"\",ISBLANK(C592)),\"\",VLOOKUP(C592,Sheet2!A:F,3,FALSE))","v":""},{"$f":"IF(OR(C592=\"\",ISBLANK(C592)),\"\",VLOOKUP(C592,Sheet2!A:G,6,FALSE))","v":""},""]
[{"$f":"IF(OR(C593=\"\",ISBLANK(C593)),\"\",VLOOKUP(C593,Sheet2!A:F,2,FALSE))","v":""},{"$f":"IF(OR(C593=\"\",ISBLANK(C593)),\"\",VLOOKUP(C593,Sheet2!A:G,4,FALSE))","v":""},null,null,{"$f":"IF(OR(C593=\"\",ISBLANK(C593)),\"\",VLOOKUP(C593,Sheet2!A:F,3,FALSE))","v":""},{"$f":"IF(OR(C593=\"\",ISBLANK(C593)),\"\",VLOOKUP(C593,Sheet2!A:G,6,FALSE))","v":""},""]
[{"$f":"IF(OR(C594=\"\",ISBLANK(C594)),\"\",VLOOKUP(C594,Sheet2!A:F,2,FALSE))","v":""},{"$f":"IF(OR(C594=\"\",ISBLANK(C594)),\"\",VLOOKUP(C594,Sheet2!A:G,4,FALSE))","v":""},null,null,{"$f":"IF(OR(C594=\"\",ISBLANK(C594)),\"\",VLOOKUP(C594,Sheet2!A:F,3,FALSE))","v":""},{"$f":"IF(OR(C594=\"\",ISBLANK(C594)),\"\",VLOOKUP(C594,Sheet2!A:G,6,FALSE))","v":""},""]
[{"$f":"IF(OR(C595=\"\",ISBLANK(C595)),\"\",VLOOKUP(C595,Sheet2!A:F,2,FALSE))","v":""},{"$f":"IF(OR(C595=\"\",ISBLANK(C595)),\"\",VLOOKUP(C595,Sheet2!A:G,4,FALSE))","v":""},null,null,{"$f":"IF(OR(C595=\"\",ISBLANK(C595)),\"\",VLOOKUP(C595,Sheet2!A:F,3,FALSE))","v":""},{"$f":"IF(OR(C595=\"\",ISBLANK(C595)),\"\",VLOOKUP(C595,Sheet2!A:G,6,FALSE))","v":""},""]
[{"$f":"IF(OR(C596=\"\",ISBLANK(C596)),\"\",VLOOKUP(C596,Sheet2!A:F,2,FALSE))","v":""},{"$f":"IF(OR(C596=\"\",ISBLANK(C596)),\"\",VLOOKUP(C596,Sheet2!A:G,4,FALSE))","v":""},null,null,{"$f":"IF(OR(C596=\"\",ISBLANK(C596)),\"\",VLOOKUP(C596,Sheet2!A:F,3,FALSE))","v":""},{"$f":"IF(OR(C596=\"\",ISBLANK(C596)),\"\",VLOOKUP(C596,Sheet2!A:G,6,FALSE))","v":""},""]
[{"$f":"IF(OR(C597=\"\",ISBLANK(C597)),\"\",VLOOKUP(C597,Sheet2!A:F,2,FALSE))","v":""},{"$f":"IF(OR(C597=\"\",ISBLANK(C597)),\"\",VLOOKUP(C597,Sheet2!A:G,4,FALSE))","v":""},null,null,{"$f":"IF(OR(C597=\"\",ISBLANK(C597)),\"\",VLOOKUP(C597,Sheet2!A:F,3,FALSE))","v":""},{"$f":"IF(OR(C597=\"\",ISBLANK(C597)),\"\",VLOOKUP(C597,Sheet2!A:G,6,FALSE))","v":""},""]
[{"$f":"IF(OR(C598=\"\",ISBLANK(C598)),\"\",VLOOKUP(C598,Sheet2!A:F,2,FALSE))","v":""},{"$f":"IF(OR(C598=\"\",ISBLANK(C598)),\"\",VLOOKUP(C598,Sheet2!A:G,4,FALSE))","v":""},null,null,{"$f":"IF(OR(C598=\"\",ISBLANK(C598)),\"\",VLOOKUP(C598,Sheet2!A:F,3,FALSE))","v":""},{"$f":"IF(OR(C598=\"\",ISBLANK(C598)),\"\",VLOOKUP(C598,Sheet2!A:G,6,FALSE))","v":""},""]
[{"$f":"IF(OR(C599=\"\",ISBLANK(C599)),\"\",VLOOKUP(C599,Sheet2!A:F,2,FALSE))","v":""},{"$f":"IF(OR(C599=\"\",ISBLANK(C599)),\"\",VLOOKUP(C599,Sheet2!A:G,4,FALSE))","v":""},null,null,{"$f":"IF(OR(C599=\"\",ISBLANK(C599)),\"\",VLOOKUP(C599,Sheet2!A:F,3,FALSE))","v":""},{"$f":"IF(OR(C599=\"\",ISBLANK(C599)),\"\",VLOOKUP(C599,Sheet2!A:G,6,FALSE))","v":""},""]
[{"$f":"IF(OR(C600=\"\",ISBLANK(C600)),\"\",VLOOKUP(C600,Sheet2!A:F,2,FALSE))","v":""},{"$f":"IF(OR(C600=\"\",ISBLANK(C600)),\"\",VLOOKUP(C600,Sheet2!A:G,4,FALSE))","v":""},null,null,{"$f":"IF(OR(C600=\"\",ISBLANK(C600)),\"\",VLOOKUP(C600,Sheet2!A:F,3,FALSE))","v":""},{"$f":"IF(OR(C600=\"\",ISBLANK(C600)),\"\",VLOOKUP(C600,Sheet2!A:G,6,FALSE))","v":""},""]
[{"$f":"IF(OR(C601=\"\",ISBLANK(C601)),\"\",VLOOKUP(C601,Sheet2!A:F,2,FALSE))","v":""},{"$f":"IF(OR(C601=\"\",ISBLANK(C601)),\"\",VLOOKUP(C601,Sheet2!A:G,4,FALSE))","v":""},null,null,{"$f":"IF(OR(C601=\"\",ISBLANK(C601)),\"\",VLOOKUP(C601,Sheet2!A:F,3,FALSE))","v":""},{"$f":"IF(OR(C601=\"\",ISBLANK(C601)),\"\",VLOOKUP(C601,Sheet2!A:G,6,FALSE))","v":""},""]
[{"$f":"IF(OR(C602=\"\",ISBLANK(C602)),\"\",VLOOKUP(C602,Sheet2!A:F,2,FALSE))","v":""},{"$f":"IF(OR(C602=\"\",ISBLANK(C602)),\"\",VLOOKUP(C602,Sheet2!A:G,4,FALSE))","v":""},null,null,{"$f":"IF(OR(C602=\"\",ISBLANK(C602)),\"\",VLOOKUP(C602,Sheet2!A:F,3,FALSE))","v":""},{"$f":"IF(OR(C602=\"\",ISBLANK(C602)),\"\",VLOOKUP(C602,Sheet2!A:G,6,FALSE))","v":""},""]
[{"$f":"IF(OR(C603=\"\",ISBLANK(C603)),\"\",VLOOKUP(C603,Sheet2!A:F,2,FALSE))","v":""},{"$f":"IF(OR(C603=\"\",ISBLANK(C603)),\"\",VLOOKUP(C603,Sheet2!A:G,4,FALSE))","v":""},null,null,{"$f":"IF(OR(C603=\"\",ISBLANK(C603)),\"\",VLOOKUP(C603,Sheet2!A:F,3,FALSE))","v":""},{"$f":"IF(OR(C603=\"\",ISBLANK(C603)),\"\",VLOOKUP(C603,Sheet2!A:G,6,FALSE))","v":""},""]
[{"$f":"IF(OR(C604=\"\",ISBLANK(C604)),\"\",VLOOKUP(C604,Sheet2!A:F,2,FALSE))","v":""},{"$f":"IF(OR(C604=\"\",ISBLANK(C604)),\"\",VLOOKUP(C604,Sheet2!A:G,4,FALSE))","v":""},null,null,{"$f":"IF(OR(C604=\"\",ISBLANK(C604)),\"\",VLOOKUP(C604,Sheet2!A:F,3,FALSE))","v":""},{"$f":"IF(OR(C604=\"\",ISBLANK(C604)),\"\",VLOOKUP(C604,Sheet2!A:G,6,FALSE))","v":""},""]
[{"$f":"IF(OR(C605=\"\",ISBLANK(C605)),\"\",VLOOKUP(C605,Sheet2!A:F,2,FALSE))","v":""},{"$f":"IF(OR(C605=\"\",ISBLANK(C605)),\"\",VLOOKUP(C605,Sheet2!A:G,4,FALSE))","v":""},null,null,{"$f":"IF(OR(C605=\"\",ISBLANK(C605)),\"\",VLOOKUP(C605,Sheet2!A:F,3,FALSE))","v":""},{"$f":"IF(OR(C605=\"\",ISBLANK(C605)),\"\",VLOOKUP(C605,Sheet2!A:G,6,FALSE))","v":""},""]
[{"$f":"IF(OR(C606=\"\",ISBLANK(C606)),\"\",VLOOKUP(C606,Sheet2!A:F,2,FALSE))","v":""},{"$f":"IF(OR(C606=\"\",ISBLANK(C606)),\"\",VLOOKUP(C606,Sheet2!A:G,4,FALSE))","v":""},null,null,{"$f":"IF(OR(C606=\"\",ISBLANK(C606)),\"\",VLOOKUP(C606,Sheet2!A:F,3,FALSE))","v":""},{"$f":"IF(OR(C606=\"\",ISBLANK(C606)),\"\",VLOOKUP(C606,Sheet2!A:G,6,FALSE))","v":""},""]
[{"$f":"IF(OR(C607=\"\",ISBLANK(C607)),\"\",VLOOKUP(C607,Sheet2!A:F,2,FALSE))","v":""},{"$f":"IF(OR(C607=\"\",ISBLANK(C607)),\"\",VLOOKUP(C607,Sheet2!A:G,4,FALSE))","v":""},null,null,{"$f":"IF(OR(C607=\"\",ISBLANK(C607)),\"\",VLOOKUP(C607,Sheet2!A:F,3,FALSE))","v":""},{"$f":"IF(OR(C607=\"\",ISBLANK(C607)),\"\",VLOOKUP(C607,Sheet2!A:G,6,FALSE))","v":""},""]
[{"$f":"IF(OR(C608=\"\",ISBLANK(C608)),\"\",VLOOKUP(C608,Sheet2!A:F,2,FALSE))","v":""},{"$f":"IF(OR(C608=\"\",ISBLANK(C608)),\"\",VLOOKUP(C608,Sheet2!A:G,4,FALSE))","v":""},null,null,{"$f":"IF(OR(C608=\"\",ISBLANK(C608)),\"\",VLOOKUP(C608,Sheet2!A:F,3,FALSE))","v":""},{"$f":"IF(OR(C608=\"\",ISBLANK(C608)),\"\",VLOOKUP(C608,Sheet2!A:G,6,FALSE))","v":""},""]
[{"$f":"IF(OR(C609=\"\",ISBLANK(C609)),\"\",VLOOKUP(C609,Sheet2!A:F,2,FALSE))","v":""},{"$f":"IF(OR(C609=\"\",ISBLANK(C609)),\"\",VLOOKUP(C609,Sheet2!A:G,4,FALSE))","v":""},null,null,{"$f":"IF(OR(C609=\"\",ISBLANK(C609)),\"\",VLOOKUP(C609,Sheet2!A:F,3,FALSE))","v":""},{"$f":"IF(OR(C609=\"\",ISBLANK(C609)),\"\",VLOOKUP(C609,Sheet2!A:G,6,FALSE))","v":""},""]
[{"$f":"IF(OR(C610=\"\",ISBLANK(C610)),\"\",VLOOKUP(C610,Sheet2!A:F,2,FALSE))","v":""},{"$f":"IF(OR(C610=\"\",ISBLANK(C610)),\"\",VLOOKUP(C610,Sheet2!A:G,4,FALSE))","v":""},null,null,{"$f":"IF(OR(C610=\"\",ISBLANK(C610)),\"\",VLOOKUP(C610,Sheet2!A:F,3,FALSE))","v":""},{"$f":"IF(OR(C610=\"\",ISBLANK(C610)),\"\",VLOOKUP(C610,Sheet2!A:G,6,FALSE))","v":""},""]
[{"$f":"IF(OR(C611=\"\",ISBLANK(C611)),\"\",VLOOKUP(C611,Sheet2!A:F,2,FALSE))","v":""},{"$f":"IF(OR(C611=\"\",ISBLANK(C611)),\"\",VLOOKUP(C611,Sheet2!A:G,4,FALSE))","v":""},null,null,{"$f":"IF(OR(C611=\"\",ISBLANK(C611)),\"\",VLOOKUP(C611,Sheet2!A:F,3,FALSE))","v":""},{"$f":"IF(OR(C611=\"\",ISBLANK(C611)),\"\",VLOOKUP(C611,Sheet2!A:G,6,FALSE))","v":""},""]
[{"$f":"IF(OR(C612=\"\",ISBLANK(C612)),\"\",VLOOKUP(C612,Sheet2!A:F,2,FALSE))","v":""},{"$f":"IF(OR(C612=\"\",ISBLANK(C612)),\"\",VLOOKUP(C612,Sheet2!A:G,4,FALSE))","v":""},null,null,{"$f":"IF(OR(C612=\"\",ISBLANK(C612)),\"\",VLOOKUP(C612,Sheet2!A:F,3,FALSE))","v":""},{"$f":"IF(OR(C612=\"\",ISBLANK(C612)),\"\",VLOOKUP(C612,Sheet2!A:G,6,FALSE))","v":""},""]
[{"$f":"IF(OR(C613=\"\",ISBLANK(C613)),\"\",VLOOKUP(C613,Sheet2!A:F,2,FALSE))","v":""},{"$f":"IF(OR(C613=\"\",ISBLANK(C613)),\"\",VLOOKUP(C613,Sheet2!A:G,4,FALSE))","v":""},null,null,{"$f":"IF(OR(C613=\"\",ISBLANK(C613)),\"\",VLOOKUP(C613,Sheet2!A:F,3,FALSE))","v":""},{"$f":"IF(OR(C613=\"\",ISBLANK(C613)),\"\",VLOOKUP(C613,Sheet2!A:G,6,FALSE))","v":""},""]
[{"$f":"IF(OR(C614=\"\",ISBLANK(C614)),\"\",VLOOKUP(C614,Sheet2!A:F,2,FALSE))","v":""},{"$f":"IF(OR(C614=\"\",ISBLANK(C614)),\"\",VLOOKUP(C614,Sheet2!A:G,4,FALSE))","v":""},null,null,{"$f":"IF(OR(C614=\"\",ISBLANK(C614)),\"\",VLOOKUP(C614,Sheet2!A:F,3,FALSE))","v":""},{"$f":"IF(OR(C614=\"\",ISBLANK(C614)),\"\",VLOOKUP(C614,Sheet2!A:G,6,FALSE))","v":""},""]
[{"$f":"IF(OR(C615=\"\",ISBLANK(C615)),\"\",VLOOKUP(C615,Sheet2!A:F,2,FALSE))","v":""},{"$f":"IF(OR(C615=\"\",ISBLANK(C615)),\"\",VLOOKUP(C615,Sheet2!A:G,4,FALSE))","v":""},null,null,{"$f":"IF(OR(C615=\"\",ISBLANK(C615)),\"\",VLOOKUP(C615,Sheet2!A:F,3,FALSE))","v":""},{"$f":"IF(OR(C615=\"\",ISBLANK(C615)),\"\",VLOOKUP(C615,Sheet2!A:G,6,FALSE))","v":""},""]
[{"$f":"IF(OR(C616=\"\",ISBLANK(C616)),\"\",VLOOKUP(C616,Sheet2!A:F,2,FALSE))","v":""},{"$f":"IF(OR(C616=\"\",ISBLANK(C616)),\"\",VLOOKUP(C616,Sheet2!A:G,4,FALSE))","v":""},null,null,{"$f":"IF(OR(C616=\"\",ISBLANK(C616)),\"\",VLOOKUP(C616,Sheet2!A:F,3,FALSE))","v":""},{"$f":"IF(OR(C616=\"\",ISBLANK(C616)),\"\",VLOOKUP(C616,Sheet2!A:G,6,FALSE))","v":""},""]
[{"$f":"IF(OR(C617=\"\",ISBLANK(C617)),\"\",VLOOKUP(C617,Sheet2!A:F,2,FALSE))","v":""},{"$f":"IF(OR(C617=\"\",ISBLANK(C617)),\"\",VLOOKUP(C617,Sheet2!A:G,4,FALSE))","v":""},null,null,{"$f":"IF(OR(C617=\"\",ISBLANK(C617)),\"\",VLOOKUP(C617,Sheet2!A:F,3,FALSE))","v":""},{"$f":"IF(OR(C617=\"\",ISBLANK(C617)),\"\",VLOOKUP(C617,Sheet2!A:G,6,FALSE))","v":""},""]
[{"$f":"IF(OR(C618=\"\",ISBLANK(C618)),\"\",VLOOKUP(C618,Sheet2!A:F,2,FALSE))","v":""},{"$f":"IF(OR(C618=\"\",ISBLANK(C618)),\"\",VLOOKUP(C618,Sheet2!A:G,4,FALSE))","v":""},null,null,{"$f":"IF(OR(C618=\"\",ISBLANK(C618)),\"\",VLOOKUP(C618,Sheet2!A:F,3,FALSE))","v":""},{"$f":"IF(OR(C618=\"\",ISBLANK(C618)),\"\",VLOOKUP(C618,Sheet2!A:G,6,FALSE))","v":""},""]
[{"$f":"IF(OR(C619=\"\",ISBLANK(C619)),\"\",VLOOKUP(C619,Sheet2!A:F,2,FALSE))","v":""},{"$f":"IF(OR(C619=\"\",ISBLANK(C619)),\"\",VLOOKUP(C619,Sheet2!A:G,4,FALSE))","v":""},null,null,{"$f":"IF(OR(C619=\"\",ISBLANK(C619)),\"\",VLOOKUP(C619,Sheet2!A:F,3,FALSE))","v":""},{"$f":"IF(OR(C619=\"\",ISBLANK(C619)),\"\",VLOOKUP(C619,Sheet2!A:G,6,FALSE))","v":""},""]
[{"$f":"IF(OR(C620=\"\",ISBLANK(C620)),\"\",VLOOKUP(C620,Sheet2!A:F,2,FALSE))","v":""},{"$f":"IF(OR(C620=\"\",ISBLANK(C620)),\"\",VLOOKUP(C620,Sheet2!A:G,4,FALSE))","v":""},null,null,{"$f":"IF(OR(C620=\"\",ISBLANK(C620)),\"\",VLOOKUP(C620,Sheet2!A:F,3,FALSE))","v":""},{"$f":"IF(OR(C620=\"\",ISBLANK(C620)),\"\",VLOOKUP(C620,Sheet2!A:G,6,FALSE))","v":""},""]
[{"$f":"IF(OR(C621=\"\",ISBLANK(C621)),\"\",VLOOKUP(C621,Sheet2!A:F,2,FALSE))","v":""},{"$f":"IF(OR(C621=\"\",ISBLANK(C621)),\"\",VLOOKUP(C621,Sheet2!A:G,4,FALSE))","v":""},null,null,{"$f":"IF(OR(C621=\"\",ISBLANK(C621)),\"\",VLOOKUP(C621,Sheet2!A:F,3,FALSE))","v":""},{"$f":"IF(OR(C621=\"\",ISBLANK(C621)),\"\",VLOOKUP(C621,Sheet2!A:G,6,FALSE))","v":""},""]
[{"$f":"IF(OR(C622=\"\",ISBLANK(C622)),\"\",VLOOKUP(C622,Sheet2!A:F,2,FALSE))","v":""},{"$f":"IF(OR(C622=\"\",ISBLANK(C622)),\"\",VLOOKUP(C622,Sheet2!A:G,4,FALSE))","v":""},null,null,{"$f":"IF(OR(C622=\"\",ISBLANK(C622)),\"\",VLOOKUP(C622,Sheet2!A:F,3,FALSE))","v":""},{"$f":"IF(OR(C622=\"\",ISBLANK(C622)),\"\",VLOOKUP(C622,Sheet2!A:G,6,FALSE))","v":""},""]
[{"$f":"IF(OR(C623=\"\",ISBLANK(C623)),\"\",VLOOKUP(C623,Sheet2!A:F,2,FALSE))","v":""},{"$f":"IF(OR(C623=\"\",ISBLANK(C623)),\"\",VLOOKUP(C623,Sheet2!A:G,4,FALSE))","v":""},null,null,{"$f":"IF(OR(C623=\"\",ISBLANK(C623)),\"\",VLOOKUP(C623,Sheet2!A:F,3,FALSE))","v":""},{"$f":"IF(OR(C623=\"\",ISBLANK(C623)),\"\",VLOOKUP(C623,Sheet2!A:G,6,FALSE))","v":""},""]
[{"$f":"IF(OR(C624=\"\",ISBLANK(C624)),\"\",VLOOKUP(C624,Sheet2!A:F,2,FALSE))","v":""},{"$f":"IF(OR(C624=\"\",ISBLANK(C624)),\"\",VLOOKUP(C624,Sheet2!A:G,4,FALSE))","v":""},null,null,{"$f":"IF(OR(C624=\"\",ISBLANK(C624)),\"\",VLOOKUP(C624,Sheet2!A:F,3,FALSE))","v":""},{"$f":"IF(OR(C624=\"\",ISBLANK(C624)),\"\",VLOOKUP(C624,Sheet2!A:G,6,FALSE))","v":""},""]
[{"$f":"IF(OR(C625=\"\",ISBLANK(C625)),\"\",VLOOKUP(C625,Sheet2!A:F,2,FALSE))","v":""},{"$f":"IF(OR(C625=\"\",ISBLANK(C625)),\"\",VLOOKUP(C625,Sheet2!A:G,4,FALSE))","v":""},null,null,{"$f":"IF(OR(C625=\"\",ISBLANK(C625)),\"\",VLOOKUP(C625,Sheet2!A:F,3,FALSE))","v":""},{"$f":"IF(OR(C625=\"\",ISBLANK(C625)),\"\",VLOOKUP(C625,Sheet2!A:G,6,FALSE))","v":""},""]
[{"$f":"IF(OR(C626=\"\",ISBLANK(C626)),\"\",VLOOKUP(C626,Sheet2!A:F,2,FALSE))","v":""},{"$f":"IF(OR(C626=\"\",ISBLANK(C626)),\"\",VLOOKUP(C626,Sheet2!A:G,4,FALSE))","v":""},null,null,{"$f":"IF(OR(C626=\"\",ISBLANK(C626)),\"\",VLOOKUP(C626,Sheet2!A:F,3,FALSE))","v":""},{"$f":"IF(OR(C626=\"\",ISBLANK(C626)),\"\",VLOOKUP(C626,Sheet2!A:G,6,FALSE))","v":""},""]
[{"$f":"IF(OR(C627=\"\",ISBLANK(C627)),\"\",VLOOKUP(C627,Sheet2!A:F,2,FALSE))","v":""},{"$f":"IF(OR(C627=\"\",ISBLANK(C627)),\"\",VLOOKUP(C627,Sheet2!A:G,4,FALSE))","v":""},null,null,{"$f":"IF(OR(C627=\"\",ISBLANK(C627)),\"\",VLOOKUP(C627,Sheet2!A:F,3,FALSE))","v":""},{"$f":"IF(OR(C627=\"\",ISBLANK(C627)),\"\",VLOOKUP(C627,Sheet2!A:G,6,FALSE))","v":""},""]
[{"$f":"IF(OR(C628=\"\",ISBLANK(C628)),\"\",VLOOKUP(C628,Sheet2!A:F,2,FALSE))","v":""},{"$f":"IF(OR(C628=\"\",ISBLANK(C628)),\"\",VLOOKUP(C628,Sheet2!A:G,4,FALSE))","v":""},null,null,{"$f":"IF(OR(C628=\"\",ISBLANK(C628)),\"\",VLOOKUP(C628,Sheet2!A:F,3,FALSE))","v":""},{"$f":"IF(OR(C628=\"\",ISBLANK(C628)),\"\",VLOOKUP(C628,Sheet2!A:G,6,FALSE))","v":""},""]
[{"$f":"IF(OR(C629=\"\",ISBLANK(C629)),\"\",VLOOKUP(C629,Sheet2!A:F,2,FALSE))","v":""},{"$f":"IF(OR(C629=\"\",ISBLANK(C629)),\"\",VLOOKUP(C629,Sheet2!A:G,4,FALSE))","v":""},null,null,{"$f":"IF(OR(C629=\"\",ISBLANK(C629)),\"\",VLOOKUP(C629,Sheet2!A:F,3,FALSE))","v":""},{"$f":"IF(OR(C629=\"\",ISBLANK(C629)),\"\",VLOOKUP(C629,Sheet2!A:G,6,FALSE))","v":""},""]
[{"$f":"IF(OR(C630=\"\",ISBLANK(C630)),\"\",VLOOKUP(C630,Sheet2!A:F,2,FALSE))","v":""},{"$f":"IF(OR(C630=\"\",ISBLANK(C630)),\"\",VLOOKUP(C630,Sheet2!A:G,4,FALSE))","v":""},null,null,{"$f":"IF(OR(C630=\"\",ISBLANK(C630)),\"\",VLOOKUP(C630,Sheet2!A:F,3,FALSE))","v":""},{"$f":"IF(OR(C630=\"\",ISBLANK(C630)),\"\",VLOOKUP(C630,Sheet2!A:G,6,FALSE))","v":""},""]
[{"$f":"IF(OR(C631=\"\",ISBLANK(C631)),\"\",VLOOKUP(C631,Sheet2!A:F,2,FALSE))","v":""},{"$f":"IF(OR(C631=\"\",ISBLANK(C631)),\"\",VLOOKUP(C631,Sheet2!A:G,4,FALSE))","v":""},null,null,{"$f":"IF(OR(C631=\"\",ISBLANK(C631)),\"\",VLOOKUP(C631,Sheet2!A:F,3,FALSE))","v":""},{"$f":"IF(OR(C631=\"\",ISBLANK(C631)),\"\",VLOOKUP(C631,Sheet2!A:G,6,FALSE))","v":""},""]
[{"$f":"IF(OR(C632=\"\",ISBLANK(C632)),\"\",VLOOKUP(C632,Sheet2!A:F,2,FALSE))","v":""},{"$f":"IF(OR(C632=\"\",ISBLANK(C632)),\"\",VLOOKUP(C632,Sheet2!A:G,4,FALSE))","v":""},null,null,{"$f":"IF(OR(C632=\"\",ISBLANK(C632)),\"\",VLOOKUP(C632,Sheet2!A:F,3,FALSE))","v":""},{"$f":"IF(OR(C632=\"\",ISBLANK(C632)),\"\",VLOOKUP(C632,Sheet2!A:G,6,FALSE))","v":""},""]
[{"$f":"IF(OR(C633=\"\",ISBLANK(C633)),\"\",VLOOKUP(C633,Sheet2!A:F,2,FALSE))","v":""},{"$f":"IF(OR(C633=\"\",ISBLANK(C633)),\"\",VLOOKUP(C633,Sheet2!A:G,4,FALSE))","v":""},null,null,{"$f":"IF(OR(C633=\"\",ISBLANK(C633)),\"\",VLOOKUP(C633,Sheet2!A:F,3,FALSE))","v":""},{"$f":"IF(OR(C633=\"\",ISBLANK(C633)),\"\",VLOOKUP(C633,Sheet2!A:G,6,FALSE))","v":""},""]
[{"$f":"IF(OR(C634=\"\",ISBLANK(C634)),\"\",VLOOKUP(C634,Sheet2!A:F,2,FALSE))","v":""},{"$f":"IF(OR(C634=\"\",ISBLANK(C634)),\"\",VLOOKUP(C634,Sheet2!A:G,4,FALSE))","v":""},null,null,{"$f":"IF(OR(C634=\"\",ISBLANK(C634)),\"\",VLOOKUP(C634,Sheet2!A:F,3,FALSE))","v":""},{"$f":"IF(OR(C634=\"\",ISBLANK(C634)),\"\",VLOOKUP(C634,Sheet2!A:G,6,FALSE))","v":""},""]
[{"$f":"IF(OR(C635=\"\",ISBLANK(C635)),\"\",VLOOKUP(C635,Sheet2!A:F,2,FALSE))","v":""},{"$f":"IF(OR(C635=\"\",ISBLANK(C635)),\"\",VLOOKUP(C635,Sheet2!A:G,4,FALSE))","v":""},null,null,{"$f":"IF(OR(C635=\"\",ISBLANK(C635)),\"\",VLOOKUP(C635,Sheet2!A:F,3,FALSE))","v":""},{"$f":"IF(OR(C635=\"\",ISBLANK(C635)),\"\",VLOOKUP(C635,Sheet2!A:G,6,FALSE))","v":""},""]
[{"$f":"IF(OR(C636=\"\",ISBLANK(C636)),\"\",VLOOKUP(C636,Sheet2!A:F,2,FALSE))","v":""},{"$f":"IF(OR(C636=\"\",ISBLANK(C636)),\"\",VLOOKUP(C636,Sheet2!A:G,4,FALSE))","v":""},null,null,{"$f":"IF(OR(C636=\"\",ISBLANK(C636)),\"\",VLOOKUP(C636,Sheet2!A:F,3,FALSE))","v":""},{"$f":"IF(OR(C636=\"\",ISBLANK(C636)),\"\",VLOOKUP(C636,Sheet2!A:G,6,FALSE))","v":""},""]
[{"$f":"IF(OR(C637=\"\",ISBLANK(C637)),\"\",VLOOKUP(C637,Sheet2!A:F,2,FALSE))","v":""},{"$f":"IF(OR(C637=\"\",ISBLANK(C637)),\"\",VLOOKUP(C637,Sheet2!A:G,4,FALSE))","v":""},null,null,{"$f":"IF(OR(C637=\"\",ISBLANK(C637)),\"\",VLOOKUP(C637,Sheet2!A:F,3,FALSE))","v":""},{"$f":"IF(OR(C637=\"\",ISBLANK(C637)),\"\",VLOOKUP(C637,Sheet2!A:G,6,FALSE))","v":""},""]
[{"$f":"IF(OR(C638=\"\",ISBLANK(C638)),\"\",VLOOKUP(C638,Sheet2!A:F,2,FALSE))","v":""},{"$f":"IF(OR(C638=\"\",ISBLANK(C638)),\"\",VLOOKUP(C638,Sheet2!A:G,4,FALSE))","v":""},null,null,{"$f":"IF(OR(C638=\"\",ISBLANK(C638)),\"\",VLOOKUP(C638,Sheet2!A:F,3,FALSE))","v":""},{"$f":"IF(OR(C638=\"\",ISBLANK(C638)),\"\",VLOOKUP(C638,Sheet2!A:G,6,FALSE))","v":""},""]
[{"$f":"IF(OR(C639=\"\",ISBLANK(C639)),\"\",VLOOKUP(C639,Sheet2!A:F,2,FALSE))","v":""},{"$f":"IF(OR(C639=\"\",ISBLANK(C639)),\"\",VLOOKUP(C639,Sheet2!A:G,4,FALSE))","v":""},null,null,{"$f":"IF(OR(C639=\"\",ISBLANK(C639)),\"\",VLOOKUP(C639,Sheet2!A:F,3,FALSE))","v":""},{"$f":"IF(OR(C639=\"\",ISBLANK(C639)),\"\",VLOOKUP(C639,Sheet2!A:G,6,FALSE))","v":""},""]
[{"$f":"IF(OR(C640=\"\",ISBLANK(C640)),\"\",VLOOKUP(C640,Sheet2!A:F,2,FALSE))","v":""},{"$f":"IF(OR(C640=\"\",ISBLANK(C640)),\"\",VLOOKUP(C640,Sheet2!A:G,4,FALSE))","v":""},null,null,{"$f":"IF(OR(C640=\"\",ISBLANK(C640)),\"\",VLOOKUP(C640,Sheet2!A:F,3,FALSE))","v":""},{"$f":"IF(OR(C640=\"\",ISBLANK(C640)),\"\",VLOOKUP(C640,Sheet2!A:G,6,FALSE))","v":""},""]
[{"$f":"IF(OR(C641=\"\",ISBLANK(C641)),\"\",VLOOKUP(C641,Sheet2!A:F,2,FALSE))","v":""},{"$f":"IF(OR(C641=\"\",ISBLANK(C641)),\"\",VLOOKUP(C641,Sheet2!A:G,4,FALSE))","v":""},null,null,{"$f":"IF(OR(C641=\"\",ISBLANK(C641)),\"\",VLOOKUP(C641,Sheet2!A:F,3,FALSE))","v":""},{"$f":"IF(OR(C641=\"\",ISBLANK(C641)),\"\",VLOOKUP(C641,Sheet2!A:G,6,FALSE))","v":""},""]
[{"$f":"IF(OR(C642=\"\",ISBLANK(C642)),\"\",VLOOKUP(C642,Sheet2!A:F,2,FALSE))","v":""},{"$f":"IF(OR(C642=\"\",ISBLANK(C642)),\"\",VLOOKUP(C642,Sheet2!A:G,4,FALSE))","v":""},null,null,{"$f":"IF(OR(C642=\"\",ISBLANK(C642)),\"\",VLOOKUP(C642,Sheet2!A:F,3,FALSE))","v":""},{"$f":"IF(OR(C642=\"\",ISBLANK(C642)),\"\",VLOOKUP(C642,Sheet2!A:G,6,FALSE))","v":""},""]
[{"$f":"IF(OR(C643=\"\",ISBLANK(C643)),\"\",VLOOKUP(C643,Sheet2!A:F,2,FALSE))","v":""},{"$f":"IF(OR(C643=\"\",ISBLANK(C643)),\"\",VLOOKUP(C643,Sheet2!A:G,4,FALSE))","v":""},null,null,{"$f":"IF(OR(C643=\"\",ISBLANK(C643)),\"\",VLOOKUP(C643,Sheet2!A:F,3,FALSE))","v":""},{"$f":"IF(OR(C643=\"\",ISBLANK(C643)),\"\",VLOOKUP(C643,Sheet2!A:G,6,FALSE))","v":""},{"$f":"IF(F643=0,\"\",F643)","v":""}]
[{"$f":"IF(OR(C644=\"\",ISBLANK(C644)),\"\",VLOOKUP(C644,Sheet2!A:F,2,FALSE))","v":""},{"$f":"IF(OR(C644=\"\",ISBLANK(C644)),\"\",VLOOKUP(C644,Sheet2!A:G,4,FALSE))","v":""},null,null,{"$f":"IF(OR(C644=\"\",ISBLANK(C644)),\"\",VLOOKUP(C644,Sheet2!A:F,3,FALSE))","v":""},{"$f":"IF(OR(C644=\"\",ISBLANK(C644)),\"\",VLOOKUP(C644,Sheet2!A:G,6,FALSE))","v":""},""]
[{"$f":"IF(OR(C645=\"\",ISBLANK(C645)),\"\",VLOOKUP(C645,Sheet2!A:F,2,FALSE))","v":""},{"$f":"IF(OR(C645=\"\",ISBLANK(C645)),\"\",VLOOKUP(C645,Sheet2!A:G,4,FALSE))","v":""},null,null,{"$f":"IF(OR(C645=\"\",ISBLANK(C645)),\"\",VLOOKUP(C645,Sheet2!A:F,3,FALSE))","v":""},{"$f":"IF(OR(C645=\"\",ISBLANK(C645)),\"\",VLOOKUP(C645,Sheet2!A:G,6,FALSE))","v":""},""]
[{"$f":"IF(OR(C646=\"\",ISBLANK(C646)),\"\",VLOOKUP(C646,Sheet2!A:F,2,FALSE))","v":""},{"$f":"IF(OR(C646=\"\",ISBLANK(C646)),\"\",VLOOKUP(C646,Sheet2!A:G,4,FALSE))","v":""},null,null,{"$f":"IF(OR(C646=\"\",ISBLANK(C646)),\"\",VLOOKUP(C646,Sheet2!A:F,3,FALSE))","v":""},{"$f":"IF(OR(C646=\"\",ISBLANK(C646)),\"\",VLOOKUP(C646,Sheet2!A:G,6,FALSE))","v":""},""]
[{"$f":"IF(OR(C647=\"\",ISBLANK(C647)),\"\",VLOOKUP(C647,Sheet2!A:F,2,FALSE))","v":""},{"$f":"IF(OR(C647=\"\",ISBLANK(C647)),\"\",VLOOKUP(C647,Sheet2!A:G,4,FALSE))","v":""},null,null,{"$f":"IF(OR(C647=\"\",ISBLANK(C647)),\"\",VLOOKUP(C647,Sheet2!A:F,3,FALSE))","v":""},{"$f":"IF(OR(C647=\"\",ISBLANK(C647)),\"\",VLOOKUP(C647,Sheet2!A:G,6,FALSE))","v":""},""]
[{"$f":"IF(OR(C648=\"\",ISBLANK(C648)),\"\",VLOOKUP(C648,Sheet2!A:F,2,FALSE))","v":""},{"$f":"IF(OR(C648=\"\",ISBLANK(C648)),\"\",VLOOKUP(C648,Sheet2!A:G,4,FALSE))","v":""},null,null,{"$f":"IF(OR(C648=\"\",ISBLANK(C648)),\"\",VLOOKUP(C648,Sheet2!A:F,3,FALSE))","v":""},{"$f":"IF(OR(C648=\"\",ISBLANK(C648)),\"\",VLOOKUP(C648,Sheet2!A:G,6,FALSE))","v":""},""]
[{"$f":"IF(OR(C649=\"\",ISBLANK(C649)),\"\",VLOOKUP(C649,Sheet2!A:F,2,FALSE))","v":""},{"$f":"IF(OR(C649=\"\",ISBLANK(C649)),\"\",VLOOKUP(C649,Sheet2!A:G,4,FALSE))","v":""},null,null,{"$f":"IF(OR(C649=\"\",ISBLANK(C649)),\"\",VLOOKUP(C649,Sheet2!A:F,3,FALSE))","v":""},{"$f":"IF(OR(C649=\"\",ISBLANK(C649)),\"\",VLOOKUP(C649,Sheet2!A:G,6,FALSE))","v":""},""]
[{"$f":"IF(OR(C650=\"\",ISBLANK(C650)),\"\",VLOOKUP(C650,Sheet2!A:F,2,FALSE))","v":""},{"$f":"IF(OR(C650=\"\",ISBLANK(C650)),\"\",VLOOKUP(C650,Sheet2!A:G,4,FALSE))","v":""},null,null,{"$f":"IF(OR(C650=\"\",ISBLANK(C650)),\"\",VLOOKUP(C650,Sheet2!A:F,3,FALSE))","v":""},{"$f":"IF(OR(C650=\"\",ISBLANK(C650)),\"\",VLOOKUP(C650,Sheet2!A:G,6,FALSE))","v":""},""]
[{"$f":"IF(OR(C651=\"\",ISBLANK(C651)),\"\",VLOOKUP(C651,Sheet2!A:F,2,FALSE))","v":""},{"$f":"IF(OR(C651=\"\",ISBLANK(C651)),\"\",VLOOKUP(C651,Sheet2!A:G,4,FALSE))","v":""},null,null,{"$f":"IF(OR(C651=\"\",ISBLANK(C651)),\"\",VLOOKUP(C651,Sheet2!A:F,3,FALSE))","v":""},{"$f":"IF(OR(C651=\"\",ISBLANK(C651)),\"\",VLOOKUP(C651,Sheet2!A:G,6,FALSE))","v":""},""]
[{"$f":"IF(OR(C652=\"\",ISBLANK(C652)),\"\",VLOOKUP(C652,Sheet2!A:F,2,FALSE))","v":""},{"$f":"IF(OR(C652=\"\",ISBLANK(C652)),\"\",VLOOKUP(C652,Sheet2!A:G,4,FALSE))","v":""},null,null,{"$f":"IF(OR(C652=\"\",ISBLANK(C652)),\"\",VLOOKUP(C652,Sheet2!A:F,3,FALSE))","v":""},{"$f":"IF(OR(C652=\"\",ISBLANK(C652)),\"\",VLOOKUP(C652,Sheet2!A:G,6,FALSE))","v":""},""]
[{"$f":"IF(OR(C653=\"\",ISBLANK(C653)),\"\",VLOOKUP(C653,Sheet2!A:F,2,FALSE))","v":""},{"$f":"IF(OR(C653=\"\",ISBLANK(C653)),\"\",VLOOKUP(C653,Sheet2!A:G,4,FALSE))","v":""},null,null,{"$f":"IF(OR(C653=\"\",ISBLANK(C653)),\"\",VLOOKUP(C653,Sheet2!A:F,3,FALSE))","v":""},{"$f":"IF(OR(C653=\"\",ISBLANK(C653)),\"\",VLOOKUP(C653,Sheet2!A:G,6,FALSE))","v":""},""]
[{"$f":"IF(OR(C654=\"\",ISBLANK(C654)),\"\",VLOOKUP(C654,Sheet2!A:F,2,FALSE))","v":""},{"$f":"IF(OR(C654=\"\",ISBLANK(C654)),\"\",VLOOKUP(C654,Sheet2!A:G,4,FALSE))","v":""},null,null,{"$f":"IF(OR(C654=\"\",ISBLANK(C654)),\"\",VLOOKUP(C654,Sheet2!A:F,3,FALSE))","v":""},{"$f":"IF(OR(C654=\"\",ISBLANK(C654)),\"\",VLOOKUP(C654,Sheet2!A:G,6,FALSE))","v":""},""]
[{"$f":"IF(OR(C655=\"\",ISBLANK(C655)),\"\",VLOOKUP(C655,Sheet2!A:F,2,FALSE))","v":""},{"$f":"IF(OR(C655=\"\",ISBLANK(C655)),\"\",VLOOKUP(C655,Sheet2!A:G,4,FALSE))","v":""},null,null,{"$f":"IF(OR(C655=\"\",ISBLANK(C655)),\"\",VLOOKUP(C655,Sheet2!A:F,3,FALSE))","v":""},{"$f":"IF(OR(C655=\"\",ISBLANK(C655)),\"\",VLOOKUP(C655,Sheet2!A:G,6,FALSE))","v":""},""]
[{"$f":"IF(OR(C656=\"\",ISBLANK(C656)),\"\",VLOOKUP(C656,Sheet2!A:F,2,FALSE))","v":""},{"$f":"IF(OR(C656=\"\",ISBLANK(C656)),\"\",VLOOKUP(C656,Sheet2!A:G,4,FALSE))","v":""},null,null,{"$f":"IF(OR(C656=\"\",ISBLANK(C656)),\"\",VLOOKUP(C656,Sheet2!A:F,3,FALSE))","v":""},{"$f":"IF(OR(C656=\"\",ISBLANK(C656)),\"\",VLOOKUP(C656,Sheet2!A:G,6,FALSE))","v":""},""]
[{"$f":"IF(OR(C657=\"\",ISBLANK(C657)),\"\",VLOOKUP(C657,Sheet2!A:F,2,FALSE))","v":""},{"$f":"IF(OR(C657=\"\",ISBLANK(C657)),\"\",VLOOKUP(C657,Sheet2!A:G,4,FALSE))","v":""},null,null,{"$f":"IF(OR(C657=\"\",ISBLANK(C657)),\"\",VLOOKUP(C657,Sheet2!A:F,3,FALSE))","v":""},{"$f":"IF(OR(C657=\"\",ISBLANK(C657)),\"\",VLOOKUP(C657,Sheet2!A:G,6,FALSE))","v":""},""]
[{"$f":"IF(OR(C658=\"\",ISBLANK(C658)),\"\",VLOOKUP(C658,Sheet2!A:F,2,FALSE))","v":""},{"$f":"IF(OR(C658=\"\",ISBLANK(C658)),\"\",VLOOKUP(C658,Sheet2!A:G,4,FALSE))","v":""},null,null,{"$f":"IF(OR(C658=\"\",ISBLANK(C658)),\"\",VLOOKUP(C658,Sheet2!A:F,3,FALSE))","v":""},{"$f":"IF(OR(C658=\"\",ISBLANK(C658)),\"\",VLOOKUP(C658,Sheet2!A:G,6,FALSE))","v":""},""]
[{"$f":"IF(OR(C659=\"\",ISBLANK(C659)),\"\",VLOOKUP(C659,Sheet2!A:F,2,FALSE))","v":""},{"$f":"IF(OR(C659=\"\",ISBLANK(C659)),\"\",VLOOKUP(C659,Sheet2!A:G,4,FALSE))","v":""},null,null,{"$f":"IF(OR(C659=\"\",ISBLANK(C659)),\"\",VLOOKUP(C659,Sheet2!A:F,3,FALSE))","v":""},{"$f":"IF(OR(C659=\"\",ISBLANK(C659)),\"\",VLOOKUP(C659,Sheet2!A:G,6,FALSE))","v":""},""]
[{"$f":"IF(OR(C660=\"\",ISBLANK(C660)),\"\",VLOOKUP(C660,Sheet2!A:F,2,FALSE))","v":""},{"$f":"IF(OR(C660=\"\",ISBLANK(C660)),\"\",VLOOKUP(C660,Sheet2!A:G,4,FALSE))","v":""},null,null,{"$f":"IF(OR(C660=\"\",ISBLANK(C660)),\"\",VLOOKUP(C660,Sheet2!A:F,3,FALSE))","v":""},{"$f":"IF(OR(C660=\"\",ISBLANK(C660)),\"\",VLOOKUP(C660,Sheet2!A:G,6,FALSE))","v":""},""]
[{"$f":"IF(OR(C661=\"\",ISBLANK(C661)),\"\",VLOOKUP(C661,Sheet2!A:F,2,FALSE))","v":""},{"$f":"IF(OR(C661=\"\",ISBLANK(C661)),\"\",VLOOKUP(C661,Sheet2!A:G,4,FALSE))","v":""},null,null,{"$f":"IF(OR(C661=\"\",ISBLANK(C661)),\"\",VLOOKUP(C661,Sheet2!A:F,3,FALSE))","v":""},{"$f":"IF(OR(C661=\"\",ISBLANK(C661)),\"\",VLOOKUP(C661,Sheet2!A:G,6,FALSE))","v":""},""]
[{"$f":"IF(OR(C662=\"\",ISBLANK(C662)),\"\",VLOOKUP(C662,Sheet2!A:F,2,FALSE))","v":""},{"$f":"IF(OR(C662=\"\",ISBLANK(C662)),\"\",VLOOKUP(C662,Sheet2!A:G,4,FALSE))","v":""},null,null,{"$f":"IF(OR(C662=\"\",ISBLANK(C662)),\"\",VLOOKUP(C662,Sheet2!A:F,3,FALSE))","v":""},{"$f":"IF(OR(C662=\"\",ISBLANK(C662)),\"\",VLOOKUP(C662,Sheet2!A:G,6,FALSE))","v":""},""]
[{"$f":"IF(OR(C663=\"\",ISBLANK(C663)),\"\",VLOOKUP(C663,Sheet2!A:F,2,FALSE))","v":""},{"$f":"IF(OR(C663=\"\",ISBLANK(C663)),\"\",VLOOKUP(C663,Sheet2!A:G,4,FALSE))","v":""},null,null,{"$f":"IF(OR(C663=\"\",ISBLANK(C663)),\"\",VLOOKUP(C663,Sheet2!A:F,3,FALSE))","v":""},{"$f":"IF(OR(C663=\"\",ISBLANK(C663)),\"\",VLOOKUP(C663,Sheet2!A:G,6,FALSE))","v":""},""]
[{"$f":"IF(OR(C664=\"\",ISBLANK(C664)),\"\",VLOOKUP(C664,Sheet2!A:F,2,FALSE))","v":""},{"$f":"IF(OR(C664=\"\",ISBLANK(C664)),\"\",VLOOKUP(C664,Sheet2!A:G,4,FALSE))","v":""},null,null,{"$f":"IF(OR(C664=\"\",ISBLANK(C664)),\"\",VLOOKUP(C664,Sheet2!A:F,3,FALSE))","v":""},{"$f":"IF(OR(C664=\"\",ISBLANK(C664)),\"\",VLOOKUP(C664,Sheet2!A:G,6,FALSE))","v":""},""]
[{"$f":"IF(OR(C665=\"\",ISBLANK(C665)),\"\",VLOOKUP(C665,Sheet2!A:F,2,FALSE))","v":""},{"$f":"IF(OR(C665=\"\",ISBLANK(C665)),\"\",VLOOKUP(C665,Sheet2!A:G,4,FALSE))","v":""},null,null,{"$f":"IF(OR(C665=\"\",ISBLANK(C665)),\"\",VLOOKUP(C665,Sheet2!A:F,3,FALSE))","v":""},{"$f":"IF(OR(C665=\"\",ISBLANK(C665)),\"\",VLOOKUP(C665,Sheet2!A:G,6,FALSE))","v":""},""]
[{"$f":"IF(OR(C666=\"\",ISBLANK(C666)),\"\",VLOOKUP(C666,Sheet2!A:F,2,FALSE))","v":""},{"$f":"IF(OR(C666=\"\",ISBLANK(C666)),\"\",VLOOKUP(C666,Sheet2!A:G,4,FALSE))","v":""},null,null,{"$f":"IF(OR(C666=\"\",ISBLANK(C666)),\"\",VLOOKUP(C666,Sheet2!A:F,3,FALSE))","v":""},{"$f":"IF(OR(C666=\"\",ISBLANK(C666)),\"\",VLOOKUP(C666,Sheet2!A:G,6,FALSE))","v":""},""]
[{"$f":"IF(OR(C667=\"\",ISBLANK(C667)),\"\",VLOOKUP(C667,Sheet2!A:F,2,FALSE))","v":""},{"$f":"IF(OR(C667=\"\",ISBLANK(C667)),\"\",VLOOKUP(C667,Sheet2!A:G,4,FALSE))","v":""},null,null,{"$f":"IF(OR(C667=\"\",ISBLANK(C667)),\"\",VLOOKUP(C667,Sheet2!A:F,3,FALSE))","v":""},{"$f":"IF(OR(C667=\"\",ISBLANK(C667)),\"\",VLOOKUP(C667,Sheet2!A:G,6,FALSE))","v":""},""]
[{"$f":"IF(OR(C668=\"\",ISBLANK(C668)),\"\",VLOOKUP(C668,Sheet2!A:F,2,FALSE))","v":""},{"$f":"IF(OR(C668=\"\",ISBLANK(C668)),\"\",VLOOKUP(C668,Sheet2!A:G,4,FALSE))","v":""},null,null,{"$f":"IF(OR(C668=\"\",ISBLANK(C668)),\"\",VLOOKUP(C668,Sheet2!A:F,3,FALSE))","v":""},{"$f":"IF(OR(C668=\"\",ISBLANK(C668)),\"\",VLOOKUP(C668,Sheet2!A:G,6,FALSE))","v":""},""]
[{"$f":"IF(OR(C669=\"\",ISBLANK(C669)),\"\",VLOOKUP(C669,Sheet2!A:F,2,FALSE))","v":""},{"$f":"IF(OR(C669=\"\",ISBLANK(C669)),\"\",VLOOKUP(C669,Sheet2!A:G,4,FALSE))","v":""},null,null,{"$f":"IF(OR(C669=\"\",ISBLANK(C669)),\"\",VLOOKUP(C669,Sheet2!A:F,3,FALSE))","v":""},{"$f":"IF(OR(C669=\"\",ISBLANK(C669)),\"\",VLOOKUP(C669,Sheet2!A:G,6,FALSE))","v":""},""]
[{"$f":"IF(OR(C670=\"\",ISBLANK(C670)),\"\",VLOOKUP(C670,Sheet2!A:F,2,FALSE))","v":""},{"$f":"IF(OR(C670=\"\",ISBLANK(C670)),\"\",VLOOKUP(C670,Sheet2!A:G,4,FALSE))","v":""},null,null,{"$f":"IF(OR(C670=\"\",ISBLANK(C670)),\"\",VLOOKUP(C670,Sheet2!A:F,3,FALSE))","v":""},{"$f":"IF(OR(C670=\"\",ISBLANK(C670)),\"\",VLOOKUP(C670,Sheet2!A:G,6,FALSE))","v":""},""]
[{"$f":"IF(OR(C671=\"\",ISBLANK(C671)),\"\",VLOOKUP(C671,Sheet2!A:F,2,FALSE))","v":""},{"$f":"IF(OR(C671=\"\",ISBLANK(C671)),\"\",VLOOKUP(C671,Sheet2!A:G,4,FALSE))","v":""},null,null,{"$f":"IF(OR(C671=\"\",ISBLANK(C671)),\"\",VLOOKUP(C671,Sheet2!A:F,3,FALSE))","v":""},{"$f":"IF(OR(C671=\"\",ISBLANK(C671)),\"\",VLOOKUP(C671,Sheet2!A:G,6,FALSE))","v":""},""]
[{"$f":"IF(OR(C672=\"\",ISBLANK(C672)),\"\",VLOOKUP(C672,Sheet2!A:F,2,FALSE))","v":""},{"$f":"IF(OR(C672=\"\",ISBLANK(C672)),\"\",VLOOKUP(C672,Sheet2!A:G,4,FALSE))","v":""},null,null,{"$f":"IF(OR(C672=\"\",ISBLANK(C672)),\"\",VLOOKUP(C672,Sheet2!A:F,3,FALSE))","v":""},{"$f":"IF(OR(C672=\"\",ISBLANK(C672)),\"\",VLOOKUP(C672,Sheet2!A:G,6,FALSE))","v":""},""]
[{"$f":"IF(OR(C673=\"\",ISBLANK(C673)),\"\",VLOOKUP(C673,Sheet2!A:F,2,FALSE))","v":""},{"$f":"IF(OR(C673=\"\",ISBLANK(C673)),\"\",VLOOKUP(C673,Sheet2!A:G,4,FALSE))","v":""},null,null,{"$f":"IF(OR(C673=\"\",ISBLANK(C673)),\"\",VLOOKUP(C673,Sheet2!A:F,3,FALSE))","v":""},{"$f":"IF(OR(C673=\"\",ISBLANK(C673)),\"\",VLOOKUP(C673,Sheet2!A:G,6,FALSE))","v":""},""]
[{"$f":"IF(OR(C674=\"\",ISBLANK(C674)),\"\",VLOOKUP(C674,Sheet2!A:F,2,FALSE))","v":""},{"$f":"IF(OR(C674=\"\",ISBLANK(C674)),\"\",VLOOKUP(C674,Sheet2!A:G,4,FALSE))","v":""},null,null,{"$f":"IF(OR(C674=\"\",ISBLANK(C674)),\"\",VLOOKUP(C674,Sheet2!A:F,3,FALSE))","v":""},{"$f":"IF(OR(C674=\"\",ISBLANK(C674)),\"\",VLOOKUP(C674,Sheet2!A:G,6,FALSE))","v":""},""]
[{"$f":"IF(OR(C675=\"\",ISBLANK(C675)),\"\",VLOOKUP(C675,Sheet2!A:F,2,FALSE))","v":""},{"$f":"IF(OR(C675=\"\",ISBLANK(C675)),\"\",VLOOKUP(C675,Sheet2!A:G,4,FALSE))","v":""},null,null,{"$f":"IF(OR(C675=\"\",ISBLANK(C675)),\"\",VLOOKUP(C675,Sheet2!A:F,3,FALSE))","v":""},{"$f":"IF(OR(C675=\"\",ISBLANK(C675)),\"\",VLOOKUP(C675,Sheet2!A:G,6,FALSE))","v":""},""]
[{"$f":"IF(OR(C676=\"\",ISBLANK(C676)),\"\",VLOOKUP(C676,Sheet2!A:F,2,FALSE))","v":""},{"$f":"IF(OR(C676=\"\",ISBLANK(C676)),\"\",VLOOKUP(C676,Sheet2!A:G,4,FALSE))","v":""},null,null,{"$f":"IF(OR(C676=\"\",ISBLANK(C676)),\"\",VLOOKUP(C676,Sheet2!A:F,3,FALSE))","v":""},{"$f":"IF(OR(C676=\"\",ISBLANK(C676)),\"\",VLOOKUP(C676,Sheet2!A:G,6,FALSE))","v":""},""]
[{"$f":"IF(OR(C677=\"\",ISBLANK(C677)),\"\",VLOOKUP(C677,Sheet2!A:F,2,FALSE))","v":""},{"$f":"IF(OR(C677=\"\",ISBLANK(C677)),\"\",VLOOKUP(C677,Sheet2!A:G,4,FALSE))","v":""},null,null,{"$f":"IF(OR(C677=\"\",ISBLANK(C677)),\"\",VLOOKUP(C677,Sheet2!A:F,3,FALSE))","v":""},{"$f":"IF(OR(C677=\"\",ISBLANK(C677)),\"\",VLOOKUP(C677,Sheet2!A:G,6,FALSE))","v":""},""]
[{"$f":"IF(OR(C678=\"\",ISBLANK(C678)),\"\",VLOOKUP(C678,Sheet2!A:F,2,FALSE))","v":""},{"$f":"IF(OR(C678=\"\",ISBLANK(C678)),\"\",VLOOKUP(C678,Sheet2!A:G,4,FALSE))","v":""},null,null,{"$f":"IF(OR(C678=\"\",ISBLANK(C678)),\"\",VLOOKUP(C678,Sheet2!A:F,3,FALSE))","v":""},{"$f":"IF(OR(C678=\"\",ISBLANK(C678)),\"\",VLOOKUP(C678,Sheet2!A:G,6,FALSE))","v":""},""]
[{"$f":"IF(OR(C679=\"\",ISBLANK(C679)),\"\",VLOOKUP(C679,Sheet2!A:F,2,FALSE))","v":""},{"$f":"IF(OR(C679=\"\",ISBLANK(C679)),\"\",VLOOKUP(C679,Sheet2!A:G,4,FALSE))","v":""},null,null,{"$f":"IF(OR(C679=\"\",ISBLANK(C679)),\"\",VLOOKUP(C679,Sheet2!A:F,3,FALSE))","v":""},{"$f":"IF(OR(C679=\"\",ISBLANK(C679)),\"\",VLOOKUP(C679,Sheet2!A:G,6,FALSE))","v":""},""]
[{"$f":"IF(OR(C680=\"\",ISBLANK(C680)),\"\",VLOOKUP(C680,Sheet2!A:F,2,FALSE))","v":""},{"$f":"IF(OR(C680=\"\",ISBLANK(C680)),\"\",VLOOKUP(C680,Sheet2!A:G,4,FALSE))","v":""},null,null,{"$f":"IF(OR(C680=\"\",ISBLANK(C680)),\"\",VLOOKUP(C680,Sheet2!A:F,3,FALSE))","v":""},{"$f":"IF(OR(C680=\"\",ISBLANK(C680)),\"\",VLOOKUP(C680,Sheet2!A:G,6,FALSE))","v":""},""]
[{"$f":"IF(OR(C681=\"\",ISBLANK(C681)),\"\",VLOOKUP(C681,Sheet2!A:F,2,FALSE))","v":""},{"$f":"IF(OR(C681=\"\",ISBLANK(C681)),\"\",VLOOKUP(C681,Sheet2!A:G,4,FALSE))","v":""},null,null,{"$f":"IF(OR(C681=\"\",ISBLANK(C681)),\"\",VLOOKUP(C681,Sheet2!A:F,3,FALSE))","v":""},{"$f":"IF(OR(C681=\"\",ISBLANK(C681)),\"\",VLOOKUP(C681,Sheet2!A:G,6,FALSE))","v":""},""]
[{"$f":"IF(OR(C682=\"\",ISBLANK(C682)),\"\",VLOOKUP(C682,Sheet2!A:F,2,FALSE))","v":""},{"$f":"IF(OR(C682=\"\",ISBLANK(C682)),\"\",VLOOKUP(C682,Sheet2!A:G,4,FALSE))","v":""},null,null,{"$f":"IF(OR(C682=\"\",ISBLANK(C682)),\"\",VLOOKUP(C682,Sheet2!A:F,3,FALSE))","v":""},{"$f":"IF(OR(C682=\"\",ISBLANK(C682)),\"\",VLOOKUP(C682,Sheet2!A:G,6,FALSE))","v":""},""]
[{"$f":"IF(OR(C683=\"\",ISBLANK(C683)),\"\",VLOOKUP(C683,Sheet2!A:F,2,FALSE))","v":""},{"$f":"IF(OR(C683=\"\",ISBLANK(C683)),\"\",VLOOKUP(C683,Sheet2!A:G,4,FALSE))","v":""},null,null,{"$f":"IF(OR(C683=\"\",ISBLANK(C683)),\"\",VLOOKUP(C683,Sheet2!A:F,3,FALSE))","v":""},{"$f":"IF(OR(C683=\"\",ISBLANK(C683)),\"\",VLOOKUP(C683,Sheet2!A:G,6,FALSE))","v":""},""]
[{"$f":"IF(OR(C684=\"\",ISBLANK(C684)),\"\",VLOOKUP(C684,Sheet2!A:F,2,FALSE))","v":""},{"$f":"IF(OR(C684=\"\",ISBLANK(C684)),\"\",VLOOKUP(C684,Sheet2!A:G,4,FALSE))","v":""},null,null,{"$f":"IF(OR(C684=\"\",ISBLANK(C684)),\"\",VLOOKUP(C684,Sheet2!A:F,3,FALSE))","v":""},{"$f":"IF(OR(C684=\"\",ISBLANK(C684)),\"\",VLOOKUP(C684,Sheet2!A:G,6,FALSE))","v":""},""]
[{"$f":"IF(OR(C685=\"\",ISBLANK(C685)),\"\",VLOOKUP(C685,Sheet2!A:F,2,FALSE))","v":""},{"$f":"IF(OR(C685=\"\",ISBLANK(C685)),\"\",VLOOKUP(C685,Sheet2!A:G,4,FALSE))","v":""},null,null,{"$f":"IF(OR(C685=\"\",ISBLANK(C685)),\"\",VLOOKUP(C685,Sheet2!A:F,3,FALSE))","v":""},{"$f":"IF(OR(C685=\"\",ISBLANK(C685)),\"\",VLOOKUP(C685,Sheet2!A:G,6,FALSE))","v":""},""]
[{"$f":"IF(OR(C686=\"\",ISBLANK(C686)),\"\",VLOOKUP(C686,Sheet2!A:F,2,FALSE))","v":""},{"$f":"IF(OR(C686=\"\",ISBLANK(C686)),\"\",VLOOKUP(C686,Sheet2!A:G,4,FALSE))","v":""},null,null,{"$f":"IF(OR(C686=\"\",ISBLANK(C686)),\"\",VLOOKUP(C686,Sheet2!A:F,3,FALSE))","v":""},{"$f":"IF(OR(C686=\"\",ISBLANK(C686)),\"\",VLOOKUP(C686,Sheet2!A:G,6,FALSE))","v":""},""]
[{"$f":"IF(OR(C687=\"\",ISBLANK(C687)),\"\",VLOOKUP(C687,Sheet2!A:F,2,FALSE))","v":""},{"$f":"IF(OR(C687=\"\",ISBLANK(C687)),\"\",VLOOKUP(C687,Sheet2!A:G,4,FALSE))","v":""},null,null,{"$f":"IF(OR(C687=\"\",ISBLANK(C687)),\"\",VLOOKUP(C687,Sheet2!A:F,3,FALSE))","v":""},{"$f":"IF(OR(C687=\"\",ISBLANK(C687)),\"\",VLOOKUP(C687,Sheet2!A:G,6,FALSE))","v":""},""]
[{"$f":"IF(OR(C688=\"\",ISBLANK(C688)),\"\",VLOOKUP(C688,Sheet2!A:F,2,FALSE))","v":""},{"$f":"IF(OR(C688=\"\",ISBLANK(C688)),\"\",VLOOKUP(C688,Sheet2!A:G,4,FALSE))","v":""},null,null,{"$f":"IF(OR(C688=\"\",ISBLANK(C688)),\"\",VLOOKUP(C688,Sheet2!A:F,3,FALSE))","v":""},{"$f":"IF(OR(C688=\"\",ISBLANK(C688)),\"\",VLOOKUP(C688,Sheet2!A:G,6,FALSE))","v":""},""]
[{"$f":"IF(OR(C689=\"\",ISBLANK(C689)),\"\",VLOOKUP(C689,Sheet2!A:F,2,FALSE))","v":""},{"$f":"IF(OR(C689=\"\",ISBLANK(C689)),\"\",VLOOKUP(C689,Sheet2!A:G,4,FALSE))","v":""},null,null,{"$f":"IF(OR(C689=\"\",ISBLANK(C689)),\"\",VLOOKUP(C689,Sheet2!A:F,3,FALSE))","v":""},{"$f":"IF(OR(C689=\"\",ISBLANK(C689)),\"\",VLOOKUP(C689,Sheet2!A:G,6,FALSE))","v":""},""]
[{"$f":"IF(OR(C690=\"\",ISBLANK(C690)),\"\",VLOOKUP(C690,Sheet2!A:F,2,FALSE))","v":""},{"$f":"IF(OR(C690=\"\",ISBLANK(C690)),\"\",VLOOKUP(C690,Sheet2!A:G,4,FALSE))","v":""},null,null,{"$f":"IF(OR(C690=\"\",ISBLANK(C690)),\"\",VLOOKUP(C690,Sheet2!A:F,3,FALSE))","v":""},{"$f":"IF(OR(C690=\"\",ISBLANK(C690)),\"\",VLOOKUP(C690,Sheet2!A:G,6,FALSE))","v":""},""]
[{"$f":"IF(OR(C691=\"\",ISBLANK(C691)),\"\",VLOOKUP(C691,Sheet2!A:F,2,FALSE))","v":""},{"$f":"IF(OR(C691=\"\",ISBLANK(C691)),\"\",VLOOKUP(C691,Sheet2!A:G,4,FALSE))","v":""},null,null,{"$f":"IF(OR(C691=\"\",ISBLANK(C691)),\"\",VLOOKUP(C691,Sheet2!A:F,3,FALSE))","v":""},{"$f":"IF(OR(C691=\"\",ISBLANK(C691)),\"\",VLOOKUP(C691,Sheet2!A:G,6,FALSE))","v":""},""]
[{"$f":"IF(OR(C692=\"\",ISBLANK(C692)),\"\",VLOOKUP(C692,Sheet2!A:F,2,FALSE))","v":""},{"$f":"IF(OR(C692=\"\",ISBLANK(C692)),\"\",VLOOKUP(C692,Sheet2!A:G,4,FALSE))","v":""},null,null,{"$f":"IF(OR(C692=\"\",ISBLANK(C692)),\"\",VLOOKUP(C692,Sheet2!A:F,3,FALSE))","v":""},{"$f":"IF(OR(C692=\"\",ISBLANK(C692)),\"\",VLOOKUP(C692,Sheet2!A:G,6,FALSE))","v":""},""]
[{"$f":"IF(OR(C693=\"\",ISBLANK(C693)),\"\",VLOOKUP(C693,Sheet2!A:F,2,FALSE))","v":""},{"$f":"IF(OR(C693=\"\",ISBLANK(C693)),\"\",VLOOKUP(C693,Sheet2!A:G,4,FALSE))","v":""},null,null,{"$f":"IF(OR(C693=\"\",ISBLANK(C693)),\"\",VLOOKUP(C693,Sheet2!A:F,3,FALSE))","v":""},{"$f":"IF(OR(C693=\"\",ISBLANK(C693)),\"\",VLOOKUP(C693,Sheet2!A:G,6,FALSE))","v":""},""]
[{"$f":"IF(OR(C694=\"\",ISBLANK(C694)),\"\",VLOOKUP(C694,Sheet2!A:F,2,FALSE))","v":""},{"$f":"IF(OR(C694=\"\",ISBLANK(C694)),\"\",VLOOKUP(C694,Sheet2!A:G,4,FALSE))","v":""},null,null,{"$f":"IF(OR(C694=\"\",ISBLANK(C694)),\"\",VLOOKUP(C694,Sheet2!A:F,3,FALSE))","v":""},{"$f":"IF(OR(C694=\"\",ISBLANK(C694)),\"\",VLOOKUP(C694,Sheet2!A:G,6,FALSE))","v":""},""]
[{"$f":"IF(OR(C695=\"\",ISBLANK(C695)),\"\",VLOOKUP(C695,Sheet2!A:F,2,FALSE))","v":""},{"$f":"IF(OR(C695=\"\",ISBLANK(C695)),\"\",VLOOKUP(C695,Sheet2!A:G,4,FALSE))","v":""},null,null,{"$f":"IF(OR(C695=\"\",ISBLANK(C695)),\"\",VLOOKUP(C695,Sheet2!A:F,3,FALSE))","v":""},{"$f":"IF(OR(C695=\"\",ISBLANK(C695)),\"\",VLOOKUP(C695,Sheet2!A:G,6,FALSE))","v":""},""]
[{"$f":"IF(OR(C696=\"\",ISBLANK(C696)),\"\",VLOOKUP(C696,Sheet2!A:F,2,FALSE))","v":""},{"$f":"IF(OR(C696=\"\",ISBLANK(C696)),\"\",VLOOKUP(C696,Sheet2!A:G,4,FALSE))","v":""},null,null,{"$f":"IF(OR(C696=\"\",ISBLANK(C696)),\"\",VLOOKUP(C696,Sheet2!A:F,3,FALSE))","v":""},{"$f":"IF(OR(C696=\"\",ISBLANK(C696)),\"\",VLOOKUP(C696,Sheet2!A:G,6,FALSE))","v":""},""]
[{"$f":"IF(OR(C697=\"\",ISBLANK(C697)),\"\",VLOOKUP(C697,Sheet2!A:F,2,FALSE))","v":""},{"$f":"IF(OR(C697=\"\",ISBLANK(C697)),\"\",VLOOKUP(C697,Sheet2!A:G,4,FALSE))","v":""},null,null,{"$f":"IF(OR(C697=\"\",ISBLANK(C697)),\"\",VLOOKUP(C697,Sheet2!A:F,3,FALSE))","v":""},{"$f":"IF(OR(C697=\"\",ISBLANK(C697)),\"\",VLOOKUP(C697,Sheet2!A:G,6,FALSE))","v":""},""]
[{"$f":"IF(OR(C698=\"\",ISBLANK(C698)),\"\",VLOOKUP(C698,Sheet2!A:F,2,FALSE))","v":""},{"$f":"IF(OR(C698=\"\",ISBLANK(C698)),\"\",VLOOKUP(C698,Sheet2!A:G,4,FALSE))","v":""},null,null,{"$f":"IF(OR(C698=\"\",ISBLANK(C698)),\"\",VLOOKUP(C698,Sheet2!A:F,3,FALSE))","v":""},{"$f":"IF(OR(C698=\"\",ISBLANK(C698)),\"\",VLOOKUP(C698,Sheet2!A:G,6,FALSE))","v":""},""]
[{"$f":"IF(OR(C699=\"\",ISBLANK(C699)),\"\",VLOOKUP(C699,Sheet2!A:F,2,FALSE))","v":""},{"$f":"IF(OR(C699=\"\",ISBLANK(C699)),\"\",VLOOKUP(C699,Sheet2!A:G,4,FALSE))","v":""},null,null,{"$f":"IF(OR(C699=\"\",ISBLANK(C699)),\"\",VLOOKUP(C699,Sheet2!A:F,3,FALSE))","v":""},{"$f":"IF(OR(C699=\"\",ISBLANK(C699)),\"\",VLOOKUP(C699,Sheet2!A:G,6,FALSE))","v":""},""]
[{"$f":"IF(OR(C700=\"\",ISBLANK(C700)),\"\",VLOOKUP(C700,Sheet2!A:F,2,FALSE))","v":""},{"$f":"IF(OR(C700=\"\",ISBLANK(C700)),\"\",VLOOKUP(C700,Sheet2!A:G,4,FALSE))","v":""},null,null,{"$f":"IF(OR(C700=\"\",ISBLANK(C700)),\"\",VLOOKUP(C700,Sheet2!A:F,3,FALSE))","v":""},{"$f":"IF(OR(C700=\"\",ISBLANK(C700)),\"\",VLOOKUP(C700,Sheet2!A:G,6,FALSE))","v":""},""]
[{"$f":"IF(OR(C701=\"\",ISBLANK(C701)),\"\",VLOOKUP(C701,Sheet2!A:F,2,FALSE))","v":""},{"$f":"IF(OR(C701=\"\",ISBLANK(C701)),\"\",VLOOKUP(C701,Sheet2!A:G,4,FALSE))","v":""},null,null,{"$f":"IF(OR(C701=\"\",ISBLANK(C701)),\"\",VLOOKUP(C701,Sheet2!A:F,3,FALSE))","v":""},{"$f":"IF(OR(C701=\"\",ISBLANK(C701)),\"\",VLOOKUP(C701,Sheet2!A:G,6,FALSE))","v":""},""]
[{"$f":"IF(OR(C702=\"\",ISBLANK(C702)),\"\",VLOOKUP(C702,Sheet2!A:F,2,FALSE))","v":""},{"$f":"IF(OR(C702=\"\",ISBLANK(C702)),\"\",VLOOKUP(C702,Sheet2!A:G,4,FALSE))","v":""},null,null,{"$f":"IF(OR(C702=\"\",ISBLANK(C702)),\"\",VLOOKUP(C702,Sheet2!A:F,3,FALSE))","v":""},{"$f":"IF(OR(C702=\"\",ISBLANK(C702)),\"\",VLOOKUP(C702,Sheet2!A:G,6,FALSE))","v":""},""]
[{"$f":"IF(OR(C703=\"\",ISBLANK(C703)),\"\",VLOOKUP(C703,Sheet2!A:F,2,FALSE))","v":""},{"$f":"IF(OR(C703=\"\",ISBLANK(C703)),\"\",VLOOKUP(C703,Sheet2!A:G,4,FALSE))","v":""},null,null,{"$f":"IF(OR(C703=\"\",ISBLANK(C703)),\"\",VLOOKUP(C703,Sheet2!A:F,3,FALSE))","v":""},{"$f":"IF(OR(C703=\"\",ISBLANK(C703)),\"\",VLOOKUP(C703,Sheet2!A:G,6,FALSE))","v":""},""]
[{"$f":"IF(OR(C704=\"\",ISBLANK(C704)),\"\",VLOOKUP(C704,Sheet2!A:F,2,FALSE))","v":""},{"$f":"IF(OR(C704=\"\",ISBLANK(C704)),\"\",VLOOKUP(C704,Sheet2!A:G,4,FALSE))","v":""},null,null,{"$f":"IF(OR(C704=\"\",ISBLANK(C704)),\"\",VLOOKUP(C704,Sheet2!A:F,3,FALSE))","v":""},{"$f":"IF(OR(C704=\"\",ISBLANK(C704)),\"\",VLOOKUP(C704,Sheet2!A:G,6,FALSE))","v":""},""]
[{"$f":"IF(OR(C705=\"\",ISBLANK(C705)),\"\",VLOOKUP(C705,Sheet2!A:F,2,FALSE))","v":""},{"$f":"IF(OR(C705=\"\",ISBLANK(C705)),\"\",VLOOKUP(C705,Sheet2!A:G,4,FALSE))","v":""},null,null,{"$f":"IF(OR(C705=\"\",ISBLANK(C705)),\"\",VLOOKUP(C705,Sheet2!A:F,3,FALSE))","v":""},{"$f":"IF(OR(C705=\"\",ISBLANK(C705)),\"\",VLOOKUP(C705,Sheet2!A:G,6,FALSE))","v":""},""]
[{"$f":"IF(OR(C706=\"\",ISBLANK(C706)),\"\",VLOOKUP(C706,Sheet2!A:F,2,FALSE))","v":""},{"$f":"IF(OR(C706=\"\",ISBLANK(C706)),\"\",VLOOKUP(C706,Sheet2!A:G,4,FALSE))","v":""},null,null,{"$f":"IF(OR(C706=\"\",ISBLANK(C706)),\"\",VLOOKUP(C706,Sheet2!A:F,3,FALSE))","v":""},{"$f":"IF(OR(C706=\"\",ISBLANK(C706)),\"\",VLOOKUP(C706,Sheet2!A:G,6,FALSE))","v":""},""]
[{"$f":"IF(OR(C707=\"\",ISBLANK(C707)),\"\",VLOOKUP(C707,Sheet2!A:F,2,FALSE))","v":""},{"$f":"IF(OR(C707=\"\",ISBLANK(C707)),\"\",VLOOKUP(C707,Sheet2!A:G,4,FALSE))","v":""},null,null,{"$f":"IF(OR(C707=\"\",ISBLANK(C707)),\"\",VLOOKUP(C707,Sheet2!A:F,3,FALSE))","v":""},{"$f":"IF(OR(C707=\"\",ISBLANK(C707)),\"\",VLOOKUP(C707,Sheet2!A:G,6,FALSE))","v":""},{"$f":"IF(F707=0,\"\",F707)","v":""}]
[{"$f":"IF(OR(C708=\"\",ISBLANK(C708)),\"\",VLOOKUP(C708,Sheet2!A:F,2,FALSE))","v":""},{"$f":"IF(OR(C708=\"\",ISBLANK(C708)),\"\",VLOOKUP(C708,Sheet2!A:G,4,FALSE))","v":""},null,null,{"$f":"IF(OR(C708=\"\",ISBLANK(C708)),\"\",VLOOKUP(C708,Sheet2!A:F,3,FALSE))","v":""},{"$f":"IF(OR(C708=\"\",ISBLANK(C708)),\"\",VLOOKUP(C708,Sheet2!A:G,6,FALSE))","v":""},""]
[{"$f":"IF(OR(C709=\"\",ISBLANK(C709)),\"\",VLOOKUP(C709,Sheet2!A:F,2,FALSE))","v":""},{"$f":"IF(OR(C709=\"\",ISBLANK(C709)),\"\",VLOOKUP(C709,Sheet2!A:G,4,FALSE))","v":""},null,null,{"$f":"IF(OR(C709=\"\",ISBLANK(C709)),\"\",VLOOKUP(C709,Sheet2!A:F,3,FALSE))","v":""},{"$f":"IF(OR(C709=\"\",ISBLANK(C709)),\"\",VLOOKUP(C709,Sheet2!A:G,6,FALSE))","v":""},""]
[{"$f":"IF(OR(C710=\"\",ISBLANK(C710)),\"\",VLOOKUP(C710,Sheet2!A:F,2,FALSE))","v":""},{"$f":"IF(OR(C710=\"\",ISBLANK(C710)),\"\",VLOOKUP(C710,Sheet2!A:G,4,FALSE))","v":""},null,null,{"$f":"IF(OR(C710=\"\",ISBLANK(C710)),\"\",VLOOKUP(C710,Sheet2!A:F,3,FALSE))","v":""},{"$f":"IF(OR(C710=\"\",ISBLANK(C710)),\"\",VLOOKUP(C710,Sheet2!A:G,6,FALSE))","v":""},""]
[{"$f":"IF(OR(C711=\"\",ISBLANK(C711)),\"\",VLOOKUP(C711,Sheet2!A:F,2,FALSE))","v":""},{"$f":"IF(OR(C711=\"\",ISBLANK(C711)),\"\",VLOOKUP(C711,Sheet2!A:G,4,FALSE))","v":""},null,null,{"$f":"IF(OR(C711=\"\",ISBLANK(C711)),\"\",VLOOKUP(C711,Sheet2!A:F,3,FALSE))","v":""},{"$f":"IF(OR(C711=\"\",ISBLANK(C711)),\"\",VLOOKUP(C711,Sheet2!A:G,6,FALSE))","v":""},""]
[{"$f":"IF(OR(C712=\"\",ISBLANK(C712)),\"\",VLOOKUP(C712,Sheet2!A:F,2,FALSE))","v":""},{"$f":"IF(OR(C712=\"\",ISBLANK(C712)),\"\",VLOOKUP(C712,Sheet2!A:G,4,FALSE))","v":""},null,null,{"$f":"IF(OR(C712=\"\",ISBLANK(C712)),\"\",VLOOKUP(C712,Sheet2!A:F,3,FALSE))","v":""},{"$f":"IF(OR(C712=\"\",ISBLANK(C712)),\"\",VLOOKUP(C712,Sheet2!A:G,6,FALSE))","v":""},""]
[{"$f":"IF(OR(C713=\"\",ISBLANK(C713)),\"\",VLOOKUP(C713,Sheet2!A:F,2,FALSE))","v":""},{"$f":"IF(OR(C713=\"\",ISBLANK(C713)),\"\",VLOOKUP(C713,Sheet2!A:G,4,FALSE))","v":""},null,null,{"$f":"IF(OR(C713=\"\",ISBLANK(C713)),\"\",VLOOKUP(C713,Sheet2!A:F,3,FALSE))","v":""},{"$f":"IF(OR(C713=\"\",ISBLANK(C713)),\"\",VLOOKUP(C713,Sheet2!A:G,6,FALSE))","v":""},""]
[{"$f":"IF(OR(C714=\"\",ISBLANK(C714)),\"\",VLOOKUP(C714,Sheet2!A:F,2,FALSE))","v":""},{"$f":"IF(OR(C714=\"\",ISBLANK(C714)),\"\",VLOOKUP(C714,Sheet2!A:G,4,FALSE))","v":""},null,null,{"$f":"IF(OR(C714=\"\",ISBLANK(C714)),\"\",VLOOKUP(C714,Sheet2!A:F,3,FALSE))","v":""},{"$f":"IF(OR(C714=\"\",ISBLANK(C714)),\"\",VLOOKUP(C714,Sheet2!A:G,6,FALSE))","v":""},""]
[{"$f":"IF(OR(C715=\"\",ISBLANK(C715)),\"\",VLOOKUP(C715,Sheet2!A:F,2,FALSE))","v":""},{"$f":"IF(OR(C715=\"\",ISBLANK(C715)),\"\",VLOOKUP(C715,Sheet2!A:G,4,FALSE))","v":""},null,null,{"$f":"IF(OR(C715=\"\",ISBLANK(C715)),\"\",VLOOKUP(C715,Sheet2!A:F,3,FALSE))","v":""},{"$f":"IF(OR(C715=\"\",ISBLANK(C715)),\"\",VLOOKUP(C715,Sheet2!A:G,6,FALSE))","v":""},""]
[{"$f":"IF(OR(C716=\"\",ISBLANK(C716)),\"\",VLOOKUP(C716,Sheet2!A:F,2,FALSE))","v":""},{"$f":"IF(OR(C716=\"\",ISBLANK(C716)),\"\",VLOOKUP(C716,Sheet2!A:G,4,FALSE))","v":""},null,null,{"$f":"IF(OR(C716=\"\",ISBLANK(C716)),\"\",VLOOKUP(C716,Sheet2!A:F,3,FALSE))","v":""},{"$f":"IF(OR(C716=\"\",ISBLANK(C716)),\"\",VLOOKUP(C716,Sheet2!A:G,6,FALSE))","v":""},""]
[{"$f":"IF(OR(C717=\"\",ISBLANK(C717)),\"\",VLOOKUP(C717,Sheet2!A:F,2,FALSE))","v":""},{"$f":"IF(OR(C717=\"\",ISBLANK(C717)),\"\",VLOOKUP(C717,Sheet2!A:G,4,FALSE))","v":""},null,null,{"$f":"IF(OR(C717=\"\",ISBLANK(C717)),\"\",VLOOKUP(C717,Sheet2!A:F,3,FALSE))","v":""},{"$f":"IF(OR(C717=\"\",ISBLANK(C717)),\"\",VLOOKUP(C717,Sheet2!A:G,6,FALSE))","v":""},""]
[{"$f":"IF(OR(C718=\"\",ISBLANK(C718)),\"\",VLOOKUP(C718,Sheet2!A:F,2,FALSE))","v":""},{"$f":"IF(OR(C718=\"\",ISBLANK(C718)),\"\",VLOOKUP(C718,Sheet2!A:G,4,FALSE))","v":""},null,null,{"$f":"IF(OR(C718=\"\",ISBLANK(C718)),\"\",VLOOKUP(C718,Sheet2!A:F,3,FALSE))","v":""},{"$f":"IF(OR(C718=\"\",ISBLANK(C718)),\"\",VLOOKUP(C718,Sheet2!A:G,6,FALSE))","v":""},""]
[{"$f":"IF(OR(C719=\"\",ISBLANK(C719)),\"\",VLOOKUP(C719,Sheet2!A:F,2,FALSE))","v":""},{"$f":"IF(OR(C719=\"\",ISBLANK(C719)),\"\",VLOOKUP(C719,Sheet2!A:G,4,FALSE))","v":""},null,null,{"$f":"IF(OR(C719=\"\",ISBLANK(C719)),\"\",VLOOKUP(C719,Sheet2!A:F,3,FALSE))","v":""},{"$f":"IF(OR(C719=\"\",ISBLANK(C719)),\"\",VLOOKUP(C719,Sheet2!A:G,6,FALSE))","v":""},""]
[{"$f":"IF(OR(C720=\"\",ISBLANK(C720)),\"\",VLOOKUP(C720,Sheet2!A:F,2,FALSE))","v":""},{"$f":"IF(OR(C720=\"\",ISBLANK(C720)),\"\",VLOOKUP(C720,Sheet2!A:G,4,FALSE))","v":""},null,null,{"$f":"IF(OR(C720=\"\",ISBLANK(C720)),\"\",VLOOKUP(C720,Sheet2!A:F,3,FALSE))","v":""},{"$f":"IF(OR(C720=\"\",ISBLANK(C720)),\"\",VLOOKUP(C720,Sheet2!A:G,6,FALSE))","v":""},""]
[{"$f":"IF(OR(C721=\"\",ISBLANK(C721)),\"\",VLOOKUP(C721,Sheet2!A:F,2,FALSE))","v":""},{"$f":"IF(OR(C721=\"\",ISBLANK(C721)),\"\",VLOOKUP(C721,Sheet2!A:G,4,FALSE))","v":""},null,null,{"$f":"IF(OR(C721=\"\",ISBLANK(C721)),\"\",VLOOKUP(C721,Sheet2!A:F,3,FALSE))","v":""},{"$f":"IF(OR(C721=\"\",ISBLANK(C721)),\"\",VLOOKUP(C721,Sheet2!A:G,6,FALSE))","v":""},""]
[{"$f":"IF(OR(C722=\"\",ISBLANK(C722)),\"\",VLOOKUP(C722,Sheet2!A:F,2,FALSE))","v":""},{"$f":"IF(OR(C722=\"\",ISBLANK(C722)),\"\",VLOOKUP(C722,Sheet2!A:G,4,FALSE))","v":""},null,null,{"$f":"IF(OR(C722=\"\",ISBLANK(C722)),\"\",VLOOKUP(C722,Sheet2!A:F,3,FALSE))","v":""},{"$f":"IF(OR(C722=\"\",ISBLANK(C722)),\"\",VLOOKUP(C722,Sheet2!A:G,6,FALSE))","v":""},""]
[{"$f":"IF(OR(C723=\"\",ISBLANK(C723)),\"\",VLOOKUP(C723,Sheet2!A:F,2,FALSE))","v":""},{"$f":"IF(OR(C723=\"\",ISBLANK(C723)),\"\",VLOOKUP(C723,Sheet2!A:G,4,FALSE))","v":""},null,null,{"$f":"IF(OR(C723=\"\",ISBLANK(C723)),\"\",VLOOKUP(C723,Sheet2!A:F,3,FALSE))","v":""},{"$f":"IF(OR(C723=\"\",ISBLANK(C723)),\"\",VLOOKUP(C723,Sheet2!A:G,6,FALSE))","v":""},""]
[{"$f":"IF(OR(C724=\"\",ISBLANK(C724)),\"\",VLOOKUP(C724,Sheet2!A:F,2,FALSE))","v":""},{"$f":"IF(OR(C724=\"\",ISBLANK(C724)),\"\",VLOOKUP(C724,Sheet2!A:G,4,FALSE))","v":""},null,null,{"$f":"IF(OR(C724=\"\",ISBLANK(C724)),\"\",VLOOKUP(C724,Sheet2!A:F,3,FALSE))","v":""},{"$f":"IF(OR(C724=\"\",ISBLANK(C724)),\"\",VLOOKUP(C724,Sheet2!A:G,6,FALSE))","v":""},""]
[{"$f":"IF(OR(C725=\"\",ISBLANK(C725)),\"\",VLOOKUP(C725,Sheet2!A:F,2,FALSE))","v":""},{"$f":"IF(OR(C725=\"\",ISBLANK(C725)),\"\",VLOOKUP(C725,Sheet2!A:G,4,FALSE))","v":""},null,null,{"$f":"IF(OR(C725=\"\",ISBLANK(C725)),\"\",VLOOKUP(C725,Sheet2!A:F,3,FALSE))","v":""},{"$f":"IF(OR(C725=\"\",ISBLANK(C725)),\"\",VLOOKUP(C725,Sheet2!A:G,6,FALSE))","v":""},""]
[{"$f":"IF(OR(C726=\"\",ISBLANK(C726)),\"\",VLOOKUP(C726,Sheet2!A:F,2,FALSE))","v":""},{"$f":"IF(OR(C726=\"\",ISBLANK(C726)),\"\",VLOOKUP(C726,Sheet2!A:G,4,FALSE))","v":""},null,null,{"$f":"IF(OR(C726=\"\",ISBLANK(C726)),\"\",VLOOKUP(C726,Sheet2!A:F,3,FALSE))","v":""},{"$f":"IF(OR(C726=\"\",ISBLANK(C726)),\"\",VLOOKUP(C726,Sheet2!A:G,6,FALSE))","v":""},""]
[{"$f":"IF(OR(C727=\"\",ISBLANK(C727)),\"\",VLOOKUP(C727,Sheet2!A:F,2,FALSE))","v":""},{"$f":"IF(OR(C727=\"\",ISBLANK(C727)),\"\",VLOOKUP(C727,Sheet2!A:G,4,FALSE))","v":""},null,null,{"$f":"IF(OR(C727=\"\",ISBLANK(C727)),\"\",VLOOKUP(C727,Sheet2!A:F,3,FALSE))","v":""},{"$f":"IF(OR(C727=\"\",ISBLANK(C727)),\"\",VLOOKUP(C727,Sheet2!A:G,6,FALSE))","v":""},""]
[{"$f":"IF(OR(C728=\"\",ISBLANK(C728)),\"\",VLOOKUP(C728,Sheet2!A:F,2,FALSE))","v":""},{"$f":"IF(OR(C728=\"\",ISBLANK(C728)),\"\",VLOOKUP(C728,Sheet2!A:G,4,FALSE))","v":""},null,null,{"$f":"IF(OR(C728=\"\",ISBLANK(C728)),\"\",VLOOKUP(C728,Sheet2!A:F,3,FALSE))","v":""},{"$f":"IF(OR(C728=\"\",ISBLANK(C728)),\"\",VLOOKUP(C728,Sheet2!A:G,6,FALSE))","v":""},""]
[{"$f":"IF(OR(C729=\"\",ISBLANK(C729)),\"\",VLOOKUP(C729,Sheet2!A:F,2,FALSE))","v":""},{"$f":"IF(OR(C729=\"\",ISBLANK(C729)),\"\",VLOOKUP(C729,Sheet2!A:G,4,FALSE))","v":""},null,null,{"$f":"IF(OR(C729=\"\",ISBLANK(C729)),\"\",VLOOKUP(C729,Sheet2!A:F,3,FALSE))","v":""},{"$f":"IF(OR(C729=\"\",ISBLANK(C729)),\"\",VLOOKUP(C729,Sheet2!A:G,6,FALSE))","v":""},""]
[{"$f":"IF(OR(C730=\"\",ISBLANK(C730)),\"\",VLOOKUP(C730,Sheet2!A:F,2,FALSE))","v":""},{"$f":"IF(OR(C730=\"\",ISBLANK(C730)),\"\",VLOOKUP(C730,Sheet2!A:G,4,FALSE))","v":""},null,null,{"$f":"IF(OR(C730=\"\",ISBLANK(C730)),\"\",VLOOKUP(C730,Sheet2!A:F,3,FALSE))","v":""},{"$f":"IF(OR(C730=\"\",ISBLANK(C730)),\"\",VLOOKUP(C730,Sheet2!A:G,6,FALSE))","v":""},""]
[{"$f":"IF(OR(C731=\"\",ISBLANK(C731)),\"\",VLOOKUP(C731,Sheet2!A:F,2,FALSE))","v":""},{"$f":"IF(OR(C731=\"\",ISBLANK(C731)),\"\",VLOOKUP(C731,Sheet2!A:G,4,FALSE))","v":""},null,null,{"$f":"IF(OR(C731=\"\",ISBLANK(C731)),\"\",VLOOKUP(C731,Sheet2!A:F,3,FALSE))","v":""},{"$f":"IF(OR(C731=\"\",ISBLANK(C731)),\"\",VLOOKUP(C731,Sheet2!A:G,6,FALSE))","v":""},""]
[{"$f":"IF(OR(C732=\"\",ISBLANK(C732)),\"\",VLOOKUP(C732,Sheet2!A:F,2,FALSE))","v":""},{"$f":"IF(OR(C732=\"\",ISBLANK(C732)),\"\",VLOOKUP(C732,Sheet2!A:G,4,FALSE))","v":""},null,null,{"$f":"IF(OR(C732=\"\",ISBLANK(C732)),\"\",VLOOKUP(C732,Sheet2!A:F,3,FALSE))","v":""},{"$f":"IF(OR(C732=\"\",ISBLANK(C732)),\"\",VLOOKUP(C732,Sheet2!A:G,6,FALSE))","v":""},""]
[{"$f":"IF(OR(C733=\"\",ISBLANK(C733)),\"\",VLOOKUP(C733,Sheet2!A:F,2,FALSE))","v":""},{"$f":"IF(OR(C733=\"\",ISBLANK(C733)),\"\",VLOOKUP(C733,Sheet2!A:G,4,FALSE))","v":""},null,null,{"$f":"IF(OR(C733=\"\",ISBLANK(C733)),\"\",VLOOKUP(C733,Sheet2!A:F,3,FALSE))","v":""},{"$f":"IF(OR(C733=\"\",ISBLANK(C733)),\"\",VLOOKUP(C733,Sheet2!A:G,6,FALSE))","v":""},""]
[{"$f":"IF(OR(C734=\"\",ISBLANK(C734)),\"\",VLOOKUP(C734,Sheet2!A:F,2,FALSE))","v":""},{"$f":"IF(OR(C734=\"\",ISBLANK(C734)),\"\",VLOOKUP(C734,Sheet2!A:G,4,FALSE))","v":""},null,null,{"$f":"IF(OR(C734=\"\",ISBLANK(C734)),\"\",VLOOKUP(C734,Sheet2!A:F,3,FALSE))","v":""},{"$f":"IF(OR(C734=\"\",ISBLANK(C734)),\"\",VLOOKUP(C734,Sheet2!A:G,6,FALSE))","v":""},""]
[{"$f":"IF(OR(C735=\"\",ISBLANK(C735)),\"\",VLOOKUP(C735,Sheet2!A:F,2,FALSE))","v":""},{"$f":"IF(OR(C735=\"\",ISBLANK(C735)),\"\",VLOOKUP(C735,Sheet2!A:G,4,FALSE))","v":""},null,null,{"$f":"IF(OR(C735=\"\",ISBLANK(C735)),\"\",VLOOKUP(C735,Sheet2!A:F,3,FALSE))","v":""},{"$f":"IF(OR(C735=\"\",ISBLANK(C735)),\"\",VLOOKUP(C735,Sheet2!A:G,6,FALSE))","v":""},""]
[{"$f":"IF(OR(C736=\"\",ISBLANK(C736)),\"\",VLOOKUP(C736,Sheet2!A:F,2,FALSE))","v":""},{"$f":"IF(OR(C736=\"\",ISBLANK(C736)),\"\",VLOOKUP(C736,Sheet2!A:G,4,FALSE))","v":""},null,null,{"$f":"IF(OR(C736=\"\",ISBLANK(C736)),\"\",VLOOKUP(C736,Sheet2!A:F,3,FALSE))","v":""},{"$f":"IF(OR(C736=\"\",ISBLANK(C736)),\"\",VLOOKUP(C736,Sheet2!A:G,6,FALSE))","v":""},""]
[{"$f":"IF(OR(C737=\"\",ISBLANK(C737)),\"\",VLOOKUP(C737,Sheet2!A:F,2,FALSE))","v":""},{"$f":"IF(OR(C737=\"\",ISBLANK(C737)),\"\",VLOOKUP(C737,Sheet2!A:G,4,FALSE))","v":""},null,null,{"$f":"IF(OR(C737=\"\",ISBLANK(C737)),\"\",VLOOKUP(C737,Sheet2!A:F,3,FALSE))","v":""},{"$f":"IF(OR(C737=\"\",ISBLANK(C737)),\"\",VLOOKUP(C737,Sheet2!A:G,6,FALSE))","v":""},""]
[{"$f":"IF(OR(C738=\"\",ISBLANK(C738)),\"\",VLOOKUP(C738,Sheet2!A:F,2,FALSE))","v":""},{"$f":"IF(OR(C738=\"\",ISBLANK(C738)),\"\",VLOOKUP(C738,Sheet2!A:G,4,FALSE))","v":""},null,null,{"$f":"IF(OR(C738=\"\",ISBLANK(C738)),\"\",VLOOKUP(C738,Sheet2!A:F,3,FALSE))","v":""},{"$f":"IF(OR(C738=\"\",ISBLANK(C738)),\"\",VLOOKUP(C738,Sheet2!A:G,6,FALSE))","v":""},""]
[{"$f":"IF(OR(C739=\"\",ISBLANK(C739)),\"\",VLOOKUP(C739,Sheet2!A:F,2,FALSE))","v":""},{"$f":"IF(OR(C739=\"\",ISBLANK(C739)),\"\",VLOOKUP(C739,Sheet2!A:G,4,FALSE))","v":""},null,null,{"$f":"IF(OR(C739=\"\",ISBLANK(C739)),\"\",VLOOKUP(C739,Sheet2!A:F,3,FALSE))","v":""},{"$f":"IF(OR(C739=\"\",ISBLANK(C739)),\"\",VLOOKUP(C739,Sheet2!A:G,6,FALSE))","v":""},""]
[{"$f":"IF(OR(C740=\"\",ISBLANK(C740)),\"\",VLOOKUP(C740,Sheet2!A:F,2,FALSE))","v":""},{"$f":"IF(OR(C740=\"\",ISBLANK(C740)),\"\",VLOOKUP(C740,Sheet2!A:G,4,FALSE))","v":""},null,null,{"$f":"IF(OR(C740=\"\",ISBLANK(C740)),\"\",VLOOKUP(C740,Sheet2!A:F,3,FALSE))","v":""},{"$f":"IF(OR(C740=\"\",ISBLANK(C740)),\"\",VLOOKUP(C740,Sheet2!A:G,6,FALSE))","v":""},""]
[{"$f":"IF(OR(C741=\"\",ISBLANK(C741)),\"\",VLOOKUP(C741,Sheet2!A:F,2,FALSE))","v":""},{"$f":"IF(OR(C741=\"\",ISBLANK(C741)),\"\",VLOOKUP(C741,Sheet2!A:G,4,FALSE))","v":""},null,null,{"$f":"IF(OR(C741=\"\",ISBLANK(C741)),\"\",VLOOKUP(C741,Sheet2!A:F,3,FALSE))","v":""},{"$f":"IF(OR(C741=\"\",ISBLANK(C741)),\"\",VLOOKUP(C741,Sheet2!A:G,6,FALSE))","v":""},""]
[{"$f":"IF(OR(C742=\"\",ISBLANK(C742)),\"\",VLOOKUP(C742,Sheet2!A:F,2,FALSE))","v":""},{"$f":"IF(OR(C742=\"\",ISBLANK(C742)),\"\",VLOOKUP(C742,Sheet2!A:G,4,FALSE))","v":""},null,null,{"$f":"IF(OR(C742=\"\",ISBLANK(C742)),\"\",VLOOKUP(C742,Sheet2!A:F,3,FALSE))","v":""},{"$f":"IF(OR(C742=\"\",ISBLANK(C742)),\"\",VLOOKUP(C742,Sheet2!A:G,6,FALSE))","v":""},""]
[{"$f":"IF(OR(C743=\"\",ISBLANK(C743)),\"\",VLOOKUP(C743,Sheet2!A:F,2,FALSE))","v":""},{"$f":"IF(OR(C743=\"\",ISBLANK(C743)),\"\",VLOOKUP(C743,Sheet2!A:G,4,FALSE))","v":""},null,null,{"$f":"IF(OR(C743=\"\",ISBLANK(C743)),\"\",VLOOKUP(C743,Sheet2!A:F,3,FALSE))","v":""},{"$f":"IF(OR(C743=\"\",ISBLANK(C743)),\"\",VLOOKUP(C743,Sheet2!A:G,6,FALSE))","v":""},""]
[{"$f":"IF(OR(C744=\"\",ISBLANK(C744)),\"\",VLOOKUP(C744,Sheet2!A:F,2,FALSE))","v":""},{"$f":"IF(OR(C744=\"\",ISBLANK(C744)),\"\",VLOOKUP(C744,Sheet2!A:G,4,FALSE))","v":""},null,null,{"$f":"IF(OR(C744=\"\",ISBLANK(C744)),\"\",VLOOKUP(C744,Sheet2!A:F,3,FALSE))","v":""},{"$f":"IF(OR(C744=\"\",ISBLANK(C744)),\"\",VLOOKUP(C744,Sheet2!A:G,6,FALSE))","v":""},""]
[{"$f":"IF(OR(C745=\"\",ISBLANK(C745)),\"\",VLOOKUP(C745,Sheet2!A:F,2,FALSE))","v":""},{"$f":"IF(OR(C745=\"\",ISBLANK(C745)),\"\",VLOOKUP(C745,Sheet2!A:G,4,FALSE))","v":""},null,null,{"$f":"IF(OR(C745=\"\",ISBLANK(C745)),\"\",VLOOKUP(C745,Sheet2!A:F,3,FALSE))","v":""},{"$f":"IF(OR(C745=\"\",ISBLANK(C745)),\"\",VLOOKUP(C745,Sheet2!A:G,6,FALSE))","v":""},""]
[{"$f":"IF(OR(C746=\"\",ISBLANK(C746)),\"\",VLOOKUP(C746,Sheet2!A:F,2,FALSE))","v":""},{"$f":"IF(OR(C746=\"\",ISBLANK(C746)),\"\",VLOOKUP(C746,Sheet2!A:G,4,FALSE))","v":""},null,null,{"$f":"IF(OR(C746=\"\",ISBLANK(C746)),\"\",VLOOKUP(C746,Sheet2!A:F,3,FALSE))","v":""},{"$f":"IF(OR(C746=\"\",ISBLANK(C746)),\"\",VLOOKUP(C746,Sheet2!A:G,6,FALSE))","v":""},""]
[{"$f":"IF(OR(C747=\"\",ISBLANK(C747)),\"\",VLOOKUP(C747,Sheet2!A:F,2,FALSE))","v":""},{"$f":"IF(OR(C747=\"\",ISBLANK(C747)),\"\",VLOOKUP(C747,Sheet2!A:G,4,FALSE))","v":""},null,null,{"$f":"IF(OR(C747=\"\",ISBLANK(C747)),\"\",VLOOKUP(C747,Sheet2!A:F,3,FALSE))","v":""},{"$f":"IF(OR(C747=\"\",ISBLANK(C747)),\"\",VLOOKUP(C747,Sheet2!A:G,6,FALSE))","v":""},""]
[{"$f":"IF(OR(C748=\"\",ISBLANK(C748)),\"\",VLOOKUP(C748,Sheet2!A:F,2,FALSE))","v":""},{"$f":"IF(OR(C748=\"\",ISBLANK(C748)),\"\",VLOOKUP(C748,Sheet2!A:G,4,FALSE))","v":""},null,null,{"$f":"IF(OR(C748=\"\",ISBLANK(C748)),\"\",VLOOKUP(C748,Sheet2!A:F,3,FALSE))","v":""},{"$f":"IF(OR(C748=\"\",ISBLANK(C748)),\"\",VLOOKUP(C748,Sheet2!A:G,6,FALSE))","v":""},""]
[{"$f":"IF(OR(C749=\"\",ISBLANK(C749)),\"\",VLOOKUP(C749,Sheet2!A:F,2,FALSE))","v":""},{"$f":"IF(OR(C749=\"\",ISBLANK(C749)),\"\",VLOOKUP(C749,Sheet2!A:G,4,FALSE))","v":""},null,null,{"$f":"IF(OR(C749=\"\",ISBLANK(C749)),\"\",VLOOKUP(C749,Sheet2!A:F,3,FALSE))","v":""},{"$f":"IF(OR(C749=\"\",ISBLANK(C749)),\"\",VLOOKUP(C749,Sheet2!A:G,6,FALSE))","v":""},""]
[{"$f":"IF(OR(C750=\"\",ISBLANK(C750)),\"\",VLOOKUP(C750,Sheet2!A:F,2,FALSE))","v":""},{"$f":"IF(OR(C750=\"\",ISBLANK(C750)),\"\",VLOOKUP(C750,Sheet2!A:G,4,FALSE))","v":""},null,null,{"$f":"IF(OR(C750=\"\",ISBLANK(C750)),\"\",VLOOKUP(C750,Sheet2!A:F,3,FALSE))","v":""},{"$f":"IF(OR(C750=\"\",ISBLANK(C750)),\"\",VLOOKUP(C750,Sheet2!A:G,6,FALSE))","v":""},""]
[{"$f":"IF(OR(C751=\"\",ISBLANK(C751)),\"\",VLOOKUP(C751,Sheet2!A:F,2,FALSE))","v":""},{"$f":"IF(OR(C751=\"\",ISBLANK(C751)),\"\",VLOOKUP(C751,Sheet2!A:G,4,FALSE))","v":""},null,null,{"$f":"IF(OR(C751=\"\",ISBLANK(C751)),\"\",VLOOKUP(C751,Sheet2!A:F,3,FALSE))","v":""},{"$f":"IF(OR(C751=\"\",ISBLANK(C751)),\"\",VLOOKUP(C751,Sheet2!A:G,6,FALSE))","v":""},""]
[{"$f":"IF(OR(C752=\"\",ISBLANK(C752)),\"\",VLOOKUP(C752,Sheet2!A:F,2,FALSE))","v":""},{"$f":"IF(OR(C752=\"\",ISBLANK(C752)),\"\",VLOOKUP(C752,Sheet2!A:G,4,FALSE))","v":""},null,null,{"$f":"IF(OR(C752=\"\",ISBLANK(C752)),\"\",VLOOKUP(C752,Sheet2!A:F,3,FALSE))","v":""},{"$f":"IF(OR(C752=\"\",ISBLANK(C752)),\"\",VLOOKUP(C752,Sheet2!A:G,6,FALSE))","v":""},""]
[{"$f":"IF(OR(C753=\"\",ISBLANK(C753)),\"\",VLOOKUP(C753,Sheet2!A:F,2,FALSE))","v":""},{"$f":"IF(OR(C753=\"\",ISBLANK(C753)),\"\",VLOOKUP(C753,Sheet2!A:G,4,FALSE))","v":""},null,null,{"$f":"IF(OR(C753=\"\",ISBLANK(C753)),\"\",VLOOKUP(C753,Sheet2!A:F,3,FALSE))","v":""},{"$f":"IF(OR(C753=\"\",ISBLANK(C753)),\"\",VLOOKUP(C753,Sheet2!A:G,6,FALSE))","v":""},""]
[{"$f":"IF(OR(C754=\"\",ISBLANK(C754)),\"\",VLOOKUP(C754,Sheet2!A:F,2,FALSE))","v":""},{"$f":"IF(OR(C754=\"\",ISBLANK(C754)),\"\",VLOOKUP(C754,Sheet2!A:G,4,FALSE))","v":""},null,null,{"$f":"IF(OR(C754=\"\",ISBLANK(C754)),\"\",VLOOKUP(C754,Sheet2!A:F,3,FALSE))","v":""},{"$f":"IF(OR(C754=\"\",ISBLANK(C754)),\"\",VLOOKUP(C754,Sheet2!A:G,6,FALSE))","v":""},""]
[{"$f":"IF(OR(C755=\"\",ISBLANK(C755)),\"\",VLOOKUP(C755,Sheet2!A:F,2,FALSE))","v":""},{"$f":"IF(OR(C755=\"\",ISBLANK(C755)),\"\",VLOOKUP(C755,Sheet2!A:G,4,FALSE))","v":""},null,null,{"$f":"IF(OR(C755=\"\",ISBLANK(C755)),\"\",VLOOKUP(C755,Sheet2!A:F,3,FALSE))","v":""},{"$f":"IF(OR(C755=\"\",ISBLANK(C755)),\"\",VLOOKUP(C755,Sheet2!A:G,6,FALSE))","v":""},""]
[{"$f":"IF(OR(C756=\"\",ISBLANK(C756)),\"\",VLOOKUP(C756,Sheet2!A:F,2,FALSE))","v":""},{"$f":"IF(OR(C756=\"\",ISBLANK(C756)),\"\",VLOOKUP(C756,Sheet2!A:G,4,FALSE))","v":""},null,null,{"$f":"IF(OR(C756=\"\",ISBLANK(C756)),\"\",VLOOKUP(C756,Sheet2!A:F,3,FALSE))","v":""},{"$f":"IF(OR(C756=\"\",ISBLANK(C756)),\"\",VLOOKUP(C756,Sheet2!A:G,6,FALSE))","v":""},""]
[{"$f":"IF(OR(C757=\"\",ISBLANK(C757)),\"\",VLOOKUP(C757,Sheet2!A:F,2,FALSE))","v":""},{"$f":"IF(OR(C757=\"\",ISBLANK(C757)),\"\",VLOOKUP(C757,Sheet2!A:G,4,FALSE))","v":""},null,null,{"$f":"IF(OR(C757=\"\",ISBLANK(C757)),\"\",VLOOKUP(C757,Sheet2!A:F,3,FALSE))","v":""},{"$f":"IF(OR(C757=\"\",ISBLANK(C757)),\"\",VLOOKUP(C757,Sheet2!A:G,6,FALSE))","v":""},""]
[{"$f":"IF(OR(C758=\"\",ISBLANK(C758)),\"\",VLOOKUP(C758,Sheet2!A:F,2,FALSE))","v":""},{"$f":"IF(OR(C758=\"\",ISBLANK(C758)),\"\",VLOOKUP(C758,Sheet2!A:G,4,FALSE))","v":""},null,null,{"$f":"IF(OR(C758=\"\",ISBLANK(C758)),\"\",VLOOKUP(C758,Sheet2!A:F,3,FALSE))","v":""},{"$f":"IF(OR(C758=\"\",ISBLANK(C758)),\"\",VLOOKUP(C758,Sheet2!A:G,6,FALSE))","v":""},""]
[{"$f":"IF(OR(C759=\"\",ISBLANK(C759)),\"\",VLOOKUP(C759,Sheet2!A:F,2,FALSE))","v":""},{"$f":"IF(OR(C759=\"\",ISBLANK(C759)),\"\",VLOOKUP(C759,Sheet2!A:G,4,FALSE))","v":""},null,null,{"$f":"IF(OR(C759=\"\",ISBLANK(C759)),\"\",VLOOKUP(C759,Sheet2!A:F,3,FALSE))","v":""},{"$f":"IF(OR(C759=\"\",ISBLANK(C759)),\"\",VLOOKUP(C759,Sheet2!A:G,6,FALSE))","v":""},""]
[{"$f":"IF(OR(C760=\"\",ISBLANK(C760)),\"\",VLOOKUP(C760,Sheet2!A:F,2,FALSE))","v":""},{"$f":"IF(OR(C760=\"\",ISBLANK(C760)),\"\",VLOOKUP(C760,Sheet2!A:G,4,FALSE))","v":""},null,null,{"$f":"IF(OR(C760=\"\",ISBLANK(C760)),\"\",VLOOKUP(C760,Sheet2!A:F,3,FALSE))","v":""},{"$f":"IF(OR(C760=\"\",ISBLANK(C760)),\"\",VLOOKUP(C760,Sheet2!A:G,6,FALSE))","v":""},""]
[{"$f":"IF(OR(C761=\"\",ISBLANK(C761)),\"\",VLOOKUP(C761,Sheet2!A:F,2,FALSE))","v":""},{"$f":"IF(OR(C761=\"\",ISBLANK(C761)),\"\",VLOOKUP(C761,Sheet2!A:G,4,FALSE))","v":""},null,null,{"$f":"IF(OR(C761=\"\",ISBLANK(C761)),\"\",VLOOKUP(C761,Sheet2!A:F,3,FALSE))","v":""},{"$f":"IF(OR(C761=\"\",ISBLANK(C761)),\"\",VLOOKUP(C761,Sheet2!A:G,6,FALSE))","v":""},""]
[{"$f":"IF(OR(C762=\"\",ISBLANK(C762)),\"\",VLOOKUP(C762,Sheet2!A:F,2,FALSE))","v":""},{"$f":"IF(OR(C762=\"\",ISBLANK(C762)),\"\",VLOOKUP(C762,Sheet2!A:G,4,FALSE))","v":""},null,null,{"$f":"IF(OR(C762=\"\",ISBLANK(C762)),\"\",VLOOKUP(C762,Sheet2!A:F,3,FALSE))","v":""},{"$f":"IF(OR(C762=\"\",ISBLANK(C762)),\"\",VLOOKUP(C762,Sheet2!A:G,6,FALSE))","v":""},""]
[{"$f":"IF(OR(C763=\"\",ISBLANK(C763)),\"\",VLOOKUP(C763,Sheet2!A:F,2,FALSE))","v":""},{"$f":"IF(OR(C763=\"\",ISBLANK(C763)),\"\",VLOOKUP(C763,Sheet2!A:G,4,FALSE))","v":""},null,null,{"$f":"IF(OR(C763=\"\",ISBLANK(C763)),\"\",VLOOKUP(C763,Sheet2!A:F,3,FALSE))","v":""},{"$f":"IF(OR(C763=\"\",ISBLANK(C763)),\"\",VLOOKUP(C763,Sheet2!A:G,6,FALSE))","v":""},""]
[{"$f":"IF(OR(C764=\"\",ISBLANK(C764)),\"\",VLOOKUP(C764,Sheet2!A:F,2,FALSE))","v":""},{"$f":"IF(OR(C764=\"\",ISBLANK(C764)),\"\",VLOOKUP(C764,Sheet2!A:G,4,FALSE))","v":""},null,null,{"$f":"IF(OR(C764=\"\",ISBLANK(C764)),\"\",VLOOKUP(C764,Sheet2!A:F,3,FALSE))","v":""},{"$f":"IF(OR(C764=\"\",ISBLANK(C764)),\"\",VLOOKUP(C764,Sheet2!A:G,6,FALSE))","v":""},""]
[{"$f":"IF(OR(C765=\"\",ISBLANK(C765)),\"\",VLOOKUP(C765,Sheet2!A:F,2,FALSE))","v":""},{"$f":"IF(OR(C765=\"\",ISBLANK(C765)),\"\",VLOOKUP(C765,Sheet2!A:G,4,FALSE))","v":""},null,null,{"$f":"IF(OR(C765=\"\",ISBLANK(C765)),\"\",VLOOKUP(C765,Sheet2!A:F,3,FALSE))","v":""},{"$f":"IF(OR(C765=\"\",ISBLANK(C765)),\"\",VLOOKUP(C765,Sheet2!A:G,6,FALSE))","v":""},""]
[{"$f":"IF(OR(C766=\"\",ISBLANK(C766)),\"\",VLOOKUP(C766,Sheet2!A:F,2,FALSE))","v":""},{"$f":"IF(OR(C766=\"\",ISBLANK(C766)),\"\",VLOOKUP(C766,Sheet2!A:G,4,FALSE))","v":""},null,null,{"$f":"IF(OR(C766=\"\",ISBLANK(C766)),\"\",VLOOKUP(C766,Sheet2!A:F,3,FALSE))","v":""},{"$f":"IF(OR(C766=\"\",ISBLANK(C766)),\"\",VLOOKUP(C766,Sheet2!A:G,6,FALSE))","v":""},""]
[{"$f":"IF(OR(C767=\"\",ISBLANK(C767)),\"\",VLOOKUP(C767,Sheet2!A:F,2,FALSE))","v":""},{"$f":"IF(OR(C767=\"\",ISBLANK(C767)),\"\",VLOOKUP(C767,Sheet2!A:G,4,FALSE))","v":""},null,null,{"$f":"IF(OR(C767=\"\",ISBLANK(C767)),\"\",VLOOKUP(C767,Sheet2!A:F,3,FALSE))","v":""},{"$f":"IF(OR(C767=\"\",ISBLANK(C767)),\"\",VLOOKUP(C767,Sheet2!A:G,6,FALSE))","v":""},""]
[{"$f":"IF(OR(C768=\"\",ISBLANK(C768)),\"\",VLOOKUP(C768,Sheet2!A:F,2,FALSE))","v":""},{"$f":"IF(OR(C768=\"\",ISBLANK(C768)),\"\",VLOOKUP(C768,Sheet2!A:G,4,FALSE))","v":""},null,null,{"$f":"IF(OR(C768=\"\",ISBLANK(C768)),\"\",VLOOKUP(C768,Sheet2!A:F,3,FALSE))","v":""},{"$f":"IF(OR(C768=\"\",ISBLANK(C768)),\"\",VLOOKUP(C768,Sheet2!A:G,6,FALSE))","v":""},""]
[{"$f":"IF(OR(C769=\"\",ISBLANK(C769)),\"\",VLOOKUP(C769,Sheet2!A:F,2,FALSE))","v":""},{"$f":"IF(OR(C769=\"\",ISBLANK(C769)),\"\",VLOOKUP(C769,Sheet2!A:G,4,FALSE))","v":""},null,null,{"$f":"IF(OR(C769=\"\",ISBLANK(C769)),\"\",VLOOKUP(C769,Sheet2!A:F,3,FALSE))","v":""},{"$f":"IF(OR(C769=\"\",ISBLANK(C769)),\"\",VLOOKUP(C769,Sheet2!A:G,6,FALSE))","v":""},""]
[{"$f":"IF(OR(C770=\"\",ISBLANK(C770)),\"\",VLOOKUP(C770,Sheet2!A:F,2,FALSE))","v":""},{"$f":"IF(OR(C770=\"\",ISBLANK(C770)),\"\",VLOOKUP(C770,Sheet2!A:G,4,FALSE))","v":""},null,null,{"$f":"IF(OR(C770=\"\",ISBLANK(C770)),\"\",VLOOKUP(C770,Sheet2!A:F,3,FALSE))","v":""},{"$f":"IF(OR(C770=\"\",ISBLANK(C770)),\"\",VLOOKUP(C770,Sheet2!A:G,6,FALSE))","v":""},""]
[{"$f":"IF(OR(C771=\"\",ISBLANK(C771)),\"\",VLOOKUP(C771,Sheet2!A:F,2,FALSE))","v":""},{"$f":"IF(OR(C771=\"\",ISBLANK(C771)),\"\",VLOOKUP(C771,Sheet2!A:G,4,FALSE))","v":""},null,null,{"$f":"IF(OR(C771=\"\",ISBLANK(C771)),\"\",VLOOKUP(C771,Sheet2!A:F,3,FALSE))","v":""},{"$f":"IF(OR(C771=\"\",ISBLANK(C771)),\"\",VLOOKUP(C771,Sheet2!A:G,6,FALSE))","v":""},{"$f":"IF(F771=0,\"\",F771)","v":""}]
[{"$f":"IF(OR(C772=\"\",ISBLANK(C772)),\"\",VLOOKUP(C772,Sheet2!A:F,2,FALSE))","v":""},{"$f":"IF(OR(C772=\"\",ISBLANK(C772)),\"\",VLOOKUP(C772,Sheet2!A:G,4,FALSE))","v":""},null,null,{"$f":"IF(OR(C772=\"\",ISBLANK(C772)),\"\",VLOOKUP(C772,Sheet2!A:F,3,FALSE))","v":""},{"$f":"IF(OR(C772=\"\",ISBLANK(C772)),\"\",VLOOKUP(C772,Sheet2!A:G,6,FALSE))","v":""},""]
[{"$f":"IF(OR(C773=\"\",ISBLANK(C773)),\"\",VLOOKUP(C773,Sheet2!A:F,2,FALSE))","v":""},{"$f":"IF(OR(C773=\"\",ISBLANK(C773)),\"\",VLOOKUP(C773,Sheet2!A:G,4,FALSE))","v":""},null,null,{"$f":"IF(OR(C773=\"\",ISBLANK(C773)),\"\",VLOOKUP(C773,Sheet2!A:F,3,FALSE))","v":""},{"$f":"IF(OR(C773=\"\",ISBLANK(C773)),\"\",VLOOKUP(C773,Sheet2!A:G,6,FALSE))","v":""},""]
[{"$f":"IF(OR(C774=\"\",ISBLANK(C774)),\"\",VLOOKUP(C774,Sheet2!A:F,2,FALSE))","v":""},{"$f":"IF(OR(C774=\"\",ISBLANK(C774)),\"\",VLOOKUP(C774,Sheet2!A:G,4,FALSE))","v":""},null,null,{"$f":"IF(OR(C774=\"\",ISBLANK(C774)),\"\",VLOOKUP(C774,Sheet2!A:F,3,FALSE))","v":""},{"$f":"IF(OR(C774=\"\",ISBLANK(C774)),\"\",VLOOKUP(C774,Sheet2!A:G,6,FALSE))","v":""},""]
[{"$f":"IF(OR(C775=\"\",ISBLANK(C775)),\"\",VLOOKUP(C775,Sheet2!A:F,2,FALSE))","v":""},{"$f":"IF(OR(C775=\"\",ISBLANK(C775)),\"\",VLOOKUP(C775,Sheet2!A:G,4,FALSE))","v":""},null,null,{"$f":"IF(OR(C775=\"\",ISBLANK(C775)),\"\",VLOOKUP(C775,Sheet2!A:F,3,FALSE))","v":""},{"$f":"IF(OR(C775=\"\",ISBLANK(C775)),\"\",VLOOKUP(C775,Sheet2!A:G,6,FALSE))","v":""},""]
[{"$f":"IF(OR(C776=\"\",ISBLANK(C776)),\"\",VLOOKUP(C776,Sheet2!A:F,2,FALSE))","v":""},{"$f":"IF(OR(C776=\"\",ISBLANK(C776)),\"\",VLOOKUP(C776,Sheet2!A:G,4,FALSE))","v":""},null,null,{"$f":"IF(OR(C776=\"\",ISBLANK(C776)),\"\",VLOOKUP(C776,Sheet2!A:F,3,FALSE))","v":""},{"$f":"IF(OR(C776=\"\",ISBLANK(C776)),\"\",VLOOKUP(C776,Sheet2!A:G,6,FALSE))","v":""},""]
[{"$f":"IF(OR(C777=\"\",ISBLANK(C777)),\"\",VLOOKUP(C777,Sheet2!A:F,2,FALSE))","v":""},{"$f":"IF(OR(C777=\"\",ISBLANK(C777)),\"\",VLOOKUP(C777,Sheet2!A:G,4,FALSE))","v":""},null,null,{"$f":"IF(OR(C777=\"\",ISBLANK(C777)),\"\",VLOOKUP(C777,Sheet2!A:F,3,FALSE))","v":""},{"$f":"IF(OR(C777=\"\",ISBLANK(C777)),\"\",VLOOKUP(C777,Sheet2!A:G,6,FALSE))","v":""},""]
[{"$f":"IF(OR(C778=\"\",ISBLANK(C778)),\"\",VLOOKUP(C778,Sheet2!A:F,2,FALSE))","v":""},{"$f":"IF(OR(C778=\"\",ISBLANK(C778)),\"\",VLOOKUP(C778,Sheet2!A:G,4,FALSE))","v":""},null,null,{"$f":"IF(OR(C778=\"\",ISBLANK(C778)),\"\",VLOOKUP(C778,Sheet2!A:F,3,FALSE))","v":""},{"$f":"IF(OR(C778=\"\",ISBLANK(C778)),\"\",VLOOKUP(C778,Sheet2!A:G,6,FALSE))","v":""},""]
[{"$f":"IF(OR(C779=\"\",ISBLANK(C779)),\"\",VLOOKUP(C779,Sheet2!A:F,2,FALSE))","v":""},{"$f":"IF(OR(C779=\"\",ISBLANK(C779)),\"\",VLOOKUP(C779,Sheet2!A:G,4,FALSE))","v":""},null,null,{"$f":"IF(OR(C779=\"\",ISBLANK(C779)),\"\",VLOOKUP(C779,Sheet2!A:F,3,FALSE))","v":""},{"$f":"IF(OR(C779=\"\",ISBLANK(C779)),\"\",VLOOKUP(C779,Sheet2!A:G,6,FALSE))","v":""},""]
[{"$f":"IF(OR(C780=\"\",ISBLANK(C780)),\"\",VLOOKUP(C780,Sheet2!A:F,2,FALSE))","v":""},{"$f":"IF(OR(C780=\"\",ISBLANK(C780)),\"\",VLOOKUP(C780,Sheet2!A:G,4,FALSE))","v":""},null,null,{"$f":"IF(OR(C780=\"\",ISBLANK(C780)),\"\",VLOOKUP(C780,Sheet2!A:F,3,FALSE))","v":""},{"$f":"IF(OR(C780=\"\",ISBLANK(C780)),\"\",VLOOKUP(C780,Sheet2!A:G,6,FALSE))","v":""},""]
[{"$f":"IF(OR(C781=\"\",ISBLANK(C781)),\"\",VLOOKUP(C781,Sheet2!A:F,2,FALSE))","v":""},{"$f":"IF(OR(C781=\"\",ISBLANK(C781)),\"\",VLOOKUP(C781,Sheet2!A:G,4,FALSE))","v":""},null,null,{"$f":"IF(OR(C781=\"\",ISBLANK(C781)),\"\",VLOOKUP(C781,Sheet2!A:F,3,FALSE))","v":""},{"$f":"IF(OR(C781=\"\",ISBLANK(C781)),\"\",VLOOKUP(C781,Sheet2!A:G,6,FALSE))","v":""},""]
[{"$f":"IF(OR(C782=\"\",ISBLANK(C782)),\"\",VLOOKUP(C782,Sheet2!A:F,2,FALSE))","v":""},{"$f":"IF(OR(C782=\"\",ISBLANK(C782)),\"\",VLOOKUP(C782,Sheet2!A:G,4,FALSE))","v":""},null,null,{"$f":"IF(OR(C782=\"\",ISBLANK(C782)),\"\",VLOOKUP(C782,Sheet2!A:F,3,FALSE))","v":""},{"$f":"IF(OR(C782=\"\",ISBLANK(C782)),\"\",VLOOKUP(C782,Sheet2!A:G,6,FALSE))","v":""},""]
[{"$f":"IF(OR(C783=\"\",ISBLANK(C783)),\"\",VLOOKUP(C783,Sheet2!A:F,2,FALSE))","v":""},{"$f":"IF(OR(C783=\"\",ISBLANK(C783)),\"\",VLOOKUP(C783,Sheet2!A:G,4,FALSE))","v":""},null,null,{"$f":"IF(OR(C783=\"\",ISBLANK(C783)),\"\",VLOOKUP(C783,Sheet2!A:F,3,FALSE))","v":""},{"$f":"IF(OR(C783=\"\",ISBLANK(C783)),\"\",VLOOKUP(C783,Sheet2!A:G,6,FALSE))","v":""},""]
[{"$f":"IF(OR(C784=\"\",ISBLANK(C784)),\"\",VLOOKUP(C784,Sheet2!A:F,2,FALSE))","v":""},{"$f":"IF(OR(C784=\"\",ISBLANK(C784)),\"\",VLOOKUP(C784,Sheet2!A:G,4,FALSE))","v":""},null,null,{"$f":"IF(OR(C784=\"\",ISBLANK(C784)),\"\",VLOOKUP(C784,Sheet2!A:F,3,FALSE))","v":""},{"$f":"IF(OR(C784=\"\",ISBLANK(C784)),\"\",VLOOKUP(C784,Sheet2!A:G,6,FALSE))","v":""},""]
[{"$f":"IF(OR(C785=\"\",ISBLANK(C785)),\"\",VLOOKUP(C785,Sheet2!A:F,2,FALSE))","v":""},{"$f":"IF(OR(C785=\"\",ISBLANK(C785)),\"\",VLOOKUP(C785,Sheet2!A:G,4,FALSE))","v":""},null,null,{"$f":"IF(OR(C785=\"\",ISBLANK(C785)),\"\",VLOOKUP(C785,Sheet2!A:F,3,FALSE))","v":""},{"$f":"IF(OR(C785=\"\",ISBLANK(C785)),\"\",VLOOKUP(C785,Sheet2!A:G,6,FALSE))","v":""},""]
[{"$f":"IF(OR(C786=\"\",ISBLANK(C786)),\"\",VLOOKUP(C786,Sheet2!A:F,2,FALSE))","v":""},{"$f":"IF(OR(C786=\"\",ISBLANK(C786)),\"\",VLOOKUP(C786,Sheet2!A:G,4,FALSE))","v":""},null,null,{"$f":"IF(OR(C786=\"\",ISBLANK(C786)),\"\",VLOOKUP(C786,Sheet2!A:F,3,FALSE))","v":""},{"$f":"IF(OR(C786=\"\",ISBLANK(C786)),\"\",VLOOKUP(C786,Sheet2!A:G,6,FALSE))","v":""},""]
[{"$f":"IF(OR(C787=\"\",ISBLANK(C787)),\"\",VLOOKUP(C787,Sheet2!A:F,2,FALSE))","v":""},{"$f":"IF(OR(C787=\"\",ISBLANK(C787)),\"\",VLOOKUP(C787,Sheet2!A:G,4,FALSE))","v":""},null,null,{"$f":"IF(OR(C787=\"\",ISBLANK(C787)),\"\",VLOOKUP(C787,Sheet2!A:F,3,FALSE))","v":""},{"$f":"IF(OR(C787=\"\",ISBLANK(C787)),\"\",VLOOKUP(C787,Sheet2!A:G,6,FALSE))","v":""},""]
[{"$f":"IF(OR(C788=\"\",ISBLANK(C788)),\"\",VLOOKUP(C788,Sheet2!A:F,2,FALSE))","v":""},{"$f":"IF(OR(C788=\"\",ISBLANK(C788)),\"\",VLOOKUP(C788,Sheet2!A:G,4,FALSE))","v":""},null,null,{"$f":"IF(OR(C788=\"\",ISBLANK(C788)),\"\",VLOOKUP(C788,Sheet2!A:F,3,FALSE))","v":""},{"$f":"IF(OR(C788=\"\",ISBLANK(C788)),\"\",VLOOKUP(C788,Sheet2!A:G,6,FALSE))","v":""},""]
[{"$f":"IF(OR(C789=\"\",ISBLANK(C789)),\"\",VLOOKUP(C789,Sheet2!A:F,2,FALSE))","v":""},{"$f":"IF(OR(C789=\"\",ISBLANK(C789)),\"\",VLOOKUP(C789,Sheet2!A:G,4,FALSE))","v":""},null,null,{"$f":"IF(OR(C789=\"\",ISBLANK(C789)),\"\",VLOOKUP(C789,Sheet2!A:F,3,FALSE))","v":""},{"$f":"IF(OR(C789=\"\",ISBLANK(C789)),\"\",VLOOKUP(C789,Sheet2!A:G,6,FALSE))","v":""},""]
[{"$f":"IF(OR(C790=\"\",ISBLANK(C790)),\"\",VLOOKUP(C790,Sheet2!A:F,2,FALSE))","v":""},{"$f":"IF(OR(C790=\"\",ISBLANK(C790)),\"\",VLOOKUP(C790,Sheet2!A:G,4,FALSE))","v":""},null,null,{"$f":"IF(OR(C790=\"\",ISBLANK(C790)),\"\",VLOOKUP(C790,Sheet2!A:F,3,FALSE))","v":""},{"$f":"IF(OR(C790=\"\",ISBLANK(C790)),\"\",VLOOKUP(C790,Sheet2!A:G,6,FALSE))","v":""},""]
[{"$f":"IF(OR(C791=\"\",ISBLANK(C791)),\"\",VLOOKUP(C791,Sheet2!A:F,2,FALSE))","v":""},{"$f":"IF(OR(C791=\"\",ISBLANK(C791)),\"\",VLOOKUP(C791,Sheet2!A:G,4,FALSE))","v":""},null,null,{"$f":"IF(OR(C791=\"\",ISBLANK(C791)),\"\",VLOOKUP(C791,Sheet2!A:F,3,FALSE))","v":""},{"$f":"IF(OR(C791=\"\",ISBLANK(C791)),\"\",VLOOKUP(C791,Sheet2!A:G,6,FALSE))","v":""},""]
[{"$f":"IF(OR(C792=\"\",ISBLANK(C792)),\"\",VLOOKUP(C792,Sheet2!A:F,2,FALSE))","v":""},{"$f":"IF(OR(C792=\"\",ISBLANK(C792)),\"\",VLOOKUP(C792,Sheet2!A:G,4,FALSE))","v":""},null,null,{"$f":"IF(OR(C792=\"\",ISBLANK(C792)),\"\",VLOOKUP(C792,Sheet2!A:F,3,FALSE))","v":""},{"$f":"IF(OR(C792=\"\",ISBLANK(C792)),\"\",VLOOKUP(C792,Sheet2!A:G,6,FALSE))","v":""},""]
[{"$f":"IF(OR(C793=\"\",ISBLANK(C793)),\"\",VLOOKUP(C793,Sheet2!A:F,2,FALSE))","v":""},{"$f":"IF(OR(C793=\"\",ISBLANK(C793)),\"\",VLOOKUP(C793,Sheet2!A:G,4,FALSE))","v":""},null,null,{"$f":"IF(OR(C793=\"\",ISBLANK(C793)),\"\",VLOOKUP(C793,Sheet2!A:F,3,FALSE))","v":""},{"$f":"IF(OR(C793=\"\",ISBLANK(C793)),\"\",VLOOKUP(C793,Sheet2!A:G,6,FALSE))","v":""},""]
[{"$f":"IF(OR(C794=\"\",ISBLANK(C794)),\"\",VLOOKUP(C794,Sheet2!A:F,2,FALSE))","v":""},{"$f":"IF(OR(C794=\"\",ISBLANK(C794)),\"\",VLOOKUP(C794,Sheet2!A:G,4,FALSE))","v":""},null,null,{"$f":"IF(OR(C794=\"\",ISBLANK(C794)),\"\",VLOOKUP(C794,Sheet2!A:F,3,FALSE))","v":""},{"$f":"IF(OR(C794=\"\",ISBLANK(C794)),\"\",VLOOKUP(C794,Sheet2!A:G,6,FALSE))","v":""},""]
[{"$f":"IF(OR(C795=\"\",ISBLANK(C795)),\"\",VLOOKUP(C795,Sheet2!A:F,2,FALSE))","v":""},{"$f":"IF(OR(C795=\"\",ISBLANK(C795)),\"\",VLOOKUP(C795,Sheet2!A:G,4,FALSE))","v":""},null,null,{"$f":"IF(OR(C795=\"\",ISBLANK(C795)),\"\",VLOOKUP(C795,Sheet2!A:F,3,FALSE))","v":""},{"$f":"IF(OR(C795=\"\",ISBLANK(C795)),\"\",VLOOKUP(C795,Sheet2!A:G,6,FALSE))","v":""},""]
[{"$f":"IF(OR(C796=\"\",ISBLANK(C796)),\"\",VLOOKUP(C796,Sheet2!A:F,2,FALSE))","v":""},{"$f":"IF(OR(C796=\"\",ISBLANK(C796)),\"\",VLOOKUP(C796,Sheet2!A:G,4,FALSE))","v":""},null,null,{"$f":"IF(OR(C796=\"\",ISBLANK(C796)),\"\",VLOOKUP(C796,Sheet2!A:F,3,FALSE))","v":""},{"$f":"IF(OR(C796=\"\",ISBLANK(C796)),\"\",VLOOKUP(C796,Sheet2!A:G,6,FALSE))","v":""},""]
[{"$f":"IF(OR(C797=\"\",ISBLANK(C797)),\"\",VLOOKUP(C797,Sheet2!A:F,2,FALSE))","v":""},{"$f":"IF(OR(C797=\"\",ISBLANK(C797)),\"\",VLOOKUP(C797,Sheet2!A:G,4,FALSE))","v":""},null,null,{"$f":"IF(OR(C797=\"\",ISBLANK(C797)),\"\",VLOOKUP(C797,Sheet2!A:F,3,FALSE))","v":""},{"$f":"IF(OR(C797=\"\",ISBLANK(C797)),\"\",VLOOKUP(C797,Sheet2!A:G,6,FALSE))","v":""},""]
[{"$f":"IF(OR(C798=\"\",ISBLANK(C798)),\"\",VLOOKUP(C798,Sheet2!A:F,2,FALSE))","v":""},{"$f":"IF(OR(C798=\"\",ISBLANK(C798)),\"\",VLOOKUP(C798,Sheet2!A:G,4,FALSE))","v":""},null,null,{"$f":"IF(OR(C798=\"\",ISBLANK(C798)),\"\",VLOOKUP(C798,Sheet2!A:F,3,FALSE))","v":""},{"$f":"IF(OR(C798=\"\",ISBLANK(C798)),\"\",VLOOKUP(C798,Sheet2!A:G,6,FALSE))","v":""},""]
[{"$f":"IF(OR(C799=\"\",ISBLANK(C799)),\"\",VLOOKUP(C799,Sheet2!A:F,2,FALSE))","v":""},{"$f":"IF(OR(C799=\"\",ISBLANK(C799)),\"\",VLOOKUP(C799,Sheet2!A:G,4,FALSE))","v":""},null,null,{"$f":"IF(OR(C799=\"\",ISBLANK(C799)),\"\",VLOOKUP(C799,Sheet2!A:F,3,FALSE))","v":""},{"$f":"IF(OR(C799=\"\",ISBLANK(C799)),\"\",VLOOKUP(C799,Sheet2!A:G,6,FALSE))","v":""},""]
[{"$f":"IF(OR(C800=\"\",ISBLANK(C800)),\"\",VLOOKUP(C800,Sheet2!A:F,2,FALSE))","v":""},{"$f":"IF(OR(C800=\"\",ISBLANK(C800)),\"\",VLOOKUP(C800,Sheet2!A:G,4,FALSE))","v":""},null,null,{"$f":"IF(OR(C800=\"\",ISBLANK(C800)),\"\",VLOOKUP(C800,Sheet2!A:F,3,FALSE))","v":""},{"$f":"IF(OR(C800=\"\",ISBLANK(C800)),\"\",VLOOKUP(C800,Sheet2!A:G,6,FALSE))","v":""},""]
[{"$f":"IF(OR(C801=\"\",ISBLANK(C801)),\"\",VLOOKUP(C801,Sheet2!A:F,2,FALSE))","v":""},{"$f":"IF(OR(C801=\"\",ISBLANK(C801)),\"\",VLOOKUP(C801,Sheet2!A:G,4,FALSE))","v":""},null,null,{"$f":"IF(OR(C801=\"\",ISBLANK(C801)),\"\",VLOOKUP(C801,Sheet2!A:F,3,FALSE))","v":""},{"$f":"IF(OR(C801=\"\",ISBLANK(C801)),\"\",VLOOKUP(C801,Sheet2!A:G,6,FALSE))","v":""},""]
[{"$f":"IF(OR(C802=\"\",ISBLANK(C802)),\"\",VLOOKUP(C802,Sheet2!A:F,2,FALSE))","v":""},{"$f":"IF(OR(C802=\"\",ISBLANK(C802)),\"\",VLOOKUP(C802,Sheet2!A:G,4,FALSE))","v":""},null,null,{"$f":"IF(OR(C802=\"\",ISBLANK(C802)),\"\",VLOOKUP(C802,Sheet2!A:F,3,FALSE))","v":""},{"$f":"IF(OR(C802=\"\",ISBLANK(C802)),\"\",VLOOKUP(C802,Sheet2!A:G,6,FALSE))","v":""},""]
[{"$f":"IF(OR(C803=\"\",ISBLANK(C803)),\"\",VLOOKUP(C803,Sheet2!A:F,2,FALSE))","v":""},{"$f":"IF(OR(C803=\"\",ISBLANK(C803)),\"\",VLOOKUP(C803,Sheet2!A:G,4,FALSE))","v":""},null,null,{"$f":"IF(OR(C803=\"\",ISBLANK(C803)),\"\",VLOOKUP(C803,Sheet2!A:F,3,FALSE))","v":""},{"$f":"IF(OR(C803=\"\",ISBLANK(C803)),\"\",VLOOKUP(C803,Sheet2!A:G,6,FALSE))","v":""},""]
[{"$f":"IF(OR(C804=\"\",ISBLANK(C804)),\"\",VLOOKUP(C804,Sheet2!A:F,2,FALSE))","v":""},{"$f":"IF(OR(C804=\"\",ISBLANK(C804)),\"\",VLOOKUP(C804,Sheet2!A:G,4,FALSE))","v":""},null,null,{"$f":"IF(OR(C804=\"\",ISBLANK(C804)),\"\",VLOOKUP(C804,Sheet2!A:F,3,FALSE))","v":""},{"$f":"IF(OR(C804=\"\",ISBLANK(C804)),\"\",VLOOKUP(C804,Sheet2!A:G,6,FALSE))","v":""},""]
[{"$f":"IF(OR(C805=\"\",ISBLANK(C805)),\"\",VLOOKUP(C805,Sheet2!A:F,2,FALSE))","v":""},{"$f":"IF(OR(C805=\"\",ISBLANK(C805)),\"\",VLOOKUP(C805,Sheet2!A:G,4,FALSE))","v":""},null,null,{"$f":"IF(OR(C805=\"\",ISBLANK(C805)),\"\",VLOOKUP(C805,Sheet2!A:F,3,FALSE))","v":""},{"$f":"IF(OR(C805=\"\",ISBLANK(C805)),\"\",VLOOKUP(C805,Sheet2!A:G,6,FALSE))","v":""},""]
[{"$f":"IF(OR(C806=\"\",ISBLANK(C806)),\"\",VLOOKUP(C806,Sheet2!A:F,2,FALSE))","v":""},{"$f":"IF(OR(C806=\"\",ISBLANK(C806)),\"\",VLOOKUP(C806,Sheet2!A:G,4,FALSE))","v":""},null,null,{"$f":"IF(OR(C806=\"\",ISBLANK(C806)),\"\",VLOOKUP(C806,Sheet2!A:F,3,FALSE))","v":""},{"$f":"IF(OR(C806=\"\",ISBLANK(C806)),\"\",VLOOKUP(C806,Sheet2!A:G,6,FALSE))","v":""},""]
[{"$f":"IF(OR(C807=\"\",ISBLANK(C807)),\"\",VLOOKUP(C807,Sheet2!A:F,2,FALSE))","v":""},{"$f":"IF(OR(C807=\"\",ISBLANK(C807)),\"\",VLOOKUP(C807,Sheet2!A:G,4,FALSE))","v":""},null,null,{"$f":"IF(OR(C807=\"\",ISBLANK(C807)),\"\",VLOOKUP(C807,Sheet2!A:F,3,FALSE))","v":""},{"$f":"IF(OR(C807=\"\",ISBLANK(C807)),\"\",VLOOKUP(C807,Sheet2!A:G,6,FALSE))","v":""},""]
[{"$f":"IF(OR(C808=\"\",ISBLANK(C808)),\"\",VLOOKUP(C808,Sheet2!A:F,2,FALSE))","v":""},{"$f":"IF(OR(C808=\"\",ISBLANK(C808)),\"\",VLOOKUP(C808,Sheet2!A:G,4,FALSE))","v":""},null,null,{"$f":"IF(OR(C808=\"\",ISBLANK(C808)),\"\",VLOOKUP(C808,Sheet2!A:F,3,FALSE))","v":""},{"$f":"IF(OR(C808=\"\",ISBLANK(C808)),\"\",VLOOKUP(C808,Sheet2!A:G,6,FALSE))","v":""},""]
[{"$f":"IF(OR(C809=\"\",ISBLANK(C809)),\"\",VLOOKUP(C809,Sheet2!A:F,2,FALSE))","v":""},{"$f":"IF(OR(C809=\"\",ISBLANK(C809)),\"\",VLOOKUP(C809,Sheet2!A:G,4,FALSE))","v":""},null,null,{"$f":"IF(OR(C809=\"\",ISBLANK(C809)),\"\",VLOOKUP(C809,Sheet2!A:F,3,FALSE))","v":""},{"$f":"IF(OR(C809=\"\",ISBLANK(C809)),\"\",VLOOKUP(C809,Sheet2!A:G,6,FALSE))","v":""},""]
[{"$f":"IF(OR(C810=\"\",ISBLANK(C810)),\"\",VLOOKUP(C810,Sheet2!A:F,2,FALSE))","v":""},{"$f":"IF(OR(C810=\"\",ISBLANK(C810)),\"\",VLOOKUP(C810,Sheet2!A:G,4,FALSE))","v":""},null,null,{"$f":"IF(OR(C810=\"\",ISBLANK(C810)),\"\",VLOOKUP(C810,Sheet2!A:F,3,FALSE))","v":""},{"$f":"IF(OR(C810=\"\",ISBLANK(C810)),\"\",VLOOKUP(C810,Sheet2!A:G,6,FALSE))","v":""},""]
[{"$f":"IF(OR(C811=\"\",ISBLANK(C811)),\"\",VLOOKUP(C811,Sheet2!A:F,2,FALSE))","v":""},{"$f":"IF(OR(C811=\"\",ISBLANK(C811)),\"\",VLOOKUP(C811,Sheet2!A:G,4,FALSE))","v":""},null,null,{"$f":"IF(OR(C811=\"\",ISBLANK(C811)),\"\",VLOOKUP(C811,Sheet2!A:F,3,FALSE))","v":""},{"$f":"IF(OR(C811=\"\",ISBLANK(C811)),\"\",VLOOKUP(C811,Sheet2!A:G,6,FALSE))","v":""},""]
[{"$f":"IF(OR(C812=\"\",ISBLANK(C812)),\"\",VLOOKUP(C812,Sheet2!A:F,2,FALSE))","v":""},{"$f":"IF(OR(C812=\"\",ISBLANK(C812)),\"\",VLOOKUP(C812,Sheet2!A:G,4,FALSE))","v":""},null,null,{"$f":"IF(OR(C812=\"\",ISBLANK(C812)),\"\",VLOOKUP(C812,Sheet2!A:F,3,FALSE))","v":""},{"$f":"IF(OR(C812=\"\",ISBLANK(C812)),\"\",VLOOKUP(C812,Sheet2!A:G,6,FALSE))","v":""},""]
[{"$f":"IF(OR(C813=\"\",ISBLANK(C813)),\"\",VLOOKUP(C813,Sheet2!A:F,2,FALSE))","v":""},{"$f":"IF(OR(C813=\"\",ISBLANK(C813)),\"\",VLOOKUP(C813,Sheet2!A:G,4,FALSE))","v":""},null,null,{"$f":"IF(OR(C813=\"\",ISBLANK(C813)),\"\",VLOOKUP(C813,Sheet2!A:F,3,FALSE))","v":""},{"$f":"IF(OR(C813=\"\",ISBLANK(C813)),\"\",VLOOKUP(C813,Sheet2!A:G,6,FALSE))","v":""},""]
[{"$f":"IF(OR(C814=\"\",ISBLANK(C814)),\"\",VLOOKUP(C814,Sheet2!A:F,2,FALSE))","v":""},{"$f":"IF(OR(C814=\"\",ISBLANK(C814)),\"\",VLOOKUP(C814,Sheet2!A:G,4,FALSE))","v":""},null,null,{"$f":"IF(OR(C814=\"\",ISBLANK(C814)),\"\",VLOOKUP(C814,Sheet2!A:F,3,FALSE))","v":""},{"$f":"IF(OR(C814=\"\",ISBLANK(C814)),\"\",VLOOKUP(C814,Sheet2!A:G,6,FALSE))","v":""},""]
[{"$f":"IF(OR(C815=\"\",ISBLANK(C815)),\"\",VLOOKUP(C815,Sheet2!A:F,2,FALSE))","v":""},{"$f":"IF(OR(C815=\"\",ISBLANK(C815)),\"\",VLOOKUP(C815,Sheet2!A:G,4,FALSE))","v":""},null,null,{"$f":"IF(OR(C815=\"\",ISBLANK(C815)),\"\",VLOOKUP(C815,Sheet2!A:F,3,FALSE))","v":""},{"$f":"IF(OR(C815=\"\",ISBLANK(C815)),\"\",VLOOKUP(C815,Sheet2!A:G,6,FALSE))","v":""},""]
[{"$f":"IF(OR(C816=\"\",ISBLANK(C816)),\"\",VLOOKUP(C816,Sheet2!A:F,2,FALSE))","v":""},{"$f":"IF(OR(C816=\"\",ISBLANK(C816)),\"\",VLOOKUP(C816,Sheet2!A:G,4,FALSE))","v":""},null,null,{"$f":"IF(OR(C816=\"\",ISBLANK(C816)),\"\",VLOOKUP(C816,Sheet2!A:F,3,FALSE))","v":""},{"$f":"IF(OR(C816=\"\",ISBLANK(C816)),\"\",VLOOKUP(C816,Sheet2!A:G,6,FALSE))","v":""},""]
[{"$f":"IF(OR(C817=\"\",ISBLANK(C817)),\"\",VLOOKUP(C817,Sheet2!A:F,2,FALSE))","v":""},{"$f":"IF(OR(C817=\"\",ISBLANK(C817)),\"\",VLOOKUP(C817,Sheet2!A:G,4,FALSE))","v":""},null,null,{"$f":"IF(OR(C817=\"\",ISBLANK(C817)),\"\",VLOOKUP(C817,Sheet2!A:F,3,FALSE))","v":""},{"$f":"IF(OR(C817=\"\",ISBLANK(C817)),\"\",VLOOKUP(C817,Sheet2!A:G,6,FALSE))","v":""},""]
[{"$f":"IF(OR(C818=\"\",ISBLANK(C818)),\"\",VLOOKUP(C818,Sheet2!A:F,2,FALSE))","v":""},{"$f":"IF(OR(C818=\"\",ISBLANK(C818)),\"\",VLOOKUP(C818,Sheet2!A:G,4,FALSE))","v":""},null,null,{"$f":"IF(OR(C818=\"\",ISBLANK(C818)),\"\",VLOOKUP(C818,Sheet2!A:F,3,FALSE))","v":""},{"$f":"IF(OR(C818=\"\",ISBLANK(C818)),\"\",VLOOKUP(C818,Sheet2!A:G,6,FALSE))","v":""},""]
[{"$f":"IF(OR(C819=\"\",ISBLANK(C819)),\"\",VLOOKUP(C819,Sheet2!A:F,2,FALSE))","v":""},{"$f":"IF(OR(C819=\"\",ISBLANK(C819)),\"\",VLOOKUP(C819,Sheet2!A:G,4,FALSE))","v":""},null,null,{"$f":"IF(OR(C819=\"\",ISBLANK(C819)),\"\",VLOOKUP(C819,Sheet2!A:F,3,FALSE))","v":""},{"$f":"IF(OR(C819=\"\",ISBLANK(C819)),\"\",VLOOKUP(C819,Sheet2!A:G,6,FALSE))","v":""},""]
[{"$f":"IF(OR(C820=\"\",ISBLANK(C820)),\"\",VLOOKUP(C820,Sheet2!A:F,2,FALSE))","v":""},{"$f":"IF(OR(C820=\"\",ISBLANK(C820)),\"\",VLOOKUP(C820,Sheet2!A:G,4,FALSE))","v":""},null,null,{"$f":"IF(OR(C820=\"\",ISBLANK(C820)),\"\",VLOOKUP(C820,Sheet2!A:F,3,FALSE))","v":""},{"$f":"IF(OR(C820=\"\",ISBLANK(C820)),\"\",VLOOKUP(C820,Sheet2!A:G,6,FALSE))","v":""},""]
[{"$f":"IF(OR(C821=\"\",ISBLANK(C821)),\"\",VLOOKUP(C821,Sheet2!A:F,2,FALSE))","v":""},{"$f":"IF(OR(C821=\"\",ISBLANK(C821)),\"\",VLOOKUP(C821,Sheet2!A:G,4,FALSE))","v":""},null,null,{"$f":"IF(OR(C821=\"\",ISBLANK(C821)),\"\",VLOOKUP(C821,Sheet2!A:F,3,FALSE))","v":""},{"$f":"IF(OR(C821=\"\",ISBLANK(C821)),\"\",VLOOKUP(C821,Sheet2!A:G,6,FALSE))","v":""},""]
[{"$f":"IF(OR(C822=\"\",ISBLANK(C822)),\"\",VLOOKUP(C822,Sheet2!A:F,2,FALSE))","v":""},{"$f":"IF(OR(C822=\"\",ISBLANK(C822)),\"\",VLOOKUP(C822,Sheet2!A:G,4,FALSE))","v":""},null,null,{"$f":"IF(OR(C822=\"\",ISBLANK(C822)),\"\",VLOOKUP(C822,Sheet2!A:F,3,FALSE))","v":""},{"$f":"IF(OR(C822=\"\",ISBLANK(C822)),\"\",VLOOKUP(C822,Sheet2!A:G,6,FALSE))","v":""},""]
[{"$f":"IF(OR(C823=\"\",ISBLANK(C823)),\"\",VLOOKUP(C823,Sheet2!A:F,2,FALSE))","v":""},{"$f":"IF(OR(C823=\"\",ISBLANK(C823)),\"\",VLOOKUP(C823,Sheet2!A:G,4,FALSE))","v":""},null,null,{"$f":"IF(OR(C823=\"\",ISBLANK(C823)),\"\",VLOOKUP(C823,Sheet2!A:F,3,FALSE))","v":""},{"$f":"IF(OR(C823=\"\",ISBLANK(C823)),\"\",VLOOKUP(C823,Sheet2!A:G,6,FALSE))","v":""},""]
[{"$f":"IF(OR(C824=\"\",ISBLANK(C824)),\"\",VLOOKUP(C824,Sheet2!A:F,2,FALSE))","v":""},{"$f":"IF(OR(C824=\"\",ISBLANK(C824)),\"\",VLOOKUP(C824,Sheet2!A:G,4,FALSE))","v":""},null,null,{"$f":"IF(OR(C824=\"\",ISBLANK(C824)),\"\",VLOOKUP(C824,Sheet2!A:F,3,FALSE))","v":""},{"$f":"IF(OR(C824=\"\",ISBLANK(C824)),\"\",VLOOKUP(C824,Sheet2!A:G,6,FALSE))","v":""},""]
[{"$f":"IF(OR(C825=\"\",ISBLANK(C825)),\"\",VLOOKUP(C825,Sheet2!A:F,2,FALSE))","v":""},{"$f":"IF(OR(C825=\"\",ISBLANK(C825)),\"\",VLOOKUP(C825,Sheet2!A:G,4,FALSE))","v":""},null,null,{"$f":"IF(OR(C825=\"\",ISBLANK(C825)),\"\",VLOOKUP(C825,Sheet2!A:F,3,FALSE))","v":""},{"$f":"IF(OR(C825=\"\",ISBLANK(C825)),\"\",VLOOKUP(C825,Sheet2!A:G,6,FALSE))","v":""},""]
[{"$f":"IF(OR(C826=\"\",ISBLANK(C826)),\"\",VLOOKUP(C826,Sheet2!A:F,2,FALSE))","v":""},{"$f":"IF(OR(C826=\"\",ISBLANK(C826)),\"\",VLOOKUP(C826,Sheet2!A:G,4,FALSE))","v":""},null,null,{"$f":"IF(OR(C826=\"\",ISBLANK(C826)),\"\",VLOOKUP(C826,Sheet2!A:F,3,FALSE))","v":""},{"$f":"IF(OR(C826=\"\",ISBLANK(C826)),\"\",VLOOKUP(C826,Sheet2!A:G,6,FALSE))","v":""},""]
[{"$f":"IF(OR(C827=\"\",ISBLANK(C827)),\"\",VLOOKUP(C827,Sheet2!A:F,2,FALSE))","v":""},{"$f":"IF(OR(C827=\"\",ISBLANK(C827)),\"\",VLOOKUP(C827,Sheet2!A:G,4,FALSE))","v":""},null,null,{"$f":"IF(OR(C827=\"\",ISBLANK(C827)),\"\",VLOOKUP(C827,Sheet2!A:F,3,FALSE))","v":""},{"$f":"IF(OR(C827=\"\",ISBLANK(C827)),\"\",VLOOKUP(C827,Sheet2!A:G,6,FALSE))","v":""},""]
[{"$f":"IF(OR(C828=\"\",ISBLANK(C828)),\"\",VLOOKUP(C828,Sheet2!A:F,2,FALSE))","v":""},{"$f":"IF(OR(C828=\"\",ISBLANK(C828)),\"\",VLOOKUP(C828,Sheet2!A:G,4,FALSE))","v":""},null,null,{"$f":"IF(OR(C828=\"\",ISBLANK(C828)),\"\",VLOOKUP(C828,Sheet2!A:F,3,FALSE))","v":""},{"$f":"IF(OR(C828=\"\",ISBLANK(C828)),\"\",VLOOKUP(C828,Sheet2!A:G,6,FALSE))","v":""},""]
[{"$f":"IF(OR(C829=\"\",ISBLANK(C829)),\"\",VLOOKUP(C829,Sheet2!A:F,2,FALSE))","v":""},{"$f":"IF(OR(C829=\"\",ISBLANK(C829)),\"\",VLOOKUP(C829,Sheet2!A:G,4,FALSE))","v":""},null,null,{"$f":"IF(OR(C829=\"\",ISBLANK(C829)),\"\",VLOOKUP(C829,Sheet2!A:F,3,FALSE))","v":""},{"$f":"IF(OR(C829=\"\",ISBLANK(C829)),\"\",VLOOKUP(C829,Sheet2!A:G,6,FALSE))","v":""},""]
[{"$f":"IF(OR(C830=\"\",ISBLANK(C830)),\"\",VLOOKUP(C830,Sheet2!A:F,2,FALSE))","v":""},{"$f":"IF(OR(C830=\"\",ISBLANK(C830)),\"\",VLOOKUP(C830,Sheet2!A:G,4,FALSE))","v":""},null,null,{"$f":"IF(OR(C830=\"\",ISBLANK(C830)),\"\",VLOOKUP(C830,Sheet2!A:F,3,FALSE))","v":""},{"$f":"IF(OR(C830=\"\",ISBLANK(C830)),\"\",VLOOKUP(C830,Sheet2!A:G,6,FALSE))","v":""},""]
[{"$f":"IF(OR(C831=\"\",ISBLANK(C831)),\"\",VLOOKUP(C831,Sheet2!A:F,2,FALSE))","v":""},{"$f":"IF(OR(C831=\"\",ISBLANK(C831)),\"\",VLOOKUP(C831,Sheet2!A:G,4,FALSE))","v":""},null,null,{"$f":"IF(OR(C831=\"\",ISBLANK(C831)),\"\",VLOOKUP(C831,Sheet2!A:F,3,FALSE))","v":""},{"$f":"IF(OR(C831=\"\",ISBLANK(C831)),\"\",VLOOKUP(C831,Sheet2!A:G,6,FALSE))","v":""},""]
[{"$f":"IF(OR(C832=\"\",ISBLANK(C832)),\"\",VLOOKUP(C832,Sheet2!A:F,2,FALSE))","v":""},{"$f":"IF(OR(C832=\"\",ISBLANK(C832)),\"\",VLOOKUP(C832,Sheet2!A:G,4,FALSE))","v":""},null,null,{"$f":"IF(OR(C832=\"\",ISBLANK(C832)),\"\",VLOOKUP(C832,Sheet2!A:F,3,FALSE))","v":""},{"$f":"IF(OR(C832=\"\",ISBLANK(C832)),\"\",VLOOKUP(C832,Sheet2!A:G,6,FALSE))","v":""},""]
[{"$f":"IF(OR(C833=\"\",ISBLANK(C833)),\"\",VLOOKUP(C833,Sheet2!A:F,2,FALSE))","v":""},{"$f":"IF(OR(C833=\"\",ISBLANK(C833)),\"\",VLOOKUP(C833,Sheet2!A:G,4,FALSE))","v":""},null,null,{"$f":"IF(OR(C833=\"\",ISBLANK(C833)),\"\",VLOOKUP(C833,Sheet2!A:F,3,FALSE))","v":""},{"$f":"IF(OR(C833=\"\",ISBLANK(C833)),\"\",VLOOKUP(C833,Sheet2!A:G,6,FALSE))","v":""},""]
[{"$f":"IF(OR(C834=\"\",ISBLANK(C834)),\"\",VLOOKUP(C834,Sheet2!A:F,2,FALSE))","v":""},{"$f":"IF(OR(C834=\"\",ISBLANK(C834)),\"\",VLOOKUP(C834,Sheet2!A:G,4,FALSE))","v":""},null,null,{"$f":"IF(OR(C834=\"\",ISBLANK(C834)),\"\",VLOOKUP(C834,Sheet2!A:F,3,FALSE))","v":""},{"$f":"IF(OR(C834=\"\",ISBLANK(C834)),\"\",VLOOKUP(C834,Sheet2!A:G,6,FALSE))","v":""},""]
[{"$f":"IF(OR(C835=\"\",ISBLANK(C835)),\"\",VLOOKUP(C835,Sheet2!A:F,2,FALSE))","v":""},{"$f":"IF(OR(C835=\"\",ISBLANK(C835)),\"\",VLOOKUP(C835,Sheet2!A:G,4,FALSE))","v":""},null,null,{"$f":"IF(OR(C835=\"\",ISBLANK(C835)),\"\",VLOOKUP(C835,Sheet2!A:F,3,FALSE))","v":""},{"$f":"IF(OR(C835=\"\",ISBLANK(C835)),\"\",VLOOKUP(C835,Sheet2!A:G,6,FALSE))","v":""},{"$f":"IF(F835=0,\"\",F835)","v":""}]
[{"$f":"IF(OR(C836=\"\",ISBLANK(C836)),\"\",VLOOKUP(C836,Sheet2!A:F,2,FALSE))","v":""},{"$f":"IF(OR(C836=\"\",ISBLANK(C836)),\"\",VLOOKUP(C836,Sheet2!A:G,4,FALSE))","v":""},null,null,{"$f":"IF(OR(C836=\"\",ISBLANK(C836)),\"\",VLOOKUP(C836,Sheet2!A:F,3,FALSE))","v":""},{"$f":"IF(OR(C836=\"\",ISBLANK(C836)),\"\",VLOOKUP(C836,Sheet2!A:G,6,FALSE))","v":""},""]
[{"$f":"IF(OR(C837=\"\",ISBLANK(C837)),\"\",VLOOKUP(C837,Sheet2!A:F,2,FALSE))","v":""},{"$f":"IF(OR(C837=\"\",ISBLANK(C837)),\"\",VLOOKUP(C837,Sheet2!A:G,4,FALSE))","v":""},null,null,{"$f":"IF(OR(C837=\"\",ISBLANK(C837)),\"\",VLOOKUP(C837,Sheet2!A:F,3,FALSE))","v":""},{"$f":"IF(OR(C837=\"\",ISBLANK(C837)),\"\",VLOOKUP(C837,Sheet2!A:G,6,FALSE))","v":""},""]
[{"$f":"IF(OR(C838=\"\",ISBLANK(C838)),\"\",VLOOKUP(C838,Sheet2!A:F,2,FALSE))","v":""},{"$f":"IF(OR(C838=\"\",ISBLANK(C838)),\"\",VLOOKUP(C838,Sheet2!A:G,4,FALSE))","v":""},null,null,{"$f":"IF(OR(C838=\"\",ISBLANK(C838)),\"\",VLOOKUP(C838,Sheet2!A:F,3,FALSE))","v":""},{"$f":"IF(OR(C838=\"\",ISBLANK(C838)),\"\",VLOOKUP(C838,Sheet2!A:G,6,FALSE))","v":""},""]
[{"$f":"IF(OR(C839=\"\",ISBLANK(C839)),\"\",VLOOKUP(C839,Sheet2!A:F,2,FALSE))","v":""},{"$f":"IF(OR(C839=\"\",ISBLANK(C839)),\"\",VLOOKUP(C839,Sheet2!A:G,4,FALSE))","v":""},null,null,{"$f":"IF(OR(C839=\"\",ISBLANK(C839)),\"\",VLOOKUP(C839,Sheet2!A:F,3,FALSE))","v":""},{"$f":"IF(OR(C839=\"\",ISBLANK(C839)),\"\",VLOOKUP(C839,Sheet2!A:G,6,FALSE))","v":""},""]
[{"$f":"IF(OR(C840=\"\",ISBLANK(C840)),\"\",VLOOKUP(C840,Sheet2!A:F,2,FALSE))","v":""},{"$f":"IF(OR(C840=\"\",ISBLANK(C840)),\"\",VLOOKUP(C840,Sheet2!A:G,4,FALSE))","v":""},null,null,{"$f":"IF(OR(C840=\"\",ISBLANK(C840)),\"\",VLOOKUP(C840,Sheet2!A:F,3,FALSE))","v":""},{"$f":"IF(OR(C840=\"\",ISBLANK(C840)),\"\",VLOOKUP(C840,Sheet2!A:G,6,FALSE))","v":""},""]
[{"$f":"IF(OR(C841=\"\",ISBLANK(C841)),\"\",VLOOKUP(C841,Sheet2!A:F,2,FALSE))","v":""},{"$f":"IF(OR(C841=\"\",ISBLANK(C841)),\"\",VLOOKUP(C841,Sheet2!A:G,4,FALSE))","v":""},null,null,{"$f":"IF(OR(C841=\"\",ISBLANK(C841)),\"\",VLOOKUP(C841,Sheet2!A:F,3,FALSE))","v":""},{"$f":"IF(OR(C841=\"\",ISBLANK(C841)),\"\",VLOOKUP(C841,Sheet2!A:G,6,FALSE))","v":""},""]
[{"$f":"IF(OR(C842=\"\",ISBLANK(C842)),\"\",VLOOKUP(C842,Sheet2!A:F,2,FALSE))","v":""},{"$f":"IF(OR(C842=\"\",ISBLANK(C842)),\"\",VLOOKUP(C842,Sheet2!A:G,4,FALSE))","v":""},null,null,{"$f":"IF(OR(C842=\"\",ISBLANK(C842)),\"\",VLOOKUP(C842,Sheet2!A:F,3,FALSE))","v":""},{"$f":"IF(OR(C842=\"\",ISBLANK(C842)),\"\",VLOOKUP(C842,Sheet2!A:G,6,FALSE))","v":""},""]
[{"$f":"IF(OR(C843=\"\",ISBLANK(C843)),\"\",VLOOKUP(C843,Sheet2!A:F,2,FALSE))","v":""},{"$f":"IF(OR(C843=\"\",ISBLANK(C843)),\"\",VLOOKUP(C843,Sheet2!A:G,4,FALSE))","v":""},null,null,{"$f":"IF(OR(C843=\"\",ISBLANK(C843)),\"\",VLOOKUP(C843,Sheet2!A:F,3,FALSE))","v":""},{"$f":"IF(OR(C843=\"\",ISBLANK(C843)),\"\",VLOOKUP(C843,Sheet2!A:G,6,FALSE))","v":""},""]
[{"$f":"IF(OR(C844=\"\",ISBLANK(C844)),\"\",VLOOKUP(C844,Sheet2!A:F,2,FALSE))","v":""},{"$f":"IF(OR(C844=\"\",ISBLANK(C844)),\"\",VLOOKUP(C844,Sheet2!A:G,4,FALSE))","v":""},null,null,{"$f":"IF(OR(C844=\"\",ISBLANK(C844)),\"\",VLOOKUP(C844,Sheet2!A:F,3,FALSE))","v":""},{"$f":"IF(OR(C844=\"\",ISBLANK(C844)),\"\",VLOOKUP(C844,Sheet2!A:G,6,FALSE))","v":""},""]
[{"$f":"IF(OR(C845=\"\",ISBLANK(C845)),\"\",VLOOKUP(C845,Sheet2!A:F,2,FALSE))","v":""},{"$f":"IF(OR(C845=\"\",ISBLANK(C845)),\"\",VLOOKUP(C845,Sheet2!A:G,4,FALSE))","v":""},null,null,{"$f":"IF(OR(C845=\"\",ISBLANK(C845)),\"\",VLOOKUP(C845,Sheet2!A:F,3,FALSE))","v":""},{"$f":"IF(OR(C845=\"\",ISBLANK(C845)),\"\",VLOOKUP(C845,Sheet2!A:G,6,FALSE))","v":""},""]
[{"$f":"IF(OR(C846=\"\",ISBLANK(C846)),\"\",VLOOKUP(C846,Sheet2!A:F,2,FALSE))","v":""},{"$f":"IF(OR(C846=\"\",ISBLANK(C846)),\"\",VLOOKUP(C846,Sheet2!A:G,4,FALSE))","v":""},null,null,{"$f":"IF(OR(C846=\"\",ISBLANK(C846)),\"\",VLOOKUP(C846,Sheet2!A:F,3,FALSE))","v":""},{"$f":"IF(OR(C846=\"\",ISBLANK(C846)),\"\",VLOOKUP(C846,Sheet2!A:G,6,FALSE))","v":""},""]
[{"$f":"IF(OR(C847=\"\",ISBLANK(C847)),\"\",VLOOKUP(C847,Sheet2!A:F,2,FALSE))","v":""},{"$f":"IF(OR(C847=\"\",ISBLANK(C847)),\"\",VLOOKUP(C847,Sheet2!A:G,4,FALSE))","v":""},null,null,{"$f":"IF(OR(C847=\"\",ISBLANK(C847)),\"\",VLOOKUP(C847,Sheet2!A:F,3,FALSE))","v":""},{"$f":"IF(OR(C847=\"\",ISBLANK(C847)),\"\",VLOOKUP(C847,Sheet2!A:G,6,FALSE))","v":""},""]
[{"$f":"IF(OR(C848=\"\",ISBLANK(C848)),\"\",VLOOKUP(C848,Sheet2!A:F,2,FALSE))","v":""},{"$f":"IF(OR(C848=\"\",ISBLANK(C848)),\"\",VLOOKUP(C848,Sheet2!A:G,4,FALSE))","v":""},null,null,{"$f":"IF(OR(C848=\"\",ISBLANK(C848)),\"\",VLOOKUP(C848,Sheet2!A:F,3,FALSE))","v":""},{"$f":"IF(OR(C848=\"\",ISBLANK(C848)),\"\",VLOOKUP(C848,Sheet2!A:G,6,FALSE))","v":""},""]
[{"$f":"IF(OR(C849=\"\",ISBLANK(C849)),\"\",VLOOKUP(C849,Sheet2!A:F,2,FALSE))","v":""},{"$f":"IF(OR(C849=\"\",ISBLANK(C849)),\"\",VLOOKUP(C849,Sheet2!A:G,4,FALSE))","v":""},null,null,{"$f":"IF(OR(C849=\"\",ISBLANK(C849)),\"\",VLOOKUP(C849,Sheet2!A:F,3,FALSE))","v":""},{"$f":"IF(OR(C849=\"\",ISBLANK(C849)),\"\",VLOOKUP(C849,Sheet2!A:G,6,FALSE))","v":""},""]
[{"$f":"IF(OR(C850=\"\",ISBLANK(C850)),\"\",VLOOKUP(C850,Sheet2!A:F,2,FALSE))","v":""},{"$f":"IF(OR(C850=\"\",ISBLANK(C850)),\"\",VLOOKUP(C850,Sheet2!A:G,4,FALSE))","v":""},null,null,{"$f":"IF(OR(C850=\"\",ISBLANK(C850)),\"\",VLOOKUP(C850,Sheet2!A:F,3,FALSE))","v":""},{"$f":"IF(OR(C850=\"\",ISBLANK(C850)),\"\",VLOOKUP(C850,Sheet2!A:G,6,FALSE))","v":""},""]
[{"$f":"IF(OR(C851=\"\",ISBLANK(C851)),\"\",VLOOKUP(C851,Sheet2!A:F,2,FALSE))","v":""},{"$f":"IF(OR(C851=\"\",ISBLANK(C851)),\"\",VLOOKUP(C851,Sheet2!A:G,4,FALSE))","v":""},null,null,{"$f":"IF(OR(C851=\"\",ISBLANK(C851)),\"\",VLOOKUP(C851,Sheet2!A:F,3,FALSE))","v":""},{"$f":"IF(OR(C851=\"\",ISBLANK(C851)),\"\",VLOOKUP(C851,Sheet2!A:G,6,FALSE))","v":""},""]
[{"$f":"IF(OR(C852=\"\",ISBLANK(C852)),\"\",VLOOKUP(C852,Sheet2!A:F,2,FALSE))","v":""},{"$f":"IF(OR(C852=\"\",ISBLANK(C852)),\"\",VLOOKUP(C852,Sheet2!A:G,4,FALSE))","v":""},null,null,{"$f":"IF(OR(C852=\"\",ISBLANK(C852)),\"\",VLOOKUP(C852,Sheet2!A:F,3,FALSE))","v":""},{"$f":"IF(OR(C852=\"\",ISBLANK(C852)),\"\",VLOOKUP(C852,Sheet2!A:G,6,FALSE))","v":""},""]
[{"$f":"IF(OR(C853=\"\",ISBLANK(C853)),\"\",VLOOKUP(C853,Sheet2!A:F,2,FALSE))","v":""},{"$f":"IF(OR(C853=\"\",ISBLANK(C853)),\"\",VLOOKUP(C853,Sheet2!A:G,4,FALSE))","v":""},null,null,{"$f":"IF(OR(C853=\"\",ISBLANK(C853)),\"\",VLOOKUP(C853,Sheet2!A:F,3,FALSE))","v":""},{"$f":"IF(OR(C853=\"\",ISBLANK(C853)),\"\",VLOOKUP(C853,Sheet2!A:G,6,FALSE))","v":""},""]
[{"$f":"IF(OR(C854=\"\",ISBLANK(C854)),\"\",VLOOKUP(C854,Sheet2!A:F,2,FALSE))","v":""},{"$f":"IF(OR(C854=\"\",ISBLANK(C854)),\"\",VLOOKUP(C854,Sheet2!A:G,4,FALSE))","v":""},null,null,{"$f":"IF(OR(C854=\"\",ISBLANK(C854)),\"\",VLOOKUP(C854,Sheet2!A:F,3,FALSE))","v":""},{"$f":"IF(OR(C854=\"\",ISBLANK(C854)),\"\",VLOOKUP(C854,Sheet2!A:G,6,FALSE))","v":""},""]
[{"$f":"IF(OR(C855=\"\",ISBLANK(C855)),\"\",VLOOKUP(C855,Sheet2!A:F,2,FALSE))","v":""},{"$f":"IF(OR(C855=\"\",ISBLANK(C855)),\"\",VLOOKUP(C855,Sheet2!A:G,4,FALSE))","v":""},null,null,{"$f":"IF(OR(C855=\"\",ISBLANK(C855)),\"\",VLOOKUP(C855,Sheet2!A:F,3,FALSE))","v":""},{"$f":"IF(OR(C855=\"\",ISBLANK(C855)),\"\",VLOOKUP(C855,Sheet2!A:G,6,FALSE))","v":""},""]
[{"$f":"IF(OR(C856=\"\",ISBLANK(C856)),\"\",VLOOKUP(C856,Sheet2!A:F,2,FALSE))","v":""},{"$f":"IF(OR(C856=\"\",ISBLANK(C856)),\"\",VLOOKUP(C856,Sheet2!A:G,4,FALSE))","v":""},null,null,{"$f":"IF(OR(C856=\"\",ISBLANK(C856)),\"\",VLOOKUP(C856,Sheet2!A:F,3,FALSE))","v":""},{"$f":"IF(OR(C856=\"\",ISBLANK(C856)),\"\",VLOOKUP(C856,Sheet2!A:G,6,FALSE))","v":""},""]
[{"$f":"IF(OR(C857=\"\",ISBLANK(C857)),\"\",VLOOKUP(C857,Sheet2!A:F,2,FALSE))","v":""},{"$f":"IF(OR(C857=\"\",ISBLANK(C857)),\"\",VLOOKUP(C857,Sheet2!A:G,4,FALSE))","v":""},null,null,{"$f":"IF(OR(C857=\"\",ISBLANK(C857)),\"\",VLOOKUP(C857,Sheet2!A:F,3,FALSE))","v":""},{"$f":"IF(OR(C857=\"\",ISBLANK(C857)),\"\",VLOOKUP(C857,Sheet2!A:G,6,FALSE))","v":""},""]
[{"$f":"IF(OR(C858=\"\",ISBLANK(C858)),\"\",VLOOKUP(C858,Sheet2!A:F,2,FALSE))","v":""},{"$f":"IF(OR(C858=\"\",ISBLANK(C858)),\"\",VLOOKUP(C858,Sheet2!A:G,4,FALSE))","v":""},null,null,{"$f":"IF(OR(C858=\"\",ISBLANK(C858)),\"\",VLOOKUP(C858,Sheet2!A:F,3,FALSE))","v":""},{"$f":"IF(OR(C858=\"\",ISBLANK(C858)),\"\",VLOOKUP(C858,Sheet2!A:G,6,FALSE))","v":""},""]
[{"$f":"IF(OR(C859=\"\",ISBLANK(C859)),\"\",VLOOKUP(C859,Sheet2!A:F,2,FALSE))","v":""},{"$f":"IF(OR(C859=\"\",ISBLANK(C859)),\"\",VLOOKUP(C859,Sheet2!A:G,4,FALSE))","v":""},null,null,{"$f":"IF(OR(C859=\"\",ISBLANK(C859)),\"\",VLOOKUP(C859,Sheet2!A:F,3,FALSE))","v":""},{"$f":"IF(OR(C859=\"\",ISBLANK(C859)),\"\",VLOOKUP(C859,Sheet2!A:G,6,FALSE))","v":""},""]
[{"$f":"IF(OR(C860=\"\",ISBLANK(C860)),\"\",VLOOKUP(C860,Sheet2!A:F,2,FALSE))","v":""},{"$f":"IF(OR(C860=\"\",ISBLANK(C860)),\"\",VLOOKUP(C860,Sheet2!A:G,4,FALSE))","v":""},null,null,{"$f":"IF(OR(C860=\"\",ISBLANK(C860)),\"\",VLOOKUP(C860,Sheet2!A:F,3,FALSE))","v":""},{"$f":"IF(OR(C860=\"\",ISBLANK(C860)),\"\",VLOOKUP(C860,Sheet2!A:G,6,FALSE))","v":""},""]
[{"$f":"IF(OR(C861=\"\",ISBLANK(C861)),\"\",VLOOKUP(C861,Sheet2!A:F,2,FALSE))","v":""},{"$f":"IF(OR(C861=\"\",ISBLANK(C861)),\"\",VLOOKUP(C861,Sheet2!A:G,4,FALSE))","v":""},null,null,{"$f":"IF(OR(C861=\"\",ISBLANK(C861)),\"\",VLOOKUP(C861,Sheet2!A:F,3,FALSE))","v":""},{"$f":"IF(OR(C861=\"\",ISBLANK(C861)),\"\",VLOOKUP(C861,Sheet2!A:G,6,FALSE))","v":""},""]
[{"$f":"IF(OR(C862=\"\",ISBLANK(C862)),\"\",VLOOKUP(C862,Sheet2!A:F,2,FALSE))","v":""},{"$f":"IF(OR(C862=\"\",ISBLANK(C862)),\"\",VLOOKUP(C862,Sheet2!A:G,4,FALSE))","v":""},null,null,{"$f":"IF(OR(C862=\"\",ISBLANK(C862)),\"\",VLOOKUP(C862,Sheet2!A:F,3,FALSE))","v":""},{"$f":"IF(OR(C862=\"\",ISBLANK(C862)),\"\",VLOOKUP(C862,Sheet2!A:G,6,FALSE))","v":""},""]
[{"$f":"IF(OR(C863=\"\",ISBLANK(C863)),\"\",VLOOKUP(C863,Sheet2!A:F,2,FALSE))","v":""},{"$f":"IF(OR(C863=\"\",ISBLANK(C863)),\"\",VLOOKUP(C863,Sheet2!A:G,4,FALSE))","v":""},null,null,{"$f":"IF(OR(C863=\"\",ISBLANK(C863)),\"\",VLOOKUP(C863,Sheet2!A:F,3,FALSE))","v":""},{"$f":"IF(OR(C863=\"\",ISBLANK(C863)),\"\",VLOOKUP(C863,Sheet2!A:G,6,FALSE))","v":""},""]
[{"$f":"IF(OR(C864=\"\",ISBLANK(C864)),\"\",VLOOKUP(C864,Sheet2!A:F,2,FALSE))","v":""},{"$f":"IF(OR(C864=\"\",ISBLANK(C864)),\"\",VLOOKUP(C864,Sheet2!A:G,4,FALSE))","v":""},null,null,{"$f":"IF(OR(C864=\"\",ISBLANK(C864)),\"\",VLOOKUP(C864,Sheet2!A:F,3,FALSE))","v":""},{"$f":"IF(OR(C864=\"\",ISBLANK(C864)),\"\",VLOOKUP(C864,Sheet2!A:G,6,FALSE))","v":""},""]
[{"$f":"IF(OR(C865=\"\",ISBLANK(C865)),\"\",VLOOKUP(C865,Sheet2!A:F,2,FALSE))","v":""},{"$f":"IF(OR(C865=\"\",ISBLANK(C865)),\"\",VLOOKUP(C865,Sheet2!A:G,4,FALSE))","v":""},null,null,{"$f":"IF(OR(C865=\"\",ISBLANK(C865)),\"\",VLOOKUP(C865,Sheet2!A:F,3,FALSE))","v":""},{"$f":"IF(OR(C865=\"\",ISBLANK(C865)),\"\",VLOOKUP(C865,Sheet2!A:G,6,FALSE))","v":""},""]
[{"$f":"IF(OR(C866=\"\",ISBLANK(C866)),\"\",VLOOKUP(C866,Sheet2!A:F,2,FALSE))","v":""},{"$f":"IF(OR(C866=\"\",ISBLANK(C866)),\"\",VLOOKUP(C866,Sheet2!A:G,4,FALSE))","v":""},null,null,{"$f":"IF(OR(C866=\"\",ISBLANK(C866)),\"\",VLOOKUP(C866,Sheet2!A:F,3,FALSE))","v":""},{"$f":"IF(OR(C866=\"\",ISBLANK(C866)),\"\",VLOOKUP(C866,Sheet2!A:G,6,FALSE))","v":""},""]
[{"$f":"IF(OR(C867=\"\",ISBLANK(C867)),\"\",VLOOKUP(C867,Sheet2!A:F,2,FALSE))","v":""},{"$f":"IF(OR(C867=\"\",ISBLANK(C867)),\"\",VLOOKUP(C867,Sheet2!A:G,4,FALSE))","v":""},null,null,{"$f":"IF(OR(C867=\"\",ISBLANK(C867)),\"\",VLOOKUP(C867,Sheet2!A:F,3,FALSE))","v":""},{"$f":"IF(OR(C867=\"\",ISBLANK(C867)),\"\",VLOOKUP(C867,Sheet2!A:G,6,FALSE))","v":""},""]
[{"$f":"IF(OR(C868=\"\",ISBLANK(C868)),\"\",VLOOKUP(C868,Sheet2!A:F,2,FALSE))","v":""},{"$f":"IF(OR(C868=\"\",ISBLANK(C868)),\"\",VLOOKUP(C868,Sheet2!A:G,4,FALSE))","v":""},null,null,{"$f":"IF(OR(C868=\"\",ISBLANK(C868)),\"\",VLOOKUP(C868,Sheet2!A:F,3,FALSE))","v":""},{"$f":"IF(OR(C868=\"\",ISBLANK(C868)),\"\",VLOOKUP(C868,Sheet2!A:G,6,FALSE))","v":""},""]
[{"$f":"IF(OR(C869=\"\",ISBLANK(C869)),\"\",VLOOKUP(C869,Sheet2!A:F,2,FALSE))","v":""},{"$f":"IF(OR(C869=\"\",ISBLANK(C869)),\"\",VLOOKUP(C869,Sheet2!A:G,4,FALSE))","v":""},null,null,{"$f":"IF(OR(C869=\"\",ISBLANK(C869)),\"\",VLOOKUP(C869,Sheet2!A:F,3,FALSE))","v":""},{"$f":"IF(OR(C869=\"\",ISBLANK(C869)),\"\",VLOOKUP(C869,Sheet2!A:G,6,FALSE))","v":""},""]
[{"$f":"IF(OR(C870=\"\",ISBLANK(C870)),\"\",VLOOKUP(C870,Sheet2!A:F,2,FALSE))","v":""},{"$f":"IF(OR(C870=\"\",ISBLANK(C870)),\"\",VLOOKUP(C870,Sheet2!A:G,4,FALSE))","v":""},null,null,{"$f":"IF(OR(C870=\"\",ISBLANK(C870)),\"\",VLOOKUP(C870,Sheet2!A:F,3,FALSE))","v":""},{"$f":"IF(OR(C870=\"\",ISBLANK(C870)),\"\",VLOOKUP(C870,Sheet2!A:G,6,FALSE))","v":""},""]
[{"$f":"IF(OR(C871=\"\",ISBLANK(C871)),\"\",VLOOKUP(C871,Sheet2!A:F,2,FALSE))","v":""},{"$f":"IF(OR(C871=\"\",ISBLANK(C871)),\"\",VLOOKUP(C871,Sheet2!A:G,4,FALSE))","v":""},null,null,{"$f":"IF(OR(C871=\"\",ISBLANK(C871)),\"\",VLOOKUP(C871,Sheet2!A:F,3,FALSE))","v":""},{"$f":"IF(OR(C871=\"\",ISBLANK(C871)),\"\",VLOOKUP(C871,Sheet2!A:G,6,FALSE))","v":""},""]
[{"$f":"IF(OR(C872=\"\",ISBLANK(C872)),\"\",VLOOKUP(C872,Sheet2!A:F,2,FALSE))","v":""},{"$f":"IF(OR(C872=\"\",ISBLANK(C872)),\"\",VLOOKUP(C872,Sheet2!A:G,4,FALSE))","v":""},null,null,{"$f":"IF(OR(C872=\"\",ISBLANK(C872)),\"\",VLOOKUP(C872,Sheet2!A:F,3,FALSE))","v":""},{"$f":"IF(OR(C872=\"\",ISBLANK(C872)),\"\",VLOOKUP(C872,Sheet2!A:G,6,FALSE))","v":""},""]
[{"$f":"IF(OR(C873=\"\",ISBLANK(C873)),\"\",VLOOKUP(C873,Sheet2!A:F,2,FALSE))","v":""},{"$f":"IF(OR(C873=\"\",ISBLANK(C873)),\"\",VLOOKUP(C873,Sheet2!A:G,4,FALSE))","v":""},null,null,{"$f":"IF(OR(C873=\"\",ISBLANK(C873)),\"\",VLOOKUP(C873,Sheet2!A:F,3,FALSE))","v":""},{"$f":"IF(OR(C873=\"\",ISBLANK(C873)),\"\",VLOOKUP(C873,Sheet2!A:G,6,FALSE))","v":""},""]
[{"$f":"IF(OR(C874=\"\",ISBLANK(C874)),\"\",VLOOKUP(C874,Sheet2!A:F,2,FALSE))","v":""},{"$f":"IF(OR(C874=\"\",ISBLANK(C874)),\"\",VLOOKUP(C874,Sheet2!A:G,4,FALSE))","v":""},null,null,{"$f":"IF(OR(C874=\"\",ISBLANK(C874)),\"\",VLOOKUP(C874,Sheet2!A:F,3,FALSE))","v":""},{"$f":"IF(OR(C874=\"\",ISBLANK(C874)),\"\",VLOOKUP(C874,Sheet2!A:G,6,FALSE))","v":""},""]
[{"$f":"IF(OR(C875=\"\",ISBLANK(C875)),\"\",VLOOKUP(C875,Sheet2!A:F,2,FALSE))","v":""},{"$f":"IF(OR(C875=\"\",ISBLANK(C875)),\"\",VLOOKUP(C875,Sheet2!A:G,4,FALSE))","v":""},null,null,{"$f":"IF(OR(C875=\"\",ISBLANK(C875)),\"\",VLOOKUP(C875,Sheet2!A:F,3,FALSE))","v":""},{"$f":"IF(OR(C875=\"\",ISBLANK(C875)),\"\",VLOOKUP(C875,Sheet2!A:G,6,FALSE))","v":""},""]
[{"$f":"IF(OR(C876=\"\",ISBLANK(C876)),\"\",VLOOKUP(C876,Sheet2!A:F,2,FALSE))","v":""},{"$f":"IF(OR(C876=\"\",ISBLANK(C876)),\"\",VLOOKUP(C876,Sheet2!A:G,4,FALSE))","v":""},null,null,{"$f":"IF(OR(C876=\"\",ISBLANK(C876)),\"\",VLOOKUP(C876,Sheet2!A:F,3,FALSE))","v":""},{"$f":"IF(OR(C876=\"\",ISBLANK(C876)),\"\",VLOOKUP(C876,Sheet2!A:G,6,FALSE))","v":""},""]
[{"$f":"IF(OR(C877=\"\",ISBLANK(C877)),\"\",VLOOKUP(C877,Sheet2!A:F,2,FALSE))","v":""},{"$f":"IF(OR(C877=\"\",ISBLANK(C877)),\"\",VLOOKUP(C877,Sheet2!A:G,4,FALSE))","v":""},null,null,{"$f":"IF(OR(C877=\"\",ISBLANK(C877)),\"\",VLOOKUP(C877,Sheet2!A:F,3,FALSE))","v":""},{"$f":"IF(OR(C877=\"\",ISBLANK(C877)),\"\",VLOOKUP(C877,Sheet2!A:G,6,FALSE))","v":""},""]
[{"$f":"IF(OR(C878=\"\",ISBLANK(C878)),\"\",VLOOKUP(C878,Sheet2!A:F,2,FALSE))","v":""},{"$f":"IF(OR(C878=\"\",ISBLANK(C878)),\"\",VLOOKUP(C878,Sheet2!A:G,4,FALSE))","v":""},null,null,{"$f":"IF(OR(C878=\"\",ISBLANK(C878)),\"\",VLOOKUP(C878,Sheet2!A:F,3,FALSE))","v":""},{"$f":"IF(OR(C878=\"\",ISBLANK(C878)),\"\",VLOOKUP(C878,Sheet2!A:G,6,FALSE))","v":""},""]
[{"$f":"IF(OR(C879=\"\",ISBLANK(C879)),\"\",VLOOKUP(C879,Sheet2!A:F,2,FALSE))","v":""},{"$f":"IF(OR(C879=\"\",ISBLANK(C879)),\"\",VLOOKUP(C879,Sheet2!A:G,4,FALSE))","v":""},null,null,{"$f":"IF(OR(C879=\"\",ISBLANK(C879)),\"\",VLOOKUP(C879,Sheet2!A:F,3,FALSE))","v":""},{"$f":"IF(OR(C879=\"\",ISBLANK(C879)),\"\",VLOOKUP(C879,Sheet2!A:G,6,FALSE))","v":""},""]
[{"$f":"IF(OR(C880=\"\",ISBLANK(C880)),\"\",VLOOKUP(C880,Sheet2!A:F,2,FALSE))","v":""},{"$f":"IF(OR(C880=\"\",ISBLANK(C880)),\"\",VLOOKUP(C880,Sheet2!A:G,4,FALSE))","v":""},null,null,{"$f":"IF(OR(C880=\"\",ISBLANK(C880)),\"\",VLOOKUP(C880,Sheet2!A:F,3,FALSE))","v":""},{"$f":"IF(OR(C880=\"\",ISBLANK(C880)),\"\",VLOOKUP(C880,Sheet2!A:G,6,FALSE))","v":""},""]
[{"$f":"IF(OR(C881=\"\",ISBLANK(C881)),\"\",VLOOKUP(C881,Sheet2!A:F,2,FALSE))","v":""},{"$f":"IF(OR(C881=\"\",ISBLANK(C881)),\"\",VLOOKUP(C881,Sheet2!A:G,4,FALSE))","v":""},null,null,{"$f":"IF(OR(C881=\"\",ISBLANK(C881)),\"\",VLOOKUP(C881,Sheet2!A:F,3,FALSE))","v":""},{"$f":"IF(OR(C881=\"\",ISBLANK(C881)),\"\",VLOOKUP(C881,Sheet2!A:G,6,FALSE))","v":""},""]
[{"$f":"IF(OR(C882=\"\",ISBLANK(C882)),\"\",VLOOKUP(C882,Sheet2!A:F,2,FALSE))","v":""},{"$f":"IF(OR(C882=\"\",ISBLANK(C882)),\"\",VLOOKUP(C882,Sheet2!A:G,4,FALSE))","v":""},null,null,{"$f":"IF(OR(C882=\"\",ISBLANK(C882)),\"\",VLOOKUP(C882,Sheet2!A:F,3,FALSE))","v":""},{"$f":"IF(OR(C882=\"\",ISBLANK(C882)),\"\",VLOOKUP(C882,Sheet2!A:G,6,FALSE))","v":""},""]
[{"$f":"IF(OR(C883=\"\",ISBLANK(C883)),\"\",VLOOKUP(C883,Sheet2!A:F,2,FALSE))","v":""},{"$f":"IF(OR(C883=\"\",ISBLANK(C883)),\"\",VLOOKUP(C883,Sheet2!A:G,4,FALSE))","v":""},null,null,{"$f":"IF(OR(C883=\"\",ISBLANK(C883)),\"\",VLOOKUP(C883,Sheet2!A:F,3,FALSE))","v":""},{"$f":"IF(OR(C883=\"\",ISBLANK(C883)),\"\",VLOOKUP(C883,Sheet2!A:G,6,FALSE))","v":""},""]
[{"$f":"IF(OR(C884=\"\",ISBLANK(C884)),\"\",VLOOKUP(C884,Sheet2!A:F,2,FALSE))","v":""},{"$f":"IF(OR(C884=\"\",ISBLANK(C884)),\"\",VLOOKUP(C884,Sheet2!A:G,4,FALSE))","v":""},null,null,{"$f":"IF(OR(C884=\"\",ISBLANK(C884)),\"\",VLOOKUP(C884,Sheet2!A:F,3,FALSE))","v":""},{"$f":"IF(OR(C884=\"\",ISBLANK(C884)),\"\",VLOOKUP(C884,Sheet2!A:G,6,FALSE))","v":""},""]
[{"$f":"IF(OR(C885=\"\",ISBLANK(C885)),\"\",VLOOKUP(C885,Sheet2!A:F,2,FALSE))","v":""},{"$f":"IF(OR(C885=\"\",ISBLANK(C885)),\"\",VLOOKUP(C885,Sheet2!A:G,4,FALSE))","v":""},null,null,{"$f":"IF(OR(C885=\"\",ISBLANK(C885)),\"\",VLOOKUP(C885,Sheet2!A:F,3,FALSE))","v":""},{"$f":"IF(OR(C885=\"\",ISBLANK(C885)),\"\",VLOOKUP(C885,Sheet2!A:G,6,FALSE))","v":""},""]
[{"$f":"IF(OR(C886=\"\",ISBLANK(C886)),\"\",VLOOKUP(C886,Sheet2!A:F,2,FALSE))","v":""},{"$f":"IF(OR(C886=\"\",ISBLANK(C886)),\"\",VLOOKUP(C886,Sheet2!A:G,4,FALSE))","v":""},null,null,{"$f":"IF(OR(C886=\"\",ISBLANK(C886)),\"\",VLOOKUP(C886,Sheet2!A:F,3,FALSE))","v":""},{"$f":"IF(OR(C886=\"\",ISBLANK(C886)),\"\",VLOOKUP(C886,Sheet2!A:G,6,FALSE))","v":""},""]
[{"$f":"IF(OR(C887=\"\",ISBLANK(C887)),\"\",VLOOKUP(C887,Sheet2!A:F,2,FALSE))","v":""},{"$f":"IF(OR(C887=\"\",ISBLANK(C887)),\"\",VLOOKUP(C887,Sheet2!A:G,4,FALSE))","v":""},null,null,{"$f":"IF(OR(C887=\"\",ISBLANK(C887)),\"\",VLOOKUP(C887,Sheet2!A:F,3,FALSE))","v":""},{"$f":"IF(OR(C887=\"\",ISBLANK(C887)),\"\",VLOOKUP(C887,Sheet2!A:G,6,FALSE))","v":""},""]
[{"$f":"IF(OR(C888=\"\",ISBLANK(C888)),\"\",VLOOKUP(C888,Sheet2!A:F,2,FALSE))","v":""},{"$f":"IF(OR(C888=\"\",ISBLANK(C888)),\"\",VLOOKUP(C888,Sheet2!A:G,4,FALSE))","v":""},null,null,{"$f":"IF(OR(C888=\"\",ISBLANK(C888)),\"\",VLOOKUP(C888,Sheet2!A:F,3,FALSE))","v":""},{"$f":"IF(OR(C888=\"\",ISBLANK(C888)),\"\",VLOOKUP(C888,Sheet2!A:G,6,FALSE))","v":""},""]
[{"$f":"IF(OR(C889=\"\",ISBLANK(C889)),\"\",VLOOKUP(C889,Sheet2!A:F,2,FALSE))","v":""},{"$f":"IF(OR(C889=\"\",ISBLANK(C889)),\"\",VLOOKUP(C889,Sheet2!A:G,4,FALSE))","v":""},null,null,{"$f":"IF(OR(C889=\"\",ISBLANK(C889)),\"\",VLOOKUP(C889,Sheet2!A:F,3,FALSE))","v":""},{"$f":"IF(OR(C889=\"\",ISBLANK(C889)),\"\",VLOOKUP(C889,Sheet2!A:G,6,FALSE))","v":""},""]
[{"$f":"IF(OR(C890=\"\",ISBLANK(C890)),\"\",VLOOKUP(C890,Sheet2!A:F,2,FALSE))","v":""},{"$f":"IF(OR(C890=\"\",ISBLANK(C890)),\"\",VLOOKUP(C890,Sheet2!A:G,4,FALSE))","v":""},null,null,{"$f":"IF(OR(C890=\"\",ISBLANK(C890)),\"\",VLOOKUP(C890,Sheet2!A:F,3,FALSE))","v":""},{"$f":"IF(OR(C890=\"\",ISBLANK(C890)),\"\",VLOOKUP(C890,Sheet2!A:G,6,FALSE))","v":""},""]
[{"$f":"IF(OR(C891=\"\",ISBLANK(C891)),\"\",VLOOKUP(C891,Sheet2!A:F,2,FALSE))","v":""},{"$f":"IF(OR(C891=\"\",ISBLANK(C891)),\"\",VLOOKUP(C891,Sheet2!A:G,4,FALSE))","v":""},null,null,{"$f":"IF(OR(C891=\"\",ISBLANK(C891)),\"\",VLOOKUP(C891,Sheet2!A:F,3,FALSE))","v":""},{"$f":"IF(OR(C891=\"\",ISBLANK(C891)),\"\",VLOOKUP(C891,Sheet2!A:G,6,FALSE))","v":""},""]
[{"$f":"IF(OR(C892=\"\",ISBLANK(C892)),\"\",VLOOKUP(C892,Sheet2!A:F,2,FALSE))","v":""},{"$f":"IF(OR(C892=\"\",ISBLANK(C892)),\"\",VLOOKUP(C892,Sheet2!A:G,4,FALSE))","v":""},null,null,{"$f":"IF(OR(C892=\"\",ISBLANK(C892)),\"\",VLOOKUP(C892,Sheet2!A:F,3,FALSE))","v":""},{"$f":"IF(OR(C892=\"\",ISBLANK(C892)),\"\",VLOOKUP(C892,Sheet2!A:G,6,FALSE))","v":""},""]
[{"$f":"IF(OR(C893=\"\",ISBLANK(C893)),\"\",VLOOKUP(C893,Sheet2!A:F,2,FALSE))","v":""},{"$f":"IF(OR(C893=\"\",ISBLANK(C893)),\"\",VLOOKUP(C893,Sheet2!A:G,4,FALSE))","v":""},null,null,{"$f":"IF(OR(C893=\"\",ISBLANK(C893)),\"\",VLOOKUP(C893,Sheet2!A:F,3,FALSE))","v":""},{"$f":"IF(OR(C893=\"\",ISBLANK(C893)),\"\",VLOOKUP(C893,Sheet2!A:G,6,FALSE))","v":""},""]
[{"$f":"IF(OR(C894=\"\",ISBLANK(C894)),\"\",VLOOKUP(C894,Sheet2!A:F,2,FALSE))","v":""},{"$f":"IF(OR(C894=\"\",ISBLANK(C894)),\"\",VLOOKUP(C894,Sheet2!A:G,4,FALSE))","v":""},null,null,{"$f":"IF(OR(C894=\"\",ISBLANK(C894)),\"\",VLOOKUP(C894,Sheet2!A:F,3,FALSE))","v":""},{"$f":"IF(OR(C894=\"\",ISBLANK(C894)),\"\",VLOOKUP(C894,Sheet2!A:G,6,FALSE))","v":""},""]
[{"$f":"IF(OR(C895=\"\",ISBLANK(C895)),\"\",VLOOKUP(C895,Sheet2!A:F,2,FALSE))","v":""},{"$f":"IF(OR(C895=\"\",ISBLANK(C895)),\"\",VLOOKUP(C895,Sheet2!A:G,4,FALSE))","v":""},null,null,{"$f":"IF(OR(C895=\"\",ISBLANK(C895)),\"\",VLOOKUP(C895,Sheet2!A:F,3,FALSE))","v":""},{"$f":"IF(OR(C895=\"\",ISBLANK(C895)),\"\",VLOOKUP(C895,Sheet2!A:G,6,FALSE))","v":""},""]
[{"$f":"IF(OR(C896=\"\",ISBLANK(C896)),\"\",VLOOKUP(C896,Sheet2!A:F,2,FALSE))","v":""},{"$f":"IF(OR(C896=\"\",ISBLANK(C896)),\"\",VLOOKUP(C896,Sheet2!A:G,4,FALSE))","v":""},null,null,{"$f":"IF(OR(C896=\"\",ISBLANK(C896)),\"\",VLOOKUP(C896,Sheet2!A:F,3,FALSE))","v":""},{"$f":"IF(OR(C896=\"\",ISBLANK(C896)),\"\",VLOOKUP(C896,Sheet2!A:G,6,FALSE))","v":""},""]
[{"$f":"IF(OR(C897=\"\",ISBLANK(C897)),\"\",VLOOKUP(C897,Sheet2!A:F,2,FALSE))","v":""},{"$f":"IF(OR(C897=\"\",ISBLANK(C897)),\"\",VLOOKUP(C897,Sheet2!A:G,4,FALSE))","v":""},null,null,{"$f":"IF(OR(C897=\"\",ISBLANK(C897)),\"\",VLOOKUP(C897,Sheet2!A:F,3,FALSE))","v":""},{"$f":"IF(OR(C897=\"\",ISBLANK(C897)),\"\",VLOOKUP(C897,Sheet2!A:G,6,FALSE))","v":""},""]
[{"$f":"IF(OR(C898=\"\",ISBLANK(C898)),\"\",VLOOKUP(C898,Sheet2!A:F,2,FALSE))","v":""},{"$f":"IF(OR(C898=\"\",ISBLANK(C898)),\"\",VLOOKUP(C898,Sheet2!A:G,4,FALSE))","v":""},null,null,{"$f":"IF(OR(C898=\"\",ISBLANK(C898)),\"\",VLOOKUP(C898,Sheet2!A:F,3,FALSE))","v":""},{"$f":"IF(OR(C898=\"\",ISBLANK(C898)),\"\",VLOOKUP(C898,Sheet2!A:G,6,FALSE))","v":""},""]
[{"$f":"IF(OR(C899=\"\",ISBLANK(C899)),\"\",VLOOKUP(C899,Sheet2!A:F,2,FALSE))","v":""},{"$f":"IF(OR(C899=\"\",ISBLANK(C899)),\"\",VLOOKUP(C899,Sheet2!A:G,4,FALSE))","v":""},null,null,{"$f":"IF(OR(C899=\"\",ISBLANK(C899)),\"\",VLOOKUP(C899,Sheet2!A:F,3,FALSE))","v":""},{"$f":"IF(OR(C899=\"\",ISBLANK(C899)),\"\",VLOOKUP(C899,Sheet2!A:G,6,FALSE))","v":""},{"$f":"IF(F899=0,\"\",F899)","v":""}]
[{"$f":"IF(OR(C900=\"\",ISBLANK(C900)),\"\",VLOOKUP(C900,Sheet2!A:F,2,FALSE))","v":""},{"$f":"IF(OR(C900=\"\",ISBLANK(C900)),\"\",VLOOKUP(C900,Sheet2!A:G,4,FALSE))","v":""},null,null,{"$f":"IF(OR(C900=\"\",ISBLANK(C900)),\"\",VLOOKUP(C900,Sheet2!A:F,3,FALSE))","v":""},{"$f":"IF(OR(C900=\"\",ISBLANK(C900)),\"\",VLOOKUP(C900,Sheet2!A:G,6,FALSE))","v":""},""]
[{"$f":"IF(OR(C901=\"\",ISBLANK(C901)),\"\",VLOOKUP(C901,Sheet2!A:F,2,FALSE))","v":""},{"$f":"IF(OR(C901=\"\",ISBLANK(C901)),\"\",VLOOKUP(C901,Sheet2!A:G,4,FALSE))","v":""},null,null,{"$f":"IF(OR(C901=\"\",ISBLANK(C901)),\"\",VLOOKUP(C901,Sheet2!A:F,3,FALSE))","v":""},{"$f":"IF(OR(C901=\"\",ISBLANK(C901)),\"\",VLOOKUP(C901,Sheet2!A:G,6,FALSE))","v":""},""]
[{"$f":"IF(OR(C902=\"\",ISBLANK(C902)),\"\",VLOOKUP(C902,Sheet2!A:F,2,FALSE))","v":""},{"$f":"IF(OR(C902=\"\",ISBLANK(C902)),\"\",VLOOKUP(C902,Sheet2!A:G,4,FALSE))","v":""},null,null,{"$f":"IF(OR(C902=\"\",ISBLANK(C902)),\"\",VLOOKUP(C902,Sheet2!A:F,3,FALSE))","v":""},{"$f":"IF(OR(C902=\"\",ISBLANK(C902)),\"\",VLOOKUP(C902,Sheet2!A:G,6,FALSE))","v":""},""]
[{"$f":"IF(OR(C903=\"\",ISBLANK(C903)),\"\",VLOOKUP(C903,Sheet2!A:F,2,FALSE))","v":""},{"$f":"IF(OR(C903=\"\",ISBLANK(C903)),\"\",VLOOKUP(C903,Sheet2!A:G,4,FALSE))","v":""},null,null,{"$f":"IF(OR(C903=\"\",ISBLANK(C903)),\"\",VLOOKUP(C903,Sheet2!A:F,3,FALSE))","v":""},{"$f":"IF(OR(C903=\"\",ISBLANK(C903)),\"\",VLOOKUP(C903,Sheet2!A:G,6,FALSE))","v":""},""]
[{"$f":"IF(OR(C904=\"\",ISBLANK(C904)),\"\",VLOOKUP(C904,Sheet2!A:F,2,FALSE))","v":""},{"$f":"IF(OR(C904=\"\",ISBLANK(C904)),\"\",VLOOKUP(C904,Sheet2!A:G,4,FALSE))","v":""},null,null,{"$f":"IF(OR(C904=\"\",ISBLANK(C904)),\"\",VLOOKUP(C904,Sheet2!A:F,3,FALSE))","v":""},{"$f":"IF(OR(C904=\"\",ISBLANK(C904)),\"\",VLOOKUP(C904,Sheet2!A:G,6,FALSE))","v":""},""]
[{"$f":"IF(OR(C905=\"\",ISBLANK(C905)),\"\",VLOOKUP(C905,Sheet2!A:F,2,FALSE))","v":""},{"$f":"IF(OR(C905=\"\",ISBLANK(C905)),\"\",VLOOKUP(C905,Sheet2!A:G,4,FALSE))","v":""},null,null,{"$f":"IF(OR(C905=\"\",ISBLANK(C905)),\"\",VLOOKUP(C905,Sheet2!A:F,3,FALSE))","v":""},{"$f":"IF(OR(C905=\"\",ISBLANK(C905)),\"\",VLOOKUP(C905,Sheet2!A:G,6,FALSE))","v":""},""]
[{"$f":"IF(OR(C906=\"\",ISBLANK(C906)),\"\",VLOOKUP(C906,Sheet2!A:F,2,FALSE))","v":""},{"$f":"IF(OR(C906=\"\",ISBLANK(C906)),\"\",VLOOKUP(C906,Sheet2!A:G,4,FALSE))","v":""},null,null,{"$f":"IF(OR(C906=\"\",ISBLANK(C906)),\"\",VLOOKUP(C906,Sheet2!A:F,3,FALSE))","v":""},{"$f":"IF(OR(C906=\"\",ISBLANK(C906)),\"\",VLOOKUP(C906,Sheet2!A:G,6,FALSE))","v":""},""]
[{"$f":"IF(OR(C907=\"\",ISBLANK(C907)),\"\",VLOOKUP(C907,Sheet2!A:F,2,FALSE))","v":""},{"$f":"IF(OR(C907=\"\",ISBLANK(C907)),\"\",VLOOKUP(C907,Sheet2!A:G,4,FALSE))","v":""},null,null,{"$f":"IF(OR(C907=\"\",ISBLANK(C907)),\"\",VLOOKUP(C907,Sheet2!A:F,3,FALSE))","v":""},{"$f":"IF(OR(C907=\"\",ISBLANK(C907)),\"\",VLOOKUP(C907,Sheet2!A:G,6,FALSE))","v":""},""]
[{"$f":"IF(OR(C908=\"\",ISBLANK(C908)),\"\",VLOOKUP(C908,Sheet2!A:F,2,FALSE))","v":""},{"$f":"IF(OR(C908=\"\",ISBLANK(C908)),\"\",VLOOKUP(C908,Sheet2!A:G,4,FALSE))","v":""},null,null,{"$f":"IF(OR(C908=\"\",ISBLANK(C908)),\"\",VLOOKUP(C908,Sheet2!A:F,3,FALSE))","v":""},{"$f":"IF(OR(C908=\"\",ISBLANK(C908)),\"\",VLOOKUP(C908,Sheet2!A:G,6,FALSE))","v":""},""]
[{"$f":"IF(OR(C909=\"\",ISBLANK(C909)),\"\",VLOOKUP(C909,Sheet2!A:F,2,FALSE))","v":""},{"$f":"IF(OR(C909=\"\",ISBLANK(C909)),\"\",VLOOKUP(C909,Sheet2!A:G,4,FALSE))","v":""},null,null,{"$f":"IF(OR(C909=\"\",ISBLANK(C909)),\"\",VLOOKUP(C909,Sheet2!A:F,3,FALSE))","v":""},{"$f":"IF(OR(C909=\"\",ISBLANK(C909)),\"\",VLOOKUP(C909,Sheet2!A:G,6,FALSE))","v":""},""]
[{"$f":"IF(OR(C910=\"\",ISBLANK(C910)),\"\",VLOOKUP(C910,Sheet2!A:F,2,FALSE))","v":""},{"$f":"IF(OR(C910=\"\",ISBLANK(C910)),\"\",VLOOKUP(C910,Sheet2!A:G,4,FALSE))","v":""},null,null,{"$f":"IF(OR(C910=\"\",ISBLANK(C910)),\"\",VLOOKUP(C910,Sheet2!A:F,3,FALSE))","v":""},{"$f":"IF(OR(C910=\"\",ISBLANK(C910)),\"\",VLOOKUP(C910,Sheet2!A:G,6,FALSE))","v":""},""]
[{"$f":"IF(OR(C911=\"\",ISBLANK(C911)),\"\",VLOOKUP(C911,Sheet2!A:F,2,FALSE))","v":""},{"$f":"IF(OR(C911=\"\",ISBLANK(C911)),\"\",VLOOKUP(C911,Sheet2!A:G,4,FALSE))","v":""},null,null,{"$f":"IF(OR(C911=\"\",ISBLANK(C911)),\"\",VLOOKUP(C911,Sheet2!A:F,3,FALSE))","v":""},{"$f":"IF(OR(C911=\"\",ISBLANK(C911)),\"\",VLOOKUP(C911,Sheet2!A:G,6,FALSE))","v":""},""]
[{"$f":"IF(OR(C912=\"\",ISBLANK(C912)),\"\",VLOOKUP(C912,Sheet2!A:F,2,FALSE))","v":""},{"$f":"IF(OR(C912=\"\",ISBLANK(C912)),\"\",VLOOKUP(C912,Sheet2!A:G,4,FALSE))","v":""},null,null,{"$f":"IF(OR(C912=\"\",ISBLANK(C912)),\"\",VLOOKUP(C912,Sheet2!A:F,3,FALSE))","v":""},{"$f":"IF(OR(C912=\"\",ISBLANK(C912)),\"\",VLOOKUP(C912,Sheet2!A:G,6,FALSE))","v":""},""]
[{"$f":"IF(OR(C913=\"\",ISBLANK(C913)),\"\",VLOOKUP(C913,Sheet2!A:F,2,FALSE))","v":""},{"$f":"IF(OR(C913=\"\",ISBLANK(C913)),\"\",VLOOKUP(C913,Sheet2!A:G,4,FALSE))","v":""},null,null,{"$f":"IF(OR(C913=\"\",ISBLANK(C913)),\"\",VLOOKUP(C913,Sheet2!A:F,3,FALSE))","v":""},{"$f":"IF(OR(C913=\"\",ISBLANK(C913)),\"\",VLOOKUP(C913,Sheet2!A:G,6,FALSE))","v":""},""]
[{"$f":"IF(OR(C914=\"\",ISBLANK(C914)),\"\",VLOOKUP(C914,Sheet2!A:F,2,FALSE))","v":""},{"$f":"IF(OR(C914=\"\",ISBLANK(C914)),\"\",VLOOKUP(C914,Sheet2!A:G,4,FALSE))","v":""},null,null,{"$f":"IF(OR(C914=\"\",ISBLANK(C914)),\"\",VLOOKUP(C914,Sheet2!A:F,3,FALSE))","v":""},{"$f":"IF(OR(C914=\"\",ISBLANK(C914)),\"\",VLOOKUP(C914,Sheet2!A:G,6,FALSE))","v":""},""]
[{"$f":"IF(OR(C915=\"\",ISBLANK(C915)),\"\",VLOOKUP(C915,Sheet2!A:F,2,FALSE))","v":""},{"$f":"IF(OR(C915=\"\",ISBLANK(C915)),\"\",VLOOKUP(C915,Sheet2!A:G,4,FALSE))","v":""},null,null,{"$f":"IF(OR(C915=\"\",ISBLANK(C915)),\"\",VLOOKUP(C915,Sheet2!A:F,3,FALSE))","v":""},{"$f":"IF(OR(C915=\"\",ISBLANK(C915)),\"\",VLOOKUP(C915,Sheet2!A:G,6,FALSE))","v":""},""]
[{"$f":"IF(OR(C916=\"\",ISBLANK(C916)),\"\",VLOOKUP(C916,Sheet2!A:F,2,FALSE))","v":""},{"$f":"IF(OR(C916=\"\",ISBLANK(C916)),\"\",VLOOKUP(C916,Sheet2!A:G,4,FALSE))","v":""},null,null,{"$f":"IF(OR(C916=\"\",ISBLANK(C916)),\"\",VLOOKUP(C916,Sheet2!A:F,3,FALSE))","v":""},{"$f":"IF(OR(C916=\"\",ISBLANK(C916)),\"\",VLOOKUP(C916,Sheet2!A:G,6,FALSE))","v":""},""]
[{"$f":"IF(OR(C917=\"\",ISBLANK(C917)),\"\",VLOOKUP(C917,Sheet2!A:F,2,FALSE))","v":""},{"$f":"IF(OR(C917=\"\",ISBLANK(C917)),\"\",VLOOKUP(C917,Sheet2!A:G,4,FALSE))","v":""},null,null,{"$f":"IF(OR(C917=\"\",ISBLANK(C917)),\"\",VLOOKUP(C917,Sheet2!A:F,3,FALSE))","v":""},{"$f":"IF(OR(C917=\"\",ISBLANK(C917)),\"\",VLOOKUP(C917,Sheet2!A:G,6,FALSE))","v":""},""]
[{"$f":"IF(OR(C918=\"\",ISBLANK(C918)),\"\",VLOOKUP(C918,Sheet2!A:F,2,FALSE))","v":""},{"$f":"IF(OR(C918=\"\",ISBLANK(C918)),\"\",VLOOKUP(C918,Sheet2!A:G,4,FALSE))","v":""},null,null,{"$f":"IF(OR(C918=\"\",ISBLANK(C918)),\"\",VLOOKUP(C918,Sheet2!A:F,3,FALSE))","v":""},{"$f":"IF(OR(C918=\"\",ISBLANK(C918)),\"\",VLOOKUP(C918,Sheet2!A:G,6,FALSE))","v":""},""]
[{"$f":"IF(OR(C919=\"\",ISBLANK(C919)),\"\",VLOOKUP(C919,Sheet2!A:F,2,FALSE))","v":""},{"$f":"IF(OR(C919=\"\",ISBLANK(C919)),\"\",VLOOKUP(C919,Sheet2!A:G,4,FALSE))","v":""},null,null,{"$f":"IF(OR(C919=\"\",ISBLANK(C919)),\"\",VLOOKUP(C919,Sheet2!A:F,3,FALSE))","v":""},{"$f":"IF(OR(C919=\"\",ISBLANK(C919)),\"\",VLOOKUP(C919,Sheet2!A:G,6,FALSE))","v":""},""]
[{"$f":"IF(OR(C920=\"\",ISBLANK(C920)),\"\",VLOOKUP(C920,Sheet2!A:F,2,FALSE))","v":""},{"$f":"IF(OR(C920=\"\",ISBLANK(C920)),\"\",VLOOKUP(C920,Sheet2!A:G,4,FALSE))","v":""},null,null,{"$f":"IF(OR(C920=\"\",ISBLANK(C920)),\"\",VLOOKUP(C920,Sheet2!A:F,3,FALSE))","v":""},{"$f":"IF(OR(C920=\"\",ISBLANK(C920)),\"\",VLOOKUP(C920,Sheet2!A:G,6,FALSE))","v":""},""]
[{"$f":"IF(OR(C921=\"\",ISBLANK(C921)),\"\",VLOOKUP(C921,Sheet2!A:F,2,FALSE))","v":""},{"$f":"IF(OR(C921=\"\",ISBLANK(C921)),\"\",VLOOKUP(C921,Sheet2!A:G,4,FALSE))","v":""},null,null,{"$f":"IF(OR(C921=\"\",ISBLANK(C921)),\"\",VLOOKUP(C921,Sheet2!A:F,3,FALSE))","v":""},{"$f":"IF(OR(C921=\"\",ISBLANK(C921)),\"\",VLOOKUP(C921,Sheet2!A:G,6,FALSE))","v":""},""]
[{"$f":"IF(OR(C922=\"\",ISBLANK(C922)),\"\",VLOOKUP(C922,Sheet2!A:F,2,FALSE))","v":""},{"$f":"IF(OR(C922=\"\",ISBLANK(C922)),\"\",VLOOKUP(C922,Sheet2!A:G,4,FALSE))","v":""},null,null,{"$f":"IF(OR(C922=\"\",ISBLANK(C922)),\"\",VLOOKUP(C922,Sheet2!A:F,3,FALSE))","v":""},{"$f":"IF(OR(C922=\"\",ISBLANK(C922)),\"\",VLOOKUP(C922,Sheet2!A:G,6,FALSE))","v":""},""]
[{"$f":"IF(OR(C923=\"\",ISBLANK(C923)),\"\",VLOOKUP(C923,Sheet2!A:F,2,FALSE))","v":""},{"$f":"IF(OR(C923=\"\",ISBLANK(C923)),\"\",VLOOKUP(C923,Sheet2!A:G,4,FALSE))","v":""},null,null,{"$f":"IF(OR(C923=\"\",ISBLANK(C923)),\"\",VLOOKUP(C923,Sheet2!A:F,3,FALSE))","v":""},{"$f":"IF(OR(C923=\"\",ISBLANK(C923)),\"\",VLOOKUP(C923,Sheet2!A:G,6,FALSE))","v":""},""]
[{"$f":"IF(OR(C924=\"\",ISBLANK(C924)),\"\",VLOOKUP(C924,Sheet2!A:F,2,FALSE))","v":""},{"$f":"IF(OR(C924=\"\",ISBLANK(C924)),\"\",VLOOKUP(C924,Sheet2!A:G,4,FALSE))","v":""},null,null,{"$f":"IF(OR(C924=\"\",ISBLANK(C924)),\"\",VLOOKUP(C924,Sheet2!A:F,3,FALSE))","v":""},{"$f":"IF(OR(C924=\"\",ISBLANK(C924)),\"\",VLOOKUP(C924,Sheet2!A:G,6,FALSE))","v":""},""]
[{"$f":"IF(OR(C925=\"\",ISBLANK(C925)),\"\",VLOOKUP(C925,Sheet2!A:F,2,FALSE))","v":""},{"$f":"IF(OR(C925=\"\",ISBLANK(C925)),\"\",VLOOKUP(C925,Sheet2!A:G,4,FALSE))","v":""},null,null,{"$f":"IF(OR(C925=\"\",ISBLANK(C925)),\"\",VLOOKUP(C925,Sheet2!A:F,3,FALSE))","v":""},{"$f":"IF(OR(C925=\"\",ISBLANK(C925)),\"\",VLOOKUP(C925,Sheet2!A:G,6,FALSE))","v":""},""]
[{"$f":"IF(OR(C926=\"\",ISBLANK(C926)),\"\",VLOOKUP(C926,Sheet2!A:F,2,FALSE))","v":""},{"$f":"IF(OR(C926=\"\",ISBLANK(C926)),\"\",VLOOKUP(C926,Sheet2!A:G,4,FALSE))","v":""},null,null,{"$f":"IF(OR(C926=\"\",ISBLANK(C926)),\"\",VLOOKUP(C926,Sheet2!A:F,3,FALSE))","v":""},{"$f":"IF(OR(C926=\"\",ISBLANK(C926)),\"\",VLOOKUP(C926,Sheet2!A:G,6,FALSE))","v":""},""]
[{"$f":"IF(OR(C927=\"\",ISBLANK(C927)),\"\",VLOOKUP(C927,Sheet2!A:F,2,FALSE))","v":""},{"$f":"IF(OR(C927=\"\",ISBLANK(C927)),\"\",VLOOKUP(C927,Sheet2!A:G,4,FALSE))","v":""},null,null,{"$f":"IF(OR(C927=\"\",ISBLANK(C927)),\"\",VLOOKUP(C927,Sheet2!A:F,3,FALSE))","v":""},{"$f":"IF(OR(C927=\"\",ISBLANK(C927)),\"\",VLOOKUP(C927,Sheet2!A:G,6,FALSE))","v":""},""]
[{"$f":"IF(OR(C928=\"\",ISBLANK(C928)),\"\",VLOOKUP(C928,Sheet2!A:F,2,FALSE))","v":""},{"$f":"IF(OR(C928=\"\",ISBLANK(C928)),\"\",VLOOKUP(C928,Sheet2!A:G,4,FALSE))","v":""},null,null,{"$f":"IF(OR(C928=\"\",ISBLANK(C928)),\"\",VLOOKUP(C928,Sheet2!A:F,3,FALSE))","v":""},{"$f":"IF(OR(C928=\"\",ISBLANK(C928)),\"\",VLOOKUP(C928,Sheet2!A:G,6,FALSE))","v":""},""]
[{"$f":"IF(OR(C929=\"\",ISBLANK(C929)),\"\",VLOOKUP(C929,Sheet2!A:F,2,FALSE))","v":""},{"$f":"IF(OR(C929=\"\",ISBLANK(C929)),\"\",VLOOKUP(C929,Sheet2!A:G,4,FALSE))","v":""},null,null,{"$f":"IF(OR(C929=\"\",ISBLANK(C929)),\"\",VLOOKUP(C929,Sheet2!A:F,3,FALSE))","v":""},{"$f":"IF(OR(C929=\"\",ISBLANK(C929)),\"\",VLOOKUP(C929,Sheet2!A:G,6,FALSE))","v":""},""]
[{"$f":"IF(OR(C930=\"\",ISBLANK(C930)),\"\",VLOOKUP(C930,Sheet2!A:F,2,FALSE))","v":""},{"$f":"IF(OR(C930=\"\",ISBLANK(C930)),\"\",VLOOKUP(C930,Sheet2!A:G,4,FALSE))","v":""},null,null,{"$f":"IF(OR(C930=\"\",ISBLANK(C930)),\"\",VLOOKUP(C930,Sheet2!A:F,3,FALSE))","v":""},{"$f":"IF(OR(C930=\"\",ISBLANK(C930)),\"\",VLOOKUP(C930,Sheet2!A:G,6,FALSE))","v":""},""]
[{"$f":"IF(OR(C931=\"\",ISBLANK(C931)),\"\",VLOOKUP(C931,Sheet2!A:F,2,FALSE))","v":""},{"$f":"IF(OR(C931=\"\",ISBLANK(C931)),\"\",VLOOKUP(C931,Sheet2!A:G,4,FALSE))","v":""},null,null,{"$f":"IF(OR(C931=\"\",ISBLANK(C931)),\"\",VLOOKUP(C931,Sheet2!A:F,3,FALSE))","v":""},{"$f":"IF(OR(C931=\"\",ISBLANK(C931)),\"\",VLOOKUP(C931,Sheet2!A:G,6,FALSE))","v":""},""]
[{"$f":"IF(OR(C932=\"\",ISBLANK(C932)),\"\",VLOOKUP(C932,Sheet2!A:F,2,FALSE))","v":""},{"$f":"IF(OR(C932=\"\",ISBLANK(C932)),\"\",VLOOKUP(C932,Sheet2!A:G,4,FALSE))","v":""},null,null,{"$f":"IF(OR(C932=\"\",ISBLANK(C932)),\"\",VLOOKUP(C932,Sheet2!A:F,3,FALSE))","v":""},{"$f":"IF(OR(C932=\"\",ISBLANK(C932)),\"\",VLOOKUP(C932,Sheet2!A:G,6,FALSE))","v":""},""]
[{"$f":"IF(OR(C933=\"\",ISBLANK(C933)),\"\",VLOOKUP(C933,Sheet2!A:F,2,FALSE))","v":""},{"$f":"IF(OR(C933=\"\",ISBLANK(C933)),\"\",VLOOKUP(C933,Sheet2!A:G,4,FALSE))","v":""},null,null,{"$f":"IF(OR(C933=\"\",ISBLANK(C933)),\"\",VLOOKUP(C933,Sheet2!A:F,3,FALSE))","v":""},{"$f":"IF(OR(C933=\"\",ISBLANK(C933)),\"\",VLOOKUP(C933,Sheet2!A:G,6,FALSE))","v":""},""]
[{"$f":"IF(OR(C934=\"\",ISBLANK(C934)),\"\",VLOOKUP(C934,Sheet2!A:F,2,FALSE))","v":""},{"$f":"IF(OR(C934=\"\",ISBLANK(C934)),\"\",VLOOKUP(C934,Sheet2!A:G,4,FALSE))","v":""},null,null,{"$f":"IF(OR(C934=\"\",ISBLANK(C934)),\"\",VLOOKUP(C934,Sheet2!A:F,3,FALSE))","v":""},{"$f":"IF(OR(C934=\"\",ISBLANK(C934)),\"\",VLOOKUP(C934,Sheet2!A:G,6,FALSE))","v":""},""]
[{"$f":"IF(OR(C935=\"\",ISBLANK(C935)),\"\",VLOOKUP(C935,Sheet2!A:F,2,FALSE))","v":""},{"$f":"IF(OR(C935=\"\",ISBLANK(C935)),\"\",VLOOKUP(C935,Sheet2!A:G,4,FALSE))","v":""},null,null,{"$f":"IF(OR(C935=\"\",ISBLANK(C935)),\"\",VLOOKUP(C935,Sheet2!A:F,3,FALSE))","v":""},{"$f":"IF(OR(C935=\"\",ISBLANK(C935)),\"\",VLOOKUP(C935,Sheet2!A:G,6,FALSE))","v":""},""]
[{"$f":"IF(OR(C936=\"\",ISBLANK(C936)),\"\",VLOOKUP(C936,Sheet2!A:F,2,FALSE))","v":""},{"$f":"IF(OR(C936=\"\",ISBLANK(C936)),\"\",VLOOKUP(C936,Sheet2!A:G,4,FALSE))","v":""},null,null,{"$f":"IF(OR(C936=\"\",ISBLANK(C936)),\"\",VLOOKUP(C936,Sheet2!A:F,3,FALSE))","v":""},{"$f":"IF(OR(C936=\"\",ISBLANK(C936)),\"\",VLOOKUP(C936,Sheet2!A:G,6,FALSE))","v":""},""]
[{"$f":"IF(OR(C937=\"\",ISBLANK(C937)),\"\",VLOOKUP(C937,Sheet2!A:F,2,FALSE))","v":""},{"$f":"IF(OR(C937=\"\",ISBLANK(C937)),\"\",VLOOKUP(C937,Sheet2!A:G,4,FALSE))","v":""},null,null,{"$f":"IF(OR(C937=\"\",ISBLANK(C937)),\"\",VLOOKUP(C937,Sheet2!A:F,3,FALSE))","v":""},{"$f":"IF(OR(C937=\"\",ISBLANK(C937)),\"\",VLOOKUP(C937,Sheet2!A:G,6,FALSE))","v":""},""]
[{"$f":"IF(OR(C938=\"\",ISBLANK(C938)),\"\",VLOOKUP(C938,Sheet2!A:F,2,FALSE))","v":""},{"$f":"IF(OR(C938=\"\",ISBLANK(C938)),\"\",VLOOKUP(C938,Sheet2!A:G,4,FALSE))","v":""},null,null,{"$f":"IF(OR(C938=\"\",ISBLANK(C938)),\"\",VLOOKUP(C938,Sheet2!A:F,3,FALSE))","v":""},{"$f":"IF(OR(C938=\"\",ISBLANK(C938)),\"\",VLOOKUP(C938,Sheet2!A:G,6,FALSE))","v":""},""]
[{"$f":"IF(OR(C939=\"\",ISBLANK(C939)),\"\",VLOOKUP(C939,Sheet2!A:F,2,FALSE))","v":""},{"$f":"IF(OR(C939=\"\",ISBLANK(C939)),\"\",VLOOKUP(C939,Sheet2!A:G,4,FALSE))","v":""},null,null,{"$f":"IF(OR(C939=\"\",ISBLANK(C939)),\"\",VLOOKUP(C939,Sheet2!A:F,3,FALSE))","v":""},{"$f":"IF(OR(C939=\"\",ISBLANK(C939)),\"\",VLOOKUP(C939,Sheet2!A:G,6,FALSE))","v":""},""]
[{"$f":"IF(OR(C940=\"\",ISBLANK(C940)),\"\",VLOOKUP(C940,Sheet2!A:F,2,FALSE))","v":""},{"$f":"IF(OR(C940=\"\",ISBLANK(C940)),\"\",VLOOKUP(C940,Sheet2!A:G,4,FALSE))","v":""},null,null,{"$f":"IF(OR(C940=\"\",ISBLANK(C940)),\"\",VLOOKUP(C940,Sheet2!A:F,3,FALSE))","v":""},{"$f":"IF(OR(C940=\"\",ISBLANK(C940)),\"\",VLOOKUP(C940,Sheet2!A:G,6,FALSE))","v":""},""]
[{"$f":"IF(OR(C941=\"\",ISBLANK(C941)),\"\",VLOOKUP(C941,Sheet2!A:F,2,FALSE))","v":""},{"$f":"IF(OR(C941=\"\",ISBLANK(C941)),\"\",VLOOKUP(C941,Sheet2!A:G,4,FALSE))","v":""},null,null,{"$f":"IF(OR(C941=\"\",ISBLANK(C941)),\"\",VLOOKUP(C941,Sheet2!A:F,3,FALSE))","v":""},{"$f":"IF(OR(C941=\"\",ISBLANK(C941)),\"\",VLOOKUP(C941,Sheet2!A:G,6,FALSE))","v":""},""]
[{"$f":"IF(OR(C942=\"\",ISBLANK(C942)),\"\",VLOOKUP(C942,Sheet2!A:F,2,FALSE))","v":""},{"$f":"IF(OR(C942=\"\",ISBLANK(C942)),\"\",VLOOKUP(C942,Sheet2!A:G,4,FALSE))","v":""},null,null,{"$f":"IF(OR(C942=\"\",ISBLANK(C942)),\"\",VLOOKUP(C942,Sheet2!A:F,3,FALSE))","v":""},{"$f":"IF(OR(C942=\"\",ISBLANK(C942)),\"\",VLOOKUP(C942,Sheet2!A:G,6,FALSE))","v":""},""]
[{"$f":"IF(OR(C943=\"\",ISBLANK(C943)),\"\",VLOOKUP(C943,Sheet2!A:F,2,FALSE))","v":""},{"$f":"IF(OR(C943=\"\",ISBLANK(C943)),\"\",VLOOKUP(C943,Sheet2!A:G,4,FALSE))","v":""},null,null,{"$f":"IF(OR(C943=\"\",ISBLANK(C943)),\"\",VLOOKUP(C943,Sheet2!A:F,3,FALSE))","v":""},{"$f":"IF(OR(C943=\"\",ISBLANK(C943)),\"\",VLOOKUP(C943,Sheet2!A:G,6,FALSE))","v":""},""]
[{"$f":"IF(OR(C944=\"\",ISBLANK(C944)),\"\",VLOOKUP(C944,Sheet2!A:F,2,FALSE))","v":""},{"$f":"IF(OR(C944=\"\",ISBLANK(C944)),\"\",VLOOKUP(C944,Sheet2!A:G,4,FALSE))","v":""},null,null,{"$f":"IF(OR(C944=\"\",ISBLANK(C944)),\"\",VLOOKUP(C944,Sheet2!A:F,3,FALSE))","v":""},{"$f":"IF(OR(C944=\"\",ISBLANK(C944)),\"\",VLOOKUP(C944,Sheet2!A:G,6,FALSE))","v":""},""]
[{"$f":"IF(OR(C945=\"\",ISBLANK(C945)),\"\",VLOOKUP(C945,Sheet2!A:F,2,FALSE))","v":""},{"$f":"IF(OR(C945=\"\",ISBLANK(C945)),\"\",VLOOKUP(C945,Sheet2!A:G,4,FALSE))","v":""},null,null,{"$f":"IF(OR(C945=\"\",ISBLANK(C945)),\"\",VLOOKUP(C945,Sheet2!A:F,3,FALSE))","v":""},{"$f":"IF(OR(C945=\"\",ISBLANK(C945)),\"\",VLOOKUP(C945,Sheet2!A:G,6,FALSE))","v":""},""]
[{"$f":"IF(OR(C946=\"\",ISBLANK(C946)),\"\",VLOOKUP(C946,Sheet2!A:F,2,FALSE))","v":""},{"$f":"IF(OR(C946=\"\",ISBLANK(C946)),\"\",VLOOKUP(C946,Sheet2!A:G,4,FALSE))","v":""},null,null,{"$f":"IF(OR(C946=\"\",ISBLANK(C946)),\"\",VLOOKUP(C946,Sheet2!A:F,3,FALSE))","v":""},{"$f":"IF(OR(C946=\"\",ISBLANK(C946)),\"\",VLOOKUP(C946,Sheet2!A:G,6,FALSE))","v":""},""]
[{"$f":"IF(OR(C947=\"\",ISBLANK(C947)),\"\",VLOOKUP(C947,Sheet2!A:F,2,FALSE))","v":""},{"$f":"IF(OR(C947=\"\",ISBLANK(C947)),\"\",VLOOKUP(C947,Sheet2!A:G,4,FALSE))","v":""},null,null,{"$f":"IF(OR(C947=\"\",ISBLANK(C947)),\"\",VLOOKUP(C947,Sheet2!A:F,3,FALSE))","v":""},{"$f":"IF(OR(C947=\"\",ISBLANK(C947)),\"\",VLOOKUP(C947,Sheet2!A:G,6,FALSE))","v":""},""]
[{"$f":"IF(OR(C948=\"\",ISBLANK(C948)),\"\",VLOOKUP(C948,Sheet2!A:F,2,FALSE))","v":""},{"$f":"IF(OR(C948=\"\",ISBLANK(C948)),\"\",VLOOKUP(C948,Sheet2!A:G,4,FALSE))","v":""},null,null,{"$f":"IF(OR(C948=\"\",ISBLANK(C948)),\"\",VLOOKUP(C948,Sheet2!A:F,3,FALSE))","v":""},{"$f":"IF(OR(C948=\"\",ISBLANK(C948)),\"\",VLOOKUP(C948,Sheet2!A:G,6,FALSE))","v":""},""]
[{"$f":"IF(OR(C949=\"\",ISBLANK(C949)),\"\",VLOOKUP(C949,Sheet2!A:F,2,FALSE))","v":""},{"$f":"IF(OR(C949=\"\",ISBLANK(C949)),\"\",VLOOKUP(C949,Sheet2!A:G,4,FALSE))","v":""},null,null,{"$f":"IF(OR(C949=\"\",ISBLANK(C949)),\"\",VLOOKUP(C949,Sheet2!A:F,3,FALSE))","v":""},{"$f":"IF(OR(C949=\"\",ISBLANK(C949)),\"\",VLOOKUP(C949,Sheet2!A:G,6,FALSE))","v":""},""]
[{"$f":"IF(OR(C950=\"\",ISBLANK(C950)),\"\",VLOOKUP(C950,Sheet2!A:F,2,FALSE))","v":""},{"$f":"IF(OR(C950=\"\",ISBLANK(C950)),\"\",VLOOKUP(C950,Sheet2!A:G,4,FALSE))","v":""},null,null,{"$f":"IF(OR(C950=\"\",ISBLANK(C950)),\"\",VLOOKUP(C950,Sheet2!A:F,3,FALSE))","v":""},{"$f":"IF(OR(C950=\"\",ISBLANK(C950)),\"\",VLOOKUP(C950,Sheet2!A:G,6,FALSE))","v":""},""]
[{"$f":"IF(OR(C951=\"\",ISBLANK(C951)),\"\",VLOOKUP(C951,Sheet2!A:F,2,FALSE))","v":""},{"$f":"IF(OR(C951=\"\",ISBLANK(C951)),\"\",VLOOKUP(C951,Sheet2!A:G,4,FALSE))","v":""},null,null,{"$f":"IF(OR(C951=\"\",ISBLANK(C951)),\"\",VLOOKUP(C951,Sheet2!A:F,3,FALSE))","v":""},{"$f":"IF(OR(C951=\"\",ISBLANK(C951)),\"\",VLOOKUP(C951,Sheet2!A:G,6,FALSE))","v":""},""]
[{"$f":"IF(OR(C952=\"\",ISBLANK(C952)),\"\",VLOOKUP(C952,Sheet2!A:F,2,FALSE))","v":""},{"$f":"IF(OR(C952=\"\",ISBLANK(C952)),\"\",VLOOKUP(C952,Sheet2!A:G,4,FALSE))","v":""},null,null,{"$f":"IF(OR(C952=\"\",ISBLANK(C952)),\"\",VLOOKUP(C952,Sheet2!A:F,3,FALSE))","v":""},{"$f":"IF(OR(C952=\"\",ISBLANK(C952)),\"\",VLOOKUP(C952,Sheet2!A:G,6,FALSE))","v":""},""]
[{"$f":"IF(OR(C953=\"\",ISBLANK(C953)),\"\",VLOOKUP(C953,Sheet2!A:F,2,FALSE))","v":""},{"$f":"IF(OR(C953=\"\",ISBLANK(C953)),\"\",VLOOKUP(C953,Sheet2!A:G,4,FALSE))","v":""},null,null,{"$f":"IF(OR(C953=\"\",ISBLANK(C953)),\"\",VLOOKUP(C953,Sheet2!A:F,3,FALSE))","v":""},{"$f":"IF(OR(C953=\"\",ISBLANK(C953)),\"\",VLOOKUP(C953,Sheet2!A:G,6,FALSE))","v":""},""]
[{"$f":"IF(OR(C954=\"\",ISBLANK(C954)),\"\",VLOOKUP(C954,Sheet2!A:F,2,FALSE))","v":""},{"$f":"IF(OR(C954=\"\",ISBLANK(C954)),\"\",VLOOKUP(C954,Sheet2!A:G,4,FALSE))","v":""},null,null,{"$f":"IF(OR(C954=\"\",ISBLANK(C954)),\"\",VLOOKUP(C954,Sheet2!A:F,3,FALSE))","v":""},{"$f":"IF(OR(C954=\"\",ISBLANK(C954)),\"\",VLOOKUP(C954,Sheet2!A:G,6,FALSE))","v":""},""]
[{"$f":"IF(OR(C955=\"\",ISBLANK(C955)),\"\",VLOOKUP(C955,Sheet2!A:F,2,FALSE))","v":""},{"$f":"IF(OR(C955=\"\",ISBLANK(C955)),\"\",VLOOKUP(C955,Sheet2!A:G,4,FALSE))","v":""},null,null,{"$f":"IF(OR(C955=\"\",ISBLANK(C955)),\"\",VLOOKUP(C955,Sheet2!A:F,3,FALSE))","v":""},{"$f":"IF(OR(C955=\"\",ISBLANK(C955)),\"\",VLOOKUP(C955,Sheet2!A:G,6,FALSE))","v":""},""]
[{"$f":"IF(OR(C956=\"\",ISBLANK(C956)),\"\",VLOOKUP(C956,Sheet2!A:F,2,FALSE))","v":""},{"$f":"IF(OR(C956=\"\",ISBLANK(C956)),\"\",VLOOKUP(C956,Sheet2!A:G,4,FALSE))","v":""},null,null,{"$f":"IF(OR(C956=\"\",ISBLANK(C956)),\"\",VLOOKUP(C956,Sheet2!A:F,3,FALSE))","v":""},{"$f":"IF(OR(C956=\"\",ISBLANK(C956)),\"\",VLOOKUP(C956,Sheet2!A:G,6,FALSE))","v":""},""]
[{"$f":"IF(OR(C957=\"\",ISBLANK(C957)),\"\",VLOOKUP(C957,Sheet2!A:F,2,FALSE))","v":""},{"$f":"IF(OR(C957=\"\",ISBLANK(C957)),\"\",VLOOKUP(C957,Sheet2!A:G,4,FALSE))","v":""},null,null,{"$f":"IF(OR(C957=\"\",ISBLANK(C957)),\"\",VLOOKUP(C957,Sheet2!A:F,3,FALSE))","v":""},{"$f":"IF(OR(C957=\"\",ISBLANK(C957)),\"\",VLOOKUP(C957,Sheet2!A:G,6,FALSE))","v":""},""]
[{"$f":"IF(OR(C958=\"\",ISBLANK(C958)),\"\",VLOOKUP(C958,Sheet2!A:F,2,FALSE))","v":""},{"$f":"IF(OR(C958=\"\",ISBLANK(C958)),\"\",VLOOKUP(C958,Sheet2!A:G,4,FALSE))","v":""},null,null,{"$f":"IF(OR(C958=\"\",ISBLANK(C958)),\"\",VLOOKUP(C958,Sheet2!A:F,3,FALSE))","v":""},{"$f":"IF(OR(C958=\"\",ISBLANK(C958)),\"\",VLOOKUP(C958,Sheet2!A:G,6,FALSE))","v":""},""]
[{"$f":"IF(OR(C959=\"\",ISBLANK(C959)),\"\",VLOOKUP(C959,Sheet2!A:F,2,FALSE))","v":""},{"$f":"IF(OR(C959=\"\",ISBLANK(C959)),\"\",VLOOKUP(C959,Sheet2!A:G,4,FALSE))","v":""},null,null,{"$f":"IF(OR(C959=\"\",ISBLANK(C959)),\"\",VLOOKUP(C959,Sheet2!A:F,3,FALSE))","v":""},{"$f":"IF(OR(C959=\"\",ISBLANK(C959)),\"\",VLOOKUP(C959,Sheet2!A:G,6,FALSE))","v":""},""]
[{"$f":"IF(OR(C960=\"\",ISBLANK(C960)),\"\",VLOOKUP(C960,Sheet2!A:F,2,FALSE))","v":""},{"$f":"IF(OR(C960=\"\",ISBLANK(C960)),\"\",VLOOKUP(C960,Sheet2!A:G,4,FALSE))","v":""},null,null,{"$f":"IF(OR(C960=\"\",ISBLANK(C960)),\"\",VLOOKUP(C960,Sheet2!A:F,3,FALSE))","v":""},{"$f":"IF(OR(C960=\"\",ISBLANK(C960)),\"\",VLOOKUP(C960,Sheet2!A:G,6,FALSE))","v":""},""]
[{"$f":"IF(OR(C961=\"\",ISBLANK(C961)),\"\",VLOOKUP(C961,Sheet2!A:F,2,FALSE))","v":""},{"$f":"IF(OR(C961=\"\",ISBLANK(C961)),\"\",VLOOKUP(C961,Sheet2!A:G,4,FALSE))","v":""},null,null,{"$f":"IF(OR(C961=\"\",ISBLANK(C961)),\"\",VLOOKUP(C961,Sheet2!A:F,3,FALSE))","v":""},{"$f":"IF(OR(C961=\"\",ISBLANK(C961)),\"\",VLOOKUP(C961,Sheet2!A:G,6,FALSE))","v":""},""]
[{"$f":"IF(OR(C962=\"\",ISBLANK(C962)),\"\",VLOOKUP(C962,Sheet2!A:F,2,FALSE))","v":""},{"$f":"IF(OR(C962=\"\",ISBLANK(C962)),\"\",VLOOKUP(C962,Sheet2!A:G,4,FALSE))","v":""},null,null,{"$f":"IF(OR(C962=\"\",ISBLANK(C962)),\"\",VLOOKUP(C962,Sheet2!A:F,3,FALSE))","v":""},{"$f":"IF(OR(C962=\"\",ISBLANK(C962)),\"\",VLOOKUP(C962,Sheet2!A:G,6,FALSE))","v":""},""]
[{"$f":"IF(OR(C963=\"\",ISBLANK(C963)),\"\",VLOOKUP(C963,Sheet2!A:F,2,FALSE))","v":""},{"$f":"IF(OR(C963=\"\",ISBLANK(C963)),\"\",VLOOKUP(C963,Sheet2!A:G,4,FALSE))","v":""},null,null,{"$f":"IF(OR(C963=\"\",ISBLANK(C963)),\"\",VLOOKUP(C963,Sheet2!A:F,3,FALSE))","v":""},{"$f":"IF(OR(C963=\"\",ISBLANK(C963)),\"\",VLOOKUP(C963,Sheet2!A:G,6,FALSE))","v":""},{"$f":"IF(F963=0,\"\",F963)","v":""}]
[{"$f":"IF(OR(C964=\"\",ISBLANK(C964)),\"\",VLOOKUP(C964,Sheet2!A:F,2,FALSE))","v":""},{"$f":"IF(OR(C964=\"\",ISBLANK(C964)),\"\",VLOOKUP(C964,Sheet2!A:G,4,FALSE))","v":""},null,null,{"$f":"IF(OR(C964=\"\",ISBLANK(C964)),\"\",VLOOKUP(C964,Sheet2!A:F,3,FALSE))","v":""},{"$f":"IF(OR(C964=\"\",ISBLANK(C964)),\"\",VLOOKUP(C964,Sheet2!A:G,6,FALSE))","v":""},""]
[{"$f":"IF(OR(C965=\"\",ISBLANK(C965)),\"\",VLOOKUP(C965,Sheet2!A:F,2,FALSE))","v":""},{"$f":"IF(OR(C965=\"\",ISBLANK(C965)),\"\",VLOOKUP(C965,Sheet2!A:G,4,FALSE))","v":""},null,null,{"$f":"IF(OR(C965=\"\",ISBLANK(C965)),\"\",VLOOKUP(C965,Sheet2!A:F,3,FALSE))","v":""},{"$f":"IF(OR(C965=\"\",ISBLANK(C965)),\"\",VLOOKUP(C965,Sheet2!A:G,6,FALSE))","v":""},""]
[{"$f":"IF(OR(C966=\"\",ISBLANK(C966)),\"\",VLOOKUP(C966,Sheet2!A:F,2,FALSE))","v":""},{"$f":"IF(OR(C966=\"\",ISBLANK(C966)),\"\",VLOOKUP(C966,Sheet2!A:G,4,FALSE))","v":""},null,null,{"$f":"IF(OR(C966=\"\",ISBLANK(C966)),\"\",VLOOKUP(C966,Sheet2!A:F,3,FALSE))","v":""},{"$f":"IF(OR(C966=\"\",ISBLANK(C966)),\"\",VLOOKUP(C966,Sheet2!A:G,6,FALSE))","v":""},""]
[{"$f":"IF(OR(C967=\"\",ISBLANK(C967)),\"\",VLOOKUP(C967,Sheet2!A:F,2,FALSE))","v":""},{"$f":"IF(OR(C967=\"\",ISBLANK(C967)),\"\",VLOOKUP(C967,Sheet2!A:G,4,FALSE))","v":""},null,null,{"$f":"IF(OR(C967=\"\",ISBLANK(C967)),\"\",VLOOKUP(C967,Sheet2!A:F,3,FALSE))","v":""},{"$f":"IF(OR(C967=\"\",ISBLANK(C967)),\"\",VLOOKUP(C967,Sheet2!A:G,6,FALSE))","v":""},""]
[{"$f":"IF(OR(C968=\"\",ISBLANK(C968)),\"\",VLOOKUP(C968,Sheet2!A:F,2,FALSE))","v":""},{"$f":"IF(OR(C968=\"\",ISBLANK(C968)),\"\",VLOOKUP(C968,Sheet2!A:G,4,FALSE))","v":""},null,null,{"$f":"IF(OR(C968=\"\",ISBLANK(C968)),\"\",VLOOKUP(C968,Sheet2!A:F,3,FALSE))","v":""},{"$f":"IF(OR(C968=\"\",ISBLANK(C968)),\"\",VLOOKUP(C968,Sheet2!A:G,6,FALSE))","v":""},""]
[{"$f":"IF(OR(C969=\"\",ISBLANK(C969)),\"\",VLOOKUP(C969,Sheet2!A:F,2,FALSE))","v":""},{"$f":"IF(OR(C969=\"\",ISBLANK(C969)),\"\",VLOOKUP(C969,Sheet2!A:G,4,FALSE))","v":""},null,null,{"$f":"IF(OR(C969=\"\",ISBLANK(C969)),\"\",VLOOKUP(C969,Sheet2!A:F,3,FALSE))","v":""},{"$f":"IF(OR(C969=\"\",ISBLANK(C969)),\"\",VLOOKUP(C969,Sheet2!A:G,6,FALSE))","v":""},""]
[{"$f":"IF(OR(C970=\"\",ISBLANK(C970)),\"\",VLOOKUP(C970,Sheet2!A:F,2,FALSE))","v":""},{"$f":"IF(OR(C970=\"\",ISBLANK(C970)),\"\",VLOOKUP(C970,Sheet2!A:G,4,FALSE))","v":""},null,null,{"$f":"IF(OR(C970=\"\",ISBLANK(C970)),\"\",VLOOKUP(C970,Sheet2!A:F,3,FALSE))","v":""},{"$f":"IF(OR(C970=\"\",ISBLANK(C970)),\"\",VLOOKUP(C970,Sheet2!A:G,6,FALSE))","v":""},""]
[{"$f":"IF(OR(C971=\"\",ISBLANK(C971)),\"\",VLOOKUP(C971,Sheet2!A:F,2,FALSE))","v":""},{"$f":"IF(OR(C971=\"\",ISBLANK(C971)),\"\",VLOOKUP(C971,Sheet2!A:G,4,FALSE))","v":""},null,null,{"$f":"IF(OR(C971=\"\",ISBLANK(C971)),\"\",VLOOKUP(C971,Sheet2!A:F,3,FALSE))","v":""},{"$f":"IF(OR(C971=\"\",ISBLANK(C971)),\"\",VLOOKUP(C971,Sheet2!A:G,6,FALSE))","v":""},""]
[{"$f":"IF(OR(C972=\"\",ISBLANK(C972)),\"\",VLOOKUP(C972,Sheet2!A:F,2,FALSE))","v":""},{"$f":"IF(OR(C972=\"\",ISBLANK(C972)),\"\",VLOOKUP(C972,Sheet2!A:G,4,FALSE))","v":""},null,null,{"$f":"IF(OR(C972=\"\",ISBLANK(C972)),\"\",VLOOKUP(C972,Sheet2!A:F,3,FALSE))","v":""},{"$f":"IF(OR(C972=\"\",ISBLANK(C972)),\"\",VLOOKUP(C972,Sheet2!A:G,6,FALSE))","v":""},""]
[{"$f":"IF(OR(C973=\"\",ISBLANK(C973)),\"\",VLOOKUP(C973,Sheet2!A:F,2,FALSE))","v":""},{"$f":"IF(OR(C973=\"\",ISBLANK(C973)),\"\",VLOOKUP(C973,Sheet2!A:G,4,FALSE))","v":""},null,null,{"$f":"IF(OR(C973=\"\",ISBLANK(C973)),\"\",VLOOKUP(C973,Sheet2!A:F,3,FALSE))","v":""},{"$f":"IF(OR(C973=\"\",ISBLANK(C973)),\"\",VLOOKUP(C973,Sheet2!A:G,6,FALSE))","v":""},""]
[{"$f":"IF(OR(C974=\"\",ISBLANK(C974)),\"\",VLOOKUP(C974,Sheet2!A:F,2,FALSE))","v":""},{"$f":"IF(OR(C974=\"\",ISBLANK(C974)),\"\",VLOOKUP(C974,Sheet2!A:G,4,FALSE))","v":""},null,null,{"$f":"IF(OR(C974=\"\",ISBLANK(C974)),\"\",VLOOKUP(C974,Sheet2!A:F,3,FALSE))","v":""},{"$f":"IF(OR(C974=\"\",ISBLANK(C974)),\"\",VLOOKUP(C974,Sheet2!A:G,6,FALSE))","v":""},""]
[{"$f":"IF(OR(C975=\"\",ISBLANK(C975)),\"\",VLOOKUP(C975,Sheet2!A:F,2,FALSE))","v":""},{"$f":"IF(OR(C975=\"\",ISBLANK(C975)),\"\",VLOOKUP(C975,Sheet2!A:G,4,FALSE))","v":""},null,null,{"$f":"IF(OR(C975=\"\",ISBLANK(C975)),\"\",VLOOKUP(C975,Sheet2!A:F,3,FALSE))","v":""},{"$f":"IF(OR(C975=\"\",ISBLANK(C975)),\"\",VLOOKUP(C975,Sheet2!A:G,6,FALSE))","v":""},""]
[{"$f":"IF(OR(C976=\"\",ISBLANK(C976)),\"\",VLOOKUP(C976,Sheet2!A:F,2,FALSE))","v":""},{"$f":"IF(OR(C976=\"\",ISBLANK(C976)),\"\",VLOOKUP(C976,Sheet2!A:G,4,FALSE))","v":""},null,null,{"$f":"IF(OR(C976=\"\",ISBLANK(C976)),\"\",VLOOKUP(C976,Sheet2!A:F,3,FALSE))","v":""},{"$f":"IF(OR(C976=\"\",ISBLANK(C976)),\"\",VLOOKUP(C976,Sheet2!A:G,6,FALSE))","v":""},""]
[{"$f":"IF(OR(C977=\"\",ISBLANK(C977)),\"\",VLOOKUP(C977,Sheet2!A:F,2,FALSE))","v":""},{"$f":"IF(OR(C977=\"\",ISBLANK(C977)),\"\",VLOOKUP(C977,Sheet2!A:G,4,FALSE))","v":""},null,null,{"$f":"IF(OR(C977=\"\",ISBLANK(C977)),\"\",VLOOKUP(C977,Sheet2!A:F,3,FALSE))","v":""},{"$f":"IF(OR(C977=\"\",ISBLANK(C977)),\"\",VLOOKUP(C977,Sheet2!A:G,6,FALSE))","v":""},""]
[{"$f":"IF(OR(C978=\"\",ISBLANK(C978)),\"\",VLOOKUP(C978,Sheet2!A:F,2,FALSE))","v":""},{"$f":"IF(OR(C978=\"\",ISBLANK(C978)),\"\",VLOOKUP(C978,Sheet2!A:G,4,FALSE))","v":""},null,null,{"$f":"IF(OR(C978=\"\",ISBLANK(C978)),\"\",VLOOKUP(C978,Sheet2!A:F,3,FALSE))","v":""},{"$f":"IF(OR(C978=\"\",ISBLANK(C978)),\"\",VLOOKUP(C978,Sheet2!A:G,6,FALSE))","v":""},""]
[{"$f":"IF(OR(C979=\"\",ISBLANK(C979)),\"\",VLOOKUP(C979,Sheet2!A:F,2,FALSE))","v":""},{"$f":"IF(OR(C979=\"\",ISBLANK(C979)),\"\",VLOOKUP(C979,Sheet2!A:G,4,FALSE))","v":""},null,null,{"$f":"IF(OR(C979=\"\",ISBLANK(C979)),\"\",VLOOKUP(C979,Sheet2!A:F,3,FALSE))","v":""},{"$f":"IF(OR(C979=\"\",ISBLANK(C979)),\"\",VLOOKUP(C979,Sheet2!A:G,6,FALSE))","v":""},""]
[{"$f":"IF(OR(C980=\"\",ISBLANK(C980)),\"\",VLOOKUP(C980,Sheet2!A:F,2,FALSE))","v":""},{"$f":"IF(OR(C980=\"\",ISBLANK(C980)),\"\",VLOOKUP(C980,Sheet2!A:G,4,FALSE))","v":""},null,null,{"$f":"IF(OR(C980=\"\",ISBLANK(C980)),\"\",VLOOKUP(C980,Sheet2!A:F,3,FALSE))","v":""},{"$f":"IF(OR(C980=\"\",ISBLANK(C980)),\"\",VLOOKUP(C980,Sheet2!A:G,6,FALSE))","v":""},""]
[{"$f":"IF(OR(C981=\"\",ISBLANK(C981)),\"\",VLOOKUP(C981,Sheet2!A:F,2,FALSE))","v":""},{"$f":"IF(OR(C981=\"\",ISBLANK(C981)),\"\",VLOOKUP(C981,Sheet2!A:G,4,FALSE))","v":""},null,null,{"$f":"IF(OR(C981=\"\",ISBLANK(C981)),\"\",VLOOKUP(C981,Sheet2!A:F,3,FALSE))","v":""},{"$f":"IF(OR(C981=\"\",ISBLANK(C981)),\"\",VLOOKUP(C981,Sheet2!A:G,6,FALSE))","v":""},""]
[{"$f":"IF(OR(C982=\"\",ISBLANK(C982)),\"\",VLOOKUP(C982,Sheet2!A:F,2,FALSE))","v":""},{"$f":"IF(OR(C982=\"\",ISBLANK(C982)),\"\",VLOOKUP(C982,Sheet2!A:G,4,FALSE))","v":""},null,null,{"$f":"IF(OR(C982=\"\",ISBLANK(C982)),\"\",VLOOKUP(C982,Sheet2!A:F,3,FALSE))","v":""},{"$f":"IF(OR(C982=\"\",ISBLANK(C982)),\"\",VLOOKUP(C982,Sheet2!A:G,6,FALSE))","v":""},""]
[{"$f":"IF(OR(C983=\"\",ISBLANK(C983)),\"\",VLOOKUP(C983,Sheet2!A:F,2,FALSE))","v":""},{"$f":"IF(OR(C983=\"\",ISBLANK(C983)),\"\",VLOOKUP(C983,Sheet2!A:G,4,FALSE))","v":""},null,null,{"$f":"IF(OR(C983=\"\",ISBLANK(C983)),\"\",VLOOKUP(C983,Sheet2!A:F,3,FALSE))","v":""},{"$f":"IF(OR(C983=\"\",ISBLANK(C983)),\"\",VLOOKUP(C983,Sheet2!A:G,6,FALSE))","v":""},""]
[{"$f":"IF(OR(C984=\"\",ISBLANK(C984)),\"\",VLOOKUP(C984,Sheet2!A:F,2,FALSE))","v":""},{"$f":"IF(OR(C984=\"\",ISBLANK(C984)),\"\",VLOOKUP(C984,Sheet2!A:G,4,FALSE))","v":""},null,null,{"$f":"IF(OR(C984=\"\",ISBLANK(C984)),\"\",VLOOKUP(C984,Sheet2!A:F,3,FALSE))","v":""},{"$f":"IF(OR(C984=\"\",ISBLANK(C984)),\"\",VLOOKUP(C984,Sheet2!A:G,6,FALSE))","v":""},""]
[{"$f":"IF(OR(C985=\"\",ISBLANK(C985)),\"\",VLOOKUP(C985,Sheet2!A:F,2,FALSE))","v":""},{"$f":"IF(OR(C985=\"\",ISBLANK(C985)),\"\",VLOOKUP(C985,Sheet2!A:G,4,FALSE))","v":""},null,null,{"$f":"IF(OR(C985=\"\",ISBLANK(C985)),\"\",VLOOKUP(C985,Sheet2!A:F,3,FALSE))","v":""},{"$f":"IF(OR(C985=\"\",ISBLANK(C985)),\"\",VLOOKUP(C985,Sheet2!A:G,6,FALSE))","v":""},""]
[{"$f":"IF(OR(C986=\"\",ISBLANK(C986)),\"\",VLOOKUP(C986,Sheet2!A:F,2,FALSE))","v":""},{"$f":"IF(OR(C986=\"\",ISBLANK(C986)),\"\",VLOOKUP(C986,Sheet2!A:G,4,FALSE))","v":""},null,null,{"$f":"IF(OR(C986=\"\",ISBLANK(C986)),\"\",VLOOKUP(C986,Sheet2!A:F,3,FALSE))","v":""},{"$f":"IF(OR(C986=\"\",ISBLANK(C986)),\"\",VLOOKUP(C986,Sheet2!A:G,6,FALSE))","v":""},""]
[{"$f":"IF(OR(C987=\"\",ISBLANK(C987)),\"\",VLOOKUP(C987,Sheet2!A:F,2,FALSE))","v":""},{"$f":"IF(OR(C987=\"\",ISBLANK(C987)),\"\",VLOOKUP(C987,Sheet2!A:G,4,FALSE))","v":""},null,null,{"$f":"IF(OR(C987=\"\",ISBLANK(C987)),\"\",VLOOKUP(C987,Sheet2!A:F,3,FALSE))","v":""},{"$f":"IF(OR(C987=\"\",ISBLANK(C987)),\"\",VLOOKUP(C987,Sheet2!A:G,6,FALSE))","v":""},""]
[{"$f":"IF(OR(C988=\"\",ISBLANK(C988)),\"\",VLOOKUP(C988,Sheet2!A:F,2,FALSE))","v":""},{"$f":"IF(OR(C988=\"\",ISBLANK(C988)),\"\",VLOOKUP(C988,Sheet2!A:G,4,FALSE))","v":""},null,null,{"$f":"IF(OR(C988=\"\",ISBLANK(C988)),\"\",VLOOKUP(C988,Sheet2!A:F,3,FALSE))","v":""},{"$f":"IF(OR(C988=\"\",ISBLANK(C988)),\"\",VLOOKUP(C988,Sheet2!A:G,6,FALSE))","v":""},""]
[{"$f":"IF(OR(C989=\"\",ISBLANK(C989)),\"\",VLOOKUP(C989,Sheet2!A:F,2,FALSE))","v":""},{"$f":"IF(OR(C989=\"\",ISBLANK(C989)),\"\",VLOOKUP(C989,Sheet2!A:G,4,FALSE))","v":""},null,null,{"$f":"IF(OR(C989=\"\",ISBLANK(C989)),\"\",VLOOKUP(C989,Sheet2!A:F,3,FALSE))","v":""},{"$f":"IF(OR(C989=\"\",ISBLANK(C989)),\"\",VLOOKUP(C989,Sheet2!A:G,6,FALSE))","v":""},""]
[{"$f":"IF(OR(C990=\"\",ISBLANK(C990)),\"\",VLOOKUP(C990,Sheet2!A:F,2,FALSE))","v":""},{"$f":"IF(OR(C990=\"\",ISBLANK(C990)),\"\",VLOOKUP(C990,Sheet2!A:G,4,FALSE))","v":""},null,null,{"$f":"IF(OR(C990=\"\",ISBLANK(C990)),\"\",VLOOKUP(C990,Sheet2!A:F,3,FALSE))","v":""},{"$f":"IF(OR(C990=\"\",ISBLANK(C990)),\"\",VLOOKUP(C990,Sheet2!A:G,6,FALSE))","v":""},""]
[{"$f":"IF(OR(C991=\"\",ISBLANK(C991)),\"\",VLOOKUP(C991,Sheet2!A:F,2,FALSE))","v":""},{"$f":"IF(OR(C991=\"\",ISBLANK(C991)),\"\",VLOOKUP(C991,Sheet2!A:G,4,FALSE))","v":""},null,null,{"$f":"IF(OR(C991=\"\",ISBLANK(C991)),\"\",VLOOKUP(C991,Sheet2!A:F,3,FALSE))","v":""},{"$f":"IF(OR(C991=\"\",ISBLANK(C991)),\"\",VLOOKUP(C991,Sheet2!A:G,6,FALSE))","v":""},""]
[{"$f":"IF(OR(C992=\"\",ISBLANK(C992)),\"\",VLOOKUP(C992,Sheet2!A:F,2,FALSE))","v":""},{"$f":"IF(OR(C992=\"\",ISBLANK(C992)),\"\",VLOOKUP(C992,Sheet2!A:G,4,FALSE))","v":""},null,null,{"$f":"IF(OR(C992=\"\",ISBLANK(C992)),\"\",VLOOKUP(C992,Sheet2!A:F,3,FALSE))","v":""},{"$f":"IF(OR(C992=\"\",ISBLANK(C992)),\"\",VLOOKUP(C992,Sheet2!A:G,6,FALSE))","v":""},""]
[{"$f":"IF(OR(C993=\"\",ISBLANK(C993)),\"\",VLOOKUP(C993,Sheet2!A:F,2,FALSE))","v":""},{"$f":"IF(OR(C993=\"\",ISBLANK(C993)),\"\",VLOOKUP(C993,Sheet2!A:G,4,FALSE))","v":""},null,null,{"$f":"IF(OR(C993=\"\",ISBLANK(C993)),\"\",VLOOKUP(C993,Sheet2!A:F,3,FALSE))","v":""},{"$f":"IF(OR(C993=\"\",ISBLANK(C993)),\"\",VLOOKUP(C993,Sheet2!A:G,6,FALSE))","v":""},""]
[{"$f":"IF(OR(C994=\"\",ISBLANK(C994)),\"\",VLOOKUP(C994,Sheet2!A:F,2,FALSE))","v":""},{"$f":"IF(OR(C994=\"\",ISBLANK(C994)),\"\",VLOOKUP(C994,Sheet2!A:G,4,FALSE))","v":""},null,null,{"$f":"IF(OR(C994=\"\",ISBLANK(C994)),\"\",VLOOKUP(C994,Sheet2!A:F,3,FALSE))","v":""},{"$f":"IF(OR(C994=\"\",ISBLANK(C994)),\"\",VLOOKUP(C994,Sheet2!A:G,6,FALSE))","v":""},""]
[{"$f":"IF(OR(C995=\"\",ISBLANK(C995)),\"\",VLOOKUP(C995,Sheet2!A:F,2,FALSE))","v":""},{"$f":"IF(OR(C995=\"\",ISBLANK(C995)),\"\",VLOOKUP(C995,Sheet2!A:G,4,FALSE))","v":""},null,null,{"$f":"IF(OR(C995=\"\",ISBLANK(C995)),\"\",VLOOKUP(C995,Sheet2!A:F,3,FALSE))","v":""},{"$f":"IF(OR(C995=\"\",ISBLANK(C995)),\"\",VLOOKUP(C995,Sheet2!A:G,6,FALSE))","v":""},""]
[{"$f":"IF(OR(C996=\"\",ISBLANK(C996)),\"\",VLOOKUP(C996,Sheet2!A:F,2,FALSE))","v":""},{"$f":"IF(OR(C996=\"\",ISBLANK(C996)),\"\",VLOOKUP(C996,Sheet2!A:G,4,FALSE))","v":""},null,null,{"$f":"IF(OR(C996=\"\",ISBLANK(C996)),\"\",VLOOKUP(C996,Sheet2!A:F,3,FALSE))","v":""},{"$f":"IF(OR(C996=\"\",ISBLANK(C996)),\"\",VLOOKUP(C996,Sheet2!A:G,6,FALSE))","v":""},""]
[{"$f":"IF(OR(C997=\"\",ISBLANK(C997)),\"\",VLOOKUP(C997,Sheet2!A:F,2,FALSE))","v":""},{"$f":"IF(OR(C997=\"\",ISBLANK(C997)),\"\",VLOOKUP(C997,Sheet2!A:G,4,FALSE))","v":""},null,null,{"$f":"IF(OR(C997=\"\",ISBLANK(C997)),\"\",VLOOKUP(C997,Sheet2!A:F,3,FALSE))","v":""},{"$f":"IF(OR(C997=\"\",ISBLANK(C997)),\"\",VLOOKUP(C997,Sheet2!A:G,6,FALSE))","v":""},""]
[{"$f":"IF(OR(C998=\"\",ISBLANK(C998)),\"\",VLOOKUP(C998,Sheet2!A:F,2,FALSE))","v":""},{"$f":"IF(OR(C998=\"\",ISBLANK(C998)),\"\",VLOOKUP(C998,Sheet2!A:G,4,FALSE))","v":""},null,null,{"$f":"IF(OR(C998=\"\",ISBLANK(C998)),\"\",VLOOKUP(C998,Sheet2!A:F,3,FALSE))","v":""},{"$f":"IF(OR(C998=\"\",ISBLANK(C998)),\"\",VLOOKUP(C998,Sheet2!A:G,6,FALSE))","v":""},""]
[{"$f":"IF(OR(C999=\"\",ISBLANK(C999)),\"\",VLOOKUP(C999,Sheet2!A:F,2,FALSE))","v":""},{"$f":"IF(OR(C999=\"\",ISBLANK(C999)),\"\",VLOOKUP(C999,Sheet2!A:G,4,FALSE))","v":""},null,null,{"$f":"IF(OR(C999=\"\",ISBLANK(C999)),\"\",VLOOKUP(C999,Sheet2!A:F,3,FALSE))","v":""},{"$f":"IF(OR(C999=\"\",ISBLANK(C999)),\"\",VLOOKUP(C999,Sheet2!A:G,6,FALSE))","v":""},""]
[{"$f":"IF(OR(C1000=\"\",ISBLANK(C1000)),\"\",VLOOKUP(C1000,Sheet2!A:F,2,FALSE))","v":""},{"$f":"IF(OR(C1000=\"\",ISBLANK(C1000)),\"\",VLOOKUP(C1000,Sheet2!A:G,4,FALSE))","v":""},null,null,{"$f":"IF(OR(C1000=\"\",ISBLANK(C1000)),\"\",VLOOKUP(C1000,Sheet2!A:F,3,FALSE))","v":""},{"$f":"IF(OR(C1000=\"\",ISBLANK(C1000)),\"\",VLOOKUP(C1000,Sheet2!A:G,6,FALSE))","v":""},""]
[{"$f":"IF(OR(C1001=\"\",ISBLANK(C1001)),\"\",VLOOKUP(C1001,Sheet2!A:F,2,FALSE))","v":""},{"$f":"IF(OR(C1001=\"\",ISBLANK(C1001)),\"\",VLOOKUP(C1001,Sheet2!A:G,4,FALSE))","v":""},null,null,{"$f":"IF(OR(C1001=\"\",ISBLANK(C1001)),\"\",VLOOKUP(C1001,Sheet2!A:F,3,FALSE))","v":""},{"$f":"IF(OR(C1001=\"\",ISBLANK(C1001)),\"\",VLOOKUP(C1001,Sheet2!A:G,6,FALSE))","v":""},""]
[{"$f":"IF(OR(C1002=\"\",ISBLANK(C1002)),\"\",VLOOKUP(C1002,Sheet2!A:F,2,FALSE))","v":""},{"$f":"IF(OR(C1002=\"\",ISBLANK(C1002)),\"\",VLOOKUP(C1002,Sheet2!A:G,4,FALSE))","v":""},null,null,{"$f":"IF(OR(C1002=\"\",ISBLANK(C1002)),\"\",VLOOKUP(C1002,Sheet2!A:F,3,FALSE))","v":""},{"$f":"IF(OR(C1002=\"\",ISBLANK(C1002)),\"\",VLOOKUP(C1002,Sheet2!A:G,6,FALSE))","v":""},""]
[{"$f":"IF(OR(C1003=\"\",ISBLANK(C1003)),\"\",VLOOKUP(C1003,Sheet2!A:F,2,FALSE))","v":""},{"$f":"IF(OR(C1003=\"\",ISBLANK(C1003)),\"\",VLOOKUP(C1003,Sheet2!A:G,4,FALSE))","v":""},null,null,{"$f":"IF(OR(C1003=\"\",ISBLANK(C1003)),\"\",VLOOKUP(C1003,Sheet2!A:F,3,FALSE))","v":""},{"$f":"IF(OR(C1003=\"\",ISBLANK(C1003)),\"\",VLOOKUP(C1003,Sheet2!A:G,6,FALSE))","v":""},""]
[{"$f":"IF(OR(C1004=\"\",ISBLANK(C1004)),\"\",VLOOKUP(C1004,Sheet2!A:F,2,FALSE))","v":""},{"$f":"IF(OR(C1004=\"\",ISBLANK(C1004)),\"\",VLOOKUP(C1004,Sheet2!A:G,4,FALSE))","v":""},null,null,{"$f":"IF(OR(C1004=\"\",ISBLANK(C1004)),\"\",VLOOKUP(C1004,Sheet2!A:F,3,FALSE))","v":""},{"$f":"IF(OR(C1004=\"\",ISBLANK(C1004)),\"\",VLOOKUP(C1004,Sheet2!A:G,6,FALSE))","v":""},""]
[{"$f":"IF(OR(C1005=\"\",ISBLANK(C1005)),\"\",VLOOKUP(C1005,Sheet2!A:F,2,FALSE))","v":""},{"$f":"IF(OR(C1005=\"\",ISBLANK(C1005)),\"\",VLOOKUP(C1005,Sheet2!A:G,4,FALSE))","v":""},null,null,{"$f":"IF(OR(C1005=\"\",ISBLANK(C1005)),\"\",VLOOKUP(C1005,Sheet2!A:F,3,FALSE))","v":""},{"$f":"IF(OR(C1005=\"\",ISBLANK(C1005)),\"\",VLOOKUP(C1005,Sheet2!A:G,6,FALSE))","v":""},""]
[{"$f":"IF(OR(C1006=\"\",ISBLANK(C1006)),\"\",VLOOKUP(C1006,Sheet2!A:F,2,FALSE))","v":""},{"$f":"IF(OR(C1006=\"\",ISBLANK(C1006)),\"\",VLOOKUP(C1006,Sheet2!A:G,4,FALSE))","v":""},null,null,{"$f":"IF(OR(C1006=\"\",ISBLANK(C1006)),\"\",VLOOKUP(C1006,Sheet2!A:F,3,FALSE))","v":""},{"$f":"IF(OR(C1006=\"\",ISBLANK(C1006)),\"\",VLOOKUP(C1006,Sheet2!A:G,6,FALSE))","v":""},""]
[{"$f":"IF(OR(C1007=\"\",ISBLANK(C1007)),\"\",VLOOKUP(C1007,Sheet2!A:F,2,FALSE))","v":""},{"$f":"IF(OR(C1007=\"\",ISBLANK(C1007)),\"\",VLOOKUP(C1007,Sheet2!A:G,4,FALSE))","v":""},null,null,{"$f":"IF(OR(C1007=\"\",ISBLANK(C1007)),\"\",VLOOKUP(C1007,Sheet2!A:F,3,FALSE))","v":""},{"$f":"IF(OR(C1007=\"\",ISBLANK(C1007)),\"\",VLOOKUP(C1007,Sheet2!A:G,6,FALSE))","v":""},""]
[{"$f":"IF(OR(C1008=\"\",ISBLANK(C1008)),\"\",VLOOKUP(C1008,Sheet2!A:F,2,FALSE))","v":""},{"$f":"IF(OR(C1008=\"\",ISBLANK(C1008)),\"\",VLOOKUP(C1008,Sheet2!A:G,4,FALSE))","v":""},null,null,{"$f":"IF(OR(C1008=\"\",ISBLANK(C1008)),\"\",VLOOKUP(C1008,Sheet2!A:F,3,FALSE))","v":""},{"$f":"IF(OR(C1008=\"\",ISBLANK(C1008)),\"\",VLOOKUP(C1008,Sheet2!A:G,6,FALSE))","v":""},""]
[{"$f":"IF(OR(C1009=\"\",ISBLANK(C1009)),\"\",VLOOKUP(C1009,Sheet2!A:F,2,FALSE))","v":""},{"$f":"IF(OR(C1009=\"\",ISBLANK(C1009)),\"\",VLOOKUP(C1009,Sheet2!A:G,4,FALSE))","v":""},null,null,{"$f":"IF(OR(C1009=\"\",ISBLANK(C1009)),\"\",VLOOKUP(C1009,Sheet2!A:F,3,FALSE))","v":""},{"$f":"IF(OR(C1009=\"\",ISBLANK(C1009)),\"\",VLOOKUP(C1009,Sheet2!A:G,6,FALSE))","v":""},""]
[{"$f":"IF(OR(C1010=\"\",ISBLANK(C1010)),\"\",VLOOKUP(C1010,Sheet2!A:F,2,FALSE))","v":""},{"$f":"IF(OR(C1010=\"\",ISBLANK(C1010)),\"\",VLOOKUP(C1010,Sheet2!A:G,4,FALSE))","v":""},null,null,{"$f":"IF(OR(C1010=\"\",ISBLANK(C1010)),\"\",VLOOKUP(C1010,Sheet2!A:F,3,FALSE))","v":""},{"$f":"IF(OR(C1010=\"\",ISBLANK(C1010)),\"\",VLOOKUP(C1010,Sheet2!A:G,6,FALSE))","v":""},""]
[{"$f":"IF(OR(C1011=\"\",ISBLANK(C1011)),\"\",VLOOKUP(C1011,Sheet2!A:F,2,FALSE))","v":""},{"$f":"IF(OR(C1011=\"\",ISBLANK(C1011)),\"\",VLOOKUP(C1011,Sheet2!A:G,4,FALSE))","v":""},null,null,{"$f":"IF(OR(C1011=\"\",ISBLANK(C1011)),\"\",VLOOKUP(C1011,Sheet2!A:F,3,FALSE))","v":""},{"$f":"IF(OR(C1011=\"\",ISBLANK(C1011)),\"\",VLOOKUP(C1011,Sheet2!A:G,6,FALSE))","v":""},""]
[{"$f":"IF(OR(C1012=\"\",ISBLANK(C1012)),\"\",VLOOKUP(C1012,Sheet2!A:F,2,FALSE))","v":""},{"$f":"IF(OR(C1012=\"\",ISBLANK(C1012)),\"\",VLOOKUP(C1012,Sheet2!A:G,4,FALSE))","v":""},null,null,{"$f":"IF(OR(C1012=\"\",ISBLANK(C1012)),\"\",VLOOKUP(C1012,Sheet2!A:F,3,FALSE))","v":""},{"$f":"IF(OR(C1012=\"\",ISBLANK(C1012)),\"\",VLOOKUP(C1012,Sheet2!A:G,6,FALSE))","v":""},""]
[{"$f":"IF(OR(C1013=\"\",ISBLANK(C1013)),\"\",VLOOKUP(C1013,Sheet2!A:F,2,FALSE))","v":""},{"$f":"IF(OR(C1013=\"\",ISBLANK(C1013)),\"\",VLOOKUP(C1013,Sheet2!A:G,4,FALSE))","v":""},null,null,{"$f":"IF(OR(C1013=\"\",ISBLANK(C1013)),\"\",VLOOKUP(C1013,Sheet2!A:F,3,FALSE))","v":""},{"$f":"IF(OR(C1013=\"\",ISBLANK(C1013)),\"\",VLOOKUP(C1013,Sheet2!A:G,6,FALSE))","v":""},""]
[{"$f":"IF(OR(C1014=\"\",ISBLANK(C1014)),\"\",VLOOKUP(C1014,Sheet2!A:F,2,FALSE))","v":""},{"$f":"IF(OR(C1014=\"\",ISBLANK(C1014)),\"\",VLOOKUP(C1014,Sheet2!A:G,4,FALSE))","v":""},null,null,{"$f":"IF(OR(C1014=\"\",ISBLANK(C1014)),\"\",VLOOKUP(C1014,Sheet2!A:F,3,FALSE))","v":""},{"$f":"IF(OR(C1014=\"\",ISBLANK(C1014)),\"\",VLOOKUP(C1014,Sheet2!A:G,6,FALSE))","v":""},""]
[{"$f":"IF(OR(C1015=\"\",ISBLANK(C1015)),\"\",VLOOKUP(C1015,Sheet2!A:F,2,FALSE))","v":""},{"$f":"IF(OR(C1015=\"\",ISBLANK(C1015)),\"\",VLOOKUP(C1015,Sheet2!A:G,4,FALSE))","v":""},null,null,{"$f":"IF(OR(C1015=\"\",ISBLANK(C1015)),\"\",VLOOKUP(C1015,Sheet2!A:F,3,FALSE))","v":""},{"$f":"IF(OR(C1015=\"\",ISBLANK(C1015)),\"\",VLOOKUP(C1015,Sheet2!A:G,6,FALSE))","v":""},""]
[{"$f":"IF(OR(C1016=\"\",ISBLANK(C1016)),\"\",VLOOKUP(C1016,Sheet2!A:F,2,FALSE))","v":""},{"$f":"IF(OR(C1016=\"\",ISBLANK(C1016)),\"\",VLOOKUP(C1016,Sheet2!A:G,4,FALSE))","v":""},null,null,{"$f":"IF(OR(C1016=\"\",ISBLANK(C1016)),\"\",VLOOKUP(C1016,Sheet2!A:F,3,FALSE))","v":""},{"$f":"IF(OR(C1016=\"\",ISBLANK(C1016)),\"\",VLOOKUP(C1016,Sheet2!A:G,6,FALSE))","v":""},""]
[{"$f":"IF(OR(C1017=\"\",ISBLANK(C1017)),\"\",VLOOKUP(C1017,Sheet2!A:F,2,FALSE))","v":""},{"$f":"IF(OR(C1017=\"\",ISBLANK(C1017)),\"\",VLOOKUP(C1017,Sheet2!A:G,4,FALSE))","v":""},null,null,{"$f":"IF(OR(C1017=\"\",ISBLANK(C1017)),\"\",VLOOKUP(C1017,Sheet2!A:F,3,FALSE))","v":""},{"$f":"IF(OR(C1017=\"\",ISBLANK(C1017)),\"\",VLOOKUP(C1017,Sheet2!A:G,6,FALSE))","v":""},""]
[{"$f":"IF(OR(C1018=\"\",ISBLANK(C1018)),\"\",VLOOKUP(C1018,Sheet2!A:F,2,FALSE))","v":""},{"$f":"IF(OR(C1018=\"\",ISBLANK(C1018)),\"\",VLOOKUP(C1018,Sheet2!A:G,4,FALSE))","v":""},null,null,{"$f":"IF(OR(C1018=\"\",ISBLANK(C1018)),\"\",VLOOKUP(C1018,Sheet2!A:F,3,FALSE))","v":""},{"$f":"IF(OR(C1018=\"\",ISBLANK(C1018)),\"\",VLOOKUP(C1018,Sheet2!A:G,6,FALSE))","v":""},""]
[{"$f":"IF(OR(C1019=\"\",ISBLANK(C1019)),\"\",VLOOKUP(C1019,Sheet2!A:F,2,FALSE))","v":""},{"$f":"IF(OR(C1019=\"\",ISBLANK(C1019)),\"\",VLOOKUP(C1019,Sheet2!A:G,4,FALSE))","v":""},null,null,{"$f":"IF(OR(C1019=\"\",ISBLANK(C1019)),\"\",VLOOKUP(C1019,Sheet2!A:F,3,FALSE))","v":""},{"$f":"IF(OR(C1019=\"\",ISBLANK(C1019)),\"\",VLOOKUP(C1019,Sheet2!A:G,6,FALSE))","v":""},""]
[{"$f":"IF(OR(C1020=\"\",ISBLANK(C1020)),\"\",VLOOKUP(C1020,Sheet2!A:F,2,FALSE))","v":""},{"$f":"IF(OR(C1020=\"\",ISBLANK(C1020)),\"\",VLOOKUP(C1020,Sheet2!A:G,4,FALSE))","v":""},null,null,{"$f":"IF(OR(C1020=\"\",ISBLANK(C1020)),\"\",VLOOKUP(C1020,Sheet2!A:F,3,FALSE))","v":""},{"$f":"IF(OR(C1020=\"\",ISBLANK(C1020)),\"\",VLOOKUP(C1020,Sheet2!A:G,6,FALSE))","v":""},""]
[{"$f":"IF(OR(C1021=\"\",ISBLANK(C1021)),\"\",VLOOKUP(C1021,Sheet2!A:F,2,FALSE))","v":""},{"$f":"IF(OR(C1021=\"\",ISBLANK(C1021)),\"\",VLOOKUP(C1021,Sheet2!A:G,4,FALSE))","v":""},null,null,{"$f":"IF(OR(C1021=\"\",ISBLANK(C1021)),\"\",VLOOKUP(C1021,Sheet2!A:F,3,FALSE))","v":""},{"$f":"IF(OR(C1021=\"\",ISBLANK(C1021)),\"\",VLOOKUP(C1021,Sheet2!A:G,6,FALSE))","v":""},""]
[{"$f":"IF(OR(C1022=\"\",ISBLANK(C1022)),\"\",VLOOKUP(C1022,Sheet2!A:F,2,FALSE))","v":""},{"$f":"IF(OR(C1022=\"\",ISBLANK(C1022)),\"\",VLOOKUP(C1022,Sheet2!A:G,4,FALSE))","v":""},null,null,{"$f":"IF(OR(C1022=\"\",ISBLANK(C1022)),\"\",VLOOKUP(C1022,Sheet2!A:F,3,FALSE))","v":""},{"$f":"IF(OR(C1022=\"\",ISBLANK(C1022)),\"\",VLOOKUP(C1022,Sheet2!A:G,6,FALSE))","v":""},""]
[{"$f":"IF(OR(C1023=\"\",ISBLANK(C1023)),\"\",VLOOKUP(C1023,Sheet2!A:F,2,FALSE))","v":""},{"$f":"IF(OR(C1023=\"\",ISBLANK(C1023)),\"\",VLOOKUP(C1023,Sheet2!A:G,4,FALSE))","v":""},null,null,{"$f":"IF(OR(C1023=\"\",ISBLANK(C1023)),\"\",VLOOKUP(C1023,Sheet2!A:F,3,FALSE))","v":""},{"$f":"IF(OR(C1023=\"\",ISBLANK(C1023)),\"\",VLOOKUP(C1023,Sheet2!A:G,6,FALSE))","v":""},""]
[{"$f":"IF(OR(C1024=\"\",ISBLANK(C1024)),\"\",VLOOKUP(C1024,Sheet2!A:F,2,FALSE))","v":""},{"$f":"IF(OR(C1024=\"\",ISBLANK(C1024)),\"\",VLOOKUP(C1024,Sheet2!A:G,4,FALSE))","v":""},null,null,{"$f":"IF(OR(C1024=\"\",ISBLANK(C1024)),\"\",VLOOKUP(C1024,Sheet2!A:F,3,FALSE))","v":""},{"$f":"IF(OR(C1024=\"\",ISBLANK(C1024)),\"\",VLOOKUP(C1024,Sheet2!A:G,6,FALSE))","v":""},""]
[{"$f":"IF(OR(C1025=\"\",ISBLANK(C1025)),\"\",VLOOKUP(C1025,Sheet2!A:F,2,FALSE))","v":""},{"$f":"IF(OR(C1025=\"\",ISBLANK(C1025)),\"\",VLOOKUP(C1025,Sheet2!A:G,4,FALSE))","v":""},null,null,{"$f":"IF(OR(C1025=\"\",ISBLANK(C1025)),\"\",VLOOKUP(C1025,Sheet2!A:F,3,FALSE))","v":""},{"$f":"IF(OR(C1025=\"\",ISBLANK(C1025)),\"\",VLOOKUP(C1025,Sheet2!A:G,6,FALSE))","v":""},""]
[{"$f":"IF(OR(C1026=\"\",ISBLANK(C1026)),\"\",VLOOKUP(C1026,Sheet2!A:F,2,FALSE))","v":""},{"$f":"IF(OR(C1026=\"\",ISBLANK(C1026)),\"\",VLOOKUP(C1026,Sheet2!A:G,4,FALSE))","v":""},null,null,{"$f":"IF(OR(C1026=\"\",ISBLANK(C1026)),\"\",VLOOKUP(C1026,Sheet2!A:F,3,FALSE))","v":""},{"$f":"IF(OR(C1026=\"\",ISBLANK(C1026)),\"\",VLOOKUP(C1026,Sheet2!A:G,6,FALSE))","v":""},""]
[{"$f":"IF(OR(C1027=\"\",ISBLANK(C1027)),\"\",VLOOKUP(C1027,Sheet2!A:F,2,FALSE))","v":""},{"$f":"IF(OR(C1027=\"\",ISBLANK(C1027)),\"\",VLOOKUP(C1027,Sheet2!A:G,4,FALSE))","v":""},null,null,{"$f":"IF(OR(C1027=\"\",ISBLANK(C1027)),\"\",VLOOKUP(C1027,Sheet2!A:F,3,FALSE))","v":""},{"$f":"IF(OR(C1027=\"\",ISBLANK(C1027)),\"\",VLOOKUP(C1027,Sheet2!A:G,6,FALSE))","v":""},{"$f":"IF(F1027=0,\"\",F1027)","v":""}]
[{"$f":"IF(OR(C1028=\"\",ISBLANK(C1028)),\"\",VLOOKUP(C1028,Sheet2!A:F,2,FALSE))","v":""},{"$f":"IF(OR(C1028=\"\",ISBLANK(C1028)),\"\",VLOOKUP(C1028,Sheet2!A:G,4,FALSE))","v":""},null,null,{"$f":"IF(OR(C1028=\"\",ISBLANK(C1028)),\"\",VLOOKUP(C1028,Sheet2!A:F,3,FALSE))","v":""},{"$f":"IF(OR(C1028=\"\",ISBLANK(C1028)),\"\",VLOOKUP(C1028,Sheet2!A:G,6,FALSE))","v":""},""]
[{"$f":"IF(OR(C1029=\"\",ISBLANK(C1029)),\"\",VLOOKUP(C1029,Sheet2!A:F,2,FALSE))","v":""},{"$f":"IF(OR(C1029=\"\",ISBLANK(C1029)),\"\",VLOOKUP(C1029,Sheet2!A:G,4,FALSE))","v":""},null,null,{"$f":"IF(OR(C1029=\"\",ISBLANK(C1029)),\"\",VLOOKUP(C1029,Sheet2!A:F,3,FALSE))","v":""},{"$f":"IF(OR(C1029=\"\",ISBLANK(C1029)),\"\",VLOOKUP(C1029,Sheet2!A:G,6,FALSE))","v":""},""]
[{"$f":"IF(OR(C1030=\"\",ISBLANK(C1030)),\"\",VLOOKUP(C1030,Sheet2!A:F,2,FALSE))","v":""},{"$f":"IF(OR(C1030=\"\",ISBLANK(C1030)),\"\",VLOOKUP(C1030,Sheet2!A:G,4,FALSE))","v":""},null,null,{"$f":"IF(OR(C1030=\"\",ISBLANK(C1030)),\"\",VLOOKUP(C1030,Sheet2!A:F,3,FALSE))","v":""},{"$f":"IF(OR(C1030=\"\",ISBLANK(C1030)),\"\",VLOOKUP(C1030,Sheet2!A:G,6,FALSE))","v":""},""]
[{"$f":"IF(OR(C1031=\"\",ISBLANK(C1031)),\"\",VLOOKUP(C1031,Sheet2!A:F,2,FALSE))","v":""},{"$f":"IF(OR(C1031=\"\",ISBLANK(C1031)),\"\",VLOOKUP(C1031,Sheet2!A:G,4,FALSE))","v":""},null,null,{"$f":"IF(OR(C1031=\"\",ISBLANK(C1031)),\"\",VLOOKUP(C1031,Sheet2!A:F,3,FALSE))","v":""},{"$f":"IF(OR(C1031=\"\",ISBLANK(C1031)),\"\",VLOOKUP(C1031,Sheet2!A:G,6,FALSE))","v":""},""]
[{"$f":"IF(OR(C1032=\"\",ISBLANK(C1032)),\"\",VLOOKUP(C1032,Sheet2!A:F,2,FALSE))","v":""},{"$f":"IF(OR(C1032=\"\",ISBLANK(C1032)),\"\",VLOOKUP(C1032,Sheet2!A:G,4,FALSE))","v":""},null,null,{"$f":"IF(OR(C1032=\"\",ISBLANK(C1032)),\"\",VLOOKUP(C1032,Sheet2!A:F,3,FALSE))","v":""},{"$f":"IF(OR(C1032=\"\",ISBLANK(C1032)),\"\",VLOOKUP(C1032,Sheet2!A:G,6,FALSE))","v":""},""]
[{"$f":"IF(OR(C1033=\"\",ISBLANK(C1033)),\"\",VLOOKUP(C1033,Sheet2!A:F,2,FALSE))","v":""},{"$f":"IF(OR(C1033=\"\",ISBLANK(C1033)),\"\",VLOOKUP(C1033,Sheet2!A:G,4,FALSE))","v":""},null,null,{"$f":"IF(OR(C1033=\"\",ISBLANK(C1033)),\"\",VLOOKUP(C1033,Sheet2!A:F,3,FALSE))","v":""},{"$f":"IF(OR(C1033=\"\",ISBLANK(C1033)),\"\",VLOOKUP(C1033,Sheet2!A:G,6,FALSE))","v":""},""]
[{"$f":"IF(OR(C1034=\"\",ISBLANK(C1034)),\"\",VLOOKUP(C1034,Sheet2!A:F,2,FALSE))","v":""},{"$f":"IF(OR(C1034=\"\",ISBLANK(C1034)),\"\",VLOOKUP(C1034,Sheet2!A:G,4,FALSE))","v":""},null,null,{"$f":"IF(OR(C1034=\"\",ISBLANK(C1034)),\"\",VLOOKUP(C1034,Sheet2!A:F,3,FALSE))","v":""},{"$f":"IF(OR(C1034=\"\",ISBLANK(C1034)),\"\",VLOOKUP(C1034,Sheet2!A:G,6,FALSE))","v":""},""]
[{"$f":"IF(OR(C1035=\"\",ISBLANK(C1035)),\"\",VLOOKUP(C1035,Sheet2!A:F,2,FALSE))","v":""},{"$f":"IF(OR(C1035=\"\",ISBLANK(C1035)),\"\",VLOOKUP(C1035,Sheet2!A:G,4,FALSE))","v":""},null,null,{"$f":"IF(OR(C1035=\"\",ISBLANK(C1035)),\"\",VLOOKUP(C1035,Sheet2!A:F,3,FALSE))","v":""},{"$f":"IF(OR(C1035=\"\",ISBLANK(C1035)),\"\",VLOOKUP(C1035,Sheet2!A:G,6,FALSE))","v":""},""]
[{"$f":"IF(OR(C1036=\"\",ISBLANK(C1036)),\"\",VLOOKUP(C1036,Sheet2!A:F,2,FALSE))","v":""},{"$f":"IF(OR(C1036=\"\",ISBLANK(C1036)),\"\",VLOOKUP(C1036,Sheet2!A:G,4,FALSE))","v":""},null,null,{"$f":"IF(OR(C1036=\"\",ISBLANK(C1036)),\"\",VLOOKUP(C1036,Sheet2!A:F,3,FALSE))","v":""},{"$f":"IF(OR(C1036=\"\",ISBLANK(C1036)),\"\",VLOOKUP(C1036,Sheet2!A:G,6,FALSE))","v":""},""]
[{"$f":"IF(OR(C1037=\"\",ISBLANK(C1037)),\"\",VLOOKUP(C1037,Sheet2!A:F,2,FALSE))","v":""},{"$f":"IF(OR(C1037=\"\",ISBLANK(C1037)),\"\",VLOOKUP(C1037,Sheet2!A:G,4,FALSE))","v":""},null,null,{"$f":"IF(OR(C1037=\"\",ISBLANK(C1037)),\"\",VLOOKUP(C1037,Sheet2!A:F,3,FALSE))","v":""},{"$f":"IF(OR(C1037=\"\",ISBLANK(C1037)),\"\",VLOOKUP(C1037,Sheet2!A:G,6,FALSE))","v":""},""]
[{"$f":"IF(OR(C1038=\"\",ISBLANK(C1038)),\"\",VLOOKUP(C1038,Sheet2!A:F,2,FALSE))","v":""},{"$f":"IF(OR(C1038=\"\",ISBLANK(C1038)),\"\",VLOOKUP(C1038,Sheet2!A:G,4,FALSE))","v":""},null,null,{"$f":"IF(OR(C1038=\"\",ISBLANK(C1038)),\"\",VLOOKUP(C1038,Sheet2!A:F,3,FALSE))","v":""},{"$f":"IF(OR(C1038=\"\",ISBLANK(C1038)),\"\",VLOOKUP(C1038,Sheet2!A:G,6,FALSE))","v":""},""]
[{"$f":"IF(OR(C1039=\"\",ISBLANK(C1039)),\"\",VLOOKUP(C1039,Sheet2!A:F,2,FALSE))","v":""},{"$f":"IF(OR(C1039=\"\",ISBLANK(C1039)),\"\",VLOOKUP(C1039,Sheet2!A:G,4,FALSE))","v":""},null,null,{"$f":"IF(OR(C1039=\"\",ISBLANK(C1039)),\"\",VLOOKUP(C1039,Sheet2!A:F,3,FALSE))","v":""},{"$f":"IF(OR(C1039=\"\",ISBLANK(C1039)),\"\",VLOOKUP(C1039,Sheet2!A:G,6,FALSE))","v":""},""]
[{"$f":"IF(OR(C1040=\"\",ISBLANK(C1040)),\"\",VLOOKUP(C1040,Sheet2!A:F,2,FALSE))","v":""},{"$f":"IF(OR(C1040=\"\",ISBLANK(C1040)),\"\",VLOOKUP(C1040,Sheet2!A:G,4,FALSE))","v":""},null,null,{"$f":"IF(OR(C1040=\"\",ISBLANK(C1040)),\"\",VLOOKUP(C1040,Sheet2!A:F,3,FALSE))","v":""},{"$f":"IF(OR(C1040=\"\",ISBLANK(C1040)),\"\",VLOOKUP(C1040,Sheet2!A:G,6,FALSE))","v":""},""]
[{"$f":"IF(OR(C1041=\"\",ISBLANK(C1041)),\"\",VLOOKUP(C1041,Sheet2!A:F,2,FALSE))","v":""},{"$f":"IF(OR(C1041=\"\",ISBLANK(C1041)),\"\",VLOOKUP(C1041,Sheet2!A:G,4,FALSE))","v":""},null,null,{"$f":"IF(OR(C1041=\"\",ISBLANK(C1041)),\"\",VLOOKUP(C1041,Sheet2!A:F,3,FALSE))","v":""},{"$f":"IF(OR(C1041=\"\",ISBLANK(C1041)),\"\",VLOOKUP(C1041,Sheet2!A:G,6,FALSE))","v":""},""]
[{"$f":"IF(OR(C1042=\"\",ISBLANK(C1042)),\"\",VLOOKUP(C1042,Sheet2!A:F,2,FALSE))","v":""},{"$f":"IF(OR(C1042=\"\",ISBLANK(C1042)),\"\",VLOOKUP(C1042,Sheet2!A:G,4,FALSE))","v":""},null,null,{"$f":"IF(OR(C1042=\"\",ISBLANK(C1042)),\"\",VLOOKUP(C1042,Sheet2!A:F,3,FALSE))","v":""},{"$f":"IF(OR(C1042=\"\",ISBLANK(C1042)),\"\",VLOOKUP(C1042,Sheet2!A:G,6,FALSE))","v":""},""]
[{"$f":"IF(OR(C1043=\"\",ISBLANK(C1043)),\"\",VLOOKUP(C1043,Sheet2!A:F,2,FALSE))","v":""},{"$f":"IF(OR(C1043=\"\",ISBLANK(C1043)),\"\",VLOOKUP(C1043,Sheet2!A:G,4,FALSE))","v":""},null,null,{"$f":"IF(OR(C1043=\"\",ISBLANK(C1043)),\"\",VLOOKUP(C1043,Sheet2!A:F,3,FALSE))","v":""},{"$f":"IF(OR(C1043=\"\",ISBLANK(C1043)),\"\",VLOOKUP(C1043,Sheet2!A:G,6,FALSE))","v":""},""]
[{"$f":"IF(OR(C1044=\"\",ISBLANK(C1044)),\"\",VLOOKUP(C1044,Sheet2!A:F,2,FALSE))","v":""},{"$f":"IF(OR(C1044=\"\",ISBLANK(C1044)),\"\",VLOOKUP(C1044,Sheet2!A:G,4,FALSE))","v":""},null,null,{"$f":"IF(OR(C1044=\"\",ISBLANK(C1044)),\"\",VLOOKUP(C1044,Sheet2!A:F,3,FALSE))","v":""},{"$f":"IF(OR(C1044=\"\",ISBLANK(C1044)),\"\",VLOOKUP(C1044,Sheet2!A:G,6,FALSE))","v":""},""]
[{"$f":"IF(OR(C1045=\"\",ISBLANK(C1045)),\"\",VLOOKUP(C1045,Sheet2!A:F,2,FALSE))","v":""},{"$f":"IF(OR(C1045=\"\",ISBLANK(C1045)),\"\",VLOOKUP(C1045,Sheet2!A:G,4,FALSE))","v":""},null,null,{"$f":"IF(OR(C1045=\"\",ISBLANK(C1045)),\"\",VLOOKUP(C1045,Sheet2!A:F,3,FALSE))","v":""},{"$f":"IF(OR(C1045=\"\",ISBLANK(C1045)),\"\",VLOOKUP(C1045,Sheet2!A:G,6,FALSE))","v":""},""]
[{"$f":"IF(OR(C1046=\"\",ISBLANK(C1046)),\"\",VLOOKUP(C1046,Sheet2!A:F,2,FALSE))","v":""},{"$f":"IF(OR(C1046=\"\",ISBLANK(C1046)),\"\",VLOOKUP(C1046,Sheet2!A:G,4,FALSE))","v":""},null,null,{"$f":"IF(OR(C1046=\"\",ISBLANK(C1046)),\"\",VLOOKUP(C1046,Sheet2!A:F,3,FALSE))","v":""},{"$f":"IF(OR(C1046=\"\",ISBLANK(C1046)),\"\",VLOOKUP(C1046,Sheet2!A:G,6,FALSE))","v":""},""]
[{"$f":"IF(OR(C1047=\"\",ISBLANK(C1047)),\"\",VLOOKUP(C1047,Sheet2!A:F,2,FALSE))","v":""},{"$f":"IF(OR(C1047=\"\",ISBLANK(C1047)),\"\",VLOOKUP(C1047,Sheet2!A:G,4,FALSE))","v":""},null,null,{"$f":"IF(OR(C1047=\"\",ISBLANK(C1047)),\"\",VLOOKUP(C1047,Sheet2!A:F,3,FALSE))","v":""},{"$f":"IF(OR(C1047=\"\",ISBLANK(C1047)),\"\",VLOOKUP(C1047,Sheet2!A:G,6,FALSE))","v":""},""]
[{"$f":"IF(OR(C1048=\"\",ISBLANK(C1048)),\"\",VLOOKUP(C1048,Sheet2!A:F,2,FALSE))","v":""},{"$f":"IF(OR(C1048=\"\",ISBLANK(C1048)),\"\",VLOOKUP(C1048,Sheet2!A:G,4,FALSE))","v":""},null,null,{"$f":"IF(OR(C1048=\"\",ISBLANK(C1048)),\"\",VLOOKUP(C1048,Sheet2!A:F,3,FALSE))","v":""},{"$f":"IF(OR(C1048=\"\",ISBLANK(C1048)),\"\",VLOOKUP(C1048,Sheet2!A:G,6,FALSE))","v":""},""]
[{"$f":"IF(OR(C1049=\"\",ISBLANK(C1049)),\"\",VLOOKUP(C1049,Sheet2!A:F,2,FALSE))","v":""},{"$f":"IF(OR(C1049=\"\",ISBLANK(C1049)),\"\",VLOOKUP(C1049,Sheet2!A:G,4,FALSE))","v":""},null,null,{"$f":"IF(OR(C1049=\"\",ISBLANK(C1049)),\"\",VLOOKUP(C1049,Sheet2!A:F,3,FALSE))","v":""},{"$f":"IF(OR(C1049=\"\",ISBLANK(C1049)),\"\",VLOOKUP(C1049,Sheet2!A:G,6,FALSE))","v":""},""]
[{"$f":"IF(OR(C1050=\"\",ISBLANK(C1050)),\"\",VLOOKUP(C1050,Sheet2!A:F,2,FALSE))","v":""},{"$f":"IF(OR(C1050=\"\",ISBLANK(C1050)),\"\",VLOOKUP(C1050,Sheet2!A:G,4,FALSE))","v":""},null,null,{"$f":"IF(OR(C1050=\"\",ISBLANK(C1050)),\"\",VLOOKUP(C1050,Sheet2!A:F,3,FALSE))","v":""},{"$f":"IF(OR(C1050=\"\",ISBLANK(C1050)),\"\",VLOOKUP(C1050,Sheet2!A:G,6,FALSE))","v":""},""]
[{"$f":"IF(OR(C1051=\"\",ISBLANK(C1051)),\"\",VLOOKUP(C1051,Sheet2!A:F,2,FALSE))","v":""},{"$f":"IF(OR(C1051=\"\",ISBLANK(C1051)),\"\",VLOOKUP(C1051,Sheet2!A:G,4,FALSE))","v":""},null,null,{"$f":"IF(OR(C1051=\"\",ISBLANK(C1051)),\"\",VLOOKUP(C1051,Sheet2!A:F,3,FALSE))","v":""},{"$f":"IF(OR(C1051=\"\",ISBLANK(C1051)),\"\",VLOOKUP(C1051,Sheet2!A:G,6,FALSE))","v":""},""]
[{"$f":"IF(OR(C1052=\"\",ISBLANK(C1052)),\"\",VLOOKUP(C1052,Sheet2!A:F,2,FALSE))","v":""},{"$f":"IF(OR(C1052=\"\",ISBLANK(C1052)),\"\",VLOOKUP(C1052,Sheet2!A:G,4,FALSE))","v":""},null,null,{"$f":"IF(OR(C1052=\"\",ISBLANK(C1052)),\"\",VLOOKUP(C1052,Sheet2!A:F,3,FALSE))","v":""},{"$f":"IF(OR(C1052=\"\",ISBLANK(C1052)),\"\",VLOOKUP(C1052,Sheet2!A:G,6,FALSE))","v":""},""]
[{"$f":"IF(OR(C1053=\"\",ISBLANK(C1053)),\"\",VLOOKUP(C1053,Sheet2!A:F,2,FALSE))","v":""},{"$f":"IF(OR(C1053=\"\",ISBLANK(C1053)),\"\",VLOOKUP(C1053,Sheet2!A:G,4,FALSE))","v":""},null,null,{"$f":"IF(OR(C1053=\"\",ISBLANK(C1053)),\"\",VLOOKUP(C1053,Sheet2!A:F,3,FALSE))","v":""},{"$f":"IF(OR(C1053=\"\",ISBLANK(C1053)),\"\",VLOOKUP(C1053,Sheet2!A:G,6,FALSE))","v":""},""]
[{"$f":"IF(OR(C1054=\"\",ISBLANK(C1054)),\"\",VLOOKUP(C1054,Sheet2!A:F,2,FALSE))","v":""},{"$f":"IF(OR(C1054=\"\",ISBLANK(C1054)),\"\",VLOOKUP(C1054,Sheet2!A:G,4,FALSE))","v":""},null,null,{"$f":"IF(OR(C1054=\"\",ISBLANK(C1054)),\"\",VLOOKUP(C1054,Sheet2!A:F,3,FALSE))","v":""},{"$f":"IF(OR(C1054=\"\",ISBLANK(C1054)),\"\",VLOOKUP(C1054,Sheet2!A:G,6,FALSE))","v":""},""]
[{"$f":"IF(OR(C1055=\"\",ISBLANK(C1055)),\"\",VLOOKUP(C1055,Sheet2!A:F,2,FALSE))","v":""},{"$f":"IF(OR(C1055=\"\",ISBLANK(C1055)),\"\",VLOOKUP(C1055,Sheet2!A:G,4,FALSE))","v":""},null,null,{"$f":"IF(OR(C1055=\"\",ISBLANK(C1055)),\"\",VLOOKUP(C1055,Sheet2!A:F,3,FALSE))","v":""},{"$f":"IF(OR(C1055=\"\",ISBLANK(C1055)),\"\",VLOOKUP(C1055,Sheet2!A:G,6,FALSE))","v":""},""]
[{"$f":"IF(OR(C1056=\"\",ISBLANK(C1056)),\"\",VLOOKUP(C1056,Sheet2!A:F,2,FALSE))","v":""},{"$f":"IF(OR(C1056=\"\",ISBLANK(C1056)),\"\",VLOOKUP(C1056,Sheet2!A:G,4,FALSE))","v":""},null,null,{"$f":"IF(OR(C1056=\"\",ISBLANK(C1056)),\"\",VLOOKUP(C1056,Sheet2!A:F,3,FALSE))","v":""},{"$f":"IF(OR(C1056=\"\",ISBLANK(C1056)),\"\",VLOOKUP(C1056,Sheet2!A:G,6,FALSE))","v":""},""]
[{"$f":"IF(OR(C1057=\"\",ISBLANK(C1057)),\"\",VLOOKUP(C1057,Sheet2!A:F,2,FALSE))","v":""},{"$f":"IF(OR(C1057=\"\",ISBLANK(C1057)),\"\",VLOOKUP(C1057,Sheet2!A:G,4,FALSE))","v":""},null,null,{"$f":"IF(OR(C1057=\"\",ISBLANK(C1057)),\"\",VLOOKUP(C1057,Sheet2!A:F,3,FALSE))","v":""},{"$f":"IF(OR(C1057=\"\",ISBLANK(C1057)),\"\",VLOOKUP(C1057,Sheet2!A:G,6,FALSE))","v":""},""]
[{"$f":"IF(OR(C1058=\"\",ISBLANK(C1058)),\"\",VLOOKUP(C1058,Sheet2!A:F,2,FALSE))","v":""},{"$f":"IF(OR(C1058=\"\",ISBLANK(C1058)),\"\",VLOOKUP(C1058,Sheet2!A:G,4,FALSE))","v":""},null,null,{"$f":"IF(OR(C1058=\"\",ISBLANK(C1058)),\"\",VLOOKUP(C1058,Sheet2!A:F,3,FALSE))","v":""},{"$f":"IF(OR(C1058=\"\",ISBLANK(C1058)),\"\",VLOOKUP(C1058,Sheet2!A:G,6,FALSE))","v":""},""]
[{"$f":"IF(OR(C1059=\"\",ISBLANK(C1059)),\"\",VLOOKUP(C1059,Sheet2!A:F,2,FALSE))","v":""},{"$f":"IF(OR(C1059=\"\",ISBLANK(C1059)),\"\",VLOOKUP(C1059,Sheet2!A:G,4,FALSE))","v":""},null,null,{"$f":"IF(OR(C1059=\"\",ISBLANK(C1059)),\"\",VLOOKUP(C1059,Sheet2!A:F,3,FALSE))","v":""},{"$f":"IF(OR(C1059=\"\",ISBLANK(C1059)),\"\",VLOOKUP(C1059,Sheet2!A:G,6,FALSE))","v":""},""]
[{"$f":"IF(OR(C1060=\"\",ISBLANK(C1060)),\"\",VLOOKUP(C1060,Sheet2!A:F,2,FALSE))","v":""},{"$f":"IF(OR(C1060=\"\",ISBLANK(C1060)),\"\",VLOOKUP(C1060,Sheet2!A:G,4,FALSE))","v":""},null,null,{"$f":"IF(OR(C1060=\"\",ISBLANK(C1060)),\"\",VLOOKUP(C1060,Sheet2!A:F,3,FALSE))","v":""},{"$f":"IF(OR(C1060=\"\",ISBLANK(C1060)),\"\",VLOOKUP(C1060,Sheet2!A:G,6,FALSE))","v":""},""]
[{"$f":"IF(OR(C1061=\"\",ISBLANK(C1061)),\"\",VLOOKUP(C1061,Sheet2!A:F,2,FALSE))","v":""},{"$f":"IF(OR(C1061=\"\",ISBLANK(C1061)),\"\",VLOOKUP(C1061,Sheet2!A:G,4,FALSE))","v":""},null,null,{"$f":"IF(OR(C1061=\"\",ISBLANK(C1061)),\"\",VLOOKUP(C1061,Sheet2!A:F,3,FALSE))","v":""},{"$f":"IF(OR(C1061=\"\",ISBLANK(C1061)),\"\",VLOOKUP(C1061,Sheet2!A:G,6,FALSE))","v":""},""]
[{"$f":"IF(OR(C1062=\"\",ISBLANK(C1062)),\"\",VLOOKUP(C1062,Sheet2!A:F,2,FALSE))","v":""},{"$f":"IF(OR(C1062=\"\",ISBLANK(C1062)),\"\",VLOOKUP(C1062,Sheet2!A:G,4,FALSE))","v":""},null,null,{"$f":"IF(OR(C1062=\"\",ISBLANK(C1062)),\"\",VLOOKUP(C1062,Sheet2!A:F,3,FALSE))","v":""},{"$f":"IF(OR(C1062=\"\",ISBLANK(C1062)),\"\",VLOOKUP(C1062,Sheet2!A:G,6,FALSE))","v":""},""]
[{"$f":"IF(OR(C1063=\"\",ISBLANK(C1063)),\"\",VLOOKUP(C1063,Sheet2!A:F,2,FALSE))","v":""},{"$f":"IF(OR(C1063=\"\",ISBLANK(C1063)),\"\",VLOOKUP(C1063,Sheet2!A:G,4,FALSE))","v":""},null,null,{"$f":"IF(OR(C1063=\"\",ISBLANK(C1063)),\"\",VLOOKUP(C1063,Sheet2!A:F,3,FALSE))","v":""},{"$f":"IF(OR(C1063=\"\",ISBLANK(C1063)),\"\",VLOOKUP(C1063,Sheet2!A:G,6,FALSE))","v":""},""]
[{"$f":"IF(OR(C1064=\"\",ISBLANK(C1064)),\"\",VLOOKUP(C1064,Sheet2!A:F,2,FALSE))","v":""},{"$f":"IF(OR(C1064=\"\",ISBLANK(C1064)),\"\",VLOOKUP(C1064,Sheet2!A:G,4,FALSE))","v":""},null,null,{"$f":"IF(OR(C1064=\"\",ISBLANK(C1064)),\"\",VLOOKUP(C1064,Sheet2!A:F,3,FALSE))","v":""},{"$f":"IF(OR(C1064=\"\",ISBLANK(C1064)),\"\",VLOOKUP(C1064,Sheet2!A:G,6,FALSE))","v":""},""]
[{"$f":"IF(OR(C1065=\"\",ISBLANK(C1065)),\"\",VLOOKUP(C1065,Sheet2!A:F,2,FALSE))","v":""},{"$f":"IF(OR(C1065=\"\",ISBLANK(C1065)),\"\",VLOOKUP(C1065,Sheet2!A:G,4,FALSE))","v":""},null,null,{"$f":"IF(OR(C1065=\"\",ISBLANK(C1065)),\"\",VLOOKUP(C1065,Sheet2!A:F,3,FALSE))","v":""},{"$f":"IF(OR(C1065=\"\",ISBLANK(C1065)),\"\",VLOOKUP(C1065,Sheet2!A:G,6,FALSE))","v":""},""]
[{"$f":"IF(OR(C1066=\"\",ISBLANK(C1066)),\"\",VLOOKUP(C1066,Sheet2!A:F,2,FALSE))","v":""},{"$f":"IF(OR(C1066=\"\",ISBLANK(C1066)),\"\",VLOOKUP(C1066,Sheet2!A:G,4,FALSE))","v":""},null,null,{"$f":"IF(OR(C1066=\"\",ISBLANK(C1066)),\"\",VLOOKUP(C1066,Sheet2!A:F,3,FALSE))","v":""},{"$f":"IF(OR(C1066=\"\",ISBLANK(C1066)),\"\",VLOOKUP(C1066,Sheet2!A:G,6,FALSE))","v":""},""]
[{"$f":"IF(OR(C1067=\"\",ISBLANK(C1067)),\"\",VLOOKUP(C1067,Sheet2!A:F,2,FALSE))","v":""},{"$f":"IF(OR(C1067=\"\",ISBLANK(C1067)),\"\",VLOOKUP(C1067,Sheet2!A:G,4,FALSE))","v":""},null,null,{"$f":"IF(OR(C1067=\"\",ISBLANK(C1067)),\"\",VLOOKUP(C1067,Sheet2!A:F,3,FALSE))","v":""},{"$f":"IF(OR(C1067=\"\",ISBLANK(C1067)),\"\",VLOOKUP(C1067,Sheet2!A:G,6,FALSE))","v":""},""]
[{"$f":"IF(OR(C1068=\"\",ISBLANK(C1068)),\"\",VLOOKUP(C1068,Sheet2!A:F,2,FALSE))","v":""},{"$f":"IF(OR(C1068=\"\",ISBLANK(C1068)),\"\",VLOOKUP(C1068,Sheet2!A:G,4,FALSE))","v":""},null,null,{"$f":"IF(OR(C1068=\"\",ISBLANK(C1068)),\"\",VLOOKUP(C1068,Sheet2!A:F,3,FALSE))","v":""},{"$f":"IF(OR(C1068=\"\",ISBLANK(C1068)),\"\",VLOOKUP(C1068,Sheet2!A:G,6,FALSE))","v":""},""]
[{"$f":"IF(OR(C1069=\"\",ISBLANK(C1069)),\"\",VLOOKUP(C1069,Sheet2!A:F,2,FALSE))","v":""},{"$f":"IF(OR(C1069=\"\",ISBLANK(C1069)),\"\",VLOOKUP(C1069,Sheet2!A:G,4,FALSE))","v":""},null,null,{"$f":"IF(OR(C1069=\"\",ISBLANK(C1069)),\"\",VLOOKUP(C1069,Sheet2!A:F,3,FALSE))","v":""},{"$f":"IF(OR(C1069=\"\",ISBLANK(C1069)),\"\",VLOOKUP(C1069,Sheet2!A:G,6,FALSE))","v":""},""]
[{"$f":"IF(OR(C1070=\"\",ISBLANK(C1070)),\"\",VLOOKUP(C1070,Sheet2!A:F,2,FALSE))","v":""},{"$f":"IF(OR(C1070=\"\",ISBLANK(C1070)),\"\",VLOOKUP(C1070,Sheet2!A:G,4,FALSE))","v":""},null,null,{"$f":"IF(OR(C1070=\"\",ISBLANK(C1070)),\"\",VLOOKUP(C1070,Sheet2!A:F,3,FALSE))","v":""},{"$f":"IF(OR(C1070=\"\",ISBLANK(C1070)),\"\",VLOOKUP(C1070,Sheet2!A:G,6,FALSE))","v":""},""]
[{"$f":"IF(OR(C1071=\"\",ISBLANK(C1071)),\"\",VLOOKUP(C1071,Sheet2!A:F,2,FALSE))","v":""},{"$f":"IF(OR(C1071=\"\",ISBLANK(C1071)),\"\",VLOOKUP(C1071,Sheet2!A:G,4,FALSE))","v":""},null,null,{"$f":"IF(OR(C1071=\"\",ISBLANK(C1071)),\"\",VLOOKUP(C1071,Sheet2!A:F,3,FALSE))","v":""},{"$f":"IF(OR(C1071=\"\",ISBLANK(C1071)),\"\",VLOOKUP(C1071,Sheet2!A:G,6,FALSE))","v":""},""]
[{"$f":"IF(OR(C1072=\"\",ISBLANK(C1072)),\"\",VLOOKUP(C1072,Sheet2!A:F,2,FALSE))","v":""},{"$f":"IF(OR(C1072=\"\",ISBLANK(C1072)),\"\",VLOOKUP(C1072,Sheet2!A:G,4,FALSE))","v":""},null,null,{"$f":"IF(OR(C1072=\"\",ISBLANK(C1072)),\"\",VLOOKUP(C1072,Sheet2!A:F,3,FALSE))","v":""},{"$f":"IF(OR(C1072=\"\",ISBLANK(C1072)),\"\",VLOOKUP(C1072,Sheet2!A:G,6,FALSE))","v":""},""]
[{"$f":"IF(OR(C1073=\"\",ISBLANK(C1073)),\"\",VLOOKUP(C1073,Sheet2!A:F,2,FALSE))","v":""},{"$f":"IF(OR(C1073=\"\",ISBLANK(C1073)),\"\",VLOOKUP(C1073,Sheet2!A:G,4,FALSE))","v":""},null,null,{"$f":"IF(OR(C1073=\"\",ISBLANK(C1073)),\"\",VLOOKUP(C1073,Sheet2!A:F,3,FALSE))","v":""},{"$f":"IF(OR(C1073=\"\",ISBLANK(C1073)),\"\",VLOOKUP(C1073,Sheet2!A:G,6,FALSE))","v":""},""]
[{"$f":"IF(OR(C1074=\"\",ISBLANK(C1074)),\"\",VLOOKUP(C1074,Sheet2!A:F,2,FALSE))","v":""},{"$f":"IF(OR(C1074=\"\",ISBLANK(C1074)),\"\",VLOOKUP(C1074,Sheet2!A:G,4,FALSE))","v":""},null,null,{"$f":"IF(OR(C1074=\"\",ISBLANK(C1074)),\"\",VLOOKUP(C1074,Sheet2!A:F,3,FALSE))","v":""},{"$f":"IF(OR(C1074=\"\",ISBLANK(C1074)),\"\",VLOOKUP(C1074,Sheet2!A:G,6,FALSE))","v":""},""]
[{"$f":"IF(OR(C1075=\"\",ISBLANK(C1075)),\"\",VLOOKUP(C1075,Sheet2!A:F,2,FALSE))","v":""},{"$f":"IF(OR(C1075=\"\",ISBLANK(C1075)),\"\",VLOOKUP(C1075,Sheet2!A:G,4,FALSE))","v":""},null,null,{"$f":"IF(OR(C1075=\"\",ISBLANK(C1075)),\"\",VLOOKUP(C1075,Sheet2!A:F,3,FALSE))","v":""},{"$f":"IF(OR(C1075=\"\",ISBLANK(C1075)),\"\",VLOOKUP(C1075,Sheet2!A:G,6,FALSE))","v":""},""]
[{"$f":"IF(OR(C1076=\"\",ISBLANK(C1076)),\"\",VLOOKUP(C1076,Sheet2!A:F,2,FALSE))","v":""},{"$f":"IF(OR(C1076=\"\",ISBLANK(C1076)),\"\",VLOOKUP(C1076,Sheet2!A:G,4,FALSE))","v":""},null,null,{"$f":"IF(OR(C1076=\"\",ISBLANK(C1076)),\"\",VLOOKUP(C1076,Sheet2!A:F,3,FALSE))","v":""},{"$f":"IF(OR(C1076=\"\",ISBLANK(C1076)),\"\",VLOOKUP(C1076,Sheet2!A:G,6,FALSE))","v":""},""]
[{"$f":"IF(OR(C1077=\"\",ISBLANK(C1077)),\"\",VLOOKUP(C1077,Sheet2!A:F,2,FALSE))","v":""},{"$f":"IF(OR(C1077=\"\",ISBLANK(C1077)),\"\",VLOOKUP(C1077,Sheet2!A:G,4,FALSE))","v":""},null,null,{"$f":"IF(OR(C1077=\"\",ISBLANK(C1077)),\"\",VLOOKUP(C1077,Sheet2!A:F,3,FALSE))","v":""},{"$f":"IF(OR(C1077=\"\",ISBLANK(C1077)),\"\",VLOOKUP(C1077,Sheet2!A:G,6,FALSE))","v":""},""]
[{"$f":"IF(OR(C1078=\"\",ISBLANK(C1078)),\"\",VLOOKUP(C1078,Sheet2!A:F,2,FALSE))","v":""},{"$f":"IF(OR(C1078=\"\",ISBLANK(C1078)),\"\",VLOOKUP(C1078,Sheet2!A:G,4,FALSE))","v":""},null,null,{"$f":"IF(OR(C1078=\"\",ISBLANK(C1078)),\"\",VLOOKUP(C1078,Sheet2!A:F,3,FALSE))","v":""},{"$f":"IF(OR(C1078=\"\",ISBLANK(C1078)),\"\",VLOOKUP(C1078,Sheet2!A:G,6,FALSE))","v":""},""]
[{"$f":"IF(OR(C1079=\"\",ISBLANK(C1079)),\"\",VLOOKUP(C1079,Sheet2!A:F,2,FALSE))","v":""},{"$f":"IF(OR(C1079=\"\",ISBLANK(C1079)),\"\",VLOOKUP(C1079,Sheet2!A:G,4,FALSE))","v":""},null,null,{"$f":"IF(OR(C1079=\"\",ISBLANK(C1079)),\"\",VLOOKUP(C1079,Sheet2!A:F,3,FALSE))","v":""},{"$f":"IF(OR(C1079=\"\",ISBLANK(C1079)),\"\",VLOOKUP(C1079,Sheet2!A:G,6,FALSE))","v":""},""]
[{"$f":"IF(OR(C1080=\"\",ISBLANK(C1080)),\"\",VLOOKUP(C1080,Sheet2!A:F,2,FALSE))","v":""},{"$f":"IF(OR(C1080=\"\",ISBLANK(C1080)),\"\",VLOOKUP(C1080,Sheet2!A:G,4,FALSE))","v":""},null,null,{"$f":"IF(OR(C1080=\"\",ISBLANK(C1080)),\"\",VLOOKUP(C1080,Sheet2!A:F,3,FALSE))","v":""},{"$f":"IF(OR(C1080=\"\",ISBLANK(C1080)),\"\",VLOOKUP(C1080,Sheet2!A:G,6,FALSE))","v":""},""]
[{"$f":"IF(OR(C1081=\"\",ISBLANK(C1081)),\"\",VLOOKUP(C1081,Sheet2!A:F,2,FALSE))","v":""},{"$f":"IF(OR(C1081=\"\",ISBLANK(C1081)),\"\",VLOOKUP(C1081,Sheet2!A:G,4,FALSE))","v":""},null,null,{"$f":"IF(OR(C1081=\"\",ISBLANK(C1081)),\"\",VLOOKUP(C1081,Sheet2!A:F,3,FALSE))","v":""},{"$f":"IF(OR(C1081=\"\",ISBLANK(C1081)),\"\",VLOOKUP(C1081,Sheet2!A:G,6,FALSE))","v":""},""]
[{"$f":"IF(OR(C1082=\"\",ISBLANK(C1082)),\"\",VLOOKUP(C1082,Sheet2!A:F,2,FALSE))","v":""},{"$f":"IF(OR(C1082=\"\",ISBLANK(C1082)),\"\",VLOOKUP(C1082,Sheet2!A:G,4,FALSE))","v":""},null,null,{"$f":"IF(OR(C1082=\"\",ISBLANK(C1082)),\"\",VLOOKUP(C1082,Sheet2!A:F,3,FALSE))","v":""},{"$f":"IF(OR(C1082=\"\",ISBLANK(C1082)),\"\",VLOOKUP(C1082,Sheet2!A:G,6,FALSE))","v":""},""]
[{"$f":"IF(OR(C1083=\"\",ISBLANK(C1083)),\"\",VLOOKUP(C1083,Sheet2!A:F,2,FALSE))","v":""},{"$f":"IF(OR(C1083=\"\",ISBLANK(C1083)),\"\",VLOOKUP(C1083,Sheet2!A:G,4,FALSE))","v":""},null,null,{"$f":"IF(OR(C1083=\"\",ISBLANK(C1083)),\"\",VLOOKUP(C1083,Sheet2!A:F,3,FALSE))","v":""},{"$f":"IF(OR(C1083=\"\",ISBLANK(C1083)),\"\",VLOOKUP(C1083,Sheet2!A:G,6,FALSE))","v":""},""]
[{"$f":"IF(OR(C1084=\"\",ISBLANK(C1084)),\"\",VLOOKUP(C1084,Sheet2!A:F,2,FALSE))","v":""},{"$f":"IF(OR(C1084=\"\",ISBLANK(C1084)),\"\",VLOOKUP(C1084,Sheet2!A:G,4,FALSE))","v":""},null,null,{"$f":"IF(OR(C1084=\"\",ISBLANK(C1084)),\"\",VLOOKUP(C1084,Sheet2!A:F,3,FALSE))","v":""},{"$f":"IF(OR(C1084=\"\",ISBLANK(C1084)),\"\",VLOOKUP(C1084,Sheet2!A:G,6,FALSE))","v":""},""]
[{"$f":"IF(OR(C1085=\"\",ISBLANK(C1085)),\"\",VLOOKUP(C1085,Sheet2!A:F,2,FALSE))","v":""},{"$f":"IF(OR(C1085=\"\",ISBLANK(C1085)),\"\",VLOOKUP(C1085,Sheet2!A:G,4,FALSE))","v":""},null,null,{"$f":"IF(OR(C1085=\"\",ISBLANK(C1085)),\"\",VLOOKUP(C1085,Sheet2!A:F,3,FALSE))","v":""},{"$f":"IF(OR(C1085=\"\",ISBLANK(C1085)),\"\",VLOOKUP(C1085,Sheet2!A:G,6,FALSE))","v":""},""]
[{"$f":"IF(OR(C1086=\"\",ISBLANK(C1086)),\"\",VLOOKUP(C1086,Sheet2!A:F,2,FALSE))","v":""},{"$f":"IF(OR(C1086=\"\",ISBLANK(C1086)),\"\",VLOOKUP(C1086,Sheet2!A:G,4,FALSE))","v":""},null,null,{"$f":"IF(OR(C1086=\"\",ISBLANK(C1086)),\"\",VLOOKUP(C1086,Sheet2!A:F,3,FALSE))","v":""},{"$f":"IF(OR(C1086=\"\",ISBLANK(C1086)),\"\",VLOOKUP(C1086,Sheet2!A:G,6,FALSE))","v":""},""]
[{"$f":"IF(OR(C1087=\"\",ISBLANK(C1087)),\"\",VLOOKUP(C1087,Sheet2!A:F,2,FALSE))","v":""},{"$f":"IF(OR(C1087=\"\",ISBLANK(C1087)),\"\",VLOOKUP(C1087,Sheet2!A:G,4,FALSE))","v":""},null,null,{"$f":"IF(OR(C1087=\"\",ISBLANK(C1087)),\"\",VLOOKUP(C1087,Sheet2!A:F,3,FALSE))","v":""},{"$f":"IF(OR(C1087=\"\",ISBLANK(C1087)),\"\",VLOOKUP(C1087,Sheet2!A:G,6,FALSE))","v":""},""]
[{"$f":"IF(OR(C1088=\"\",ISBLANK(C1088)),\"\",VLOOKUP(C1088,Sheet2!A:F,2,FALSE))","v":""},{"$f":"IF(OR(C1088=\"\",ISBLANK(C1088)),\"\",VLOOKUP(C1088,Sheet2!A:G,4,FALSE))","v":""},null,null,{"$f":"IF(OR(C1088=\"\",ISBLANK(C1088)),\"\",VLOOKUP(C1088,Sheet2!A:F,3,FALSE))","v":""},{"$f":"IF(OR(C1088=\"\",ISBLANK(C1088)),\"\",VLOOKUP(C1088,Sheet2!A:G,6,FALSE))","v":""},""]
[{"$f":"IF(OR(C1089=\"\",ISBLANK(C1089)),\"\",VLOOKUP(C1089,Sheet2!A:F,2,FALSE))","v":""},{"$f":"IF(OR(C1089=\"\",ISBLANK(C1089)),\"\",VLOOKUP(C1089,Sheet2!A:G,4,FALSE))","v":""},null,null,{"$f":"IF(OR(C1089=\"\",ISBLANK(C1089)),\"\",VLOOKUP(C1089,Sheet2!A:F,3,FALSE))","v":""},{"$f":"IF(OR(C1089=\"\",ISBLANK(C1089)),\"\",VLOOKUP(C1089,Sheet2!A:G,6,FALSE))","v":""},""]
[{"$f":"IF(OR(C1090=\"\",ISBLANK(C1090)),\"\",VLOOKUP(C1090,Sheet2!A:F,2,FALSE))","v":""},{"$f":"IF(OR(C1090=\"\",ISBLANK(C1090)),\"\",VLOOKUP(C1090,Sheet2!A:G,4,FALSE))","v":""},null,null,{"$f":"IF(OR(C1090=\"\",ISBLANK(C1090)),\"\",VLOOKUP(C1090,Sheet2!A:F,3,FALSE))","v":""},{"$f":"IF(OR(C1090=\"\",ISBLANK(C1090)),\"\",VLOOKUP(C1090,Sheet2!A:G,6,FALSE))","v":""},""]
[{"$f":"IF(OR(C1091=\"\",ISBLANK(C1091)),\"\",VLOOKUP(C1091,Sheet2!A:F,2,FALSE))","v":""},{"$f":"IF(OR(C1091=\"\",ISBLANK(C1091)),\"\",VLOOKUP(C1091,Sheet2!A:G,4,FALSE))","v":""},null,null,{"$f":"IF(OR(C1091=\"\",ISBLANK(C1091)),\"\",VLOOKUP(C1091,Sheet2!A:F,3,FALSE))","v":""},{"$f":"IF(OR(C1091=\"\",ISBLANK(C1091)),\"\",VLOOKUP(C1091,Sheet2!A:G,6,FALSE))","v":""},{"$f":"IF(F1091=0,\"\",F1091)","v":""}]
[{"$f":"IF(OR(C1092=\"\",ISBLANK(C1092)),\"\",VLOOKUP(C1092,Sheet2!A:F,2,FALSE))","v":""},{"$f":"IF(OR(C1092=\"\",ISBLANK(C1092)),\"\",VLOOKUP(C1092,Sheet2!A:G,4,FALSE))","v":""},null,null,{"$f":"IF(OR(C1092=\"\",ISBLANK(C1092)),\"\",VLOOKUP(C1092,Sheet2!A:F,3,FALSE))","v":""},{"$f":"IF(OR(C1092=\"\",ISBLANK(C1092)),\"\",VLOOKUP(C1092,Sheet2!A:G,6,FALSE))","v":""},""]
[{"$f":"IF(OR(C1093=\"\",ISBLANK(C1093)),\"\",VLOOKUP(C1093,Sheet2!A:F,2,FALSE))","v":""},{"$f":"IF(OR(C1093=\"\",ISBLANK(C1093)),\"\",VLOOKUP(C1093,Sheet2!A:G,4,FALSE))","v":""},null,null,{"$f":"IF(OR(C1093=\"\",ISBLANK(C1093)),\"\",VLOOKUP(C1093,Sheet2!A:F,3,FALSE))","v":""},{"$f":"IF(OR(C1093=\"\",ISBLANK(C1093)),\"\",VLOOKUP(C1093,Sheet2!A:G,6,FALSE))","v":""},""]
[{"$f":"IF(OR(C1094=\"\",ISBLANK(C1094)),\"\",VLOOKUP(C1094,Sheet2!A:F,2,FALSE))","v":""},{"$f":"IF(OR(C1094=\"\",ISBLANK(C1094)),\"\",VLOOKUP(C1094,Sheet2!A:G,4,FALSE))","v":""},null,null,{"$f":"IF(OR(C1094=\"\",ISBLANK(C1094)),\"\",VLOOKUP(C1094,Sheet2!A:F,3,FALSE))","v":""},{"$f":"IF(OR(C1094=\"\",ISBLANK(C1094)),\"\",VLOOKUP(C1094,Sheet2!A:G,6,FALSE))","v":""},""]
[{"$f":"IF(OR(C1095=\"\",ISBLANK(C1095)),\"\",VLOOKUP(C1095,Sheet2!A:F,2,FALSE))","v":""},{"$f":"IF(OR(C1095=\"\",ISBLANK(C1095)),\"\",VLOOKUP(C1095,Sheet2!A:G,4,FALSE))","v":""},null,null,{"$f":"IF(OR(C1095=\"\",ISBLANK(C1095)),\"\",VLOOKUP(C1095,Sheet2!A:F,3,FALSE))","v":""},{"$f":"IF(OR(C1095=\"\",ISBLANK(C1095)),\"\",VLOOKUP(C1095,Sheet2!A:G,6,FALSE))","v":""},""]
[{"$f":"IF(OR(C1096=\"\",ISBLANK(C1096)),\"\",VLOOKUP(C1096,Sheet2!A:F,2,FALSE))","v":""},{"$f":"IF(OR(C1096=\"\",ISBLANK(C1096)),\"\",VLOOKUP(C1096,Sheet2!A:G,4,FALSE))","v":""},null,null,{"$f":"IF(OR(C1096=\"\",ISBLANK(C1096)),\"\",VLOOKUP(C1096,Sheet2!A:F,3,FALSE))","v":""},{"$f":"IF(OR(C1096=\"\",ISBLANK(C1096)),\"\",VLOOKUP(C1096,Sheet2!A:G,6,FALSE))","v":""},""]
[{"$f":"IF(OR(C1097=\"\",ISBLANK(C1097)),\"\",VLOOKUP(C1097,Sheet2!A:F,2,FALSE))","v":""},{"$f":"IF(OR(C1097=\"\",ISBLANK(C1097)),\"\",VLOOKUP(C1097,Sheet2!A:G,4,FALSE))","v":""},null,null,{"$f":"IF(OR(C1097=\"\",ISBLANK(C1097)),\"\",VLOOKUP(C1097,Sheet2!A:F,3,FALSE))","v":""},{"$f":"IF(OR(C1097=\"\",ISBLANK(C1097)),\"\",VLOOKUP(C1097,Sheet2!A:G,6,FALSE))","v":""},""]
[{"$f":"IF(OR(C1098=\"\",ISBLANK(C1098)),\"\",VLOOKUP(C1098,Sheet2!A:F,2,FALSE))","v":""},{"$f":"IF(OR(C1098=\"\",ISBLANK(C1098)),\"\",VLOOKUP(C1098,Sheet2!A:G,4,FALSE))","v":""},null,null,{"$f":"IF(OR(C1098=\"\",ISBLANK(C1098)),\"\",VLOOKUP(C1098,Sheet2!A:F,3,FALSE))","v":""},{"$f":"IF(OR(C1098=\"\",ISBLANK(C1098)),\"\",VLOOKUP(C1098,Sheet2!A:G,6,FALSE))","v":""},""]
[{"$f":"IF(OR(C1099=\"\",ISBLANK(C1099)),\"\",VLOOKUP(C1099,Sheet2!A:F,2,FALSE))","v":""},{"$f":"IF(OR(C1099=\"\",ISBLANK(C1099)),\"\",VLOOKUP(C1099,Sheet2!A:G,4,FALSE))","v":""},null,null,{"$f":"IF(OR(C1099=\"\",ISBLANK(C1099)),\"\",VLOOKUP(C1099,Sheet2!A:F,3,FALSE))","v":""},{"$f":"IF(OR(C1099=\"\",ISBLANK(C1099)),\"\",VLOOKUP(C1099,Sheet2!A:G,6,FALSE))","v":""},""]
[{"$f":"IF(OR(C1100=\"\",ISBLANK(C1100)),\"\",VLOOKUP(C1100,Sheet2!A:F,2,FALSE))","v":""},{"$f":"IF(OR(C1100=\"\",ISBLANK(C1100)),\"\",VLOOKUP(C1100,Sheet2!A:G,4,FALSE))","v":""},null,null,{"$f":"IF(OR(C1100=\"\",ISBLANK(C1100)),\"\",VLOOKUP(C1100,Sheet2!A:F,3,FALSE))","v":""},{"$f":"IF(OR(C1100=\"\",ISBLANK(C1100)),\"\",VLOOKUP(C1100,Sheet2!A:G,6,FALSE))","v":""},""]
[{"$f":"IF(OR(C1101=\"\",ISBLANK(C1101)),\"\",VLOOKUP(C1101,Sheet2!A:F,2,FALSE))","v":""},{"$f":"IF(OR(C1101=\"\",ISBLANK(C1101)),\"\",VLOOKUP(C1101,Sheet2!A:G,4,FALSE))","v":""},null,null,{"$f":"IF(OR(C1101=\"\",ISBLANK(C1101)),\"\",VLOOKUP(C1101,Sheet2!A:F,3,FALSE))","v":""},{"$f":"IF(OR(C1101=\"\",ISBLANK(C1101)),\"\",VLOOKUP(C1101,Sheet2!A:G,6,FALSE))","v":""},""]
[{"$f":"IF(OR(C1102=\"\",ISBLANK(C1102)),\"\",VLOOKUP(C1102,Sheet2!A:F,2,FALSE))","v":""},{"$f":"IF(OR(C1102=\"\",ISBLANK(C1102)),\"\",VLOOKUP(C1102,Sheet2!A:G,4,FALSE))","v":""},null,null,{"$f":"IF(OR(C1102=\"\",ISBLANK(C1102)),\"\",VLOOKUP(C1102,Sheet2!A:F,3,FALSE))","v":""},{"$f":"IF(OR(C1102=\"\",ISBLANK(C1102)),\"\",VLOOKUP(C1102,Sheet2!A:G,6,FALSE))","v":""},""]
[{"$f":"IF(OR(C1103=\"\",ISBLANK(C1103)),\"\",VLOOKUP(C1103,Sheet2!A:F,2,FALSE))","v":""},{"$f":"IF(OR(C1103=\"\",ISBLANK(C1103)),\"\",VLOOKUP(C1103,Sheet2!A:G,4,FALSE))","v":""},null,null,{"$f":"IF(OR(C1103=\"\",ISBLANK(C1103)),\"\",VLOOKUP(C1103,Sheet2!A:F,3,FALSE))","v":""},{"$f":"IF(OR(C1103=\"\",ISBLANK(C1103)),\"\",VLOOKUP(C1103,Sheet2!A:G,6,FALSE))","v":""},""]
[{"$f":"IF(OR(C1104=\"\",ISBLANK(C1104)),\"\",VLOOKUP(C1104,Sheet2!A:F,2,FALSE))","v":""},{"$f":"IF(OR(C1104=\"\",ISBLANK(C1104)),\"\",VLOOKUP(C1104,Sheet2!A:G,4,FALSE))","v":""},null,null,{"$f":"IF(OR(C1104=\"\",ISBLANK(C1104)),\"\",VLOOKUP(C1104,Sheet2!A:F,3,FALSE))","v":""},{"$f":"IF(OR(C1104=\"\",ISBLANK(C1104)),\"\",VLOOKUP(C1104,Sheet2!A:G,6,FALSE))","v":""},""]
[{"$f":"IF(OR(C1105=\"\",ISBLANK(C1105)),\"\",VLOOKUP(C1105,Sheet2!A:F,2,FALSE))","v":""},{"$f":"IF(OR(C1105=\"\",ISBLANK(C1105)),\"\",VLOOKUP(C1105,Sheet2!A:G,4,FALSE))","v":""},null,null,{"$f":"IF(OR(C1105=\"\",ISBLANK(C1105)),\"\",VLOOKUP(C1105,Sheet2!A:F,3,FALSE))","v":""},{"$f":"IF(OR(C1105=\"\",ISBLANK(C1105)),\"\",VLOOKUP(C1105,Sheet2!A:G,6,FALSE))","v":""},""]
[{"$f":"IF(OR(C1106=\"\",ISBLANK(C1106)),\"\",VLOOKUP(C1106,Sheet2!A:F,2,FALSE))","v":""},{"$f":"IF(OR(C1106=\"\",ISBLANK(C1106)),\"\",VLOOKUP(C1106,Sheet2!A:G,4,FALSE))","v":""},null,null,{"$f":"IF(OR(C1106=\"\",ISBLANK(C1106)),\"\",VLOOKUP(C1106,Sheet2!A:F,3,FALSE))","v":""},{"$f":"IF(OR(C1106=\"\",ISBLANK(C1106)),\"\",VLOOKUP(C1106,Sheet2!A:G,6,FALSE))","v":""},""]
[{"$f":"IF(OR(C1107=\"\",ISBLANK(C1107)),\"\",VLOOKUP(C1107,Sheet2!A:F,2,FALSE))","v":""},{"$f":"IF(OR(C1107=\"\",ISBLANK(C1107)),\"\",VLOOKUP(C1107,Sheet2!A:G,4,FALSE))","v":""},null,null,{"$f":"IF(OR(C1107=\"\",ISBLANK(C1107)),\"\",VLOOKUP(C1107,Sheet2!A:F,3,FALSE))","v":""},{"$f":"IF(OR(C1107=\"\",ISBLANK(C1107)),\"\",VLOOKUP(C1107,Sheet2!A:G,6,FALSE))","v":""},""]
[{"$f":"IF(OR(C1108=\"\",ISBLANK(C1108)),\"\",VLOOKUP(C1108,Sheet2!A:F,2,FALSE))","v":""},{"$f":"IF(OR(C1108=\"\",ISBLANK(C1108)),\"\",VLOOKUP(C1108,Sheet2!A:G,4,FALSE))","v":""},null,null,{"$f":"IF(OR(C1108=\"\",ISBLANK(C1108)),\"\",VLOOKUP(C1108,Sheet2!A:F,3,FALSE))","v":""},{"$f":"IF(OR(C1108=\"\",ISBLANK(C1108)),\"\",VLOOKUP(C1108,Sheet2!A:G,6,FALSE))","v":""},""]
[{"$f":"IF(OR(C1109=\"\",ISBLANK(C1109)),\"\",VLOOKUP(C1109,Sheet2!A:F,2,FALSE))","v":""},{"$f":"IF(OR(C1109=\"\",ISBLANK(C1109)),\"\",VLOOKUP(C1109,Sheet2!A:G,4,FALSE))","v":""},null,null,{"$f":"IF(OR(C1109=\"\",ISBLANK(C1109)),\"\",VLOOKUP(C1109,Sheet2!A:F,3,FALSE))","v":""},{"$f":"IF(OR(C1109=\"\",ISBLANK(C1109)),\"\",VLOOKUP(C1109,Sheet2!A:G,6,FALSE))","v":""},""]
[{"$f":"IF(OR(C1110=\"\",ISBLANK(C1110)),\"\",VLOOKUP(C1110,Sheet2!A:F,2,FALSE))","v":""},{"$f":"IF(OR(C1110=\"\",ISBLANK(C1110)),\"\",VLOOKUP(C1110,Sheet2!A:G,4,FALSE))","v":""},null,null,{"$f":"IF(OR(C1110=\"\",ISBLANK(C1110)),\"\",VLOOKUP(C1110,Sheet2!A:F,3,FALSE))","v":""},{"$f":"IF(OR(C1110=\"\",ISBLANK(C1110)),\"\",VLOOKUP(C1110,Sheet2!A:G,6,FALSE))","v":""},""]
[{"$f":"IF(OR(C1111=\"\",ISBLANK(C1111)),\"\",VLOOKUP(C1111,Sheet2!A:F,2,FALSE))","v":""},{"$f":"IF(OR(C1111=\"\",ISBLANK(C1111)),\"\",VLOOKUP(C1111,Sheet2!A:G,4,FALSE))","v":""},null,null,{"$f":"IF(OR(C1111=\"\",ISBLANK(C1111)),\"\",VLOOKUP(C1111,Sheet2!A:F,3,FALSE))","v":""},{"$f":"IF(OR(C1111=\"\",ISBLANK(C1111)),\"\",VLOOKUP(C1111,Sheet2!A:G,6,FALSE))","v":""},""]
[{"$f":"IF(OR(C1112=\"\",ISBLANK(C1112)),\"\",VLOOKUP(C1112,Sheet2!A:F,2,FALSE))","v":""},{"$f":"IF(OR(C1112=\"\",ISBLANK(C1112)),\"\",VLOOKUP(C1112,Sheet2!A:G,4,FALSE))","v":""},null,null,{"$f":"IF(OR(C1112=\"\",ISBLANK(C1112)),\"\",VLOOKUP(C1112,Sheet2!A:F,3,FALSE))","v":""},{"$f":"IF(OR(C1112=\"\",ISBLANK(C1112)),\"\",VLOOKUP(C1112,Sheet2!A:G,6,FALSE))","v":""},""]
[{"$f":"IF(OR(C1113=\"\",ISBLANK(C1113)),\"\",VLOOKUP(C1113,Sheet2!A:F,2,FALSE))","v":""},{"$f":"IF(OR(C1113=\"\",ISBLANK(C1113)),\"\",VLOOKUP(C1113,Sheet2!A:G,4,FALSE))","v":""},null,null,{"$f":"IF(OR(C1113=\"\",ISBLANK(C1113)),\"\",VLOOKUP(C1113,Sheet2!A:F,3,FALSE))","v":""},{"$f":"IF(OR(C1113=\"\",ISBLANK(C1113)),\"\",VLOOKUP(C1113,Sheet2!A:G,6,FALSE))","v":""},""]
[{"$f":"IF(OR(C1114=\"\",ISBLANK(C1114)),\"\",VLOOKUP(C1114,Sheet2!A:F,2,FALSE))","v":""},{"$f":"IF(OR(C1114=\"\",ISBLANK(C1114)),\"\",VLOOKUP(C1114,Sheet2!A:G,4,FALSE))","v":""},null,null,{"$f":"IF(OR(C1114=\"\",ISBLANK(C1114)),\"\",VLOOKUP(C1114,Sheet2!A:F,3,FALSE))","v":""},{"$f":"IF(OR(C1114=\"\",ISBLANK(C1114)),\"\",VLOOKUP(C1114,Sheet2!A:G,6,FALSE))","v":""},""]
[{"$f":"IF(OR(C1115=\"\",ISBLANK(C1115)),\"\",VLOOKUP(C1115,Sheet2!A:F,2,FALSE))","v":""},{"$f":"IF(OR(C1115=\"\",ISBLANK(C1115)),\"\",VLOOKUP(C1115,Sheet2!A:G,4,FALSE))","v":""},null,null,{"$f":"IF(OR(C1115=\"\",ISBLANK(C1115)),\"\",VLOOKUP(C1115,Sheet2!A:F,3,FALSE))","v":""},{"$f":"IF(OR(C1115=\"\",ISBLANK(C1115)),\"\",VLOOKUP(C1115,Sheet2!A:G,6,FALSE))","v":""},""]
[{"$f":"IF(OR(C1116=\"\",ISBLANK(C1116)),\"\",VLOOKUP(C1116,Sheet2!A:F,2,FALSE))","v":""},{"$f":"IF(OR(C1116=\"\",ISBLANK(C1116)),\"\",VLOOKUP(C1116,Sheet2!A:G,4,FALSE))","v":""},null,null,{"$f":"IF(OR(C1116=\"\",ISBLANK(C1116)),\"\",VLOOKUP(C1116,Sheet2!A:F,3,FALSE))","v":""},{"$f":"IF(OR(C1116=\"\",ISBLANK(C1116)),\"\",VLOOKUP(C1116,Sheet2!A:G,6,FALSE))","v":""},""]
[{"$f":"IF(OR(C1117=\"\",ISBLANK(C1117)),\"\",VLOOKUP(C1117,Sheet2!A:F,2,FALSE))","v":""},{"$f":"IF(OR(C1117=\"\",ISBLANK(C1117)),\"\",VLOOKUP(C1117,Sheet2!A:G,4,FALSE))","v":""},null,null,{"$f":"IF(OR(C1117=\"\",ISBLANK(C1117)),\"\",VLOOKUP(C1117,Sheet2!A:F,3,FALSE))","v":""},{"$f":"IF(OR(C1117=\"\",ISBLANK(C1117)),\"\",VLOOKUP(C1117,Sheet2!A:G,6,FALSE))","v":""},""]
[{"$f":"IF(OR(C1118=\"\",ISBLANK(C1118)),\"\",VLOOKUP(C1118,Sheet2!A:F,2,FALSE))","v":""},{"$f":"IF(OR(C1118=\"\",ISBLANK(C1118)),\"\",VLOOKUP(C1118,Sheet2!A:G,4,FALSE))","v":""},null,null,{"$f":"IF(OR(C1118=\"\",ISBLANK(C1118)),\"\",VLOOKUP(C1118,Sheet2!A:F,3,FALSE))","v":""},{"$f":"IF(OR(C1118=\"\",ISBLANK(C1118)),\"\",VLOOKUP(C1118,Sheet2!A:G,6,FALSE))","v":""},""]
[{"$f":"IF(OR(C1119=\"\",ISBLANK(C1119)),\"\",VLOOKUP(C1119,Sheet2!A:F,2,FALSE))","v":""},{"$f":"IF(OR(C1119=\"\",ISBLANK(C1119)),\"\",VLOOKUP(C1119,Sheet2!A:G,4,FALSE))","v":""},null,null,{"$f":"IF(OR(C1119=\"\",ISBLANK(C1119)),\"\",VLOOKUP(C1119,Sheet2!A:F,3,FALSE))","v":""},{"$f":"IF(OR(C1119=\"\",ISBLANK(C1119)),\"\",VLOOKUP(C1119,Sheet2!A:G,6,FALSE))","v":""},""]
[{"$f":"IF(OR(C1120=\"\",ISBLANK(C1120)),\"\",VLOOKUP(C1120,Sheet2!A:F,2,FALSE))","v":""},{"$f":"IF(OR(C1120=\"\",ISBLANK(C1120)),\"\",VLOOKUP(C1120,Sheet2!A:G,4,FALSE))","v":""},null,null,{"$f":"IF(OR(C1120=\"\",ISBLANK(C1120)),\"\",VLOOKUP(C1120,Sheet2!A:F,3,FALSE))","v":""},{"$f":"IF(OR(C1120=\"\",ISBLANK(C1120)),\"\",VLOOKUP(C1120,Sheet2!A:G,6,FALSE))","v":""},""]
[{"$f":"IF(OR(C1121=\"\",ISBLANK(C1121)),\"\",VLOOKUP(C1121,Sheet2!A:F,2,FALSE))","v":""},{"$f":"IF(OR(C1121=\"\",ISBLANK(C1121)),\"\",VLOOKUP(C1121,Sheet2!A:G,4,FALSE))","v":""},null,null,{"$f":"IF(OR(C1121=\"\",ISBLANK(C1121)),\"\",VLOOKUP(C1121,Sheet2!A:F,3,FALSE))","v":""},{"$f":"IF(OR(C1121=\"\",ISBLANK(C1121)),\"\",VLOOKUP(C1121,Sheet2!A:G,6,FALSE))","v":""},""]
[{"$f":"IF(OR(C1122=\"\",ISBLANK(C1122)),\"\",VLOOKUP(C1122,Sheet2!A:F,2,FALSE))","v":""},{"$f":"IF(OR(C1122=\"\",ISBLANK(C1122)),\"\",VLOOKUP(C1122,Sheet2!A:G,4,FALSE))","v":""},null,null,{"$f":"IF(OR(C1122=\"\",ISBLANK(C1122)),\"\",VLOOKUP(C1122,Sheet2!A:F,3,FALSE))","v":""},{"$f":"IF(OR(C1122=\"\",ISBLANK(C1122)),\"\",VLOOKUP(C1122,Sheet2!A:G,6,FALSE))","v":""},""]
[{"$f":"IF(OR(C1123=\"\",ISBLANK(C1123)),\"\",VLOOKUP(C1123,Sheet2!A:F,2,FALSE))","v":""},{"$f":"IF(OR(C1123=\"\",ISBLANK(C1123)),\"\",VLOOKUP(C1123,Sheet2!A:G,4,FALSE))","v":""},null,null,{"$f":"IF(OR(C1123=\"\",ISBLANK(C1123)),\"\",VLOOKUP(C1123,Sheet2!A:F,3,FALSE))","v":""},{"$f":"IF(OR(C1123=\"\",ISBLANK(C1123)),\"\",VLOOKUP(C1123,Sheet2!A:G,6,FALSE))","v":""},""]
[{"$f":"IF(OR(C1124=\"\",ISBLANK(C1124)),\"\",VLOOKUP(C1124,Sheet2!A:F,2,FALSE))","v":""},{"$f":"IF(OR(C1124=\"\",ISBLANK(C1124)),\"\",VLOOKUP(C1124,Sheet2!A:G,4,FALSE))","v":""},null,null,{"$f":"IF(OR(C1124=\"\",ISBLANK(C1124)),\"\",VLOOKUP(C1124,Sheet2!A:F,3,FALSE))","v":""},{"$f":"IF(OR(C1124=\"\",ISBLANK(C1124)),\"\",VLOOKUP(C1124,Sheet2!A:G,6,FALSE))","v":""},""]
[{"$f":"IF(OR(C1125=\"\",ISBLANK(C1125)),\"\",VLOOKUP(C1125,Sheet2!A:F,2,FALSE))","v":""},{"$f":"IF(OR(C1125=\"\",ISBLANK(C1125)),\"\",VLOOKUP(C1125,Sheet2!A:G,4,FALSE))","v":""},null,null,{"$f":"IF(OR(C1125=\"\",ISBLANK(C1125)),\"\",VLOOKUP(C1125,Sheet2!A:F,3,FALSE))","v":""},{"$f":"IF(OR(C1125=\"\",ISBLANK(C1125)),\"\",VLOOKUP(C1125,Sheet2!A:G,6,FALSE))","v":""},""]
[{"$f":"IF(OR(C1126=\"\",ISBLANK(C1126)),\"\",VLOOKUP(C1126,Sheet2!A:F,2,FALSE))","v":""},{"$f":"IF(OR(C1126=\"\",ISBLANK(C1126)),\"\",VLOOKUP(C1126,Sheet2!A:G,4,FALSE))","v":""},null,null,{"$f":"IF(OR(C1126=\"\",ISBLANK(C1126)),\"\",VLOOKUP(C1126,Sheet2!A:F,3,FALSE))","v":""},{"$f":"IF(OR(C1126=\"\",ISBLANK(C1126)),\"\",VLOOKUP(C1126,Sheet2!A:G,6,FALSE))","v":""},""]
[{"$f":"IF(OR(C1127=\"\",ISBLANK(C1127)),\"\",VLOOKUP(C1127,Sheet2!A:F,2,FALSE))","v":""},{"$f":"IF(OR(C1127=\"\",ISBLANK(C1127)),\"\",VLOOKUP(C1127,Sheet2!A:G,4,FALSE))","v":""},null,null,{"$f":"IF(OR(C1127=\"\",ISBLANK(C1127)),\"\",VLOOKUP(C1127,Sheet2!A:F,3,FALSE))","v":""},{"$f":"IF(OR(C1127=\"\",ISBLANK(C1127)),\"\",VLOOKUP(C1127,Sheet2!A:G,6,FALSE))","v":""},""]
[{"$f":"IF(OR(C1128=\"\",ISBLANK(C1128)),\"\",VLOOKUP(C1128,Sheet2!A:F,2,FALSE))","v":""},{"$f":"IF(OR(C1128=\"\",ISBLANK(C1128)),\"\",VLOOKUP(C1128,Sheet2!A:G,4,FALSE))","v":""},null,null,{"$f":"IF(OR(C1128=\"\",ISBLANK(C1128)),\"\",VLOOKUP(C1128,Sheet2!A:F,3,FALSE))","v":""},{"$f":"IF(OR(C1128=\"\",ISBLANK(C1128)),\"\",VLOOKUP(C1128,Sheet2!A:G,6,FALSE))","v":""},""]
[{"$f":"IF(OR(C1129=\"\",ISBLANK(C1129)),\"\",VLOOKUP(C1129,Sheet2!A:F,2,FALSE))","v":""},{"$f":"IF(OR(C1129=\"\",ISBLANK(C1129)),\"\",VLOOKUP(C1129,Sheet2!A:G,4,FALSE))","v":""},null,null,{"$f":"IF(OR(C1129=\"\",ISBLANK(C1129)),\"\",VLOOKUP(C1129,Sheet2!A:F,3,FALSE))","v":""},{"$f":"IF(OR(C1129=\"\",ISBLANK(C1129)),\"\",VLOOKUP(C1129,Sheet2!A:G,6,FALSE))","v":""},""]
[{"$f":"IF(OR(C1130=\"\",ISBLANK(C1130)),\"\",VLOOKUP(C1130,Sheet2!A:F,2,FALSE))","v":""},{"$f":"IF(OR(C1130=\"\",ISBLANK(C1130)),\"\",VLOOKUP(C1130,Sheet2!A:G,4,FALSE))","v":""},null,null,{"$f":"IF(OR(C1130=\"\",ISBLANK(C1130)),\"\",VLOOKUP(C1130,Sheet2!A:F,3,FALSE))","v":""},{"$f":"IF(OR(C1130=\"\",ISBLANK(C1130)),\"\",VLOOKUP(C1130,Sheet2!A:G,6,FALSE))","v":""},""]
[{"$f":"IF(OR(C1131=\"\",ISBLANK(C1131)),\"\",VLOOKUP(C1131,Sheet2!A:F,2,FALSE))","v":""},{"$f":"IF(OR(C1131=\"\",ISBLANK(C1131)),\"\",VLOOKUP(C1131,Sheet2!A:G,4,FALSE))","v":""},null,null,{"$f":"IF(OR(C1131=\"\",ISBLANK(C1131)),\"\",VLOOKUP(C1131,Sheet2!A:F,3,FALSE))","v":""},{"$f":"IF(OR(C1131=\"\",ISBLANK(C1131)),\"\",VLOOKUP(C1131,Sheet2!A:G,6,FALSE))","v":""},""]
[{"$f":"IF(OR(C1132=\"\",ISBLANK(C1132)),\"\",VLOOKUP(C1132,Sheet2!A:F,2,FALSE))","v":""},{"$f":"IF(OR(C1132=\"\",ISBLANK(C1132)),\"\",VLOOKUP(C1132,Sheet2!A:G,4,FALSE))","v":""},null,null,{"$f":"IF(OR(C1132=\"\",ISBLANK(C1132)),\"\",VLOOKUP(C1132,Sheet2!A:F,3,FALSE))","v":""},{"$f":"IF(OR(C1132=\"\",ISBLANK(C1132)),\"\",VLOOKUP(C1132,Sheet2!A:G,6,FALSE))","v":""},""]
[{"$f":"IF(OR(C1133=\"\",ISBLANK(C1133)),\"\",VLOOKUP(C1133,Sheet2!A:F,2,FALSE))","v":""},{"$f":"IF(OR(C1133=\"\",ISBLANK(C1133)),\"\",VLOOKUP(C1133,Sheet2!A:G,4,FALSE))","v":""},null,null,{"$f":"IF(OR(C1133=\"\",ISBLANK(C1133)),\"\",VLOOKUP(C1133,Sheet2!A:F,3,FALSE))","v":""},{"$f":"IF(OR(C1133=\"\",ISBLANK(C1133)),\"\",VLOOKUP(C1133,Sheet2!A:G,6,FALSE))","v":""},""]
[{"$f":"IF(OR(C1134=\"\",ISBLANK(C1134)),\"\",VLOOKUP(C1134,Sheet2!A:F,2,FALSE))","v":""},{"$f":"IF(OR(C1134=\"\",ISBLANK(C1134)),\"\",VLOOKUP(C1134,Sheet2!A:G,4,FALSE))","v":""},null,null,{"$f":"IF(OR(C1134=\"\",ISBLANK(C1134)),\"\",VLOOKUP(C1134,Sheet2!A:F,3,FALSE))","v":""},{"$f":"IF(OR(C1134=\"\",ISBLANK(C1134)),\"\",VLOOKUP(C1134,Sheet2!A:G,6,FALSE))","v":""},""]
[{"$f":"IF(OR(C1135=\"\",ISBLANK(C1135)),\"\",VLOOKUP(C1135,Sheet2!A:F,2,FALSE))","v":""},{"$f":"IF(OR(C1135=\"\",ISBLANK(C1135)),\"\",VLOOKUP(C1135,Sheet2!A:G,4,FALSE))","v":""},null,null,{"$f":"IF(OR(C1135=\"\",ISBLANK(C1135)),\"\",VLOOKUP(C1135,Sheet2!A:F,3,FALSE))","v":""},{"$f":"IF(OR(C1135=\"\",ISBLANK(C1135)),\"\",VLOOKUP(C1135,Sheet2!A:G,6,FALSE))","v":""},""]
[{"$f":"IF(OR(C1136=\"\",ISBLANK(C1136)),\"\",VLOOKUP(C1136,Sheet2!A:F,2,FALSE))","v":""},{"$f":"IF(OR(C1136=\"\",ISBLANK(C1136)),\"\",VLOOKUP(C1136,Sheet2!A:G,4,FALSE))","v":""},null,null,{"$f":"IF(OR(C1136=\"\",ISBLANK(C1136)),\"\",VLOOKUP(C1136,Sheet2!A:F,3,FALSE))","v":""},{"$f":"IF(OR(C1136=\"\",ISBLANK(C1136)),\"\",VLOOKUP(C1136,Sheet2!A:G,6,FALSE))","v":""},""]
[{"$f":"IF(OR(C1137=\"\",ISBLANK(C1137)),\"\",VLOOKUP(C1137,Sheet2!A:F,2,FALSE))","v":""},{"$f":"IF(OR(C1137=\"\",ISBLANK(C1137)),\"\",VLOOKUP(C1137,Sheet2!A:G,4,FALSE))","v":""},null,null,{"$f":"IF(OR(C1137=\"\",ISBLANK(C1137)),\"\",VLOOKUP(C1137,Sheet2!A:F,3,FALSE))","v":""},{"$f":"IF(OR(C1137=\"\",ISBLANK(C1137)),\"\",VLOOKUP(C1137,Sheet2!A:G,6,FALSE))","v":""},""]
[{"$f":"IF(OR(C1138=\"\",ISBLANK(C1138)),\"\",VLOOKUP(C1138,Sheet2!A:F,2,FALSE))","v":""},{"$f":"IF(OR(C1138=\"\",ISBLANK(C1138)),\"\",VLOOKUP(C1138,Sheet2!A:G,4,FALSE))","v":""},null,null,{"$f":"IF(OR(C1138=\"\",ISBLANK(C1138)),\"\",VLOOKUP(C1138,Sheet2!A:F,3,FALSE))","v":""},{"$f":"IF(OR(C1138=\"\",ISBLANK(C1138)),\"\",VLOOKUP(C1138,Sheet2!A:G,6,FALSE))","v":""},""]
[{"$f":"IF(OR(C1139=\"\",ISBLANK(C1139)),\"\",VLOOKUP(C1139,Sheet2!A:F,2,FALSE))","v":""},{"$f":"IF(OR(C1139=\"\",ISBLANK(C1139)),\"\",VLOOKUP(C1139,Sheet2!A:G,4,FALSE))","v":""},null,null,{"$f":"IF(OR(C1139=\"\",ISBLANK(C1139)),\"\",VLOOKUP(C1139,Sheet2!A:F,3,FALSE))","v":""},{"$f":"IF(OR(C1139=\"\",ISBLANK(C1139)),\"\",VLOOKUP(C1139,Sheet2!A:G,6,FALSE))","v":""},""]
[{"$f":"IF(OR(C1140=\"\",ISBLANK(C1140)),\"\",VLOOKUP(C1140,Sheet2!A:F,2,FALSE))","v":""},{"$f":"IF(OR(C1140=\"\",ISBLANK(C1140)),\"\",VLOOKUP(C1140,Sheet2!A:G,4,FALSE))","v":""},null,null,{"$f":"IF(OR(C1140=\"\",ISBLANK(C1140)),\"\",VLOOKUP(C1140,Sheet2!A:F,3,FALSE))","v":""},{"$f":"IF(OR(C1140=\"\",ISBLANK(C1140)),\"\",VLOOKUP(C1140,Sheet2!A:G,6,FALSE))","v":""},""]
[{"$f":"IF(OR(C1141=\"\",ISBLANK(C1141)),\"\",VLOOKUP(C1141,Sheet2!A:F,2,FALSE))","v":""},{"$f":"IF(OR(C1141=\"\",ISBLANK(C1141)),\"\",VLOOKUP(C1141,Sheet2!A:G,4,FALSE))","v":""},null,null,{"$f":"IF(OR(C1141=\"\",ISBLANK(C1141)),\"\",VLOOKUP(C1141,Sheet2!A:F,3,FALSE))","v":""},{"$f":"IF(OR(C1141=\"\",ISBLANK(C1141)),\"\",VLOOKUP(C1141,Sheet2!A:G,6,FALSE))","v":""},""]
[{"$f":"IF(OR(C1142=\"\",ISBLANK(C1142)),\"\",VLOOKUP(C1142,Sheet2!A:F,2,FALSE))","v":""},{"$f":"IF(OR(C1142=\"\",ISBLANK(C1142)),\"\",VLOOKUP(C1142,Sheet2!A:G,4,FALSE))","v":""},null,null,{"$f":"IF(OR(C1142=\"\",ISBLANK(C1142)),\"\",VLOOKUP(C1142,Sheet2!A:F,3,FALSE))","v":""},{"$f":"IF(OR(C1142=\"\",ISBLANK(C1142)),\"\",VLOOKUP(C1142,Sheet2!A:G,6,FALSE))","v":""},""]
[{"$f":"IF(OR(C1143=\"\",ISBLANK(C1143)),\"\",VLOOKUP(C1143,Sheet2!A:F,2,FALSE))","v":""},{"$f":"IF(OR(C1143=\"\",ISBLANK(C1143)),\"\",VLOOKUP(C1143,Sheet2!A:G,4,FALSE))","v":""},null,null,{"$f":"IF(OR(C1143=\"\",ISBLANK(C1143)),\"\",VLOOKUP(C1143,Sheet2!A:F,3,FALSE))","v":""},{"$f":"IF(OR(C1143=\"\",ISBLANK(C1143)),\"\",VLOOKUP(C1143,Sheet2!A:G,6,FALSE))","v":""},""]
[{"$f":"IF(OR(C1144=\"\",ISBLANK(C1144)),\"\",VLOOKUP(C1144,Sheet2!A:F,2,FALSE))","v":""},{"$f":"IF(OR(C1144=\"\",ISBLANK(C1144)),\"\",VLOOKUP(C1144,Sheet2!A:G,4,FALSE))","v":""},null,null,{"$f":"IF(OR(C1144=\"\",ISBLANK(C1144)),\"\",VLOOKUP(C1144,Sheet2!A:F,3,FALSE))","v":""},{"$f":"IF(OR(C1144=\"\",ISBLANK(C1144)),\"\",VLOOKUP(C1144,Sheet2!A:G,6,FALSE))","v":""},""]
[{"$f":"IF(OR(C1145=\"\",ISBLANK(C1145)),\"\",VLOOKUP(C1145,Sheet2!A:F,2,FALSE))","v":""},{"$f":"IF(OR(C1145=\"\",ISBLANK(C1145)),\"\",VLOOKUP(C1145,Sheet2!A:G,4,FALSE))","v":""},null,null,{"$f":"IF(OR(C1145=\"\",ISBLANK(C1145)),\"\",VLOOKUP(C1145,Sheet2!A:F,3,FALSE))","v":""},{"$f":"IF(OR(C1145=\"\",ISBLANK(C1145)),\"\",VLOOKUP(C1145,Sheet2!A:G,6,FALSE))","v":""},""]
[{"$f":"IF(OR(C1146=\"\",ISBLANK(C1146)),\"\",VLOOKUP(C1146,Sheet2!A:F,2,FALSE))","v":""},{"$f":"IF(OR(C1146=\"\",ISBLANK(C1146)),\"\",VLOOKUP(C1146,Sheet2!A:G,4,FALSE))","v":""},null,null,{"$f":"IF(OR(C1146=\"\",ISBLANK(C1146)),\"\",VLOOKUP(C1146,Sheet2!A:F,3,FALSE))","v":""},{"$f":"IF(OR(C1146=\"\",ISBLANK(C1146)),\"\",VLOOKUP(C1146,Sheet2!A:G,6,FALSE))","v":""},""]
[{"$f":"IF(OR(C1147=\"\",ISBLANK(C1147)),\"\",VLOOKUP(C1147,Sheet2!A:F,2,FALSE))","v":""},{"$f":"IF(OR(C1147=\"\",ISBLANK(C1147)),\"\",VLOOKUP(C1147,Sheet2!A:G,4,FALSE))","v":""},null,null,{"$f":"IF(OR(C1147=\"\",ISBLANK(C1147)),\"\",VLOOKUP(C1147,Sheet2!A:F,3,FALSE))","v":""},{"$f":"IF(OR(C1147=\"\",ISBLANK(C1147)),\"\",VLOOKUP(C1147,Sheet2!A:G,6,FALSE))","v":""},""]
[{"$f":"IF(OR(C1148=\"\",ISBLANK(C1148)),\"\",VLOOKUP(C1148,Sheet2!A:F,2,FALSE))","v":""},{"$f":"IF(OR(C1148=\"\",ISBLANK(C1148)),\"\",VLOOKUP(C1148,Sheet2!A:G,4,FALSE))","v":""},null,null,{"$f":"IF(OR(C1148=\"\",ISBLANK(C1148)),\"\",VLOOKUP(C1148,Sheet2!A:F,3,FALSE))","v":""},{"$f":"IF(OR(C1148=\"\",ISBLANK(C1148)),\"\",VLOOKUP(C1148,Sheet2!A:G,6,FALSE))","v":""},""]
[{"$f":"IF(OR(C1149=\"\",ISBLANK(C1149)),\"\",VLOOKUP(C1149,Sheet2!A:F,2,FALSE))","v":""},{"$f":"IF(OR(C1149=\"\",ISBLANK(C1149)),\"\",VLOOKUP(C1149,Sheet2!A:G,4,FALSE))","v":""},null,null,{"$f":"IF(OR(C1149=\"\",ISBLANK(C1149)),\"\",VLOOKUP(C1149,Sheet2!A:F,3,FALSE))","v":""},{"$f":"IF(OR(C1149=\"\",ISBLANK(C1149)),\"\",VLOOKUP(C1149,Sheet2!A:G,6,FALSE))","v":""},""]
[{"$f":"IF(OR(C1150=\"\",ISBLANK(C1150)),\"\",VLOOKUP(C1150,Sheet2!A:F,2,FALSE))","v":""},{"$f":"IF(OR(C1150=\"\",ISBLANK(C1150)),\"\",VLOOKUP(C1150,Sheet2!A:G,4,FALSE))","v":""},null,null,{"$f":"IF(OR(C1150=\"\",ISBLANK(C1150)),\"\",VLOOKUP(C1150,Sheet2!A:F,3,FALSE))","v":""},{"$f":"IF(OR(C1150=\"\",ISBLANK(C1150)),\"\",VLOOKUP(C1150,Sheet2!A:G,6,FALSE))","v":""},""]
[{"$f":"IF(OR(C1151=\"\",ISBLANK(C1151)),\"\",VLOOKUP(C1151,Sheet2!A:F,2,FALSE))","v":""},{"$f":"IF(OR(C1151=\"\",ISBLANK(C1151)),\"\",VLOOKUP(C1151,Sheet2!A:G,4,FALSE))","v":""},null,null,{"$f":"IF(OR(C1151=\"\",ISBLANK(C1151)),\"\",VLOOKUP(C1151,Sheet2!A:F,3,FALSE))","v":""},{"$f":"IF(OR(C1151=\"\",ISBLANK(C1151)),\"\",VLOOKUP(C1151,Sheet2!A:G,6,FALSE))","v":""},""]
[{"$f":"IF(OR(C1152=\"\",ISBLANK(C1152)),\"\",VLOOKUP(C1152,Sheet2!A:F,2,FALSE))","v":""},{"$f":"IF(OR(C1152=\"\",ISBLANK(C1152)),\"\",VLOOKUP(C1152,Sheet2!A:G,4,FALSE))","v":""},null,null,{"$f":"IF(OR(C1152=\"\",ISBLANK(C1152)),\"\",VLOOKUP(C1152,Sheet2!A:F,3,FALSE))","v":""},{"$f":"IF(OR(C1152=\"\",ISBLANK(C1152)),\"\",VLOOKUP(C1152,Sheet2!A:G,6,FALSE))","v":""},""]
[{"$f":"IF(OR(C1153=\"\",ISBLANK(C1153)),\"\",VLOOKUP(C1153,Sheet2!A:F,2,FALSE))","v":""},{"$f":"IF(OR(C1153=\"\",ISBLANK(C1153)),\"\",VLOOKUP(C1153,Sheet2!A:G,4,FALSE))","v":""},null,null,{"$f":"IF(OR(C1153=\"\",ISBLANK(C1153)),\"\",VLOOKUP(C1153,Sheet2!A:F,3,FALSE))","v":""},{"$f":"IF(OR(C1153=\"\",ISBLANK(C1153)),\"\",VLOOKUP(C1153,Sheet2!A:G,6,FALSE))","v":""},""]
[{"$f":"IF(OR(C1154=\"\",ISBLANK(C1154)),\"\",VLOOKUP(C1154,Sheet2!A:F,2,FALSE))","v":""},{"$f":"IF(OR(C1154=\"\",ISBLANK(C1154)),\"\",VLOOKUP(C1154,Sheet2!A:G,4,FALSE))","v":""},null,null,{"$f":"IF(OR(C1154=\"\",ISBLANK(C1154)),\"\",VLOOKUP(C1154,Sheet2!A:F,3,FALSE))","v":""},{"$f":"IF(OR(C1154=\"\",ISBLANK(C1154)),\"\",VLOOKUP(C1154,Sheet2!A:G,6,FALSE))","v":""},""]
[{"$f":"IF(OR(C1155=\"\",ISBLANK(C1155)),\"\",VLOOKUP(C1155,Sheet2!A:F,2,FALSE))","v":""},{"$f":"IF(OR(C1155=\"\",ISBLANK(C1155)),\"\",VLOOKUP(C1155,Sheet2!A:G,4,FALSE))","v":""},null,null,{"$f":"IF(OR(C1155=\"\",ISBLANK(C1155)),\"\",VLOOKUP(C1155,Sheet2!A:F,3,FALSE))","v":""},{"$f":"IF(OR(C1155=\"\",ISBLANK(C1155)),\"\",VLOOKUP(C1155,Sheet2!A:G,6,FALSE))","v":""},{"$f":"IF(F1155=0,\"\",F1155)","v":""}]
[{"$f":"IF(OR(C1156=\"\",ISBLANK(C1156)),\"\",VLOOKUP(C1156,Sheet2!A:F,2,FALSE))","v":""},{"$f":"IF(OR(C1156=\"\",ISBLANK(C1156)),\"\",VLOOKUP(C1156,Sheet2!A:G,4,FALSE))","v":""},null,null,{"$f":"IF(OR(C1156=\"\",ISBLANK(C1156)),\"\",VLOOKUP(C1156,Sheet2!A:F,3,FALSE))","v":""},{"$f":"IF(OR(C1156=\"\",ISBLANK(C1156)),\"\",VLOOKUP(C1156,Sheet2!A:G,6,FALSE))","v":""},""]
[{"$f":"IF(OR(C1157=\"\",ISBLANK(C1157)),\"\",VLOOKUP(C1157,Sheet2!A:F,2,FALSE))","v":""},{"$f":"IF(OR(C1157=\"\",ISBLANK(C1157)),\"\",VLOOKUP(C1157,Sheet2!A:G,4,FALSE))","v":""},null,null,{"$f":"IF(OR(C1157=\"\",ISBLANK(C1157)),\"\",VLOOKUP(C1157,Sheet2!A:F,3,FALSE))","v":""},{"$f":"IF(OR(C1157=\"\",ISBLANK(C1157)),\"\",VLOOKUP(C1157,Sheet2!A:G,6,FALSE))","v":""},""]
[{"$f":"IF(OR(C1158=\"\",ISBLANK(C1158)),\"\",VLOOKUP(C1158,Sheet2!A:F,2,FALSE))","v":""},{"$f":"IF(OR(C1158=\"\",ISBLANK(C1158)),\"\",VLOOKUP(C1158,Sheet2!A:G,4,FALSE))","v":""},null,null,{"$f":"IF(OR(C1158=\"\",ISBLANK(C1158)),\"\",VLOOKUP(C1158,Sheet2!A:F,3,FALSE))","v":""},{"$f":"IF(OR(C1158=\"\",ISBLANK(C1158)),\"\",VLOOKUP(C1158,Sheet2!A:G,6,FALSE))","v":""},""]
[{"$f":"IF(OR(C1159=\"\",ISBLANK(C1159)),\"\",VLOOKUP(C1159,Sheet2!A:F,2,FALSE))","v":""},{"$f":"IF(OR(C1159=\"\",ISBLANK(C1159)),\"\",VLOOKUP(C1159,Sheet2!A:G,4,FALSE))","v":""},null,null,{"$f":"IF(OR(C1159=\"\",ISBLANK(C1159)),\"\",VLOOKUP(C1159,Sheet2!A:F,3,FALSE))","v":""},{"$f":"IF(OR(C1159=\"\",ISBLANK(C1159)),\"\",VLOOKUP(C1159,Sheet2!A:G,6,FALSE))","v":""},""]
[{"$f":"IF(OR(C1160=\"\",ISBLANK(C1160)),\"\",VLOOKUP(C1160,Sheet2!A:F,2,FALSE))","v":""},{"$f":"IF(OR(C1160=\"\",ISBLANK(C1160)),\"\",VLOOKUP(C1160,Sheet2!A:G,4,FALSE))","v":""},null,null,{"$f":"IF(OR(C1160=\"\",ISBLANK(C1160)),\"\",VLOOKUP(C1160,Sheet2!A:F,3,FALSE))","v":""},{"$f":"IF(OR(C1160=\"\",ISBLANK(C1160)),\"\",VLOOKUP(C1160,Sheet2!A:G,6,FALSE))","v":""},""]
[{"$f":"IF(OR(C1161=\"\",ISBLANK(C1161)),\"\",VLOOKUP(C1161,Sheet2!A:F,2,FALSE))","v":""},{"$f":"IF(OR(C1161=\"\",ISBLANK(C1161)),\"\",VLOOKUP(C1161,Sheet2!A:G,4,FALSE))","v":""},null,null,{"$f":"IF(OR(C1161=\"\",ISBLANK(C1161)),\"\",VLOOKUP(C1161,Sheet2!A:F,3,FALSE))","v":""},{"$f":"IF(OR(C1161=\"\",ISBLANK(C1161)),\"\",VLOOKUP(C1161,Sheet2!A:G,6,FALSE))","v":""},""]
[{"$f":"IF(OR(C1162=\"\",ISBLANK(C1162)),\"\",VLOOKUP(C1162,Sheet2!A:F,2,FALSE))","v":""},{"$f":"IF(OR(C1162=\"\",ISBLANK(C1162)),\"\",VLOOKUP(C1162,Sheet2!A:G,4,FALSE))","v":""},null,null,{"$f":"IF(OR(C1162=\"\",ISBLANK(C1162)),\"\",VLOOKUP(C1162,Sheet2!A:F,3,FALSE))","v":""},{"$f":"IF(OR(C1162=\"\",ISBLANK(C1162)),\"\",VLOOKUP(C1162,Sheet2!A:G,6,FALSE))","v":""},""]
[{"$f":"IF(OR(C1163=\"\",ISBLANK(C1163)),\"\",VLOOKUP(C1163,Sheet2!A:F,2,FALSE))","v":""},{"$f":"IF(OR(C1163=\"\",ISBLANK(C1163)),\"\",VLOOKUP(C1163,Sheet2!A:G,4,FALSE))","v":""},null,null,{"$f":"IF(OR(C1163=\"\",ISBLANK(C1163)),\"\",VLOOKUP(C1163,Sheet2!A:F,3,FALSE))","v":""},{"$f":"IF(OR(C1163=\"\",ISBLANK(C1163)),\"\",VLOOKUP(C1163,Sheet2!A:G,6,FALSE))","v":""},""]
[{"$f":"IF(OR(C1164=\"\",ISBLANK(C1164)),\"\",VLOOKUP(C1164,Sheet2!A:F,2,FALSE))","v":""},{"$f":"IF(OR(C1164=\"\",ISBLANK(C1164)),\"\",VLOOKUP(C1164,Sheet2!A:G,4,FALSE))","v":""},null,null,{"$f":"IF(OR(C1164=\"\",ISBLANK(C1164)),\"\",VLOOKUP(C1164,Sheet2!A:F,3,FALSE))","v":""},{"$f":"IF(OR(C1164=\"\",ISBLANK(C1164)),\"\",VLOOKUP(C1164,Sheet2!A:G,6,FALSE))","v":""},""]
[{"$f":"IF(OR(C1165=\"\",ISBLANK(C1165)),\"\",VLOOKUP(C1165,Sheet2!A:F,2,FALSE))","v":""},{"$f":"IF(OR(C1165=\"\",ISBLANK(C1165)),\"\",VLOOKUP(C1165,Sheet2!A:G,4,FALSE))","v":""},null,null,{"$f":"IF(OR(C1165=\"\",ISBLANK(C1165)),\"\",VLOOKUP(C1165,Sheet2!A:F,3,FALSE))","v":""},{"$f":"IF(OR(C1165=\"\",ISBLANK(C1165)),\"\",VLOOKUP(C1165,Sheet2!A:G,6,FALSE))","v":""},""]
[{"$f":"IF(OR(C1166=\"\",ISBLANK(C1166)),\"\",VLOOKUP(C1166,Sheet2!A:F,2,FALSE))","v":""},{"$f":"IF(OR(C1166=\"\",ISBLANK(C1166)),\"\",VLOOKUP(C1166,Sheet2!A:G,4,FALSE))","v":""},null,null,{"$f":"IF(OR(C1166=\"\",ISBLANK(C1166)),\"\",VLOOKUP(C1166,Sheet2!A:F,3,FALSE))","v":""},{"$f":"IF(OR(C1166=\"\",ISBLANK(C1166)),\"\",VLOOKUP(C1166,Sheet2!A:G,6,FALSE))","v":""},""]
[{"$f":"IF(OR(C1167=\"\",ISBLANK(C1167)),\"\",VLOOKUP(C1167,Sheet2!A:F,2,FALSE))","v":""},{"$f":"IF(OR(C1167=\"\",ISBLANK(C1167)),\"\",VLOOKUP(C1167,Sheet2!A:G,4,FALSE))","v":""},null,null,{"$f":"IF(OR(C1167=\"\",ISBLANK(C1167)),\"\",VLOOKUP(C1167,Sheet2!A:F,3,FALSE))","v":""},{"$f":"IF(OR(C1167=\"\",ISBLANK(C1167)),\"\",VLOOKUP(C1167,Sheet2!A:G,6,FALSE))","v":""},""]
[{"$f":"IF(OR(C1168=\"\",ISBLANK(C1168)),\"\",VLOOKUP(C1168,Sheet2!A:F,2,FALSE))","v":""},{"$f":"IF(OR(C1168=\"\",ISBLANK(C1168)),\"\",VLOOKUP(C1168,Sheet2!A:G,4,FALSE))","v":""},null,null,{"$f":"IF(OR(C1168=\"\",ISBLANK(C1168)),\"\",VLOOKUP(C1168,Sheet2!A:F,3,FALSE))","v":""},{"$f":"IF(OR(C1168=\"\",ISBLANK(C1168)),\"\",VLOOKUP(C1168,Sheet2!A:G,6,FALSE))","v":""},""]
[{"$f":"IF(OR(C1169=\"\",ISBLANK(C1169)),\"\",VLOOKUP(C1169,Sheet2!A:F,2,FALSE))","v":""},{"$f":"IF(OR(C1169=\"\",ISBLANK(C1169)),\"\",VLOOKUP(C1169,Sheet2!A:G,4,FALSE))","v":""},null,null,{"$f":"IF(OR(C1169=\"\",ISBLANK(C1169)),\"\",VLOOKUP(C1169,Sheet2!A:F,3,FALSE))","v":""},{"$f":"IF(OR(C1169=\"\",ISBLANK(C1169)),\"\",VLOOKUP(C1169,Sheet2!A:G,6,FALSE))","v":""},""]
[{"$f":"IF(OR(C1170=\"\",ISBLANK(C1170)),\"\",VLOOKUP(C1170,Sheet2!A:F,2,FALSE))","v":""},{"$f":"IF(OR(C1170=\"\",ISBLANK(C1170)),\"\",VLOOKUP(C1170,Sheet2!A:G,4,FALSE))","v":""},null,null,{"$f":"IF(OR(C1170=\"\",ISBLANK(C1170)),\"\",VLOOKUP(C1170,Sheet2!A:F,3,FALSE))","v":""},{"$f":"IF(OR(C1170=\"\",ISBLANK(C1170)),\"\",VLOOKUP(C1170,Sheet2!A:G,6,FALSE))","v":""},""]
[{"$f":"IF(OR(C1171=\"\",ISBLANK(C1171)),\"\",VLOOKUP(C1171,Sheet2!A:F,2,FALSE))","v":""},{"$f":"IF(OR(C1171=\"\",ISBLANK(C1171)),\"\",VLOOKUP(C1171,Sheet2!A:G,4,FALSE))","v":""},null,null,{"$f":"IF(OR(C1171=\"\",ISBLANK(C1171)),\"\",VLOOKUP(C1171,Sheet2!A:F,3,FALSE))","v":""},{"$f":"IF(OR(C1171=\"\",ISBLANK(C1171)),\"\",VLOOKUP(C1171,Sheet2!A:G,6,FALSE))","v":""},""]
[{"$f":"IF(OR(C1172=\"\",ISBLANK(C1172)),\"\",VLOOKUP(C1172,Sheet2!A:F,2,FALSE))","v":""},{"$f":"IF(OR(C1172=\"\",ISBLANK(C1172)),\"\",VLOOKUP(C1172,Sheet2!A:G,4,FALSE))","v":""},null,null,{"$f":"IF(OR(C1172=\"\",ISBLANK(C1172)),\"\",VLOOKUP(C1172,Sheet2!A:F,3,FALSE))","v":""},{"$f":"IF(OR(C1172=\"\",ISBLANK(C1172)),\"\",VLOOKUP(C1172,Sheet2!A:G,6,FALSE))","v":""},""]
[{"$f":"IF(OR(C1173=\"\",ISBLANK(C1173)),\"\",VLOOKUP(C1173,Sheet2!A:F,2,FALSE))","v":""},{"$f":"IF(OR(C1173=\"\",ISBLANK(C1173)),\"\",VLOOKUP(C1173,Sheet2!A:G,4,FALSE))","v":""},null,null,{"$f":"IF(OR(C1173=\"\",ISBLANK(C1173)),\"\",VLOOKUP(C1173,Sheet2!A:F,3,FALSE))","v":""},{"$f":"IF(OR(C1173=\"\",ISBLANK(C1173)),\"\",VLOOKUP(C1173,Sheet2!A:G,6,FALSE))","v":""},""]
[{"$f":"IF(OR(C1174=\"\",ISBLANK(C1174)),\"\",VLOOKUP(C1174,Sheet2!A:F,2,FALSE))","v":""},{"$f":"IF(OR(C1174=\"\",ISBLANK(C1174)),\"\",VLOOKUP(C1174,Sheet2!A:G,4,FALSE))","v":""},null,null,{"$f":"IF(OR(C1174=\"\",ISBLANK(C1174)),\"\",VLOOKUP(C1174,Sheet2!A:F,3,FALSE))","v":""},{"$f":"IF(OR(C1174=\"\",ISBLANK(C1174)),\"\",VLOOKUP(C1174,Sheet2!A:G,6,FALSE))","v":""},""]
[{"$f":"IF(OR(C1175=\"\",ISBLANK(C1175)),\"\",VLOOKUP(C1175,Sheet2!A:F,2,FALSE))","v":""},{"$f":"IF(OR(C1175=\"\",ISBLANK(C1175)),\"\",VLOOKUP(C1175,Sheet2!A:G,4,FALSE))","v":""},null,null,{"$f":"IF(OR(C1175=\"\",ISBLANK(C1175)),\"\",VLOOKUP(C1175,Sheet2!A:F,3,FALSE))","v":""},{"$f":"IF(OR(C1175=\"\",ISBLANK(C1175)),\"\",VLOOKUP(C1175,Sheet2!A:G,6,FALSE))","v":""},""]
[{"$f":"IF(OR(C1176=\"\",ISBLANK(C1176)),\"\",VLOOKUP(C1176,Sheet2!A:F,2,FALSE))","v":""},{"$f":"IF(OR(C1176=\"\",ISBLANK(C1176)),\"\",VLOOKUP(C1176,Sheet2!A:G,4,FALSE))","v":""},null,null,{"$f":"IF(OR(C1176=\"\",ISBLANK(C1176)),\"\",VLOOKUP(C1176,Sheet2!A:F,3,FALSE))","v":""},{"$f":"IF(OR(C1176=\"\",ISBLANK(C1176)),\"\",VLOOKUP(C1176,Sheet2!A:G,6,FALSE))","v":""},""]
[{"$f":"IF(OR(C1177=\"\",ISBLANK(C1177)),\"\",VLOOKUP(C1177,Sheet2!A:F,2,FALSE))","v":""},{"$f":"IF(OR(C1177=\"\",ISBLANK(C1177)),\"\",VLOOKUP(C1177,Sheet2!A:G,4,FALSE))","v":""},null,null,{"$f":"IF(OR(C1177=\"\",ISBLANK(C1177)),\"\",VLOOKUP(C1177,Sheet2!A:F,3,FALSE))","v":""},{"$f":"IF(OR(C1177=\"\",ISBLANK(C1177)),\"\",VLOOKUP(C1177,Sheet2!A:G,6,FALSE))","v":""},""]
[{"$f":"IF(OR(C1178=\"\",ISBLANK(C1178)),\"\",VLOOKUP(C1178,Sheet2!A:F,2,FALSE))","v":""},{"$f":"IF(OR(C1178=\"\",ISBLANK(C1178)),\"\",VLOOKUP(C1178,Sheet2!A:G,4,FALSE))","v":""},null,null,{"$f":"IF(OR(C1178=\"\",ISBLANK(C1178)),\"\",VLOOKUP(C1178,Sheet2!A:F,3,FALSE))","v":""},{"$f":"IF(OR(C1178=\"\",ISBLANK(C1178)),\"\",VLOOKUP(C1178,Sheet2!A:G,6,FALSE))","v":""},""]
[{"$f":"IF(OR(C1179=\"\",ISBLANK(C1179)),\"\",VLOOKUP(C1179,Sheet2!A:F,2,FALSE))","v":""},{"$f":"IF(OR(C1179=\"\",ISBLANK(C1179)),\"\",VLOOKUP(C1179,Sheet2!A:G,4,FALSE))","v":""},null,null,{"$f":"IF(OR(C1179=\"\",ISBLANK(C1179)),\"\",VLOOKUP(C1179,Sheet2!A:F,3,FALSE))","v":""},{"$f":"IF(OR(C1179=\"\",ISBLANK(C1179)),\"\",VLOOKUP(C1179,Sheet2!A:G,6,FALSE))","v":""},""]
[{"$f":"IF(OR(C1180=\"\",ISBLANK(C1180)),\"\",VLOOKUP(C1180,Sheet2!A:F,2,FALSE))","v":""},{"$f":"IF(OR(C1180=\"\",ISBLANK(C1180)),\"\",VLOOKUP(C1180,Sheet2!A:G,4,FALSE))","v":""},null,null,{"$f":"IF(OR(C1180=\"\",ISBLANK(C1180)),\"\",VLOOKUP(C1180,Sheet2!A:F,3,FALSE))","v":""},{"$f":"IF(OR(C1180=\"\",ISBLANK(C1180)),\"\",VLOOKUP(C1180,Sheet2!A:G,6,FALSE))","v":""},""]
[{"$f":"IF(OR(C1181=\"\",ISBLANK(C1181)),\"\",VLOOKUP(C1181,Sheet2!A:F,2,FALSE))","v":""},{"$f":"IF(OR(C1181=\"\",ISBLANK(C1181)),\"\",VLOOKUP(C1181,Sheet2!A:G,4,FALSE))","v":""},null,null,{"$f":"IF(OR(C1181=\"\",ISBLANK(C1181)),\"\",VLOOKUP(C1181,Sheet2!A:F,3,FALSE))","v":""},{"$f":"IF(OR(C1181=\"\",ISBLANK(C1181)),\"\",VLOOKUP(C1181,Sheet2!A:G,6,FALSE))","v":""},""]
[{"$f":"IF(OR(C1182=\"\",ISBLANK(C1182)),\"\",VLOOKUP(C1182,Sheet2!A:F,2,FALSE))","v":""},{"$f":"IF(OR(C1182=\"\",ISBLANK(C1182)),\"\",VLOOKUP(C1182,Sheet2!A:G,4,FALSE))","v":""},null,null,{"$f":"IF(OR(C1182=\"\",ISBLANK(C1182)),\"\",VLOOKUP(C1182,Sheet2!A:F,3,FALSE))","v":""},{"$f":"IF(OR(C1182=\"\",ISBLANK(C1182)),\"\",VLOOKUP(C1182,Sheet2!A:G,6,FALSE))","v":""},""]
[{"$f":"IF(OR(C1183=\"\",ISBLANK(C1183)),\"\",VLOOKUP(C1183,Sheet2!A:F,2,FALSE))","v":""},{"$f":"IF(OR(C1183=\"\",ISBLANK(C1183)),\"\",VLOOKUP(C1183,Sheet2!A:G,4,FALSE))","v":""},null,null,{"$f":"IF(OR(C1183=\"\",ISBLANK(C1183)),\"\",VLOOKUP(C1183,Sheet2!A:F,3,FALSE))","v":""},{"$f":"IF(OR(C1183=\"\",ISBLANK(C1183)),\"\",VLOOKUP(C1183,Sheet2!A:G,6,FALSE))","v":""},""]
[{"$f":"IF(OR(C1184=\"\",ISBLANK(C1184)),\"\",VLOOKUP(C1184,Sheet2!A:F,2,FALSE))","v":""},{"$f":"IF(OR(C1184=\"\",ISBLANK(C1184)),\"\",VLOOKUP(C1184,Sheet2!A:G,4,FALSE))","v":""},null,null,{"$f":"IF(OR(C1184=\"\",ISBLANK(C1184)),\"\",VLOOKUP(C1184,Sheet2!A:F,3,FALSE))","v":""},{"$f":"IF(OR(C1184=\"\",ISBLANK(C1184)),\"\",VLOOKUP(C1184,Sheet2!A:G,6,FALSE))","v":""},""]
[{"$f":"IF(OR(C1185=\"\",ISBLANK(C1185)),\"\",VLOOKUP(C1185,Sheet2!A:F,2,FALSE))","v":""},{"$f":"IF(OR(C1185=\"\",ISBLANK(C1185)),\"\",VLOOKUP(C1185,Sheet2!A:G,4,FALSE))","v":""},null,null,{"$f":"IF(OR(C1185=\"\",ISBLANK(C1185)),\"\",VLOOKUP(C1185,Sheet2!A:F,3,FALSE))","v":""},{"$f":"IF(OR(C1185=\"\",ISBLANK(C1185)),\"\",VLOOKUP(C1185,Sheet2!A:G,6,FALSE))","v":""},""]
[{"$f":"IF(OR(C1186=\"\",ISBLANK(C1186)),\"\",VLOOKUP(C1186,Sheet2!A:F,2,FALSE))","v":""},{"$f":"IF(OR(C1186=\"\",ISBLANK(C1186)),\"\",VLOOKUP(C1186,Sheet2!A:G,4,FALSE))","v":""},null,null,{"$f":"IF(OR(C1186=\"\",ISBLANK(C1186)),\"\",VLOOKUP(C1186,Sheet2!A:F,3,FALSE))","v":""},{"$f":"IF(OR(C1186=\"\",ISBLANK(C1186)),\"\",VLOOKUP(C1186,Sheet2!A:G,6,FALSE))","v":""},""]
[{"$f":"IF(OR(C1187=\"\",ISBLANK(C1187)),\"\",VLOOKUP(C1187,Sheet2!A:F,2,FALSE))","v":""},{"$f":"IF(OR(C1187=\"\",ISBLANK(C1187)),\"\",VLOOKUP(C1187,Sheet2!A:G,4,FALSE))","v":""},null,null,{"$f":"IF(OR(C1187=\"\",ISBLANK(C1187)),\"\",VLOOKUP(C1187,Sheet2!A:F,3,FALSE))","v":""},{"$f":"IF(OR(C1187=\"\",ISBLANK(C1187)),\"\",VLOOKUP(C1187,Sheet2!A:G,6,FALSE))","v":""},""]
[{"$f":"IF(OR(C1188=\"\",ISBLANK(C1188)),\"\",VLOOKUP(C1188,Sheet2!A:F,2,FALSE))","v":""},{"$f":"IF(OR(C1188=\"\",ISBLANK(C1188)),\"\",VLOOKUP(C1188,Sheet2!A:G,4,FALSE))","v":""},null,null,{"$f":"IF(OR(C1188=\"\",ISBLANK(C1188)),\"\",VLOOKUP(C1188,Sheet2!A:F,3,FALSE))","v":""},{"$f":"IF(OR(C1188=\"\",ISBLANK(C1188)),\"\",VLOOKUP(C1188,Sheet2!A:G,6,FALSE))","v":""},""]
[{"$f":"IF(OR(C1189=\"\",ISBLANK(C1189)),\"\",VLOOKUP(C1189,Sheet2!A:F,2,FALSE))","v":""},{"$f":"IF(OR(C1189=\"\",ISBLANK(C1189)),\"\",VLOOKUP(C1189,Sheet2!A:G,4,FALSE))","v":""},null,null,{"$f":"IF(OR(C1189=\"\",ISBLANK(C1189)),\"\",VLOOKUP(C1189,Sheet2!A:F,3,FALSE))","v":""},{"$f":"IF(OR(C1189=\"\",ISBLANK(C1189)),\"\",VLOOKUP(C1189,Sheet2!A:G,6,FALSE))","v":""},""]
[{"$f":"IF(OR(C1190=\"\",ISBLANK(C1190)),\"\",VLOOKUP(C1190,Sheet2!A:F,2,FALSE))","v":""},{"$f":"IF(OR(C1190=\"\",ISBLANK(C1190)),\"\",VLOOKUP(C1190,Sheet2!A:G,4,FALSE))","v":""},null,null,{"$f":"IF(OR(C1190=\"\",ISBLANK(C1190)),\"\",VLOOKUP(C1190,Sheet2!A:F,3,FALSE))","v":""},{"$f":"IF(OR(C1190=\"\",ISBLANK(C1190)),\"\",VLOOKUP(C1190,Sheet2!A:G,6,FALSE))","v":""},""]
[{"$f":"IF(OR(C1191=\"\",ISBLANK(C1191)),\"\",VLOOKUP(C1191,Sheet2!A:F,2,FALSE))","v":""},{"$f":"IF(OR(C1191=\"\",ISBLANK(C1191)),\"\",VLOOKUP(C1191,Sheet2!A:G,4,FALSE))","v":""},null,null,{"$f":"IF(OR(C1191=\"\",ISBLANK(C1191)),\"\",VLOOKUP(C1191,Sheet2!A:F,3,FALSE))","v":""},{"$f":"IF(OR(C1191=\"\",ISBLANK(C1191)),\"\",VLOOKUP(C1191,Sheet2!A:G,6,FALSE))","v":""},""]
[{"$f":"IF(OR(C1192=\"\",ISBLANK(C1192)),\"\",VLOOKUP(C1192,Sheet2!A:F,2,FALSE))","v":""},{"$f":"IF(OR(C1192=\"\",ISBLANK(C1192)),\"\",VLOOKUP(C1192,Sheet2!A:G,4,FALSE))","v":""},null,null,{"$f":"IF(OR(C1192=\"\",ISBLANK(C1192)),\"\",VLOOKUP(C1192,Sheet2!A:F,3,FALSE))","v":""},{"$f":"IF(OR(C1192=\"\",ISBLANK(C1192)),\"\",VLOOKUP(C1192,Sheet2!A:G,6,FALSE))","v":""},""]
[{"$f":"IF(OR(C1193=\"\",ISBLANK(C1193)),\"\",VLOOKUP(C1193,Sheet2!A:F,2,FALSE))","v":""},{"$f":"IF(OR(C1193=\"\",ISBLANK(C1193)),\"\",VLOOKUP(C1193,Sheet2!A:G,4,FALSE))","v":""},null,null,{"$f":"IF(OR(C1193=\"\",ISBLANK(C1193)),\"\",VLOOKUP(C1193,Sheet2!A:F,3,FALSE))","v":""},{"$f":"IF(OR(C1193=\"\",ISBLANK(C1193)),\"\",VLOOKUP(C1193,Sheet2!A:G,6,FALSE))","v":""},""]
[{"$f":"IF(OR(C1194=\"\",ISBLANK(C1194)),\"\",VLOOKUP(C1194,Sheet2!A:F,2,FALSE))","v":""},{"$f":"IF(OR(C1194=\"\",ISBLANK(C1194)),\"\",VLOOKUP(C1194,Sheet2!A:G,4,FALSE))","v":""},null,null,{"$f":"IF(OR(C1194=\"\",ISBLANK(C1194)),\"\",VLOOKUP(C1194,Sheet2!A:F,3,FALSE))","v":""},{"$f":"IF(OR(C1194=\"\",ISBLANK(C1194)),\"\",VLOOKUP(C1194,Sheet2!A:G,6,FALSE))","v":""},""]
[{"$f":"IF(OR(C1195=\"\",ISBLANK(C1195)),\"\",VLOOKUP(C1195,Sheet2!A:F,2,FALSE))","v":""},{"$f":"IF(OR(C1195=\"\",ISBLANK(C1195)),\"\",VLOOKUP(C1195,Sheet2!A:G,4,FALSE))","v":""},null,null,{"$f":"IF(OR(C1195=\"\",ISBLANK(C1195)),\"\",VLOOKUP(C1195,Sheet2!A:F,3,FALSE))","v":""},{"$f":"IF(OR(C1195=\"\",ISBLANK(C1195)),\"\",VLOOKUP(C1195,Sheet2!A:G,6,FALSE))","v":""},""]
[{"$f":"IF(OR(C1196=\"\",ISBLANK(C1196)),\"\",VLOOKUP(C1196,Sheet2!A:F,2,FALSE))","v":""},{"$f":"IF(OR(C1196=\"\",ISBLANK(C1196)),\"\",VLOOKUP(C1196,Sheet2!A:G,4,FALSE))","v":""},null,null,{"$f":"IF(OR(C1196=\"\",ISBLANK(C1196)),\"\",VLOOKUP(C1196,Sheet2!A:F,3,FALSE))","v":""},{"$f":"IF(OR(C1196=\"\",ISBLANK(C1196)),\"\",VLOOKUP(C1196,Sheet2!A:G,6,FALSE))","v":""},""]
[{"$f":"IF(OR(C1197=\"\",ISBLANK(C1197)),\"\",VLOOKUP(C1197,Sheet2!A:F,2,FALSE))","v":""},{"$f":"IF(OR(C1197=\"\",ISBLANK(C1197)),\"\",VLOOKUP(C1197,Sheet2!A:G,4,FALSE))","v":""},null,null,{"$f":"IF(OR(C1197=\"\",ISBLANK(C1197)),\"\",VLOOKUP(C1197,Sheet2!A:F,3,FALSE))","v":""},{"$f":"IF(OR(C1197=\"\",ISBLANK(C1197)),\"\",VLOOKUP(C1197,Sheet2!A:G,6,FALSE))","v":""},""]
[{"$f":"IF(OR(C1198=\"\",ISBLANK(C1198)),\"\",VLOOKUP(C1198,Sheet2!A:F,2,FALSE))","v":""},{"$f":"IF(OR(C1198=\"\",ISBLANK(C1198)),\"\",VLOOKUP(C1198,Sheet2!A:G,4,FALSE))","v":""},null,null,{"$f":"IF(OR(C1198=\"\",ISBLANK(C1198)),\"\",VLOOKUP(C1198,Sheet2!A:F,3,FALSE))","v":""},{"$f":"IF(OR(C1198=\"\",ISBLANK(C1198)),\"\",VLOOKUP(C1198,Sheet2!A:G,6,FALSE))","v":""},""]
[{"$f":"IF(OR(C1199=\"\",ISBLANK(C1199)),\"\",VLOOKUP(C1199,Sheet2!A:F,2,FALSE))","v":""},{"$f":"IF(OR(C1199=\"\",ISBLANK(C1199)),\"\",VLOOKUP(C1199,Sheet2!A:G,4,FALSE))","v":""},null,null,{"$f":"IF(OR(C1199=\"\",ISBLANK(C1199)),\"\",VLOOKUP(C1199,Sheet2!A:F,3,FALSE))","v":""},{"$f":"IF(OR(C1199=\"\",ISBLANK(C1199)),\"\",VLOOKUP(C1199,Sheet2!A:G,6,FALSE))","v":""},""]
[{"$f":"IF(OR(C1200=\"\",ISBLANK(C1200)),\"\",VLOOKUP(C1200,Sheet2!A:F,2,FALSE))","v":""},{"$f":"IF(OR(C1200=\"\",ISBLANK(C1200)),\"\",VLOOKUP(C1200,Sheet2!A:G,4,FALSE))","v":""},null,null,{"$f":"IF(OR(C1200=\"\",ISBLANK(C1200)),\"\",VLOOKUP(C1200,Sheet2!A:F,3,FALSE))","v":""},{"$f":"IF(OR(C1200=\"\",ISBLANK(C1200)),\"\",VLOOKUP(C1200,Sheet2!A:G,6,FALSE))","v":""},""]
[{"$f":"IF(OR(C1201=\"\",ISBLANK(C1201)),\"\",VLOOKUP(C1201,Sheet2!A:F,2,FALSE))","v":""},{"$f":"IF(OR(C1201=\"\",ISBLANK(C1201)),\"\",VLOOKUP(C1201,Sheet2!A:G,4,FALSE))","v":""},null,null,{"$f":"IF(OR(C1201=\"\",ISBLANK(C1201)),\"\",VLOOKUP(C1201,Sheet2!A:F,3,FALSE))","v":""},{"$f":"IF(OR(C1201=\"\",ISBLANK(C1201)),\"\",VLOOKUP(C1201,Sheet2!A:G,6,FALSE))","v":""},""]
[{"$f":"IF(OR(C1202=\"\",ISBLANK(C1202)),\"\",VLOOKUP(C1202,Sheet2!A:F,2,FALSE))","v":""},{"$f":"IF(OR(C1202=\"\",ISBLANK(C1202)),\"\",VLOOKUP(C1202,Sheet2!A:G,4,FALSE))","v":""},null,null,{"$f":"IF(OR(C1202=\"\",ISBLANK(C1202)),\"\",VLOOKUP(C1202,Sheet2!A:F,3,FALSE))","v":""},{"$f":"IF(OR(C1202=\"\",ISBLANK(C1202)),\"\",VLOOKUP(C1202,Sheet2!A:G,6,FALSE))","v":""},""]
[{"$f":"IF(OR(C1203=\"\",ISBLANK(C1203)),\"\",VLOOKUP(C1203,Sheet2!A:F,2,FALSE))","v":""},{"$f":"IF(OR(C1203=\"\",ISBLANK(C1203)),\"\",VLOOKUP(C1203,Sheet2!A:G,4,FALSE))","v":""},null,null,{"$f":"IF(OR(C1203=\"\",ISBLANK(C1203)),\"\",VLOOKUP(C1203,Sheet2!A:F,3,FALSE))","v":""},{"$f":"IF(OR(C1203=\"\",ISBLANK(C1203)),\"\",VLOOKUP(C1203,Sheet2!A:G,6,FALSE))","v":""},""]
[{"$f":"IF(OR(C1204=\"\",ISBLANK(C1204)),\"\",VLOOKUP(C1204,Sheet2!A:F,2,FALSE))","v":""},{"$f":"IF(OR(C1204=\"\",ISBLANK(C1204)),\"\",VLOOKUP(C1204,Sheet2!A:G,4,FALSE))","v":""},null,null,{"$f":"IF(OR(C1204=\"\",ISBLANK(C1204)),\"\",VLOOKUP(C1204,Sheet2!A:F,3,FALSE))","v":""},{"$f":"IF(OR(C1204=\"\",ISBLANK(C1204)),\"\",VLOOKUP(C1204,Sheet2!A:G,6,FALSE))","v":""},""]
[{"$f":"IF(OR(C1205=\"\",ISBLANK(C1205)),\"\",VLOOKUP(C1205,Sheet2!A:F,2,FALSE))","v":""},{"$f":"IF(OR(C1205=\"\",ISBLANK(C1205)),\"\",VLOOKUP(C1205,Sheet2!A:G,4,FALSE))","v":""},null,null,{"$f":"IF(OR(C1205=\"\",ISBLANK(C1205)),\"\",VLOOKUP(C1205,Sheet2!A:F,3,FALSE))","v":""},{"$f":"IF(OR(C1205=\"\",ISBLANK(C1205)),\"\",VLOOKUP(C1205,Sheet2!A:G,6,FALSE))","v":""},""]
[{"$f":"IF(OR(C1206=\"\",ISBLANK(C1206)),\"\",VLOOKUP(C1206,Sheet2!A:F,2,FALSE))","v":""},{"$f":"IF(OR(C1206=\"\",ISBLANK(C1206)),\"\",VLOOKUP(C1206,Sheet2!A:G,4,FALSE))","v":""},null,null,{"$f":"IF(OR(C1206=\"\",ISBLANK(C1206)),\"\",VLOOKUP(C1206,Sheet2!A:F,3,FALSE))","v":""},{"$f":"IF(OR(C1206=\"\",ISBLANK(C1206)),\"\",VLOOKUP(C1206,Sheet2!A:G,6,FALSE))","v":""},""]
[{"$f":"IF(OR(C1207=\"\",ISBLANK(C1207)),\"\",VLOOKUP(C1207,Sheet2!A:F,2,FALSE))","v":""},{"$f":"IF(OR(C1207=\"\",ISBLANK(C1207)),\"\",VLOOKUP(C1207,Sheet2!A:G,4,FALSE))","v":""},null,null,{"$f":"IF(OR(C1207=\"\",ISBLANK(C1207)),\"\",VLOOKUP(C1207,Sheet2!A:F,3,FALSE))","v":""},{"$f":"IF(OR(C1207=\"\",ISBLANK(C1207)),\"\",VLOOKUP(C1207,Sheet2!A:G,6,FALSE))","v":""},""]
[{"$f":"IF(OR(C1208=\"\",ISBLANK(C1208)),\"\",VLOOKUP(C1208,Sheet2!A:F,2,FALSE))","v":""},{"$f":"IF(OR(C1208=\"\",ISBLANK(C1208)),\"\",VLOOKUP(C1208,Sheet2!A:G,4,FALSE))","v":""},null,null,{"$f":"IF(OR(C1208=\"\",ISBLANK(C1208)),\"\",VLOOKUP(C1208,Sheet2!A:F,3,FALSE))","v":""},{"$f":"IF(OR(C1208=\"\",ISBLANK(C1208)),\"\",VLOOKUP(C1208,Sheet2!A:G,6,FALSE))","v":""},""]
[{"$f":"IF(OR(C1209=\"\",ISBLANK(C1209)),\"\",VLOOKUP(C1209,Sheet2!A:F,2,FALSE))","v":""},{"$f":"IF(OR(C1209=\"\",ISBLANK(C1209)),\"\",VLOOKUP(C1209,Sheet2!A:G,4,FALSE))","v":""},null,null,{"$f":"IF(OR(C1209=\"\",ISBLANK(C1209)),\"\",VLOOKUP(C1209,Sheet2!A:F,3,FALSE))","v":""},{"$f":"IF(OR(C1209=\"\",ISBLANK(C1209)),\"\",VLOOKUP(C1209,Sheet2!A:G,6,FALSE))","v":""},""]
[{"$f":"IF(OR(C1210=\"\",ISBLANK(C1210)),\"\",VLOOKUP(C1210,Sheet2!A:F,2,FALSE))","v":""},{"$f":"IF(OR(C1210=\"\",ISBLANK(C1210)),\"\",VLOOKUP(C1210,Sheet2!A:G,4,FALSE))","v":""},null,null,{"$f":"IF(OR(C1210=\"\",ISBLANK(C1210)),\"\",VLOOKUP(C1210,Sheet2!A:F,3,FALSE))","v":""},{"$f":"IF(OR(C1210=\"\",ISBLANK(C1210)),\"\",VLOOKUP(C1210,Sheet2!A:G,6,FALSE))","v":""},""]
[{"$f":"IF(OR(C1211=\"\",ISBLANK(C1211)),\"\",VLOOKUP(C1211,Sheet2!A:F,2,FALSE))","v":""},{"$f":"IF(OR(C1211=\"\",ISBLANK(C1211)),\"\",VLOOKUP(C1211,Sheet2!A:G,4,FALSE))","v":""},null,null,{"$f":"IF(OR(C1211=\"\",ISBLANK(C1211)),\"\",VLOOKUP(C1211,Sheet2!A:F,3,FALSE))","v":""},{"$f":"IF(OR(C1211=\"\",ISBLANK(C1211)),\"\",VLOOKUP(C1211,Sheet2!A:G,6,FALSE))","v":""},""]
[{"$f":"IF(OR(C1212=\"\",ISBLANK(C1212)),\"\",VLOOKUP(C1212,Sheet2!A:F,2,FALSE))","v":""},{"$f":"IF(OR(C1212=\"\",ISBLANK(C1212)),\"\",VLOOKUP(C1212,Sheet2!A:G,4,FALSE))","v":""},null,null,{"$f":"IF(OR(C1212=\"\",ISBLANK(C1212)),\"\",VLOOKUP(C1212,Sheet2!A:F,3,FALSE))","v":""},{"$f":"IF(OR(C1212=\"\",ISBLANK(C1212)),\"\",VLOOKUP(C1212,Sheet2!A:G,6,FALSE))","v":""},""]
[{"$f":"IF(OR(C1213=\"\",ISBLANK(C1213)),\"\",VLOOKUP(C1213,Sheet2!A:F,2,FALSE))","v":""},{"$f":"IF(OR(C1213=\"\",ISBLANK(C1213)),\"\",VLOOKUP(C1213,Sheet2!A:G,4,FALSE))","v":""},null,null,{"$f":"IF(OR(C1213=\"\",ISBLANK(C1213)),\"\",VLOOKUP(C1213,Sheet2!A:F,3,FALSE))","v":""},{"$f":"IF(OR(C1213=\"\",ISBLANK(C1213)),\"\",VLOOKUP(C1213,Sheet2!A:G,6,FALSE))","v":""},""]
[{"$f":"IF(OR(C1214=\"\",ISBLANK(C1214)),\"\",VLOOKUP(C1214,Sheet2!A:F,2,FALSE))","v":""},{"$f":"IF(OR(C1214=\"\",ISBLANK(C1214)),\"\",VLOOKUP(C1214,Sheet2!A:G,4,FALSE))","v":""},null,null,{"$f":"IF(OR(C1214=\"\",ISBLANK(C1214)),\"\",VLOOKUP(C1214,Sheet2!A:F,3,FALSE))","v":""},{"$f":"IF(OR(C1214=\"\",ISBLANK(C1214)),\"\",VLOOKUP(C1214,Sheet2!A:G,6,FALSE))","v":""},""]
[{"$f":"IF(OR(C1215=\"\",ISBLANK(C1215)),\"\",VLOOKUP(C1215,Sheet2!A:F,2,FALSE))","v":""},{"$f":"IF(OR(C1215=\"\",ISBLANK(C1215)),\"\",VLOOKUP(C1215,Sheet2!A:G,4,FALSE))","v":""},null,null,{"$f":"IF(OR(C1215=\"\",ISBLANK(C1215)),\"\",VLOOKUP(C1215,Sheet2!A:F,3,FALSE))","v":""},{"$f":"IF(OR(C1215=\"\",ISBLANK(C1215)),\"\",VLOOKUP(C1215,Sheet2!A:G,6,FALSE))","v":""},""]
[{"$f":"IF(OR(C1216=\"\",ISBLANK(C1216)),\"\",VLOOKUP(C1216,Sheet2!A:F,2,FALSE))","v":""},{"$f":"IF(OR(C1216=\"\",ISBLANK(C1216)),\"\",VLOOKUP(C1216,Sheet2!A:G,4,FALSE))","v":""},null,null,{"$f":"IF(OR(C1216=\"\",ISBLANK(C1216)),\"\",VLOOKUP(C1216,Sheet2!A:F,3,FALSE))","v":""},{"$f":"IF(OR(C1216=\"\",ISBLANK(C1216)),\"\",VLOOKUP(C1216,Sheet2!A:G,6,FALSE))","v":""},""]
[{"$f":"IF(OR(C1217=\"\",ISBLANK(C1217)),\"\",VLOOKUP(C1217,Sheet2!A:F,2,FALSE))","v":""},{"$f":"IF(OR(C1217=\"\",ISBLANK(C1217)),\"\",VLOOKUP(C1217,Sheet2!A:G,4,FALSE))","v":""},null,null,{"$f":"IF(OR(C1217=\"\",ISBLANK(C1217)),\"\",VLOOKUP(C1217,Sheet2!A:F,3,FALSE))","v":""},{"$f":"IF(OR(C1217=\"\",ISBLANK(C1217)),\"\",VLOOKUP(C1217,Sheet2!A:G,6,FALSE))","v":""},""]
[{"$f":"IF(OR(C1218=\"\",ISBLANK(C1218)),\"\",VLOOKUP(C1218,Sheet2!A:F,2,FALSE))","v":""},{"$f":"IF(OR(C1218=\"\",ISBLANK(C1218)),\"\",VLOOKUP(C1218,Sheet2!A:G,4,FALSE))","v":""},null,null,{"$f":"IF(OR(C1218=\"\",ISBLANK(C1218)),\"\",VLOOKUP(C1218,Sheet2!A:F,3,FALSE))","v":""},{"$f":"IF(OR(C1218=\"\",ISBLANK(C1218)),\"\",VLOOKUP(C1218,Sheet2!A:G,6,FALSE))","v":""},""]
[{"$f":"IF(OR(C1219=\"\",ISBLANK(C1219)),\"\",VLOOKUP(C1219,Sheet2!A:F,2,FALSE))","v":""},{"$f":"IF(OR(C1219=\"\",ISBLANK(C1219)),\"\",VLOOKUP(C1219,Sheet2!A:G,4,FALSE))","v":""},null,null,{"$f":"IF(OR(C1219=\"\",ISBLANK(C1219)),\"\",VLOOKUP(C1219,Sheet2!A:F,3,FALSE))","v":""},{"$f":"IF(OR(C1219=\"\",ISBLANK(C1219)),\"\",VLOOKUP(C1219,Sheet2!A:G,6,FALSE))","v":""},{"$f":"IF(F1219=0,\"\",F1219)","v":""}]
[{"$f":"IF(OR(C1220=\"\",ISBLANK(C1220)),\"\",VLOOKUP(C1220,Sheet2!A:F,2,FALSE))","v":""},{"$f":"IF(OR(C1220=\"\",ISBLANK(C1220)),\"\",VLOOKUP(C1220,Sheet2!A:G,4,FALSE))","v":""},null,null,{"$f":"IF(OR(C1220=\"\",ISBLANK(C1220)),\"\",VLOOKUP(C1220,Sheet2!A:F,3,FALSE))","v":""},{"$f":"IF(OR(C1220=\"\",ISBLANK(C1220)),\"\",VLOOKUP(C1220,Sheet2!A:G,6,FALSE))","v":""},""]
[{"$f":"IF(OR(C1221=\"\",ISBLANK(C1221)),\"\",VLOOKUP(C1221,Sheet2!A:F,2,FALSE))","v":""},{"$f":"IF(OR(C1221=\"\",ISBLANK(C1221)),\"\",VLOOKUP(C1221,Sheet2!A:G,4,FALSE))","v":""},null,null,{"$f":"IF(OR(C1221=\"\",ISBLANK(C1221)),\"\",VLOOKUP(C1221,Sheet2!A:F,3,FALSE))","v":""},{"$f":"IF(OR(C1221=\"\",ISBLANK(C1221)),\"\",VLOOKUP(C1221,Sheet2!A:G,6,FALSE))","v":""},""]
[{"$f":"IF(OR(C1222=\"\",ISBLANK(C1222)),\"\",VLOOKUP(C1222,Sheet2!A:F,2,FALSE))","v":""},{"$f":"IF(OR(C1222=\"\",ISBLANK(C1222)),\"\",VLOOKUP(C1222,Sheet2!A:G,4,FALSE))","v":""},null,null,{"$f":"IF(OR(C1222=\"\",ISBLANK(C1222)),\"\",VLOOKUP(C1222,Sheet2!A:F,3,FALSE))","v":""},{"$f":"IF(OR(C1222=\"\",ISBLANK(C1222)),\"\",VLOOKUP(C1222,Sheet2!A:G,6,FALSE))","v":""},""]
[{"$f":"IF(OR(C1223=\"\",ISBLANK(C1223)),\"\",VLOOKUP(C1223,Sheet2!A:F,2,FALSE))","v":""},{"$f":"IF(OR(C1223=\"\",ISBLANK(C1223)),\"\",VLOOKUP(C1223,Sheet2!A:G,4,FALSE))","v":""},null,null,{"$f":"IF(OR(C1223=\"\",ISBLANK(C1223)),\"\",VLOOKUP(C1223,Sheet2!A:F,3,FALSE))","v":""},{"$f":"IF(OR(C1223=\"\",ISBLANK(C1223)),\"\",VLOOKUP(C1223,Sheet2!A:G,6,FALSE))","v":""},""]
[{"$f":"IF(OR(C1224=\"\",ISBLANK(C1224)),\"\",VLOOKUP(C1224,Sheet2!A:F,2,FALSE))","v":""},{"$f":"IF(OR(C1224=\"\",ISBLANK(C1224)),\"\",VLOOKUP(C1224,Sheet2!A:G,4,FALSE))","v":""},null,null,{"$f":"IF(OR(C1224=\"\",ISBLANK(C1224)),\"\",VLOOKUP(C1224,Sheet2!A:F,3,FALSE))","v":""},{"$f":"IF(OR(C1224=\"\",ISBLANK(C1224)),\"\",VLOOKUP(C1224,Sheet2!A:G,6,FALSE))","v":""},""]
[{"$f":"IF(OR(C1225=\"\",ISBLANK(C1225)),\"\",VLOOKUP(C1225,Sheet2!A:F,2,FALSE))","v":""},{"$f":"IF(OR(C1225=\"\",ISBLANK(C1225)),\"\",VLOOKUP(C1225,Sheet2!A:G,4,FALSE))","v":""},null,null,{"$f":"IF(OR(C1225=\"\",ISBLANK(C1225)),\"\",VLOOKUP(C1225,Sheet2!A:F,3,FALSE))","v":""},{"$f":"IF(OR(C1225=\"\",ISBLANK(C1225)),\"\",VLOOKUP(C1225,Sheet2!A:G,6,FALSE))","v":""},""]
[{"$f":"IF(OR(C1226=\"\",ISBLANK(C1226)),\"\",VLOOKUP(C1226,Sheet2!A:F,2,FALSE))","v":""},{"$f":"IF(OR(C1226=\"\",ISBLANK(C1226)),\"\",VLOOKUP(C1226,Sheet2!A:G,4,FALSE))","v":""},null,null,{"$f":"IF(OR(C1226=\"\",ISBLANK(C1226)),\"\",VLOOKUP(C1226,Sheet2!A:F,3,FALSE))","v":""},{"$f":"IF(OR(C1226=\"\",ISBLANK(C1226)),\"\",VLOOKUP(C1226,Sheet2!A:G,6,FALSE))","v":""},""]
[{"$f":"IF(OR(C1227=\"\",ISBLANK(C1227)),\"\",VLOOKUP(C1227,Sheet2!A:F,2,FALSE))","v":""},{"$f":"IF(OR(C1227=\"\",ISBLANK(C1227)),\"\",VLOOKUP(C1227,Sheet2!A:G,4,FALSE))","v":""},null,null,{"$f":"IF(OR(C1227=\"\",ISBLANK(C1227)),\"\",VLOOKUP(C1227,Sheet2!A:F,3,FALSE))","v":""},{"$f":"IF(OR(C1227=\"\",ISBLANK(C1227)),\"\",VLOOKUP(C1227,Sheet2!A:G,6,FALSE))","v":""},""]
[{"$f":"IF(OR(C1228=\"\",ISBLANK(C1228)),\"\",VLOOKUP(C1228,Sheet2!A:F,2,FALSE))","v":""},{"$f":"IF(OR(C1228=\"\",ISBLANK(C1228)),\"\",VLOOKUP(C1228,Sheet2!A:G,4,FALSE))","v":""},null,null,{"$f":"IF(OR(C1228=\"\",ISBLANK(C1228)),\"\",VLOOKUP(C1228,Sheet2!A:F,3,FALSE))","v":""},{"$f":"IF(OR(C1228=\"\",ISBLANK(C1228)),\"\",VLOOKUP(C1228,Sheet2!A:G,6,FALSE))","v":""},""]
[{"$f":"IF(OR(C1229=\"\",ISBLANK(C1229)),\"\",VLOOKUP(C1229,Sheet2!A:F,2,FALSE))","v":""},{"$f":"IF(OR(C1229=\"\",ISBLANK(C1229)),\"\",VLOOKUP(C1229,Sheet2!A:G,4,FALSE))","v":""},null,null,{"$f":"IF(OR(C1229=\"\",ISBLANK(C1229)),\"\",VLOOKUP(C1229,Sheet2!A:F,3,FALSE))","v":""},{"$f":"IF(OR(C1229=\"\",ISBLANK(C1229)),\"\",VLOOKUP(C1229,Sheet2!A:G,6,FALSE))","v":""},""]
[{"$f":"IF(OR(C1230=\"\",ISBLANK(C1230)),\"\",VLOOKUP(C1230,Sheet2!A:F,2,FALSE))","v":""},{"$f":"IF(OR(C1230=\"\",ISBLANK(C1230)),\"\",VLOOKUP(C1230,Sheet2!A:G,4,FALSE))","v":""},null,null,{"$f":"IF(OR(C1230=\"\",ISBLANK(C1230)),\"\",VLOOKUP(C1230,Sheet2!A:F,3,FALSE))","v":""},{"$f":"IF(OR(C1230=\"\",ISBLANK(C1230)),\"\",VLOOKUP(C1230,Sheet2!A:G,6,FALSE))","v":""},""]
[{"$f":"IF(OR(C1231=\"\",ISBLANK(C1231)),\"\",VLOOKUP(C1231,Sheet2!A:F,2,FALSE))","v":""},{"$f":"IF(OR(C1231=\"\",ISBLANK(C1231)),\"\",VLOOKUP(C1231,Sheet2!A:G,4,FALSE))","v":""},null,null,{"$f":"IF(OR(C1231=\"\",ISBLANK(C1231)),\"\",VLOOKUP(C1231,Sheet2!A:F,3,FALSE))","v":""},{"$f":"IF(OR(C1231=\"\",ISBLANK(C1231)),\"\",VLOOKUP(C1231,Sheet2!A:G,6,FALSE))","v":""},""]
[{"$f":"IF(OR(C1232=\"\",ISBLANK(C1232)),\"\",VLOOKUP(C1232,Sheet2!A:F,2,FALSE))","v":""},{"$f":"IF(OR(C1232=\"\",ISBLANK(C1232)),\"\",VLOOKUP(C1232,Sheet2!A:G,4,FALSE))","v":""},null,null,{"$f":"IF(OR(C1232=\"\",ISBLANK(C1232)),\"\",VLOOKUP(C1232,Sheet2!A:F,3,FALSE))","v":""},{"$f":"IF(OR(C1232=\"\",ISBLANK(C1232)),\"\",VLOOKUP(C1232,Sheet2!A:G,6,FALSE))","v":""},""]
[{"$f":"IF(OR(C1233=\"\",ISBLANK(C1233)),\"\",VLOOKUP(C1233,Sheet2!A:F,2,FALSE))","v":""},{"$f":"IF(OR(C1233=\"\",ISBLANK(C1233)),\"\",VLOOKUP(C1233,Sheet2!A:G,4,FALSE))","v":""},null,null,{"$f":"IF(OR(C1233=\"\",ISBLANK(C1233)),\"\",VLOOKUP(C1233,Sheet2!A:F,3,FALSE))","v":""},{"$f":"IF(OR(C1233=\"\",ISBLANK(C1233)),\"\",VLOOKUP(C1233,Sheet2!A:G,6,FALSE))","v":""},""]
[{"$f":"IF(OR(C1234=\"\",ISBLANK(C1234)),\"\",VLOOKUP(C1234,Sheet2!A:F,2,FALSE))","v":""},{"$f":"IF(OR(C1234=\"\",ISBLANK(C1234)),\"\",VLOOKUP(C1234,Sheet2!A:G,4,FALSE))","v":""},null,null,{"$f":"IF(OR(C1234=\"\",ISBLANK(C1234)),\"\",VLOOKUP(C1234,Sheet2!A:F,3,FALSE))","v":""},{"$f":"IF(OR(C1234=\"\",ISBLANK(C1234)),\"\",VLOOKUP(C1234,Sheet2!A:G,6,FALSE))","v":""},""]
[{"$f":"IF(OR(C1235=\"\",ISBLANK(C1235)),\"\",VLOOKUP(C1235,Sheet2!A:F,2,FALSE))","v":""},{"$f":"IF(OR(C1235=\"\",ISBLANK(C1235)),\"\",VLOOKUP(C1235,Sheet2!A:G,4,FALSE))","v":""},null,null,{"$f":"IF(OR(C1235=\"\",ISBLANK(C1235)),\"\",VLOOKUP(C1235,Sheet2!A:F,3,FALSE))","v":""},{"$f":"IF(OR(C1235=\"\",ISBLANK(C1235)),\"\",VLOOKUP(C1235,Sheet2!A:G,6,FALSE))","v":""},""]
[{"$f":"IF(OR(C1236=\"\",ISBLANK(C1236)),\"\",VLOOKUP(C1236,Sheet2!A:F,2,FALSE))","v":""},{"$f":"IF(OR(C1236=\"\",ISBLANK(C1236)),\"\",VLOOKUP(C1236,Sheet2!A:G,4,FALSE))","v":""},null,null,{"$f":"IF(OR(C1236=\"\",ISBLANK(C1236)),\"\",VLOOKUP(C1236,Sheet2!A:F,3,FALSE))","v":""},{"$f":"IF(OR(C1236=\"\",ISBLANK(C1236)),\"\",VLOOKUP(C1236,Sheet2!A:G,6,FALSE))","v":""},""]
[{"$f":"IF(OR(C1237=\"\",ISBLANK(C1237)),\"\",VLOOKUP(C1237,Sheet2!A:F,2,FALSE))","v":""},{"$f":"IF(OR(C1237=\"\",ISBLANK(C1237)),\"\",VLOOKUP(C1237,Sheet2!A:G,4,FALSE))","v":""},null,null,{"$f":"IF(OR(C1237=\"\",ISBLANK(C1237)),\"\",VLOOKUP(C1237,Sheet2!A:F,3,FALSE))","v":""},{"$f":"IF(OR(C1237=\"\",ISBLANK(C1237)),\"\",VLOOKUP(C1237,Sheet2!A:G,6,FALSE))","v":""},""]
[{"$f":"IF(OR(C1238=\"\",ISBLANK(C1238)),\"\",VLOOKUP(C1238,Sheet2!A:F,2,FALSE))","v":""},{"$f":"IF(OR(C1238=\"\",ISBLANK(C1238)),\"\",VLOOKUP(C1238,Sheet2!A:G,4,FALSE))","v":""},null,null,{"$f":"IF(OR(C1238=\"\",ISBLANK(C1238)),\"\",VLOOKUP(C1238,Sheet2!A:F,3,FALSE))","v":""},{"$f":"IF(OR(C1238=\"\",ISBLANK(C1238)),\"\",VLOOKUP(C1238,Sheet2!A:G,6,FALSE))","v":""},""]
[{"$f":"IF(OR(C1239=\"\",ISBLANK(C1239)),\"\",VLOOKUP(C1239,Sheet2!A:F,2,FALSE))","v":""},{"$f":"IF(OR(C1239=\"\",ISBLANK(C1239)),\"\",VLOOKUP(C1239,Sheet2!A:G,4,FALSE))","v":""},null,null,{"$f":"IF(OR(C1239=\"\",ISBLANK(C1239)),\"\",VLOOKUP(C1239,Sheet2!A:F,3,FALSE))","v":""},{"$f":"IF(OR(C1239=\"\",ISBLANK(C1239)),\"\",VLOOKUP(C1239,Sheet2!A:G,6,FALSE))","v":""},""]
[{"$f":"IF(OR(C1240=\"\",ISBLANK(C1240)),\"\",VLOOKUP(C1240,Sheet2!A:F,2,FALSE))","v":""},{"$f":"IF(OR(C1240=\"\",ISBLANK(C1240)),\"\",VLOOKUP(C1240,Sheet2!A:G,4,FALSE))","v":""},null,null,{"$f":"IF(OR(C1240=\"\",ISBLANK(C1240)),\"\",VLOOKUP(C1240,Sheet2!A:F,3,FALSE))","v":""},{"$f":"IF(OR(C1240=\"\",ISBLANK(C1240)),\"\",VLOOKUP(C1240,Sheet2!A:G,6,FALSE))","v":""},""]
[{"$f":"IF(OR(C1241=\"\",ISBLANK(C1241)),\"\",VLOOKUP(C1241,Sheet2!A:F,2,FALSE))","v":""},{"$f":"IF(OR(C1241=\"\",ISBLANK(C1241)),\"\",VLOOKUP(C1241,Sheet2!A:G,4,FALSE))","v":""},null,null,{"$f":"IF(OR(C1241=\"\",ISBLANK(C1241)),\"\",VLOOKUP(C1241,Sheet2!A:F,3,FALSE))","v":""},{"$f":"IF(OR(C1241=\"\",ISBLANK(C1241)),\"\",VLOOKUP(C1241,Sheet2!A:G,6,FALSE))","v":""},""]
[{"$f":"IF(OR(C1242=\"\",ISBLANK(C1242)),\"\",VLOOKUP(C1242,Sheet2!A:F,2,FALSE))","v":""},{"$f":"IF(OR(C1242=\"\",ISBLANK(C1242)),\"\",VLOOKUP(C1242,Sheet2!A:G,4,FALSE))","v":""},null,null,{"$f":"IF(OR(C1242=\"\",ISBLANK(C1242)),\"\",VLOOKUP(C1242,Sheet2!A:F,3,FALSE))","v":""},{"$f":"IF(OR(C1242=\"\",ISBLANK(C1242)),\"\",VLOOKUP(C1242,Sheet2!A:G,6,FALSE))","v":""},""]
[{"$f":"IF(OR(C1243=\"\",ISBLANK(C1243)),\"\",VLOOKUP(C1243,Sheet2!A:F,2,FALSE))","v":""},{"$f":"IF(OR(C1243=\"\",ISBLANK(C1243)),\"\",VLOOKUP(C1243,Sheet2!A:G,4,FALSE))","v":""},null,null,{"$f":"IF(OR(C1243=\"\",ISBLANK(C1243)),\"\",VLOOKUP(C1243,Sheet2!A:F,3,FALSE))","v":""},{"$f":"IF(OR(C1243=\"\",ISBLANK(C1243)),\"\",VLOOKUP(C1243,Sheet2!A:G,6,FALSE))","v":""},""]
[{"$f":"IF(OR(C1244=\"\",ISBLANK(C1244)),\"\",VLOOKUP(C1244,Sheet2!A:F,2,FALSE))","v":""},{"$f":"IF(OR(C1244=\"\",ISBLANK(C1244)),\"\",VLOOKUP(C1244,Sheet2!A:G,4,FALSE))","v":""},null,null,{"$f":"IF(OR(C1244=\"\",ISBLANK(C1244)),\"\",VLOOKUP(C1244,Sheet2!A:F,3,FALSE))","v":""},{"$f":"IF(OR(C1244=\"\",ISBLANK(C1244)),\"\",VLOOKUP(C1244,Sheet2!A:G,6,FALSE))","v":""},""]
[{"$f":"IF(OR(C1245=\"\",ISBLANK(C1245)),\"\",VLOOKUP(C1245,Sheet2!A:F,2,FALSE))","v":""},{"$f":"IF(OR(C1245=\"\",ISBLANK(C1245)),\"\",VLOOKUP(C1245,Sheet2!A:G,4,FALSE))","v":""},null,null,{"$f":"IF(OR(C1245=\"\",ISBLANK(C1245)),\"\",VLOOKUP(C1245,Sheet2!A:F,3,FALSE))","v":""},{"$f":"IF(OR(C1245=\"\",ISBLANK(C1245)),\"\",VLOOKUP(C1245,Sheet2!A:G,6,FALSE))","v":""},""]
[{"$f":"IF(OR(C1246=\"\",ISBLANK(C1246)),\"\",VLOOKUP(C1246,Sheet2!A:F,2,FALSE))","v":""},{"$f":"IF(OR(C1246=\"\",ISBLANK(C1246)),\"\",VLOOKUP(C1246,Sheet2!A:G,4,FALSE))","v":""},null,null,{"$f":"IF(OR(C1246=\"\",ISBLANK(C1246)),\"\",VLOOKUP(C1246,Sheet2!A:F,3,FALSE))","v":""},{"$f":"IF(OR(C1246=\"\",ISBLANK(C1246)),\"\",VLOOKUP(C1246,Sheet2!A:G,6,FALSE))","v":""},""]
[{"$f":"IF(OR(C1247=\"\",ISBLANK(C1247)),\"\",VLOOKUP(C1247,Sheet2!A:F,2,FALSE))","v":""},{"$f":"IF(OR(C1247=\"\",ISBLANK(C1247)),\"\",VLOOKUP(C1247,Sheet2!A:G,4,FALSE))","v":""},null,null,{"$f":"IF(OR(C1247=\"\",ISBLANK(C1247)),\"\",VLOOKUP(C1247,Sheet2!A:F,3,FALSE))","v":""},{"$f":"IF(OR(C1247=\"\",ISBLANK(C1247)),\"\",VLOOKUP(C1247,Sheet2!A:G,6,FALSE))","v":""},""]
[{"$f":"IF(OR(C1248=\"\",ISBLANK(C1248)),\"\",VLOOKUP(C1248,Sheet2!A:F,2,FALSE))","v":""},{"$f":"IF(OR(C1248=\"\",ISBLANK(C1248)),\"\",VLOOKUP(C1248,Sheet2!A:G,4,FALSE))","v":""},null,null,{"$f":"IF(OR(C1248=\"\",ISBLANK(C1248)),\"\",VLOOKUP(C1248,Sheet2!A:F,3,FALSE))","v":""},{"$f":"IF(OR(C1248=\"\",ISBLANK(C1248)),\"\",VLOOKUP(C1248,Sheet2!A:G,6,FALSE))","v":""},""]
[{"$f":"IF(OR(C1249=\"\",ISBLANK(C1249)),\"\",VLOOKUP(C1249,Sheet2!A:F,2,FALSE))","v":""},{"$f":"IF(OR(C1249=\"\",ISBLANK(C1249)),\"\",VLOOKUP(C1249,Sheet2!A:G,4,FALSE))","v":""},null,null,{"$f":"IF(OR(C1249=\"\",ISBLANK(C1249)),\"\",VLOOKUP(C1249,Sheet2!A:F,3,FALSE))","v":""},{"$f":"IF(OR(C1249=\"\",ISBLANK(C1249)),\"\",VLOOKUP(C1249,Sheet2!A:G,6,FALSE))","v":""},""]
[{"$f":"IF(OR(C1250=\"\",ISBLANK(C1250)),\"\",VLOOKUP(C1250,Sheet2!A:F,2,FALSE))","v":""},{"$f":"IF(OR(C1250=\"\",ISBLANK(C1250)),\"\",VLOOKUP(C1250,Sheet2!A:G,4,FALSE))","v":""},null,null,{"$f":"IF(OR(C1250=\"\",ISBLANK(C1250)),\"\",VLOOKUP(C1250,Sheet2!A:F,3,FALSE))","v":""},{"$f":"IF(OR(C1250=\"\",ISBLANK(C1250)),\"\",VLOOKUP(C1250,Sheet2!A:G,6,FALSE))","v":""},""]
[{"$f":"IF(OR(C1251=\"\",ISBLANK(C1251)),\"\",VLOOKUP(C1251,Sheet2!A:F,2,FALSE))","v":""},{"$f":"IF(OR(C1251=\"\",ISBLANK(C1251)),\"\",VLOOKUP(C1251,Sheet2!A:G,4,FALSE))","v":""},null,null,{"$f":"IF(OR(C1251=\"\",ISBLANK(C1251)),\"\",VLOOKUP(C1251,Sheet2!A:F,3,FALSE))","v":""},{"$f":"IF(OR(C1251=\"\",ISBLANK(C1251)),\"\",VLOOKUP(C1251,Sheet2!A:G,6,FALSE))","v":""},""]
[{"$f":"IF(OR(C1252=\"\",ISBLANK(C1252)),\"\",VLOOKUP(C1252,Sheet2!A:F,2,FALSE))","v":""},{"$f":"IF(OR(C1252=\"\",ISBLANK(C1252)),\"\",VLOOKUP(C1252,Sheet2!A:G,4,FALSE))","v":""},null,null,{"$f":"IF(OR(C1252=\"\",ISBLANK(C1252)),\"\",VLOOKUP(C1252,Sheet2!A:F,3,FALSE))","v":""},{"$f":"IF(OR(C1252=\"\",ISBLANK(C1252)),\"\",VLOOKUP(C1252,Sheet2!A:G,6,FALSE))","v":""},""]
[{"$f":"IF(OR(C1253=\"\",ISBLANK(C1253)),\"\",VLOOKUP(C1253,Sheet2!A:F,2,FALSE))","v":""},{"$f":"IF(OR(C1253=\"\",ISBLANK(C1253)),\"\",VLOOKUP(C1253,Sheet2!A:G,4,FALSE))","v":""},null,null,{"$f":"IF(OR(C1253=\"\",ISBLANK(C1253)),\"\",VLOOKUP(C1253,Sheet2!A:F,3,FALSE))","v":""},{"$f":"IF(OR(C1253=\"\",ISBLANK(C1253)),\"\",VLOOKUP(C1253,Sheet2!A:G,6,FALSE))","v":""},""]
[{"$f":"IF(OR(C1254=\"\",ISBLANK(C1254)),\"\",VLOOKUP(C1254,Sheet2!A:F,2,FALSE))","v":""},{"$f":"IF(OR(C1254=\"\",ISBLANK(C1254)),\"\",VLOOKUP(C1254,Sheet2!A:G,4,FALSE))","v":""},null,null,{"$f":"IF(OR(C1254=\"\",ISBLANK(C1254)),\"\",VLOOKUP(C1254,Sheet2!A:F,3,FALSE))","v":""},{"$f":"IF(OR(C1254=\"\",ISBLANK(C1254)),\"\",VLOOKUP(C1254,Sheet2!A:G,6,FALSE))","v":""},""]
[{"$f":"IF(OR(C1255=\"\",ISBLANK(C1255)),\"\",VLOOKUP(C1255,Sheet2!A:F,2,FALSE))","v":""},{"$f":"IF(OR(C1255=\"\",ISBLANK(C1255)),\"\",VLOOKUP(C1255,Sheet2!A:G,4,FALSE))","v":""},null,null,{"$f":"IF(OR(C1255=\"\",ISBLANK(C1255)),\"\",VLOOKUP(C1255,Sheet2!A:F,3,FALSE))","v":""},{"$f":"IF(OR(C1255=\"\",ISBLANK(C1255)),\"\",VLOOKUP(C1255,Sheet2!A:G,6,FALSE))","v":""},""]
[{"$f":"IF(OR(C1256=\"\",ISBLANK(C1256)),\"\",VLOOKUP(C1256,Sheet2!A:F,2,FALSE))","v":""},{"$f":"IF(OR(C1256=\"\",ISBLANK(C1256)),\"\",VLOOKUP(C1256,Sheet2!A:G,4,FALSE))","v":""},null,null,{"$f":"IF(OR(C1256=\"\",ISBLANK(C1256)),\"\",VLOOKUP(C1256,Sheet2!A:F,3,FALSE))","v":""},{"$f":"IF(OR(C1256=\"\",ISBLANK(C1256)),\"\",VLOOKUP(C1256,Sheet2!A:G,6,FALSE))","v":""},""]
[{"$f":"IF(OR(C1257=\"\",ISBLANK(C1257)),\"\",VLOOKUP(C1257,Sheet2!A:F,2,FALSE))","v":""},{"$f":"IF(OR(C1257=\"\",ISBLANK(C1257)),\"\",VLOOKUP(C1257,Sheet2!A:G,4,FALSE))","v":""},null,null,{"$f":"IF(OR(C1257=\"\",ISBLANK(C1257)),\"\",VLOOKUP(C1257,Sheet2!A:F,3,FALSE))","v":""},{"$f":"IF(OR(C1257=\"\",ISBLANK(C1257)),\"\",VLOOKUP(C1257,Sheet2!A:G,6,FALSE))","v":""},""]
[{"$f":"IF(OR(C1258=\"\",ISBLANK(C1258)),\"\",VLOOKUP(C1258,Sheet2!A:F,2,FALSE))","v":""},{"$f":"IF(OR(C1258=\"\",ISBLANK(C1258)),\"\",VLOOKUP(C1258,Sheet2!A:G,4,FALSE))","v":""},null,null,{"$f":"IF(OR(C1258=\"\",ISBLANK(C1258)),\"\",VLOOKUP(C1258,Sheet2!A:F,3,FALSE))","v":""},{"$f":"IF(OR(C1258=\"\",ISBLANK(C1258)),\"\",VLOOKUP(C1258,Sheet2!A:G,6,FALSE))","v":""},""]
[{"$f":"IF(OR(C1259=\"\",ISBLANK(C1259)),\"\",VLOOKUP(C1259,Sheet2!A:F,2,FALSE))","v":""},{"$f":"IF(OR(C1259=\"\",ISBLANK(C1259)),\"\",VLOOKUP(C1259,Sheet2!A:G,4,FALSE))","v":""},null,null,{"$f":"IF(OR(C1259=\"\",ISBLANK(C1259)),\"\",VLOOKUP(C1259,Sheet2!A:F,3,FALSE))","v":""},{"$f":"IF(OR(C1259=\"\",ISBLANK(C1259)),\"\",VLOOKUP(C1259,Sheet2!A:G,6,FALSE))","v":""},""]
[{"$f":"IF(OR(C1260=\"\",ISBLANK(C1260)),\"\",VLOOKUP(C1260,Sheet2!A:F,2,FALSE))","v":""},{"$f":"IF(OR(C1260=\"\",ISBLANK(C1260)),\"\",VLOOKUP(C1260,Sheet2!A:G,4,FALSE))","v":""},null,null,{"$f":"IF(OR(C1260=\"\",ISBLANK(C1260)),\"\",VLOOKUP(C1260,Sheet2!A:F,3,FALSE))","v":""},{"$f":"IF(OR(C1260=\"\",ISBLANK(C1260)),\"\",VLOOKUP(C1260,Sheet2!A:G,6,FALSE))","v":""},""]
[{"$f":"IF(OR(C1261=\"\",ISBLANK(C1261)),\"\",VLOOKUP(C1261,Sheet2!A:F,2,FALSE))","v":""},{"$f":"IF(OR(C1261=\"\",ISBLANK(C1261)),\"\",VLOOKUP(C1261,Sheet2!A:G,4,FALSE))","v":""},null,null,{"$f":"IF(OR(C1261=\"\",ISBLANK(C1261)),\"\",VLOOKUP(C1261,Sheet2!A:F,3,FALSE))","v":""},{"$f":"IF(OR(C1261=\"\",ISBLANK(C1261)),\"\",VLOOKUP(C1261,Sheet2!A:G,6,FALSE))","v":""},""]
[{"$f":"IF(OR(C1262=\"\",ISBLANK(C1262)),\"\",VLOOKUP(C1262,Sheet2!A:F,2,FALSE))","v":""},{"$f":"IF(OR(C1262=\"\",ISBLANK(C1262)),\"\",VLOOKUP(C1262,Sheet2!A:G,4,FALSE))","v":""},null,null,{"$f":"IF(OR(C1262=\"\",ISBLANK(C1262)),\"\",VLOOKUP(C1262,Sheet2!A:F,3,FALSE))","v":""},{"$f":"IF(OR(C1262=\"\",ISBLANK(C1262)),\"\",VLOOKUP(C1262,Sheet2!A:G,6,FALSE))","v":""},""]
[{"$f":"IF(OR(C1263=\"\",ISBLANK(C1263)),\"\",VLOOKUP(C1263,Sheet2!A:F,2,FALSE))","v":""},{"$f":"IF(OR(C1263=\"\",ISBLANK(C1263)),\"\",VLOOKUP(C1263,Sheet2!A:G,4,FALSE))","v":""},null,null,{"$f":"IF(OR(C1263=\"\",ISBLANK(C1263)),\"\",VLOOKUP(C1263,Sheet2!A:F,3,FALSE))","v":""},{"$f":"IF(OR(C1263=\"\",ISBLANK(C1263)),\"\",VLOOKUP(C1263,Sheet2!A:G,6,FALSE))","v":""},""]
[{"$f":"IF(OR(C1264=\"\",ISBLANK(C1264)),\"\",VLOOKUP(C1264,Sheet2!A:F,2,FALSE))","v":""},{"$f":"IF(OR(C1264=\"\",ISBLANK(C1264)),\"\",VLOOKUP(C1264,Sheet2!A:G,4,FALSE))","v":""},null,null,{"$f":"IF(OR(C1264=\"\",ISBLANK(C1264)),\"\",VLOOKUP(C1264,Sheet2!A:F,3,FALSE))","v":""},{"$f":"IF(OR(C1264=\"\",ISBLANK(C1264)),\"\",VLOOKUP(C1264,Sheet2!A:G,6,FALSE))","v":""},""]
[{"$f":"IF(OR(C1265=\"\",ISBLANK(C1265)),\"\",VLOOKUP(C1265,Sheet2!A:F,2,FALSE))","v":""},{"$f":"IF(OR(C1265=\"\",ISBLANK(C1265)),\"\",VLOOKUP(C1265,Sheet2!A:G,4,FALSE))","v":""},null,null,{"$f":"IF(OR(C1265=\"\",ISBLANK(C1265)),\"\",VLOOKUP(C1265,Sheet2!A:F,3,FALSE))","v":""},{"$f":"IF(OR(C1265=\"\",ISBLANK(C1265)),\"\",VLOOKUP(C1265,Sheet2!A:G,6,FALSE))","v":""},""]
[{"$f":"IF(OR(C1266=\"\",ISBLANK(C1266)),\"\",VLOOKUP(C1266,Sheet2!A:F,2,FALSE))","v":""},{"$f":"IF(OR(C1266=\"\",ISBLANK(C1266)),\"\",VLOOKUP(C1266,Sheet2!A:G,4,FALSE))","v":""},null,null,{"$f":"IF(OR(C1266=\"\",ISBLANK(C1266)),\"\",VLOOKUP(C1266,Sheet2!A:F,3,FALSE))","v":""},{"$f":"IF(OR(C1266=\"\",ISBLANK(C1266)),\"\",VLOOKUP(C1266,Sheet2!A:G,6,FALSE))","v":""},""]
[{"$f":"IF(OR(C1267=\"\",ISBLANK(C1267)),\"\",VLOOKUP(C1267,Sheet2!A:F,2,FALSE))","v":""},{"$f":"IF(OR(C1267=\"\",ISBLANK(C1267)),\"\",VLOOKUP(C1267,Sheet2!A:G,4,FALSE))","v":""},null,null,{"$f":"IF(OR(C1267=\"\",ISBLANK(C1267)),\"\",VLOOKUP(C1267,Sheet2!A:F,3,FALSE))","v":""},{"$f":"IF(OR(C1267=\"\",ISBLANK(C1267)),\"\",VLOOKUP(C1267,Sheet2!A:G,6,FALSE))","v":""},""]
[{"$f":"IF(OR(C1268=\"\",ISBLANK(C1268)),\"\",VLOOKUP(C1268,Sheet2!A:F,2,FALSE))","v":""},{"$f":"IF(OR(C1268=\"\",ISBLANK(C1268)),\"\",VLOOKUP(C1268,Sheet2!A:G,4,FALSE))","v":""},null,null,{"$f":"IF(OR(C1268=\"\",ISBLANK(C1268)),\"\",VLOOKUP(C1268,Sheet2!A:F,3,FALSE))","v":""},{"$f":"IF(OR(C1268=\"\",ISBLANK(C1268)),\"\",VLOOKUP(C1268,Sheet2!A:G,6,FALSE))","v":""},""]
[{"$f":"IF(OR(C1269=\"\",ISBLANK(C1269)),\"\",VLOOKUP(C1269,Sheet2!A:F,2,FALSE))","v":""},{"$f":"IF(OR(C1269=\"\",ISBLANK(C1269)),\"\",VLOOKUP(C1269,Sheet2!A:G,4,FALSE))","v":""},null,null,{"$f":"IF(OR(C1269=\"\",ISBLANK(C1269)),\"\",VLOOKUP(C1269,Sheet2!A:F,3,FALSE))","v":""},{"$f":"IF(OR(C1269=\"\",ISBLANK(C1269)),\"\",VLOOKUP(C1269,Sheet2!A:G,6,FALSE))","v":""},""]
[{"$f":"IF(OR(C1270=\"\",ISBLANK(C1270)),\"\",VLOOKUP(C1270,Sheet2!A:F,2,FALSE))","v":""},{"$f":"IF(OR(C1270=\"\",ISBLANK(C1270)),\"\",VLOOKUP(C1270,Sheet2!A:G,4,FALSE))","v":""},null,null,{"$f":"IF(OR(C1270=\"\",ISBLANK(C1270)),\"\",VLOOKUP(C1270,Sheet2!A:F,3,FALSE))","v":""},{"$f":"IF(OR(C1270=\"\",ISBLANK(C1270)),\"\",VLOOKUP(C1270,Sheet2!A:G,6,FALSE))","v":""},""]
[{"$f":"IF(OR(C1271=\"\",ISBLANK(C1271)),\"\",VLOOKUP(C1271,Sheet2!A:F,2,FALSE))","v":""},{"$f":"IF(OR(C1271=\"\",ISBLANK(C1271)),\"\",VLOOKUP(C1271,Sheet2!A:G,4,FALSE))","v":""},null,null,{"$f":"IF(OR(C1271=\"\",ISBLANK(C1271)),\"\",VLOOKUP(C1271,Sheet2!A:F,3,FALSE))","v":""},{"$f":"IF(OR(C1271=\"\",ISBLANK(C1271)),\"\",VLOOKUP(C1271,Sheet2!A:G,6,FALSE))","v":""},""]
[{"$f":"IF(OR(C1272=\"\",ISBLANK(C1272)),\"\",VLOOKUP(C1272,Sheet2!A:F,2,FALSE))","v":""},{"$f":"IF(OR(C1272=\"\",ISBLANK(C1272)),\"\",VLOOKUP(C1272,Sheet2!A:G,4,FALSE))","v":""},null,null,{"$f":"IF(OR(C1272=\"\",ISBLANK(C1272)),\"\",VLOOKUP(C1272,Sheet2!A:F,3,FALSE))","v":""},{"$f":"IF(OR(C1272=\"\",ISBLANK(C1272)),\"\",VLOOKUP(C1272,Sheet2!A:G,6,FALSE))","v":""},""]
[{"$f":"IF(OR(C1273=\"\",ISBLANK(C1273)),\"\",VLOOKUP(C1273,Sheet2!A:F,2,FALSE))","v":""},{"$f":"IF(OR(C1273=\"\",ISBLANK(C1273)),\"\",VLOOKUP(C1273,Sheet2!A:G,4,FALSE))","v":""},null,null,{"$f":"IF(OR(C1273=\"\",ISBLANK(C1273)),\"\",VLOOKUP(C1273,Sheet2!A:F,3,FALSE))","v":""},{"$f":"IF(OR(C1273=\"\",ISBLANK(C1273)),\"\",VLOOKUP(C1273,Sheet2!A:G,6,FALSE))","v":""},""]
[{"$f":"IF(OR(C1274=\"\",ISBLANK(C1274)),\"\",VLOOKUP(C1274,Sheet2!A:F,2,FALSE))","v":""},{"$f":"IF(OR(C1274=\"\",ISBLANK(C1274)),\"\",VLOOKUP(C1274,Sheet2!A:G,4,FALSE))","v":""},null,null,{"$f":"IF(OR(C1274=\"\",ISBLANK(C1274)),\"\",VLOOKUP(C1274,Sheet2!A:F,3,FALSE))","v":""},{"$f":"IF(OR(C1274=\"\",ISBLANK(C1274)),\"\",VLOOKUP(C1274,Sheet2!A:G,6,FALSE))","v":""},""]
[{"$f":"IF(OR(C1275=\"\",ISBLANK(C1275)),\"\",VLOOKUP(C1275,Sheet2!A:F,2,FALSE))","v":""},{"$f":"IF(OR(C1275=\"\",ISBLANK(C1275)),\"\",VLOOKUP(C1275,Sheet2!A:G,4,FALSE))","v":""},null,null,{"$f":"IF(OR(C1275=\"\",ISBLANK(C1275)),\"\",VLOOKUP(C1275,Sheet2!A:F,3,FALSE))","v":""},{"$f":"IF(OR(C1275=\"\",ISBLANK(C1275)),\"\",VLOOKUP(C1275,Sheet2!A:G,6,FALSE))","v":""},""]
[{"$f":"IF(OR(C1276=\"\",ISBLANK(C1276)),\"\",VLOOKUP(C1276,Sheet2!A:F,2,FALSE))","v":""},{"$f":"IF(OR(C1276=\"\",ISBLANK(C1276)),\"\",VLOOKUP(C1276,Sheet2!A:G,4,FALSE))","v":""},null,null,{"$f":"IF(OR(C1276=\"\",ISBLANK(C1276)),\"\",VLOOKUP(C1276,Sheet2!A:F,3,FALSE))","v":""},{"$f":"IF(OR(C1276=\"\",ISBLANK(C1276)),\"\",VLOOKUP(C1276,Sheet2!A:G,6,FALSE))","v":""},""]
[{"$f":"IF(OR(C1277=\"\",ISBLANK(C1277)),\"\",VLOOKUP(C1277,Sheet2!A:F,2,FALSE))","v":""},{"$f":"IF(OR(C1277=\"\",ISBLANK(C1277)),\"\",VLOOKUP(C1277,Sheet2!A:G,4,FALSE))","v":""},null,null,{"$f":"IF(OR(C1277=\"\",ISBLANK(C1277)),\"\",VLOOKUP(C1277,Sheet2!A:F,3,FALSE))","v":""},{"$f":"IF(OR(C1277=\"\",ISBLANK(C1277)),\"\",VLOOKUP(C1277,Sheet2!A:G,6,FALSE))","v":""},""]
[{"$f":"IF(OR(C1278=\"\",ISBLANK(C1278)),\"\",VLOOKUP(C1278,Sheet2!A:F,2,FALSE))","v":""},{"$f":"IF(OR(C1278=\"\",ISBLANK(C1278)),\"\",VLOOKUP(C1278,Sheet2!A:G,4,FALSE))","v":""},null,null,{"$f":"IF(OR(C1278=\"\",ISBLANK(C1278)),\"\",VLOOKUP(C1278,Sheet2!A:F,3,FALSE))","v":""},{"$f":"IF(OR(C1278=\"\",ISBLANK(C1278)),\"\",VLOOKUP(C1278,Sheet2!A:G,6,FALSE))","v":""},""]
[{"$f":"IF(OR(C1279=\"\",ISBLANK(C1279)),\"\",VLOOKUP(C1279,Sheet2!A:F,2,FALSE))","v":""},{"$f":"IF(OR(C1279=\"\",ISBLANK(C1279)),\"\",VLOOKUP(C1279,Sheet2!A:G,4,FALSE))","v":""},null,null,{"$f":"IF(OR(C1279=\"\",ISBLANK(C1279)),\"\",VLOOKUP(C1279,Sheet2!A:F,3,FALSE))","v":""},{"$f":"IF(OR(C1279=\"\",ISBLANK(C1279)),\"\",VLOOKUP(C1279,Sheet2!A:G,6,FALSE))","v":""},""]
[{"$f":"IF(OR(C1280=\"\",ISBLANK(C1280)),\"\",VLOOKUP(C1280,Sheet2!A:F,2,FALSE))","v":""},{"$f":"IF(OR(C1280=\"\",ISBLANK(C1280)),\"\",VLOOKUP(C1280,Sheet2!A:G,4,FALSE))","v":""},null,null,{"$f":"IF(OR(C1280=\"\",ISBLANK(C1280)),\"\",VLOOKUP(C1280,Sheet2!A:F,3,FALSE))","v":""},{"$f":"IF(OR(C1280=\"\",ISBLANK(C1280)),\"\",VLOOKUP(C1280,Sheet2!A:G,6,FALSE))","v":""},""]
[{"$f":"IF(OR(C1281=\"\",ISBLANK(C1281)),\"\",VLOOKUP(C1281,Sheet2!A:F,2,FALSE))","v":""},{"$f":"IF(OR(C1281=\"\",ISBLANK(C1281)),\"\",VLOOKUP(C1281,Sheet2!A:G,4,FALSE))","v":""},null,null,{"$f":"IF(OR(C1281=\"\",ISBLANK(C1281)),\"\",VLOOKUP(C1281,Sheet2!A:F,3,FALSE))","v":""},{"$f":"IF(OR(C1281=\"\",ISBLANK(C1281)),\"\",VLOOKUP(C1281,Sheet2!A:G,6,FALSE))","v":""},""]
[{"$f":"IF(OR(C1282=\"\",ISBLANK(C1282)),\"\",VLOOKUP(C1282,Sheet2!A:F,2,FALSE))","v":""},{"$f":"IF(OR(C1282=\"\",ISBLANK(C1282)),\"\",VLOOKUP(C1282,Sheet2!A:G,4,FALSE))","v":""},null,null,{"$f":"IF(OR(C1282=\"\",ISBLANK(C1282)),\"\",VLOOKUP(C1282,Sheet2!A:F,3,FALSE))","v":""},{"$f":"IF(OR(C1282=\"\",ISBLANK(C1282)),\"\",VLOOKUP(C1282,Sheet2!A:G,6,FALSE))","v":""},""]
[{"$f":"IF(OR(C1283=\"\",ISBLANK(C1283)),\"\",VLOOKUP(C1283,Sheet2!A:F,2,FALSE))","v":""},{"$f":"IF(OR(C1283=\"\",ISBLANK(C1283)),\"\",VLOOKUP(C1283,Sheet2!A:G,4,FALSE))","v":""},null,null,{"$f":"IF(OR(C1283=\"\",ISBLANK(C1283)),\"\",VLOOKUP(C1283,Sheet2!A:F,3,FALSE))","v":""},{"$f":"IF(OR(C1283=\"\",ISBLANK(C1283)),\"\",VLOOKUP(C1283,Sheet2!A:G,6,FALSE))","v":""},{"$f":"IF(F1283=0,\"\",F1283)","v":""}]
[{"$f":"IF(OR(C1284=\"\",ISBLANK(C1284)),\"\",VLOOKUP(C1284,Sheet2!A:F,2,FALSE))","v":""},{"$f":"IF(OR(C1284=\"\",ISBLANK(C1284)),\"\",VLOOKUP(C1284,Sheet2!A:G,4,FALSE))","v":""},null,null,{"$f":"IF(OR(C1284=\"\",ISBLANK(C1284)),\"\",VLOOKUP(C1284,Sheet2!A:F,3,FALSE))","v":""},{"$f":"IF(OR(C1284=\"\",ISBLANK(C1284)),\"\",VLOOKUP(C1284,Sheet2!A:G,6,FALSE))","v":""},""]
[{"$f":"IF(OR(C1285=\"\",ISBLANK(C1285)),\"\",VLOOKUP(C1285,Sheet2!A:F,2,FALSE))","v":""},{"$f":"IF(OR(C1285=\"\",ISBLANK(C1285)),\"\",VLOOKUP(C1285,Sheet2!A:G,4,FALSE))","v":""},null,null,{"$f":"IF(OR(C1285=\"\",ISBLANK(C1285)),\"\",VLOOKUP(C1285,Sheet2!A:F,3,FALSE))","v":""},{"$f":"IF(OR(C1285=\"\",ISBLANK(C1285)),\"\",VLOOKUP(C1285,Sheet2!A:G,6,FALSE))","v":""},""]
[{"$f":"IF(OR(C1286=\"\",ISBLANK(C1286)),\"\",VLOOKUP(C1286,Sheet2!A:F,2,FALSE))","v":""},{"$f":"IF(OR(C1286=\"\",ISBLANK(C1286)),\"\",VLOOKUP(C1286,Sheet2!A:G,4,FALSE))","v":""},null,null,{"$f":"IF(OR(C1286=\"\",ISBLANK(C1286)),\"\",VLOOKUP(C1286,Sheet2!A:F,3,FALSE))","v":""},{"$f":"IF(OR(C1286=\"\",ISBLANK(C1286)),\"\",VLOOKUP(C1286,Sheet2!A:G,6,FALSE))","v":""},""]
[{"$f":"IF(OR(C1287=\"\",ISBLANK(C1287)),\"\",VLOOKUP(C1287,Sheet2!A:F,2,FALSE))","v":""},{"$f":"IF(OR(C1287=\"\",ISBLANK(C1287)),\"\",VLOOKUP(C1287,Sheet2!A:G,4,FALSE))","v":""},null,null,{"$f":"IF(OR(C1287=\"\",ISBLANK(C1287)),\"\",VLOOKUP(C1287,Sheet2!A:F,3,FALSE))","v":""},{"$f":"IF(OR(C1287=\"\",ISBLANK(C1287)),\"\",VLOOKUP(C1287,Sheet2!A:G,6,FALSE))","v":""},""]
[{"$f":"IF(OR(C1288=\"\",ISBLANK(C1288)),\"\",VLOOKUP(C1288,Sheet2!A:F,2,FALSE))","v":""},{"$f":"IF(OR(C1288=\"\",ISBLANK(C1288)),\"\",VLOOKUP(C1288,Sheet2!A:G,4,FALSE))","v":""},null,null,{"$f":"IF(OR(C1288=\"\",ISBLANK(C1288)),\"\",VLOOKUP(C1288,Sheet2!A:F,3,FALSE))","v":""},{"$f":"IF(OR(C1288=\"\",ISBLANK(C1288)),\"\",VLOOKUP(C1288,Sheet2!A:G,6,FALSE))","v":""},""]
[{"$f":"IF(OR(C1289=\"\",ISBLANK(C1289)),\"\",VLOOKUP(C1289,Sheet2!A:F,2,FALSE))","v":""},{"$f":"IF(OR(C1289=\"\",ISBLANK(C1289)),\"\",VLOOKUP(C1289,Sheet2!A:G,4,FALSE))","v":""},null,null,{"$f":"IF(OR(C1289=\"\",ISBLANK(C1289)),\"\",VLOOKUP(C1289,Sheet2!A:F,3,FALSE))","v":""},{"$f":"IF(OR(C1289=\"\",ISBLANK(C1289)),\"\",VLOOKUP(C1289,Sheet2!A:G,6,FALSE))","v":""},""]
[{"$f":"IF(OR(C1290=\"\",ISBLANK(C1290)),\"\",VLOOKUP(C1290,Sheet2!A:F,2,FALSE))","v":""},{"$f":"IF(OR(C1290=\"\",ISBLANK(C1290)),\"\",VLOOKUP(C1290,Sheet2!A:G,4,FALSE))","v":""},null,null,{"$f":"IF(OR(C1290=\"\",ISBLANK(C1290)),\"\",VLOOKUP(C1290,Sheet2!A:F,3,FALSE))","v":""},{"$f":"IF(OR(C1290=\"\",ISBLANK(C1290)),\"\",VLOOKUP(C1290,Sheet2!A:G,6,FALSE))","v":""},""]
[{"$f":"IF(OR(C1291=\"\",ISBLANK(C1291)),\"\",VLOOKUP(C1291,Sheet2!A:F,2,FALSE))","v":""},{"$f":"IF(OR(C1291=\"\",ISBLANK(C1291)),\"\",VLOOKUP(C1291,Sheet2!A:G,4,FALSE))","v":""},null,null,{"$f":"IF(OR(C1291=\"\",ISBLANK(C1291)),\"\",VLOOKUP(C1291,Sheet2!A:F,3,FALSE))","v":""},{"$f":"IF(OR(C1291=\"\",ISBLANK(C1291)),\"\",VLOOKUP(C1291,Sheet2!A:G,6,FALSE))","v":""},""]
[{"$f":"IF(OR(C1292=\"\",ISBLANK(C1292)),\"\",VLOOKUP(C1292,Sheet2!A:F,2,FALSE))","v":""},{"$f":"IF(OR(C1292=\"\",ISBLANK(C1292)),\"\",VLOOKUP(C1292,Sheet2!A:G,4,FALSE))","v":""},null,null,{"$f":"IF(OR(C1292=\"\",ISBLANK(C1292)),\"\",VLOOKUP(C1292,Sheet2!A:F,3,FALSE))","v":""},{"$f":"IF(OR(C1292=\"\",ISBLANK(C1292)),\"\",VLOOKUP(C1292,Sheet2!A:G,6,FALSE))","v":""},""]
[{"$f":"IF(OR(C1293=\"\",ISBLANK(C1293)),\"\",VLOOKUP(C1293,Sheet2!A:F,2,FALSE))","v":""},{"$f":"IF(OR(C1293=\"\",ISBLANK(C1293)),\"\",VLOOKUP(C1293,Sheet2!A:G,4,FALSE))","v":""},null,null,{"$f":"IF(OR(C1293=\"\",ISBLANK(C1293)),\"\",VLOOKUP(C1293,Sheet2!A:F,3,FALSE))","v":""},{"$f":"IF(OR(C1293=\"\",ISBLANK(C1293)),\"\",VLOOKUP(C1293,Sheet2!A:G,6,FALSE))","v":""},""]
[{"$f":"IF(OR(C1294=\"\",ISBLANK(C1294)),\"\",VLOOKUP(C1294,Sheet2!A:F,2,FALSE))","v":""},{"$f":"IF(OR(C1294=\"\",ISBLANK(C1294)),\"\",VLOOKUP(C1294,Sheet2!A:G,4,FALSE))","v":""},null,null,{"$f":"IF(OR(C1294=\"\",ISBLANK(C1294)),\"\",VLOOKUP(C1294,Sheet2!A:F,3,FALSE))","v":""},{"$f":"IF(OR(C1294=\"\",ISBLANK(C1294)),\"\",VLOOKUP(C1294,Sheet2!A:G,6,FALSE))","v":""},""]
[{"$f":"IF(OR(C1295=\"\",ISBLANK(C1295)),\"\",VLOOKUP(C1295,Sheet2!A:F,2,FALSE))","v":""},{"$f":"IF(OR(C1295=\"\",ISBLANK(C1295)),\"\",VLOOKUP(C1295,Sheet2!A:G,4,FALSE))","v":""},null,null,{"$f":"IF(OR(C1295=\"\",ISBLANK(C1295)),\"\",VLOOKUP(C1295,Sheet2!A:F,3,FALSE))","v":""},{"$f":"IF(OR(C1295=\"\",ISBLANK(C1295)),\"\",VLOOKUP(C1295,Sheet2!A:G,6,FALSE))","v":""},""]
[{"$f":"IF(OR(C1296=\"\",ISBLANK(C1296)),\"\",VLOOKUP(C1296,Sheet2!A:F,2,FALSE))","v":""},{"$f":"IF(OR(C1296=\"\",ISBLANK(C1296)),\"\",VLOOKUP(C1296,Sheet2!A:G,4,FALSE))","v":""},null,null,{"$f":"IF(OR(C1296=\"\",ISBLANK(C1296)),\"\",VLOOKUP(C1296,Sheet2!A:F,3,FALSE))","v":""},{"$f":"IF(OR(C1296=\"\",ISBLANK(C1296)),\"\",VLOOKUP(C1296,Sheet2!A:G,6,FALSE))","v":""},""]
[{"$f":"IF(OR(C1297=\"\",ISBLANK(C1297)),\"\",VLOOKUP(C1297,Sheet2!A:F,2,FALSE))","v":""},{"$f":"IF(OR(C1297=\"\",ISBLANK(C1297)),\"\",VLOOKUP(C1297,Sheet2!A:G,4,FALSE))","v":""},null,null,{"$f":"IF(OR(C1297=\"\",ISBLANK(C1297)),\"\",VLOOKUP(C1297,Sheet2!A:F,3,FALSE))","v":""},{"$f":"IF(OR(C1297=\"\",ISBLANK(C1297)),\"\",VLOOKUP(C1297,Sheet2!A:G,6,FALSE))","v":""},""]
[{"$f":"IF(OR(C1298=\"\",ISBLANK(C1298)),\"\",VLOOKUP(C1298,Sheet2!A:F,2,FALSE))","v":""},{"$f":"IF(OR(C1298=\"\",ISBLANK(C1298)),\"\",VLOOKUP(C1298,Sheet2!A:G,4,FALSE))","v":""},null,null,{"$f":"IF(OR(C1298=\"\",ISBLANK(C1298)),\"\",VLOOKUP(C1298,Sheet2!A:F,3,FALSE))","v":""},{"$f":"IF(OR(C1298=\"\",ISBLANK(C1298)),\"\",VLOOKUP(C1298,Sheet2!A:G,6,FALSE))","v":""},""]
[{"$f":"IF(OR(C1299=\"\",ISBLANK(C1299)),\"\",VLOOKUP(C1299,Sheet2!A:F,2,FALSE))","v":""},{"$f":"IF(OR(C1299=\"\",ISBLANK(C1299)),\"\",VLOOKUP(C1299,Sheet2!A:G,4,FALSE))","v":""},null,null,{"$f":"IF(OR(C1299=\"\",ISBLANK(C1299)),\"\",VLOOKUP(C1299,Sheet2!A:F,3,FALSE))","v":""},{"$f":"IF(OR(C1299=\"\",ISBLANK(C1299)),\"\",VLOOKUP(C1299,Sheet2!A:G,6,FALSE))","v":""},""]
[{"$f":"IF(OR(C1300=\"\",ISBLANK(C1300)),\"\",VLOOKUP(C1300,Sheet2!A:F,2,FALSE))","v":""},{"$f":"IF(OR(C1300=\"\",ISBLANK(C1300)),\"\",VLOOKUP(C1300,Sheet2!A:G,4,FALSE))","v":""},null,null,{"$f":"IF(OR(C1300=\"\",ISBLANK(C1300)),\"\",VLOOKUP(C1300,Sheet2!A:F,3,FALSE))","v":""},{"$f":"IF(OR(C1300=\"\",ISBLANK(C1300)),\"\",VLOOKUP(C1300,Sheet2!A:G,6,FALSE))","v":""},""]
[{"$f":"IF(OR(C1301=\"\",ISBLANK(C1301)),\"\",VLOOKUP(C1301,Sheet2!A:F,2,FALSE))","v":""},{"$f":"IF(OR(C1301=\"\",ISBLANK(C1301)),\"\",VLOOKUP(C1301,Sheet2!A:G,4,FALSE))","v":""},null,null,{"$f":"IF(OR(C1301=\"\",ISBLANK(C1301)),\"\",VLOOKUP(C1301,Sheet2!A:F,3,FALSE))","v":""},{"$f":"IF(OR(C1301=\"\",ISBLANK(C1301)),\"\",VLOOKUP(C1301,Sheet2!A:G,6,FALSE))","v":""},""]
[{"$f":"IF(OR(C1302=\"\",ISBLANK(C1302)),\"\",VLOOKUP(C1302,Sheet2!A:F,2,FALSE))","v":""},{"$f":"IF(OR(C1302=\"\",ISBLANK(C1302)),\"\",VLOOKUP(C1302,Sheet2!A:G,4,FALSE))","v":""},null,null,{"$f":"IF(OR(C1302=\"\",ISBLANK(C1302)),\"\",VLOOKUP(C1302,Sheet2!A:F,3,FALSE))","v":""},{"$f":"IF(OR(C1302=\"\",ISBLANK(C1302)),\"\",VLOOKUP(C1302,Sheet2!A:G,6,FALSE))","v":""},""]
[{"$f":"IF(OR(C1303=\"\",ISBLANK(C1303)),\"\",VLOOKUP(C1303,Sheet2!A:F,2,FALSE))","v":""},{"$f":"IF(OR(C1303=\"\",ISBLANK(C1303)),\"\",VLOOKUP(C1303,Sheet2!A:G,4,FALSE))","v":""},null,null,{"$f":"IF(OR(C1303=\"\",ISBLANK(C1303)),\"\",VLOOKUP(C1303,Sheet2!A:F,3,FALSE))","v":""},{"$f":"IF(OR(C1303=\"\",ISBLANK(C1303)),\"\",VLOOKUP(C1303,Sheet2!A:G,6,FALSE))","v":""},""]
[{"$f":"IF(OR(C1304=\"\",ISBLANK(C1304)),\"\",VLOOKUP(C1304,Sheet2!A:F,2,FALSE))","v":""},{"$f":"IF(OR(C1304=\"\",ISBLANK(C1304)),\"\",VLOOKUP(C1304,Sheet2!A:G,4,FALSE))","v":""},null,null,{"$f":"IF(OR(C1304=\"\",ISBLANK(C1304)),\"\",VLOOKUP(C1304,Sheet2!A:F,3,FALSE))","v":""},{"$f":"IF(OR(C1304=\"\",ISBLANK(C1304)),\"\",VLOOKUP(C1304,Sheet2!A:G,6,FALSE))","v":""},""]
[{"$f":"IF(OR(C1305=\"\",ISBLANK(C1305)),\"\",VLOOKUP(C1305,Sheet2!A:F,2,FALSE))","v":""},{"$f":"IF(OR(C1305=\"\",ISBLANK(C1305)),\"\",VLOOKUP(C1305,Sheet2!A:G,4,FALSE))","v":""},null,null,{"$f":"IF(OR(C1305=\"\",ISBLANK(C1305)),\"\",VLOOKUP(C1305,Sheet2!A:F,3,FALSE))","v":""},{"$f":"IF(OR(C1305=\"\",ISBLANK(C1305)),\"\",VLOOKUP(C1305,Sheet2!A:G,6,FALSE))","v":""},""]
[{"$f":"IF(OR(C1306=\"\",ISBLANK(C1306)),\"\",VLOOKUP(C1306,Sheet2!A:F,2,FALSE))","v":""},{"$f":"IF(OR(C1306=\"\",ISBLANK(C1306)),\"\",VLOOKUP(C1306,Sheet2!A:G,4,FALSE))","v":""},null,null,{"$f":"IF(OR(C1306=\"\",ISBLANK(C1306)),\"\",VLOOKUP(C1306,Sheet2!A:F,3,FALSE))","v":""},{"$f":"IF(OR(C1306=\"\",ISBLANK(C1306)),\"\",VLOOKUP(C1306,Sheet2!A:G,6,FALSE))","v":""},""]
[{"$f":"IF(OR(C1307=\"\",ISBLANK(C1307)),\"\",VLOOKUP(C1307,Sheet2!A:F,2,FALSE))","v":""},{"$f":"IF(OR(C1307=\"\",ISBLANK(C1307)),\"\",VLOOKUP(C1307,Sheet2!A:G,4,FALSE))","v":""},null,null,{"$f":"IF(OR(C1307=\"\",ISBLANK(C1307)),\"\",VLOOKUP(C1307,Sheet2!A:F,3,FALSE))","v":""},{"$f":"IF(OR(C1307=\"\",ISBLANK(C1307)),\"\",VLOOKUP(C1307,Sheet2!A:G,6,FALSE))","v":""},""]
[{"$f":"IF(OR(C1308=\"\",ISBLANK(C1308)),\"\",VLOOKUP(C1308,Sheet2!A:F,2,FALSE))","v":""},{"$f":"IF(OR(C1308=\"\",ISBLANK(C1308)),\"\",VLOOKUP(C1308,Sheet2!A:G,4,FALSE))","v":""},null,null,{"$f":"IF(OR(C1308=\"\",ISBLANK(C1308)),\"\",VLOOKUP(C1308,Sheet2!A:F,3,FALSE))","v":""},{"$f":"IF(OR(C1308=\"\",ISBLANK(C1308)),\"\",VLOOKUP(C1308,Sheet2!A:G,6,FALSE))","v":""},""]
[{"$f":"IF(OR(C1309=\"\",ISBLANK(C1309)),\"\",VLOOKUP(C1309,Sheet2!A:F,2,FALSE))","v":""},{"$f":"IF(OR(C1309=\"\",ISBLANK(C1309)),\"\",VLOOKUP(C1309,Sheet2!A:G,4,FALSE))","v":""},null,null,{"$f":"IF(OR(C1309=\"\",ISBLANK(C1309)),\"\",VLOOKUP(C1309,Sheet2!A:F,3,FALSE))","v":""},{"$f":"IF(OR(C1309=\"\",ISBLANK(C1309)),\"\",VLOOKUP(C1309,Sheet2!A:G,6,FALSE))","v":""},""]
[{"$f":"IF(OR(C1310=\"\",ISBLANK(C1310)),\"\",VLOOKUP(C1310,Sheet2!A:F,2,FALSE))","v":""},{"$f":"IF(OR(C1310=\"\",ISBLANK(C1310)),\"\",VLOOKUP(C1310,Sheet2!A:G,4,FALSE))","v":""},null,null,{"$f":"IF(OR(C1310=\"\",ISBLANK(C1310)),\"\",VLOOKUP(C1310,Sheet2!A:F,3,FALSE))","v":""},{"$f":"IF(OR(C1310=\"\",ISBLANK(C1310)),\"\",VLOOKUP(C1310,Sheet2!A:G,6,FALSE))","v":""},""]
[{"$f":"IF(OR(C1311=\"\",ISBLANK(C1311)),\"\",VLOOKUP(C1311,Sheet2!A:F,2,FALSE))","v":""},{"$f":"IF(OR(C1311=\"\",ISBLANK(C1311)),\"\",VLOOKUP(C1311,Sheet2!A:G,4,FALSE))","v":""},null,null,{"$f":"IF(OR(C1311=\"\",ISBLANK(C1311)),\"\",VLOOKUP(C1311,Sheet2!A:F,3,FALSE))","v":""},{"$f":"IF(OR(C1311=\"\",ISBLANK(C1311)),\"\",VLOOKUP(C1311,Sheet2!A:G,6,FALSE))","v":""},""]
[{"$f":"IF(OR(C1312=\"\",ISBLANK(C1312)),\"\",VLOOKUP(C1312,Sheet2!A:F,2,FALSE))","v":""},{"$f":"IF(OR(C1312=\"\",ISBLANK(C1312)),\"\",VLOOKUP(C1312,Sheet2!A:G,4,FALSE))","v":""},null,null,{"$f":"IF(OR(C1312=\"\",ISBLANK(C1312)),\"\",VLOOKUP(C1312,Sheet2!A:F,3,FALSE))","v":""},{"$f":"IF(OR(C1312=\"\",ISBLANK(C1312)),\"\",VLOOKUP(C1312,Sheet2!A:G,6,FALSE))","v":""},""]
[{"$f":"IF(OR(C1313=\"\",ISBLANK(C1313)),\"\",VLOOKUP(C1313,Sheet2!A:F,2,FALSE))","v":""},{"$f":"IF(OR(C1313=\"\",ISBLANK(C1313)),\"\",VLOOKUP(C1313,Sheet2!A:G,4,FALSE))","v":""},null,null,{"$f":"IF(OR(C1313=\"\",ISBLANK(C1313)),\"\",VLOOKUP(C1313,Sheet2!A:F,3,FALSE))","v":""},{"$f":"IF(OR(C1313=\"\",ISBLANK(C1313)),\"\",VLOOKUP(C1313,Sheet2!A:G,6,FALSE))","v":""},""]
[{"$f":"IF(OR(C1314=\"\",ISBLANK(C1314)),\"\",VLOOKUP(C1314,Sheet2!A:F,2,FALSE))","v":""},{"$f":"IF(OR(C1314=\"\",ISBLANK(C1314)),\"\",VLOOKUP(C1314,Sheet2!A:G,4,FALSE))","v":""},null,null,{"$f":"IF(OR(C1314=\"\",ISBLANK(C1314)),\"\",VLOOKUP(C1314,Sheet2!A:F,3,FALSE))","v":""},{"$f":"IF(OR(C1314=\"\",ISBLANK(C1314)),\"\",VLOOKUP(C1314,Sheet2!A:G,6,FALSE))","v":""},""]
[{"$f":"IF(OR(C1315=\"\",ISBLANK(C1315)),\"\",VLOOKUP(C1315,Sheet2!A:F,2,FALSE))","v":""},{"$f":"IF(OR(C1315=\"\",ISBLANK(C1315)),\"\",VLOOKUP(C1315,Sheet2!A:G,4,FALSE))","v":""},null,null,{"$f":"IF(OR(C1315=\"\",ISBLANK(C1315)),\"\",VLOOKUP(C1315,Sheet2!A:F,3,FALSE))","v":""},{"$f":"IF(OR(C1315=\"\",ISBLANK(C1315)),\"\",VLOOKUP(C1315,Sheet2!A:G,6,FALSE))","v":""},""]
[{"$f":"IF(OR(C1316=\"\",ISBLANK(C1316)),\"\",VLOOKUP(C1316,Sheet2!A:F,2,FALSE))","v":""},{"$f":"IF(OR(C1316=\"\",ISBLANK(C1316)),\"\",VLOOKUP(C1316,Sheet2!A:G,4,FALSE))","v":""},null,null,{"$f":"IF(OR(C1316=\"\",ISBLANK(C1316)),\"\",VLOOKUP(C1316,Sheet2!A:F,3,FALSE))","v":""},{"$f":"IF(OR(C1316=\"\",ISBLANK(C1316)),\"\",VLOOKUP(C1316,Sheet2!A:G,6,FALSE))","v":""},""]
[{"$f":"IF(OR(C1317=\"\",ISBLANK(C1317)),\"\",VLOOKUP(C1317,Sheet2!A:F,2,FALSE))","v":""},{"$f":"IF(OR(C1317=\"\",ISBLANK(C1317)),\"\",VLOOKUP(C1317,Sheet2!A:G,4,FALSE))","v":""},null,null,{"$f":"IF(OR(C1317=\"\",ISBLANK(C1317)),\"\",VLOOKUP(C1317,Sheet2!A:F,3,FALSE))","v":""},{"$f":"IF(OR(C1317=\"\",ISBLANK(C1317)),\"\",VLOOKUP(C1317,Sheet2!A:G,6,FALSE))","v":""},""]
[{"$f":"IF(OR(C1318=\"\",ISBLANK(C1318)),\"\",VLOOKUP(C1318,Sheet2!A:F,2,FALSE))","v":""},{"$f":"IF(OR(C1318=\"\",ISBLANK(C1318)),\"\",VLOOKUP(C1318,Sheet2!A:G,4,FALSE))","v":""},null,null,{"$f":"IF(OR(C1318=\"\",ISBLANK(C1318)),\"\",VLOOKUP(C1318,Sheet2!A:F,3,FALSE))","v":""},{"$f":"IF(OR(C1318=\"\",ISBLANK(C1318)),\"\",VLOOKUP(C1318,Sheet2!A:G,6,FALSE))","v":""},""]
[{"$f":"IF(OR(C1319=\"\",ISBLANK(C1319)),\"\",VLOOKUP(C1319,Sheet2!A:F,2,FALSE))","v":""},{"$f":"IF(OR(C1319=\"\",ISBLANK(C1319)),\"\",VLOOKUP(C1319,Sheet2!A:G,4,FALSE))","v":""},null,null,{"$f":"IF(OR(C1319=\"\",ISBLANK(C1319)),\"\",VLOOKUP(C1319,Sheet2!A:F,3,FALSE))","v":""},{"$f":"IF(OR(C1319=\"\",ISBLANK(C1319)),\"\",VLOOKUP(C1319,Sheet2!A:G,6,FALSE))","v":""},""]
[{"$f":"IF(OR(C1320=\"\",ISBLANK(C1320)),\"\",VLOOKUP(C1320,Sheet2!A:F,2,FALSE))","v":""},{"$f":"IF(OR(C1320=\"\",ISBLANK(C1320)),\"\",VLOOKUP(C1320,Sheet2!A:G,4,FALSE))","v":""},null,null,{"$f":"IF(OR(C1320=\"\",ISBLANK(C1320)),\"\",VLOOKUP(C1320,Sheet2!A:F,3,FALSE))","v":""},{"$f":"IF(OR(C1320=\"\",ISBLANK(C1320)),\"\",VLOOKUP(C1320,Sheet2!A:G,6,FALSE))","v":""},""]
[{"$f":"IF(OR(C1321=\"\",ISBLANK(C1321)),\"\",VLOOKUP(C1321,Sheet2!A:F,2,FALSE))","v":""},{"$f":"IF(OR(C1321=\"\",ISBLANK(C1321)),\"\",VLOOKUP(C1321,Sheet2!A:G,4,FALSE))","v":""},null,null,{"$f":"IF(OR(C1321=\"\",ISBLANK(C1321)),\"\",VLOOKUP(C1321,Sheet2!A:F,3,FALSE))","v":""},{"$f":"IF(OR(C1321=\"\",ISBLANK(C1321)),\"\",VLOOKUP(C1321,Sheet2!A:G,6,FALSE))","v":""},""]
[{"$f":"IF(OR(C1322=\"\",ISBLANK(C1322)),\"\",VLOOKUP(C1322,Sheet2!A:F,2,FALSE))","v":""},{"$f":"IF(OR(C1322=\"\",ISBLANK(C1322)),\"\",VLOOKUP(C1322,Sheet2!A:G,4,FALSE))","v":""},null,null,{"$f":"IF(OR(C1322=\"\",ISBLANK(C1322)),\"\",VLOOKUP(C1322,Sheet2!A:F,3,FALSE))","v":""},{"$f":"IF(OR(C1322=\"\",ISBLANK(C1322)),\"\",VLOOKUP(C1322,Sheet2!A:G,6,FALSE))","v":""},""]
[{"$f":"IF(OR(C1323=\"\",ISBLANK(C1323)),\"\",VLOOKUP(C1323,Sheet2!A:F,2,FALSE))","v":""},{"$f":"IF(OR(C1323=\"\",ISBLANK(C1323)),\"\",VLOOKUP(C1323,Sheet2!A:G,4,FALSE))","v":""},null,null,{"$f":"IF(OR(C1323=\"\",ISBLANK(C1323)),\"\",VLOOKUP(C1323,Sheet2!A:F,3,FALSE))","v":""},{"$f":"IF(OR(C1323=\"\",ISBLANK(C1323)),\"\",VLOOKUP(C1323,Sheet2!A:G,6,FALSE))","v":""},""]
[{"$f":"IF(OR(C1324=\"\",ISBLANK(C1324)),\"\",VLOOKUP(C1324,Sheet2!A:F,2,FALSE))","v":""},{"$f":"IF(OR(C1324=\"\",ISBLANK(C1324)),\"\",VLOOKUP(C1324,Sheet2!A:G,4,FALSE))","v":""},null,null,{"$f":"IF(OR(C1324=\"\",ISBLANK(C1324)),\"\",VLOOKUP(C1324,Sheet2!A:F,3,FALSE))","v":""},{"$f":"IF(OR(C1324=\"\",ISBLANK(C1324)),\"\",VLOOKUP(C1324,Sheet2!A:G,6,FALSE))","v":""},""]
[{"$f":"IF(OR(C1325=\"\",ISBLANK(C1325)),\"\",VLOOKUP(C1325,Sheet2!A:F,2,FALSE))","v":""},{"$f":"IF(OR(C1325=\"\",ISBLANK(C1325)),\"\",VLOOKUP(C1325,Sheet2!A:G,4,FALSE))","v":""},null,null,{"$f":"IF(OR(C1325=\"\",ISBLANK(C1325)),\"\",VLOOKUP(C1325,Sheet2!A:F,3,FALSE))","v":""},{"$f":"IF(OR(C1325=\"\",ISBLANK(C1325)),\"\",VLOOKUP(C1325,Sheet2!A:G,6,FALSE))","v":""},""]
[{"$f":"IF(OR(C1326=\"\",ISBLANK(C1326)),\"\",VLOOKUP(C1326,Sheet2!A:F,2,FALSE))","v":""},{"$f":"IF(OR(C1326=\"\",ISBLANK(C1326)),\"\",VLOOKUP(C1326,Sheet2!A:G,4,FALSE))","v":""},null,null,{"$f":"IF(OR(C1326=\"\",ISBLANK(C1326)),\"\",VLOOKUP(C1326,Sheet2!A:F,3,FALSE))","v":""},{"$f":"IF(OR(C1326=\"\",ISBLANK(C1326)),\"\",VLOOKUP(C1326,Sheet2!A:G,6,FALSE))","v":""},""]
[{"$f":"IF(OR(C1327=\"\",ISBLANK(C1327)),\"\",VLOOKUP(C1327,Sheet2!A:F,2,FALSE))","v":""},{"$f":"IF(OR(C1327=\"\",ISBLANK(C1327)),\"\",VLOOKUP(C1327,Sheet2!A:G,4,FALSE))","v":""},null,null,{"$f":"IF(OR(C1327=\"\",ISBLANK(C1327)),\"\",VLOOKUP(C1327,Sheet2!A:F,3,FALSE))","v":""},{"$f":"IF(OR(C1327=\"\",ISBLANK(C1327)),\"\",VLOOKUP(C1327,Sheet2!A:G,6,FALSE))","v":""},""]
[{"$f":"IF(OR(C1328=\"\",ISBLANK(C1328)),\"\",VLOOKUP(C1328,Sheet2!A:F,2,FALSE))","v":""},{"$f":"IF(OR(C1328=\"\",ISBLANK(C1328)),\"\",VLOOKUP(C1328,Sheet2!A:G,4,FALSE))","v":""},null,null,{"$f":"IF(OR(C1328=\"\",ISBLANK(C1328)),\"\",VLOOKUP(C1328,Sheet2!A:F,3,FALSE))","v":""},{"$f":"IF(OR(C1328=\"\",ISBLANK(C1328)),\"\",VLOOKUP(C1328,Sheet2!A:G,6,FALSE))","v":""},""]
[{"$f":"IF(OR(C1329=\"\",ISBLANK(C1329)),\"\",VLOOKUP(C1329,Sheet2!A:F,2,FALSE))","v":""},{"$f":"IF(OR(C1329=\"\",ISBLANK(C1329)),\"\",VLOOKUP(C1329,Sheet2!A:G,4,FALSE))","v":""},null,null,{"$f":"IF(OR(C1329=\"\",ISBLANK(C1329)),\"\",VLOOKUP(C1329,Sheet2!A:F,3,FALSE))","v":""},{"$f":"IF(OR(C1329=\"\",ISBLANK(C1329)),\"\",VLOOKUP(C1329,Sheet2!A:G,6,FALSE))","v":""},""]
[{"$f":"IF(OR(C1330=\"\",ISBLANK(C1330)),\"\",VLOOKUP(C1330,Sheet2!A:F,2,FALSE))","v":""},{"$f":"IF(OR(C1330=\"\",ISBLANK(C1330)),\"\",VLOOKUP(C1330,Sheet2!A:G,4,FALSE))","v":""},null,null,{"$f":"IF(OR(C1330=\"\",ISBLANK(C1330)),\"\",VLOOKUP(C1330,Sheet2!A:F,3,FALSE))","v":""},{"$f":"IF(OR(C1330=\"\",ISBLANK(C1330)),\"\",VLOOKUP(C1330,Sheet2!A:G,6,FALSE))","v":""},""]
[{"$f":"IF(OR(C1331=\"\",ISBLANK(C1331)),\"\",VLOOKUP(C1331,Sheet2!A:F,2,FALSE))","v":""},{"$f":"IF(OR(C1331=\"\",ISBLANK(C1331)),\"\",VLOOKUP(C1331,Sheet2!A:G,4,FALSE))","v":""},null,null,{"$f":"IF(OR(C1331=\"\",ISBLANK(C1331)),\"\",VLOOKUP(C1331,Sheet2!A:F,3,FALSE))","v":""},{"$f":"IF(OR(C1331=\"\",ISBLANK(C1331)),\"\",VLOOKUP(C1331,Sheet2!A:G,6,FALSE))","v":""},""]
[{"$f":"IF(OR(C1332=\"\",ISBLANK(C1332)),\"\",VLOOKUP(C1332,Sheet2!A:F,2,FALSE))","v":""},{"$f":"IF(OR(C1332=\"\",ISBLANK(C1332)),\"\",VLOOKUP(C1332,Sheet2!A:G,4,FALSE))","v":""},null,null,{"$f":"IF(OR(C1332=\"\",ISBLANK(C1332)),\"\",VLOOKUP(C1332,Sheet2!A:F,3,FALSE))","v":""},{"$f":"IF(OR(C1332=\"\",ISBLANK(C1332)),\"\",VLOOKUP(C1332,Sheet2!A:G,6,FALSE))","v":""},""]
[{"$f":"IF(OR(C1333=\"\",ISBLANK(C1333)),\"\",VLOOKUP(C1333,Sheet2!A:F,2,FALSE))","v":""},{"$f":"IF(OR(C1333=\"\",ISBLANK(C1333)),\"\",VLOOKUP(C1333,Sheet2!A:G,4,FALSE))","v":""},null,null,{"$f":"IF(OR(C1333=\"\",ISBLANK(C1333)),\"\",VLOOKUP(C1333,Sheet2!A:F,3,FALSE))","v":""},{"$f":"IF(OR(C1333=\"\",ISBLANK(C1333)),\"\",VLOOKUP(C1333,Sheet2!A:G,6,FALSE))","v":""},""]
[{"$f":"IF(OR(C1334=\"\",ISBLANK(C1334)),\"\",VLOOKUP(C1334,Sheet2!A:F,2,FALSE))","v":""},{"$f":"IF(OR(C1334=\"\",ISBLANK(C1334)),\"\",VLOOKUP(C1334,Sheet2!A:G,4,FALSE))","v":""},null,null,{"$f":"IF(OR(C1334=\"\",ISBLANK(C1334)),\"\",VLOOKUP(C1334,Sheet2!A:F,3,FALSE))","v":""},{"$f":"IF(OR(C1334=\"\",ISBLANK(C1334)),\"\",VLOOKUP(C1334,Sheet2!A:G,6,FALSE))","v":""},""]
[{"$f":"IF(OR(C1335=\"\",ISBLANK(C1335)),\"\",VLOOKUP(C1335,Sheet2!A:F,2,FALSE))","v":""},{"$f":"IF(OR(C1335=\"\",ISBLANK(C1335)),\"\",VLOOKUP(C1335,Sheet2!A:G,4,FALSE))","v":""},null,null,{"$f":"IF(OR(C1335=\"\",ISBLANK(C1335)),\"\",VLOOKUP(C1335,Sheet2!A:F,3,FALSE))","v":""},{"$f":"IF(OR(C1335=\"\",ISBLANK(C1335)),\"\",VLOOKUP(C1335,Sheet2!A:G,6,FALSE))","v":""},""]
[{"$f":"IF(OR(C1336=\"\",ISBLANK(C1336)),\"\",VLOOKUP(C1336,Sheet2!A:F,2,FALSE))","v":""},{"$f":"IF(OR(C1336=\"\",ISBLANK(C1336)),\"\",VLOOKUP(C1336,Sheet2!A:G,4,FALSE))","v":""},null,null,{"$f":"IF(OR(C1336=\"\",ISBLANK(C1336)),\"\",VLOOKUP(C1336,Sheet2!A:F,3,FALSE))","v":""},{"$f":"IF(OR(C1336=\"\",ISBLANK(C1336)),\"\",VLOOKUP(C1336,Sheet2!A:G,6,FALSE))","v":""},""]
[{"$f":"IF(OR(C1337=\"\",ISBLANK(C1337)),\"\",VLOOKUP(C1337,Sheet2!A:F,2,FALSE))","v":""},{"$f":"IF(OR(C1337=\"\",ISBLANK(C1337)),\"\",VLOOKUP(C1337,Sheet2!A:G,4,FALSE))","v":""},null,null,{"$f":"IF(OR(C1337=\"\",ISBLANK(C1337)),\"\",VLOOKUP(C1337,Sheet2!A:F,3,FALSE))","v":""},{"$f":"IF(OR(C1337=\"\",ISBLANK(C1337)),\"\",VLOOKUP(C1337,Sheet2!A:G,6,FALSE))","v":""},""]
[{"$f":"IF(OR(C1338=\"\",ISBLANK(C1338)),\"\",VLOOKUP(C1338,Sheet2!A:F,2,FALSE))","v":""},{"$f":"IF(OR(C1338=\"\",ISBLANK(C1338)),\"\",VLOOKUP(C1338,Sheet2!A:G,4,FALSE))","v":""},null,null,{"$f":"IF(OR(C1338=\"\",ISBLANK(C1338)),\"\",VLOOKUP(C1338,Sheet2!A:F,3,FALSE))","v":""},{"$f":"IF(OR(C1338=\"\",ISBLANK(C1338)),\"\",VLOOKUP(C1338,Sheet2!A:G,6,FALSE))","v":""},""]
[{"$f":"IF(OR(C1339=\"\",ISBLANK(C1339)),\"\",VLOOKUP(C1339,Sheet2!A:F,2,FALSE))","v":""},{"$f":"IF(OR(C1339=\"\",ISBLANK(C1339)),\"\",VLOOKUP(C1339,Sheet2!A:G,4,FALSE))","v":""},null,null,{"$f":"IF(OR(C1339=\"\",ISBLANK(C1339)),\"\",VLOOKUP(C1339,Sheet2!A:F,3,FALSE))","v":""},{"$f":"IF(OR(C1339=\"\",ISBLANK(C1339)),\"\",VLOOKUP(C1339,Sheet2!A:G,6,FALSE))","v":""},""]
[{"$f":"IF(OR(C1340=\"\",ISBLANK(C1340)),\"\",VLOOKUP(C1340,Sheet2!A:F,2,FALSE))","v":""},{"$f":"IF(OR(C1340=\"\",ISBLANK(C1340)),\"\",VLOOKUP(C1340,Sheet2!A:G,4,FALSE))","v":""},null,null,{"$f":"IF(OR(C1340=\"\",ISBLANK(C1340)),\"\",VLOOKUP(C1340,Sheet2!A:F,3,FALSE))","v":""},{"$f":"IF(OR(C1340=\"\",ISBLANK(C1340)),\"\",VLOOKUP(C1340,Sheet2!A:G,6,FALSE))","v":""},""]
[{"$f":"IF(OR(C1341=\"\",ISBLANK(C1341)),\"\",VLOOKUP(C1341,Sheet2!A:F,2,FALSE))","v":""},{"$f":"IF(OR(C1341=\"\",ISBLANK(C1341)),\"\",VLOOKUP(C1341,Sheet2!A:G,4,FALSE))","v":""},null,null,{"$f":"IF(OR(C1341=\"\",ISBLANK(C1341)),\"\",VLOOKUP(C1341,Sheet2!A:F,3,FALSE))","v":""},{"$f":"IF(OR(C1341=\"\",ISBLANK(C1341)),\"\",VLOOKUP(C1341,Sheet2!A:G,6,FALSE))","v":""},""]
[{"$f":"IF(OR(C1342=\"\",ISBLANK(C1342)),\"\",VLOOKUP(C1342,Sheet2!A:F,2,FALSE))","v":""},{"$f":"IF(OR(C1342=\"\",ISBLANK(C1342)),\"\",VLOOKUP(C1342,Sheet2!A:G,4,FALSE))","v":""},null,null,{"$f":"IF(OR(C1342=\"\",ISBLANK(C1342)),\"\",VLOOKUP(C1342,Sheet2!A:F,3,FALSE))","v":""},{"$f":"IF(OR(C1342=\"\",ISBLANK(C1342)),\"\",VLOOKUP(C1342,Sheet2!A:G,6,FALSE))","v":""},""]
[{"$f":"IF(OR(C1343=\"\",ISBLANK(C1343)),\"\",VLOOKUP(C1343,Sheet2!A:F,2,FALSE))","v":""},{"$f":"IF(OR(C1343=\"\",ISBLANK(C1343)),\"\",VLOOKUP(C1343,Sheet2!A:G,4,FALSE))","v":""},null,null,{"$f":"IF(OR(C1343=\"\",ISBLANK(C1343)),\"\",VLOOKUP(C1343,Sheet2!A:F,3,FALSE))","v":""},{"$f":"IF(OR(C1343=\"\",ISBLANK(C1343)),\"\",VLOOKUP(C1343,Sheet2!A:G,6,FALSE))","v":""},""]
[{"$f":"IF(OR(C1344=\"\",ISBLANK(C1344)),\"\",VLOOKUP(C1344,Sheet2!A:F,2,FALSE))","v":""},{"$f":"IF(OR(C1344=\"\",ISBLANK(C1344)),\"\",VLOOKUP(C1344,Sheet2!A:G,4,FALSE))","v":""},null,null,{"$f":"IF(OR(C1344=\"\",ISBLANK(C1344)),\"\",VLOOKUP(C1344,Sheet2!A:F,3,FALSE))","v":""},{"$f":"IF(OR(C1344=\"\",ISBLANK(C1344)),\"\",VLOOKUP(C1344,Sheet2!A:G,6,FALSE))","v":""},""]
[{"$f":"IF(OR(C1345=\"\",ISBLANK(C1345)),\"\",VLOOKUP(C1345,Sheet2!A:F,2,FALSE))","v":""},{"$f":"IF(OR(C1345=\"\",ISBLANK(C1345)),\"\",VLOOKUP(C1345,Sheet2!A:G,4,FALSE))","v":""},null,null,{"$f":"IF(OR(C1345=\"\",ISBLANK(C1345)),\"\",VLOOKUP(C1345,Sheet2!A:F,3,FALSE))","v":""},{"$f":"IF(OR(C1345=\"\",ISBLANK(C1345)),\"\",VLOOKUP(C1345,Sheet2!A:G,6,FALSE))","v":""},""]
[{"$f":"IF(OR(C1346=\"\",ISBLANK(C1346)),\"\",VLOOKUP(C1346,Sheet2!A:F,2,FALSE))","v":""},{"$f":"IF(OR(C1346=\"\",ISBLANK(C1346)),\"\",VLOOKUP(C1346,Sheet2!A:G,4,FALSE))","v":""},null,null,{"$f":"IF(OR(C1346=\"\",ISBLANK(C1346)),\"\",VLOOKUP(C1346,Sheet2!A:F,3,FALSE))","v":""},{"$f":"IF(OR(C1346=\"\",ISBLANK(C1346)),\"\",VLOOKUP(C1346,Sheet2!A:G,6,FALSE))","v":""},""]
[{"$f":"IF(OR(C1347=\"\",ISBLANK(C1347)),\"\",VLOOKUP(C1347,Sheet2!A:F,2,FALSE))","v":""},{"$f":"IF(OR(C1347=\"\",ISBLANK(C1347)),\"\",VLOOKUP(C1347,Sheet2!A:G,4,FALSE))","v":""},null,null,{"$f":"IF(OR(C1347=\"\",ISBLANK(C1347)),\"\",VLOOKUP(C1347,Sheet2!A:F,3,FALSE))","v":""},{"$f":"IF(OR(C1347=\"\",ISBLANK(C1347)),\"\",VLOOKUP(C1347,Sheet2!A:G,6,FALSE))","v":""},{"$f":"IF(F1347=0,\"\",F1347)","v":""}]
[{"$f":"IF(OR(C1348=\"\",ISBLANK(C1348)),\"\",VLOOKUP(C1348,Sheet2!A:F,2,FALSE))","v":""},{"$f":"IF(OR(C1348=\"\",ISBLANK(C1348)),\"\",VLOOKUP(C1348,Sheet2!A:G,4,FALSE))","v":""},null,null,{"$f":"IF(OR(C1348=\"\",ISBLANK(C1348)),\"\",VLOOKUP(C1348,Sheet2!A:F,3,FALSE))","v":""},{"$f":"IF(OR(C1348=\"\",ISBLANK(C1348)),\"\",VLOOKUP(C1348,Sheet2!A:G,6,FALSE))","v":""},""]
[{"$f":"IF(OR(C1349=\"\",ISBLANK(C1349)),\"\",VLOOKUP(C1349,Sheet2!A:F,2,FALSE))","v":""},{"$f":"IF(OR(C1349=\"\",ISBLANK(C1349)),\"\",VLOOKUP(C1349,Sheet2!A:G,4,FALSE))","v":""},null,null,{"$f":"IF(OR(C1349=\"\",ISBLANK(C1349)),\"\",VLOOKUP(C1349,Sheet2!A:F,3,FALSE))","v":""},{"$f":"IF(OR(C1349=\"\",ISBLANK(C1349)),\"\",VLOOKUP(C1349,Sheet2!A:G,6,FALSE))","v":""},""]
[{"$f":"IF(OR(C1350=\"\",ISBLANK(C1350)),\"\",VLOOKUP(C1350,Sheet2!A:F,2,FALSE))","v":""},{"$f":"IF(OR(C1350=\"\",ISBLANK(C1350)),\"\",VLOOKUP(C1350,Sheet2!A:G,4,FALSE))","v":""},null,null,{"$f":"IF(OR(C1350=\"\",ISBLANK(C1350)),\"\",VLOOKUP(C1350,Sheet2!A:F,3,FALSE))","v":""},{"$f":"IF(OR(C1350=\"\",ISBLANK(C1350)),\"\",VLOOKUP(C1350,Sheet2!A:G,6,FALSE))","v":""},""]
[{"$f":"IF(OR(C1351=\"\",ISBLANK(C1351)),\"\",VLOOKUP(C1351,Sheet2!A:F,2,FALSE))","v":""},{"$f":"IF(OR(C1351=\"\",ISBLANK(C1351)),\"\",VLOOKUP(C1351,Sheet2!A:G,4,FALSE))","v":""},null,null,{"$f":"IF(OR(C1351=\"\",ISBLANK(C1351)),\"\",VLOOKUP(C1351,Sheet2!A:F,3,FALSE))","v":""},{"$f":"IF(OR(C1351=\"\",ISBLANK(C1351)),\"\",VLOOKUP(C1351,Sheet2!A:G,6,FALSE))","v":""},""]
[{"$f":"IF(OR(C1352=\"\",ISBLANK(C1352)),\"\",VLOOKUP(C1352,Sheet2!A:F,2,FALSE))","v":""},{"$f":"IF(OR(C1352=\"\",ISBLANK(C1352)),\"\",VLOOKUP(C1352,Sheet2!A:G,4,FALSE))","v":""},null,null,{"$f":"IF(OR(C1352=\"\",ISBLANK(C1352)),\"\",VLOOKUP(C1352,Sheet2!A:F,3,FALSE))","v":""},{"$f":"IF(OR(C1352=\"\",ISBLANK(C1352)),\"\",VLOOKUP(C1352,Sheet2!A:G,6,FALSE))","v":""},""]
[{"$f":"IF(OR(C1353=\"\",ISBLANK(C1353)),\"\",VLOOKUP(C1353,Sheet2!A:F,2,FALSE))","v":""},{"$f":"IF(OR(C1353=\"\",ISBLANK(C1353)),\"\",VLOOKUP(C1353,Sheet2!A:G,4,FALSE))","v":""},null,null,{"$f":"IF(OR(C1353=\"\",ISBLANK(C1353)),\"\",VLOOKUP(C1353,Sheet2!A:F,3,FALSE))","v":""},{"$f":"IF(OR(C1353=\"\",ISBLANK(C1353)),\"\",VLOOKUP(C1353,Sheet2!A:G,6,FALSE))","v":""},""]
[{"$f":"IF(OR(C1354=\"\",ISBLANK(C1354)),\"\",VLOOKUP(C1354,Sheet2!A:F,2,FALSE))","v":""},{"$f":"IF(OR(C1354=\"\",ISBLANK(C1354)),\"\",VLOOKUP(C1354,Sheet2!A:G,4,FALSE))","v":""},null,null,{"$f":"IF(OR(C1354=\"\",ISBLANK(C1354)),\"\",VLOOKUP(C1354,Sheet2!A:F,3,FALSE))","v":""},{"$f":"IF(OR(C1354=\"\",ISBLANK(C1354)),\"\",VLOOKUP(C1354,Sheet2!A:G,6,FALSE))","v":""},""]
[{"$f":"IF(OR(C1355=\"\",ISBLANK(C1355)),\"\",VLOOKUP(C1355,Sheet2!A:F,2,FALSE))","v":""},{"$f":"IF(OR(C1355=\"\",ISBLANK(C1355)),\"\",VLOOKUP(C1355,Sheet2!A:G,4,FALSE))","v":""},null,null,{"$f":"IF(OR(C1355=\"\",ISBLANK(C1355)),\"\",VLOOKUP(C1355,Sheet2!A:F,3,FALSE))","v":""},{"$f":"IF(OR(C1355=\"\",ISBLANK(C1355)),\"\",VLOOKUP(C1355,Sheet2!A:G,6,FALSE))","v":""},""]
[{"$f":"IF(OR(C1356=\"\",ISBLANK(C1356)),\"\",VLOOKUP(C1356,Sheet2!A:F,2,FALSE))","v":""},{"$f":"IF(OR(C1356=\"\",ISBLANK(C1356)),\"\",VLOOKUP(C1356,Sheet2!A:G,4,FALSE))","v":""},null,null,{"$f":"IF(OR(C1356=\"\",ISBLANK(C1356)),\"\",VLOOKUP(C1356,Sheet2!A:F,3,FALSE))","v":""},{"$f":"IF(OR(C1356=\"\",ISBLANK(C1356)),\"\",VLOOKUP(C1356,Sheet2!A:G,6,FALSE))","v":""},""]
[{"$f":"IF(OR(C1357=\"\",ISBLANK(C1357)),\"\",VLOOKUP(C1357,Sheet2!A:F,2,FALSE))","v":""},{"$f":"IF(OR(C1357=\"\",ISBLANK(C1357)),\"\",VLOOKUP(C1357,Sheet2!A:G,4,FALSE))","v":""},null,null,{"$f":"IF(OR(C1357=\"\",ISBLANK(C1357)),\"\",VLOOKUP(C1357,Sheet2!A:F,3,FALSE))","v":""},{"$f":"IF(OR(C1357=\"\",ISBLANK(C1357)),\"\",VLOOKUP(C1357,Sheet2!A:G,6,FALSE))","v":""},""]
[{"$f":"IF(OR(C1358=\"\",ISBLANK(C1358)),\"\",VLOOKUP(C1358,Sheet2!A:F,2,FALSE))","v":""},{"$f":"IF(OR(C1358=\"\",ISBLANK(C1358)),\"\",VLOOKUP(C1358,Sheet2!A:G,4,FALSE))","v":""},null,null,{"$f":"IF(OR(C1358=\"\",ISBLANK(C1358)),\"\",VLOOKUP(C1358,Sheet2!A:F,3,FALSE))","v":""},{"$f":"IF(OR(C1358=\"\",ISBLANK(C1358)),\"\",VLOOKUP(C1358,Sheet2!A:G,6,FALSE))","v":""},""]
[{"$f":"IF(OR(C1359=\"\",ISBLANK(C1359)),\"\",VLOOKUP(C1359,Sheet2!A:F,2,FALSE))","v":""},{"$f":"IF(OR(C1359=\"\",ISBLANK(C1359)),\"\",VLOOKUP(C1359,Sheet2!A:G,4,FALSE))","v":""},null,null,{"$f":"IF(OR(C1359=\"\",ISBLANK(C1359)),\"\",VLOOKUP(C1359,Sheet2!A:F,3,FALSE))","v":""},{"$f":"IF(OR(C1359=\"\",ISBLANK(C1359)),\"\",VLOOKUP(C1359,Sheet2!A:G,6,FALSE))","v":""},""]
[{"$f":"IF(OR(C1360=\"\",ISBLANK(C1360)),\"\",VLOOKUP(C1360,Sheet2!A:F,2,FALSE))","v":""},{"$f":"IF(OR(C1360=\"\",ISBLANK(C1360)),\"\",VLOOKUP(C1360,Sheet2!A:G,4,FALSE))","v":""},null,null,{"$f":"IF(OR(C1360=\"\",ISBLANK(C1360)),\"\",VLOOKUP(C1360,Sheet2!A:F,3,FALSE))","v":""},{"$f":"IF(OR(C1360=\"\",ISBLANK(C1360)),\"\",VLOOKUP(C1360,Sheet2!A:G,6,FALSE))","v":""},""]
[{"$f":"IF(OR(C1361=\"\",ISBLANK(C1361)),\"\",VLOOKUP(C1361,Sheet2!A:F,2,FALSE))","v":""},{"$f":"IF(OR(C1361=\"\",ISBLANK(C1361)),\"\",VLOOKUP(C1361,Sheet2!A:G,4,FALSE))","v":""},null,null,{"$f":"IF(OR(C1361=\"\",ISBLANK(C1361)),\"\",VLOOKUP(C1361,Sheet2!A:F,3,FALSE))","v":""},{"$f":"IF(OR(C1361=\"\",ISBLANK(C1361)),\"\",VLOOKUP(C1361,Sheet2!A:G,6,FALSE))","v":""},""]
[{"$f":"IF(OR(C1362=\"\",ISBLANK(C1362)),\"\",VLOOKUP(C1362,Sheet2!A:F,2,FALSE))","v":""},{"$f":"IF(OR(C1362=\"\",ISBLANK(C1362)),\"\",VLOOKUP(C1362,Sheet2!A:G,4,FALSE))","v":""},null,null,{"$f":"IF(OR(C1362=\"\",ISBLANK(C1362)),\"\",VLOOKUP(C1362,Sheet2!A:F,3,FALSE))","v":""},{"$f":"IF(OR(C1362=\"\",ISBLANK(C1362)),\"\",VLOOKUP(C1362,Sheet2!A:G,6,FALSE))","v":""},""]
[{"$f":"IF(OR(C1363=\"\",ISBLANK(C1363)),\"\",VLOOKUP(C1363,Sheet2!A:F,2,FALSE))","v":""},{"$f":"IF(OR(C1363=\"\",ISBLANK(C1363)),\"\",VLOOKUP(C1363,Sheet2!A:G,4,FALSE))","v":""},null,null,{"$f":"IF(OR(C1363=\"\",ISBLANK(C1363)),\"\",VLOOKUP(C1363,Sheet2!A:F,3,FALSE))","v":""},{"$f":"IF(OR(C1363=\"\",ISBLANK(C1363)),\"\",VLOOKUP(C1363,Sheet2!A:G,6,FALSE))","v":""},""]
[{"$f":"IF(OR(C1364=\"\",ISBLANK(C1364)),\"\",VLOOKUP(C1364,Sheet2!A:F,2,FALSE))","v":""},{"$f":"IF(OR(C1364=\"\",ISBLANK(C1364)),\"\",VLOOKUP(C1364,Sheet2!A:G,4,FALSE))","v":""},null,null,{"$f":"IF(OR(C1364=\"\",ISBLANK(C1364)),\"\",VLOOKUP(C1364,Sheet2!A:F,3,FALSE))","v":""},{"$f":"IF(OR(C1364=\"\",ISBLANK(C1364)),\"\",VLOOKUP(C1364,Sheet2!A:G,6,FALSE))","v":""},""]
[{"$f":"IF(OR(C1365=\"\",ISBLANK(C1365)),\"\",VLOOKUP(C1365,Sheet2!A:F,2,FALSE))","v":""},{"$f":"IF(OR(C1365=\"\",ISBLANK(C1365)),\"\",VLOOKUP(C1365,Sheet2!A:G,4,FALSE))","v":""},null,null,{"$f":"IF(OR(C1365=\"\",ISBLANK(C1365)),\"\",VLOOKUP(C1365,Sheet2!A:F,3,FALSE))","v":""},{"$f":"IF(OR(C1365=\"\",ISBLANK(C1365)),\"\",VLOOKUP(C1365,Sheet2!A:G,6,FALSE))","v":""},""]
[{"$f":"IF(OR(C1366=\"\",ISBLANK(C1366)),\"\",VLOOKUP(C1366,Sheet2!A:F,2,FALSE))","v":""},{"$f":"IF(OR(C1366=\"\",ISBLANK(C1366)),\"\",VLOOKUP(C1366,Sheet2!A:G,4,FALSE))","v":""},null,null,{"$f":"IF(OR(C1366=\"\",ISBLANK(C1366)),\"\",VLOOKUP(C1366,Sheet2!A:F,3,FALSE))","v":""},{"$f":"IF(OR(C1366=\"\",ISBLANK(C1366)),\"\",VLOOKUP(C1366,Sheet2!A:G,6,FALSE))","v":""},""]
[{"$f":"IF(OR(C1367=\"\",ISBLANK(C1367)),\"\",VLOOKUP(C1367,Sheet2!A:F,2,FALSE))","v":""},{"$f":"IF(OR(C1367=\"\",ISBLANK(C1367)),\"\",VLOOKUP(C1367,Sheet2!A:G,4,FALSE))","v":""},null,null,{"$f":"IF(OR(C1367=\"\",ISBLANK(C1367)),\"\",VLOOKUP(C1367,Sheet2!A:F,3,FALSE))","v":""},{"$f":"IF(OR(C1367=\"\",ISBLANK(C1367)),\"\",VLOOKUP(C1367,Sheet2!A:G,6,FALSE))","v":""},""]
[{"$f":"IF(OR(C1368=\"\",ISBLANK(C1368)),\"\",VLOOKUP(C1368,Sheet2!A:F,2,FALSE))","v":""},{"$f":"IF(OR(C1368=\"\",ISBLANK(C1368)),\"\",VLOOKUP(C1368,Sheet2!A:G,4,FALSE))","v":""},null,null,{"$f":"IF(OR(C1368=\"\",ISBLANK(C1368)),\"\",VLOOKUP(C1368,Sheet2!A:F,3,FALSE))","v":""},{"$f":"IF(OR(C1368=\"\",ISBLANK(C1368)),\"\",VLOOKUP(C1368,Sheet2!A:G,6,FALSE))","v":""},""]
[{"$f":"IF(OR(C1369=\"\",ISBLANK(C1369)),\"\",VLOOKUP(C1369,Sheet2!A:F,2,FALSE))","v":""},{"$f":"IF(OR(C1369=\"\",ISBLANK(C1369)),\"\",VLOOKUP(C1369,Sheet2!A:G,4,FALSE))","v":""},null,null,{"$f":"IF(OR(C1369=\"\",ISBLANK(C1369)),\"\",VLOOKUP(C1369,Sheet2!A:F,3,FALSE))","v":""},{"$f":"IF(OR(C1369=\"\",ISBLANK(C1369)),\"\",VLOOKUP(C1369,Sheet2!A:G,6,FALSE))","v":""},""]
[{"$f":"IF(OR(C1370=\"\",ISBLANK(C1370)),\"\",VLOOKUP(C1370,Sheet2!A:F,2,FALSE))","v":""},{"$f":"IF(OR(C1370=\"\",ISBLANK(C1370)),\"\",VLOOKUP(C1370,Sheet2!A:G,4,FALSE))","v":""},null,null,{"$f":"IF(OR(C1370=\"\",ISBLANK(C1370)),\"\",VLOOKUP(C1370,Sheet2!A:F,3,FALSE))","v":""},{"$f":"IF(OR(C1370=\"\",ISBLANK(C1370)),\"\",VLOOKUP(C1370,Sheet2!A:G,6,FALSE))","v":""},""]
[{"$f":"IF(OR(C1371=\"\",ISBLANK(C1371)),\"\",VLOOKUP(C1371,Sheet2!A:F,2,FALSE))","v":""},{"$f":"IF(OR(C1371=\"\",ISBLANK(C1371)),\"\",VLOOKUP(C1371,Sheet2!A:G,4,FALSE))","v":""},null,null,{"$f":"IF(OR(C1371=\"\",ISBLANK(C1371)),\"\",VLOOKUP(C1371,Sheet2!A:F,3,FALSE))","v":""},{"$f":"IF(OR(C1371=\"\",ISBLANK(C1371)),\"\",VLOOKUP(C1371,Sheet2!A:G,6,FALSE))","v":""},""]
[{"$f":"IF(OR(C1372=\"\",ISBLANK(C1372)),\"\",VLOOKUP(C1372,Sheet2!A:F,2,FALSE))","v":""},{"$f":"IF(OR(C1372=\"\",ISBLANK(C1372)),\"\",VLOOKUP(C1372,Sheet2!A:G,4,FALSE))","v":""},null,null,{"$f":"IF(OR(C1372=\"\",ISBLANK(C1372)),\"\",VLOOKUP(C1372,Sheet2!A:F,3,FALSE))","v":""},{"$f":"IF(OR(C1372=\"\",ISBLANK(C1372)),\"\",VLOOKUP(C1372,Sheet2!A:G,6,FALSE))","v":""},""]
[{"$f":"IF(OR(C1373=\"\",ISBLANK(C1373)),\"\",VLOOKUP(C1373,Sheet2!A:F,2,FALSE))","v":""},{"$f":"IF(OR(C1373=\"\",ISBLANK(C1373)),\"\",VLOOKUP(C1373,Sheet2!A:G,4,FALSE))","v":""},null,null,{"$f":"IF(OR(C1373=\"\",ISBLANK(C1373)),\"\",VLOOKUP(C1373,Sheet2!A:F,3,FALSE))","v":""},{"$f":"IF(OR(C1373=\"\",ISBLANK(C1373)),\"\",VLOOKUP(C1373,Sheet2!A:G,6,FALSE))","v":""},""]
[{"$f":"IF(OR(C1374=\"\",ISBLANK(C1374)),\"\",VLOOKUP(C1374,Sheet2!A:F,2,FALSE))","v":""},{"$f":"IF(OR(C1374=\"\",ISBLANK(C1374)),\"\",VLOOKUP(C1374,Sheet2!A:G,4,FALSE))","v":""},null,null,{"$f":"IF(OR(C1374=\"\",ISBLANK(C1374)),\"\",VLOOKUP(C1374,Sheet2!A:F,3,FALSE))","v":""},{"$f":"IF(OR(C1374=\"\",ISBLANK(C1374)),\"\",VLOOKUP(C1374,Sheet2!A:G,6,FALSE))","v":""},""]
[{"$f":"IF(OR(C1375=\"\",ISBLANK(C1375)),\"\",VLOOKUP(C1375,Sheet2!A:F,2,FALSE))","v":""},{"$f":"IF(OR(C1375=\"\",ISBLANK(C1375)),\"\",VLOOKUP(C1375,Sheet2!A:G,4,FALSE))","v":""},null,null,{"$f":"IF(OR(C1375=\"\",ISBLANK(C1375)),\"\",VLOOKUP(C1375,Sheet2!A:F,3,FALSE))","v":""},{"$f":"IF(OR(C1375=\"\",ISBLANK(C1375)),\"\",VLOOKUP(C1375,Sheet2!A:G,6,FALSE))","v":""},""]
[{"$f":"IF(OR(C1376=\"\",ISBLANK(C1376)),\"\",VLOOKUP(C1376,Sheet2!A:F,2,FALSE))","v":""},{"$f":"IF(OR(C1376=\"\",ISBLANK(C1376)),\"\",VLOOKUP(C1376,Sheet2!A:G,4,FALSE))","v":""},null,null,{"$f":"IF(OR(C1376=\"\",ISBLANK(C1376)),\"\",VLOOKUP(C1376,Sheet2!A:F,3,FALSE))","v":""},{"$f":"IF(OR(C1376=\"\",ISBLANK(C1376)),\"\",VLOOKUP(C1376,Sheet2!A:G,6,FALSE))","v":""},""]
[{"$f":"IF(OR(C1377=\"\",ISBLANK(C1377)),\"\",VLOOKUP(C1377,Sheet2!A:F,2,FALSE))","v":""},{"$f":"IF(OR(C1377=\"\",ISBLANK(C1377)),\"\",VLOOKUP(C1377,Sheet2!A:G,4,FALSE))","v":""},null,null,{"$f":"IF(OR(C1377=\"\",ISBLANK(C1377)),\"\",VLOOKUP(C1377,Sheet2!A:F,3,FALSE))","v":""},{"$f":"IF(OR(C1377=\"\",ISBLANK(C1377)),\"\",VLOOKUP(C1377,Sheet2!A:G,6,FALSE))","v":""},""]
[{"$f":"IF(OR(C1378=\"\",ISBLANK(C1378)),\"\",VLOOKUP(C1378,Sheet2!A:F,2,FALSE))","v":""},{"$f":"IF(OR(C1378=\"\",ISBLANK(C1378)),\"\",VLOOKUP(C1378,Sheet2!A:G,4,FALSE))","v":""},null,null,{"$f":"IF(OR(C1378=\"\",ISBLANK(C1378)),\"\",VLOOKUP(C1378,Sheet2!A:F,3,FALSE))","v":""},{"$f":"IF(OR(C1378=\"\",ISBLANK(C1378)),\"\",VLOOKUP(C1378,Sheet2!A:G,6,FALSE))","v":""},""]
[{"$f":"IF(OR(C1379=\"\",ISBLANK(C1379)),\"\",VLOOKUP(C1379,Sheet2!A:F,2,FALSE))","v":""},{"$f":"IF(OR(C1379=\"\",ISBLANK(C1379)),\"\",VLOOKUP(C1379,Sheet2!A:G,4,FALSE))","v":""},null,null,{"$f":"IF(OR(C1379=\"\",ISBLANK(C1379)),\"\",VLOOKUP(C1379,Sheet2!A:F,3,FALSE))","v":""},{"$f":"IF(OR(C1379=\"\",ISBLANK(C1379)),\"\",VLOOKUP(C1379,Sheet2!A:G,6,FALSE))","v":""},""]
[{"$f":"IF(OR(C1380=\"\",ISBLANK(C1380)),\"\",VLOOKUP(C1380,Sheet2!A:F,2,FALSE))","v":""},{"$f":"IF(OR(C1380=\"\",ISBLANK(C1380)),\"\",VLOOKUP(C1380,Sheet2!A:G,4,FALSE))","v":""},null,null,{"$f":"IF(OR(C1380=\"\",ISBLANK(C1380)),\"\",VLOOKUP(C1380,Sheet2!A:F,3,FALSE))","v":""},{"$f":"IF(OR(C1380=\"\",ISBLANK(C1380)),\"\",VLOOKUP(C1380,Sheet2!A:G,6,FALSE))","v":""},""]
[{"$f":"IF(OR(C1381=\"\",ISBLANK(C1381)),\"\",VLOOKUP(C1381,Sheet2!A:F,2,FALSE))","v":""},{"$f":"IF(OR(C1381=\"\",ISBLANK(C1381)),\"\",VLOOKUP(C1381,Sheet2!A:G,4,FALSE))","v":""},null,null,{"$f":"IF(OR(C1381=\"\",ISBLANK(C1381)),\"\",VLOOKUP(C1381,Sheet2!A:F,3,FALSE))","v":""},{"$f":"IF(OR(C1381=\"\",ISBLANK(C1381)),\"\",VLOOKUP(C1381,Sheet2!A:G,6,FALSE))","v":""},""]
[{"$f":"IF(OR(C1382=\"\",ISBLANK(C1382)),\"\",VLOOKUP(C1382,Sheet2!A:F,2,FALSE))","v":""},{"$f":"IF(OR(C1382=\"\",ISBLANK(C1382)),\"\",VLOOKUP(C1382,Sheet2!A:G,4,FALSE))","v":""},null,null,{"$f":"IF(OR(C1382=\"\",ISBLANK(C1382)),\"\",VLOOKUP(C1382,Sheet2!A:F,3,FALSE))","v":""},{"$f":"IF(OR(C1382=\"\",ISBLANK(C1382)),\"\",VLOOKUP(C1382,Sheet2!A:G,6,FALSE))","v":""},""]
[{"$f":"IF(OR(C1383=\"\",ISBLANK(C1383)),\"\",VLOOKUP(C1383,Sheet2!A:F,2,FALSE))","v":""},{"$f":"IF(OR(C1383=\"\",ISBLANK(C1383)),\"\",VLOOKUP(C1383,Sheet2!A:G,4,FALSE))","v":""},null,null,{"$f":"IF(OR(C1383=\"\",ISBLANK(C1383)),\"\",VLOOKUP(C1383,Sheet2!A:F,3,FALSE))","v":""},{"$f":"IF(OR(C1383=\"\",ISBLANK(C1383)),\"\",VLOOKUP(C1383,Sheet2!A:G,6,FALSE))","v":""},""]
[{"$f":"IF(OR(C1384=\"\",ISBLANK(C1384)),\"\",VLOOKUP(C1384,Sheet2!A:F,2,FALSE))","v":""},{"$f":"IF(OR(C1384=\"\",ISBLANK(C1384)),\"\",VLOOKUP(C1384,Sheet2!A:G,4,FALSE))","v":""},null,null,{"$f":"IF(OR(C1384=\"\",ISBLANK(C1384)),\"\",VLOOKUP(C1384,Sheet2!A:F,3,FALSE))","v":""},{"$f":"IF(OR(C1384=\"\",ISBLANK(C1384)),\"\",VLOOKUP(C1384,Sheet2!A:G,6,FALSE))","v":""},""]
[{"$f":"IF(OR(C1385=\"\",ISBLANK(C1385)),\"\",VLOOKUP(C1385,Sheet2!A:F,2,FALSE))","v":""},{"$f":"IF(OR(C1385=\"\",ISBLANK(C1385)),\"\",VLOOKUP(C1385,Sheet2!A:G,4,FALSE))","v":""},null,null,{"$f":"IF(OR(C1385=\"\",ISBLANK(C1385)),\"\",VLOOKUP(C1385,Sheet2!A:F,3,FALSE))","v":""},{"$f":"IF(OR(C1385=\"\",ISBLANK(C1385)),\"\",VLOOKUP(C1385,Sheet2!A:G,6,FALSE))","v":""},""]
[{"$f":"IF(OR(C1386=\"\",ISBLANK(C1386)),\"\",VLOOKUP(C1386,Sheet2!A:F,2,FALSE))","v":""},{"$f":"IF(OR(C1386=\"\",ISBLANK(C1386)),\"\",VLOOKUP(C1386,Sheet2!A:G,4,FALSE))","v":""},null,null,{"$f":"IF(OR(C1386=\"\",ISBLANK(C1386)),\"\",VLOOKUP(C1386,Sheet2!A:F,3,FALSE))","v":""},{"$f":"IF(OR(C1386=\"\",ISBLANK(C1386)),\"\",VLOOKUP(C1386,Sheet2!A:G,6,FALSE))","v":""},""]
[{"$f":"IF(OR(C1387=\"\",ISBLANK(C1387)),\"\",VLOOKUP(C1387,Sheet2!A:F,2,FALSE))","v":""},{"$f":"IF(OR(C1387=\"\",ISBLANK(C1387)),\"\",VLOOKUP(C1387,Sheet2!A:G,4,FALSE))","v":""},null,null,{"$f":"IF(OR(C1387=\"\",ISBLANK(C1387)),\"\",VLOOKUP(C1387,Sheet2!A:F,3,FALSE))","v":""},{"$f":"IF(OR(C1387=\"\",ISBLANK(C1387)),\"\",VLOOKUP(C1387,Sheet2!A:G,6,FALSE))","v":""},""]
[{"$f":"IF(OR(C1388=\"\",ISBLANK(C1388)),\"\",VLOOKUP(C1388,Sheet2!A:F,2,FALSE))","v":""},{"$f":"IF(OR(C1388=\"\",ISBLANK(C1388)),\"\",VLOOKUP(C1388,Sheet2!A:G,4,FALSE))","v":""},null,null,{"$f":"IF(OR(C1388=\"\",ISBLANK(C1388)),\"\",VLOOKUP(C1388,Sheet2!A:F,3,FALSE))","v":""},{"$f":"IF(OR(C1388=\"\",ISBLANK(C1388)),\"\",VLOOKUP(C1388,Sheet2!A:G,6,FALSE))","v":""},""]
[{"$f":"IF(OR(C1389=\"\",ISBLANK(C1389)),\"\",VLOOKUP(C1389,Sheet2!A:F,2,FALSE))","v":""},{"$f":"IF(OR(C1389=\"\",ISBLANK(C1389)),\"\",VLOOKUP(C1389,Sheet2!A:G,4,FALSE))","v":""},null,null,{"$f":"IF(OR(C1389=\"\",ISBLANK(C1389)),\"\",VLOOKUP(C1389,Sheet2!A:F,3,FALSE))","v":""},{"$f":"IF(OR(C1389=\"\",ISBLANK(C1389)),\"\",VLOOKUP(C1389,Sheet2!A:G,6,FALSE))","v":""},""]
[{"$f":"IF(OR(C1390=\"\",ISBLANK(C1390)),\"\",VLOOKUP(C1390,Sheet2!A:F,2,FALSE))","v":""},{"$f":"IF(OR(C1390=\"\",ISBLANK(C1390)),\"\",VLOOKUP(C1390,Sheet2!A:G,4,FALSE))","v":""},null,null,{"$f":"IF(OR(C1390=\"\",ISBLANK(C1390)),\"\",VLOOKUP(C1390,Sheet2!A:F,3,FALSE))","v":""},{"$f":"IF(OR(C1390=\"\",ISBLANK(C1390)),\"\",VLOOKUP(C1390,Sheet2!A:G,6,FALSE))","v":""},""]
[{"$f":"IF(OR(C1391=\"\",ISBLANK(C1391)),\"\",VLOOKUP(C1391,Sheet2!A:F,2,FALSE))","v":""},{"$f":"IF(OR(C1391=\"\",ISBLANK(C1391)),\"\",VLOOKUP(C1391,Sheet2!A:G,4,FALSE))","v":""},null,null,{"$f":"IF(OR(C1391=\"\",ISBLANK(C1391)),\"\",VLOOKUP(C1391,Sheet2!A:F,3,FALSE))","v":""},{"$f":"IF(OR(C1391=\"\",ISBLANK(C1391)),\"\",VLOOKUP(C1391,Sheet2!A:G,6,FALSE))","v":""},""]
[{"$f":"IF(OR(C1392=\"\",ISBLANK(C1392)),\"\",VLOOKUP(C1392,Sheet2!A:F,2,FALSE))","v":""},{"$f":"IF(OR(C1392=\"\",ISBLANK(C1392)),\"\",VLOOKUP(C1392,Sheet2!A:G,4,FALSE))","v":""},null,null,{"$f":"IF(OR(C1392=\"\",ISBLANK(C1392)),\"\",VLOOKUP(C1392,Sheet2!A:F,3,FALSE))","v":""},{"$f":"IF(OR(C1392=\"\",ISBLANK(C1392)),\"\",VLOOKUP(C1392,Sheet2!A:G,6,FALSE))","v":""},""]
[{"$f":"IF(OR(C1393=\"\",ISBLANK(C1393)),\"\",VLOOKUP(C1393,Sheet2!A:F,2,FALSE))","v":""},{"$f":"IF(OR(C1393=\"\",ISBLANK(C1393)),\"\",VLOOKUP(C1393,Sheet2!A:G,4,FALSE))","v":""},null,null,{"$f":"IF(OR(C1393=\"\",ISBLANK(C1393)),\"\",VLOOKUP(C1393,Sheet2!A:F,3,FALSE))","v":""},{"$f":"IF(OR(C1393=\"\",ISBLANK(C1393)),\"\",VLOOKUP(C1393,Sheet2!A:G,6,FALSE))","v":""},""]
[{"$f":"IF(OR(C1394=\"\",ISBLANK(C1394)),\"\",VLOOKUP(C1394,Sheet2!A:F,2,FALSE))","v":""},{"$f":"IF(OR(C1394=\"\",ISBLANK(C1394)),\"\",VLOOKUP(C1394,Sheet2!A:G,4,FALSE))","v":""},null,null,{"$f":"IF(OR(C1394=\"\",ISBLANK(C1394)),\"\",VLOOKUP(C1394,Sheet2!A:F,3,FALSE))","v":""},{"$f":"IF(OR(C1394=\"\",ISBLANK(C1394)),\"\",VLOOKUP(C1394,Sheet2!A:G,6,FALSE))","v":""},""]
[{"$f":"IF(OR(C1395=\"\",ISBLANK(C1395)),\"\",VLOOKUP(C1395,Sheet2!A:F,2,FALSE))","v":""},{"$f":"IF(OR(C1395=\"\",ISBLANK(C1395)),\"\",VLOOKUP(C1395,Sheet2!A:G,4,FALSE))","v":""},null,null,{"$f":"IF(OR(C1395=\"\",ISBLANK(C1395)),\"\",VLOOKUP(C1395,Sheet2!A:F,3,FALSE))","v":""},{"$f":"IF(OR(C1395=\"\",ISBLANK(C1395)),\"\",VLOOKUP(C1395,Sheet2!A:G,6,FALSE))","v":""},""]
[{"$f":"IF(OR(C1396=\"\",ISBLANK(C1396)),\"\",VLOOKUP(C1396,Sheet2!A:F,2,FALSE))","v":""},{"$f":"IF(OR(C1396=\"\",ISBLANK(C1396)),\"\",VLOOKUP(C1396,Sheet2!A:G,4,FALSE))","v":""},null,null,{"$f":"IF(OR(C1396=\"\",ISBLANK(C1396)),\"\",VLOOKUP(C1396,Sheet2!A:F,3,FALSE))","v":""},{"$f":"IF(OR(C1396=\"\",ISBLANK(C1396)),\"\",VLOOKUP(C1396,Sheet2!A:G,6,FALSE))","v":""},""]
[{"$f":"IF(OR(C1397=\"\",ISBLANK(C1397)),\"\",VLOOKUP(C1397,Sheet2!A:F,2,FALSE))","v":""},{"$f":"IF(OR(C1397=\"\",ISBLANK(C1397)),\"\",VLOOKUP(C1397,Sheet2!A:G,4,FALSE))","v":""},null,null,{"$f":"IF(OR(C1397=\"\",ISBLANK(C1397)),\"\",VLOOKUP(C1397,Sheet2!A:F,3,FALSE))","v":""},{"$f":"IF(OR(C1397=\"\",ISBLANK(C1397)),\"\",VLOOKUP(C1397,Sheet2!A:G,6,FALSE))","v":""},""]
[{"$f":"IF(OR(C1398=\"\",ISBLANK(C1398)),\"\",VLOOKUP(C1398,Sheet2!A:F,2,FALSE))","v":""},{"$f":"IF(OR(C1398=\"\",ISBLANK(C1398)),\"\",VLOOKUP(C1398,Sheet2!A:G,4,FALSE))","v":""},null,null,{"$f":"IF(OR(C1398=\"\",ISBLANK(C1398)),\"\",VLOOKUP(C1398,Sheet2!A:F,3,FALSE))","v":""},{"$f":"IF(OR(C1398=\"\",ISBLANK(C1398)),\"\",VLOOKUP(C1398,Sheet2!A:G,6,FALSE))","v":""},""]
[{"$f":"IF(OR(C1399=\"\",ISBLANK(C1399)),\"\",VLOOKUP(C1399,Sheet2!A:F,2,FALSE))","v":""},{"$f":"IF(OR(C1399=\"\",ISBLANK(C1399)),\"\",VLOOKUP(C1399,Sheet2!A:G,4,FALSE))","v":""},null,null,{"$f":"IF(OR(C1399=\"\",ISBLANK(C1399)),\"\",VLOOKUP(C1399,Sheet2!A:F,3,FALSE))","v":""},{"$f":"IF(OR(C1399=\"\",ISBLANK(C1399)),\"\",VLOOKUP(C1399,Sheet2!A:G,6,FALSE))","v":""},""]
[{"$f":"IF(OR(C1400=\"\",ISBLANK(C1400)),\"\",VLOOKUP(C1400,Sheet2!A:F,2,FALSE))","v":""},{"$f":"IF(OR(C1400=\"\",ISBLANK(C1400)),\"\",VLOOKUP(C1400,Sheet2!A:G,4,FALSE))","v":""},null,null,{"$f":"IF(OR(C1400=\"\",ISBLANK(C1400)),\"\",VLOOKUP(C1400,Sheet2!A:F,3,FALSE))","v":""},{"$f":"IF(OR(C1400=\"\",ISBLANK(C1400)),\"\",VLOOKUP(C1400,Sheet2!A:G,6,FALSE))","v":""},""]
[{"$f":"IF(OR(C1401=\"\",ISBLANK(C1401)),\"\",VLOOKUP(C1401,Sheet2!A:F,2,FALSE))","v":""},{"$f":"IF(OR(C1401=\"\",ISBLANK(C1401)),\"\",VLOOKUP(C1401,Sheet2!A:G,4,FALSE))","v":""},null,null,{"$f":"IF(OR(C1401=\"\",ISBLANK(C1401)),\"\",VLOOKUP(C1401,Sheet2!A:F,3,FALSE))","v":""},{"$f":"IF(OR(C1401=\"\",ISBLANK(C1401)),\"\",VLOOKUP(C1401,Sheet2!A:G,6,FALSE))","v":""},""]
[{"$f":"IF(OR(C1402=\"\",ISBLANK(C1402)),\"\",VLOOKUP(C1402,Sheet2!A:F,2,FALSE))","v":""},{"$f":"IF(OR(C1402=\"\",ISBLANK(C1402)),\"\",VLOOKUP(C1402,Sheet2!A:G,4,FALSE))","v":""},null,null,{"$f":"IF(OR(C1402=\"\",ISBLANK(C1402)),\"\",VLOOKUP(C1402,Sheet2!A:F,3,FALSE))","v":""},{"$f":"IF(OR(C1402=\"\",ISBLANK(C1402)),\"\",VLOOKUP(C1402,Sheet2!A:G,6,FALSE))","v":""},""]
[{"$f":"IF(OR(C1403=\"\",ISBLANK(C1403)),\"\",VLOOKUP(C1403,Sheet2!A:F,2,FALSE))","v":""},{"$f":"IF(OR(C1403=\"\",ISBLANK(C1403)),\"\",VLOOKUP(C1403,Sheet2!A:G,4,FALSE))","v":""},null,null,{"$f":"IF(OR(C1403=\"\",ISBLANK(C1403)),\"\",VLOOKUP(C1403,Sheet2!A:F,3,FALSE))","v":""},{"$f":"IF(OR(C1403=\"\",ISBLANK(C1403)),\"\",VLOOKUP(C1403,Sheet2!A:G,6,FALSE))","v":""},""]
[{"$f":"IF(OR(C1404=\"\",ISBLANK(C1404)),\"\",VLOOKUP(C1404,Sheet2!A:F,2,FALSE))","v":""},{"$f":"IF(OR(C1404=\"\",ISBLANK(C1404)),\"\",VLOOKUP(C1404,Sheet2!A:G,4,FALSE))","v":""},null,null,{"$f":"IF(OR(C1404=\"\",ISBLANK(C1404)),\"\",VLOOKUP(C1404,Sheet2!A:F,3,FALSE))","v":""},{"$f":"IF(OR(C1404=\"\",ISBLANK(C1404)),\"\",VLOOKUP(C1404,Sheet2!A:G,6,FALSE))","v":""},""]
[{"$f":"IF(OR(C1405=\"\",ISBLANK(C1405)),\"\",VLOOKUP(C1405,Sheet2!A:F,2,FALSE))","v":""},{"$f":"IF(OR(C1405=\"\",ISBLANK(C1405)),\"\",VLOOKUP(C1405,Sheet2!A:G,4,FALSE))","v":""},null,null,{"$f":"IF(OR(C1405=\"\",ISBLANK(C1405)),\"\",VLOOKUP(C1405,Sheet2!A:F,3,FALSE))","v":""},{"$f":"IF(OR(C1405=\"\",ISBLANK(C1405)),\"\",VLOOKUP(C1405,Sheet2!A:G,6,FALSE))","v":""},""]
[{"$f":"IF(OR(C1406=\"\",ISBLANK(C1406)),\"\",VLOOKUP(C1406,Sheet2!A:F,2,FALSE))","v":""},{"$f":"IF(OR(C1406=\"\",ISBLANK(C1406)),\"\",VLOOKUP(C1406,Sheet2!A:G,4,FALSE))","v":""},null,null,{"$f":"IF(OR(C1406=\"\",ISBLANK(C1406)),\"\",VLOOKUP(C1406,Sheet2!A:F,3,FALSE))","v":""},{"$f":"IF(OR(C1406=\"\",ISBLANK(C1406)),\"\",VLOOKUP(C1406,Sheet2!A:G,6,FALSE))","v":""},""]
[{"$f":"IF(OR(C1407=\"\",ISBLANK(C1407)),\"\",VLOOKUP(C1407,Sheet2!A:F,2,FALSE))","v":""},{"$f":"IF(OR(C1407=\"\",ISBLANK(C1407)),\"\",VLOOKUP(C1407,Sheet2!A:G,4,FALSE))","v":""},null,null,{"$f":"IF(OR(C1407=\"\",ISBLANK(C1407)),\"\",VLOOKUP(C1407,Sheet2!A:F,3,FALSE))","v":""},{"$f":"IF(OR(C1407=\"\",ISBLANK(C1407)),\"\",VLOOKUP(C1407,Sheet2!A:G,6,FALSE))","v":""},""]
[{"$f":"IF(OR(C1408=\"\",ISBLANK(C1408)),\"\",VLOOKUP(C1408,Sheet2!A:F,2,FALSE))","v":""},{"$f":"IF(OR(C1408=\"\",ISBLANK(C1408)),\"\",VLOOKUP(C1408,Sheet2!A:G,4,FALSE))","v":""},null,null,{"$f":"IF(OR(C1408=\"\",ISBLANK(C1408)),\"\",VLOOKUP(C1408,Sheet2!A:F,3,FALSE))","v":""},{"$f":"IF(OR(C1408=\"\",ISBLANK(C1408)),\"\",VLOOKUP(C1408,Sheet2!A:G,6,FALSE))","v":""},""]
[{"$f":"IF(OR(C1409=\"\",ISBLANK(C1409)),\"\",VLOOKUP(C1409,Sheet2!A:F,2,FALSE))","v":""},{"$f":"IF(OR(C1409=\"\",ISBLANK(C1409)),\"\",VLOOKUP(C1409,Sheet2!A:G,4,FALSE))","v":""},null,null,{"$f":"IF(OR(C1409=\"\",ISBLANK(C1409)),\"\",VLOOKUP(C1409,Sheet2!A:F,3,FALSE))","v":""},{"$f":"IF(OR(C1409=\"\",ISBLANK(C1409)),\"\",VLOOKUP(C1409,Sheet2!A:G,6,FALSE))","v":""},""]
[{"$f":"IF(OR(C1410=\"\",ISBLANK(C1410)),\"\",VLOOKUP(C1410,Sheet2!A:F,2,FALSE))","v":""},{"$f":"IF(OR(C1410=\"\",ISBLANK(C1410)),\"\",VLOOKUP(C1410,Sheet2!A:G,4,FALSE))","v":""},null,null,{"$f":"IF(OR(C1410=\"\",ISBLANK(C1410)),\"\",VLOOKUP(C1410,Sheet2!A:F,3,FALSE))","v":""},{"$f":"IF(OR(C1410=\"\",ISBLANK(C1410)),\"\",VLOOKUP(C1410,Sheet2!A:G,6,FALSE))","v":""},""]
[{"$f":"IF(OR(C1411=\"\",ISBLANK(C1411)),\"\",VLOOKUP(C1411,Sheet2!A:F,2,FALSE))","v":""},{"$f":"IF(OR(C1411=\"\",ISBLANK(C1411)),\"\",VLOOKUP(C1411,Sheet2!A:G,4,FALSE))","v":""},null,null,{"$f":"IF(OR(C1411=\"\",ISBLANK(C1411)),\"\",VLOOKUP(C1411,Sheet2!A:F,3,FALSE))","v":""},{"$f":"IF(OR(C1411=\"\",ISBLANK(C1411)),\"\",VLOOKUP(C1411,Sheet2!A:G,6,FALSE))","v":""},{"$f":"IF(F1411=0,\"\",F1411)","v":""}]
[{"$f":"IF(OR(C1412=\"\",ISBLANK(C1412)),\"\",VLOOKUP(C1412,Sheet2!A:F,2,FALSE))","v":""},{"$f":"IF(OR(C1412=\"\",ISBLANK(C1412)),\"\",VLOOKUP(C1412,Sheet2!A:G,4,FALSE))","v":""},null,null,{"$f":"IF(OR(C1412=\"\",ISBLANK(C1412)),\"\",VLOOKUP(C1412,Sheet2!A:F,3,FALSE))","v":""},{"$f":"IF(OR(C1412=\"\",ISBLANK(C1412)),\"\",VLOOKUP(C1412,Sheet2!A:G,6,FALSE))","v":""},""]
[{"$f":"IF(OR(C1413=\"\",ISBLANK(C1413)),\"\",VLOOKUP(C1413,Sheet2!A:F,2,FALSE))","v":""},{"$f":"IF(OR(C1413=\"\",ISBLANK(C1413)),\"\",VLOOKUP(C1413,Sheet2!A:G,4,FALSE))","v":""},null,null,{"$f":"IF(OR(C1413=\"\",ISBLANK(C1413)),\"\",VLOOKUP(C1413,Sheet2!A:F,3,FALSE))","v":""},{"$f":"IF(OR(C1413=\"\",ISBLANK(C1413)),\"\",VLOOKUP(C1413,Sheet2!A:G,6,FALSE))","v":""},""]
[{"$f":"IF(OR(C1414=\"\",ISBLANK(C1414)),\"\",VLOOKUP(C1414,Sheet2!A:F,2,FALSE))","v":""},{"$f":"IF(OR(C1414=\"\",ISBLANK(C1414)),\"\",VLOOKUP(C1414,Sheet2!A:G,4,FALSE))","v":""},null,null,{"$f":"IF(OR(C1414=\"\",ISBLANK(C1414)),\"\",VLOOKUP(C1414,Sheet2!A:F,3,FALSE))","v":""},{"$f":"IF(OR(C1414=\"\",ISBLANK(C1414)),\"\",VLOOKUP(C1414,Sheet2!A:G,6,FALSE))","v":""},""]
[{"$f":"IF(OR(C1415=\"\",ISBLANK(C1415)),\"\",VLOOKUP(C1415,Sheet2!A:F,2,FALSE))","v":""},{"$f":"IF(OR(C1415=\"\",ISBLANK(C1415)),\"\",VLOOKUP(C1415,Sheet2!A:G,4,FALSE))","v":""},null,null,{"$f":"IF(OR(C1415=\"\",ISBLANK(C1415)),\"\",VLOOKUP(C1415,Sheet2!A:F,3,FALSE))","v":""},{"$f":"IF(OR(C1415=\"\",ISBLANK(C1415)),\"\",VLOOKUP(C1415,Sheet2!A:G,6,FALSE))","v":""},""]
[{"$f":"IF(OR(C1416=\"\",ISBLANK(C1416)),\"\",VLOOKUP(C1416,Sheet2!A:F,2,FALSE))","v":""},{"$f":"IF(OR(C1416=\"\",ISBLANK(C1416)),\"\",VLOOKUP(C1416,Sheet2!A:G,4,FALSE))","v":""},null,null,{"$f":"IF(OR(C1416=\"\",ISBLANK(C1416)),\"\",VLOOKUP(C1416,Sheet2!A:F,3,FALSE))","v":""},{"$f":"IF(OR(C1416=\"\",ISBLANK(C1416)),\"\",VLOOKUP(C1416,Sheet2!A:G,6,FALSE))","v":""},""]
[{"$f":"IF(OR(C1417=\"\",ISBLANK(C1417)),\"\",VLOOKUP(C1417,Sheet2!A:F,2,FALSE))","v":""},{"$f":"IF(OR(C1417=\"\",ISBLANK(C1417)),\"\",VLOOKUP(C1417,Sheet2!A:G,4,FALSE))","v":""},null,null,{"$f":"IF(OR(C1417=\"\",ISBLANK(C1417)),\"\",VLOOKUP(C1417,Sheet2!A:F,3,FALSE))","v":""},{"$f":"IF(OR(C1417=\"\",ISBLANK(C1417)),\"\",VLOOKUP(C1417,Sheet2!A:G,6,FALSE))","v":""},""]
[{"$f":"IF(OR(C1418=\"\",ISBLANK(C1418)),\"\",VLOOKUP(C1418,Sheet2!A:F,2,FALSE))","v":""},{"$f":"IF(OR(C1418=\"\",ISBLANK(C1418)),\"\",VLOOKUP(C1418,Sheet2!A:G,4,FALSE))","v":""},null,null,{"$f":"IF(OR(C1418=\"\",ISBLANK(C1418)),\"\",VLOOKUP(C1418,Sheet2!A:F,3,FALSE))","v":""},{"$f":"IF(OR(C1418=\"\",ISBLANK(C1418)),\"\",VLOOKUP(C1418,Sheet2!A:G,6,FALSE))","v":""},""]
[{"$f":"IF(OR(C1419=\"\",ISBLANK(C1419)),\"\",VLOOKUP(C1419,Sheet2!A:F,2,FALSE))","v":""},{"$f":"IF(OR(C1419=\"\",ISBLANK(C1419)),\"\",VLOOKUP(C1419,Sheet2!A:G,4,FALSE))","v":""},null,null,{"$f":"IF(OR(C1419=\"\",ISBLANK(C1419)),\"\",VLOOKUP(C1419,Sheet2!A:F,3,FALSE))","v":""},{"$f":"IF(OR(C1419=\"\",ISBLANK(C1419)),\"\",VLOOKUP(C1419,Sheet2!A:G,6,FALSE))","v":""},""]
[{"$f":"IF(OR(C1420=\"\",ISBLANK(C1420)),\"\",VLOOKUP(C1420,Sheet2!A:F,2,FALSE))","v":""},{"$f":"IF(OR(C1420=\"\",ISBLANK(C1420)),\"\",VLOOKUP(C1420,Sheet2!A:G,4,FALSE))","v":""},null,null,{"$f":"IF(OR(C1420=\"\",ISBLANK(C1420)),\"\",VLOOKUP(C1420,Sheet2!A:F,3,FALSE))","v":""},{"$f":"IF(OR(C1420=\"\",ISBLANK(C1420)),\"\",VLOOKUP(C1420,Sheet2!A:G,6,FALSE))","v":""},""]
[{"$f":"IF(OR(C1421=\"\",ISBLANK(C1421)),\"\",VLOOKUP(C1421,Sheet2!A:F,2,FALSE))","v":""},{"$f":"IF(OR(C1421=\"\",ISBLANK(C1421)),\"\",VLOOKUP(C1421,Sheet2!A:G,4,FALSE))","v":""},null,null,{"$f":"IF(OR(C1421=\"\",ISBLANK(C1421)),\"\",VLOOKUP(C1421,Sheet2!A:F,3,FALSE))","v":""},{"$f":"IF(OR(C1421=\"\",ISBLANK(C1421)),\"\",VLOOKUP(C1421,Sheet2!A:G,6,FALSE))","v":""},""]
[{"$f":"IF(OR(C1422=\"\",ISBLANK(C1422)),\"\",VLOOKUP(C1422,Sheet2!A:F,2,FALSE))","v":""},{"$f":"IF(OR(C1422=\"\",ISBLANK(C1422)),\"\",VLOOKUP(C1422,Sheet2!A:G,4,FALSE))","v":""},null,null,{"$f":"IF(OR(C1422=\"\",ISBLANK(C1422)),\"\",VLOOKUP(C1422,Sheet2!A:F,3,FALSE))","v":""},{"$f":"IF(OR(C1422=\"\",ISBLANK(C1422)),\"\",VLOOKUP(C1422,Sheet2!A:G,6,FALSE))","v":""},""]
[{"$f":"IF(OR(C1423=\"\",ISBLANK(C1423)),\"\",VLOOKUP(C1423,Sheet2!A:F,2,FALSE))","v":""},{"$f":"IF(OR(C1423=\"\",ISBLANK(C1423)),\"\",VLOOKUP(C1423,Sheet2!A:G,4,FALSE))","v":""},null,null,{"$f":"IF(OR(C1423=\"\",ISBLANK(C1423)),\"\",VLOOKUP(C1423,Sheet2!A:F,3,FALSE))","v":""},{"$f":"IF(OR(C1423=\"\",ISBLANK(C1423)),\"\",VLOOKUP(C1423,Sheet2!A:G,6,FALSE))","v":""},""]
[{"$f":"IF(OR(C1424=\"\",ISBLANK(C1424)),\"\",VLOOKUP(C1424,Sheet2!A:F,2,FALSE))","v":""},{"$f":"IF(OR(C1424=\"\",ISBLANK(C1424)),\"\",VLOOKUP(C1424,Sheet2!A:G,4,FALSE))","v":""},null,null,{"$f":"IF(OR(C1424=\"\",ISBLANK(C1424)),\"\",VLOOKUP(C1424,Sheet2!A:F,3,FALSE))","v":""},{"$f":"IF(OR(C1424=\"\",ISBLANK(C1424)),\"\",VLOOKUP(C1424,Sheet2!A:G,6,FALSE))","v":""},""]
[{"$f":"IF(OR(C1425=\"\",ISBLANK(C1425)),\"\",VLOOKUP(C1425,Sheet2!A:F,2,FALSE))","v":""},{"$f":"IF(OR(C1425=\"\",ISBLANK(C1425)),\"\",VLOOKUP(C1425,Sheet2!A:G,4,FALSE))","v":""},null,null,{"$f":"IF(OR(C1425=\"\",ISBLANK(C1425)),\"\",VLOOKUP(C1425,Sheet2!A:F,3,FALSE))","v":""},{"$f":"IF(OR(C1425=\"\",ISBLANK(C1425)),\"\",VLOOKUP(C1425,Sheet2!A:G,6,FALSE))","v":""},""]
[{"$f":"IF(OR(C1426=\"\",ISBLANK(C1426)),\"\",VLOOKUP(C1426,Sheet2!A:F,2,FALSE))","v":""},{"$f":"IF(OR(C1426=\"\",ISBLANK(C1426)),\"\",VLOOKUP(C1426,Sheet2!A:G,4,FALSE))","v":""},null,null,{"$f":"IF(OR(C1426=\"\",ISBLANK(C1426)),\"\",VLOOKUP(C1426,Sheet2!A:F,3,FALSE))","v":""},{"$f":"IF(OR(C1426=\"\",ISBLANK(C1426)),\"\",VLOOKUP(C1426,Sheet2!A:G,6,FALSE))","v":""},""]
[{"$f":"IF(OR(C1427=\"\",ISBLANK(C1427)),\"\",VLOOKUP(C1427,Sheet2!A:F,2,FALSE))","v":""},{"$f":"IF(OR(C1427=\"\",ISBLANK(C1427)),\"\",VLOOKUP(C1427,Sheet2!A:G,4,FALSE))","v":""},null,null,{"$f":"IF(OR(C1427=\"\",ISBLANK(C1427)),\"\",VLOOKUP(C1427,Sheet2!A:F,3,FALSE))","v":""},{"$f":"IF(OR(C1427=\"\",ISBLANK(C1427)),\"\",VLOOKUP(C1427,Sheet2!A:G,6,FALSE))","v":""},""]
[{"$f":"IF(OR(C1428=\"\",ISBLANK(C1428)),\"\",VLOOKUP(C1428,Sheet2!A:F,2,FALSE))","v":""},{"$f":"IF(OR(C1428=\"\",ISBLANK(C1428)),\"\",VLOOKUP(C1428,Sheet2!A:G,4,FALSE))","v":""},null,null,{"$f":"IF(OR(C1428=\"\",ISBLANK(C1428)),\"\",VLOOKUP(C1428,Sheet2!A:F,3,FALSE))","v":""},{"$f":"IF(OR(C1428=\"\",ISBLANK(C1428)),\"\",VLOOKUP(C1428,Sheet2!A:G,6,FALSE))","v":""},""]
[{"$f":"IF(OR(C1429=\"\",ISBLANK(C1429)),\"\",VLOOKUP(C1429,Sheet2!A:F,2,FALSE))","v":""},{"$f":"IF(OR(C1429=\"\",ISBLANK(C1429)),\"\",VLOOKUP(C1429,Sheet2!A:G,4,FALSE))","v":""},null,null,{"$f":"IF(OR(C1429=\"\",ISBLANK(C1429)),\"\",VLOOKUP(C1429,Sheet2!A:F,3,FALSE))","v":""},{"$f":"IF(OR(C1429=\"\",ISBLANK(C1429)),\"\",VLOOKUP(C1429,Sheet2!A:G,6,FALSE))","v":""},""]
[{"$f":"IF(OR(C1430=\"\",ISBLANK(C1430)),\"\",VLOOKUP(C1430,Sheet2!A:F,2,FALSE))","v":""},{"$f":"IF(OR(C1430=\"\",ISBLANK(C1430)),\"\",VLOOKUP(C1430,Sheet2!A:G,4,FALSE))","v":""},null,null,{"$f":"IF(OR(C1430=\"\",ISBLANK(C1430)),\"\",VLOOKUP(C1430,Sheet2!A:F,3,FALSE))","v":""},{"$f":"IF(OR(C1430=\"\",ISBLANK(C1430)),\"\",VLOOKUP(C1430,Sheet2!A:G,6,FALSE))","v":""},""]
[{"$f":"IF(OR(C1431=\"\",ISBLANK(C1431)),\"\",VLOOKUP(C1431,Sheet2!A:F,2,FALSE))","v":""},{"$f":"IF(OR(C1431=\"\",ISBLANK(C1431)),\"\",VLOOKUP(C1431,Sheet2!A:G,4,FALSE))","v":""},null,null,{"$f":"IF(OR(C1431=\"\",ISBLANK(C1431)),\"\",VLOOKUP(C1431,Sheet2!A:F,3,FALSE))","v":""},{"$f":"IF(OR(C1431=\"\",ISBLANK(C1431)),\"\",VLOOKUP(C1431,Sheet2!A:G,6,FALSE))","v":""},""]
[{"$f":"IF(OR(C1432=\"\",ISBLANK(C1432)),\"\",VLOOKUP(C1432,Sheet2!A:F,2,FALSE))","v":""},{"$f":"IF(OR(C1432=\"\",ISBLANK(C1432)),\"\",VLOOKUP(C1432,Sheet2!A:G,4,FALSE))","v":""},null,null,{"$f":"IF(OR(C1432=\"\",ISBLANK(C1432)),\"\",VLOOKUP(C1432,Sheet2!A:F,3,FALSE))","v":""},{"$f":"IF(OR(C1432=\"\",ISBLANK(C1432)),\"\",VLOOKUP(C1432,Sheet2!A:G,6,FALSE))","v":""},""]
[{"$f":"IF(OR(C1433=\"\",ISBLANK(C1433)),\"\",VLOOKUP(C1433,Sheet2!A:F,2,FALSE))","v":""},{"$f":"IF(OR(C1433=\"\",ISBLANK(C1433)),\"\",VLOOKUP(C1433,Sheet2!A:G,4,FALSE))","v":""},null,null,{"$f":"IF(OR(C1433=\"\",ISBLANK(C1433)),\"\",VLOOKUP(C1433,Sheet2!A:F,3,FALSE))","v":""},{"$f":"IF(OR(C1433=\"\",ISBLANK(C1433)),\"\",VLOOKUP(C1433,Sheet2!A:G,6,FALSE))","v":""},""]
[{"$f":"IF(OR(C1434=\"\",ISBLANK(C1434)),\"\",VLOOKUP(C1434,Sheet2!A:F,2,FALSE))","v":""},{"$f":"IF(OR(C1434=\"\",ISBLANK(C1434)),\"\",VLOOKUP(C1434,Sheet2!A:G,4,FALSE))","v":""},null,null,{"$f":"IF(OR(C1434=\"\",ISBLANK(C1434)),\"\",VLOOKUP(C1434,Sheet2!A:F,3,FALSE))","v":""},{"$f":"IF(OR(C1434=\"\",ISBLANK(C1434)),\"\",VLOOKUP(C1434,Sheet2!A:G,6,FALSE))","v":""},""]
[{"$f":"IF(OR(C1435=\"\",ISBLANK(C1435)),\"\",VLOOKUP(C1435,Sheet2!A:F,2,FALSE))","v":""},{"$f":"IF(OR(C1435=\"\",ISBLANK(C1435)),\"\",VLOOKUP(C1435,Sheet2!A:G,4,FALSE))","v":""},null,null,{"$f":"IF(OR(C1435=\"\",ISBLANK(C1435)),\"\",VLOOKUP(C1435,Sheet2!A:F,3,FALSE))","v":""},{"$f":"IF(OR(C1435=\"\",ISBLANK(C1435)),\"\",VLOOKUP(C1435,Sheet2!A:G,6,FALSE))","v":""},""]
[{"$f":"IF(OR(C1436=\"\",ISBLANK(C1436)),\"\",VLOOKUP(C1436,Sheet2!A:F,2,FALSE))","v":""},{"$f":"IF(OR(C1436=\"\",ISBLANK(C1436)),\"\",VLOOKUP(C1436,Sheet2!A:G,4,FALSE))","v":""},null,null,{"$f":"IF(OR(C1436=\"\",ISBLANK(C1436)),\"\",VLOOKUP(C1436,Sheet2!A:F,3,FALSE))","v":""},{"$f":"IF(OR(C1436=\"\",ISBLANK(C1436)),\"\",VLOOKUP(C1436,Sheet2!A:G,6,FALSE))","v":""},""]
[{"$f":"IF(OR(C1437=\"\",ISBLANK(C1437)),\"\",VLOOKUP(C1437,Sheet2!A:F,2,FALSE))","v":""},{"$f":"IF(OR(C1437=\"\",ISBLANK(C1437)),\"\",VLOOKUP(C1437,Sheet2!A:G,4,FALSE))","v":""},null,null,{"$f":"IF(OR(C1437=\"\",ISBLANK(C1437)),\"\",VLOOKUP(C1437,Sheet2!A:F,3,FALSE))","v":""},{"$f":"IF(OR(C1437=\"\",ISBLANK(C1437)),\"\",VLOOKUP(C1437,Sheet2!A:G,6,FALSE))","v":""},""]
[{"$f":"IF(OR(C1438=\"\",ISBLANK(C1438)),\"\",VLOOKUP(C1438,Sheet2!A:F,2,FALSE))","v":""},{"$f":"IF(OR(C1438=\"\",ISBLANK(C1438)),\"\",VLOOKUP(C1438,Sheet2!A:G,4,FALSE))","v":""},null,null,{"$f":"IF(OR(C1438=\"\",ISBLANK(C1438)),\"\",VLOOKUP(C1438,Sheet2!A:F,3,FALSE))","v":""},{"$f":"IF(OR(C1438=\"\",ISBLANK(C1438)),\"\",VLOOKUP(C1438,Sheet2!A:G,6,FALSE))","v":""},""]
[{"$f":"IF(OR(C1439=\"\",ISBLANK(C1439)),\"\",VLOOKUP(C1439,Sheet2!A:F,2,FALSE))","v":""},{"$f":"IF(OR(C1439=\"\",ISBLANK(C1439)),\"\",VLOOKUP(C1439,Sheet2!A:G,4,FALSE))","v":""},null,null,{"$f":"IF(OR(C1439=\"\",ISBLANK(C1439)),\"\",VLOOKUP(C1439,Sheet2!A:F,3,FALSE))","v":""},{"$f":"IF(OR(C1439=\"\",ISBLANK(C1439)),\"\",VLOOKUP(C1439,Sheet2!A:G,6,FALSE))","v":""},""]
[{"$f":"IF(OR(C1440=\"\",ISBLANK(C1440)),\"\",VLOOKUP(C1440,Sheet2!A:F,2,FALSE))","v":""},{"$f":"IF(OR(C1440=\"\",ISBLANK(C1440)),\"\",VLOOKUP(C1440,Sheet2!A:G,4,FALSE))","v":""},null,null,{"$f":"IF(OR(C1440=\"\",ISBLANK(C1440)),\"\",VLOOKUP(C1440,Sheet2!A:F,3,FALSE))","v":""},{"$f":"IF(OR(C1440=\"\",ISBLANK(C1440)),\"\",VLOOKUP(C1440,Sheet2!A:G,6,FALSE))","v":""},""]
[{"$f":"IF(OR(C1441=\"\",ISBLANK(C1441)),\"\",VLOOKUP(C1441,Sheet2!A:F,2,FALSE))","v":""},{"$f":"IF(OR(C1441=\"\",ISBLANK(C1441)),\"\",VLOOKUP(C1441,Sheet2!A:G,4,FALSE))","v":""},null,null,{"$f":"IF(OR(C1441=\"\",ISBLANK(C1441)),\"\",VLOOKUP(C1441,Sheet2!A:F,3,FALSE))","v":""},{"$f":"IF(OR(C1441=\"\",ISBLANK(C1441)),\"\",VLOOKUP(C1441,Sheet2!A:G,6,FALSE))","v":""},""]
[{"$f":"IF(OR(C1442=\"\",ISBLANK(C1442)),\"\",VLOOKUP(C1442,Sheet2!A:F,2,FALSE))","v":""},{"$f":"IF(OR(C1442=\"\",ISBLANK(C1442)),\"\",VLOOKUP(C1442,Sheet2!A:G,4,FALSE))","v":""},null,null,{"$f":"IF(OR(C1442=\"\",ISBLANK(C1442)),\"\",VLOOKUP(C1442,Sheet2!A:F,3,FALSE))","v":""},{"$f":"IF(OR(C1442=\"\",ISBLANK(C1442)),\"\",VLOOKUP(C1442,Sheet2!A:G,6,FALSE))","v":""},""]
[{"$f":"IF(OR(C1443=\"\",ISBLANK(C1443)),\"\",VLOOKUP(C1443,Sheet2!A:F,2,FALSE))","v":""},{"$f":"IF(OR(C1443=\"\",ISBLANK(C1443)),\"\",VLOOKUP(C1443,Sheet2!A:G,4,FALSE))","v":""},null,null,{"$f":"IF(OR(C1443=\"\",ISBLANK(C1443)),\"\",VLOOKUP(C1443,Sheet2!A:F,3,FALSE))","v":""},{"$f":"IF(OR(C1443=\"\",ISBLANK(C1443)),\"\",VLOOKUP(C1443,Sheet2!A:G,6,FALSE))","v":""},""]
[{"$f":"IF(OR(C1444=\"\",ISBLANK(C1444)),\"\",VLOOKUP(C1444,Sheet2!A:F,2,FALSE))","v":""},{"$f":"IF(OR(C1444=\"\",ISBLANK(C1444)),\"\",VLOOKUP(C1444,Sheet2!A:G,4,FALSE))","v":""},null,null,{"$f":"IF(OR(C1444=\"\",ISBLANK(C1444)),\"\",VLOOKUP(C1444,Sheet2!A:F,3,FALSE))","v":""},{"$f":"IF(OR(C1444=\"\",ISBLANK(C1444)),\"\",VLOOKUP(C1444,Sheet2!A:G,6,FALSE))","v":""},""]
[{"$f":"IF(OR(C1445=\"\",ISBLANK(C1445)),\"\",VLOOKUP(C1445,Sheet2!A:F,2,FALSE))","v":""},{"$f":"IF(OR(C1445=\"\",ISBLANK(C1445)),\"\",VLOOKUP(C1445,Sheet2!A:G,4,FALSE))","v":""},null,null,{"$f":"IF(OR(C1445=\"\",ISBLANK(C1445)),\"\",VLOOKUP(C1445,Sheet2!A:F,3,FALSE))","v":""},{"$f":"IF(OR(C1445=\"\",ISBLANK(C1445)),\"\",VLOOKUP(C1445,Sheet2!A:G,6,FALSE))","v":""},""]
[{"$f":"IF(OR(C1446=\"\",ISBLANK(C1446)),\"\",VLOOKUP(C1446,Sheet2!A:F,2,FALSE))","v":""},{"$f":"IF(OR(C1446=\"\",ISBLANK(C1446)),\"\",VLOOKUP(C1446,Sheet2!A:G,4,FALSE))","v":""},null,null,{"$f":"IF(OR(C1446=\"\",ISBLANK(C1446)),\"\",VLOOKUP(C1446,Sheet2!A:F,3,FALSE))","v":""},{"$f":"IF(OR(C1446=\"\",ISBLANK(C1446)),\"\",VLOOKUP(C1446,Sheet2!A:G,6,FALSE))","v":""},""]
[{"$f":"IF(OR(C1447=\"\",ISBLANK(C1447)),\"\",VLOOKUP(C1447,Sheet2!A:F,2,FALSE))","v":""},{"$f":"IF(OR(C1447=\"\",ISBLANK(C1447)),\"\",VLOOKUP(C1447,Sheet2!A:G,4,FALSE))","v":""},null,null,{"$f":"IF(OR(C1447=\"\",ISBLANK(C1447)),\"\",VLOOKUP(C1447,Sheet2!A:F,3,FALSE))","v":""},{"$f":"IF(OR(C1447=\"\",ISBLANK(C1447)),\"\",VLOOKUP(C1447,Sheet2!A:G,6,FALSE))","v":""},""]
[{"$f":"IF(OR(C1448=\"\",ISBLANK(C1448)),\"\",VLOOKUP(C1448,Sheet2!A:F,2,FALSE))","v":""},{"$f":"IF(OR(C1448=\"\",ISBLANK(C1448)),\"\",VLOOKUP(C1448,Sheet2!A:G,4,FALSE))","v":""},null,null,{"$f":"IF(OR(C1448=\"\",ISBLANK(C1448)),\"\",VLOOKUP(C1448,Sheet2!A:F,3,FALSE))","v":""},{"$f":"IF(OR(C1448=\"\",ISBLANK(C1448)),\"\",VLOOKUP(C1448,Sheet2!A:G,6,FALSE))","v":""},""]
[{"$f":"IF(OR(C1449=\"\",ISBLANK(C1449)),\"\",VLOOKUP(C1449,Sheet2!A:F,2,FALSE))","v":""},{"$f":"IF(OR(C1449=\"\",ISBLANK(C1449)),\"\",VLOOKUP(C1449,Sheet2!A:G,4,FALSE))","v":""},null,null,{"$f":"IF(OR(C1449=\"\",ISBLANK(C1449)),\"\",VLOOKUP(C1449,Sheet2!A:F,3,FALSE))","v":""},{"$f":"IF(OR(C1449=\"\",ISBLANK(C1449)),\"\",VLOOKUP(C1449,Sheet2!A:G,6,FALSE))","v":""},""]
[{"$f":"IF(OR(C1450=\"\",ISBLANK(C1450)),\"\",VLOOKUP(C1450,Sheet2!A:F,2,FALSE))","v":""},{"$f":"IF(OR(C1450=\"\",ISBLANK(C1450)),\"\",VLOOKUP(C1450,Sheet2!A:G,4,FALSE))","v":""},null,null,{"$f":"IF(OR(C1450=\"\",ISBLANK(C1450)),\"\",VLOOKUP(C1450,Sheet2!A:F,3,FALSE))","v":""},{"$f":"IF(OR(C1450=\"\",ISBLANK(C1450)),\"\",VLOOKUP(C1450,Sheet2!A:G,6,FALSE))","v":""},""]
[{"$f":"IF(OR(C1451=\"\",ISBLANK(C1451)),\"\",VLOOKUP(C1451,Sheet2!A:F,2,FALSE))","v":""},{"$f":"IF(OR(C1451=\"\",ISBLANK(C1451)),\"\",VLOOKUP(C1451,Sheet2!A:G,4,FALSE))","v":""},null,null,{"$f":"IF(OR(C1451=\"\",ISBLANK(C1451)),\"\",VLOOKUP(C1451,Sheet2!A:F,3,FALSE))","v":""},{"$f":"IF(OR(C1451=\"\",ISBLANK(C1451)),\"\",VLOOKUP(C1451,Sheet2!A:G,6,FALSE))","v":""},""]
[{"$f":"IF(OR(C1452=\"\",ISBLANK(C1452)),\"\",VLOOKUP(C1452,Sheet2!A:F,2,FALSE))","v":""},{"$f":"IF(OR(C1452=\"\",ISBLANK(C1452)),\"\",VLOOKUP(C1452,Sheet2!A:G,4,FALSE))","v":""},null,null,{"$f":"IF(OR(C1452=\"\",ISBLANK(C1452)),\"\",VLOOKUP(C1452,Sheet2!A:F,3,FALSE))","v":""},{"$f":"IF(OR(C1452=\"\",ISBLANK(C1452)),\"\",VLOOKUP(C1452,Sheet2!A:G,6,FALSE))","v":""},""]
[{"$f":"IF(OR(C1453=\"\",ISBLANK(C1453)),\"\",VLOOKUP(C1453,Sheet2!A:F,2,FALSE))","v":""},{"$f":"IF(OR(C1453=\"\",ISBLANK(C1453)),\"\",VLOOKUP(C1453,Sheet2!A:G,4,FALSE))","v":""},null,null,{"$f":"IF(OR(C1453=\"\",ISBLANK(C1453)),\"\",VLOOKUP(C1453,Sheet2!A:F,3,FALSE))","v":""},{"$f":"IF(OR(C1453=\"\",ISBLANK(C1453)),\"\",VLOOKUP(C1453,Sheet2!A:G,6,FALSE))","v":""},""]
[{"$f":"IF(OR(C1454=\"\",ISBLANK(C1454)),\"\",VLOOKUP(C1454,Sheet2!A:F,2,FALSE))","v":""},{"$f":"IF(OR(C1454=\"\",ISBLANK(C1454)),\"\",VLOOKUP(C1454,Sheet2!A:G,4,FALSE))","v":""},null,null,{"$f":"IF(OR(C1454=\"\",ISBLANK(C1454)),\"\",VLOOKUP(C1454,Sheet2!A:F,3,FALSE))","v":""},{"$f":"IF(OR(C1454=\"\",ISBLANK(C1454)),\"\",VLOOKUP(C1454,Sheet2!A:G,6,FALSE))","v":""},""]
[{"$f":"IF(OR(C1455=\"\",ISBLANK(C1455)),\"\",VLOOKUP(C1455,Sheet2!A:F,2,FALSE))","v":""},{"$f":"IF(OR(C1455=\"\",ISBLANK(C1455)),\"\",VLOOKUP(C1455,Sheet2!A:G,4,FALSE))","v":""},null,null,{"$f":"IF(OR(C1455=\"\",ISBLANK(C1455)),\"\",VLOOKUP(C1455,Sheet2!A:F,3,FALSE))","v":""},{"$f":"IF(OR(C1455=\"\",ISBLANK(C1455)),\"\",VLOOKUP(C1455,Sheet2!A:G,6,FALSE))","v":""},""]
[{"$f":"IF(OR(C1456=\"\",ISBLANK(C1456)),\"\",VLOOKUP(C1456,Sheet2!A:F,2,FALSE))","v":""},{"$f":"IF(OR(C1456=\"\",ISBLANK(C1456)),\"\",VLOOKUP(C1456,Sheet2!A:G,4,FALSE))","v":""},null,null,{"$f":"IF(OR(C1456=\"\",ISBLANK(C1456)),\"\",VLOOKUP(C1456,Sheet2!A:F,3,FALSE))","v":""},{"$f":"IF(OR(C1456=\"\",ISBLANK(C1456)),\"\",VLOOKUP(C1456,Sheet2!A:G,6,FALSE))","v":""},""]
[{"$f":"IF(OR(C1457=\"\",ISBLANK(C1457)),\"\",VLOOKUP(C1457,Sheet2!A:F,2,FALSE))","v":""},{"$f":"IF(OR(C1457=\"\",ISBLANK(C1457)),\"\",VLOOKUP(C1457,Sheet2!A:G,4,FALSE))","v":""},null,null,{"$f":"IF(OR(C1457=\"\",ISBLANK(C1457)),\"\",VLOOKUP(C1457,Sheet2!A:F,3,FALSE))","v":""},{"$f":"IF(OR(C1457=\"\",ISBLANK(C1457)),\"\",VLOOKUP(C1457,Sheet2!A:G,6,FALSE))","v":""},""]
[{"$f":"IF(OR(C1458=\"\",ISBLANK(C1458)),\"\",VLOOKUP(C1458,Sheet2!A:F,2,FALSE))","v":""},{"$f":"IF(OR(C1458=\"\",ISBLANK(C1458)),\"\",VLOOKUP(C1458,Sheet2!A:G,4,FALSE))","v":""},null,null,{"$f":"IF(OR(C1458=\"\",ISBLANK(C1458)),\"\",VLOOKUP(C1458,Sheet2!A:F,3,FALSE))","v":""},{"$f":"IF(OR(C1458=\"\",ISBLANK(C1458)),\"\",VLOOKUP(C1458,Sheet2!A:G,6,FALSE))","v":""},""]
[{"$f":"IF(OR(C1459=\"\",ISBLANK(C1459)),\"\",VLOOKUP(C1459,Sheet2!A:F,2,FALSE))","v":""},{"$f":"IF(OR(C1459=\"\",ISBLANK(C1459)),\"\",VLOOKUP(C1459,Sheet2!A:G,4,FALSE))","v":""},null,null,{"$f":"IF(OR(C1459=\"\",ISBLANK(C1459)),\"\",VLOOKUP(C1459,Sheet2!A:F,3,FALSE))","v":""},{"$f":"IF(OR(C1459=\"\",ISBLANK(C1459)),\"\",VLOOKUP(C1459,Sheet2!A:G,6,FALSE))","v":""},""]
[{"$f":"IF(OR(C1460=\"\",ISBLANK(C1460)),\"\",VLOOKUP(C1460,Sheet2!A:F,2,FALSE))","v":""},{"$f":"IF(OR(C1460=\"\",ISBLANK(C1460)),\"\",VLOOKUP(C1460,Sheet2!A:G,4,FALSE))","v":""},null,null,{"$f":"IF(OR(C1460=\"\",ISBLANK(C1460)),\"\",VLOOKUP(C1460,Sheet2!A:F,3,FALSE))","v":""},{"$f":"IF(OR(C1460=\"\",ISBLANK(C1460)),\"\",VLOOKUP(C1460,Sheet2!A:G,6,FALSE))","v":""},""]
[{"$f":"IF(OR(C1461=\"\",ISBLANK(C1461)),\"\",VLOOKUP(C1461,Sheet2!A:F,2,FALSE))","v":""},{"$f":"IF(OR(C1461=\"\",ISBLANK(C1461)),\"\",VLOOKUP(C1461,Sheet2!A:G,4,FALSE))","v":""},null,null,{"$f":"IF(OR(C1461=\"\",ISBLANK(C1461)),\"\",VLOOKUP(C1461,Sheet2!A:F,3,FALSE))","v":""},{"$f":"IF(OR(C1461=\"\",ISBLANK(C1461)),\"\",VLOOKUP(C1461,Sheet2!A:G,6,FALSE))","v":""},""]
[{"$f":"IF(OR(C1462=\"\",ISBLANK(C1462)),\"\",VLOOKUP(C1462,Sheet2!A:F,2,FALSE))","v":""},{"$f":"IF(OR(C1462=\"\",ISBLANK(C1462)),\"\",VLOOKUP(C1462,Sheet2!A:G,4,FALSE))","v":""},null,null,{"$f":"IF(OR(C1462=\"\",ISBLANK(C1462)),\"\",VLOOKUP(C1462,Sheet2!A:F,3,FALSE))","v":""},{"$f":"IF(OR(C1462=\"\",ISBLANK(C1462)),\"\",VLOOKUP(C1462,Sheet2!A:G,6,FALSE))","v":""},""]
[{"$f":"IF(OR(C1463=\"\",ISBLANK(C1463)),\"\",VLOOKUP(C1463,Sheet2!A:F,2,FALSE))","v":""},{"$f":"IF(OR(C1463=\"\",ISBLANK(C1463)),\"\",VLOOKUP(C1463,Sheet2!A:G,4,FALSE))","v":""},null,null,{"$f":"IF(OR(C1463=\"\",ISBLANK(C1463)),\"\",VLOOKUP(C1463,Sheet2!A:F,3,FALSE))","v":""},{"$f":"IF(OR(C1463=\"\",ISBLANK(C1463)),\"\",VLOOKUP(C1463,Sheet2!A:G,6,FALSE))","v":""},""]
[{"$f":"IF(OR(C1464=\"\",ISBLANK(C1464)),\"\",VLOOKUP(C1464,Sheet2!A:F,2,FALSE))","v":""},{"$f":"IF(OR(C1464=\"\",ISBLANK(C1464)),\"\",VLOOKUP(C1464,Sheet2!A:G,4,FALSE))","v":""},null,null,{"$f":"IF(OR(C1464=\"\",ISBLANK(C1464)),\"\",VLOOKUP(C1464,Sheet2!A:F,3,FALSE))","v":""},{"$f":"IF(OR(C1464=\"\",ISBLANK(C1464)),\"\",VLOOKUP(C1464,Sheet2!A:G,6,FALSE))","v":""},""]
[{"$f":"IF(OR(C1465=\"\",ISBLANK(C1465)),\"\",VLOOKUP(C1465,Sheet2!A:F,2,FALSE))","v":""},{"$f":"IF(OR(C1465=\"\",ISBLANK(C1465)),\"\",VLOOKUP(C1465,Sheet2!A:G,4,FALSE))","v":""},null,null,{"$f":"IF(OR(C1465=\"\",ISBLANK(C1465)),\"\",VLOOKUP(C1465,Sheet2!A:F,3,FALSE))","v":""},{"$f":"IF(OR(C1465=\"\",ISBLANK(C1465)),\"\",VLOOKUP(C1465,Sheet2!A:G,6,FALSE))","v":""},""]
[{"$f":"IF(OR(C1466=\"\",ISBLANK(C1466)),\"\",VLOOKUP(C1466,Sheet2!A:F,2,FALSE))","v":""},{"$f":"IF(OR(C1466=\"\",ISBLANK(C1466)),\"\",VLOOKUP(C1466,Sheet2!A:G,4,FALSE))","v":""},null,null,{"$f":"IF(OR(C1466=\"\",ISBLANK(C1466)),\"\",VLOOKUP(C1466,Sheet2!A:F,3,FALSE))","v":""},{"$f":"IF(OR(C1466=\"\",ISBLANK(C1466)),\"\",VLOOKUP(C1466,Sheet2!A:G,6,FALSE))","v":""},""]
[{"$f":"IF(OR(C1467=\"\",ISBLANK(C1467)),\"\",VLOOKUP(C1467,Sheet2!A:F,2,FALSE))","v":""},{"$f":"IF(OR(C1467=\"\",ISBLANK(C1467)),\"\",VLOOKUP(C1467,Sheet2!A:G,4,FALSE))","v":""},null,null,{"$f":"IF(OR(C1467=\"\",ISBLANK(C1467)),\"\",VLOOKUP(C1467,Sheet2!A:F,3,FALSE))","v":""},{"$f":"IF(OR(C1467=\"\",ISBLANK(C1467)),\"\",VLOOKUP(C1467,Sheet2!A:G,6,FALSE))","v":""},""]
[{"$f":"IF(OR(C1468=\"\",ISBLANK(C1468)),\"\",VLOOKUP(C1468,Sheet2!A:F,2,FALSE))","v":""},{"$f":"IF(OR(C1468=\"\",ISBLANK(C1468)),\"\",VLOOKUP(C1468,Sheet2!A:G,4,FALSE))","v":""},null,null,{"$f":"IF(OR(C1468=\"\",ISBLANK(C1468)),\"\",VLOOKUP(C1468,Sheet2!A:F,3,FALSE))","v":""},{"$f":"IF(OR(C1468=\"\",ISBLANK(C1468)),\"\",VLOOKUP(C1468,Sheet2!A:G,6,FALSE))","v":""},""]
[{"$f":"IF(OR(C1469=\"\",ISBLANK(C1469)),\"\",VLOOKUP(C1469,Sheet2!A:F,2,FALSE))","v":""},{"$f":"IF(OR(C1469=\"\",ISBLANK(C1469)),\"\",VLOOKUP(C1469,Sheet2!A:G,4,FALSE))","v":""},null,null,{"$f":"IF(OR(C1469=\"\",ISBLANK(C1469)),\"\",VLOOKUP(C1469,Sheet2!A:F,3,FALSE))","v":""},{"$f":"IF(OR(C1469=\"\",ISBLANK(C1469)),\"\",VLOOKUP(C1469,Sheet2!A:G,6,FALSE))","v":""},""]
[{"$f":"IF(OR(C1470=\"\",ISBLANK(C1470)),\"\",VLOOKUP(C1470,Sheet2!A:F,2,FALSE))","v":""},{"$f":"IF(OR(C1470=\"\",ISBLANK(C1470)),\"\",VLOOKUP(C1470,Sheet2!A:G,4,FALSE))","v":""},null,null,{"$f":"IF(OR(C1470=\"\",ISBLANK(C1470)),\"\",VLOOKUP(C1470,Sheet2!A:F,3,FALSE))","v":""},{"$f":"IF(OR(C1470=\"\",ISBLANK(C1470)),\"\",VLOOKUP(C1470,Sheet2!A:G,6,FALSE))","v":""},""]
[{"$f":"IF(OR(C1471=\"\",ISBLANK(C1471)),\"\",VLOOKUP(C1471,Sheet2!A:F,2,FALSE))","v":""},{"$f":"IF(OR(C1471=\"\",ISBLANK(C1471)),\"\",VLOOKUP(C1471,Sheet2!A:G,4,FALSE))","v":""},null,null,{"$f":"IF(OR(C1471=\"\",ISBLANK(C1471)),\"\",VLOOKUP(C1471,Sheet2!A:F,3,FALSE))","v":""},{"$f":"IF(OR(C1471=\"\",ISBLANK(C1471)),\"\",VLOOKUP(C1471,Sheet2!A:G,6,FALSE))","v":""},""]
[{"$f":"IF(OR(C1472=\"\",ISBLANK(C1472)),\"\",VLOOKUP(C1472,Sheet2!A:F,2,FALSE))","v":""},{"$f":"IF(OR(C1472=\"\",ISBLANK(C1472)),\"\",VLOOKUP(C1472,Sheet2!A:G,4,FALSE))","v":""},null,null,{"$f":"IF(OR(C1472=\"\",ISBLANK(C1472)),\"\",VLOOKUP(C1472,Sheet2!A:F,3,FALSE))","v":""},{"$f":"IF(OR(C1472=\"\",ISBLANK(C1472)),\"\",VLOOKUP(C1472,Sheet2!A:G,6,FALSE))","v":""},""]
[{"$f":"IF(OR(C1473=\"\",ISBLANK(C1473)),\"\",VLOOKUP(C1473,Sheet2!A:F,2,FALSE))","v":""},{"$f":"IF(OR(C1473=\"\",ISBLANK(C1473)),\"\",VLOOKUP(C1473,Sheet2!A:G,4,FALSE))","v":""},null,null,{"$f":"IF(OR(C1473=\"\",ISBLANK(C1473)),\"\",VLOOKUP(C1473,Sheet2!A:F,3,FALSE))","v":""},{"$f":"IF(OR(C1473=\"\",ISBLANK(C1473)),\"\",VLOOKUP(C1473,Sheet2!A:G,6,FALSE))","v":""},""]
[{"$f":"IF(OR(C1474=\"\",ISBLANK(C1474)),\"\",VLOOKUP(C1474,Sheet2!A:F,2,FALSE))","v":""},{"$f":"IF(OR(C1474=\"\",ISBLANK(C1474)),\"\",VLOOKUP(C1474,Sheet2!A:G,4,FALSE))","v":""},null,null,{"$f":"IF(OR(C1474=\"\",ISBLANK(C1474)),\"\",VLOOKUP(C1474,Sheet2!A:F,3,FALSE))","v":""},{"$f":"IF(OR(C1474=\"\",ISBLANK(C1474)),\"\",VLOOKUP(C1474,Sheet2!A:G,6,FALSE))","v":""},""]
[{"$f":"IF(OR(C1475=\"\",ISBLANK(C1475)),\"\",VLOOKUP(C1475,Sheet2!A:F,2,FALSE))","v":""},{"$f":"IF(OR(C1475=\"\",ISBLANK(C1475)),\"\",VLOOKUP(C1475,Sheet2!A:G,4,FALSE))","v":""},null,null,{"$f":"IF(OR(C1475=\"\",ISBLANK(C1475)),\"\",VLOOKUP(C1475,Sheet2!A:F,3,FALSE))","v":""},{"$f":"IF(OR(C1475=\"\",ISBLANK(C1475)),\"\",VLOOKUP(C1475,Sheet2!A:G,6,FALSE))","v":""},{"$f":"IF(F1475=0,\"\",F1475)","v":""}]
[{"$f":"IF(OR(C1476=\"\",ISBLANK(C1476)),\"\",VLOOKUP(C1476,Sheet2!A:F,2,FALSE))","v":""},{"$f":"IF(OR(C1476=\"\",ISBLANK(C1476)),\"\",VLOOKUP(C1476,Sheet2!A:G,4,FALSE))","v":""},null,null,{"$f":"IF(OR(C1476=\"\",ISBLANK(C1476)),\"\",VLOOKUP(C1476,Sheet2!A:F,3,FALSE))","v":""},{"$f":"IF(OR(C1476=\"\",ISBLANK(C1476)),\"\",VLOOKUP(C1476,Sheet2!A:G,6,FALSE))","v":""},""]
[{"$f":"IF(OR(C1477=\"\",ISBLANK(C1477)),\"\",VLOOKUP(C1477,Sheet2!A:F,2,FALSE))","v":""},{"$f":"IF(OR(C1477=\"\",ISBLANK(C1477)),\"\",VLOOKUP(C1477,Sheet2!A:G,4,FALSE))","v":""},null,null,{"$f":"IF(OR(C1477=\"\",ISBLANK(C1477)),\"\",VLOOKUP(C1477,Sheet2!A:F,3,FALSE))","v":""},{"$f":"IF(OR(C1477=\"\",ISBLANK(C1477)),\"\",VLOOKUP(C1477,Sheet2!A:G,6,FALSE))","v":""},""]
[{"$f":"IF(OR(C1478=\"\",ISBLANK(C1478)),\"\",VLOOKUP(C1478,Sheet2!A:F,2,FALSE))","v":""},{"$f":"IF(OR(C1478=\"\",ISBLANK(C1478)),\"\",VLOOKUP(C1478,Sheet2!A:G,4,FALSE))","v":""},null,null,{"$f":"IF(OR(C1478=\"\",ISBLANK(C1478)),\"\",VLOOKUP(C1478,Sheet2!A:F,3,FALSE))","v":""},{"$f":"IF(OR(C1478=\"\",ISBLANK(C1478)),\"\",VLOOKUP(C1478,Sheet2!A:G,6,FALSE))","v":""},""]
[{"$f":"IF(OR(C1479=\"\",ISBLANK(C1479)),\"\",VLOOKUP(C1479,Sheet2!A:F,2,FALSE))","v":""},{"$f":"IF(OR(C1479=\"\",ISBLANK(C1479)),\"\",VLOOKUP(C1479,Sheet2!A:G,4,FALSE))","v":""},null,null,{"$f":"IF(OR(C1479=\"\",ISBLANK(C1479)),\"\",VLOOKUP(C1479,Sheet2!A:F,3,FALSE))","v":""},{"$f":"IF(OR(C1479=\"\",ISBLANK(C1479)),\"\",VLOOKUP(C1479,Sheet2!A:G,6,FALSE))","v":""},""]
[{"$f":"IF(OR(C1480=\"\",ISBLANK(C1480)),\"\",VLOOKUP(C1480,Sheet2!A:F,2,FALSE))","v":""},{"$f":"IF(OR(C1480=\"\",ISBLANK(C1480)),\"\",VLOOKUP(C1480,Sheet2!A:G,4,FALSE))","v":""},null,null,{"$f":"IF(OR(C1480=\"\",ISBLANK(C1480)),\"\",VLOOKUP(C1480,Sheet2!A:F,3,FALSE))","v":""},{"$f":"IF(OR(C1480=\"\",ISBLANK(C1480)),\"\",VLOOKUP(C1480,Sheet2!A:G,6,FALSE))","v":""},""]
[{"$f":"IF(OR(C1481=\"\",ISBLANK(C1481)),\"\",VLOOKUP(C1481,Sheet2!A:F,2,FALSE))","v":""},{"$f":"IF(OR(C1481=\"\",ISBLANK(C1481)),\"\",VLOOKUP(C1481,Sheet2!A:G,4,FALSE))","v":""},null,null,{"$f":"IF(OR(C1481=\"\",ISBLANK(C1481)),\"\",VLOOKUP(C1481,Sheet2!A:F,3,FALSE))","v":""},{"$f":"IF(OR(C1481=\"\",ISBLANK(C1481)),\"\",VLOOKUP(C1481,Sheet2!A:G,6,FALSE))","v":""},""]
[{"$f":"IF(OR(C1482=\"\",ISBLANK(C1482)),\"\",VLOOKUP(C1482,Sheet2!A:F,2,FALSE))","v":""},{"$f":"IF(OR(C1482=\"\",ISBLANK(C1482)),\"\",VLOOKUP(C1482,Sheet2!A:G,4,FALSE))","v":""},null,null,{"$f":"IF(OR(C1482=\"\",ISBLANK(C1482)),\"\",VLOOKUP(C1482,Sheet2!A:F,3,FALSE))","v":""},{"$f":"IF(OR(C1482=\"\",ISBLANK(C1482)),\"\",VLOOKUP(C1482,Sheet2!A:G,6,FALSE))","v":""},""]
[{"$f":"IF(OR(C1483=\"\",ISBLANK(C1483)),\"\",VLOOKUP(C1483,Sheet2!A:F,2,FALSE))","v":""},{"$f":"IF(OR(C1483=\"\",ISBLANK(C1483)),\"\",VLOOKUP(C1483,Sheet2!A:G,4,FALSE))","v":""},null,null,{"$f":"IF(OR(C1483=\"\",ISBLANK(C1483)),\"\",VLOOKUP(C1483,Sheet2!A:F,3,FALSE))","v":""},{"$f":"IF(OR(C1483=\"\",ISBLANK(C1483)),\"\",VLOOKUP(C1483,Sheet2!A:G,6,FALSE))","v":""},""]
[{"$f":"IF(OR(C1484=\"\",ISBLANK(C1484)),\"\",VLOOKUP(C1484,Sheet2!A:F,2,FALSE))","v":""},{"$f":"IF(OR(C1484=\"\",ISBLANK(C1484)),\"\",VLOOKUP(C1484,Sheet2!A:G,4,FALSE))","v":""},null,null,{"$f":"IF(OR(C1484=\"\",ISBLANK(C1484)),\"\",VLOOKUP(C1484,Sheet2!A:F,3,FALSE))","v":""},{"$f":"IF(OR(C1484=\"\",ISBLANK(C1484)),\"\",VLOOKUP(C1484,Sheet2!A:G,6,FALSE))","v":""},""]
[{"$f":"IF(OR(C1485=\"\",ISBLANK(C1485)),\"\",VLOOKUP(C1485,Sheet2!A:F,2,FALSE))","v":""},{"$f":"IF(OR(C1485=\"\",ISBLANK(C1485)),\"\",VLOOKUP(C1485,Sheet2!A:G,4,FALSE))","v":""},null,null,{"$f":"IF(OR(C1485=\"\",ISBLANK(C1485)),\"\",VLOOKUP(C1485,Sheet2!A:F,3,FALSE))","v":""},{"$f":"IF(OR(C1485=\"\",ISBLANK(C1485)),\"\",VLOOKUP(C1485,Sheet2!A:G,6,FALSE))","v":""},""]
[{"$f":"IF(OR(C1486=\"\",ISBLANK(C1486)),\"\",VLOOKUP(C1486,Sheet2!A:F,2,FALSE))","v":""},{"$f":"IF(OR(C1486=\"\",ISBLANK(C1486)),\"\",VLOOKUP(C1486,Sheet2!A:G,4,FALSE))","v":""},null,null,{"$f":"IF(OR(C1486=\"\",ISBLANK(C1486)),\"\",VLOOKUP(C1486,Sheet2!A:F,3,FALSE))","v":""},{"$f":"IF(OR(C1486=\"\",ISBLANK(C1486)),\"\",VLOOKUP(C1486,Sheet2!A:G,6,FALSE))","v":""},""]
[{"$f":"IF(OR(C1487=\"\",ISBLANK(C1487)),\"\",VLOOKUP(C1487,Sheet2!A:F,2,FALSE))","v":""},{"$f":"IF(OR(C1487=\"\",ISBLANK(C1487)),\"\",VLOOKUP(C1487,Sheet2!A:G,4,FALSE))","v":""},null,null,{"$f":"IF(OR(C1487=\"\",ISBLANK(C1487)),\"\",VLOOKUP(C1487,Sheet2!A:F,3,FALSE))","v":""},{"$f":"IF(OR(C1487=\"\",ISBLANK(C1487)),\"\",VLOOKUP(C1487,Sheet2!A:G,6,FALSE))","v":""},""]
[{"$f":"IF(OR(C1488=\"\",ISBLANK(C1488)),\"\",VLOOKUP(C1488,Sheet2!A:F,2,FALSE))","v":""},{"$f":"IF(OR(C1488=\"\",ISBLANK(C1488)),\"\",VLOOKUP(C1488,Sheet2!A:G,4,FALSE))","v":""},null,null,{"$f":"IF(OR(C1488=\"\",ISBLANK(C1488)),\"\",VLOOKUP(C1488,Sheet2!A:F,3,FALSE))","v":""},{"$f":"IF(OR(C1488=\"\",ISBLANK(C1488)),\"\",VLOOKUP(C1488,Sheet2!A:G,6,FALSE))","v":""},""]
[{"$f":"IF(OR(C1489=\"\",ISBLANK(C1489)),\"\",VLOOKUP(C1489,Sheet2!A:F,2,FALSE))","v":""},{"$f":"IF(OR(C1489=\"\",ISBLANK(C1489)),\"\",VLOOKUP(C1489,Sheet2!A:G,4,FALSE))","v":""},null,null,{"$f":"IF(OR(C1489=\"\",ISBLANK(C1489)),\"\",VLOOKUP(C1489,Sheet2!A:F,3,FALSE))","v":""},{"$f":"IF(OR(C1489=\"\",ISBLANK(C1489)),\"\",VLOOKUP(C1489,Sheet2!A:G,6,FALSE))","v":""},""]
[{"$f":"IF(OR(C1490=\"\",ISBLANK(C1490)),\"\",VLOOKUP(C1490,Sheet2!A:F,2,FALSE))","v":""},{"$f":"IF(OR(C1490=\"\",ISBLANK(C1490)),\"\",VLOOKUP(C1490,Sheet2!A:G,4,FALSE))","v":""},null,null,{"$f":"IF(OR(C1490=\"\",ISBLANK(C1490)),\"\",VLOOKUP(C1490,Sheet2!A:F,3,FALSE))","v":""},{"$f":"IF(OR(C1490=\"\",ISBLANK(C1490)),\"\",VLOOKUP(C1490,Sheet2!A:G,6,FALSE))","v":""},""]
[{"$f":"IF(OR(C1491=\"\",ISBLANK(C1491)),\"\",VLOOKUP(C1491,Sheet2!A:F,2,FALSE))","v":""},{"$f":"IF(OR(C1491=\"\",ISBLANK(C1491)),\"\",VLOOKUP(C1491,Sheet2!A:G,4,FALSE))","v":""},null,null,{"$f":"IF(OR(C1491=\"\",ISBLANK(C1491)),\"\",VLOOKUP(C1491,Sheet2!A:F,3,FALSE))","v":""},{"$f":"IF(OR(C1491=\"\",ISBLANK(C1491)),\"\",VLOOKUP(C1491,Sheet2!A:G,6,FALSE))","v":""},""]
[{"$f":"IF(OR(C1492=\"\",ISBLANK(C1492)),\"\",VLOOKUP(C1492,Sheet2!A:F,2,FALSE))","v":""},{"$f":"IF(OR(C1492=\"\",ISBLANK(C1492)),\"\",VLOOKUP(C1492,Sheet2!A:G,4,FALSE))","v":""},null,null,{"$f":"IF(OR(C1492=\"\",ISBLANK(C1492)),\"\",VLOOKUP(C1492,Sheet2!A:F,3,FALSE))","v":""},{"$f":"IF(OR(C1492=\"\",ISBLANK(C1492)),\"\",VLOOKUP(C1492,Sheet2!A:G,6,FALSE))","v":""},""]
[{"$f":"IF(OR(C1493=\"\",ISBLANK(C1493)),\"\",VLOOKUP(C1493,Sheet2!A:F,2,FALSE))","v":""},{"$f":"IF(OR(C1493=\"\",ISBLANK(C1493)),\"\",VLOOKUP(C1493,Sheet2!A:G,4,FALSE))","v":""},null,null,{"$f":"IF(OR(C1493=\"\",ISBLANK(C1493)),\"\",VLOOKUP(C1493,Sheet2!A:F,3,FALSE))","v":""},{"$f":"IF(OR(C1493=\"\",ISBLANK(C1493)),\"\",VLOOKUP(C1493,Sheet2!A:G,6,FALSE))","v":""},""]
[{"$f":"IF(OR(C1494=\"\",ISBLANK(C1494)),\"\",VLOOKUP(C1494,Sheet2!A:F,2,FALSE))","v":""},{"$f":"IF(OR(C1494=\"\",ISBLANK(C1494)),\"\",VLOOKUP(C1494,Sheet2!A:G,4,FALSE))","v":""},null,null,{"$f":"IF(OR(C1494=\"\",ISBLANK(C1494)),\"\",VLOOKUP(C1494,Sheet2!A:F,3,FALSE))","v":""},{"$f":"IF(OR(C1494=\"\",ISBLANK(C1494)),\"\",VLOOKUP(C1494,Sheet2!A:G,6,FALSE))","v":""},""]
[{"$f":"IF(OR(C1495=\"\",ISBLANK(C1495)),\"\",VLOOKUP(C1495,Sheet2!A:F,2,FALSE))","v":""},{"$f":"IF(OR(C1495=\"\",ISBLANK(C1495)),\"\",VLOOKUP(C1495,Sheet2!A:G,4,FALSE))","v":""},null,null,{"$f":"IF(OR(C1495=\"\",ISBLANK(C1495)),\"\",VLOOKUP(C1495,Sheet2!A:F,3,FALSE))","v":""},{"$f":"IF(OR(C1495=\"\",ISBLANK(C1495)),\"\",VLOOKUP(C1495,Sheet2!A:G,6,FALSE))","v":""},""]
[{"$f":"IF(OR(C1496=\"\",ISBLANK(C1496)),\"\",VLOOKUP(C1496,Sheet2!A:F,2,FALSE))","v":""},{"$f":"IF(OR(C1496=\"\",ISBLANK(C1496)),\"\",VLOOKUP(C1496,Sheet2!A:G,4,FALSE))","v":""},null,null,{"$f":"IF(OR(C1496=\"\",ISBLANK(C1496)),\"\",VLOOKUP(C1496,Sheet2!A:F,3,FALSE))","v":""},{"$f":"IF(OR(C1496=\"\",ISBLANK(C1496)),\"\",VLOOKUP(C1496,Sheet2!A:G,6,FALSE))","v":""},""]
[{"$f":"IF(OR(C1497=\"\",ISBLANK(C1497)),\"\",VLOOKUP(C1497,Sheet2!A:F,2,FALSE))","v":""},{"$f":"IF(OR(C1497=\"\",ISBLANK(C1497)),\"\",VLOOKUP(C1497,Sheet2!A:G,4,FALSE))","v":""},null,null,{"$f":"IF(OR(C1497=\"\",ISBLANK(C1497)),\"\",VLOOKUP(C1497,Sheet2!A:F,3,FALSE))","v":""},{"$f":"IF(OR(C1497=\"\",ISBLANK(C1497)),\"\",VLOOKUP(C1497,Sheet2!A:G,6,FALSE))","v":""},""]
[{"$f":"IF(OR(C1498=\"\",ISBLANK(C1498)),\"\",VLOOKUP(C1498,Sheet2!A:F,2,FALSE))","v":""},{"$f":"IF(OR(C1498=\"\",ISBLANK(C1498)),\"\",VLOOKUP(C1498,Sheet2!A:G,4,FALSE))","v":""},null,null,{"$f":"IF(OR(C1498=\"\",ISBLANK(C1498)),\"\",VLOOKUP(C1498,Sheet2!A:F,3,FALSE))","v":""},{"$f":"IF(OR(C1498=\"\",ISBLANK(C1498)),\"\",VLOOKUP(C1498,Sheet2!A:G,6,FALSE))","v":""},""]
[{"$f":"IF(OR(C1499=\"\",ISBLANK(C1499)),\"\",VLOOKUP(C1499,Sheet2!A:F,2,FALSE))","v":""},{"$f":"IF(OR(C1499=\"\",ISBLANK(C1499)),\"\",VLOOKUP(C1499,Sheet2!A:G,4,FALSE))","v":""},null,null,{"$f":"IF(OR(C1499=\"\",ISBLANK(C1499)),\"\",VLOOKUP(C1499,Sheet2!A:F,3,FALSE))","v":""},{"$f":"IF(OR(C1499=\"\",ISBLANK(C1499)),\"\",VLOOKUP(C1499,Sheet2!A:G,6,FALSE))","v":""},""]
[{"$f":"IF(OR(C1500=\"\",ISBLANK(C1500)),\"\",VLOOKUP(C1500,Sheet2!A:F,2,FALSE))","v":""},{"$f":"IF(OR(C1500=\"\",ISBLANK(C1500)),\"\",VLOOKUP(C1500,Sheet2!A:G,4,FALSE))","v":""},null,null,{"$f":"IF(OR(C1500=\"\",ISBLANK(C1500)),\"\",VLOOKUP(C1500,Sheet2!A:F,3,FALSE))","v":""},{"$f":"IF(OR(C1500=\"\",ISBLANK(C1500)),\"\",VLOOKUP(C1500,Sheet2!A:G,6,FALSE))","v":""},""]
[{"$f":"IF(OR(C1501=\"\",ISBLANK(C1501)),\"\",VLOOKUP(C1501,Sheet2!A:F,2,FALSE))","v":""},{"$f":"IF(OR(C1501=\"\",ISBLANK(C1501)),\"\",VLOOKUP(C1501,Sheet2!A:G,4,FALSE))","v":""},null,null,{"$f":"IF(OR(C1501=\"\",ISBLANK(C1501)),\"\",VLOOKUP(C1501,Sheet2!A:F,3,FALSE))","v":""},{"$f":"IF(OR(C1501=\"\",ISBLANK(C1501)),\"\",VLOOKUP(C1501,Sheet2!A:G,6,FALSE))","v":""},""]
[{"$f":"IF(OR(C1502=\"\",ISBLANK(C1502)),\"\",VLOOKUP(C1502,Sheet2!A:F,2,FALSE))","v":""},{"$f":"IF(OR(C1502=\"\",ISBLANK(C1502)),\"\",VLOOKUP(C1502,Sheet2!A:G,4,FALSE))","v":""},null,null,{"$f":"IF(OR(C1502=\"\",ISBLANK(C1502)),\"\",VLOOKUP(C1502,Sheet2!A:F,3,FALSE))","v":""},{"$f":"IF(OR(C1502=\"\",ISBLANK(C1502)),\"\",VLOOKUP(C1502,Sheet2!A:G,6,FALSE))","v":""},""]
[{"$f":"IF(OR(C1503=\"\",ISBLANK(C1503)),\"\",VLOOKUP(C1503,Sheet2!A:F,2,FALSE))","v":""},{"$f":"IF(OR(C1503=\"\",ISBLANK(C1503)),\"\",VLOOKUP(C1503,Sheet2!A:G,4,FALSE))","v":""},null,null,{"$f":"IF(OR(C1503=\"\",ISBLANK(C1503)),\"\",VLOOKUP(C1503,Sheet2!A:F,3,FALSE))","v":""},{"$f":"IF(OR(C1503=\"\",ISBLANK(C1503)),\"\",VLOOKUP(C1503,Sheet2!A:G,6,FALSE))","v":""},""]
[{"$f":"IF(OR(C1504=\"\",ISBLANK(C1504)),\"\",VLOOKUP(C1504,Sheet2!A:F,2,FALSE))","v":""},{"$f":"IF(OR(C1504=\"\",ISBLANK(C1504)),\"\",VLOOKUP(C1504,Sheet2!A:G,4,FALSE))","v":""},null,null,{"$f":"IF(OR(C1504=\"\",ISBLANK(C1504)),\"\",VLOOKUP(C1504,Sheet2!A:F,3,FALSE))","v":""},{"$f":"IF(OR(C1504=\"\",ISBLANK(C1504)),\"\",VLOOKUP(C1504,Sheet2!A:G,6,FALSE))","v":""},""]
[{"$f":"IF(OR(C1505=\"\",ISBLANK(C1505)),\"\",VLOOKUP(C1505,Sheet2!A:F,2,FALSE))","v":""},{"$f":"IF(OR(C1505=\"\",ISBLANK(C1505)),\"\",VLOOKUP(C1505,Sheet2!A:G,4,FALSE))","v":""},null,null,{"$f":"IF(OR(C1505=\"\",ISBLANK(C1505)),\"\",VLOOKUP(C1505,Sheet2!A:F,3,FALSE))","v":""},{"$f":"IF(OR(C1505=\"\",ISBLANK(C1505)),\"\",VLOOKUP(C1505,Sheet2!A:G,6,FALSE))","v":""},""]
[{"$f":"IF(OR(C1506=\"\",ISBLANK(C1506)),\"\",VLOOKUP(C1506,Sheet2!A:F,2,FALSE))","v":""},{"$f":"IF(OR(C1506=\"\",ISBLANK(C1506)),\"\",VLOOKUP(C1506,Sheet2!A:G,4,FALSE))","v":""},null,null,{"$f":"IF(OR(C1506=\"\",ISBLANK(C1506)),\"\",VLOOKUP(C1506,Sheet2!A:F,3,FALSE))","v":""},{"$f":"IF(OR(C1506=\"\",ISBLANK(C1506)),\"\",VLOOKUP(C1506,Sheet2!A:G,6,FALSE))","v":""},""]
[{"$f":"IF(OR(C1507=\"\",ISBLANK(C1507)),\"\",VLOOKUP(C1507,Sheet2!A:F,2,FALSE))","v":""},{"$f":"IF(OR(C1507=\"\",ISBLANK(C1507)),\"\",VLOOKUP(C1507,Sheet2!A:G,4,FALSE))","v":""},null,null,{"$f":"IF(OR(C1507=\"\",ISBLANK(C1507)),\"\",VLOOKUP(C1507,Sheet2!A:F,3,FALSE))","v":""},{"$f":"IF(OR(C1507=\"\",ISBLANK(C1507)),\"\",VLOOKUP(C1507,Sheet2!A:G,6,FALSE))","v":""},""]
[{"$f":"IF(OR(C1508=\"\",ISBLANK(C1508)),\"\",VLOOKUP(C1508,Sheet2!A:F,2,FALSE))","v":""},{"$f":"IF(OR(C1508=\"\",ISBLANK(C1508)),\"\",VLOOKUP(C1508,Sheet2!A:G,4,FALSE))","v":""},null,null,{"$f":"IF(OR(C1508=\"\",ISBLANK(C1508)),\"\",VLOOKUP(C1508,Sheet2!A:F,3,FALSE))","v":""},{"$f":"IF(OR(C1508=\"\",ISBLANK(C1508)),\"\",VLOOKUP(C1508,Sheet2!A:G,6,FALSE))","v":""},""]
[{"$f":"IF(OR(C1509=\"\",ISBLANK(C1509)),\"\",VLOOKUP(C1509,Sheet2!A:F,2,FALSE))","v":""},{"$f":"IF(OR(C1509=\"\",ISBLANK(C1509)),\"\",VLOOKUP(C1509,Sheet2!A:G,4,FALSE))","v":""},null,null,{"$f":"IF(OR(C1509=\"\",ISBLANK(C1509)),\"\",VLOOKUP(C1509,Sheet2!A:F,3,FALSE))","v":""},{"$f":"IF(OR(C1509=\"\",ISBLANK(C1509)),\"\",VLOOKUP(C1509,Sheet2!A:G,6,FALSE))","v":""},""]
[{"$f":"IF(OR(C1510=\"\",ISBLANK(C1510)),\"\",VLOOKUP(C1510,Sheet2!A:F,2,FALSE))","v":""},{"$f":"IF(OR(C1510=\"\",ISBLANK(C1510)),\"\",VLOOKUP(C1510,Sheet2!A:G,4,FALSE))","v":""},null,null,{"$f":"IF(OR(C1510=\"\",ISBLANK(C1510)),\"\",VLOOKUP(C1510,Sheet2!A:F,3,FALSE))","v":""},{"$f":"IF(OR(C1510=\"\",ISBLANK(C1510)),\"\",VLOOKUP(C1510,Sheet2!A:G,6,FALSE))","v":""},""]
[{"$f":"IF(OR(C1511=\"\",ISBLANK(C1511)),\"\",VLOOKUP(C1511,Sheet2!A:F,2,FALSE))","v":""},{"$f":"IF(OR(C1511=\"\",ISBLANK(C1511)),\"\",VLOOKUP(C1511,Sheet2!A:G,4,FALSE))","v":""},null,null,{"$f":"IF(OR(C1511=\"\",ISBLANK(C1511)),\"\",VLOOKUP(C1511,Sheet2!A:F,3,FALSE))","v":""},{"$f":"IF(OR(C1511=\"\",ISBLANK(C1511)),\"\",VLOOKUP(C1511,Sheet2!A:G,6,FALSE))","v":""},""]
[{"$f":"IF(OR(C1512=\"\",ISBLANK(C1512)),\"\",VLOOKUP(C1512,Sheet2!A:F,2,FALSE))","v":""},{"$f":"IF(OR(C1512=\"\",ISBLANK(C1512)),\"\",VLOOKUP(C1512,Sheet2!A:G,4,FALSE))","v":""},null,null,{"$f":"IF(OR(C1512=\"\",ISBLANK(C1512)),\"\",VLOOKUP(C1512,Sheet2!A:F,3,FALSE))","v":""},{"$f":"IF(OR(C1512=\"\",ISBLANK(C1512)),\"\",VLOOKUP(C1512,Sheet2!A:G,6,FALSE))","v":""},""]
[{"$f":"IF(OR(C1513=\"\",ISBLANK(C1513)),\"\",VLOOKUP(C1513,Sheet2!A:F,2,FALSE))","v":""},{"$f":"IF(OR(C1513=\"\",ISBLANK(C1513)),\"\",VLOOKUP(C1513,Sheet2!A:G,4,FALSE))","v":""},null,null,{"$f":"IF(OR(C1513=\"\",ISBLANK(C1513)),\"\",VLOOKUP(C1513,Sheet2!A:F,3,FALSE))","v":""},{"$f":"IF(OR(C1513=\"\",ISBLANK(C1513)),\"\",VLOOKUP(C1513,Sheet2!A:G,6,FALSE))","v":""},""]
[{"$f":"IF(OR(C1514=\"\",ISBLANK(C1514)),\"\",VLOOKUP(C1514,Sheet2!A:F,2,FALSE))","v":""},{"$f":"IF(OR(C1514=\"\",ISBLANK(C1514)),\"\",VLOOKUP(C1514,Sheet2!A:G,4,FALSE))","v":""},null,null,{"$f":"IF(OR(C1514=\"\",ISBLANK(C1514)),\"\",VLOOKUP(C1514,Sheet2!A:F,3,FALSE))","v":""},{"$f":"IF(OR(C1514=\"\",ISBLANK(C1514)),\"\",VLOOKUP(C1514,Sheet2!A:G,6,FALSE))","v":""},""]
[{"$f":"IF(OR(C1515=\"\",ISBLANK(C1515)),\"\",VLOOKUP(C1515,Sheet2!A:F,2,FALSE))","v":""},{"$f":"IF(OR(C1515=\"\",ISBLANK(C1515)),\"\",VLOOKUP(C1515,Sheet2!A:G,4,FALSE))","v":""},null,null,{"$f":"IF(OR(C1515=\"\",ISBLANK(C1515)),\"\",VLOOKUP(C1515,Sheet2!A:F,3,FALSE))","v":""},{"$f":"IF(OR(C1515=\"\",ISBLANK(C1515)),\"\",VLOOKUP(C1515,Sheet2!A:G,6,FALSE))","v":""},""]
[{"$f":"IF(OR(C1516=\"\",ISBLANK(C1516)),\"\",VLOOKUP(C1516,Sheet2!A:F,2,FALSE))","v":""},{"$f":"IF(OR(C1516=\"\",ISBLANK(C1516)),\"\",VLOOKUP(C1516,Sheet2!A:G,4,FALSE))","v":""},null,null,{"$f":"IF(OR(C1516=\"\",ISBLANK(C1516)),\"\",VLOOKUP(C1516,Sheet2!A:F,3,FALSE))","v":""},{"$f":"IF(OR(C1516=\"\",ISBLANK(C1516)),\"\",VLOOKUP(C1516,Sheet2!A:G,6,FALSE))","v":""},""]
[{"$f":"IF(OR(C1517=\"\",ISBLANK(C1517)),\"\",VLOOKUP(C1517,Sheet2!A:F,2,FALSE))","v":""},{"$f":"IF(OR(C1517=\"\",ISBLANK(C1517)),\"\",VLOOKUP(C1517,Sheet2!A:G,4,FALSE))","v":""},null,null,{"$f":"IF(OR(C1517=\"\",ISBLANK(C1517)),\"\",VLOOKUP(C1517,Sheet2!A:F,3,FALSE))","v":""},{"$f":"IF(OR(C1517=\"\",ISBLANK(C1517)),\"\",VLOOKUP(C1517,Sheet2!A:G,6,FALSE))","v":""},""]
[{"$f":"IF(OR(C1518=\"\",ISBLANK(C1518)),\"\",VLOOKUP(C1518,Sheet2!A:F,2,FALSE))","v":""},{"$f":"IF(OR(C1518=\"\",ISBLANK(C1518)),\"\",VLOOKUP(C1518,Sheet2!A:G,4,FALSE))","v":""},null,null,{"$f":"IF(OR(C1518=\"\",ISBLANK(C1518)),\"\",VLOOKUP(C1518,Sheet2!A:F,3,FALSE))","v":""},{"$f":"IF(OR(C1518=\"\",ISBLANK(C1518)),\"\",VLOOKUP(C1518,Sheet2!A:G,6,FALSE))","v":""},""]
[{"$f":"IF(OR(C1519=\"\",ISBLANK(C1519)),\"\",VLOOKUP(C1519,Sheet2!A:F,2,FALSE))","v":""},{"$f":"IF(OR(C1519=\"\",ISBLANK(C1519)),\"\",VLOOKUP(C1519,Sheet2!A:G,4,FALSE))","v":""},null,null,{"$f":"IF(OR(C1519=\"\",ISBLANK(C1519)),\"\",VLOOKUP(C1519,Sheet2!A:F,3,FALSE))","v":""},{"$f":"IF(OR(C1519=\"\",ISBLANK(C1519)),\"\",VLOOKUP(C1519,Sheet2!A:G,6,FALSE))","v":""},""]
[{"$f":"IF(OR(C1520=\"\",ISBLANK(C1520)),\"\",VLOOKUP(C1520,Sheet2!A:F,2,FALSE))","v":""},{"$f":"IF(OR(C1520=\"\",ISBLANK(C1520)),\"\",VLOOKUP(C1520,Sheet2!A:G,4,FALSE))","v":""},null,null,{"$f":"IF(OR(C1520=\"\",ISBLANK(C1520)),\"\",VLOOKUP(C1520,Sheet2!A:F,3,FALSE))","v":""},{"$f":"IF(OR(C1520=\"\",ISBLANK(C1520)),\"\",VLOOKUP(C1520,Sheet2!A:G,6,FALSE))","v":""},""]
[{"$f":"IF(OR(C1521=\"\",ISBLANK(C1521)),\"\",VLOOKUP(C1521,Sheet2!A:F,2,FALSE))","v":""},{"$f":"IF(OR(C1521=\"\",ISBLANK(C1521)),\"\",VLOOKUP(C1521,Sheet2!A:G,4,FALSE))","v":""},null,null,{"$f":"IF(OR(C1521=\"\",ISBLANK(C1521)),\"\",VLOOKUP(C1521,Sheet2!A:F,3,FALSE))","v":""},{"$f":"IF(OR(C1521=\"\",ISBLANK(C1521)),\"\",VLOOKUP(C1521,Sheet2!A:G,6,FALSE))","v":""},""]
[{"$f":"IF(OR(C1522=\"\",ISBLANK(C1522)),\"\",VLOOKUP(C1522,Sheet2!A:F,2,FALSE))","v":""},{"$f":"IF(OR(C1522=\"\",ISBLANK(C1522)),\"\",VLOOKUP(C1522,Sheet2!A:G,4,FALSE))","v":""},null,null,{"$f":"IF(OR(C1522=\"\",ISBLANK(C1522)),\"\",VLOOKUP(C1522,Sheet2!A:F,3,FALSE))","v":""},{"$f":"IF(OR(C1522=\"\",ISBLANK(C1522)),\"\",VLOOKUP(C1522,Sheet2!A:G,6,FALSE))","v":""},""]
[{"$f":"IF(OR(C1523=\"\",ISBLANK(C1523)),\"\",VLOOKUP(C1523,Sheet2!A:F,2,FALSE))","v":""},{"$f":"IF(OR(C1523=\"\",ISBLANK(C1523)),\"\",VLOOKUP(C1523,Sheet2!A:G,4,FALSE))","v":""},null,null,{"$f":"IF(OR(C1523=\"\",ISBLANK(C1523)),\"\",VLOOKUP(C1523,Sheet2!A:F,3,FALSE))","v":""},{"$f":"IF(OR(C1523=\"\",ISBLANK(C1523)),\"\",VLOOKUP(C1523,Sheet2!A:G,6,FALSE))","v":""},""]
[{"$f":"IF(OR(C1524=\"\",ISBLANK(C1524)),\"\",VLOOKUP(C1524,Sheet2!A:F,2,FALSE))","v":""},{"$f":"IF(OR(C1524=\"\",ISBLANK(C1524)),\"\",VLOOKUP(C1524,Sheet2!A:G,4,FALSE))","v":""},null,null,{"$f":"IF(OR(C1524=\"\",ISBLANK(C1524)),\"\",VLOOKUP(C1524,Sheet2!A:F,3,FALSE))","v":""},{"$f":"IF(OR(C1524=\"\",ISBLANK(C1524)),\"\",VLOOKUP(C1524,Sheet2!A:G,6,FALSE))","v":""},""]
[{"$f":"IF(OR(C1525=\"\",ISBLANK(C1525)),\"\",VLOOKUP(C1525,Sheet2!A:F,2,FALSE))","v":""},{"$f":"IF(OR(C1525=\"\",ISBLANK(C1525)),\"\",VLOOKUP(C1525,Sheet2!A:G,4,FALSE))","v":""},null,null,{"$f":"IF(OR(C1525=\"\",ISBLANK(C1525)),\"\",VLOOKUP(C1525,Sheet2!A:F,3,FALSE))","v":""},{"$f":"IF(OR(C1525=\"\",ISBLANK(C1525)),\"\",VLOOKUP(C1525,Sheet2!A:G,6,FALSE))","v":""},""]
[{"$f":"IF(OR(C1526=\"\",ISBLANK(C1526)),\"\",VLOOKUP(C1526,Sheet2!A:F,2,FALSE))","v":""},{"$f":"IF(OR(C1526=\"\",ISBLANK(C1526)),\"\",VLOOKUP(C1526,Sheet2!A:G,4,FALSE))","v":""},null,null,{"$f":"IF(OR(C1526=\"\",ISBLANK(C1526)),\"\",VLOOKUP(C1526,Sheet2!A:F,3,FALSE))","v":""},{"$f":"IF(OR(C1526=\"\",ISBLANK(C1526)),\"\",VLOOKUP(C1526,Sheet2!A:G,6,FALSE))","v":""},""]
[{"$f":"IF(OR(C1527=\"\",ISBLANK(C1527)),\"\",VLOOKUP(C1527,Sheet2!A:F,2,FALSE))","v":""},{"$f":"IF(OR(C1527=\"\",ISBLANK(C1527)),\"\",VLOOKUP(C1527,Sheet2!A:G,4,FALSE))","v":""},null,null,{"$f":"IF(OR(C1527=\"\",ISBLANK(C1527)),\"\",VLOOKUP(C1527,Sheet2!A:F,3,FALSE))","v":""},{"$f":"IF(OR(C1527=\"\",ISBLANK(C1527)),\"\",VLOOKUP(C1527,Sheet2!A:G,6,FALSE))","v":""},""]
[{"$f":"IF(OR(C1528=\"\",ISBLANK(C1528)),\"\",VLOOKUP(C1528,Sheet2!A:F,2,FALSE))","v":""},{"$f":"IF(OR(C1528=\"\",ISBLANK(C1528)),\"\",VLOOKUP(C1528,Sheet2!A:G,4,FALSE))","v":""},null,null,{"$f":"IF(OR(C1528=\"\",ISBLANK(C1528)),\"\",VLOOKUP(C1528,Sheet2!A:F,3,FALSE))","v":""},{"$f":"IF(OR(C1528=\"\",ISBLANK(C1528)),\"\",VLOOKUP(C1528,Sheet2!A:G,6,FALSE))","v":""},""]
[{"$f":"IF(OR(C1529=\"\",ISBLANK(C1529)),\"\",VLOOKUP(C1529,Sheet2!A:F,2,FALSE))","v":""},{"$f":"IF(OR(C1529=\"\",ISBLANK(C1529)),\"\",VLOOKUP(C1529,Sheet2!A:G,4,FALSE))","v":""},null,null,{"$f":"IF(OR(C1529=\"\",ISBLANK(C1529)),\"\",VLOOKUP(C1529,Sheet2!A:F,3,FALSE))","v":""},{"$f":"IF(OR(C1529=\"\",ISBLANK(C1529)),\"\",VLOOKUP(C1529,Sheet2!A:G,6,FALSE))","v":""},""]
[{"$f":"IF(OR(C1530=\"\",ISBLANK(C1530)),\"\",VLOOKUP(C1530,Sheet2!A:F,2,FALSE))","v":""},{"$f":"IF(OR(C1530=\"\",ISBLANK(C1530)),\"\",VLOOKUP(C1530,Sheet2!A:G,4,FALSE))","v":""},null,null,{"$f":"IF(OR(C1530=\"\",ISBLANK(C1530)),\"\",VLOOKUP(C1530,Sheet2!A:F,3,FALSE))","v":""},{"$f":"IF(OR(C1530=\"\",ISBLANK(C1530)),\"\",VLOOKUP(C1530,Sheet2!A:G,6,FALSE))","v":""},""]
[{"$f":"IF(OR(C1531=\"\",ISBLANK(C1531)),\"\",VLOOKUP(C1531,Sheet2!A:F,2,FALSE))","v":""},{"$f":"IF(OR(C1531=\"\",ISBLANK(C1531)),\"\",VLOOKUP(C1531,Sheet2!A:G,4,FALSE))","v":""},null,null,{"$f":"IF(OR(C1531=\"\",ISBLANK(C1531)),\"\",VLOOKUP(C1531,Sheet2!A:F,3,FALSE))","v":""},{"$f":"IF(OR(C1531=\"\",ISBLANK(C1531)),\"\",VLOOKUP(C1531,Sheet2!A:G,6,FALSE))","v":""},""]
[{"$f":"IF(OR(C1532=\"\",ISBLANK(C1532)),\"\",VLOOKUP(C1532,Sheet2!A:F,2,FALSE))","v":""},{"$f":"IF(OR(C1532=\"\",ISBLANK(C1532)),\"\",VLOOKUP(C1532,Sheet2!A:G,4,FALSE))","v":""},null,null,{"$f":"IF(OR(C1532=\"\",ISBLANK(C1532)),\"\",VLOOKUP(C1532,Sheet2!A:F,3,FALSE))","v":""},{"$f":"IF(OR(C1532=\"\",ISBLANK(C1532)),\"\",VLOOKUP(C1532,Sheet2!A:G,6,FALSE))","v":""},""]
[{"$f":"IF(OR(C1533=\"\",ISBLANK(C1533)),\"\",VLOOKUP(C1533,Sheet2!A:F,2,FALSE))","v":""},{"$f":"IF(OR(C1533=\"\",ISBLANK(C1533)),\"\",VLOOKUP(C1533,Sheet2!A:G,4,FALSE))","v":""},null,null,{"$f":"IF(OR(C1533=\"\",ISBLANK(C1533)),\"\",VLOOKUP(C1533,Sheet2!A:F,3,FALSE))","v":""},{"$f":"IF(OR(C1533=\"\",ISBLANK(C1533)),\"\",VLOOKUP(C1533,Sheet2!A:G,6,FALSE))","v":""},""]
[{"$f":"IF(OR(C1534=\"\",ISBLANK(C1534)),\"\",VLOOKUP(C1534,Sheet2!A:F,2,FALSE))","v":""},{"$f":"IF(OR(C1534=\"\",ISBLANK(C1534)),\"\",VLOOKUP(C1534,Sheet2!A:G,4,FALSE))","v":""},null,null,{"$f":"IF(OR(C1534=\"\",ISBLANK(C1534)),\"\",VLOOKUP(C1534,Sheet2!A:F,3,FALSE))","v":""},{"$f":"IF(OR(C1534=\"\",ISBLANK(C1534)),\"\",VLOOKUP(C1534,Sheet2!A:G,6,FALSE))","v":""},""]
[{"$f":"IF(OR(C1535=\"\",ISBLANK(C1535)),\"\",VLOOKUP(C1535,Sheet2!A:F,2,FALSE))","v":""},{"$f":"IF(OR(C1535=\"\",ISBLANK(C1535)),\"\",VLOOKUP(C1535,Sheet2!A:G,4,FALSE))","v":""},null,null,{"$f":"IF(OR(C1535=\"\",ISBLANK(C1535)),\"\",VLOOKUP(C1535,Sheet2!A:F,3,FALSE))","v":""},{"$f":"IF(OR(C1535=\"\",ISBLANK(C1535)),\"\",VLOOKUP(C1535,Sheet2!A:G,6,FALSE))","v":""},""]
[{"$f":"IF(OR(C1536=\"\",ISBLANK(C1536)),\"\",VLOOKUP(C1536,Sheet2!A:F,2,FALSE))","v":""},{"$f":"IF(OR(C1536=\"\",ISBLANK(C1536)),\"\",VLOOKUP(C1536,Sheet2!A:G,4,FALSE))","v":""},null,null,{"$f":"IF(OR(C1536=\"\",ISBLANK(C1536)),\"\",VLOOKUP(C1536,Sheet2!A:F,3,FALSE))","v":""},{"$f":"IF(OR(C1536=\"\",ISBLANK(C1536)),\"\",VLOOKUP(C1536,Sheet2!A:G,6,FALSE))","v":""},""]
[{"$f":"IF(OR(C1537=\"\",ISBLANK(C1537)),\"\",VLOOKUP(C1537,Sheet2!A:F,2,FALSE))","v":""},{"$f":"IF(OR(C1537=\"\",ISBLANK(C1537)),\"\",VLOOKUP(C1537,Sheet2!A:G,4,FALSE))","v":""},null,null,{"$f":"IF(OR(C1537=\"\",ISBLANK(C1537)),\"\",VLOOKUP(C1537,Sheet2!A:F,3,FALSE))","v":""},{"$f":"IF(OR(C1537=\"\",ISBLANK(C1537)),\"\",VLOOKUP(C1537,Sheet2!A:G,6,FALSE))","v":""},""]
[{"$f":"IF(OR(C1538=\"\",ISBLANK(C1538)),\"\",VLOOKUP(C1538,Sheet2!A:F,2,FALSE))","v":""},{"$f":"IF(OR(C1538=\"\",ISBLANK(C1538)),\"\",VLOOKUP(C1538,Sheet2!A:G,4,FALSE))","v":""},null,null,{"$f":"IF(OR(C1538=\"\",ISBLANK(C1538)),\"\",VLOOKUP(C1538,Sheet2!A:F,3,FALSE))","v":""},{"$f":"IF(OR(C1538=\"\",ISBLANK(C1538)),\"\",VLOOKUP(C1538,Sheet2!A:G,6,FALSE))","v":""},""]
[{"$f":"IF(OR(C1539=\"\",ISBLANK(C1539)),\"\",VLOOKUP(C1539,Sheet2!A:F,2,FALSE))","v":""},{"$f":"IF(OR(C1539=\"\",ISBLANK(C1539)),\"\",VLOOKUP(C1539,Sheet2!A:G,4,FALSE))","v":""},null,null,{"$f":"IF(OR(C1539=\"\",ISBLANK(C1539)),\"\",VLOOKUP(C1539,Sheet2!A:F,3,FALSE))","v":""},{"$f":"IF(OR(C1539=\"\",ISBLANK(C1539)),\"\",VLOOKUP(C1539,Sheet2!A:G,6,FALSE))","v":""},{"$f":"IF(F1539=0,\"\",F1539)","v":""}]
[{"$f":"IF(OR(C1540=\"\",ISBLANK(C1540)),\"\",VLOOKUP(C1540,Sheet2!A:F,2,FALSE))","v":""},{"$f":"IF(OR(C1540=\"\",ISBLANK(C1540)),\"\",VLOOKUP(C1540,Sheet2!A:G,4,FALSE))","v":""},null,null,{"$f":"IF(OR(C1540=\"\",ISBLANK(C1540)),\"\",VLOOKUP(C1540,Sheet2!A:F,3,FALSE))","v":""},{"$f":"IF(OR(C1540=\"\",ISBLANK(C1540)),\"\",VLOOKUP(C1540,Sheet2!A:G,6,FALSE))","v":""},""]
[{"$f":"IF(OR(C1541=\"\",ISBLANK(C1541)),\"\",VLOOKUP(C1541,Sheet2!A:F,2,FALSE))","v":""},{"$f":"IF(OR(C1541=\"\",ISBLANK(C1541)),\"\",VLOOKUP(C1541,Sheet2!A:G,4,FALSE))","v":""},null,null,{"$f":"IF(OR(C1541=\"\",ISBLANK(C1541)),\"\",VLOOKUP(C1541,Sheet2!A:F,3,FALSE))","v":""},{"$f":"IF(OR(C1541=\"\",ISBLANK(C1541)),\"\",VLOOKUP(C1541,Sheet2!A:G,6,FALSE))","v":""},""]
[{"$f":"IF(OR(C1542=\"\",ISBLANK(C1542)),\"\",VLOOKUP(C1542,Sheet2!A:F,2,FALSE))","v":""},{"$f":"IF(OR(C1542=\"\",ISBLANK(C1542)),\"\",VLOOKUP(C1542,Sheet2!A:G,4,FALSE))","v":""},null,null,{"$f":"IF(OR(C1542=\"\",ISBLANK(C1542)),\"\",VLOOKUP(C1542,Sheet2!A:F,3,FALSE))","v":""},{"$f":"IF(OR(C1542=\"\",ISBLANK(C1542)),\"\",VLOOKUP(C1542,Sheet2!A:G,6,FALSE))","v":""},""]
[{"$f":"IF(OR(C1543=\"\",ISBLANK(C1543)),\"\",VLOOKUP(C1543,Sheet2!A:F,2,FALSE))","v":""},{"$f":"IF(OR(C1543=\"\",ISBLANK(C1543)),\"\",VLOOKUP(C1543,Sheet2!A:G,4,FALSE))","v":""},null,null,{"$f":"IF(OR(C1543=\"\",ISBLANK(C1543)),\"\",VLOOKUP(C1543,Sheet2!A:F,3,FALSE))","v":""},{"$f":"IF(OR(C1543=\"\",ISBLANK(C1543)),\"\",VLOOKUP(C1543,Sheet2!A:G,6,FALSE))","v":""},""]
[{"$f":"IF(OR(C1544=\"\",ISBLANK(C1544)),\"\",VLOOKUP(C1544,Sheet2!A:F,2,FALSE))","v":""},{"$f":"IF(OR(C1544=\"\",ISBLANK(C1544)),\"\",VLOOKUP(C1544,Sheet2!A:G,4,FALSE))","v":""},null,null,{"$f":"IF(OR(C1544=\"\",ISBLANK(C1544)),\"\",VLOOKUP(C1544,Sheet2!A:F,3,FALSE))","v":""},{"$f":"IF(OR(C1544=\"\",ISBLANK(C1544)),\"\",VLOOKUP(C1544,Sheet2!A:G,6,FALSE))","v":""},""]
[{"$f":"IF(OR(C1545=\"\",ISBLANK(C1545)),\"\",VLOOKUP(C1545,Sheet2!A:F,2,FALSE))","v":""},{"$f":"IF(OR(C1545=\"\",ISBLANK(C1545)),\"\",VLOOKUP(C1545,Sheet2!A:G,4,FALSE))","v":""},null,null,{"$f":"IF(OR(C1545=\"\",ISBLANK(C1545)),\"\",VLOOKUP(C1545,Sheet2!A:F,3,FALSE))","v":""},{"$f":"IF(OR(C1545=\"\",ISBLANK(C1545)),\"\",VLOOKUP(C1545,Sheet2!A:G,6,FALSE))","v":""},""]
[{"$f":"IF(OR(C1546=\"\",ISBLANK(C1546)),\"\",VLOOKUP(C1546,Sheet2!A:F,2,FALSE))","v":""},{"$f":"IF(OR(C1546=\"\",ISBLANK(C1546)),\"\",VLOOKUP(C1546,Sheet2!A:G,4,FALSE))","v":""},null,null,{"$f":"IF(OR(C1546=\"\",ISBLANK(C1546)),\"\",VLOOKUP(C1546,Sheet2!A:F,3,FALSE))","v":""},{"$f":"IF(OR(C1546=\"\",ISBLANK(C1546)),\"\",VLOOKUP(C1546,Sheet2!A:G,6,FALSE))","v":""},""]
[{"$f":"IF(OR(C1547=\"\",ISBLANK(C1547)),\"\",VLOOKUP(C1547,Sheet2!A:F,2,FALSE))","v":""},{"$f":"IF(OR(C1547=\"\",ISBLANK(C1547)),\"\",VLOOKUP(C1547,Sheet2!A:G,4,FALSE))","v":""},null,null,{"$f":"IF(OR(C1547=\"\",ISBLANK(C1547)),\"\",VLOOKUP(C1547,Sheet2!A:F,3,FALSE))","v":""},{"$f":"IF(OR(C1547=\"\",ISBLANK(C1547)),\"\",VLOOKUP(C1547,Sheet2!A:G,6,FALSE))","v":""},""]
[{"$f":"IF(OR(C1548=\"\",ISBLANK(C1548)),\"\",VLOOKUP(C1548,Sheet2!A:F,2,FALSE))","v":""},{"$f":"IF(OR(C1548=\"\",ISBLANK(C1548)),\"\",VLOOKUP(C1548,Sheet2!A:G,4,FALSE))","v":""},null,null,{"$f":"IF(OR(C1548=\"\",ISBLANK(C1548)),\"\",VLOOKUP(C1548,Sheet2!A:F,3,FALSE))","v":""},{"$f":"IF(OR(C1548=\"\",ISBLANK(C1548)),\"\",VLOOKUP(C1548,Sheet2!A:G,6,FALSE))","v":""},""]
[{"$f":"IF(OR(C1549=\"\",ISBLANK(C1549)),\"\",VLOOKUP(C1549,Sheet2!A:F,2,FALSE))","v":""},{"$f":"IF(OR(C1549=\"\",ISBLANK(C1549)),\"\",VLOOKUP(C1549,Sheet2!A:G,4,FALSE))","v":""},null,null,{"$f":"IF(OR(C1549=\"\",ISBLANK(C1549)),\"\",VLOOKUP(C1549,Sheet2!A:F,3,FALSE))","v":""},{"$f":"IF(OR(C1549=\"\",ISBLANK(C1549)),\"\",VLOOKUP(C1549,Sheet2!A:G,6,FALSE))","v":""},""]
[{"$f":"IF(OR(C1550=\"\",ISBLANK(C1550)),\"\",VLOOKUP(C1550,Sheet2!A:F,2,FALSE))","v":""},{"$f":"IF(OR(C1550=\"\",ISBLANK(C1550)),\"\",VLOOKUP(C1550,Sheet2!A:G,4,FALSE))","v":""},null,null,{"$f":"IF(OR(C1550=\"\",ISBLANK(C1550)),\"\",VLOOKUP(C1550,Sheet2!A:F,3,FALSE))","v":""},{"$f":"IF(OR(C1550=\"\",ISBLANK(C1550)),\"\",VLOOKUP(C1550,Sheet2!A:G,6,FALSE))","v":""},""]
[{"$f":"IF(OR(C1551=\"\",ISBLANK(C1551)),\"\",VLOOKUP(C1551,Sheet2!A:F,2,FALSE))","v":""},{"$f":"IF(OR(C1551=\"\",ISBLANK(C1551)),\"\",VLOOKUP(C1551,Sheet2!A:G,4,FALSE))","v":""},null,null,{"$f":"IF(OR(C1551=\"\",ISBLANK(C1551)),\"\",VLOOKUP(C1551,Sheet2!A:F,3,FALSE))","v":""},{"$f":"IF(OR(C1551=\"\",ISBLANK(C1551)),\"\",VLOOKUP(C1551,Sheet2!A:G,6,FALSE))","v":""},""]
[{"$f":"IF(OR(C1552=\"\",ISBLANK(C1552)),\"\",VLOOKUP(C1552,Sheet2!A:F,2,FALSE))","v":""},{"$f":"IF(OR(C1552=\"\",ISBLANK(C1552)),\"\",VLOOKUP(C1552,Sheet2!A:G,4,FALSE))","v":""},null,null,{"$f":"IF(OR(C1552=\"\",ISBLANK(C1552)),\"\",VLOOKUP(C1552,Sheet2!A:F,3,FALSE))","v":""},{"$f":"IF(OR(C1552=\"\",ISBLANK(C1552)),\"\",VLOOKUP(C1552,Sheet2!A:G,6,FALSE))","v":""},""]
[{"$f":"IF(OR(C1553=\"\",ISBLANK(C1553)),\"\",VLOOKUP(C1553,Sheet2!A:F,2,FALSE))","v":""},{"$f":"IF(OR(C1553=\"\",ISBLANK(C1553)),\"\",VLOOKUP(C1553,Sheet2!A:G,4,FALSE))","v":""},null,null,{"$f":"IF(OR(C1553=\"\",ISBLANK(C1553)),\"\",VLOOKUP(C1553,Sheet2!A:F,3,FALSE))","v":""},{"$f":"IF(OR(C1553=\"\",ISBLANK(C1553)),\"\",VLOOKUP(C1553,Sheet2!A:G,6,FALSE))","v":""},""]
[{"$f":"IF(OR(C1554=\"\",ISBLANK(C1554)),\"\",VLOOKUP(C1554,Sheet2!A:F,2,FALSE))","v":""},{"$f":"IF(OR(C1554=\"\",ISBLANK(C1554)),\"\",VLOOKUP(C1554,Sheet2!A:G,4,FALSE))","v":""},null,null,{"$f":"IF(OR(C1554=\"\",ISBLANK(C1554)),\"\",VLOOKUP(C1554,Sheet2!A:F,3,FALSE))","v":""},{"$f":"IF(OR(C1554=\"\",ISBLANK(C1554)),\"\",VLOOKUP(C1554,Sheet2!A:G,6,FALSE))","v":""},""]
[{"$f":"IF(OR(C1555=\"\",ISBLANK(C1555)),\"\",VLOOKUP(C1555,Sheet2!A:F,2,FALSE))","v":""},{"$f":"IF(OR(C1555=\"\",ISBLANK(C1555)),\"\",VLOOKUP(C1555,Sheet2!A:G,4,FALSE))","v":""},null,null,{"$f":"IF(OR(C1555=\"\",ISBLANK(C1555)),\"\",VLOOKUP(C1555,Sheet2!A:F,3,FALSE))","v":""},{"$f":"IF(OR(C1555=\"\",ISBLANK(C1555)),\"\",VLOOKUP(C1555,Sheet2!A:G,6,FALSE))","v":""},""]
[{"$f":"IF(OR(C1556=\"\",ISBLANK(C1556)),\"\",VLOOKUP(C1556,Sheet2!A:F,2,FALSE))","v":""},{"$f":"IF(OR(C1556=\"\",ISBLANK(C1556)),\"\",VLOOKUP(C1556,Sheet2!A:G,4,FALSE))","v":""},null,null,{"$f":"IF(OR(C1556=\"\",ISBLANK(C1556)),\"\",VLOOKUP(C1556,Sheet2!A:F,3,FALSE))","v":""},{"$f":"IF(OR(C1556=\"\",ISBLANK(C1556)),\"\",VLOOKUP(C1556,Sheet2!A:G,6,FALSE))","v":""},""]
[{"$f":"IF(OR(C1557=\"\",ISBLANK(C1557)),\"\",VLOOKUP(C1557,Sheet2!A:F,2,FALSE))","v":""},{"$f":"IF(OR(C1557=\"\",ISBLANK(C1557)),\"\",VLOOKUP(C1557,Sheet2!A:G,4,FALSE))","v":""},null,null,{"$f":"IF(OR(C1557=\"\",ISBLANK(C1557)),\"\",VLOOKUP(C1557,Sheet2!A:F,3,FALSE))","v":""},{"$f":"IF(OR(C1557=\"\",ISBLANK(C1557)),\"\",VLOOKUP(C1557,Sheet2!A:G,6,FALSE))","v":""},""]
[{"$f":"IF(OR(C1558=\"\",ISBLANK(C1558)),\"\",VLOOKUP(C1558,Sheet2!A:F,2,FALSE))","v":""},{"$f":"IF(OR(C1558=\"\",ISBLANK(C1558)),\"\",VLOOKUP(C1558,Sheet2!A:G,4,FALSE))","v":""},null,null,{"$f":"IF(OR(C1558=\"\",ISBLANK(C1558)),\"\",VLOOKUP(C1558,Sheet2!A:F,3,FALSE))","v":""},{"$f":"IF(OR(C1558=\"\",ISBLANK(C1558)),\"\",VLOOKUP(C1558,Sheet2!A:G,6,FALSE))","v":""},""]
[{"$f":"IF(OR(C1559=\"\",ISBLANK(C1559)),\"\",VLOOKUP(C1559,Sheet2!A:F,2,FALSE))","v":""},{"$f":"IF(OR(C1559=\"\",ISBLANK(C1559)),\"\",VLOOKUP(C1559,Sheet2!A:G,4,FALSE))","v":""},null,null,{"$f":"IF(OR(C1559=\"\",ISBLANK(C1559)),\"\",VLOOKUP(C1559,Sheet2!A:F,3,FALSE))","v":""},{"$f":"IF(OR(C1559=\"\",ISBLANK(C1559)),\"\",VLOOKUP(C1559,Sheet2!A:G,6,FALSE))","v":""},""]
[{"$f":"IF(OR(C1560=\"\",ISBLANK(C1560)),\"\",VLOOKUP(C1560,Sheet2!A:F,2,FALSE))","v":""},{"$f":"IF(OR(C1560=\"\",ISBLANK(C1560)),\"\",VLOOKUP(C1560,Sheet2!A:G,4,FALSE))","v":""},null,null,{"$f":"IF(OR(C1560=\"\",ISBLANK(C1560)),\"\",VLOOKUP(C1560,Sheet2!A:F,3,FALSE))","v":""},{"$f":"IF(OR(C1560=\"\",ISBLANK(C1560)),\"\",VLOOKUP(C1560,Sheet2!A:G,6,FALSE))","v":""},""]
[{"$f":"IF(OR(C1561=\"\",ISBLANK(C1561)),\"\",VLOOKUP(C1561,Sheet2!A:F,2,FALSE))","v":""},{"$f":"IF(OR(C1561=\"\",ISBLANK(C1561)),\"\",VLOOKUP(C1561,Sheet2!A:G,4,FALSE))","v":""},null,null,{"$f":"IF(OR(C1561=\"\",ISBLANK(C1561)),\"\",VLOOKUP(C1561,Sheet2!A:F,3,FALSE))","v":""},{"$f":"IF(OR(C1561=\"\",ISBLANK(C1561)),\"\",VLOOKUP(C1561,Sheet2!A:G,6,FALSE))","v":""},""]
[{"$f":"IF(OR(C1562=\"\",ISBLANK(C1562)),\"\",VLOOKUP(C1562,Sheet2!A:F,2,FALSE))","v":""},{"$f":"IF(OR(C1562=\"\",ISBLANK(C1562)),\"\",VLOOKUP(C1562,Sheet2!A:G,4,FALSE))","v":""},null,null,{"$f":"IF(OR(C1562=\"\",ISBLANK(C1562)),\"\",VLOOKUP(C1562,Sheet2!A:F,3,FALSE))","v":""},{"$f":"IF(OR(C1562=\"\",ISBLANK(C1562)),\"\",VLOOKUP(C1562,Sheet2!A:G,6,FALSE))","v":""},""]
[{"$f":"IF(OR(C1563=\"\",ISBLANK(C1563)),\"\",VLOOKUP(C1563,Sheet2!A:F,2,FALSE))","v":""},{"$f":"IF(OR(C1563=\"\",ISBLANK(C1563)),\"\",VLOOKUP(C1563,Sheet2!A:G,4,FALSE))","v":""},null,null,{"$f":"IF(OR(C1563=\"\",ISBLANK(C1563)),\"\",VLOOKUP(C1563,Sheet2!A:F,3,FALSE))","v":""},{"$f":"IF(OR(C1563=\"\",ISBLANK(C1563)),\"\",VLOOKUP(C1563,Sheet2!A:G,6,FALSE))","v":""},""]
[{"$f":"IF(OR(C1564=\"\",ISBLANK(C1564)),\"\",VLOOKUP(C1564,Sheet2!A:F,2,FALSE))","v":""},{"$f":"IF(OR(C1564=\"\",ISBLANK(C1564)),\"\",VLOOKUP(C1564,Sheet2!A:G,4,FALSE))","v":""},null,null,{"$f":"IF(OR(C1564=\"\",ISBLANK(C1564)),\"\",VLOOKUP(C1564,Sheet2!A:F,3,FALSE))","v":""},{"$f":"IF(OR(C1564=\"\",ISBLANK(C1564)),\"\",VLOOKUP(C1564,Sheet2!A:G,6,FALSE))","v":""},""]
[{"$f":"IF(OR(C1565=\"\",ISBLANK(C1565)),\"\",VLOOKUP(C1565,Sheet2!A:F,2,FALSE))","v":""},{"$f":"IF(OR(C1565=\"\",ISBLANK(C1565)),\"\",VLOOKUP(C1565,Sheet2!A:G,4,FALSE))","v":""},null,null,{"$f":"IF(OR(C1565=\"\",ISBLANK(C1565)),\"\",VLOOKUP(C1565,Sheet2!A:F,3,FALSE))","v":""},{"$f":"IF(OR(C1565=\"\",ISBLANK(C1565)),\"\",VLOOKUP(C1565,Sheet2!A:G,6,FALSE))","v":""},""]
[{"$f":"IF(OR(C1566=\"\",ISBLANK(C1566)),\"\",VLOOKUP(C1566,Sheet2!A:F,2,FALSE))","v":""},{"$f":"IF(OR(C1566=\"\",ISBLANK(C1566)),\"\",VLOOKUP(C1566,Sheet2!A:G,4,FALSE))","v":""},null,null,{"$f":"IF(OR(C1566=\"\",ISBLANK(C1566)),\"\",VLOOKUP(C1566,Sheet2!A:F,3,FALSE))","v":""},{"$f":"IF(OR(C1566=\"\",ISBLANK(C1566)),\"\",VLOOKUP(C1566,Sheet2!A:G,6,FALSE))","v":""},""]
[{"$f":"IF(OR(C1567=\"\",ISBLANK(C1567)),\"\",VLOOKUP(C1567,Sheet2!A:F,2,FALSE))","v":""},{"$f":"IF(OR(C1567=\"\",ISBLANK(C1567)),\"\",VLOOKUP(C1567,Sheet2!A:G,4,FALSE))","v":""},null,null,{"$f":"IF(OR(C1567=\"\",ISBLANK(C1567)),\"\",VLOOKUP(C1567,Sheet2!A:F,3,FALSE))","v":""},{"$f":"IF(OR(C1567=\"\",ISBLANK(C1567)),\"\",VLOOKUP(C1567,Sheet2!A:G,6,FALSE))","v":""},""]
[{"$f":"IF(OR(C1568=\"\",ISBLANK(C1568)),\"\",VLOOKUP(C1568,Sheet2!A:F,2,FALSE))","v":""},{"$f":"IF(OR(C1568=\"\",ISBLANK(C1568)),\"\",VLOOKUP(C1568,Sheet2!A:G,4,FALSE))","v":""},null,null,{"$f":"IF(OR(C1568=\"\",ISBLANK(C1568)),\"\",VLOOKUP(C1568,Sheet2!A:F,3,FALSE))","v":""},{"$f":"IF(OR(C1568=\"\",ISBLANK(C1568)),\"\",VLOOKUP(C1568,Sheet2!A:G,6,FALSE))","v":""},""]
[{"$f":"IF(OR(C1569=\"\",ISBLANK(C1569)),\"\",VLOOKUP(C1569,Sheet2!A:F,2,FALSE))","v":""},{"$f":"IF(OR(C1569=\"\",ISBLANK(C1569)),\"\",VLOOKUP(C1569,Sheet2!A:G,4,FALSE))","v":""},null,null,{"$f":"IF(OR(C1569=\"\",ISBLANK(C1569)),\"\",VLOOKUP(C1569,Sheet2!A:F,3,FALSE))","v":""},{"$f":"IF(OR(C1569=\"\",ISBLANK(C1569)),\"\",VLOOKUP(C1569,Sheet2!A:G,6,FALSE))","v":""},""]
[{"$f":"IF(OR(C1570=\"\",ISBLANK(C1570)),\"\",VLOOKUP(C1570,Sheet2!A:F,2,FALSE))","v":""},{"$f":"IF(OR(C1570=\"\",ISBLANK(C1570)),\"\",VLOOKUP(C1570,Sheet2!A:G,4,FALSE))","v":""},null,null,{"$f":"IF(OR(C1570=\"\",ISBLANK(C1570)),\"\",VLOOKUP(C1570,Sheet2!A:F,3,FALSE))","v":""},{"$f":"IF(OR(C1570=\"\",ISBLANK(C1570)),\"\",VLOOKUP(C1570,Sheet2!A:G,6,FALSE))","v":""},""]
[{"$f":"IF(OR(C1571=\"\",ISBLANK(C1571)),\"\",VLOOKUP(C1571,Sheet2!A:F,2,FALSE))","v":""},{"$f":"IF(OR(C1571=\"\",ISBLANK(C1571)),\"\",VLOOKUP(C1571,Sheet2!A:G,4,FALSE))","v":""},null,null,{"$f":"IF(OR(C1571=\"\",ISBLANK(C1571)),\"\",VLOOKUP(C1571,Sheet2!A:F,3,FALSE))","v":""},{"$f":"IF(OR(C1571=\"\",ISBLANK(C1571)),\"\",VLOOKUP(C1571,Sheet2!A:G,6,FALSE))","v":""},""]
[{"$f":"IF(OR(C1572=\"\",ISBLANK(C1572)),\"\",VLOOKUP(C1572,Sheet2!A:F,2,FALSE))","v":""},{"$f":"IF(OR(C1572=\"\",ISBLANK(C1572)),\"\",VLOOKUP(C1572,Sheet2!A:G,4,FALSE))","v":""},null,null,{"$f":"IF(OR(C1572=\"\",ISBLANK(C1572)),\"\",VLOOKUP(C1572,Sheet2!A:F,3,FALSE))","v":""},{"$f":"IF(OR(C1572=\"\",ISBLANK(C1572)),\"\",VLOOKUP(C1572,Sheet2!A:G,6,FALSE))","v":""},""]
[{"$f":"IF(OR(C1573=\"\",ISBLANK(C1573)),\"\",VLOOKUP(C1573,Sheet2!A:F,2,FALSE))","v":""},{"$f":"IF(OR(C1573=\"\",ISBLANK(C1573)),\"\",VLOOKUP(C1573,Sheet2!A:G,4,FALSE))","v":""},null,null,{"$f":"IF(OR(C1573=\"\",ISBLANK(C1573)),\"\",VLOOKUP(C1573,Sheet2!A:F,3,FALSE))","v":""},{"$f":"IF(OR(C1573=\"\",ISBLANK(C1573)),\"\",VLOOKUP(C1573,Sheet2!A:G,6,FALSE))","v":""},""]
[{"$f":"IF(OR(C1574=\"\",ISBLANK(C1574)),\"\",VLOOKUP(C1574,Sheet2!A:F,2,FALSE))","v":""},{"$f":"IF(OR(C1574=\"\",ISBLANK(C1574)),\"\",VLOOKUP(C1574,Sheet2!A:G,4,FALSE))","v":""},null,null,{"$f":"IF(OR(C1574=\"\",ISBLANK(C1574)),\"\",VLOOKUP(C1574,Sheet2!A:F,3,FALSE))","v":""},{"$f":"IF(OR(C1574=\"\",ISBLANK(C1574)),\"\",VLOOKUP(C1574,Sheet2!A:G,6,FALSE))","v":""},""]
[{"$f":"IF(OR(C1575=\"\",ISBLANK(C1575)),\"\",VLOOKUP(C1575,Sheet2!A:F,2,FALSE))","v":""},{"$f":"IF(OR(C1575=\"\",ISBLANK(C1575)),\"\",VLOOKUP(C1575,Sheet2!A:G,4,FALSE))","v":""},null,null,{"$f":"IF(OR(C1575=\"\",ISBLANK(C1575)),\"\",VLOOKUP(C1575,Sheet2!A:F,3,FALSE))","v":""},{"$f":"IF(OR(C1575=\"\",ISBLANK(C1575)),\"\",VLOOKUP(C1575,Sheet2!A:G,6,FALSE))","v":""},""]
[{"$f":"IF(OR(C1576=\"\",ISBLANK(C1576)),\"\",VLOOKUP(C1576,Sheet2!A:F,2,FALSE))","v":""},{"$f":"IF(OR(C1576=\"\",ISBLANK(C1576)),\"\",VLOOKUP(C1576,Sheet2!A:G,4,FALSE))","v":""},null,null,{"$f":"IF(OR(C1576=\"\",ISBLANK(C1576)),\"\",VLOOKUP(C1576,Sheet2!A:F,3,FALSE))","v":""},{"$f":"IF(OR(C1576=\"\",ISBLANK(C1576)),\"\",VLOOKUP(C1576,Sheet2!A:G,6,FALSE))","v":""},""]
[{"$f":"IF(OR(C1577=\"\",ISBLANK(C1577)),\"\",VLOOKUP(C1577,Sheet2!A:F,2,FALSE))","v":""},{"$f":"IF(OR(C1577=\"\",ISBLANK(C1577)),\"\",VLOOKUP(C1577,Sheet2!A:G,4,FALSE))","v":""},null,null,{"$f":"IF(OR(C1577=\"\",ISBLANK(C1577)),\"\",VLOOKUP(C1577,Sheet2!A:F,3,FALSE))","v":""},{"$f":"IF(OR(C1577=\"\",ISBLANK(C1577)),\"\",VLOOKUP(C1577,Sheet2!A:G,6,FALSE))","v":""},""]
[{"$f":"IF(OR(C1578=\"\",ISBLANK(C1578)),\"\",VLOOKUP(C1578,Sheet2!A:F,2,FALSE))","v":""},{"$f":"IF(OR(C1578=\"\",ISBLANK(C1578)),\"\",VLOOKUP(C1578,Sheet2!A:G,4,FALSE))","v":""},null,null,{"$f":"IF(OR(C1578=\"\",ISBLANK(C1578)),\"\",VLOOKUP(C1578,Sheet2!A:F,3,FALSE))","v":""},{"$f":"IF(OR(C1578=\"\",ISBLANK(C1578)),\"\",VLOOKUP(C1578,Sheet2!A:G,6,FALSE))","v":""},""]
[{"$f":"IF(OR(C1579=\"\",ISBLANK(C1579)),\"\",VLOOKUP(C1579,Sheet2!A:F,2,FALSE))","v":""},{"$f":"IF(OR(C1579=\"\",ISBLANK(C1579)),\"\",VLOOKUP(C1579,Sheet2!A:G,4,FALSE))","v":""},null,null,{"$f":"IF(OR(C1579=\"\",ISBLANK(C1579)),\"\",VLOOKUP(C1579,Sheet2!A:F,3,FALSE))","v":""},{"$f":"IF(OR(C1579=\"\",ISBLANK(C1579)),\"\",VLOOKUP(C1579,Sheet2!A:G,6,FALSE))","v":""},""]
[{"$f":"IF(OR(C1580=\"\",ISBLANK(C1580)),\"\",VLOOKUP(C1580,Sheet2!A:F,2,FALSE))","v":""},{"$f":"IF(OR(C1580=\"\",ISBLANK(C1580)),\"\",VLOOKUP(C1580,Sheet2!A:G,4,FALSE))","v":""},null,null,{"$f":"IF(OR(C1580=\"\",ISBLANK(C1580)),\"\",VLOOKUP(C1580,Sheet2!A:F,3,FALSE))","v":""},{"$f":"IF(OR(C1580=\"\",ISBLANK(C1580)),\"\",VLOOKUP(C1580,Sheet2!A:G,6,FALSE))","v":""},""]
[{"$f":"IF(OR(C1581=\"\",ISBLANK(C1581)),\"\",VLOOKUP(C1581,Sheet2!A:F,2,FALSE))","v":""},{"$f":"IF(OR(C1581=\"\",ISBLANK(C1581)),\"\",VLOOKUP(C1581,Sheet2!A:G,4,FALSE))","v":""},null,null,{"$f":"IF(OR(C1581=\"\",ISBLANK(C1581)),\"\",VLOOKUP(C1581,Sheet2!A:F,3,FALSE))","v":""},{"$f":"IF(OR(C1581=\"\",ISBLANK(C1581)),\"\",VLOOKUP(C1581,Sheet2!A:G,6,FALSE))","v":""},""]
[{"$f":"IF(OR(C1582=\"\",ISBLANK(C1582)),\"\",VLOOKUP(C1582,Sheet2!A:F,2,FALSE))","v":""},{"$f":"IF(OR(C1582=\"\",ISBLANK(C1582)),\"\",VLOOKUP(C1582,Sheet2!A:G,4,FALSE))","v":""},null,null,{"$f":"IF(OR(C1582=\"\",ISBLANK(C1582)),\"\",VLOOKUP(C1582,Sheet2!A:F,3,FALSE))","v":""},{"$f":"IF(OR(C1582=\"\",ISBLANK(C1582)),\"\",VLOOKUP(C1582,Sheet2!A:G,6,FALSE))","v":""},""]
[{"$f":"IF(OR(C1583=\"\",ISBLANK(C1583)),\"\",VLOOKUP(C1583,Sheet2!A:F,2,FALSE))","v":""},{"$f":"IF(OR(C1583=\"\",ISBLANK(C1583)),\"\",VLOOKUP(C1583,Sheet2!A:G,4,FALSE))","v":""},null,null,{"$f":"IF(OR(C1583=\"\",ISBLANK(C1583)),\"\",VLOOKUP(C1583,Sheet2!A:F,3,FALSE))","v":""},{"$f":"IF(OR(C1583=\"\",ISBLANK(C1583)),\"\",VLOOKUP(C1583,Sheet2!A:G,6,FALSE))","v":""},""]
[{"$f":"IF(OR(C1584=\"\",ISBLANK(C1584)),\"\",VLOOKUP(C1584,Sheet2!A:F,2,FALSE))","v":""},{"$f":"IF(OR(C1584=\"\",ISBLANK(C1584)),\"\",VLOOKUP(C1584,Sheet2!A:G,4,FALSE))","v":""},null,null,{"$f":"IF(OR(C1584=\"\",ISBLANK(C1584)),\"\",VLOOKUP(C1584,Sheet2!A:F,3,FALSE))","v":""},{"$f":"IF(OR(C1584=\"\",ISBLANK(C1584)),\"\",VLOOKUP(C1584,Sheet2!A:G,6,FALSE))","v":""},""]
[{"$f":"IF(OR(C1585=\"\",ISBLANK(C1585)),\"\",VLOOKUP(C1585,Sheet2!A:F,2,FALSE))","v":""},{"$f":"IF(OR(C1585=\"\",ISBLANK(C1585)),\"\",VLOOKUP(C1585,Sheet2!A:G,4,FALSE))","v":""},null,null,{"$f":"IF(OR(C1585=\"\",ISBLANK(C1585)),\"\",VLOOKUP(C1585,Sheet2!A:F,3,FALSE))","v":""},{"$f":"IF(OR(C1585=\"\",ISBLANK(C1585)),\"\",VLOOKUP(C1585,Sheet2!A:G,6,FALSE))","v":""},""]
[{"$f":"IF(OR(C1586=\"\",ISBLANK(C1586)),\"\",VLOOKUP(C1586,Sheet2!A:F,2,FALSE))","v":""},{"$f":"IF(OR(C1586=\"\",ISBLANK(C1586)),\"\",VLOOKUP(C1586,Sheet2!A:G,4,FALSE))","v":""},null,null,{"$f":"IF(OR(C1586=\"\",ISBLANK(C1586)),\"\",VLOOKUP(C1586,Sheet2!A:F,3,FALSE))","v":""},{"$f":"IF(OR(C1586=\"\",ISBLANK(C1586)),\"\",VLOOKUP(C1586,Sheet2!A:G,6,FALSE))","v":""},""]
[{"$f":"IF(OR(C1587=\"\",ISBLANK(C1587)),\"\",VLOOKUP(C1587,Sheet2!A:F,2,FALSE))","v":""},{"$f":"IF(OR(C1587=\"\",ISBLANK(C1587)),\"\",VLOOKUP(C1587,Sheet2!A:G,4,FALSE))","v":""},null,null,{"$f":"IF(OR(C1587=\"\",ISBLANK(C1587)),\"\",VLOOKUP(C1587,Sheet2!A:F,3,FALSE))","v":""},{"$f":"IF(OR(C1587=\"\",ISBLANK(C1587)),\"\",VLOOKUP(C1587,Sheet2!A:G,6,FALSE))","v":""},""]
[{"$f":"IF(OR(C1588=\"\",ISBLANK(C1588)),\"\",VLOOKUP(C1588,Sheet2!A:F,2,FALSE))","v":""},{"$f":"IF(OR(C1588=\"\",ISBLANK(C1588)),\"\",VLOOKUP(C1588,Sheet2!A:G,4,FALSE))","v":""},null,null,{"$f":"IF(OR(C1588=\"\",ISBLANK(C1588)),\"\",VLOOKUP(C1588,Sheet2!A:F,3,FALSE))","v":""},{"$f":"IF(OR(C1588=\"\",ISBLANK(C1588)),\"\",VLOOKUP(C1588,Sheet2!A:G,6,FALSE))","v":""},""]
[{"$f":"IF(OR(C1589=\"\",ISBLANK(C1589)),\"\",VLOOKUP(C1589,Sheet2!A:F,2,FALSE))","v":""},{"$f":"IF(OR(C1589=\"\",ISBLANK(C1589)),\"\",VLOOKUP(C1589,Sheet2!A:G,4,FALSE))","v":""},null,null,{"$f":"IF(OR(C1589=\"\",ISBLANK(C1589)),\"\",VLOOKUP(C1589,Sheet2!A:F,3,FALSE))","v":""},{"$f":"IF(OR(C1589=\"\",ISBLANK(C1589)),\"\",VLOOKUP(C1589,Sheet2!A:G,6,FALSE))","v":""},""]
[{"$f":"IF(OR(C1590=\"\",ISBLANK(C1590)),\"\",VLOOKUP(C1590,Sheet2!A:F,2,FALSE))","v":""},{"$f":"IF(OR(C1590=\"\",ISBLANK(C1590)),\"\",VLOOKUP(C1590,Sheet2!A:G,4,FALSE))","v":""},null,null,{"$f":"IF(OR(C1590=\"\",ISBLANK(C1590)),\"\",VLOOKUP(C1590,Sheet2!A:F,3,FALSE))","v":""},{"$f":"IF(OR(C1590=\"\",ISBLANK(C1590)),\"\",VLOOKUP(C1590,Sheet2!A:G,6,FALSE))","v":""},""]
[{"$f":"IF(OR(C1591=\"\",ISBLANK(C1591)),\"\",VLOOKUP(C1591,Sheet2!A:F,2,FALSE))","v":""},{"$f":"IF(OR(C1591=\"\",ISBLANK(C1591)),\"\",VLOOKUP(C1591,Sheet2!A:G,4,FALSE))","v":""},null,null,{"$f":"IF(OR(C1591=\"\",ISBLANK(C1591)),\"\",VLOOKUP(C1591,Sheet2!A:F,3,FALSE))","v":""},{"$f":"IF(OR(C1591=\"\",ISBLANK(C1591)),\"\",VLOOKUP(C1591,Sheet2!A:G,6,FALSE))","v":""},""]
[{"$f":"IF(OR(C1592=\"\",ISBLANK(C1592)),\"\",VLOOKUP(C1592,Sheet2!A:F,2,FALSE))","v":""},{"$f":"IF(OR(C1592=\"\",ISBLANK(C1592)),\"\",VLOOKUP(C1592,Sheet2!A:G,4,FALSE))","v":""},null,null,{"$f":"IF(OR(C1592=\"\",ISBLANK(C1592)),\"\",VLOOKUP(C1592,Sheet2!A:F,3,FALSE))","v":""},{"$f":"IF(OR(C1592=\"\",ISBLANK(C1592)),\"\",VLOOKUP(C1592,Sheet2!A:G,6,FALSE))","v":""},""]
[{"$f":"IF(OR(C1593=\"\",ISBLANK(C1593)),\"\",VLOOKUP(C1593,Sheet2!A:F,2,FALSE))","v":""},{"$f":"IF(OR(C1593=\"\",ISBLANK(C1593)),\"\",VLOOKUP(C1593,Sheet2!A:G,4,FALSE))","v":""},null,null,{"$f":"IF(OR(C1593=\"\",ISBLANK(C1593)),\"\",VLOOKUP(C1593,Sheet2!A:F,3,FALSE))","v":""},{"$f":"IF(OR(C1593=\"\",ISBLANK(C1593)),\"\",VLOOKUP(C1593,Sheet2!A:G,6,FALSE))","v":""},""]
[{"$f":"IF(OR(C1594=\"\",ISBLANK(C1594)),\"\",VLOOKUP(C1594,Sheet2!A:F,2,FALSE))","v":""},{"$f":"IF(OR(C1594=\"\",ISBLANK(C1594)),\"\",VLOOKUP(C1594,Sheet2!A:G,4,FALSE))","v":""},null,null,{"$f":"IF(OR(C1594=\"\",ISBLANK(C1594)),\"\",VLOOKUP(C1594,Sheet2!A:F,3,FALSE))","v":""},{"$f":"IF(OR(C1594=\"\",ISBLANK(C1594)),\"\",VLOOKUP(C1594,Sheet2!A:G,6,FALSE))","v":""},""]
[{"$f":"IF(OR(C1595=\"\",ISBLANK(C1595)),\"\",VLOOKUP(C1595,Sheet2!A:F,2,FALSE))","v":""},{"$f":"IF(OR(C1595=\"\",ISBLANK(C1595)),\"\",VLOOKUP(C1595,Sheet2!A:G,4,FALSE))","v":""},null,null,{"$f":"IF(OR(C1595=\"\",ISBLANK(C1595)),\"\",VLOOKUP(C1595,Sheet2!A:F,3,FALSE))","v":""},{"$f":"IF(OR(C1595=\"\",ISBLANK(C1595)),\"\",VLOOKUP(C1595,Sheet2!A:G,6,FALSE))","v":""},""]
[{"$f":"IF(OR(C1596=\"\",ISBLANK(C1596)),\"\",VLOOKUP(C1596,Sheet2!A:F,2,FALSE))","v":""},{"$f":"IF(OR(C1596=\"\",ISBLANK(C1596)),\"\",VLOOKUP(C1596,Sheet2!A:G,4,FALSE))","v":""},null,null,{"$f":"IF(OR(C1596=\"\",ISBLANK(C1596)),\"\",VLOOKUP(C1596,Sheet2!A:F,3,FALSE))","v":""},{"$f":"IF(OR(C1596=\"\",ISBLANK(C1596)),\"\",VLOOKUP(C1596,Sheet2!A:G,6,FALSE))","v":""},""]
[{"$f":"IF(OR(C1597=\"\",ISBLANK(C1597)),\"\",VLOOKUP(C1597,Sheet2!A:F,2,FALSE))","v":""},{"$f":"IF(OR(C1597=\"\",ISBLANK(C1597)),\"\",VLOOKUP(C1597,Sheet2!A:G,4,FALSE))","v":""},null,null,{"$f":"IF(OR(C1597=\"\",ISBLANK(C1597)),\"\",VLOOKUP(C1597,Sheet2!A:F,3,FALSE))","v":""},{"$f":"IF(OR(C1597=\"\",ISBLANK(C1597)),\"\",VLOOKUP(C1597,Sheet2!A:G,6,FALSE))","v":""},""]
[{"$f":"IF(OR(C1598=\"\",ISBLANK(C1598)),\"\",VLOOKUP(C1598,Sheet2!A:F,2,FALSE))","v":""},{"$f":"IF(OR(C1598=\"\",ISBLANK(C1598)),\"\",VLOOKUP(C1598,Sheet2!A:G,4,FALSE))","v":""},null,null,{"$f":"IF(OR(C1598=\"\",ISBLANK(C1598)),\"\",VLOOKUP(C1598,Sheet2!A:F,3,FALSE))","v":""},{"$f":"IF(OR(C1598=\"\",ISBLANK(C1598)),\"\",VLOOKUP(C1598,Sheet2!A:G,6,FALSE))","v":""},""]
[{"$f":"IF(OR(C1599=\"\",ISBLANK(C1599)),\"\",VLOOKUP(C1599,Sheet2!A:F,2,FALSE))","v":""},{"$f":"IF(OR(C1599=\"\",ISBLANK(C1599)),\"\",VLOOKUP(C1599,Sheet2!A:G,4,FALSE))","v":""},null,null,{"$f":"IF(OR(C1599=\"\",ISBLANK(C1599)),\"\",VLOOKUP(C1599,Sheet2!A:F,3,FALSE))","v":""},{"$f":"IF(OR(C1599=\"\",ISBLANK(C1599)),\"\",VLOOKUP(C1599,Sheet2!A:G,6,FALSE))","v":""},""]
[{"$f":"IF(OR(C1600=\"\",ISBLANK(C1600)),\"\",VLOOKUP(C1600,Sheet2!A:F,2,FALSE))","v":""},{"$f":"IF(OR(C1600=\"\",ISBLANK(C1600)),\"\",VLOOKUP(C1600,Sheet2!A:G,4,FALSE))","v":""},null,null,{"$f":"IF(OR(C1600=\"\",ISBLANK(C1600)),\"\",VLOOKUP(C1600,Sheet2!A:F,3,FALSE))","v":""},{"$f":"IF(OR(C1600=\"\",ISBLANK(C1600)),\"\",VLOOKUP(C1600,Sheet2!A:G,6,FALSE))","v":""},""]
[{"$f":"IF(OR(C1601=\"\",ISBLANK(C1601)),\"\",VLOOKUP(C1601,Sheet2!A:F,2,FALSE))","v":""},{"$f":"IF(OR(C1601=\"\",ISBLANK(C1601)),\"\",VLOOKUP(C1601,Sheet2!A:G,4,FALSE))","v":""},null,null,{"$f":"IF(OR(C1601=\"\",ISBLANK(C1601)),\"\",VLOOKUP(C1601,Sheet2!A:F,3,FALSE))","v":""},{"$f":"IF(OR(C1601=\"\",ISBLANK(C1601)),\"\",VLOOKUP(C1601,Sheet2!A:G,6,FALSE))","v":""},""]
[{"$f":"IF(OR(C1602=\"\",ISBLANK(C1602)),\"\",VLOOKUP(C1602,Sheet2!A:F,2,FALSE))","v":""},{"$f":"IF(OR(C1602=\"\",ISBLANK(C1602)),\"\",VLOOKUP(C1602,Sheet2!A:G,4,FALSE))","v":""},null,null,{"$f":"IF(OR(C1602=\"\",ISBLANK(C1602)),\"\",VLOOKUP(C1602,Sheet2!A:F,3,FALSE))","v":""},{"$f":"IF(OR(C1602=\"\",ISBLANK(C1602)),\"\",VLOOKUP(C1602,Sheet2!A:G,6,FALSE))","v":""},""]
[{"$f":"IF(OR(C1603=\"\",ISBLANK(C1603)),\"\",VLOOKUP(C1603,Sheet2!A:F,2,FALSE))","v":""},{"$f":"IF(OR(C1603=\"\",ISBLANK(C1603)),\"\",VLOOKUP(C1603,Sheet2!A:G,4,FALSE))","v":""},null,null,{"$f":"IF(OR(C1603=\"\",ISBLANK(C1603)),\"\",VLOOKUP(C1603,Sheet2!A:F,3,FALSE))","v":""},{"$f":"IF(OR(C1603=\"\",ISBLANK(C1603)),\"\",VLOOKUP(C1603,Sheet2!A:G,6,FALSE))","v":""},{"$f":"IF(F1603=0,\"\",F1603)","v":""}]
[{"$f":"IF(OR(C1604=\"\",ISBLANK(C1604)),\"\",VLOOKUP(C1604,Sheet2!A:F,2,FALSE))","v":""},{"$f":"IF(OR(C1604=\"\",ISBLANK(C1604)),\"\",VLOOKUP(C1604,Sheet2!A:G,4,FALSE))","v":""},null,null,{"$f":"IF(OR(C1604=\"\",ISBLANK(C1604)),\"\",VLOOKUP(C1604,Sheet2!A:F,3,FALSE))","v":""},{"$f":"IF(OR(C1604=\"\",ISBLANK(C1604)),\"\",VLOOKUP(C1604,Sheet2!A:G,6,FALSE))","v":""},""]
[{"$f":"IF(OR(C1605=\"\",ISBLANK(C1605)),\"\",VLOOKUP(C1605,Sheet2!A:F,2,FALSE))","v":""},{"$f":"IF(OR(C1605=\"\",ISBLANK(C1605)),\"\",VLOOKUP(C1605,Sheet2!A:G,4,FALSE))","v":""},null,null,{"$f":"IF(OR(C1605=\"\",ISBLANK(C1605)),\"\",VLOOKUP(C1605,Sheet2!A:F,3,FALSE))","v":""},{"$f":"IF(OR(C1605=\"\",ISBLANK(C1605)),\"\",VLOOKUP(C1605,Sheet2!A:G,6,FALSE))","v":""},""]
[{"$f":"IF(OR(C1606=\"\",ISBLANK(C1606)),\"\",VLOOKUP(C1606,Sheet2!A:F,2,FALSE))","v":""},{"$f":"IF(OR(C1606=\"\",ISBLANK(C1606)),\"\",VLOOKUP(C1606,Sheet2!A:G,4,FALSE))","v":""},null,null,{"$f":"IF(OR(C1606=\"\",ISBLANK(C1606)),\"\",VLOOKUP(C1606,Sheet2!A:F,3,FALSE))","v":""},{"$f":"IF(OR(C1606=\"\",ISBLANK(C1606)),\"\",VLOOKUP(C1606,Sheet2!A:G,6,FALSE))","v":""},""]
[{"$f":"IF(OR(C1607=\"\",ISBLANK(C1607)),\"\",VLOOKUP(C1607,Sheet2!A:F,2,FALSE))","v":""},{"$f":"IF(OR(C1607=\"\",ISBLANK(C1607)),\"\",VLOOKUP(C1607,Sheet2!A:G,4,FALSE))","v":""},null,null,{"$f":"IF(OR(C1607=\"\",ISBLANK(C1607)),\"\",VLOOKUP(C1607,Sheet2!A:F,3,FALSE))","v":""},{"$f":"IF(OR(C1607=\"\",ISBLANK(C1607)),\"\",VLOOKUP(C1607,Sheet2!A:G,6,FALSE))","v":""},""]
[{"$f":"IF(OR(C1608=\"\",ISBLANK(C1608)),\"\",VLOOKUP(C1608,Sheet2!A:F,2,FALSE))","v":""},{"$f":"IF(OR(C1608=\"\",ISBLANK(C1608)),\"\",VLOOKUP(C1608,Sheet2!A:G,4,FALSE))","v":""},null,null,{"$f":"IF(OR(C1608=\"\",ISBLANK(C1608)),\"\",VLOOKUP(C1608,Sheet2!A:F,3,FALSE))","v":""},{"$f":"IF(OR(C1608=\"\",ISBLANK(C1608)),\"\",VLOOKUP(C1608,Sheet2!A:G,6,FALSE))","v":""},""]
[{"$f":"IF(OR(C1609=\"\",ISBLANK(C1609)),\"\",VLOOKUP(C1609,Sheet2!A:F,2,FALSE))","v":""},{"$f":"IF(OR(C1609=\"\",ISBLANK(C1609)),\"\",VLOOKUP(C1609,Sheet2!A:G,4,FALSE))","v":""},null,null,{"$f":"IF(OR(C1609=\"\",ISBLANK(C1609)),\"\",VLOOKUP(C1609,Sheet2!A:F,3,FALSE))","v":""},{"$f":"IF(OR(C1609=\"\",ISBLANK(C1609)),\"\",VLOOKUP(C1609,Sheet2!A:G,6,FALSE))","v":""},""]
[{"$f":"IF(OR(C1610=\"\",ISBLANK(C1610)),\"\",VLOOKUP(C1610,Sheet2!A:F,2,FALSE))","v":""},{"$f":"IF(OR(C1610=\"\",ISBLANK(C1610)),\"\",VLOOKUP(C1610,Sheet2!A:G,4,FALSE))","v":""},null,null,{"$f":"IF(OR(C1610=\"\",ISBLANK(C1610)),\"\",VLOOKUP(C1610,Sheet2!A:F,3,FALSE))","v":""},{"$f":"IF(OR(C1610=\"\",ISBLANK(C1610)),\"\",VLOOKUP(C1610,Sheet2!A:G,6,FALSE))","v":""},""]
[{"$f":"IF(OR(C1611=\"\",ISBLANK(C1611)),\"\",VLOOKUP(C1611,Sheet2!A:F,2,FALSE))","v":""},{"$f":"IF(OR(C1611=\"\",ISBLANK(C1611)),\"\",VLOOKUP(C1611,Sheet2!A:G,4,FALSE))","v":""},null,null,{"$f":"IF(OR(C1611=\"\",ISBLANK(C1611)),\"\",VLOOKUP(C1611,Sheet2!A:F,3,FALSE))","v":""},{"$f":"IF(OR(C1611=\"\",ISBLANK(C1611)),\"\",VLOOKUP(C1611,Sheet2!A:G,6,FALSE))","v":""},""]
[{"$f":"IF(OR(C1612=\"\",ISBLANK(C1612)),\"\",VLOOKUP(C1612,Sheet2!A:F,2,FALSE))","v":""},{"$f":"IF(OR(C1612=\"\",ISBLANK(C1612)),\"\",VLOOKUP(C1612,Sheet2!A:G,4,FALSE))","v":""},null,null,{"$f":"IF(OR(C1612=\"\",ISBLANK(C1612)),\"\",VLOOKUP(C1612,Sheet2!A:F,3,FALSE))","v":""},{"$f":"IF(OR(C1612=\"\",ISBLANK(C1612)),\"\",VLOOKUP(C1612,Sheet2!A:G,6,FALSE))","v":""},""]
[{"$f":"IF(OR(C1613=\"\",ISBLANK(C1613)),\"\",VLOOKUP(C1613,Sheet2!A:F,2,FALSE))","v":""},{"$f":"IF(OR(C1613=\"\",ISBLANK(C1613)),\"\",VLOOKUP(C1613,Sheet2!A:G,4,FALSE))","v":""},null,null,{"$f":"IF(OR(C1613=\"\",ISBLANK(C1613)),\"\",VLOOKUP(C1613,Sheet2!A:F,3,FALSE))","v":""},{"$f":"IF(OR(C1613=\"\",ISBLANK(C1613)),\"\",VLOOKUP(C1613,Sheet2!A:G,6,FALSE))","v":""},""]
[{"$f":"IF(OR(C1614=\"\",ISBLANK(C1614)),\"\",VLOOKUP(C1614,Sheet2!A:F,2,FALSE))","v":""},{"$f":"IF(OR(C1614=\"\",ISBLANK(C1614)),\"\",VLOOKUP(C1614,Sheet2!A:G,4,FALSE))","v":""},null,null,{"$f":"IF(OR(C1614=\"\",ISBLANK(C1614)),\"\",VLOOKUP(C1614,Sheet2!A:F,3,FALSE))","v":""},{"$f":"IF(OR(C1614=\"\",ISBLANK(C1614)),\"\",VLOOKUP(C1614,Sheet2!A:G,6,FALSE))","v":""},""]
[{"$f":"IF(OR(C1615=\"\",ISBLANK(C1615)),\"\",VLOOKUP(C1615,Sheet2!A:F,2,FALSE))","v":""},{"$f":"IF(OR(C1615=\"\",ISBLANK(C1615)),\"\",VLOOKUP(C1615,Sheet2!A:G,4,FALSE))","v":""},null,null,{"$f":"IF(OR(C1615=\"\",ISBLANK(C1615)),\"\",VLOOKUP(C1615,Sheet2!A:F,3,FALSE))","v":""},{"$f":"IF(OR(C1615=\"\",ISBLANK(C1615)),\"\",VLOOKUP(C1615,Sheet2!A:G,6,FALSE))","v":""},""]
[{"$f":"IF(OR(C1616=\"\",ISBLANK(C1616)),\"\",VLOOKUP(C1616,Sheet2!A:F,2,FALSE))","v":""},{"$f":"IF(OR(C1616=\"\",ISBLANK(C1616)),\"\",VLOOKUP(C1616,Sheet2!A:G,4,FALSE))","v":""},null,null,{"$f":"IF(OR(C1616=\"\",ISBLANK(C1616)),\"\",VLOOKUP(C1616,Sheet2!A:F,3,FALSE))","v":""},{"$f":"IF(OR(C1616=\"\",ISBLANK(C1616)),\"\",VLOOKUP(C1616,Sheet2!A:G,6,FALSE))","v":""},""]
[{"$f":"IF(OR(C1617=\"\",ISBLANK(C1617)),\"\",VLOOKUP(C1617,Sheet2!A:F,2,FALSE))","v":""},{"$f":"IF(OR(C1617=\"\",ISBLANK(C1617)),\"\",VLOOKUP(C1617,Sheet2!A:G,4,FALSE))","v":""},null,null,{"$f":"IF(OR(C1617=\"\",ISBLANK(C1617)),\"\",VLOOKUP(C1617,Sheet2!A:F,3,FALSE))","v":""},{"$f":"IF(OR(C1617=\"\",ISBLANK(C1617)),\"\",VLOOKUP(C1617,Sheet2!A:G,6,FALSE))","v":""},""]
[{"$f":"IF(OR(C1618=\"\",ISBLANK(C1618)),\"\",VLOOKUP(C1618,Sheet2!A:F,2,FALSE))","v":""},{"$f":"IF(OR(C1618=\"\",ISBLANK(C1618)),\"\",VLOOKUP(C1618,Sheet2!A:G,4,FALSE))","v":""},null,null,{"$f":"IF(OR(C1618=\"\",ISBLANK(C1618)),\"\",VLOOKUP(C1618,Sheet2!A:F,3,FALSE))","v":""},{"$f":"IF(OR(C1618=\"\",ISBLANK(C1618)),\"\",VLOOKUP(C1618,Sheet2!A:G,6,FALSE))","v":""},""]
[{"$f":"IF(OR(C1619=\"\",ISBLANK(C1619)),\"\",VLOOKUP(C1619,Sheet2!A:F,2,FALSE))","v":""},{"$f":"IF(OR(C1619=\"\",ISBLANK(C1619)),\"\",VLOOKUP(C1619,Sheet2!A:G,4,FALSE))","v":""},null,null,{"$f":"IF(OR(C1619=\"\",ISBLANK(C1619)),\"\",VLOOKUP(C1619,Sheet2!A:F,3,FALSE))","v":""},{"$f":"IF(OR(C1619=\"\",ISBLANK(C1619)),\"\",VLOOKUP(C1619,Sheet2!A:G,6,FALSE))","v":""},""]
[{"$f":"IF(OR(C1620=\"\",ISBLANK(C1620)),\"\",VLOOKUP(C1620,Sheet2!A:F,2,FALSE))","v":""},{"$f":"IF(OR(C1620=\"\",ISBLANK(C1620)),\"\",VLOOKUP(C1620,Sheet2!A:G,4,FALSE))","v":""},null,null,{"$f":"IF(OR(C1620=\"\",ISBLANK(C1620)),\"\",VLOOKUP(C1620,Sheet2!A:F,3,FALSE))","v":""},{"$f":"IF(OR(C1620=\"\",ISBLANK(C1620)),\"\",VLOOKUP(C1620,Sheet2!A:G,6,FALSE))","v":""},""]
[{"$f":"IF(OR(C1621=\"\",ISBLANK(C1621)),\"\",VLOOKUP(C1621,Sheet2!A:F,2,FALSE))","v":""},{"$f":"IF(OR(C1621=\"\",ISBLANK(C1621)),\"\",VLOOKUP(C1621,Sheet2!A:G,4,FALSE))","v":""},null,null,{"$f":"IF(OR(C1621=\"\",ISBLANK(C1621)),\"\",VLOOKUP(C1621,Sheet2!A:F,3,FALSE))","v":""},{"$f":"IF(OR(C1621=\"\",ISBLANK(C1621)),\"\",VLOOKUP(C1621,Sheet2!A:G,6,FALSE))","v":""},""]
[{"$f":"IF(OR(C1622=\"\",ISBLANK(C1622)),\"\",VLOOKUP(C1622,Sheet2!A:F,2,FALSE))","v":""},{"$f":"IF(OR(C1622=\"\",ISBLANK(C1622)),\"\",VLOOKUP(C1622,Sheet2!A:G,4,FALSE))","v":""},null,null,{"$f":"IF(OR(C1622=\"\",ISBLANK(C1622)),\"\",VLOOKUP(C1622,Sheet2!A:F,3,FALSE))","v":""},{"$f":"IF(OR(C1622=\"\",ISBLANK(C1622)),\"\",VLOOKUP(C1622,Sheet2!A:G,6,FALSE))","v":""},""]
[{"$f":"IF(OR(C1623=\"\",ISBLANK(C1623)),\"\",VLOOKUP(C1623,Sheet2!A:F,2,FALSE))","v":""},{"$f":"IF(OR(C1623=\"\",ISBLANK(C1623)),\"\",VLOOKUP(C1623,Sheet2!A:G,4,FALSE))","v":""},null,null,{"$f":"IF(OR(C1623=\"\",ISBLANK(C1623)),\"\",VLOOKUP(C1623,Sheet2!A:F,3,FALSE))","v":""},{"$f":"IF(OR(C1623=\"\",ISBLANK(C1623)),\"\",VLOOKUP(C1623,Sheet2!A:G,6,FALSE))","v":""},""]
[{"$f":"IF(OR(C1624=\"\",ISBLANK(C1624)),\"\",VLOOKUP(C1624,Sheet2!A:F,2,FALSE))","v":""},{"$f":"IF(OR(C1624=\"\",ISBLANK(C1624)),\"\",VLOOKUP(C1624,Sheet2!A:G,4,FALSE))","v":""},null,null,{"$f":"IF(OR(C1624=\"\",ISBLANK(C1624)),\"\",VLOOKUP(C1624,Sheet2!A:F,3,FALSE))","v":""},{"$f":"IF(OR(C1624=\"\",ISBLANK(C1624)),\"\",VLOOKUP(C1624,Sheet2!A:G,6,FALSE))","v":""},""]
[{"$f":"IF(OR(C1625=\"\",ISBLANK(C1625)),\"\",VLOOKUP(C1625,Sheet2!A:F,2,FALSE))","v":""},{"$f":"IF(OR(C1625=\"\",ISBLANK(C1625)),\"\",VLOOKUP(C1625,Sheet2!A:G,4,FALSE))","v":""},null,null,{"$f":"IF(OR(C1625=\"\",ISBLANK(C1625)),\"\",VLOOKUP(C1625,Sheet2!A:F,3,FALSE))","v":""},{"$f":"IF(OR(C1625=\"\",ISBLANK(C1625)),\"\",VLOOKUP(C1625,Sheet2!A:G,6,FALSE))","v":""},""]
[{"$f":"IF(OR(C1626=\"\",ISBLANK(C1626)),\"\",VLOOKUP(C1626,Sheet2!A:F,2,FALSE))","v":""},{"$f":"IF(OR(C1626=\"\",ISBLANK(C1626)),\"\",VLOOKUP(C1626,Sheet2!A:G,4,FALSE))","v":""},null,null,{"$f":"IF(OR(C1626=\"\",ISBLANK(C1626)),\"\",VLOOKUP(C1626,Sheet2!A:F,3,FALSE))","v":""},{"$f":"IF(OR(C1626=\"\",ISBLANK(C1626)),\"\",VLOOKUP(C1626,Sheet2!A:G,6,FALSE))","v":""},""]
[{"$f":"IF(OR(C1627=\"\",ISBLANK(C1627)),\"\",VLOOKUP(C1627,Sheet2!A:F,2,FALSE))","v":""},{"$f":"IF(OR(C1627=\"\",ISBLANK(C1627)),\"\",VLOOKUP(C1627,Sheet2!A:G,4,FALSE))","v":""},null,null,{"$f":"IF(OR(C1627=\"\",ISBLANK(C1627)),\"\",VLOOKUP(C1627,Sheet2!A:F,3,FALSE))","v":""},{"$f":"IF(OR(C1627=\"\",ISBLANK(C1627)),\"\",VLOOKUP(C1627,Sheet2!A:G,6,FALSE))","v":""},""]
[{"$f":"IF(OR(C1628=\"\",ISBLANK(C1628)),\"\",VLOOKUP(C1628,Sheet2!A:F,2,FALSE))","v":""},{"$f":"IF(OR(C1628=\"\",ISBLANK(C1628)),\"\",VLOOKUP(C1628,Sheet2!A:G,4,FALSE))","v":""},null,null,{"$f":"IF(OR(C1628=\"\",ISBLANK(C1628)),\"\",VLOOKUP(C1628,Sheet2!A:F,3,FALSE))","v":""},{"$f":"IF(OR(C1628=\"\",ISBLANK(C1628)),\"\",VLOOKUP(C1628,Sheet2!A:G,6,FALSE))","v":""},""]
[{"$f":"IF(OR(C1629=\"\",ISBLANK(C1629)),\"\",VLOOKUP(C1629,Sheet2!A:F,2,FALSE))","v":""},{"$f":"IF(OR(C1629=\"\",ISBLANK(C1629)),\"\",VLOOKUP(C1629,Sheet2!A:G,4,FALSE))","v":""},null,null,{"$f":"IF(OR(C1629=\"\",ISBLANK(C1629)),\"\",VLOOKUP(C1629,Sheet2!A:F,3,FALSE))","v":""},{"$f":"IF(OR(C1629=\"\",ISBLANK(C1629)),\"\",VLOOKUP(C1629,Sheet2!A:G,6,FALSE))","v":""},""]
[{"$f":"IF(OR(C1630=\"\",ISBLANK(C1630)),\"\",VLOOKUP(C1630,Sheet2!A:F,2,FALSE))","v":""},{"$f":"IF(OR(C1630=\"\",ISBLANK(C1630)),\"\",VLOOKUP(C1630,Sheet2!A:G,4,FALSE))","v":""},null,null,{"$f":"IF(OR(C1630=\"\",ISBLANK(C1630)),\"\",VLOOKUP(C1630,Sheet2!A:F,3,FALSE))","v":""},{"$f":"IF(OR(C1630=\"\",ISBLANK(C1630)),\"\",VLOOKUP(C1630,Sheet2!A:G,6,FALSE))","v":""},""]
[{"$f":"IF(OR(C1631=\"\",ISBLANK(C1631)),\"\",VLOOKUP(C1631,Sheet2!A:F,2,FALSE))","v":""},{"$f":"IF(OR(C1631=\"\",ISBLANK(C1631)),\"\",VLOOKUP(C1631,Sheet2!A:G,4,FALSE))","v":""},null,null,{"$f":"IF(OR(C1631=\"\",ISBLANK(C1631)),\"\",VLOOKUP(C1631,Sheet2!A:F,3,FALSE))","v":""},{"$f":"IF(OR(C1631=\"\",ISBLANK(C1631)),\"\",VLOOKUP(C1631,Sheet2!A:G,6,FALSE))","v":""},""]
[{"$f":"IF(OR(C1632=\"\",ISBLANK(C1632)),\"\",VLOOKUP(C1632,Sheet2!A:F,2,FALSE))","v":""},{"$f":"IF(OR(C1632=\"\",ISBLANK(C1632)),\"\",VLOOKUP(C1632,Sheet2!A:G,4,FALSE))","v":""},null,null,{"$f":"IF(OR(C1632=\"\",ISBLANK(C1632)),\"\",VLOOKUP(C1632,Sheet2!A:F,3,FALSE))","v":""},{"$f":"IF(OR(C1632=\"\",ISBLANK(C1632)),\"\",VLOOKUP(C1632,Sheet2!A:G,6,FALSE))","v":""},""]
[{"$f":"IF(OR(C1633=\"\",ISBLANK(C1633)),\"\",VLOOKUP(C1633,Sheet2!A:F,2,FALSE))","v":""},{"$f":"IF(OR(C1633=\"\",ISBLANK(C1633)),\"\",VLOOKUP(C1633,Sheet2!A:G,4,FALSE))","v":""},null,null,{"$f":"IF(OR(C1633=\"\",ISBLANK(C1633)),\"\",VLOOKUP(C1633,Sheet2!A:F,3,FALSE))","v":""},{"$f":"IF(OR(C1633=\"\",ISBLANK(C1633)),\"\",VLOOKUP(C1633,Sheet2!A:G,6,FALSE))","v":""},""]
[{"$f":"IF(OR(C1634=\"\",ISBLANK(C1634)),\"\",VLOOKUP(C1634,Sheet2!A:F,2,FALSE))","v":""},{"$f":"IF(OR(C1634=\"\",ISBLANK(C1634)),\"\",VLOOKUP(C1634,Sheet2!A:G,4,FALSE))","v":""},null,null,{"$f":"IF(OR(C1634=\"\",ISBLANK(C1634)),\"\",VLOOKUP(C1634,Sheet2!A:F,3,FALSE))","v":""},{"$f":"IF(OR(C1634=\"\",ISBLANK(C1634)),\"\",VLOOKUP(C1634,Sheet2!A:G,6,FALSE))","v":""},""]
[{"$f":"IF(OR(C1635=\"\",ISBLANK(C1635)),\"\",VLOOKUP(C1635,Sheet2!A:F,2,FALSE))","v":""},{"$f":"IF(OR(C1635=\"\",ISBLANK(C1635)),\"\",VLOOKUP(C1635,Sheet2!A:G,4,FALSE))","v":""},null,null,{"$f":"IF(OR(C1635=\"\",ISBLANK(C1635)),\"\",VLOOKUP(C1635,Sheet2!A:F,3,FALSE))","v":""},{"$f":"IF(OR(C1635=\"\",ISBLANK(C1635)),\"\",VLOOKUP(C1635,Sheet2!A:G,6,FALSE))","v":""},""]
[{"$f":"IF(OR(C1636=\"\",ISBLANK(C1636)),\"\",VLOOKUP(C1636,Sheet2!A:F,2,FALSE))","v":""},{"$f":"IF(OR(C1636=\"\",ISBLANK(C1636)),\"\",VLOOKUP(C1636,Sheet2!A:G,4,FALSE))","v":""},null,null,{"$f":"IF(OR(C1636=\"\",ISBLANK(C1636)),\"\",VLOOKUP(C1636,Sheet2!A:F,3,FALSE))","v":""},{"$f":"IF(OR(C1636=\"\",ISBLANK(C1636)),\"\",VLOOKUP(C1636,Sheet2!A:G,6,FALSE))","v":""},""]
[{"$f":"IF(OR(C1637=\"\",ISBLANK(C1637)),\"\",VLOOKUP(C1637,Sheet2!A:F,2,FALSE))","v":""},{"$f":"IF(OR(C1637=\"\",ISBLANK(C1637)),\"\",VLOOKUP(C1637,Sheet2!A:G,4,FALSE))","v":""},null,null,{"$f":"IF(OR(C1637=\"\",ISBLANK(C1637)),\"\",VLOOKUP(C1637,Sheet2!A:F,3,FALSE))","v":""},{"$f":"IF(OR(C1637=\"\",ISBLANK(C1637)),\"\",VLOOKUP(C1637,Sheet2!A:G,6,FALSE))","v":""},""]
[{"$f":"IF(OR(C1638=\"\",ISBLANK(C1638)),\"\",VLOOKUP(C1638,Sheet2!A:F,2,FALSE))","v":""},{"$f":"IF(OR(C1638=\"\",ISBLANK(C1638)),\"\",VLOOKUP(C1638,Sheet2!A:G,4,FALSE))","v":""},null,null,{"$f":"IF(OR(C1638=\"\",ISBLANK(C1638)),\"\",VLOOKUP(C1638,Sheet2!A:F,3,FALSE))","v":""},{"$f":"IF(OR(C1638=\"\",ISBLANK(C1638)),\"\",VLOOKUP(C1638,Sheet2!A:G,6,FALSE))","v":""},""]
[{"$f":"IF(OR(C1639=\"\",ISBLANK(C1639)),\"\",VLOOKUP(C1639,Sheet2!A:F,2,FALSE))","v":""},{"$f":"IF(OR(C1639=\"\",ISBLANK(C1639)),\"\",VLOOKUP(C1639,Sheet2!A:G,4,FALSE))","v":""},null,null,{"$f":"IF(OR(C1639=\"\",ISBLANK(C1639)),\"\",VLOOKUP(C1639,Sheet2!A:F,3,FALSE))","v":""},{"$f":"IF(OR(C1639=\"\",ISBLANK(C1639)),\"\",VLOOKUP(C1639,Sheet2!A:G,6,FALSE))","v":""},""]
[{"$f":"IF(OR(C1640=\"\",ISBLANK(C1640)),\"\",VLOOKUP(C1640,Sheet2!A:F,2,FALSE))","v":""},{"$f":"IF(OR(C1640=\"\",ISBLANK(C1640)),\"\",VLOOKUP(C1640,Sheet2!A:G,4,FALSE))","v":""},null,null,{"$f":"IF(OR(C1640=\"\",ISBLANK(C1640)),\"\",VLOOKUP(C1640,Sheet2!A:F,3,FALSE))","v":""},{"$f":"IF(OR(C1640=\"\",ISBLANK(C1640)),\"\",VLOOKUP(C1640,Sheet2!A:G,6,FALSE))","v":""},""]
[{"$f":"IF(OR(C1641=\"\",ISBLANK(C1641)),\"\",VLOOKUP(C1641,Sheet2!A:F,2,FALSE))","v":""},{"$f":"IF(OR(C1641=\"\",ISBLANK(C1641)),\"\",VLOOKUP(C1641,Sheet2!A:G,4,FALSE))","v":""},null,null,{"$f":"IF(OR(C1641=\"\",ISBLANK(C1641)),\"\",VLOOKUP(C1641,Sheet2!A:F,3,FALSE))","v":""},{"$f":"IF(OR(C1641=\"\",ISBLANK(C1641)),\"\",VLOOKUP(C1641,Sheet2!A:G,6,FALSE))","v":""},""]
[{"$f":"IF(OR(C1642=\"\",ISBLANK(C1642)),\"\",VLOOKUP(C1642,Sheet2!A:F,2,FALSE))","v":""},{"$f":"IF(OR(C1642=\"\",ISBLANK(C1642)),\"\",VLOOKUP(C1642,Sheet2!A:G,4,FALSE))","v":""},null,null,{"$f":"IF(OR(C1642=\"\",ISBLANK(C1642)),\"\",VLOOKUP(C1642,Sheet2!A:F,3,FALSE))","v":""},{"$f":"IF(OR(C1642=\"\",ISBLANK(C1642)),\"\",VLOOKUP(C1642,Sheet2!A:G,6,FALSE))","v":""},""]
[{"$f":"IF(OR(C1643=\"\",ISBLANK(C1643)),\"\",VLOOKUP(C1643,Sheet2!A:F,2,FALSE))","v":""},{"$f":"IF(OR(C1643=\"\",ISBLANK(C1643)),\"\",VLOOKUP(C1643,Sheet2!A:G,4,FALSE))","v":""},null,null,{"$f":"IF(OR(C1643=\"\",ISBLANK(C1643)),\"\",VLOOKUP(C1643,Sheet2!A:F,3,FALSE))","v":""},{"$f":"IF(OR(C1643=\"\",ISBLANK(C1643)),\"\",VLOOKUP(C1643,Sheet2!A:G,6,FALSE))","v":""},""]
[{"$f":"IF(OR(C1644=\"\",ISBLANK(C1644)),\"\",VLOOKUP(C1644,Sheet2!A:F,2,FALSE))","v":""},{"$f":"IF(OR(C1644=\"\",ISBLANK(C1644)),\"\",VLOOKUP(C1644,Sheet2!A:G,4,FALSE))","v":""},null,null,{"$f":"IF(OR(C1644=\"\",ISBLANK(C1644)),\"\",VLOOKUP(C1644,Sheet2!A:F,3,FALSE))","v":""},{"$f":"IF(OR(C1644=\"\",ISBLANK(C1644)),\"\",VLOOKUP(C1644,Sheet2!A:G,6,FALSE))","v":""},""]
[{"$f":"IF(OR(C1645=\"\",ISBLANK(C1645)),\"\",VLOOKUP(C1645,Sheet2!A:F,2,FALSE))","v":""},{"$f":"IF(OR(C1645=\"\",ISBLANK(C1645)),\"\",VLOOKUP(C1645,Sheet2!A:G,4,FALSE))","v":""},null,null,{"$f":"IF(OR(C1645=\"\",ISBLANK(C1645)),\"\",VLOOKUP(C1645,Sheet2!A:F,3,FALSE))","v":""},{"$f":"IF(OR(C1645=\"\",ISBLANK(C1645)),\"\",VLOOKUP(C1645,Sheet2!A:G,6,FALSE))","v":""},""]
[{"$f":"IF(OR(C1646=\"\",ISBLANK(C1646)),\"\",VLOOKUP(C1646,Sheet2!A:F,2,FALSE))","v":""},{"$f":"IF(OR(C1646=\"\",ISBLANK(C1646)),\"\",VLOOKUP(C1646,Sheet2!A:G,4,FALSE))","v":""},null,null,{"$f":"IF(OR(C1646=\"\",ISBLANK(C1646)),\"\",VLOOKUP(C1646,Sheet2!A:F,3,FALSE))","v":""},{"$f":"IF(OR(C1646=\"\",ISBLANK(C1646)),\"\",VLOOKUP(C1646,Sheet2!A:G,6,FALSE))","v":""},""]
[{"$f":"IF(OR(C1647=\"\",ISBLANK(C1647)),\"\",VLOOKUP(C1647,Sheet2!A:F,2,FALSE))","v":""},{"$f":"IF(OR(C1647=\"\",ISBLANK(C1647)),\"\",VLOOKUP(C1647,Sheet2!A:G,4,FALSE))","v":""},null,null,{"$f":"IF(OR(C1647=\"\",ISBLANK(C1647)),\"\",VLOOKUP(C1647,Sheet2!A:F,3,FALSE))","v":""},{"$f":"IF(OR(C1647=\"\",ISBLANK(C1647)),\"\",VLOOKUP(C1647,Sheet2!A:G,6,FALSE))","v":""},""]
[{"$f":"IF(OR(C1648=\"\",ISBLANK(C1648)),\"\",VLOOKUP(C1648,Sheet2!A:F,2,FALSE))","v":""},{"$f":"IF(OR(C1648=\"\",ISBLANK(C1648)),\"\",VLOOKUP(C1648,Sheet2!A:G,4,FALSE))","v":""},null,null,{"$f":"IF(OR(C1648=\"\",ISBLANK(C1648)),\"\",VLOOKUP(C1648,Sheet2!A:F,3,FALSE))","v":""},{"$f":"IF(OR(C1648=\"\",ISBLANK(C1648)),\"\",VLOOKUP(C1648,Sheet2!A:G,6,FALSE))","v":""},""]
[{"$f":"IF(OR(C1649=\"\",ISBLANK(C1649)),\"\",VLOOKUP(C1649,Sheet2!A:F,2,FALSE))","v":""},{"$f":"IF(OR(C1649=\"\",ISBLANK(C1649)),\"\",VLOOKUP(C1649,Sheet2!A:G,4,FALSE))","v":""},null,null,{"$f":"IF(OR(C1649=\"\",ISBLANK(C1649)),\"\",VLOOKUP(C1649,Sheet2!A:F,3,FALSE))","v":""},{"$f":"IF(OR(C1649=\"\",ISBLANK(C1649)),\"\",VLOOKUP(C1649,Sheet2!A:G,6,FALSE))","v":""},""]
[{"$f":"IF(OR(C1650=\"\",ISBLANK(C1650)),\"\",VLOOKUP(C1650,Sheet2!A:F,2,FALSE))","v":""},{"$f":"IF(OR(C1650=\"\",ISBLANK(C1650)),\"\",VLOOKUP(C1650,Sheet2!A:G,4,FALSE))","v":""},null,null,{"$f":"IF(OR(C1650=\"\",ISBLANK(C1650)),\"\",VLOOKUP(C1650,Sheet2!A:F,3,FALSE))","v":""},{"$f":"IF(OR(C1650=\"\",ISBLANK(C1650)),\"\",VLOOKUP(C1650,Sheet2!A:G,6,FALSE))","v":""},""]
[{"$f":"IF(OR(C1651=\"\",ISBLANK(C1651)),\"\",VLOOKUP(C1651,Sheet2!A:F,2,FALSE))","v":""},{"$f":"IF(OR(C1651=\"\",ISBLANK(C1651)),\"\",VLOOKUP(C1651,Sheet2!A:G,4,FALSE))","v":""},null,null,{"$f":"IF(OR(C1651=\"\",ISBLANK(C1651)),\"\",VLOOKUP(C1651,Sheet2!A:F,3,FALSE))","v":""},{"$f":"IF(OR(C1651=\"\",ISBLANK(C1651)),\"\",VLOOKUP(C1651,Sheet2!A:G,6,FALSE))","v":""},""]
[{"$f":"IF(OR(C1652=\"\",ISBLANK(C1652)),\"\",VLOOKUP(C1652,Sheet2!A:F,2,FALSE))","v":""},{"$f":"IF(OR(C1652=\"\",ISBLANK(C1652)),\"\",VLOOKUP(C1652,Sheet2!A:G,4,FALSE))","v":""},null,null,{"$f":"IF(OR(C1652=\"\",ISBLANK(C1652)),\"\",VLOOKUP(C1652,Sheet2!A:F,3,FALSE))","v":""},{"$f":"IF(OR(C1652=\"\",ISBLANK(C1652)),\"\",VLOOKUP(C1652,Sheet2!A:G,6,FALSE))","v":""},""]
[{"$f":"IF(OR(C1653=\"\",ISBLANK(C1653)),\"\",VLOOKUP(C1653,Sheet2!A:F,2,FALSE))","v":""},{"$f":"IF(OR(C1653=\"\",ISBLANK(C1653)),\"\",VLOOKUP(C1653,Sheet2!A:G,4,FALSE))","v":""},null,null,{"$f":"IF(OR(C1653=\"\",ISBLANK(C1653)),\"\",VLOOKUP(C1653,Sheet2!A:F,3,FALSE))","v":""},{"$f":"IF(OR(C1653=\"\",ISBLANK(C1653)),\"\",VLOOKUP(C1653,Sheet2!A:G,6,FALSE))","v":""},""]
[{"$f":"IF(OR(C1654=\"\",ISBLANK(C1654)),\"\",VLOOKUP(C1654,Sheet2!A:F,2,FALSE))","v":""},{"$f":"IF(OR(C1654=\"\",ISBLANK(C1654)),\"\",VLOOKUP(C1654,Sheet2!A:G,4,FALSE))","v":""},null,null,{"$f":"IF(OR(C1654=\"\",ISBLANK(C1654)),\"\",VLOOKUP(C1654,Sheet2!A:F,3,FALSE))","v":""},{"$f":"IF(OR(C1654=\"\",ISBLANK(C1654)),\"\",VLOOKUP(C1654,Sheet2!A:G,6,FALSE))","v":""},""]
[{"$f":"IF(OR(C1655=\"\",ISBLANK(C1655)),\"\",VLOOKUP(C1655,Sheet2!A:F,2,FALSE))","v":""},{"$f":"IF(OR(C1655=\"\",ISBLANK(C1655)),\"\",VLOOKUP(C1655,Sheet2!A:G,4,FALSE))","v":""},null,null,{"$f":"IF(OR(C1655=\"\",ISBLANK(C1655)),\"\",VLOOKUP(C1655,Sheet2!A:F,3,FALSE))","v":""},{"$f":"IF(OR(C1655=\"\",ISBLANK(C1655)),\"\",VLOOKUP(C1655,Sheet2!A:G,6,FALSE))","v":""},""]
[{"$f":"IF(OR(C1656=\"\",ISBLANK(C1656)),\"\",VLOOKUP(C1656,Sheet2!A:F,2,FALSE))","v":""},{"$f":"IF(OR(C1656=\"\",ISBLANK(C1656)),\"\",VLOOKUP(C1656,Sheet2!A:G,4,FALSE))","v":""},null,null,{"$f":"IF(OR(C1656=\"\",ISBLANK(C1656)),\"\",VLOOKUP(C1656,Sheet2!A:F,3,FALSE))","v":""},{"$f":"IF(OR(C1656=\"\",ISBLANK(C1656)),\"\",VLOOKUP(C1656,Sheet2!A:G,6,FALSE))","v":""},""]
[{"$f":"IF(OR(C1657=\"\",ISBLANK(C1657)),\"\",VLOOKUP(C1657,Sheet2!A:F,2,FALSE))","v":""},{"$f":"IF(OR(C1657=\"\",ISBLANK(C1657)),\"\",VLOOKUP(C1657,Sheet2!A:G,4,FALSE))","v":""},null,null,{"$f":"IF(OR(C1657=\"\",ISBLANK(C1657)),\"\",VLOOKUP(C1657,Sheet2!A:F,3,FALSE))","v":""},{"$f":"IF(OR(C1657=\"\",ISBLANK(C1657)),\"\",VLOOKUP(C1657,Sheet2!A:G,6,FALSE))","v":""},""]
[{"$f":"IF(OR(C1658=\"\",ISBLANK(C1658)),\"\",VLOOKUP(C1658,Sheet2!A:F,2,FALSE))","v":""},{"$f":"IF(OR(C1658=\"\",ISBLANK(C1658)),\"\",VLOOKUP(C1658,Sheet2!A:G,4,FALSE))","v":""},null,null,{"$f":"IF(OR(C1658=\"\",ISBLANK(C1658)),\"\",VLOOKUP(C1658,Sheet2!A:F,3,FALSE))","v":""},{"$f":"IF(OR(C1658=\"\",ISBLANK(C1658)),\"\",VLOOKUP(C1658,Sheet2!A:G,6,FALSE))","v":""},""]
[{"$f":"IF(OR(C1659=\"\",ISBLANK(C1659)),\"\",VLOOKUP(C1659,Sheet2!A:F,2,FALSE))","v":""},{"$f":"IF(OR(C1659=\"\",ISBLANK(C1659)),\"\",VLOOKUP(C1659,Sheet2!A:G,4,FALSE))","v":""},null,null,{"$f":"IF(OR(C1659=\"\",ISBLANK(C1659)),\"\",VLOOKUP(C1659,Sheet2!A:F,3,FALSE))","v":""},{"$f":"IF(OR(C1659=\"\",ISBLANK(C1659)),\"\",VLOOKUP(C1659,Sheet2!A:G,6,FALSE))","v":""},""]
[{"$f":"IF(OR(C1660=\"\",ISBLANK(C1660)),\"\",VLOOKUP(C1660,Sheet2!A:F,2,FALSE))","v":""},{"$f":"IF(OR(C1660=\"\",ISBLANK(C1660)),\"\",VLOOKUP(C1660,Sheet2!A:G,4,FALSE))","v":""},null,null,{"$f":"IF(OR(C1660=\"\",ISBLANK(C1660)),\"\",VLOOKUP(C1660,Sheet2!A:F,3,FALSE))","v":""},{"$f":"IF(OR(C1660=\"\",ISBLANK(C1660)),\"\",VLOOKUP(C1660,Sheet2!A:G,6,FALSE))","v":""},""]
[{"$f":"IF(OR(C1661=\"\",ISBLANK(C1661)),\"\",VLOOKUP(C1661,Sheet2!A:F,2,FALSE))","v":""},{"$f":"IF(OR(C1661=\"\",ISBLANK(C1661)),\"\",VLOOKUP(C1661,Sheet2!A:G,4,FALSE))","v":""},null,null,{"$f":"IF(OR(C1661=\"\",ISBLANK(C1661)),\"\",VLOOKUP(C1661,Sheet2!A:F,3,FALSE))","v":""},{"$f":"IF(OR(C1661=\"\",ISBLANK(C1661)),\"\",VLOOKUP(C1661,Sheet2!A:G,6,FALSE))","v":""},""]
[{"$f":"IF(OR(C1662=\"\",ISBLANK(C1662)),\"\",VLOOKUP(C1662,Sheet2!A:F,2,FALSE))","v":""},{"$f":"IF(OR(C1662=\"\",ISBLANK(C1662)),\"\",VLOOKUP(C1662,Sheet2!A:G,4,FALSE))","v":""},null,null,{"$f":"IF(OR(C1662=\"\",ISBLANK(C1662)),\"\",VLOOKUP(C1662,Sheet2!A:F,3,FALSE))","v":""},{"$f":"IF(OR(C1662=\"\",ISBLANK(C1662)),\"\",VLOOKUP(C1662,Sheet2!A:G,6,FALSE))","v":""},""]
[{"$f":"IF(OR(C1663=\"\",ISBLANK(C1663)),\"\",VLOOKUP(C1663,Sheet2!A:F,2,FALSE))","v":""},{"$f":"IF(OR(C1663=\"\",ISBLANK(C1663)),\"\",VLOOKUP(C1663,Sheet2!A:G,4,FALSE))","v":""},null,null,{"$f":"IF(OR(C1663=\"\",ISBLANK(C1663)),\"\",VLOOKUP(C1663,Sheet2!A:F,3,FALSE))","v":""},{"$f":"IF(OR(C1663=\"\",ISBLANK(C1663)),\"\",VLOOKUP(C1663,Sheet2!A:G,6,FALSE))","v":""},""]
[{"$f":"IF(OR(C1664=\"\",ISBLANK(C1664)),\"\",VLOOKUP(C1664,Sheet2!A:F,2,FALSE))","v":""},{"$f":"IF(OR(C1664=\"\",ISBLANK(C1664)),\"\",VLOOKUP(C1664,Sheet2!A:G,4,FALSE))","v":""},null,null,{"$f":"IF(OR(C1664=\"\",ISBLANK(C1664)),\"\",VLOOKUP(C1664,Sheet2!A:F,3,FALSE))","v":""},{"$f":"IF(OR(C1664=\"\",ISBLANK(C1664)),\"\",VLOOKUP(C1664,Sheet2!A:G,6,FALSE))","v":""},""]
[{"$f":"IF(OR(C1665=\"\",ISBLANK(C1665)),\"\",VLOOKUP(C1665,Sheet2!A:F,2,FALSE))","v":""},{"$f":"IF(OR(C1665=\"\",ISBLANK(C1665)),\"\",VLOOKUP(C1665,Sheet2!A:G,4,FALSE))","v":""},null,null,{"$f":"IF(OR(C1665=\"\",ISBLANK(C1665)),\"\",VLOOKUP(C1665,Sheet2!A:F,3,FALSE))","v":""},{"$f":"IF(OR(C1665=\"\",ISBLANK(C1665)),\"\",VLOOKUP(C1665,Sheet2!A:G,6,FALSE))","v":""},""]
[{"$f":"IF(OR(C1666=\"\",ISBLANK(C1666)),\"\",VLOOKUP(C1666,Sheet2!A:F,2,FALSE))","v":""},{"$f":"IF(OR(C1666=\"\",ISBLANK(C1666)),\"\",VLOOKUP(C1666,Sheet2!A:G,4,FALSE))","v":""},null,null,{"$f":"IF(OR(C1666=\"\",ISBLANK(C1666)),\"\",VLOOKUP(C1666,Sheet2!A:F,3,FALSE))","v":""},{"$f":"IF(OR(C1666=\"\",ISBLANK(C1666)),\"\",VLOOKUP(C1666,Sheet2!A:G,6,FALSE))","v":""},""]
[{"$f":"IF(OR(C1667=\"\",ISBLANK(C1667)),\"\",VLOOKUP(C1667,Sheet2!A:F,2,FALSE))","v":""},{"$f":"IF(OR(C1667=\"\",ISBLANK(C1667)),\"\",VLOOKUP(C1667,Sheet2!A:G,4,FALSE))","v":""},null,null,{"$f":"IF(OR(C1667=\"\",ISBLANK(C1667)),\"\",VLOOKUP(C1667,Sheet2!A:F,3,FALSE))","v":""},{"$f":"IF(OR(C1667=\"\",ISBLANK(C1667)),\"\",VLOOKUP(C1667,Sheet2!A:G,6,FALSE))","v":""},{"$f":"IF(F1667=0,\"\",F1667)","v":""}]
[{"$f":"IF(OR(C1668=\"\",ISBLANK(C1668)),\"\",VLOOKUP(C1668,Sheet2!A:F,2,FALSE))","v":""},{"$f":"IF(OR(C1668=\"\",ISBLANK(C1668)),\"\",VLOOKUP(C1668,Sheet2!A:G,4,FALSE))","v":""},null,null,{"$f":"IF(OR(C1668=\"\",ISBLANK(C1668)),\"\",VLOOKUP(C1668,Sheet2!A:F,3,FALSE))","v":""},{"$f":"IF(OR(C1668=\"\",ISBLANK(C1668)),\"\",VLOOKUP(C1668,Sheet2!A:G,6,FALSE))","v":""},""]
[{"$f":"IF(OR(C1669=\"\",ISBLANK(C1669)),\"\",VLOOKUP(C1669,Sheet2!A:F,2,FALSE))","v":""},{"$f":"IF(OR(C1669=\"\",ISBLANK(C1669)),\"\",VLOOKUP(C1669,Sheet2!A:G,4,FALSE))","v":""},null,null,{"$f":"IF(OR(C1669=\"\",ISBLANK(C1669)),\"\",VLOOKUP(C1669,Sheet2!A:F,3,FALSE))","v":""},{"$f":"IF(OR(C1669=\"\",ISBLANK(C1669)),\"\",VLOOKUP(C1669,Sheet2!A:G,6,FALSE))","v":""},""]
[{"$f":"IF(OR(C1670=\"\",ISBLANK(C1670)),\"\",VLOOKUP(C1670,Sheet2!A:F,2,FALSE))","v":""},{"$f":"IF(OR(C1670=\"\",ISBLANK(C1670)),\"\",VLOOKUP(C1670,Sheet2!A:G,4,FALSE))","v":""},null,null,{"$f":"IF(OR(C1670=\"\",ISBLANK(C1670)),\"\",VLOOKUP(C1670,Sheet2!A:F,3,FALSE))","v":""},{"$f":"IF(OR(C1670=\"\",ISBLANK(C1670)),\"\",VLOOKUP(C1670,Sheet2!A:G,6,FALSE))","v":""},""]
[{"$f":"IF(OR(C1671=\"\",ISBLANK(C1671)),\"\",VLOOKUP(C1671,Sheet2!A:F,2,FALSE))","v":""},{"$f":"IF(OR(C1671=\"\",ISBLANK(C1671)),\"\",VLOOKUP(C1671,Sheet2!A:G,4,FALSE))","v":""},null,null,{"$f":"IF(OR(C1671=\"\",ISBLANK(C1671)),\"\",VLOOKUP(C1671,Sheet2!A:F,3,FALSE))","v":""},{"$f":"IF(OR(C1671=\"\",ISBLANK(C1671)),\"\",VLOOKUP(C1671,Sheet2!A:G,6,FALSE))","v":""},""]
[{"$f":"IF(OR(C1672=\"\",ISBLANK(C1672)),\"\",VLOOKUP(C1672,Sheet2!A:F,2,FALSE))","v":""},{"$f":"IF(OR(C1672=\"\",ISBLANK(C1672)),\"\",VLOOKUP(C1672,Sheet2!A:G,4,FALSE))","v":""},null,null,{"$f":"IF(OR(C1672=\"\",ISBLANK(C1672)),\"\",VLOOKUP(C1672,Sheet2!A:F,3,FALSE))","v":""},{"$f":"IF(OR(C1672=\"\",ISBLANK(C1672)),\"\",VLOOKUP(C1672,Sheet2!A:G,6,FALSE))","v":""},""]
[{"$f":"IF(OR(C1673=\"\",ISBLANK(C1673)),\"\",VLOOKUP(C1673,Sheet2!A:F,2,FALSE))","v":""},{"$f":"IF(OR(C1673=\"\",ISBLANK(C1673)),\"\",VLOOKUP(C1673,Sheet2!A:G,4,FALSE))","v":""},null,null,{"$f":"IF(OR(C1673=\"\",ISBLANK(C1673)),\"\",VLOOKUP(C1673,Sheet2!A:F,3,FALSE))","v":""},{"$f":"IF(OR(C1673=\"\",ISBLANK(C1673)),\"\",VLOOKUP(C1673,Sheet2!A:G,6,FALSE))","v":""},""]
[{"$f":"IF(OR(C1674=\"\",ISBLANK(C1674)),\"\",VLOOKUP(C1674,Sheet2!A:F,2,FALSE))","v":""},{"$f":"IF(OR(C1674=\"\",ISBLANK(C1674)),\"\",VLOOKUP(C1674,Sheet2!A:G,4,FALSE))","v":""},null,null,{"$f":"IF(OR(C1674=\"\",ISBLANK(C1674)),\"\",VLOOKUP(C1674,Sheet2!A:F,3,FALSE))","v":""},{"$f":"IF(OR(C1674=\"\",ISBLANK(C1674)),\"\",VLOOKUP(C1674,Sheet2!A:G,6,FALSE))","v":""},""]
[{"$f":"IF(OR(C1675=\"\",ISBLANK(C1675)),\"\",VLOOKUP(C1675,Sheet2!A:F,2,FALSE))","v":""},{"$f":"IF(OR(C1675=\"\",ISBLANK(C1675)),\"\",VLOOKUP(C1675,Sheet2!A:G,4,FALSE))","v":""},null,null,{"$f":"IF(OR(C1675=\"\",ISBLANK(C1675)),\"\",VLOOKUP(C1675,Sheet2!A:F,3,FALSE))","v":""},{"$f":"IF(OR(C1675=\"\",ISBLANK(C1675)),\"\",VLOOKUP(C1675,Sheet2!A:G,6,FALSE))","v":""},""]
[{"$f":"IF(OR(C1676=\"\",ISBLANK(C1676)),\"\",VLOOKUP(C1676,Sheet2!A:F,2,FALSE))","v":""},{"$f":"IF(OR(C1676=\"\",ISBLANK(C1676)),\"\",VLOOKUP(C1676,Sheet2!A:G,4,FALSE))","v":""},null,null,{"$f":"IF(OR(C1676=\"\",ISBLANK(C1676)),\"\",VLOOKUP(C1676,Sheet2!A:F,3,FALSE))","v":""},{"$f":"IF(OR(C1676=\"\",ISBLANK(C1676)),\"\",VLOOKUP(C1676,Sheet2!A:G,6,FALSE))","v":""},""]
[{"$f":"IF(OR(C1677=\"\",ISBLANK(C1677)),\"\",VLOOKUP(C1677,Sheet2!A:F,2,FALSE))","v":""},{"$f":"IF(OR(C1677=\"\",ISBLANK(C1677)),\"\",VLOOKUP(C1677,Sheet2!A:G,4,FALSE))","v":""},null,null,{"$f":"IF(OR(C1677=\"\",ISBLANK(C1677)),\"\",VLOOKUP(C1677,Sheet2!A:F,3,FALSE))","v":""},{"$f":"IF(OR(C1677=\"\",ISBLANK(C1677)),\"\",VLOOKUP(C1677,Sheet2!A:G,6,FALSE))","v":""},""]
[{"$f":"IF(OR(C1678=\"\",ISBLANK(C1678)),\"\",VLOOKUP(C1678,Sheet2!A:F,2,FALSE))","v":""},{"$f":"IF(OR(C1678=\"\",ISBLANK(C1678)),\"\",VLOOKUP(C1678,Sheet2!A:G,4,FALSE))","v":""},null,null,{"$f":"IF(OR(C1678=\"\",ISBLANK(C1678)),\"\",VLOOKUP(C1678,Sheet2!A:F,3,FALSE))","v":""},{"$f":"IF(OR(C1678=\"\",ISBLANK(C1678)),\"\",VLOOKUP(C1678,Sheet2!A:G,6,FALSE))","v":""},""]
[{"$f":"IF(OR(C1679=\"\",ISBLANK(C1679)),\"\",VLOOKUP(C1679,Sheet2!A:F,2,FALSE))","v":""},{"$f":"IF(OR(C1679=\"\",ISBLANK(C1679)),\"\",VLOOKUP(C1679,Sheet2!A:G,4,FALSE))","v":""},null,null,{"$f":"IF(OR(C1679=\"\",ISBLANK(C1679)),\"\",VLOOKUP(C1679,Sheet2!A:F,3,FALSE))","v":""},{"$f":"IF(OR(C1679=\"\",ISBLANK(C1679)),\"\",VLOOKUP(C1679,Sheet2!A:G,6,FALSE))","v":""},""]
[{"$f":"IF(OR(C1680=\"\",ISBLANK(C1680)),\"\",VLOOKUP(C1680,Sheet2!A:F,2,FALSE))","v":""},{"$f":"IF(OR(C1680=\"\",ISBLANK(C1680)),\"\",VLOOKUP(C1680,Sheet2!A:G,4,FALSE))","v":""},null,null,{"$f":"IF(OR(C1680=\"\",ISBLANK(C1680)),\"\",VLOOKUP(C1680,Sheet2!A:F,3,FALSE))","v":""},{"$f":"IF(OR(C1680=\"\",ISBLANK(C1680)),\"\",VLOOKUP(C1680,Sheet2!A:G,6,FALSE))","v":""},""]
[{"$f":"IF(OR(C1681=\"\",ISBLANK(C1681)),\"\",VLOOKUP(C1681,Sheet2!A:F,2,FALSE))","v":""},{"$f":"IF(OR(C1681=\"\",ISBLANK(C1681)),\"\",VLOOKUP(C1681,Sheet2!A:G,4,FALSE))","v":""},null,null,{"$f":"IF(OR(C1681=\"\",ISBLANK(C1681)),\"\",VLOOKUP(C1681,Sheet2!A:F,3,FALSE))","v":""},{"$f":"IF(OR(C1681=\"\",ISBLANK(C1681)),\"\",VLOOKUP(C1681,Sheet2!A:G,6,FALSE))","v":""},""]
[{"$f":"IF(OR(C1682=\"\",ISBLANK(C1682)),\"\",VLOOKUP(C1682,Sheet2!A:F,2,FALSE))","v":""},{"$f":"IF(OR(C1682=\"\",ISBLANK(C1682)),\"\",VLOOKUP(C1682,Sheet2!A:G,4,FALSE))","v":""},null,null,{"$f":"IF(OR(C1682=\"\",ISBLANK(C1682)),\"\",VLOOKUP(C1682,Sheet2!A:F,3,FALSE))","v":""},{"$f":"IF(OR(C1682=\"\",ISBLANK(C1682)),\"\",VLOOKUP(C1682,Sheet2!A:G,6,FALSE))","v":""},""]
[{"$f":"IF(OR(C1683=\"\",ISBLANK(C1683)),\"\",VLOOKUP(C1683,Sheet2!A:F,2,FALSE))","v":""},{"$f":"IF(OR(C1683=\"\",ISBLANK(C1683)),\"\",VLOOKUP(C1683,Sheet2!A:G,4,FALSE))","v":""},null,null,{"$f":"IF(OR(C1683=\"\",ISBLANK(C1683)),\"\",VLOOKUP(C1683,Sheet2!A:F,3,FALSE))","v":""},{"$f":"IF(OR(C1683=\"\",ISBLANK(C1683)),\"\",VLOOKUP(C1683,Sheet2!A:G,6,FALSE))","v":""},""]
[{"$f":"IF(OR(C1684=\"\",ISBLANK(C1684)),\"\",VLOOKUP(C1684,Sheet2!A:F,2,FALSE))","v":""},{"$f":"IF(OR(C1684=\"\",ISBLANK(C1684)),\"\",VLOOKUP(C1684,Sheet2!A:G,4,FALSE))","v":""},null,null,{"$f":"IF(OR(C1684=\"\",ISBLANK(C1684)),\"\",VLOOKUP(C1684,Sheet2!A:F,3,FALSE))","v":""},{"$f":"IF(OR(C1684=\"\",ISBLANK(C1684)),\"\",VLOOKUP(C1684,Sheet2!A:G,6,FALSE))","v":""},""]
[{"$f":"IF(OR(C1685=\"\",ISBLANK(C1685)),\"\",VLOOKUP(C1685,Sheet2!A:F,2,FALSE))","v":""},{"$f":"IF(OR(C1685=\"\",ISBLANK(C1685)),\"\",VLOOKUP(C1685,Sheet2!A:G,4,FALSE))","v":""},null,null,{"$f":"IF(OR(C1685=\"\",ISBLANK(C1685)),\"\",VLOOKUP(C1685,Sheet2!A:F,3,FALSE))","v":""},{"$f":"IF(OR(C1685=\"\",ISBLANK(C1685)),\"\",VLOOKUP(C1685,Sheet2!A:G,6,FALSE))","v":""},""]
[{"$f":"IF(OR(C1686=\"\",ISBLANK(C1686)),\"\",VLOOKUP(C1686,Sheet2!A:F,2,FALSE))","v":""},{"$f":"IF(OR(C1686=\"\",ISBLANK(C1686)),\"\",VLOOKUP(C1686,Sheet2!A:G,4,FALSE))","v":""},null,null,{"$f":"IF(OR(C1686=\"\",ISBLANK(C1686)),\"\",VLOOKUP(C1686,Sheet2!A:F,3,FALSE))","v":""},{"$f":"IF(OR(C1686=\"\",ISBLANK(C1686)),\"\",VLOOKUP(C1686,Sheet2!A:G,6,FALSE))","v":""},""]
[{"$f":"IF(OR(C1687=\"\",ISBLANK(C1687)),\"\",VLOOKUP(C1687,Sheet2!A:F,2,FALSE))","v":""},{"$f":"IF(OR(C1687=\"\",ISBLANK(C1687)),\"\",VLOOKUP(C1687,Sheet2!A:G,4,FALSE))","v":""},null,null,{"$f":"IF(OR(C1687=\"\",ISBLANK(C1687)),\"\",VLOOKUP(C1687,Sheet2!A:F,3,FALSE))","v":""},{"$f":"IF(OR(C1687=\"\",ISBLANK(C1687)),\"\",VLOOKUP(C1687,Sheet2!A:G,6,FALSE))","v":""},""]
[{"$f":"IF(OR(C1688=\"\",ISBLANK(C1688)),\"\",VLOOKUP(C1688,Sheet2!A:F,2,FALSE))","v":""},{"$f":"IF(OR(C1688=\"\",ISBLANK(C1688)),\"\",VLOOKUP(C1688,Sheet2!A:G,4,FALSE))","v":""},null,null,{"$f":"IF(OR(C1688=\"\",ISBLANK(C1688)),\"\",VLOOKUP(C1688,Sheet2!A:F,3,FALSE))","v":""},{"$f":"IF(OR(C1688=\"\",ISBLANK(C1688)),\"\",VLOOKUP(C1688,Sheet2!A:G,6,FALSE))","v":""},""]
[{"$f":"IF(OR(C1689=\"\",ISBLANK(C1689)),\"\",VLOOKUP(C1689,Sheet2!A:F,2,FALSE))","v":""},{"$f":"IF(OR(C1689=\"\",ISBLANK(C1689)),\"\",VLOOKUP(C1689,Sheet2!A:G,4,FALSE))","v":""},null,null,{"$f":"IF(OR(C1689=\"\",ISBLANK(C1689)),\"\",VLOOKUP(C1689,Sheet2!A:F,3,FALSE))","v":""},{"$f":"IF(OR(C1689=\"\",ISBLANK(C1689)),\"\",VLOOKUP(C1689,Sheet2!A:G,6,FALSE))","v":""},""]
[{"$f":"IF(OR(C1690=\"\",ISBLANK(C1690)),\"\",VLOOKUP(C1690,Sheet2!A:F,2,FALSE))","v":""},{"$f":"IF(OR(C1690=\"\",ISBLANK(C1690)),\"\",VLOOKUP(C1690,Sheet2!A:G,4,FALSE))","v":""},null,null,{"$f":"IF(OR(C1690=\"\",ISBLANK(C1690)),\"\",VLOOKUP(C1690,Sheet2!A:F,3,FALSE))","v":""},{"$f":"IF(OR(C1690=\"\",ISBLANK(C1690)),\"\",VLOOKUP(C1690,Sheet2!A:G,6,FALSE))","v":""},""]
[{"$f":"IF(OR(C1691=\"\",ISBLANK(C1691)),\"\",VLOOKUP(C1691,Sheet2!A:F,2,FALSE))","v":""},{"$f":"IF(OR(C1691=\"\",ISBLANK(C1691)),\"\",VLOOKUP(C1691,Sheet2!A:G,4,FALSE))","v":""},null,null,{"$f":"IF(OR(C1691=\"\",ISBLANK(C1691)),\"\",VLOOKUP(C1691,Sheet2!A:F,3,FALSE))","v":""},{"$f":"IF(OR(C1691=\"\",ISBLANK(C1691)),\"\",VLOOKUP(C1691,Sheet2!A:G,6,FALSE))","v":""},""]
[{"$f":"IF(OR(C1692=\"\",ISBLANK(C1692)),\"\",VLOOKUP(C1692,Sheet2!A:F,2,FALSE))","v":""},{"$f":"IF(OR(C1692=\"\",ISBLANK(C1692)),\"\",VLOOKUP(C1692,Sheet2!A:G,4,FALSE))","v":""},null,null,{"$f":"IF(OR(C1692=\"\",ISBLANK(C1692)),\"\",VLOOKUP(C1692,Sheet2!A:F,3,FALSE))","v":""},{"$f":"IF(OR(C1692=\"\",ISBLANK(C1692)),\"\",VLOOKUP(C1692,Sheet2!A:G,6,FALSE))","v":""},""]
[{"$f":"IF(OR(C1693=\"\",ISBLANK(C1693)),\"\",VLOOKUP(C1693,Sheet2!A:F,2,FALSE))","v":""},{"$f":"IF(OR(C1693=\"\",ISBLANK(C1693)),\"\",VLOOKUP(C1693,Sheet2!A:G,4,FALSE))","v":""},null,null,{"$f":"IF(OR(C1693=\"\",ISBLANK(C1693)),\"\",VLOOKUP(C1693,Sheet2!A:F,3,FALSE))","v":""},{"$f":"IF(OR(C1693=\"\",ISBLANK(C1693)),\"\",VLOOKUP(C1693,Sheet2!A:G,6,FALSE))","v":""},""]
[{"$f":"IF(OR(C1694=\"\",ISBLANK(C1694)),\"\",VLOOKUP(C1694,Sheet2!A:F,2,FALSE))","v":""},{"$f":"IF(OR(C1694=\"\",ISBLANK(C1694)),\"\",VLOOKUP(C1694,Sheet2!A:G,4,FALSE))","v":""},null,null,{"$f":"IF(OR(C1694=\"\",ISBLANK(C1694)),\"\",VLOOKUP(C1694,Sheet2!A:F,3,FALSE))","v":""},{"$f":"IF(OR(C1694=\"\",ISBLANK(C1694)),\"\",VLOOKUP(C1694,Sheet2!A:G,6,FALSE))","v":""},""]
[{"$f":"IF(OR(C1695=\"\",ISBLANK(C1695)),\"\",VLOOKUP(C1695,Sheet2!A:F,2,FALSE))","v":""},{"$f":"IF(OR(C1695=\"\",ISBLANK(C1695)),\"\",VLOOKUP(C1695,Sheet2!A:G,4,FALSE))","v":""},null,null,{"$f":"IF(OR(C1695=\"\",ISBLANK(C1695)),\"\",VLOOKUP(C1695,Sheet2!A:F,3,FALSE))","v":""},{"$f":"IF(OR(C1695=\"\",ISBLANK(C1695)),\"\",VLOOKUP(C1695,Sheet2!A:G,6,FALSE))","v":""},""]
[{"$f":"IF(OR(C1696=\"\",ISBLANK(C1696)),\"\",VLOOKUP(C1696,Sheet2!A:F,2,FALSE))","v":""},{"$f":"IF(OR(C1696=\"\",ISBLANK(C1696)),\"\",VLOOKUP(C1696,Sheet2!A:G,4,FALSE))","v":""},null,null,{"$f":"IF(OR(C1696=\"\",ISBLANK(C1696)),\"\",VLOOKUP(C1696,Sheet2!A:F,3,FALSE))","v":""},{"$f":"IF(OR(C1696=\"\",ISBLANK(C1696)),\"\",VLOOKUP(C1696,Sheet2!A:G,6,FALSE))","v":""},""]
[{"$f":"IF(OR(C1697=\"\",ISBLANK(C1697)),\"\",VLOOKUP(C1697,Sheet2!A:F,2,FALSE))","v":""},{"$f":"IF(OR(C1697=\"\",ISBLANK(C1697)),\"\",VLOOKUP(C1697,Sheet2!A:G,4,FALSE))","v":""},null,null,{"$f":"IF(OR(C1697=\"\",ISBLANK(C1697)),\"\",VLOOKUP(C1697,Sheet2!A:F,3,FALSE))","v":""},{"$f":"IF(OR(C1697=\"\",ISBLANK(C1697)),\"\",VLOOKUP(C1697,Sheet2!A:G,6,FALSE))","v":""},""]
[{"$f":"IF(OR(C1698=\"\",ISBLANK(C1698)),\"\",VLOOKUP(C1698,Sheet2!A:F,2,FALSE))","v":""},{"$f":"IF(OR(C1698=\"\",ISBLANK(C1698)),\"\",VLOOKUP(C1698,Sheet2!A:G,4,FALSE))","v":""},null,null,{"$f":"IF(OR(C1698=\"\",ISBLANK(C1698)),\"\",VLOOKUP(C1698,Sheet2!A:F,3,FALSE))","v":""},{"$f":"IF(OR(C1698=\"\",ISBLANK(C1698)),\"\",VLOOKUP(C1698,Sheet2!A:G,6,FALSE))","v":""},""]
[{"$f":"IF(OR(C1699=\"\",ISBLANK(C1699)),\"\",VLOOKUP(C1699,Sheet2!A:F,2,FALSE))","v":""},{"$f":"IF(OR(C1699=\"\",ISBLANK(C1699)),\"\",VLOOKUP(C1699,Sheet2!A:G,4,FALSE))","v":""},null,null,{"$f":"IF(OR(C1699=\"\",ISBLANK(C1699)),\"\",VLOOKUP(C1699,Sheet2!A:F,3,FALSE))","v":""},{"$f":"IF(OR(C1699=\"\",ISBLANK(C1699)),\"\",VLOOKUP(C1699,Sheet2!A:G,6,FALSE))","v":""},""]
[{"$f":"IF(OR(C1700=\"\",ISBLANK(C1700)),\"\",VLOOKUP(C1700,Sheet2!A:F,2,FALSE))","v":""},{"$f":"IF(OR(C1700=\"\",ISBLANK(C1700)),\"\",VLOOKUP(C1700,Sheet2!A:G,4,FALSE))","v":""},null,null,{"$f":"IF(OR(C1700=\"\",ISBLANK(C1700)),\"\",VLOOKUP(C1700,Sheet2!A:F,3,FALSE))","v":""},{"$f":"IF(OR(C1700=\"\",ISBLANK(C1700)),\"\",VLOOKUP(C1700,Sheet2!A:G,6,FALSE))","v":""},""]
[{"$f":"IF(OR(C1701=\"\",ISBLANK(C1701)),\"\",VLOOKUP(C1701,Sheet2!A:F,2,FALSE))","v":""},{"$f":"IF(OR(C1701=\"\",ISBLANK(C1701)),\"\",VLOOKUP(C1701,Sheet2!A:G,4,FALSE))","v":""},null,null,{"$f":"IF(OR(C1701=\"\",ISBLANK(C1701)),\"\",VLOOKUP(C1701,Sheet2!A:F,3,FALSE))","v":""},{"$f":"IF(OR(C1701=\"\",ISBLANK(C1701)),\"\",VLOOKUP(C1701,Sheet2!A:G,6,FALSE))","v":""},""]
[{"$f":"IF(OR(C1702=\"\",ISBLANK(C1702)),\"\",VLOOKUP(C1702,Sheet2!A:F,2,FALSE))","v":""},{"$f":"IF(OR(C1702=\"\",ISBLANK(C1702)),\"\",VLOOKUP(C1702,Sheet2!A:G,4,FALSE))","v":""},null,null,{"$f":"IF(OR(C1702=\"\",ISBLANK(C1702)),\"\",VLOOKUP(C1702,Sheet2!A:F,3,FALSE))","v":""},{"$f":"IF(OR(C1702=\"\",ISBLANK(C1702)),\"\",VLOOKUP(C1702,Sheet2!A:G,6,FALSE))","v":""},""]
[{"$f":"IF(OR(C1703=\"\",ISBLANK(C1703)),\"\",VLOOKUP(C1703,Sheet2!A:F,2,FALSE))","v":""},{"$f":"IF(OR(C1703=\"\",ISBLANK(C1703)),\"\",VLOOKUP(C1703,Sheet2!A:G,4,FALSE))","v":""},null,null,{"$f":"IF(OR(C1703=\"\",ISBLANK(C1703)),\"\",VLOOKUP(C1703,Sheet2!A:F,3,FALSE))","v":""},{"$f":"IF(OR(C1703=\"\",ISBLANK(C1703)),\"\",VLOOKUP(C1703,Sheet2!A:G,6,FALSE))","v":""},""]
[{"$f":"IF(OR(C1704=\"\",ISBLANK(C1704)),\"\",VLOOKUP(C1704,Sheet2!A:F,2,FALSE))","v":""},{"$f":"IF(OR(C1704=\"\",ISBLANK(C1704)),\"\",VLOOKUP(C1704,Sheet2!A:G,4,FALSE))","v":""},null,null,{"$f":"IF(OR(C1704=\"\",ISBLANK(C1704)),\"\",VLOOKUP(C1704,Sheet2!A:F,3,FALSE))","v":""},{"$f":"IF(OR(C1704=\"\",ISBLANK(C1704)),\"\",VLOOKUP(C1704,Sheet2!A:G,6,FALSE))","v":""},""]
[{"$f":"IF(OR(C1705=\"\",ISBLANK(C1705)),\"\",VLOOKUP(C1705,Sheet2!A:F,2,FALSE))","v":""},{"$f":"IF(OR(C1705=\"\",ISBLANK(C1705)),\"\",VLOOKUP(C1705,Sheet2!A:G,4,FALSE))","v":""},null,null,{"$f":"IF(OR(C1705=\"\",ISBLANK(C1705)),\"\",VLOOKUP(C1705,Sheet2!A:F,3,FALSE))","v":""},{"$f":"IF(OR(C1705=\"\",ISBLANK(C1705)),\"\",VLOOKUP(C1705,Sheet2!A:G,6,FALSE))","v":""},""]
[{"$f":"IF(OR(C1706=\"\",ISBLANK(C1706)),\"\",VLOOKUP(C1706,Sheet2!A:F,2,FALSE))","v":""},{"$f":"IF(OR(C1706=\"\",ISBLANK(C1706)),\"\",VLOOKUP(C1706,Sheet2!A:G,4,FALSE))","v":""},null,null,{"$f":"IF(OR(C1706=\"\",ISBLANK(C1706)),\"\",VLOOKUP(C1706,Sheet2!A:F,3,FALSE))","v":""},{"$f":"IF(OR(C1706=\"\",ISBLANK(C1706)),\"\",VLOOKUP(C1706,Sheet2!A:G,6,FALSE))","v":""},""]
[{"$f":"IF(OR(C1707=\"\",ISBLANK(C1707)),\"\",VLOOKUP(C1707,Sheet2!A:F,2,FALSE))","v":""},{"$f":"IF(OR(C1707=\"\",ISBLANK(C1707)),\"\",VLOOKUP(C1707,Sheet2!A:G,4,FALSE))","v":""},null,null,{"$f":"IF(OR(C1707=\"\",ISBLANK(C1707)),\"\",VLOOKUP(C1707,Sheet2!A:F,3,FALSE))","v":""},{"$f":"IF(OR(C1707=\"\",ISBLANK(C1707)),\"\",VLOOKUP(C1707,Sheet2!A:G,6,FALSE))","v":""},""]
[{"$f":"IF(OR(C1708=\"\",ISBLANK(C1708)),\"\",VLOOKUP(C1708,Sheet2!A:F,2,FALSE))","v":""},{"$f":"IF(OR(C1708=\"\",ISBLANK(C1708)),\"\",VLOOKUP(C1708,Sheet2!A:G,4,FALSE))","v":""},null,null,{"$f":"IF(OR(C1708=\"\",ISBLANK(C1708)),\"\",VLOOKUP(C1708,Sheet2!A:F,3,FALSE))","v":""},{"$f":"IF(OR(C1708=\"\",ISBLANK(C1708)),\"\",VLOOKUP(C1708,Sheet2!A:G,6,FALSE))","v":""},""]
[{"$f":"IF(OR(C1709=\"\",ISBLANK(C1709)),\"\",VLOOKUP(C1709,Sheet2!A:F,2,FALSE))","v":""},{"$f":"IF(OR(C1709=\"\",ISBLANK(C1709)),\"\",VLOOKUP(C1709,Sheet2!A:G,4,FALSE))","v":""},null,null,{"$f":"IF(OR(C1709=\"\",ISBLANK(C1709)),\"\",VLOOKUP(C1709,Sheet2!A:F,3,FALSE))","v":""},{"$f":"IF(OR(C1709=\"\",ISBLANK(C1709)),\"\",VLOOKUP(C1709,Sheet2!A:G,6,FALSE))","v":""},""]
[{"$f":"IF(OR(C1710=\"\",ISBLANK(C1710)),\"\",VLOOKUP(C1710,Sheet2!A:F,2,FALSE))","v":""},{"$f":"IF(OR(C1710=\"\",ISBLANK(C1710)),\"\",VLOOKUP(C1710,Sheet2!A:G,4,FALSE))","v":""},null,null,{"$f":"IF(OR(C1710=\"\",ISBLANK(C1710)),\"\",VLOOKUP(C1710,Sheet2!A:F,3,FALSE))","v":""},{"$f":"IF(OR(C1710=\"\",ISBLANK(C1710)),\"\",VLOOKUP(C1710,Sheet2!A:G,6,FALSE))","v":""},""]
[{"$f":"IF(OR(C1711=\"\",ISBLANK(C1711)),\"\",VLOOKUP(C1711,Sheet2!A:F,2,FALSE))","v":""},{"$f":"IF(OR(C1711=\"\",ISBLANK(C1711)),\"\",VLOOKUP(C1711,Sheet2!A:G,4,FALSE))","v":""},null,null,{"$f":"IF(OR(C1711=\"\",ISBLANK(C1711)),\"\",VLOOKUP(C1711,Sheet2!A:F,3,FALSE))","v":""},{"$f":"IF(OR(C1711=\"\",ISBLANK(C1711)),\"\",VLOOKUP(C1711,Sheet2!A:G,6,FALSE))","v":""},""]
[{"$f":"IF(OR(C1712=\"\",ISBLANK(C1712)),\"\",VLOOKUP(C1712,Sheet2!A:F,2,FALSE))","v":""},{"$f":"IF(OR(C1712=\"\",ISBLANK(C1712)),\"\",VLOOKUP(C1712,Sheet2!A:G,4,FALSE))","v":""},null,null,{"$f":"IF(OR(C1712=\"\",ISBLANK(C1712)),\"\",VLOOKUP(C1712,Sheet2!A:F,3,FALSE))","v":""},{"$f":"IF(OR(C1712=\"\",ISBLANK(C1712)),\"\",VLOOKUP(C1712,Sheet2!A:G,6,FALSE))","v":""},""]
[{"$f":"IF(OR(C1713=\"\",ISBLANK(C1713)),\"\",VLOOKUP(C1713,Sheet2!A:F,2,FALSE))","v":""},{"$f":"IF(OR(C1713=\"\",ISBLANK(C1713)),\"\",VLOOKUP(C1713,Sheet2!A:G,4,FALSE))","v":""},null,null,{"$f":"IF(OR(C1713=\"\",ISBLANK(C1713)),\"\",VLOOKUP(C1713,Sheet2!A:F,3,FALSE))","v":""},{"$f":"IF(OR(C1713=\"\",ISBLANK(C1713)),\"\",VLOOKUP(C1713,Sheet2!A:G,6,FALSE))","v":""},""]
[{"$f":"IF(OR(C1714=\"\",ISBLANK(C1714)),\"\",VLOOKUP(C1714,Sheet2!A:F,2,FALSE))","v":""},{"$f":"IF(OR(C1714=\"\",ISBLANK(C1714)),\"\",VLOOKUP(C1714,Sheet2!A:G,4,FALSE))","v":""},null,null,{"$f":"IF(OR(C1714=\"\",ISBLANK(C1714)),\"\",VLOOKUP(C1714,Sheet2!A:F,3,FALSE))","v":""},{"$f":"IF(OR(C1714=\"\",ISBLANK(C1714)),\"\",VLOOKUP(C1714,Sheet2!A:G,6,FALSE))","v":""},""]
[{"$f":"IF(OR(C1715=\"\",ISBLANK(C1715)),\"\",VLOOKUP(C1715,Sheet2!A:F,2,FALSE))","v":""},{"$f":"IF(OR(C1715=\"\",ISBLANK(C1715)),\"\",VLOOKUP(C1715,Sheet2!A:G,4,FALSE))","v":""},null,null,{"$f":"IF(OR(C1715=\"\",ISBLANK(C1715)),\"\",VLOOKUP(C1715,Sheet2!A:F,3,FALSE))","v":""},{"$f":"IF(OR(C1715=\"\",ISBLANK(C1715)),\"\",VLOOKUP(C1715,Sheet2!A:G,6,FALSE))","v":""},""]
[{"$f":"IF(OR(C1716=\"\",ISBLANK(C1716)),\"\",VLOOKUP(C1716,Sheet2!A:F,2,FALSE))","v":""},{"$f":"IF(OR(C1716=\"\",ISBLANK(C1716)),\"\",VLOOKUP(C1716,Sheet2!A:G,4,FALSE))","v":""},null,null,{"$f":"IF(OR(C1716=\"\",ISBLANK(C1716)),\"\",VLOOKUP(C1716,Sheet2!A:F,3,FALSE))","v":""},{"$f":"IF(OR(C1716=\"\",ISBLANK(C1716)),\"\",VLOOKUP(C1716,Sheet2!A:G,6,FALSE))","v":""},""]
[{"$f":"IF(OR(C1717=\"\",ISBLANK(C1717)),\"\",VLOOKUP(C1717,Sheet2!A:F,2,FALSE))","v":""},{"$f":"IF(OR(C1717=\"\",ISBLANK(C1717)),\"\",VLOOKUP(C1717,Sheet2!A:G,4,FALSE))","v":""},null,null,{"$f":"IF(OR(C1717=\"\",ISBLANK(C1717)),\"\",VLOOKUP(C1717,Sheet2!A:F,3,FALSE))","v":""},{"$f":"IF(OR(C1717=\"\",ISBLANK(C1717)),\"\",VLOOKUP(C1717,Sheet2!A:G,6,FALSE))","v":""},""]
[{"$f":"IF(OR(C1718=\"\",ISBLANK(C1718)),\"\",VLOOKUP(C1718,Sheet2!A:F,2,FALSE))","v":""},{"$f":"IF(OR(C1718=\"\",ISBLANK(C1718)),\"\",VLOOKUP(C1718,Sheet2!A:G,4,FALSE))","v":""},null,null,{"$f":"IF(OR(C1718=\"\",ISBLANK(C1718)),\"\",VLOOKUP(C1718,Sheet2!A:F,3,FALSE))","v":""},{"$f":"IF(OR(C1718=\"\",ISBLANK(C1718)),\"\",VLOOKUP(C1718,Sheet2!A:G,6,FALSE))","v":""},""]
[{"$f":"IF(OR(C1719=\"\",ISBLANK(C1719)),\"\",VLOOKUP(C1719,Sheet2!A:F,2,FALSE))","v":""},{"$f":"IF(OR(C1719=\"\",ISBLANK(C1719)),\"\",VLOOKUP(C1719,Sheet2!A:G,4,FALSE))","v":""},null,null,{"$f":"IF(OR(C1719=\"\",ISBLANK(C1719)),\"\",VLOOKUP(C1719,Sheet2!A:F,3,FALSE))","v":""},{"$f":"IF(OR(C1719=\"\",ISBLANK(C1719)),\"\",VLOOKUP(C1719,Sheet2!A:G,6,FALSE))","v":""},""]
[{"$f":"IF(OR(C1720=\"\",ISBLANK(C1720)),\"\",VLOOKUP(C1720,Sheet2!A:F,2,FALSE))","v":""},{"$f":"IF(OR(C1720=\"\",ISBLANK(C1720)),\"\",VLOOKUP(C1720,Sheet2!A:G,4,FALSE))","v":""},null,null,{"$f":"IF(OR(C1720=\"\",ISBLANK(C1720)),\"\",VLOOKUP(C1720,Sheet2!A:F,3,FALSE))","v":""},{"$f":"IF(OR(C1720=\"\",ISBLANK(C1720)),\"\",VLOOKUP(C1720,Sheet2!A:G,6,FALSE))","v":""},""]
[{"$f":"IF(OR(C1721=\"\",ISBLANK(C1721)),\"\",VLOOKUP(C1721,Sheet2!A:F,2,FALSE))","v":""},{"$f":"IF(OR(C1721=\"\",ISBLANK(C1721)),\"\",VLOOKUP(C1721,Sheet2!A:G,4,FALSE))","v":""},null,null,{"$f":"IF(OR(C1721=\"\",ISBLANK(C1721)),\"\",VLOOKUP(C1721,Sheet2!A:F,3,FALSE))","v":""},{"$f":"IF(OR(C1721=\"\",ISBLANK(C1721)),\"\",VLOOKUP(C1721,Sheet2!A:G,6,FALSE))","v":""},""]
[{"$f":"IF(OR(C1722=\"\",ISBLANK(C1722)),\"\",VLOOKUP(C1722,Sheet2!A:F,2,FALSE))","v":""},{"$f":"IF(OR(C1722=\"\",ISBLANK(C1722)),\"\",VLOOKUP(C1722,Sheet2!A:G,4,FALSE))","v":""},null,null,{"$f":"IF(OR(C1722=\"\",ISBLANK(C1722)),\"\",VLOOKUP(C1722,Sheet2!A:F,3,FALSE))","v":""},{"$f":"IF(OR(C1722=\"\",ISBLANK(C1722)),\"\",VLOOKUP(C1722,Sheet2!A:G,6,FALSE))","v":""},""]
[{"$f":"IF(OR(C1723=\"\",ISBLANK(C1723)),\"\",VLOOKUP(C1723,Sheet2!A:F,2,FALSE))","v":""},{"$f":"IF(OR(C1723=\"\",ISBLANK(C1723)),\"\",VLOOKUP(C1723,Sheet2!A:G,4,FALSE))","v":""},null,null,{"$f":"IF(OR(C1723=\"\",ISBLANK(C1723)),\"\",VLOOKUP(C1723,Sheet2!A:F,3,FALSE))","v":""},{"$f":"IF(OR(C1723=\"\",ISBLANK(C1723)),\"\",VLOOKUP(C1723,Sheet2!A:G,6,FALSE))","v":""},""]
[{"$f":"IF(OR(C1724=\"\",ISBLANK(C1724)),\"\",VLOOKUP(C1724,Sheet2!A:F,2,FALSE))","v":""},{"$f":"IF(OR(C1724=\"\",ISBLANK(C1724)),\"\",VLOOKUP(C1724,Sheet2!A:G,4,FALSE))","v":""},null,null,{"$f":"IF(OR(C1724=\"\",ISBLANK(C1724)),\"\",VLOOKUP(C1724,Sheet2!A:F,3,FALSE))","v":""},{"$f":"IF(OR(C1724=\"\",ISBLANK(C1724)),\"\",VLOOKUP(C1724,Sheet2!A:G,6,FALSE))","v":""},""]
[{"$f":"IF(OR(C1725=\"\",ISBLANK(C1725)),\"\",VLOOKUP(C1725,Sheet2!A:F,2,FALSE))","v":""},{"$f":"IF(OR(C1725=\"\",ISBLANK(C1725)),\"\",VLOOKUP(C1725,Sheet2!A:G,4,FALSE))","v":""},null,null,{"$f":"IF(OR(C1725=\"\",ISBLANK(C1725)),\"\",VLOOKUP(C1725,Sheet2!A:F,3,FALSE))","v":""},{"$f":"IF(OR(C1725=\"\",ISBLANK(C1725)),\"\",VLOOKUP(C1725,Sheet2!A:G,6,FALSE))","v":""},""]
[{"$f":"IF(OR(C1726=\"\",ISBLANK(C1726)),\"\",VLOOKUP(C1726,Sheet2!A:F,2,FALSE))","v":""},{"$f":"IF(OR(C1726=\"\",ISBLANK(C1726)),\"\",VLOOKUP(C1726,Sheet2!A:G,4,FALSE))","v":""},null,null,{"$f":"IF(OR(C1726=\"\",ISBLANK(C1726)),\"\",VLOOKUP(C1726,Sheet2!A:F,3,FALSE))","v":""},{"$f":"IF(OR(C1726=\"\",ISBLANK(C1726)),\"\",VLOOKUP(C1726,Sheet2!A:G,6,FALSE))","v":""},""]
[{"$f":"IF(OR(C1727=\"\",ISBLANK(C1727)),\"\",VLOOKUP(C1727,Sheet2!A:F,2,FALSE))","v":""},{"$f":"IF(OR(C1727=\"\",ISBLANK(C1727)),\"\",VLOOKUP(C1727,Sheet2!A:G,4,FALSE))","v":""},null,null,{"$f":"IF(OR(C1727=\"\",ISBLANK(C1727)),\"\",VLOOKUP(C1727,Sheet2!A:F,3,FALSE))","v":""},{"$f":"IF(OR(C1727=\"\",ISBLANK(C1727)),\"\",VLOOKUP(C1727,Sheet2!A:G,6,FALSE))","v":""},""]
[{"$f":"IF(OR(C1728=\"\",ISBLANK(C1728)),\"\",VLOOKUP(C1728,Sheet2!A:F,2,FALSE))","v":""},{"$f":"IF(OR(C1728=\"\",ISBLANK(C1728)),\"\",VLOOKUP(C1728,Sheet2!A:G,4,FALSE))","v":""},null,null,{"$f":"IF(OR(C1728=\"\",ISBLANK(C1728)),\"\",VLOOKUP(C1728,Sheet2!A:F,3,FALSE))","v":""},{"$f":"IF(OR(C1728=\"\",ISBLANK(C1728)),\"\",VLOOKUP(C1728,Sheet2!A:G,6,FALSE))","v":""},""]
[{"$f":"IF(OR(C1729=\"\",ISBLANK(C1729)),\"\",VLOOKUP(C1729,Sheet2!A:F,2,FALSE))","v":""},{"$f":"IF(OR(C1729=\"\",ISBLANK(C1729)),\"\",VLOOKUP(C1729,Sheet2!A:G,4,FALSE))","v":""},null,null,{"$f":"IF(OR(C1729=\"\",ISBLANK(C1729)),\"\",VLOOKUP(C1729,Sheet2!A:F,3,FALSE))","v":""},{"$f":"IF(OR(C1729=\"\",ISBLANK(C1729)),\"\",VLOOKUP(C1729,Sheet2!A:G,6,FALSE))","v":""},""]
[{"$f":"IF(OR(C1730=\"\",ISBLANK(C1730)),\"\",VLOOKUP(C1730,Sheet2!A:F,2,FALSE))","v":""},{"$f":"IF(OR(C1730=\"\",ISBLANK(C1730)),\"\",VLOOKUP(C1730,Sheet2!A:G,4,FALSE))","v":""},null,null,{"$f":"IF(OR(C1730=\"\",ISBLANK(C1730)),\"\",VLOOKUP(C1730,Sheet2!A:F,3,FALSE))","v":""},{"$f":"IF(OR(C1730=\"\",ISBLANK(C1730)),\"\",VLOOKUP(C1730,Sheet2!A:G,6,FALSE))","v":""},""]
[{"$f":"IF(OR(C1731=\"\",ISBLANK(C1731)),\"\",VLOOKUP(C1731,Sheet2!A:F,2,FALSE))","v":""},{"$f":"IF(OR(C1731=\"\",ISBLANK(C1731)),\"\",VLOOKUP(C1731,Sheet2!A:G,4,FALSE))","v":""},null,null,{"$f":"IF(OR(C1731=\"\",ISBLANK(C1731)),\"\",VLOOKUP(C1731,Sheet2!A:F,3,FALSE))","v":""},{"$f":"IF(OR(C1731=\"\",ISBLANK(C1731)),\"\",VLOOKUP(C1731,Sheet2!A:G,6,FALSE))","v":""},{"$f":"IF(F1731=0,\"\",F1731)","v":""}]
[{"$f":"IF(OR(C1732=\"\",ISBLANK(C1732)),\"\",VLOOKUP(C1732,Sheet2!A:F,2,FALSE))","v":""},{"$f":"IF(OR(C1732=\"\",ISBLANK(C1732)),\"\",VLOOKUP(C1732,Sheet2!A:G,4,FALSE))","v":""},null,null,{"$f":"IF(OR(C1732=\"\",ISBLANK(C1732)),\"\",VLOOKUP(C1732,Sheet2!A:F,3,FALSE))","v":""},{"$f":"IF(OR(C1732=\"\",ISBLANK(C1732)),\"\",VLOOKUP(C1732,Sheet2!A:G,6,FALSE))","v":""},""]
[{"$f":"IF(OR(C1733=\"\",ISBLANK(C1733)),\"\",VLOOKUP(C1733,Sheet2!A:F,2,FALSE))","v":""},{"$f":"IF(OR(C1733=\"\",ISBLANK(C1733)),\"\",VLOOKUP(C1733,Sheet2!A:G,4,FALSE))","v":""},null,null,{"$f":"IF(OR(C1733=\"\",ISBLANK(C1733)),\"\",VLOOKUP(C1733,Sheet2!A:F,3,FALSE))","v":""},{"$f":"IF(OR(C1733=\"\",ISBLANK(C1733)),\"\",VLOOKUP(C1733,Sheet2!A:G,6,FALSE))","v":""},""]
[{"$f":"IF(OR(C1734=\"\",ISBLANK(C1734)),\"\",VLOOKUP(C1734,Sheet2!A:F,2,FALSE))","v":""},{"$f":"IF(OR(C1734=\"\",ISBLANK(C1734)),\"\",VLOOKUP(C1734,Sheet2!A:G,4,FALSE))","v":""},null,null,{"$f":"IF(OR(C1734=\"\",ISBLANK(C1734)),\"\",VLOOKUP(C1734,Sheet2!A:F,3,FALSE))","v":""},{"$f":"IF(OR(C1734=\"\",ISBLANK(C1734)),\"\",VLOOKUP(C1734,Sheet2!A:G,6,FALSE))","v":""},""]
[{"$f":"IF(OR(C1735=\"\",ISBLANK(C1735)),\"\",VLOOKUP(C1735,Sheet2!A:F,2,FALSE))","v":""},{"$f":"IF(OR(C1735=\"\",ISBLANK(C1735)),\"\",VLOOKUP(C1735,Sheet2!A:G,4,FALSE))","v":""},null,null,{"$f":"IF(OR(C1735=\"\",ISBLANK(C1735)),\"\",VLOOKUP(C1735,Sheet2!A:F,3,FALSE))","v":""},{"$f":"IF(OR(C1735=\"\",ISBLANK(C1735)),\"\",VLOOKUP(C1735,Sheet2!A:G,6,FALSE))","v":""},""]
[{"$f":"IF(OR(C1736=\"\",ISBLANK(C1736)),\"\",VLOOKUP(C1736,Sheet2!A:F,2,FALSE))","v":""},{"$f":"IF(OR(C1736=\"\",ISBLANK(C1736)),\"\",VLOOKUP(C1736,Sheet2!A:G,4,FALSE))","v":""},null,null,{"$f":"IF(OR(C1736=\"\",ISBLANK(C1736)),\"\",VLOOKUP(C1736,Sheet2!A:F,3,FALSE))","v":""},{"$f":"IF(OR(C1736=\"\",ISBLANK(C1736)),\"\",VLOOKUP(C1736,Sheet2!A:G,6,FALSE))","v":""},""]
[{"$f":"IF(OR(C1737=\"\",ISBLANK(C1737)),\"\",VLOOKUP(C1737,Sheet2!A:F,2,FALSE))","v":""},{"$f":"IF(OR(C1737=\"\",ISBLANK(C1737)),\"\",VLOOKUP(C1737,Sheet2!A:G,4,FALSE))","v":""},null,null,{"$f":"IF(OR(C1737=\"\",ISBLANK(C1737)),\"\",VLOOKUP(C1737,Sheet2!A:F,3,FALSE))","v":""},{"$f":"IF(OR(C1737=\"\",ISBLANK(C1737)),\"\",VLOOKUP(C1737,Sheet2!A:G,6,FALSE))","v":""},""]
[{"$f":"IF(OR(C1738=\"\",ISBLANK(C1738)),\"\",VLOOKUP(C1738,Sheet2!A:F,2,FALSE))","v":""},{"$f":"IF(OR(C1738=\"\",ISBLANK(C1738)),\"\",VLOOKUP(C1738,Sheet2!A:G,4,FALSE))","v":""},null,null,{"$f":"IF(OR(C1738=\"\",ISBLANK(C1738)),\"\",VLOOKUP(C1738,Sheet2!A:F,3,FALSE))","v":""},{"$f":"IF(OR(C1738=\"\",ISBLANK(C1738)),\"\",VLOOKUP(C1738,Sheet2!A:G,6,FALSE))","v":""},""]
[{"$f":"IF(OR(C1739=\"\",ISBLANK(C1739)),\"\",VLOOKUP(C1739,Sheet2!A:F,2,FALSE))","v":""},{"$f":"IF(OR(C1739=\"\",ISBLANK(C1739)),\"\",VLOOKUP(C1739,Sheet2!A:G,4,FALSE))","v":""},null,null,{"$f":"IF(OR(C1739=\"\",ISBLANK(C1739)),\"\",VLOOKUP(C1739,Sheet2!A:F,3,FALSE))","v":""},{"$f":"IF(OR(C1739=\"\",ISBLANK(C1739)),\"\",VLOOKUP(C1739,Sheet2!A:G,6,FALSE))","v":""},""]
[{"$f":"IF(OR(C1740=\"\",ISBLANK(C1740)),\"\",VLOOKUP(C1740,Sheet2!A:F,2,FALSE))","v":""},{"$f":"IF(OR(C1740=\"\",ISBLANK(C1740)),\"\",VLOOKUP(C1740,Sheet2!A:G,4,FALSE))","v":""},null,null,{"$f":"IF(OR(C1740=\"\",ISBLANK(C1740)),\"\",VLOOKUP(C1740,Sheet2!A:F,3,FALSE))","v":""},{"$f":"IF(OR(C1740=\"\",ISBLANK(C1740)),\"\",VLOOKUP(C1740,Sheet2!A:G,6,FALSE))","v":""},""]
[{"$f":"IF(OR(C1741=\"\",ISBLANK(C1741)),\"\",VLOOKUP(C1741,Sheet2!A:F,2,FALSE))","v":""},{"$f":"IF(OR(C1741=\"\",ISBLANK(C1741)),\"\",VLOOKUP(C1741,Sheet2!A:G,4,FALSE))","v":""},null,null,{"$f":"IF(OR(C1741=\"\",ISBLANK(C1741)),\"\",VLOOKUP(C1741,Sheet2!A:F,3,FALSE))","v":""},{"$f":"IF(OR(C1741=\"\",ISBLANK(C1741)),\"\",VLOOKUP(C1741,Sheet2!A:G,6,FALSE))","v":""},""]
[{"$f":"IF(OR(C1742=\"\",ISBLANK(C1742)),\"\",VLOOKUP(C1742,Sheet2!A:F,2,FALSE))","v":""},{"$f":"IF(OR(C1742=\"\",ISBLANK(C1742)),\"\",VLOOKUP(C1742,Sheet2!A:G,4,FALSE))","v":""},null,null,{"$f":"IF(OR(C1742=\"\",ISBLANK(C1742)),\"\",VLOOKUP(C1742,Sheet2!A:F,3,FALSE))","v":""},{"$f":"IF(OR(C1742=\"\",ISBLANK(C1742)),\"\",VLOOKUP(C1742,Sheet2!A:G,6,FALSE))","v":""},""]
[{"$f":"IF(OR(C1743=\"\",ISBLANK(C1743)),\"\",VLOOKUP(C1743,Sheet2!A:F,2,FALSE))","v":""},{"$f":"IF(OR(C1743=\"\",ISBLANK(C1743)),\"\",VLOOKUP(C1743,Sheet2!A:G,4,FALSE))","v":""},null,null,{"$f":"IF(OR(C1743=\"\",ISBLANK(C1743)),\"\",VLOOKUP(C1743,Sheet2!A:F,3,FALSE))","v":""},{"$f":"IF(OR(C1743=\"\",ISBLANK(C1743)),\"\",VLOOKUP(C1743,Sheet2!A:G,6,FALSE))","v":""},""]
[{"$f":"IF(OR(C1744=\"\",ISBLANK(C1744)),\"\",VLOOKUP(C1744,Sheet2!A:F,2,FALSE))","v":""},{"$f":"IF(OR(C1744=\"\",ISBLANK(C1744)),\"\",VLOOKUP(C1744,Sheet2!A:G,4,FALSE))","v":""},null,null,{"$f":"IF(OR(C1744=\"\",ISBLANK(C1744)),\"\",VLOOKUP(C1744,Sheet2!A:F,3,FALSE))","v":""},{"$f":"IF(OR(C1744=\"\",ISBLANK(C1744)),\"\",VLOOKUP(C1744,Sheet2!A:G,6,FALSE))","v":""},""]
[{"$f":"IF(OR(C1745=\"\",ISBLANK(C1745)),\"\",VLOOKUP(C1745,Sheet2!A:F,2,FALSE))","v":""},{"$f":"IF(OR(C1745=\"\",ISBLANK(C1745)),\"\",VLOOKUP(C1745,Sheet2!A:G,4,FALSE))","v":""},null,null,{"$f":"IF(OR(C1745=\"\",ISBLANK(C1745)),\"\",VLOOKUP(C1745,Sheet2!A:F,3,FALSE))","v":""},{"$f":"IF(OR(C1745=\"\",ISBLANK(C1745)),\"\",VLOOKUP(C1745,Sheet2!A:G,6,FALSE))","v":""},""]
[{"$f":"IF(OR(C1746=\"\",ISBLANK(C1746)),\"\",VLOOKUP(C1746,Sheet2!A:F,2,FALSE))","v":""},{"$f":"IF(OR(C1746=\"\",ISBLANK(C1746)),\"\",VLOOKUP(C1746,Sheet2!A:G,4,FALSE))","v":""},null,null,{"$f":"IF(OR(C1746=\"\",ISBLANK(C1746)),\"\",VLOOKUP(C1746,Sheet2!A:F,3,FALSE))","v":""},{"$f":"IF(OR(C1746=\"\",ISBLANK(C1746)),\"\",VLOOKUP(C1746,Sheet2!A:G,6,FALSE))","v":""},""]
[{"$f":"IF(OR(C1747=\"\",ISBLANK(C1747)),\"\",VLOOKUP(C1747,Sheet2!A:F,2,FALSE))","v":""},{"$f":"IF(OR(C1747=\"\",ISBLANK(C1747)),\"\",VLOOKUP(C1747,Sheet2!A:G,4,FALSE))","v":""},null,null,{"$f":"IF(OR(C1747=\"\",ISBLANK(C1747)),\"\",VLOOKUP(C1747,Sheet2!A:F,3,FALSE))","v":""},{"$f":"IF(OR(C1747=\"\",ISBLANK(C1747)),\"\",VLOOKUP(C1747,Sheet2!A:G,6,FALSE))","v":""},""]
[{"$f":"IF(OR(C1748=\"\",ISBLANK(C1748)),\"\",VLOOKUP(C1748,Sheet2!A:F,2,FALSE))","v":""},{"$f":"IF(OR(C1748=\"\",ISBLANK(C1748)),\"\",VLOOKUP(C1748,Sheet2!A:G,4,FALSE))","v":""},null,null,{"$f":"IF(OR(C1748=\"\",ISBLANK(C1748)),\"\",VLOOKUP(C1748,Sheet2!A:F,3,FALSE))","v":""},{"$f":"IF(OR(C1748=\"\",ISBLANK(C1748)),\"\",VLOOKUP(C1748,Sheet2!A:G,6,FALSE))","v":""},""]
[{"$f":"IF(OR(C1749=\"\",ISBLANK(C1749)),\"\",VLOOKUP(C1749,Sheet2!A:F,2,FALSE))","v":""},{"$f":"IF(OR(C1749=\"\",ISBLANK(C1749)),\"\",VLOOKUP(C1749,Sheet2!A:G,4,FALSE))","v":""},null,null,{"$f":"IF(OR(C1749=\"\",ISBLANK(C1749)),\"\",VLOOKUP(C1749,Sheet2!A:F,3,FALSE))","v":""},{"$f":"IF(OR(C1749=\"\",ISBLANK(C1749)),\"\",VLOOKUP(C1749,Sheet2!A:G,6,FALSE))","v":""},""]
[{"$f":"IF(OR(C1750=\"\",ISBLANK(C1750)),\"\",VLOOKUP(C1750,Sheet2!A:F,2,FALSE))","v":""},{"$f":"IF(OR(C1750=\"\",ISBLANK(C1750)),\"\",VLOOKUP(C1750,Sheet2!A:G,4,FALSE))","v":""},null,null,{"$f":"IF(OR(C1750=\"\",ISBLANK(C1750)),\"\",VLOOKUP(C1750,Sheet2!A:F,3,FALSE))","v":""},{"$f":"IF(OR(C1750=\"\",ISBLANK(C1750)),\"\",VLOOKUP(C1750,Sheet2!A:G,6,FALSE))","v":""},""]
[{"$f":"IF(OR(C1751=\"\",ISBLANK(C1751)),\"\",VLOOKUP(C1751,Sheet2!A:F,2,FALSE))","v":""},{"$f":"IF(OR(C1751=\"\",ISBLANK(C1751)),\"\",VLOOKUP(C1751,Sheet2!A:G,4,FALSE))","v":""},null,null,{"$f":"IF(OR(C1751=\"\",ISBLANK(C1751)),\"\",VLOOKUP(C1751,Sheet2!A:F,3,FALSE))","v":""},{"$f":"IF(OR(C1751=\"\",ISBLANK(C1751)),\"\",VLOOKUP(C1751,Sheet2!A:G,6,FALSE))","v":""},""]
[{"$f":"IF(OR(C1752=\"\",ISBLANK(C1752)),\"\",VLOOKUP(C1752,Sheet2!A:F,2,FALSE))","v":""},{"$f":"IF(OR(C1752=\"\",ISBLANK(C1752)),\"\",VLOOKUP(C1752,Sheet2!A:G,4,FALSE))","v":""},null,null,{"$f":"IF(OR(C1752=\"\",ISBLANK(C1752)),\"\",VLOOKUP(C1752,Sheet2!A:F,3,FALSE))","v":""},{"$f":"IF(OR(C1752=\"\",ISBLANK(C1752)),\"\",VLOOKUP(C1752,Sheet2!A:G,6,FALSE))","v":""},""]
[{"$f":"IF(OR(C1753=\"\",ISBLANK(C1753)),\"\",VLOOKUP(C1753,Sheet2!A:F,2,FALSE))","v":""},{"$f":"IF(OR(C1753=\"\",ISBLANK(C1753)),\"\",VLOOKUP(C1753,Sheet2!A:G,4,FALSE))","v":""},null,null,{"$f":"IF(OR(C1753=\"\",ISBLANK(C1753)),\"\",VLOOKUP(C1753,Sheet2!A:F,3,FALSE))","v":""},{"$f":"IF(OR(C1753=\"\",ISBLANK(C1753)),\"\",VLOOKUP(C1753,Sheet2!A:G,6,FALSE))","v":""},""]
[{"$f":"IF(OR(C1754=\"\",ISBLANK(C1754)),\"\",VLOOKUP(C1754,Sheet2!A:F,2,FALSE))","v":""},{"$f":"IF(OR(C1754=\"\",ISBLANK(C1754)),\"\",VLOOKUP(C1754,Sheet2!A:G,4,FALSE))","v":""},null,null,{"$f":"IF(OR(C1754=\"\",ISBLANK(C1754)),\"\",VLOOKUP(C1754,Sheet2!A:F,3,FALSE))","v":""},{"$f":"IF(OR(C1754=\"\",ISBLANK(C1754)),\"\",VLOOKUP(C1754,Sheet2!A:G,6,FALSE))","v":""},""]
[{"$f":"IF(OR(C1755=\"\",ISBLANK(C1755)),\"\",VLOOKUP(C1755,Sheet2!A:F,2,FALSE))","v":""},{"$f":"IF(OR(C1755=\"\",ISBLANK(C1755)),\"\",VLOOKUP(C1755,Sheet2!A:G,4,FALSE))","v":""},null,null,{"$f":"IF(OR(C1755=\"\",ISBLANK(C1755)),\"\",VLOOKUP(C1755,Sheet2!A:F,3,FALSE))","v":""},{"$f":"IF(OR(C1755=\"\",ISBLANK(C1755)),\"\",VLOOKUP(C1755,Sheet2!A:G,6,FALSE))","v":""},""]
[{"$f":"IF(OR(C1756=\"\",ISBLANK(C1756)),\"\",VLOOKUP(C1756,Sheet2!A:F,2,FALSE))","v":""},{"$f":"IF(OR(C1756=\"\",ISBLANK(C1756)),\"\",VLOOKUP(C1756,Sheet2!A:G,4,FALSE))","v":""},null,null,{"$f":"IF(OR(C1756=\"\",ISBLANK(C1756)),\"\",VLOOKUP(C1756,Sheet2!A:F,3,FALSE))","v":""},{"$f":"IF(OR(C1756=\"\",ISBLANK(C1756)),\"\",VLOOKUP(C1756,Sheet2!A:G,6,FALSE))","v":""},""]
[{"$f":"IF(OR(C1757=\"\",ISBLANK(C1757)),\"\",VLOOKUP(C1757,Sheet2!A:F,2,FALSE))","v":""},{"$f":"IF(OR(C1757=\"\",ISBLANK(C1757)),\"\",VLOOKUP(C1757,Sheet2!A:G,4,FALSE))","v":""},null,null,{"$f":"IF(OR(C1757=\"\",ISBLANK(C1757)),\"\",VLOOKUP(C1757,Sheet2!A:F,3,FALSE))","v":""},{"$f":"IF(OR(C1757=\"\",ISBLANK(C1757)),\"\",VLOOKUP(C1757,Sheet2!A:G,6,FALSE))","v":""},""]
[{"$f":"IF(OR(C1758=\"\",ISBLANK(C1758)),\"\",VLOOKUP(C1758,Sheet2!A:F,2,FALSE))","v":""},{"$f":"IF(OR(C1758=\"\",ISBLANK(C1758)),\"\",VLOOKUP(C1758,Sheet2!A:G,4,FALSE))","v":""},null,null,{"$f":"IF(OR(C1758=\"\",ISBLANK(C1758)),\"\",VLOOKUP(C1758,Sheet2!A:F,3,FALSE))","v":""},{"$f":"IF(OR(C1758=\"\",ISBLANK(C1758)),\"\",VLOOKUP(C1758,Sheet2!A:G,6,FALSE))","v":""},""]
[{"$f":"IF(OR(C1759=\"\",ISBLANK(C1759)),\"\",VLOOKUP(C1759,Sheet2!A:F,2,FALSE))","v":""},{"$f":"IF(OR(C1759=\"\",ISBLANK(C1759)),\"\",VLOOKUP(C1759,Sheet2!A:G,4,FALSE))","v":""},null,null,{"$f":"IF(OR(C1759=\"\",ISBLANK(C1759)),\"\",VLOOKUP(C1759,Sheet2!A:F,3,FALSE))","v":""},{"$f":"IF(OR(C1759=\"\",ISBLANK(C1759)),\"\",VLOOKUP(C1759,Sheet2!A:G,6,FALSE))","v":""},""]
[{"$f":"IF(OR(C1760=\"\",ISBLANK(C1760)),\"\",VLOOKUP(C1760,Sheet2!A:F,2,FALSE))","v":""},{"$f":"IF(OR(C1760=\"\",ISBLANK(C1760)),\"\",VLOOKUP(C1760,Sheet2!A:G,4,FALSE))","v":""},null,null,{"$f":"IF(OR(C1760=\"\",ISBLANK(C1760)),\"\",VLOOKUP(C1760,Sheet2!A:F,3,FALSE))","v":""},{"$f":"IF(OR(C1760=\"\",ISBLANK(C1760)),\"\",VLOOKUP(C1760,Sheet2!A:G,6,FALSE))","v":""},""]
[{"$f":"IF(OR(C1761=\"\",ISBLANK(C1761)),\"\",VLOOKUP(C1761,Sheet2!A:F,2,FALSE))","v":""},{"$f":"IF(OR(C1761=\"\",ISBLANK(C1761)),\"\",VLOOKUP(C1761,Sheet2!A:G,4,FALSE))","v":""},null,null,{"$f":"IF(OR(C1761=\"\",ISBLANK(C1761)),\"\",VLOOKUP(C1761,Sheet2!A:F,3,FALSE))","v":""},{"$f":"IF(OR(C1761=\"\",ISBLANK(C1761)),\"\",VLOOKUP(C1761,Sheet2!A:G,6,FALSE))","v":""},""]
[{"$f":"IF(OR(C1762=\"\",ISBLANK(C1762)),\"\",VLOOKUP(C1762,Sheet2!A:F,2,FALSE))","v":""},{"$f":"IF(OR(C1762=\"\",ISBLANK(C1762)),\"\",VLOOKUP(C1762,Sheet2!A:G,4,FALSE))","v":""},null,null,{"$f":"IF(OR(C1762=\"\",ISBLANK(C1762)),\"\",VLOOKUP(C1762,Sheet2!A:F,3,FALSE))","v":""},{"$f":"IF(OR(C1762=\"\",ISBLANK(C1762)),\"\",VLOOKUP(C1762,Sheet2!A:G,6,FALSE))","v":""},""]
[{"$f":"IF(OR(C1763=\"\",ISBLANK(C1763)),\"\",VLOOKUP(C1763,Sheet2!A:F,2,FALSE))","v":""},{"$f":"IF(OR(C1763=\"\",ISBLANK(C1763)),\"\",VLOOKUP(C1763,Sheet2!A:G,4,FALSE))","v":""},null,null,{"$f":"IF(OR(C1763=\"\",ISBLANK(C1763)),\"\",VLOOKUP(C1763,Sheet2!A:F,3,FALSE))","v":""},{"$f":"IF(OR(C1763=\"\",ISBLANK(C1763)),\"\",VLOOKUP(C1763,Sheet2!A:G,6,FALSE))","v":""},""]
[{"$f":"IF(OR(C1764=\"\",ISBLANK(C1764)),\"\",VLOOKUP(C1764,Sheet2!A:F,2,FALSE))","v":""},{"$f":"IF(OR(C1764=\"\",ISBLANK(C1764)),\"\",VLOOKUP(C1764,Sheet2!A:G,4,FALSE))","v":""},null,null,{"$f":"IF(OR(C1764=\"\",ISBLANK(C1764)),\"\",VLOOKUP(C1764,Sheet2!A:F,3,FALSE))","v":""},{"$f":"IF(OR(C1764=\"\",ISBLANK(C1764)),\"\",VLOOKUP(C1764,Sheet2!A:G,6,FALSE))","v":""},""]
[{"$f":"IF(OR(C1765=\"\",ISBLANK(C1765)),\"\",VLOOKUP(C1765,Sheet2!A:F,2,FALSE))","v":""},{"$f":"IF(OR(C1765=\"\",ISBLANK(C1765)),\"\",VLOOKUP(C1765,Sheet2!A:G,4,FALSE))","v":""},null,null,{"$f":"IF(OR(C1765=\"\",ISBLANK(C1765)),\"\",VLOOKUP(C1765,Sheet2!A:F,3,FALSE))","v":""},{"$f":"IF(OR(C1765=\"\",ISBLANK(C1765)),\"\",VLOOKUP(C1765,Sheet2!A:G,6,FALSE))","v":""},""]
[{"$f":"IF(OR(C1766=\"\",ISBLANK(C1766)),\"\",VLOOKUP(C1766,Sheet2!A:F,2,FALSE))","v":""},{"$f":"IF(OR(C1766=\"\",ISBLANK(C1766)),\"\",VLOOKUP(C1766,Sheet2!A:G,4,FALSE))","v":""},null,null,{"$f":"IF(OR(C1766=\"\",ISBLANK(C1766)),\"\",VLOOKUP(C1766,Sheet2!A:F,3,FALSE))","v":""},{"$f":"IF(OR(C1766=\"\",ISBLANK(C1766)),\"\",VLOOKUP(C1766,Sheet2!A:G,6,FALSE))","v":""},""]
[{"$f":"IF(OR(C1767=\"\",ISBLANK(C1767)),\"\",VLOOKUP(C1767,Sheet2!A:F,2,FALSE))","v":""},{"$f":"IF(OR(C1767=\"\",ISBLANK(C1767)),\"\",VLOOKUP(C1767,Sheet2!A:G,4,FALSE))","v":""},null,null,{"$f":"IF(OR(C1767=\"\",ISBLANK(C1767)),\"\",VLOOKUP(C1767,Sheet2!A:F,3,FALSE))","v":""},{"$f":"IF(OR(C1767=\"\",ISBLANK(C1767)),\"\",VLOOKUP(C1767,Sheet2!A:G,6,FALSE))","v":""},""]
[{"$f":"IF(OR(C1768=\"\",ISBLANK(C1768)),\"\",VLOOKUP(C1768,Sheet2!A:F,2,FALSE))","v":""},{"$f":"IF(OR(C1768=\"\",ISBLANK(C1768)),\"\",VLOOKUP(C1768,Sheet2!A:G,4,FALSE))","v":""},null,null,{"$f":"IF(OR(C1768=\"\",ISBLANK(C1768)),\"\",VLOOKUP(C1768,Sheet2!A:F,3,FALSE))","v":""},{"$f":"IF(OR(C1768=\"\",ISBLANK(C1768)),\"\",VLOOKUP(C1768,Sheet2!A:G,6,FALSE))","v":""},""]
[{"$f":"IF(OR(C1769=\"\",ISBLANK(C1769)),\"\",VLOOKUP(C1769,Sheet2!A:F,2,FALSE))","v":""},{"$f":"IF(OR(C1769=\"\",ISBLANK(C1769)),\"\",VLOOKUP(C1769,Sheet2!A:G,4,FALSE))","v":""},null,null,{"$f":"IF(OR(C1769=\"\",ISBLANK(C1769)),\"\",VLOOKUP(C1769,Sheet2!A:F,3,FALSE))","v":""},{"$f":"IF(OR(C1769=\"\",ISBLANK(C1769)),\"\",VLOOKUP(C1769,Sheet2!A:G,6,FALSE))","v":""},""]
[{"$f":"IF(OR(C1770=\"\",ISBLANK(C1770)),\"\",VLOOKUP(C1770,Sheet2!A:F,2,FALSE))","v":""},{"$f":"IF(OR(C1770=\"\",ISBLANK(C1770)),\"\",VLOOKUP(C1770,Sheet2!A:G,4,FALSE))","v":""},null,null,{"$f":"IF(OR(C1770=\"\",ISBLANK(C1770)),\"\",VLOOKUP(C1770,Sheet2!A:F,3,FALSE))","v":""},{"$f":"IF(OR(C1770=\"\",ISBLANK(C1770)),\"\",VLOOKUP(C1770,Sheet2!A:G,6,FALSE))","v":""},""]
[{"$f":"IF(OR(C1771=\"\",ISBLANK(C1771)),\"\",VLOOKUP(C1771,Sheet2!A:F,2,FALSE))","v":""},{"$f":"IF(OR(C1771=\"\",ISBLANK(C1771)),\"\",VLOOKUP(C1771,Sheet2!A:G,4,FALSE))","v":""},null,null,{"$f":"IF(OR(C1771=\"\",ISBLANK(C1771)),\"\",VLOOKUP(C1771,Sheet2!A:F,3,FALSE))","v":""},{"$f":"IF(OR(C1771=\"\",ISBLANK(C1771)),\"\",VLOOKUP(C1771,Sheet2!A:G,6,FALSE))","v":""},""]
[{"$f":"IF(OR(C1772=\"\",ISBLANK(C1772)),\"\",VLOOKUP(C1772,Sheet2!A:F,2,FALSE))","v":""},{"$f":"IF(OR(C1772=\"\",ISBLANK(C1772)),\"\",VLOOKUP(C1772,Sheet2!A:G,4,FALSE))","v":""},null,null,{"$f":"IF(OR(C1772=\"\",ISBLANK(C1772)),\"\",VLOOKUP(C1772,Sheet2!A:F,3,FALSE))","v":""},{"$f":"IF(OR(C1772=\"\",ISBLANK(C1772)),\"\",VLOOKUP(C1772,Sheet2!A:G,6,FALSE))","v":""},""]
[{"$f":"IF(OR(C1773=\"\",ISBLANK(C1773)),\"\",VLOOKUP(C1773,Sheet2!A:F,2,FALSE))","v":""},{"$f":"IF(OR(C1773=\"\",ISBLANK(C1773)),\"\",VLOOKUP(C1773,Sheet2!A:G,4,FALSE))","v":""},null,null,{"$f":"IF(OR(C1773=\"\",ISBLANK(C1773)),\"\",VLOOKUP(C1773,Sheet2!A:F,3,FALSE))","v":""},{"$f":"IF(OR(C1773=\"\",ISBLANK(C1773)),\"\",VLOOKUP(C1773,Sheet2!A:G,6,FALSE))","v":""},""]
[{"$f":"IF(OR(C1774=\"\",ISBLANK(C1774)),\"\",VLOOKUP(C1774,Sheet2!A:F,2,FALSE))","v":""},{"$f":"IF(OR(C1774=\"\",ISBLANK(C1774)),\"\",VLOOKUP(C1774,Sheet2!A:G,4,FALSE))","v":""},null,null,{"$f":"IF(OR(C1774=\"\",ISBLANK(C1774)),\"\",VLOOKUP(C1774,Sheet2!A:F,3,FALSE))","v":""},{"$f":"IF(OR(C1774=\"\",ISBLANK(C1774)),\"\",VLOOKUP(C1774,Sheet2!A:G,6,FALSE))","v":""},""]
[{"$f":"IF(OR(C1775=\"\",ISBLANK(C1775)),\"\",VLOOKUP(C1775,Sheet2!A:F,2,FALSE))","v":""},{"$f":"IF(OR(C1775=\"\",ISBLANK(C1775)),\"\",VLOOKUP(C1775,Sheet2!A:G,4,FALSE))","v":""},null,null,{"$f":"IF(OR(C1775=\"\",ISBLANK(C1775)),\"\",VLOOKUP(C1775,Sheet2!A:F,3,FALSE))","v":""},{"$f":"IF(OR(C1775=\"\",ISBLANK(C1775)),\"\",VLOOKUP(C1775,Sheet2!A:G,6,FALSE))","v":""},""]
[{"$f":"IF(OR(C1776=\"\",ISBLANK(C1776)),\"\",VLOOKUP(C1776,Sheet2!A:F,2,FALSE))","v":""},{"$f":"IF(OR(C1776=\"\",ISBLANK(C1776)),\"\",VLOOKUP(C1776,Sheet2!A:G,4,FALSE))","v":""},null,null,{"$f":"IF(OR(C1776=\"\",ISBLANK(C1776)),\"\",VLOOKUP(C1776,Sheet2!A:F,3,FALSE))","v":""},{"$f":"IF(OR(C1776=\"\",ISBLANK(C1776)),\"\",VLOOKUP(C1776,Sheet2!A:G,6,FALSE))","v":""},""]
[{"$f":"IF(OR(C1777=\"\",ISBLANK(C1777)),\"\",VLOOKUP(C1777,Sheet2!A:F,2,FALSE))","v":""},{"$f":"IF(OR(C1777=\"\",ISBLANK(C1777)),\"\",VLOOKUP(C1777,Sheet2!A:G,4,FALSE))","v":""},null,null,{"$f":"IF(OR(C1777=\"\",ISBLANK(C1777)),\"\",VLOOKUP(C1777,Sheet2!A:F,3,FALSE))","v":""},{"$f":"IF(OR(C1777=\"\",ISBLANK(C1777)),\"\",VLOOKUP(C1777,Sheet2!A:G,6,FALSE))","v":""},""]
[{"$f":"IF(OR(C1778=\"\",ISBLANK(C1778)),\"\",VLOOKUP(C1778,Sheet2!A:F,2,FALSE))","v":""},{"$f":"IF(OR(C1778=\"\",ISBLANK(C1778)),\"\",VLOOKUP(C1778,Sheet2!A:G,4,FALSE))","v":""},null,null,{"$f":"IF(OR(C1778=\"\",ISBLANK(C1778)),\"\",VLOOKUP(C1778,Sheet2!A:F,3,FALSE))","v":""},{"$f":"IF(OR(C1778=\"\",ISBLANK(C1778)),\"\",VLOOKUP(C1778,Sheet2!A:G,6,FALSE))","v":""},""]
[{"$f":"IF(OR(C1779=\"\",ISBLANK(C1779)),\"\",VLOOKUP(C1779,Sheet2!A:F,2,FALSE))","v":""},{"$f":"IF(OR(C1779=\"\",ISBLANK(C1779)),\"\",VLOOKUP(C1779,Sheet2!A:G,4,FALSE))","v":""},null,null,{"$f":"IF(OR(C1779=\"\",ISBLANK(C1779)),\"\",VLOOKUP(C1779,Sheet2!A:F,3,FALSE))","v":""},{"$f":"IF(OR(C1779=\"\",ISBLANK(C1779)),\"\",VLOOKUP(C1779,Sheet2!A:G,6,FALSE))","v":""},""]
[{"$f":"IF(OR(C1780=\"\",ISBLANK(C1780)),\"\",VLOOKUP(C1780,Sheet2!A:F,2,FALSE))","v":""},{"$f":"IF(OR(C1780=\"\",ISBLANK(C1780)),\"\",VLOOKUP(C1780,Sheet2!A:G,4,FALSE))","v":""},null,null,{"$f":"IF(OR(C1780=\"\",ISBLANK(C1780)),\"\",VLOOKUP(C1780,Sheet2!A:F,3,FALSE))","v":""},{"$f":"IF(OR(C1780=\"\",ISBLANK(C1780)),\"\",VLOOKUP(C1780,Sheet2!A:G,6,FALSE))","v":""},""]
[{"$f":"IF(OR(C1781=\"\",ISBLANK(C1781)),\"\",VLOOKUP(C1781,Sheet2!A:F,2,FALSE))","v":""},{"$f":"IF(OR(C1781=\"\",ISBLANK(C1781)),\"\",VLOOKUP(C1781,Sheet2!A:G,4,FALSE))","v":""},null,null,{"$f":"IF(OR(C1781=\"\",ISBLANK(C1781)),\"\",VLOOKUP(C1781,Sheet2!A:F,3,FALSE))","v":""},{"$f":"IF(OR(C1781=\"\",ISBLANK(C1781)),\"\",VLOOKUP(C1781,Sheet2!A:G,6,FALSE))","v":""},""]
[{"$f":"IF(OR(C1782=\"\",ISBLANK(C1782)),\"\",VLOOKUP(C1782,Sheet2!A:F,2,FALSE))","v":""},{"$f":"IF(OR(C1782=\"\",ISBLANK(C1782)),\"\",VLOOKUP(C1782,Sheet2!A:G,4,FALSE))","v":""},null,null,{"$f":"IF(OR(C1782=\"\",ISBLANK(C1782)),\"\",VLOOKUP(C1782,Sheet2!A:F,3,FALSE))","v":""},{"$f":"IF(OR(C1782=\"\",ISBLANK(C1782)),\"\",VLOOKUP(C1782,Sheet2!A:G,6,FALSE))","v":""},""]
[{"$f":"IF(OR(C1783=\"\",ISBLANK(C1783)),\"\",VLOOKUP(C1783,Sheet2!A:F,2,FALSE))","v":""},{"$f":"IF(OR(C1783=\"\",ISBLANK(C1783)),\"\",VLOOKUP(C1783,Sheet2!A:G,4,FALSE))","v":""},null,null,{"$f":"IF(OR(C1783=\"\",ISBLANK(C1783)),\"\",VLOOKUP(C1783,Sheet2!A:F,3,FALSE))","v":""},{"$f":"IF(OR(C1783=\"\",ISBLANK(C1783)),\"\",VLOOKUP(C1783,Sheet2!A:G,6,FALSE))","v":""},""]
[{"$f":"IF(OR(C1784=\"\",ISBLANK(C1784)),\"\",VLOOKUP(C1784,Sheet2!A:F,2,FALSE))","v":""},{"$f":"IF(OR(C1784=\"\",ISBLANK(C1784)),\"\",VLOOKUP(C1784,Sheet2!A:G,4,FALSE))","v":""},null,null,{"$f":"IF(OR(C1784=\"\",ISBLANK(C1784)),\"\",VLOOKUP(C1784,Sheet2!A:F,3,FALSE))","v":""},{"$f":"IF(OR(C1784=\"\",ISBLANK(C1784)),\"\",VLOOKUP(C1784,Sheet2!A:G,6,FALSE))","v":""},""]
[{"$f":"IF(OR(C1785=\"\",ISBLANK(C1785)),\"\",VLOOKUP(C1785,Sheet2!A:F,2,FALSE))","v":""},{"$f":"IF(OR(C1785=\"\",ISBLANK(C1785)),\"\",VLOOKUP(C1785,Sheet2!A:G,4,FALSE))","v":""},null,null,{"$f":"IF(OR(C1785=\"\",ISBLANK(C1785)),\"\",VLOOKUP(C1785,Sheet2!A:F,3,FALSE))","v":""},{"$f":"IF(OR(C1785=\"\",ISBLANK(C1785)),\"\",VLOOKUP(C1785,Sheet2!A:G,6,FALSE))","v":""},""]
[{"$f":"IF(OR(C1786=\"\",ISBLANK(C1786)),\"\",VLOOKUP(C1786,Sheet2!A:F,2,FALSE))","v":""},{"$f":"IF(OR(C1786=\"\",ISBLANK(C1786)),\"\",VLOOKUP(C1786,Sheet2!A:G,4,FALSE))","v":""},null,null,{"$f":"IF(OR(C1786=\"\",ISBLANK(C1786)),\"\",VLOOKUP(C1786,Sheet2!A:F,3,FALSE))","v":""},{"$f":"IF(OR(C1786=\"\",ISBLANK(C1786)),\"\",VLOOKUP(C1786,Sheet2!A:G,6,FALSE))","v":""},""]
[{"$f":"IF(OR(C1787=\"\",ISBLANK(C1787)),\"\",VLOOKUP(C1787,Sheet2!A:F,2,FALSE))","v":""},{"$f":"IF(OR(C1787=\"\",ISBLANK(C1787)),\"\",VLOOKUP(C1787,Sheet2!A:G,4,FALSE))","v":""},null,null,{"$f":"IF(OR(C1787=\"\",ISBLANK(C1787)),\"\",VLOOKUP(C1787,Sheet2!A:F,3,FALSE))","v":""},{"$f":"IF(OR(C1787=\"\",ISBLANK(C1787)),\"\",VLOOKUP(C1787,Sheet2!A:G,6,FALSE))","v":""},""]
[{"$f":"IF(OR(C1788=\"\",ISBLANK(C1788)),\"\",VLOOKUP(C1788,Sheet2!A:F,2,FALSE))","v":""},{"$f":"IF(OR(C1788=\"\",ISBLANK(C1788)),\"\",VLOOKUP(C1788,Sheet2!A:G,4,FALSE))","v":""},null,null,{"$f":"IF(OR(C1788=\"\",ISBLANK(C1788)),\"\",VLOOKUP(C1788,Sheet2!A:F,3,FALSE))","v":""},{"$f":"IF(OR(C1788=\"\",ISBLANK(C1788)),\"\",VLOOKUP(C1788,Sheet2!A:G,6,FALSE))","v":""},""]
[{"$f":"IF(OR(C1789=\"\",ISBLANK(C1789)),\"\",VLOOKUP(C1789,Sheet2!A:F,2,FALSE))","v":""},{"$f":"IF(OR(C1789=\"\",ISBLANK(C1789)),\"\",VLOOKUP(C1789,Sheet2!A:G,4,FALSE))","v":""},null,null,{"$f":"IF(OR(C1789=\"\",ISBLANK(C1789)),\"\",VLOOKUP(C1789,Sheet2!A:F,3,FALSE))","v":""},{"$f":"IF(OR(C1789=\"\",ISBLANK(C1789)),\"\",VLOOKUP(C1789,Sheet2!A:G,6,FALSE))","v":""},""]
[{"$f":"IF(OR(C1790=\"\",ISBLANK(C1790)),\"\",VLOOKUP(C1790,Sheet2!A:F,2,FALSE))","v":""},{"$f":"IF(OR(C1790=\"\",ISBLANK(C1790)),\"\",VLOOKUP(C1790,Sheet2!A:G,4,FALSE))","v":""},null,null,{"$f":"IF(OR(C1790=\"\",ISBLANK(C1790)),\"\",VLOOKUP(C1790,Sheet2!A:F,3,FALSE))","v":""},{"$f":"IF(OR(C1790=\"\",ISBLANK(C1790)),\"\",VLOOKUP(C1790,Sheet2!A:G,6,FALSE))","v":""},""]
[{"$f":"IF(OR(C1791=\"\",ISBLANK(C1791)),\"\",VLOOKUP(C1791,Sheet2!A:F,2,FALSE))","v":""},{"$f":"IF(OR(C1791=\"\",ISBLANK(C1791)),\"\",VLOOKUP(C1791,Sheet2!A:G,4,FALSE))","v":""},null,null,{"$f":"IF(OR(C1791=\"\",ISBLANK(C1791)),\"\",VLOOKUP(C1791,Sheet2!A:F,3,FALSE))","v":""},{"$f":"IF(OR(C1791=\"\",ISBLANK(C1791)),\"\",VLOOKUP(C1791,Sheet2!A:G,6,FALSE))","v":""},""]
[{"$f":"IF(OR(C1792=\"\",ISBLANK(C1792)),\"\",VLOOKUP(C1792,Sheet2!A:F,2,FALSE))","v":""},{"$f":"IF(OR(C1792=\"\",ISBLANK(C1792)),\"\",VLOOKUP(C1792,Sheet2!A:G,4,FALSE))","v":""},null,null,{"$f":"IF(OR(C1792=\"\",ISBLANK(C1792)),\"\",VLOOKUP(C1792,Sheet2!A:F,3,FALSE))","v":""},{"$f":"IF(OR(C1792=\"\",ISBLANK(C1792)),\"\",VLOOKUP(C1792,Sheet2!A:G,6,FALSE))","v":""},""]
[{"$f":"IF(OR(C1793=\"\",ISBLANK(C1793)),\"\",VLOOKUP(C1793,Sheet2!A:F,2,FALSE))","v":""},{"$f":"IF(OR(C1793=\"\",ISBLANK(C1793)),\"\",VLOOKUP(C1793,Sheet2!A:G,4,FALSE))","v":""},null,null,{"$f":"IF(OR(C1793=\"\",ISBLANK(C1793)),\"\",VLOOKUP(C1793,Sheet2!A:F,3,FALSE))","v":""},{"$f":"IF(OR(C1793=\"\",ISBLANK(C1793)),\"\",VLOOKUP(C1793,Sheet2!A:G,6,FALSE))","v":""},""]
[{"$f":"IF(OR(C1794=\"\",ISBLANK(C1794)),\"\",VLOOKUP(C1794,Sheet2!A:F,2,FALSE))","v":""},{"$f":"IF(OR(C1794=\"\",ISBLANK(C1794)),\"\",VLOOKUP(C1794,Sheet2!A:G,4,FALSE))","v":""},null,null,{"$f":"IF(OR(C1794=\"\",ISBLANK(C1794)),\"\",VLOOKUP(C1794,Sheet2!A:F,3,FALSE))","v":""},{"$f":"IF(OR(C1794=\"\",ISBLANK(C1794)),\"\",VLOOKUP(C1794,Sheet2!A:G,6,FALSE))","v":""},""]
[{"$f":"IF(OR(C1795=\"\",ISBLANK(C1795)),\"\",VLOOKUP(C1795,Sheet2!A:F,2,FALSE))","v":""},{"$f":"IF(OR(C1795=\"\",ISBLANK(C1795)),\"\",VLOOKUP(C1795,Sheet2!A:G,4,FALSE))","v":""},null,null,{"$f":"IF(OR(C1795=\"\",ISBLANK(C1795)),\"\",VLOOKUP(C1795,Sheet2!A:F,3,FALSE))","v":""},{"$f":"IF(OR(C1795=\"\",ISBLANK(C1795)),\"\",VLOOKUP(C1795,Sheet2!A:G,6,FALSE))","v":""},{"$f":"IF(F1795=0,\"\",F1795)","v":""}]
[{"$f":"IF(OR(C1796=\"\",ISBLANK(C1796)),\"\",VLOOKUP(C1796,Sheet2!A:F,2,FALSE))","v":""},{"$f":"IF(OR(C1796=\"\",ISBLANK(C1796)),\"\",VLOOKUP(C1796,Sheet2!A:G,4,FALSE))","v":""},null,null,{"$f":"IF(OR(C1796=\"\",ISBLANK(C1796)),\"\",VLOOKUP(C1796,Sheet2!A:F,3,FALSE))","v":""},{"$f":"IF(OR(C1796=\"\",ISBLANK(C1796)),\"\",VLOOKUP(C1796,Sheet2!A:G,6,FALSE))","v":""},""]
[{"$f":"IF(OR(C1797=\"\",ISBLANK(C1797)),\"\",VLOOKUP(C1797,Sheet2!A:F,2,FALSE))","v":""},{"$f":"IF(OR(C1797=\"\",ISBLANK(C1797)),\"\",VLOOKUP(C1797,Sheet2!A:G,4,FALSE))","v":""},null,null,{"$f":"IF(OR(C1797=\"\",ISBLANK(C1797)),\"\",VLOOKUP(C1797,Sheet2!A:F,3,FALSE))","v":""},{"$f":"IF(OR(C1797=\"\",ISBLANK(C1797)),\"\",VLOOKUP(C1797,Sheet2!A:G,6,FALSE))","v":""},""]
[{"$f":"IF(OR(C1798=\"\",ISBLANK(C1798)),\"\",VLOOKUP(C1798,Sheet2!A:F,2,FALSE))","v":""},{"$f":"IF(OR(C1798=\"\",ISBLANK(C1798)),\"\",VLOOKUP(C1798,Sheet2!A:G,4,FALSE))","v":""},null,null,{"$f":"IF(OR(C1798=\"\",ISBLANK(C1798)),\"\",VLOOKUP(C1798,Sheet2!A:F,3,FALSE))","v":""},{"$f":"IF(OR(C1798=\"\",ISBLANK(C1798)),\"\",VLOOKUP(C1798,Sheet2!A:G,6,FALSE))","v":""},""]
[{"$f":"IF(OR(C1799=\"\",ISBLANK(C1799)),\"\",VLOOKUP(C1799,Sheet2!A:F,2,FALSE))","v":""},{"$f":"IF(OR(C1799=\"\",ISBLANK(C1799)),\"\",VLOOKUP(C1799,Sheet2!A:G,4,FALSE))","v":""},null,null,{"$f":"IF(OR(C1799=\"\",ISBLANK(C1799)),\"\",VLOOKUP(C1799,Sheet2!A:F,3,FALSE))","v":""},{"$f":"IF(OR(C1799=\"\",ISBLANK(C1799)),\"\",VLOOKUP(C1799,Sheet2!A:G,6,FALSE))","v":""},""]
[{"$f":"IF(OR(C1800=\"\",ISBLANK(C1800)),\"\",VLOOKUP(C1800,Sheet2!A:F,2,FALSE))","v":""},{"$f":"IF(OR(C1800=\"\",ISBLANK(C1800)),\"\",VLOOKUP(C1800,Sheet2!A:G,4,FALSE))","v":""},null,null,{"$f":"IF(OR(C1800=\"\",ISBLANK(C1800)),\"\",VLOOKUP(C1800,Sheet2!A:F,3,FALSE))","v":""},{"$f":"IF(OR(C1800=\"\",ISBLANK(C1800)),\"\",VLOOKUP(C1800,Sheet2!A:G,6,FALSE))","v":""},""]
[{"$f":"IF(OR(C1801=\"\",ISBLANK(C1801)),\"\",VLOOKUP(C1801,Sheet2!A:F,2,FALSE))","v":""},{"$f":"IF(OR(C1801=\"\",ISBLANK(C1801)),\"\",VLOOKUP(C1801,Sheet2!A:G,4,FALSE))","v":""},null,null,{"$f":"IF(OR(C1801=\"\",ISBLANK(C1801)),\"\",VLOOKUP(C1801,Sheet2!A:F,3,FALSE))","v":""},{"$f":"IF(OR(C1801=\"\",ISBLANK(C1801)),\"\",VLOOKUP(C1801,Sheet2!A:G,6,FALSE))","v":""},""]
[{"$f":"IF(OR(C1802=\"\",ISBLANK(C1802)),\"\",VLOOKUP(C1802,Sheet2!A:F,2,FALSE))","v":""},{"$f":"IF(OR(C1802=\"\",ISBLANK(C1802)),\"\",VLOOKUP(C1802,Sheet2!A:G,4,FALSE))","v":""},null,null,{"$f":"IF(OR(C1802=\"\",ISBLANK(C1802)),\"\",VLOOKUP(C1802,Sheet2!A:F,3,FALSE))","v":""},{"$f":"IF(OR(C1802=\"\",ISBLANK(C1802)),\"\",VLOOKUP(C1802,Sheet2!A:G,6,FALSE))","v":""},""]
[{"$f":"IF(OR(C1803=\"\",ISBLANK(C1803)),\"\",VLOOKUP(C1803,Sheet2!A:F,2,FALSE))","v":""},{"$f":"IF(OR(C1803=\"\",ISBLANK(C1803)),\"\",VLOOKUP(C1803,Sheet2!A:G,4,FALSE))","v":""},null,null,{"$f":"IF(OR(C1803=\"\",ISBLANK(C1803)),\"\",VLOOKUP(C1803,Sheet2!A:F,3,FALSE))","v":""},{"$f":"IF(OR(C1803=\"\",ISBLANK(C1803)),\"\",VLOOKUP(C1803,Sheet2!A:G,6,FALSE))","v":""},""]
[{"$f":"IF(OR(C1804=\"\",ISBLANK(C1804)),\"\",VLOOKUP(C1804,Sheet2!A:F,2,FALSE))","v":""},{"$f":"IF(OR(C1804=\"\",ISBLANK(C1804)),\"\",VLOOKUP(C1804,Sheet2!A:G,4,FALSE))","v":""},null,null,{"$f":"IF(OR(C1804=\"\",ISBLANK(C1804)),\"\",VLOOKUP(C1804,Sheet2!A:F,3,FALSE))","v":""},{"$f":"IF(OR(C1804=\"\",ISBLANK(C1804)),\"\",VLOOKUP(C1804,Sheet2!A:G,6,FALSE))","v":""},""]
[{"$f":"IF(OR(C1805=\"\",ISBLANK(C1805)),\"\",VLOOKUP(C1805,Sheet2!A:F,2,FALSE))","v":""},{"$f":"IF(OR(C1805=\"\",ISBLANK(C1805)),\"\",VLOOKUP(C1805,Sheet2!A:G,4,FALSE))","v":""},null,null,{"$f":"IF(OR(C1805=\"\",ISBLANK(C1805)),\"\",VLOOKUP(C1805,Sheet2!A:F,3,FALSE))","v":""},{"$f":"IF(OR(C1805=\"\",ISBLANK(C1805)),\"\",VLOOKUP(C1805,Sheet2!A:G,6,FALSE))","v":""},""]
[{"$f":"IF(OR(C1806=\"\",ISBLANK(C1806)),\"\",VLOOKUP(C1806,Sheet2!A:F,2,FALSE))","v":""},{"$f":"IF(OR(C1806=\"\",ISBLANK(C1806)),\"\",VLOOKUP(C1806,Sheet2!A:G,4,FALSE))","v":""},null,null,{"$f":"IF(OR(C1806=\"\",ISBLANK(C1806)),\"\",VLOOKUP(C1806,Sheet2!A:F,3,FALSE))","v":""},{"$f":"IF(OR(C1806=\"\",ISBLANK(C1806)),\"\",VLOOKUP(C1806,Sheet2!A:G,6,FALSE))","v":""},""]
[{"$f":"IF(OR(C1807=\"\",ISBLANK(C1807)),\"\",VLOOKUP(C1807,Sheet2!A:F,2,FALSE))","v":""},{"$f":"IF(OR(C1807=\"\",ISBLANK(C1807)),\"\",VLOOKUP(C1807,Sheet2!A:G,4,FALSE))","v":""},null,null,{"$f":"IF(OR(C1807=\"\",ISBLANK(C1807)),\"\",VLOOKUP(C1807,Sheet2!A:F,3,FALSE))","v":""},{"$f":"IF(OR(C1807=\"\",ISBLANK(C1807)),\"\",VLOOKUP(C1807,Sheet2!A:G,6,FALSE))","v":""},""]
[{"$f":"IF(OR(C1808=\"\",ISBLANK(C1808)),\"\",VLOOKUP(C1808,Sheet2!A:F,2,FALSE))","v":""},{"$f":"IF(OR(C1808=\"\",ISBLANK(C1808)),\"\",VLOOKUP(C1808,Sheet2!A:G,4,FALSE))","v":""},null,null,{"$f":"IF(OR(C1808=\"\",ISBLANK(C1808)),\"\",VLOOKUP(C1808,Sheet2!A:F,3,FALSE))","v":""},{"$f":"IF(OR(C1808=\"\",ISBLANK(C1808)),\"\",VLOOKUP(C1808,Sheet2!A:G,6,FALSE))","v":""},""]
[{"$f":"IF(OR(C1809=\"\",ISBLANK(C1809)),\"\",VLOOKUP(C1809,Sheet2!A:F,2,FALSE))","v":""},{"$f":"IF(OR(C1809=\"\",ISBLANK(C1809)),\"\",VLOOKUP(C1809,Sheet2!A:G,4,FALSE))","v":""},null,null,{"$f":"IF(OR(C1809=\"\",ISBLANK(C1809)),\"\",VLOOKUP(C1809,Sheet2!A:F,3,FALSE))","v":""},{"$f":"IF(OR(C1809=\"\",ISBLANK(C1809)),\"\",VLOOKUP(C1809,Sheet2!A:G,6,FALSE))","v":""},""]
[{"$f":"IF(OR(C1810=\"\",ISBLANK(C1810)),\"\",VLOOKUP(C1810,Sheet2!A:F,2,FALSE))","v":""},{"$f":"IF(OR(C1810=\"\",ISBLANK(C1810)),\"\",VLOOKUP(C1810,Sheet2!A:G,4,FALSE))","v":""},null,null,{"$f":"IF(OR(C1810=\"\",ISBLANK(C1810)),\"\",VLOOKUP(C1810,Sheet2!A:F,3,FALSE))","v":""},{"$f":"IF(OR(C1810=\"\",ISBLANK(C1810)),\"\",VLOOKUP(C1810,Sheet2!A:G,6,FALSE))","v":""},""]
[{"$f":"IF(OR(C1811=\"\",ISBLANK(C1811)),\"\",VLOOKUP(C1811,Sheet2!A:F,2,FALSE))","v":""},{"$f":"IF(OR(C1811=\"\",ISBLANK(C1811)),\"\",VLOOKUP(C1811,Sheet2!A:G,4,FALSE))","v":""},null,null,{"$f":"IF(OR(C1811=\"\",ISBLANK(C1811)),\"\",VLOOKUP(C1811,Sheet2!A:F,3,FALSE))","v":""},{"$f":"IF(OR(C1811=\"\",ISBLANK(C1811)),\"\",VLOOKUP(C1811,Sheet2!A:G,6,FALSE))","v":""},""]
[{"$f":"IF(OR(C1812=\"\",ISBLANK(C1812)),\"\",VLOOKUP(C1812,Sheet2!A:F,2,FALSE))","v":""},{"$f":"IF(OR(C1812=\"\",ISBLANK(C1812)),\"\",VLOOKUP(C1812,Sheet2!A:G,4,FALSE))","v":""},null,null,{"$f":"IF(OR(C1812=\"\",ISBLANK(C1812)),\"\",VLOOKUP(C1812,Sheet2!A:F,3,FALSE))","v":""},{"$f":"IF(OR(C1812=\"\",ISBLANK(C1812)),\"\",VLOOKUP(C1812,Sheet2!A:G,6,FALSE))","v":""},""]
[{"$f":"IF(OR(C1813=\"\",ISBLANK(C1813)),\"\",VLOOKUP(C1813,Sheet2!A:F,2,FALSE))","v":""},{"$f":"IF(OR(C1813=\"\",ISBLANK(C1813)),\"\",VLOOKUP(C1813,Sheet2!A:G,4,FALSE))","v":""},null,null,{"$f":"IF(OR(C1813=\"\",ISBLANK(C1813)),\"\",VLOOKUP(C1813,Sheet2!A:F,3,FALSE))","v":""},{"$f":"IF(OR(C1813=\"\",ISBLANK(C1813)),\"\",VLOOKUP(C1813,Sheet2!A:G,6,FALSE))","v":""},""]
[{"$f":"IF(OR(C1814=\"\",ISBLANK(C1814)),\"\",VLOOKUP(C1814,Sheet2!A:F,2,FALSE))","v":""},{"$f":"IF(OR(C1814=\"\",ISBLANK(C1814)),\"\",VLOOKUP(C1814,Sheet2!A:G,4,FALSE))","v":""},null,null,{"$f":"IF(OR(C1814=\"\",ISBLANK(C1814)),\"\",VLOOKUP(C1814,Sheet2!A:F,3,FALSE))","v":""},{"$f":"IF(OR(C1814=\"\",ISBLANK(C1814)),\"\",VLOOKUP(C1814,Sheet2!A:G,6,FALSE))","v":""},""]
[{"$f":"IF(OR(C1815=\"\",ISBLANK(C1815)),\"\",VLOOKUP(C1815,Sheet2!A:F,2,FALSE))","v":""},{"$f":"IF(OR(C1815=\"\",ISBLANK(C1815)),\"\",VLOOKUP(C1815,Sheet2!A:G,4,FALSE))","v":""},null,null,{"$f":"IF(OR(C1815=\"\",ISBLANK(C1815)),\"\",VLOOKUP(C1815,Sheet2!A:F,3,FALSE))","v":""},{"$f":"IF(OR(C1815=\"\",ISBLANK(C1815)),\"\",VLOOKUP(C1815,Sheet2!A:G,6,FALSE))","v":""},""]
[{"$f":"IF(OR(C1816=\"\",ISBLANK(C1816)),\"\",VLOOKUP(C1816,Sheet2!A:F,2,FALSE))","v":""},{"$f":"IF(OR(C1816=\"\",ISBLANK(C1816)),\"\",VLOOKUP(C1816,Sheet2!A:G,4,FALSE))","v":""},null,null,{"$f":"IF(OR(C1816=\"\",ISBLANK(C1816)),\"\",VLOOKUP(C1816,Sheet2!A:F,3,FALSE))","v":""},{"$f":"IF(OR(C1816=\"\",ISBLANK(C1816)),\"\",VLOOKUP(C1816,Sheet2!A:G,6,FALSE))","v":""},""]
[{"$f":"IF(OR(C1817=\"\",ISBLANK(C1817)),\"\",VLOOKUP(C1817,Sheet2!A:F,2,FALSE))","v":""},{"$f":"IF(OR(C1817=\"\",ISBLANK(C1817)),\"\",VLOOKUP(C1817,Sheet2!A:G,4,FALSE))","v":""},null,null,{"$f":"IF(OR(C1817=\"\",ISBLANK(C1817)),\"\",VLOOKUP(C1817,Sheet2!A:F,3,FALSE))","v":""},{"$f":"IF(OR(C1817=\"\",ISBLANK(C1817)),\"\",VLOOKUP(C1817,Sheet2!A:G,6,FALSE))","v":""},""]
[{"$f":"IF(OR(C1818=\"\",ISBLANK(C1818)),\"\",VLOOKUP(C1818,Sheet2!A:F,2,FALSE))","v":""},{"$f":"IF(OR(C1818=\"\",ISBLANK(C1818)),\"\",VLOOKUP(C1818,Sheet2!A:G,4,FALSE))","v":""},null,null,{"$f":"IF(OR(C1818=\"\",ISBLANK(C1818)),\"\",VLOOKUP(C1818,Sheet2!A:F,3,FALSE))","v":""},{"$f":"IF(OR(C1818=\"\",ISBLANK(C1818)),\"\",VLOOKUP(C1818,Sheet2!A:G,6,FALSE))","v":""},""]
[{"$f":"IF(OR(C1819=\"\",ISBLANK(C1819)),\"\",VLOOKUP(C1819,Sheet2!A:F,2,FALSE))","v":""},{"$f":"IF(OR(C1819=\"\",ISBLANK(C1819)),\"\",VLOOKUP(C1819,Sheet2!A:G,4,FALSE))","v":""},null,null,{"$f":"IF(OR(C1819=\"\",ISBLANK(C1819)),\"\",VLOOKUP(C1819,Sheet2!A:F,3,FALSE))","v":""},{"$f":"IF(OR(C1819=\"\",ISBLANK(C1819)),\"\",VLOOKUP(C1819,Sheet2!A:G,6,FALSE))","v":""},""]
[{"$f":"IF(OR(C1820=\"\",ISBLANK(C1820)),\"\",VLOOKUP(C1820,Sheet2!A:F,2,FALSE))","v":""},{"$f":"IF(OR(C1820=\"\",ISBLANK(C1820)),\"\",VLOOKUP(C1820,Sheet2!A:G,4,FALSE))","v":""},null,null,{"$f":"IF(OR(C1820=\"\",ISBLANK(C1820)),\"\",VLOOKUP(C1820,Sheet2!A:F,3,FALSE))","v":""},{"$f":"IF(OR(C1820=\"\",ISBLANK(C1820)),\"\",VLOOKUP(C1820,Sheet2!A:G,6,FALSE))","v":""},""]
[{"$f":"IF(OR(C1821=\"\",ISBLANK(C1821)),\"\",VLOOKUP(C1821,Sheet2!A:F,2,FALSE))","v":""},{"$f":"IF(OR(C1821=\"\",ISBLANK(C1821)),\"\",VLOOKUP(C1821,Sheet2!A:G,4,FALSE))","v":""},null,null,{"$f":"IF(OR(C1821=\"\",ISBLANK(C1821)),\"\",VLOOKUP(C1821,Sheet2!A:F,3,FALSE))","v":""},{"$f":"IF(OR(C1821=\"\",ISBLANK(C1821)),\"\",VLOOKUP(C1821,Sheet2!A:G,6,FALSE))","v":""},""]
[{"$f":"IF(OR(C1822=\"\",ISBLANK(C1822)),\"\",VLOOKUP(C1822,Sheet2!A:F,2,FALSE))","v":""},{"$f":"IF(OR(C1822=\"\",ISBLANK(C1822)),\"\",VLOOKUP(C1822,Sheet2!A:G,4,FALSE))","v":""},null,null,{"$f":"IF(OR(C1822=\"\",ISBLANK(C1822)),\"\",VLOOKUP(C1822,Sheet2!A:F,3,FALSE))","v":""},{"$f":"IF(OR(C1822=\"\",ISBLANK(C1822)),\"\",VLOOKUP(C1822,Sheet2!A:G,6,FALSE))","v":""},""]
[{"$f":"IF(OR(C1823=\"\",ISBLANK(C1823)),\"\",VLOOKUP(C1823,Sheet2!A:F,2,FALSE))","v":""},{"$f":"IF(OR(C1823=\"\",ISBLANK(C1823)),\"\",VLOOKUP(C1823,Sheet2!A:G,4,FALSE))","v":""},null,null,{"$f":"IF(OR(C1823=\"\",ISBLANK(C1823)),\"\",VLOOKUP(C1823,Sheet2!A:F,3,FALSE))","v":""},{"$f":"IF(OR(C1823=\"\",ISBLANK(C1823)),\"\",VLOOKUP(C1823,Sheet2!A:G,6,FALSE))","v":""},""]
[{"$f":"IF(OR(C1824=\"\",ISBLANK(C1824)),\"\",VLOOKUP(C1824,Sheet2!A:F,2,FALSE))","v":""},{"$f":"IF(OR(C1824=\"\",ISBLANK(C1824)),\"\",VLOOKUP(C1824,Sheet2!A:G,4,FALSE))","v":""},null,null,{"$f":"IF(OR(C1824=\"\",ISBLANK(C1824)),\"\",VLOOKUP(C1824,Sheet2!A:F,3,FALSE))","v":""},{"$f":"IF(OR(C1824=\"\",ISBLANK(C1824)),\"\",VLOOKUP(C1824,Sheet2!A:G,6,FALSE))","v":""},""]
[{"$f":"IF(OR(C1825=\"\",ISBLANK(C1825)),\"\",VLOOKUP(C1825,Sheet2!A:F,2,FALSE))","v":""},{"$f":"IF(OR(C1825=\"\",ISBLANK(C1825)),\"\",VLOOKUP(C1825,Sheet2!A:G,4,FALSE))","v":""},null,null,{"$f":"IF(OR(C1825=\"\",ISBLANK(C1825)),\"\",VLOOKUP(C1825,Sheet2!A:F,3,FALSE))","v":""},{"$f":"IF(OR(C1825=\"\",ISBLANK(C1825)),\"\",VLOOKUP(C1825,Sheet2!A:G,6,FALSE))","v":""},""]
[{"$f":"IF(OR(C1826=\"\",ISBLANK(C1826)),\"\",VLOOKUP(C1826,Sheet2!A:F,2,FALSE))","v":""},{"$f":"IF(OR(C1826=\"\",ISBLANK(C1826)),\"\",VLOOKUP(C1826,Sheet2!A:G,4,FALSE))","v":""},null,null,{"$f":"IF(OR(C1826=\"\",ISBLANK(C1826)),\"\",VLOOKUP(C1826,Sheet2!A:F,3,FALSE))","v":""},{"$f":"IF(OR(C1826=\"\",ISBLANK(C1826)),\"\",VLOOKUP(C1826,Sheet2!A:G,6,FALSE))","v":""},""]
[{"$f":"IF(OR(C1827=\"\",ISBLANK(C1827)),\"\",VLOOKUP(C1827,Sheet2!A:F,2,FALSE))","v":""},{"$f":"IF(OR(C1827=\"\",ISBLANK(C1827)),\"\",VLOOKUP(C1827,Sheet2!A:G,4,FALSE))","v":""},null,null,{"$f":"IF(OR(C1827=\"\",ISBLANK(C1827)),\"\",VLOOKUP(C1827,Sheet2!A:F,3,FALSE))","v":""},{"$f":"IF(OR(C1827=\"\",ISBLANK(C1827)),\"\",VLOOKUP(C1827,Sheet2!A:G,6,FALSE))","v":""},""]
[{"$f":"IF(OR(C1828=\"\",ISBLANK(C1828)),\"\",VLOOKUP(C1828,Sheet2!A:F,2,FALSE))","v":""},{"$f":"IF(OR(C1828=\"\",ISBLANK(C1828)),\"\",VLOOKUP(C1828,Sheet2!A:G,4,FALSE))","v":""},null,null,{"$f":"IF(OR(C1828=\"\",ISBLANK(C1828)),\"\",VLOOKUP(C1828,Sheet2!A:F,3,FALSE))","v":""},{"$f":"IF(OR(C1828=\"\",ISBLANK(C1828)),\"\",VLOOKUP(C1828,Sheet2!A:G,6,FALSE))","v":""},""]
[{"$f":"IF(OR(C1829=\"\",ISBLANK(C1829)),\"\",VLOOKUP(C1829,Sheet2!A:F,2,FALSE))","v":""},{"$f":"IF(OR(C1829=\"\",ISBLANK(C1829)),\"\",VLOOKUP(C1829,Sheet2!A:G,4,FALSE))","v":""},null,null,{"$f":"IF(OR(C1829=\"\",ISBLANK(C1829)),\"\",VLOOKUP(C1829,Sheet2!A:F,3,FALSE))","v":""},{"$f":"IF(OR(C1829=\"\",ISBLANK(C1829)),\"\",VLOOKUP(C1829,Sheet2!A:G,6,FALSE))","v":""},""]
[{"$f":"IF(OR(C1830=\"\",ISBLANK(C1830)),\"\",VLOOKUP(C1830,Sheet2!A:F,2,FALSE))","v":""},{"$f":"IF(OR(C1830=\"\",ISBLANK(C1830)),\"\",VLOOKUP(C1830,Sheet2!A:G,4,FALSE))","v":""},null,null,{"$f":"IF(OR(C1830=\"\",ISBLANK(C1830)),\"\",VLOOKUP(C1830,Sheet2!A:F,3,FALSE))","v":""},{"$f":"IF(OR(C1830=\"\",ISBLANK(C1830)),\"\",VLOOKUP(C1830,Sheet2!A:G,6,FALSE))","v":""},""]
[{"$f":"IF(OR(C1831=\"\",ISBLANK(C1831)),\"\",VLOOKUP(C1831,Sheet2!A:F,2,FALSE))","v":""},{"$f":"IF(OR(C1831=\"\",ISBLANK(C1831)),\"\",VLOOKUP(C1831,Sheet2!A:G,4,FALSE))","v":""},null,null,{"$f":"IF(OR(C1831=\"\",ISBLANK(C1831)),\"\",VLOOKUP(C1831,Sheet2!A:F,3,FALSE))","v":""},{"$f":"IF(OR(C1831=\"\",ISBLANK(C1831)),\"\",VLOOKUP(C1831,Sheet2!A:G,6,FALSE))","v":""},""]
[{"$f":"IF(OR(C1832=\"\",ISBLANK(C1832)),\"\",VLOOKUP(C1832,Sheet2!A:F,2,FALSE))","v":""},{"$f":"IF(OR(C1832=\"\",ISBLANK(C1832)),\"\",VLOOKUP(C1832,Sheet2!A:G,4,FALSE))","v":""},null,null,{"$f":"IF(OR(C1832=\"\",ISBLANK(C1832)),\"\",VLOOKUP(C1832,Sheet2!A:F,3,FALSE))","v":""},{"$f":"IF(OR(C1832=\"\",ISBLANK(C1832)),\"\",VLOOKUP(C1832,Sheet2!A:G,6,FALSE))","v":""},""]
[{"$f":"IF(OR(C1833=\"\",ISBLANK(C1833)),\"\",VLOOKUP(C1833,Sheet2!A:F,2,FALSE))","v":""},{"$f":"IF(OR(C1833=\"\",ISBLANK(C1833)),\"\",VLOOKUP(C1833,Sheet2!A:G,4,FALSE))","v":""},null,null,{"$f":"IF(OR(C1833=\"\",ISBLANK(C1833)),\"\",VLOOKUP(C1833,Sheet2!A:F,3,FALSE))","v":""},{"$f":"IF(OR(C1833=\"\",ISBLANK(C1833)),\"\",VLOOKUP(C1833,Sheet2!A:G,6,FALSE))","v":""},""]
[{"$f":"IF(OR(C1834=\"\",ISBLANK(C1834)),\"\",VLOOKUP(C1834,Sheet2!A:F,2,FALSE))","v":""},{"$f":"IF(OR(C1834=\"\",ISBLANK(C1834)),\"\",VLOOKUP(C1834,Sheet2!A:G,4,FALSE))","v":""},null,null,{"$f":"IF(OR(C1834=\"\",ISBLANK(C1834)),\"\",VLOOKUP(C1834,Sheet2!A:F,3,FALSE))","v":""},{"$f":"IF(OR(C1834=\"\",ISBLANK(C1834)),\"\",VLOOKUP(C1834,Sheet2!A:G,6,FALSE))","v":""},""]
[{"$f":"IF(OR(C1835=\"\",ISBLANK(C1835)),\"\",VLOOKUP(C1835,Sheet2!A:F,2,FALSE))","v":""},{"$f":"IF(OR(C1835=\"\",ISBLANK(C1835)),\"\",VLOOKUP(C1835,Sheet2!A:G,4,FALSE))","v":""},null,null,{"$f":"IF(OR(C1835=\"\",ISBLANK(C1835)),\"\",VLOOKUP(C1835,Sheet2!A:F,3,FALSE))","v":""},{"$f":"IF(OR(C1835=\"\",ISBLANK(C1835)),\"\",VLOOKUP(C1835,Sheet2!A:G,6,FALSE))","v":""},""]
[{"$f":"IF(OR(C1836=\"\",ISBLANK(C1836)),\"\",VLOOKUP(C1836,Sheet2!A:F,2,FALSE))","v":""},{"$f":"IF(OR(C1836=\"\",ISBLANK(C1836)),\"\",VLOOKUP(C1836,Sheet2!A:G,4,FALSE))","v":""},null,null,{"$f":"IF(OR(C1836=\"\",ISBLANK(C1836)),\"\",VLOOKUP(C1836,Sheet2!A:F,3,FALSE))","v":""},{"$f":"IF(OR(C1836=\"\",ISBLANK(C1836)),\"\",VLOOKUP(C1836,Sheet2!A:G,6,FALSE))","v":""},""]
[{"$f":"IF(OR(C1837=\"\",ISBLANK(C1837)),\"\",VLOOKUP(C1837,Sheet2!A:F,2,FALSE))","v":""},{"$f":"IF(OR(C1837=\"\",ISBLANK(C1837)),\"\",VLOOKUP(C1837,Sheet2!A:G,4,FALSE))","v":""},null,null,{"$f":"IF(OR(C1837=\"\",ISBLANK(C1837)),\"\",VLOOKUP(C1837,Sheet2!A:F,3,FALSE))","v":""},{"$f":"IF(OR(C1837=\"\",ISBLANK(C1837)),\"\",VLOOKUP(C1837,Sheet2!A:G,6,FALSE))","v":""},""]
[{"$f":"IF(OR(C1838=\"\",ISBLANK(C1838)),\"\",VLOOKUP(C1838,Sheet2!A:F,2,FALSE))","v":""},{"$f":"IF(OR(C1838=\"\",ISBLANK(C1838)),\"\",VLOOKUP(C1838,Sheet2!A:G,4,FALSE))","v":""},null,null,{"$f":"IF(OR(C1838=\"\",ISBLANK(C1838)),\"\",VLOOKUP(C1838,Sheet2!A:F,3,FALSE))","v":""},{"$f":"IF(OR(C1838=\"\",ISBLANK(C1838)),\"\",VLOOKUP(C1838,Sheet2!A:G,6,FALSE))","v":""},""]
[{"$f":"IF(OR(C1839=\"\",ISBLANK(C1839)),\"\",VLOOKUP(C1839,Sheet2!A:F,2,FALSE))","v":""},{"$f":"IF(OR(C1839=\"\",ISBLANK(C1839)),\"\",VLOOKUP(C1839,Sheet2!A:G,4,FALSE))","v":""},null,null,{"$f":"IF(OR(C1839=\"\",ISBLANK(C1839)),\"\",VLOOKUP(C1839,Sheet2!A:F,3,FALSE))","v":""},{"$f":"IF(OR(C1839=\"\",ISBLANK(C1839)),\"\",VLOOKUP(C1839,Sheet2!A:G,6,FALSE))","v":""},""]
[{"$f":"IF(OR(C1840=\"\",ISBLANK(C1840)),\"\",VLOOKUP(C1840,Sheet2!A:F,2,FALSE))","v":""},{"$f":"IF(OR(C1840=\"\",ISBLANK(C1840)),\"\",VLOOKUP(C1840,Sheet2!A:G,4,FALSE))","v":""},null,null,{"$f":"IF(OR(C1840=\"\",ISBLANK(C1840)),\"\",VLOOKUP(C1840,Sheet2!A:F,3,FALSE))","v":""},{"$f":"IF(OR(C1840=\"\",ISBLANK(C1840)),\"\",VLOOKUP(C1840,Sheet2!A:G,6,FALSE))","v":""},""]
[{"$f":"IF(OR(C1841=\"\",ISBLANK(C1841)),\"\",VLOOKUP(C1841,Sheet2!A:F,2,FALSE))","v":""},{"$f":"IF(OR(C1841=\"\",ISBLANK(C1841)),\"\",VLOOKUP(C1841,Sheet2!A:G,4,FALSE))","v":""},null,null,{"$f":"IF(OR(C1841=\"\",ISBLANK(C1841)),\"\",VLOOKUP(C1841,Sheet2!A:F,3,FALSE))","v":""},{"$f":"IF(OR(C1841=\"\",ISBLANK(C1841)),\"\",VLOOKUP(C1841,Sheet2!A:G,6,FALSE))","v":""},""]
[{"$f":"IF(OR(C1842=\"\",ISBLANK(C1842)),\"\",VLOOKUP(C1842,Sheet2!A:F,2,FALSE))","v":""},{"$f":"IF(OR(C1842=\"\",ISBLANK(C1842)),\"\",VLOOKUP(C1842,Sheet2!A:G,4,FALSE))","v":""},null,null,{"$f":"IF(OR(C1842=\"\",ISBLANK(C1842)),\"\",VLOOKUP(C1842,Sheet2!A:F,3,FALSE))","v":""},{"$f":"IF(OR(C1842=\"\",ISBLANK(C1842)),\"\",VLOOKUP(C1842,Sheet2!A:G,6,FALSE))","v":""},""]
[{"$f":"IF(OR(C1843=\"\",ISBLANK(C1843)),\"\",VLOOKUP(C1843,Sheet2!A:F,2,FALSE))","v":""},{"$f":"IF(OR(C1843=\"\",ISBLANK(C1843)),\"\",VLOOKUP(C1843,Sheet2!A:G,4,FALSE))","v":""},null,null,{"$f":"IF(OR(C1843=\"\",ISBLANK(C1843)),\"\",VLOOKUP(C1843,Sheet2!A:F,3,FALSE))","v":""},{"$f":"IF(OR(C1843=\"\",ISBLANK(C1843)),\"\",VLOOKUP(C1843,Sheet2!A:G,6,FALSE))","v":""},""]
[{"$f":"IF(OR(C1844=\"\",ISBLANK(C1844)),\"\",VLOOKUP(C1844,Sheet2!A:F,2,FALSE))","v":""},{"$f":"IF(OR(C1844=\"\",ISBLANK(C1844)),\"\",VLOOKUP(C1844,Sheet2!A:G,4,FALSE))","v":""},null,null,{"$f":"IF(OR(C1844=\"\",ISBLANK(C1844)),\"\",VLOOKUP(C1844,Sheet2!A:F,3,FALSE))","v":""},{"$f":"IF(OR(C1844=\"\",ISBLANK(C1844)),\"\",VLOOKUP(C1844,Sheet2!A:G,6,FALSE))","v":""},""]
[{"$f":"IF(OR(C1845=\"\",ISBLANK(C1845)),\"\",VLOOKUP(C1845,Sheet2!A:F,2,FALSE))","v":""},{"$f":"IF(OR(C1845=\"\",ISBLANK(C1845)),\"\",VLOOKUP(C1845,Sheet2!A:G,4,FALSE))","v":""},null,null,{"$f":"IF(OR(C1845=\"\",ISBLANK(C1845)),\"\",VLOOKUP(C1845,Sheet2!A:F,3,FALSE))","v":""},{"$f":"IF(OR(C1845=\"\",ISBLANK(C1845)),\"\",VLOOKUP(C1845,Sheet2!A:G,6,FALSE))","v":""},""]
[{"$f":"IF(OR(C1846=\"\",ISBLANK(C1846)),\"\",VLOOKUP(C1846,Sheet2!A:F,2,FALSE))","v":""},{"$f":"IF(OR(C1846=\"\",ISBLANK(C1846)),\"\",VLOOKUP(C1846,Sheet2!A:G,4,FALSE))","v":""},null,null,{"$f":"IF(OR(C1846=\"\",ISBLANK(C1846)),\"\",VLOOKUP(C1846,Sheet2!A:F,3,FALSE))","v":""},{"$f":"IF(OR(C1846=\"\",ISBLANK(C1846)),\"\",VLOOKUP(C1846,Sheet2!A:G,6,FALSE))","v":""},""]
[{"$f":"IF(OR(C1847=\"\",ISBLANK(C1847)),\"\",VLOOKUP(C1847,Sheet2!A:F,2,FALSE))","v":""},{"$f":"IF(OR(C1847=\"\",ISBLANK(C1847)),\"\",VLOOKUP(C1847,Sheet2!A:G,4,FALSE))","v":""},null,null,{"$f":"IF(OR(C1847=\"\",ISBLANK(C1847)),\"\",VLOOKUP(C1847,Sheet2!A:F,3,FALSE))","v":""},{"$f":"IF(OR(C1847=\"\",ISBLANK(C1847)),\"\",VLOOKUP(C1847,Sheet2!A:G,6,FALSE))","v":""},""]
[{"$f":"IF(OR(C1848=\"\",ISBLANK(C1848)),\"\",VLOOKUP(C1848,Sheet2!A:F,2,FALSE))","v":""},{"$f":"IF(OR(C1848=\"\",ISBLANK(C1848)),\"\",VLOOKUP(C1848,Sheet2!A:G,4,FALSE))","v":""},null,null,{"$f":"IF(OR(C1848=\"\",ISBLANK(C1848)),\"\",VLOOKUP(C1848,Sheet2!A:F,3,FALSE))","v":""},{"$f":"IF(OR(C1848=\"\",ISBLANK(C1848)),\"\",VLOOKUP(C1848,Sheet2!A:G,6,FALSE))","v":""},""]
[{"$f":"IF(OR(C1849=\"\",ISBLANK(C1849)),\"\",VLOOKUP(C1849,Sheet2!A:F,2,FALSE))","v":""},{"$f":"IF(OR(C1849=\"\",ISBLANK(C1849)),\"\",VLOOKUP(C1849,Sheet2!A:G,4,FALSE))","v":""},null,null,{"$f":"IF(OR(C1849=\"\",ISBLANK(C1849)),\"\",VLOOKUP(C1849,Sheet2!A:F,3,FALSE))","v":""},{"$f":"IF(OR(C1849=\"\",ISBLANK(C1849)),\"\",VLOOKUP(C1849,Sheet2!A:G,6,FALSE))","v":""},""]
[{"$f":"IF(OR(C1850=\"\",ISBLANK(C1850)),\"\",VLOOKUP(C1850,Sheet2!A:F,2,FALSE))","v":""},{"$f":"IF(OR(C1850=\"\",ISBLANK(C1850)),\"\",VLOOKUP(C1850,Sheet2!A:G,4,FALSE))","v":""},null,null,{"$f":"IF(OR(C1850=\"\",ISBLANK(C1850)),\"\",VLOOKUP(C1850,Sheet2!A:F,3,FALSE))","v":""},{"$f":"IF(OR(C1850=\"\",ISBLANK(C1850)),\"\",VLOOKUP(C1850,Sheet2!A:G,6,FALSE))","v":""},""]
[{"$f":"IF(OR(C1851=\"\",ISBLANK(C1851)),\"\",VLOOKUP(C1851,Sheet2!A:F,2,FALSE))","v":""},{"$f":"IF(OR(C1851=\"\",ISBLANK(C1851)),\"\",VLOOKUP(C1851,Sheet2!A:G,4,FALSE))","v":""},null,null,{"$f":"IF(OR(C1851=\"\",ISBLANK(C1851)),\"\",VLOOKUP(C1851,Sheet2!A:F,3,FALSE))","v":""},{"$f":"IF(OR(C1851=\"\",ISBLANK(C1851)),\"\",VLOOKUP(C1851,Sheet2!A:G,6,FALSE))","v":""},""]
[{"$f":"IF(OR(C1852=\"\",ISBLANK(C1852)),\"\",VLOOKUP(C1852,Sheet2!A:F,2,FALSE))","v":""},{"$f":"IF(OR(C1852=\"\",ISBLANK(C1852)),\"\",VLOOKUP(C1852,Sheet2!A:G,4,FALSE))","v":""},null,null,{"$f":"IF(OR(C1852=\"\",ISBLANK(C1852)),\"\",VLOOKUP(C1852,Sheet2!A:F,3,FALSE))","v":""},{"$f":"IF(OR(C1852=\"\",ISBLANK(C1852)),\"\",VLOOKUP(C1852,Sheet2!A:G,6,FALSE))","v":""},""]
[{"$f":"IF(OR(C1853=\"\",ISBLANK(C1853)),\"\",VLOOKUP(C1853,Sheet2!A:F,2,FALSE))","v":""},{"$f":"IF(OR(C1853=\"\",ISBLANK(C1853)),\"\",VLOOKUP(C1853,Sheet2!A:G,4,FALSE))","v":""},null,null,{"$f":"IF(OR(C1853=\"\",ISBLANK(C1853)),\"\",VLOOKUP(C1853,Sheet2!A:F,3,FALSE))","v":""},{"$f":"IF(OR(C1853=\"\",ISBLANK(C1853)),\"\",VLOOKUP(C1853,Sheet2!A:G,6,FALSE))","v":""},""]
[{"$f":"IF(OR(C1854=\"\",ISBLANK(C1854)),\"\",VLOOKUP(C1854,Sheet2!A:F,2,FALSE))","v":""},{"$f":"IF(OR(C1854=\"\",ISBLANK(C1854)),\"\",VLOOKUP(C1854,Sheet2!A:G,4,FALSE))","v":""},null,null,{"$f":"IF(OR(C1854=\"\",ISBLANK(C1854)),\"\",VLOOKUP(C1854,Sheet2!A:F,3,FALSE))","v":""},{"$f":"IF(OR(C1854=\"\",ISBLANK(C1854)),\"\",VLOOKUP(C1854,Sheet2!A:G,6,FALSE))","v":""},""]
[{"$f":"IF(OR(C1855=\"\",ISBLANK(C1855)),\"\",VLOOKUP(C1855,Sheet2!A:F,2,FALSE))","v":""},{"$f":"IF(OR(C1855=\"\",ISBLANK(C1855)),\"\",VLOOKUP(C1855,Sheet2!A:G,4,FALSE))","v":""},null,null,{"$f":"IF(OR(C1855=\"\",ISBLANK(C1855)),\"\",VLOOKUP(C1855,Sheet2!A:F,3,FALSE))","v":""},{"$f":"IF(OR(C1855=\"\",ISBLANK(C1855)),\"\",VLOOKUP(C1855,Sheet2!A:G,6,FALSE))","v":""},""]
[{"$f":"IF(OR(C1856=\"\",ISBLANK(C1856)),\"\",VLOOKUP(C1856,Sheet2!A:F,2,FALSE))","v":""},{"$f":"IF(OR(C1856=\"\",ISBLANK(C1856)),\"\",VLOOKUP(C1856,Sheet2!A:G,4,FALSE))","v":""},null,null,{"$f":"IF(OR(C1856=\"\",ISBLANK(C1856)),\"\",VLOOKUP(C1856,Sheet2!A:F,3,FALSE))","v":""},{"$f":"IF(OR(C1856=\"\",ISBLANK(C1856)),\"\",VLOOKUP(C1856,Sheet2!A:G,6,FALSE))","v":""},""]
[{"$f":"IF(OR(C1857=\"\",ISBLANK(C1857)),\"\",VLOOKUP(C1857,Sheet2!A:F,2,FALSE))","v":""},{"$f":"IF(OR(C1857=\"\",ISBLANK(C1857)),\"\",VLOOKUP(C1857,Sheet2!A:G,4,FALSE))","v":""},null,null,{"$f":"IF(OR(C1857=\"\",ISBLANK(C1857)),\"\",VLOOKUP(C1857,Sheet2!A:F,3,FALSE))","v":""},{"$f":"IF(OR(C1857=\"\",ISBLANK(C1857)),\"\",VLOOKUP(C1857,Sheet2!A:G,6,FALSE))","v":""},""]
[{"$f":"IF(OR(C1858=\"\",ISBLANK(C1858)),\"\",VLOOKUP(C1858,Sheet2!A:F,2,FALSE))","v":""},{"$f":"IF(OR(C1858=\"\",ISBLANK(C1858)),\"\",VLOOKUP(C1858,Sheet2!A:G,4,FALSE))","v":""},null,null,{"$f":"IF(OR(C1858=\"\",ISBLANK(C1858)),\"\",VLOOKUP(C1858,Sheet2!A:F,3,FALSE))","v":""},{"$f":"IF(OR(C1858=\"\",ISBLANK(C1858)),\"\",VLOOKUP(C1858,Sheet2!A:G,6,FALSE))","v":""},""]
[{"$f":"IF(OR(C1859=\"\",ISBLANK(C1859)),\"\",VLOOKUP(C1859,Sheet2!A:F,2,FALSE))","v":""},{"$f":"IF(OR(C1859=\"\",ISBLANK(C1859)),\"\",VLOOKUP(C1859,Sheet2!A:G,4,FALSE))","v":""},null,null,{"$f":"IF(OR(C1859=\"\",ISBLANK(C1859)),\"\",VLOOKUP(C1859,Sheet2!A:F,3,FALSE))","v":""},{"$f":"IF(OR(C1859=\"\",ISBLANK(C1859)),\"\",VLOOKUP(C1859,Sheet2!A:G,6,FALSE))","v":""},{"$f":"IF(F1859=0,\"\",F1859)","v":""}]
[{"$f":"IF(OR(C1860=\"\",ISBLANK(C1860)),\"\",VLOOKUP(C1860,Sheet2!A:F,2,FALSE))","v":""},{"$f":"IF(OR(C1860=\"\",ISBLANK(C1860)),\"\",VLOOKUP(C1860,Sheet2!A:G,4,FALSE))","v":""},null,null,{"$f":"IF(OR(C1860=\"\",ISBLANK(C1860)),\"\",VLOOKUP(C1860,Sheet2!A:F,3,FALSE))","v":""},{"$f":"IF(OR(C1860=\"\",ISBLANK(C1860)),\"\",VLOOKUP(C1860,Sheet2!A:G,6,FALSE))","v":""},""]
[{"$f":"IF(OR(C1861=\"\",ISBLANK(C1861)),\"\",VLOOKUP(C1861,Sheet2!A:F,2,FALSE))","v":""},{"$f":"IF(OR(C1861=\"\",ISBLANK(C1861)),\"\",VLOOKUP(C1861,Sheet2!A:G,4,FALSE))","v":""},null,null,{"$f":"IF(OR(C1861=\"\",ISBLANK(C1861)),\"\",VLOOKUP(C1861,Sheet2!A:F,3,FALSE))","v":""},{"$f":"IF(OR(C1861=\"\",ISBLANK(C1861)),\"\",VLOOKUP(C1861,Sheet2!A:G,6,FALSE))","v":""},""]
[{"$f":"IF(OR(C1862=\"\",ISBLANK(C1862)),\"\",VLOOKUP(C1862,Sheet2!A:F,2,FALSE))","v":""},{"$f":"IF(OR(C1862=\"\",ISBLANK(C1862)),\"\",VLOOKUP(C1862,Sheet2!A:G,4,FALSE))","v":""},null,null,{"$f":"IF(OR(C1862=\"\",ISBLANK(C1862)),\"\",VLOOKUP(C1862,Sheet2!A:F,3,FALSE))","v":""},{"$f":"IF(OR(C1862=\"\",ISBLANK(C1862)),\"\",VLOOKUP(C1862,Sheet2!A:G,6,FALSE))","v":""},""]
[{"$f":"IF(OR(C1863=\"\",ISBLANK(C1863)),\"\",VLOOKUP(C1863,Sheet2!A:F,2,FALSE))","v":""},{"$f":"IF(OR(C1863=\"\",ISBLANK(C1863)),\"\",VLOOKUP(C1863,Sheet2!A:G,4,FALSE))","v":""},null,null,{"$f":"IF(OR(C1863=\"\",ISBLANK(C1863)),\"\",VLOOKUP(C1863,Sheet2!A:F,3,FALSE))","v":""},{"$f":"IF(OR(C1863=\"\",ISBLANK(C1863)),\"\",VLOOKUP(C1863,Sheet2!A:G,6,FALSE))","v":""},""]
[{"$f":"IF(OR(C1864=\"\",ISBLANK(C1864)),\"\",VLOOKUP(C1864,Sheet2!A:F,2,FALSE))","v":""},{"$f":"IF(OR(C1864=\"\",ISBLANK(C1864)),\"\",VLOOKUP(C1864,Sheet2!A:G,4,FALSE))","v":""},null,null,{"$f":"IF(OR(C1864=\"\",ISBLANK(C1864)),\"\",VLOOKUP(C1864,Sheet2!A:F,3,FALSE))","v":""},{"$f":"IF(OR(C1864=\"\",ISBLANK(C1864)),\"\",VLOOKUP(C1864,Sheet2!A:G,6,FALSE))","v":""},""]
[{"$f":"IF(OR(C1865=\"\",ISBLANK(C1865)),\"\",VLOOKUP(C1865,Sheet2!A:F,2,FALSE))","v":""},{"$f":"IF(OR(C1865=\"\",ISBLANK(C1865)),\"\",VLOOKUP(C1865,Sheet2!A:G,4,FALSE))","v":""},null,null,{"$f":"IF(OR(C1865=\"\",ISBLANK(C1865)),\"\",VLOOKUP(C1865,Sheet2!A:F,3,FALSE))","v":""},{"$f":"IF(OR(C1865=\"\",ISBLANK(C1865)),\"\",VLOOKUP(C1865,Sheet2!A:G,6,FALSE))","v":""},""]
[{"$f":"IF(OR(C1866=\"\",ISBLANK(C1866)),\"\",VLOOKUP(C1866,Sheet2!A:F,2,FALSE))","v":""},{"$f":"IF(OR(C1866=\"\",ISBLANK(C1866)),\"\",VLOOKUP(C1866,Sheet2!A:G,4,FALSE))","v":""},null,null,{"$f":"IF(OR(C1866=\"\",ISBLANK(C1866)),\"\",VLOOKUP(C1866,Sheet2!A:F,3,FALSE))","v":""},{"$f":"IF(OR(C1866=\"\",ISBLANK(C1866)),\"\",VLOOKUP(C1866,Sheet2!A:G,6,FALSE))","v":""},""]
[{"$f":"IF(OR(C1867=\"\",ISBLANK(C1867)),\"\",VLOOKUP(C1867,Sheet2!A:F,2,FALSE))","v":""},{"$f":"IF(OR(C1867=\"\",ISBLANK(C1867)),\"\",VLOOKUP(C1867,Sheet2!A:G,4,FALSE))","v":""},null,null,{"$f":"IF(OR(C1867=\"\",ISBLANK(C1867)),\"\",VLOOKUP(C1867,Sheet2!A:F,3,FALSE))","v":""},{"$f":"IF(OR(C1867=\"\",ISBLANK(C1867)),\"\",VLOOKUP(C1867,Sheet2!A:G,6,FALSE))","v":""},""]
[{"$f":"IF(OR(C1868=\"\",ISBLANK(C1868)),\"\",VLOOKUP(C1868,Sheet2!A:F,2,FALSE))","v":""},{"$f":"IF(OR(C1868=\"\",ISBLANK(C1868)),\"\",VLOOKUP(C1868,Sheet2!A:G,4,FALSE))","v":""},null,null,{"$f":"IF(OR(C1868=\"\",ISBLANK(C1868)),\"\",VLOOKUP(C1868,Sheet2!A:F,3,FALSE))","v":""},{"$f":"IF(OR(C1868=\"\",ISBLANK(C1868)),\"\",VLOOKUP(C1868,Sheet2!A:G,6,FALSE))","v":""},""]
[{"$f":"IF(OR(C1869=\"\",ISBLANK(C1869)),\"\",VLOOKUP(C1869,Sheet2!A:F,2,FALSE))","v":""},{"$f":"IF(OR(C1869=\"\",ISBLANK(C1869)),\"\",VLOOKUP(C1869,Sheet2!A:G,4,FALSE))","v":""},null,null,{"$f":"IF(OR(C1869=\"\",ISBLANK(C1869)),\"\",VLOOKUP(C1869,Sheet2!A:F,3,FALSE))","v":""},{"$f":"IF(OR(C1869=\"\",ISBLANK(C1869)),\"\",VLOOKUP(C1869,Sheet2!A:G,6,FALSE))","v":""},""]
[{"$f":"IF(OR(C1870=\"\",ISBLANK(C1870)),\"\",VLOOKUP(C1870,Sheet2!A:F,2,FALSE))","v":""},{"$f":"IF(OR(C1870=\"\",ISBLANK(C1870)),\"\",VLOOKUP(C1870,Sheet2!A:G,4,FALSE))","v":""},null,null,{"$f":"IF(OR(C1870=\"\",ISBLANK(C1870)),\"\",VLOOKUP(C1870,Sheet2!A:F,3,FALSE))","v":""},{"$f":"IF(OR(C1870=\"\",ISBLANK(C1870)),\"\",VLOOKUP(C1870,Sheet2!A:G,6,FALSE))","v":""},""]
[{"$f":"IF(OR(C1871=\"\",ISBLANK(C1871)),\"\",VLOOKUP(C1871,Sheet2!A:F,2,FALSE))","v":""},{"$f":"IF(OR(C1871=\"\",ISBLANK(C1871)),\"\",VLOOKUP(C1871,Sheet2!A:G,4,FALSE))","v":""},null,null,{"$f":"IF(OR(C1871=\"\",ISBLANK(C1871)),\"\",VLOOKUP(C1871,Sheet2!A:F,3,FALSE))","v":""},{"$f":"IF(OR(C1871=\"\",ISBLANK(C1871)),\"\",VLOOKUP(C1871,Sheet2!A:G,6,FALSE))","v":""},""]
[{"$f":"IF(OR(C1872=\"\",ISBLANK(C1872)),\"\",VLOOKUP(C1872,Sheet2!A:F,2,FALSE))","v":""},{"$f":"IF(OR(C1872=\"\",ISBLANK(C1872)),\"\",VLOOKUP(C1872,Sheet2!A:G,4,FALSE))","v":""},null,null,{"$f":"IF(OR(C1872=\"\",ISBLANK(C1872)),\"\",VLOOKUP(C1872,Sheet2!A:F,3,FALSE))","v":""},{"$f":"IF(OR(C1872=\"\",ISBLANK(C1872)),\"\",VLOOKUP(C1872,Sheet2!A:G,6,FALSE))","v":""},""]
[{"$f":"IF(OR(C1873=\"\",ISBLANK(C1873)),\"\",VLOOKUP(C1873,Sheet2!A:F,2,FALSE))","v":""},{"$f":"IF(OR(C1873=\"\",ISBLANK(C1873)),\"\",VLOOKUP(C1873,Sheet2!A:G,4,FALSE))","v":""},null,null,{"$f":"IF(OR(C1873=\"\",ISBLANK(C1873)),\"\",VLOOKUP(C1873,Sheet2!A:F,3,FALSE))","v":""},{"$f":"IF(OR(C1873=\"\",ISBLANK(C1873)),\"\",VLOOKUP(C1873,Sheet2!A:G,6,FALSE))","v":""},""]
[{"$f":"IF(OR(C1874=\"\",ISBLANK(C1874)),\"\",VLOOKUP(C1874,Sheet2!A:F,2,FALSE))","v":""},{"$f":"IF(OR(C1874=\"\",ISBLANK(C1874)),\"\",VLOOKUP(C1874,Sheet2!A:G,4,FALSE))","v":""},null,null,{"$f":"IF(OR(C1874=\"\",ISBLANK(C1874)),\"\",VLOOKUP(C1874,Sheet2!A:F,3,FALSE))","v":""},{"$f":"IF(OR(C1874=\"\",ISBLANK(C1874)),\"\",VLOOKUP(C1874,Sheet2!A:G,6,FALSE))","v":""},""]
[{"$f":"IF(OR(C1875=\"\",ISBLANK(C1875)),\"\",VLOOKUP(C1875,Sheet2!A:F,2,FALSE))","v":""},{"$f":"IF(OR(C1875=\"\",ISBLANK(C1875)),\"\",VLOOKUP(C1875,Sheet2!A:G,4,FALSE))","v":""},null,null,{"$f":"IF(OR(C1875=\"\",ISBLANK(C1875)),\"\",VLOOKUP(C1875,Sheet2!A:F,3,FALSE))","v":""},{"$f":"IF(OR(C1875=\"\",ISBLANK(C1875)),\"\",VLOOKUP(C1875,Sheet2!A:G,6,FALSE))","v":""},""]
[{"$f":"IF(OR(C1876=\"\",ISBLANK(C1876)),\"\",VLOOKUP(C1876,Sheet2!A:F,2,FALSE))","v":""},{"$f":"IF(OR(C1876=\"\",ISBLANK(C1876)),\"\",VLOOKUP(C1876,Sheet2!A:G,4,FALSE))","v":""},null,null,{"$f":"IF(OR(C1876=\"\",ISBLANK(C1876)),\"\",VLOOKUP(C1876,Sheet2!A:F,3,FALSE))","v":""},{"$f":"IF(OR(C1876=\"\",ISBLANK(C1876)),\"\",VLOOKUP(C1876,Sheet2!A:G,6,FALSE))","v":""},""]
[{"$f":"IF(OR(C1877=\"\",ISBLANK(C1877)),\"\",VLOOKUP(C1877,Sheet2!A:F,2,FALSE))","v":""},{"$f":"IF(OR(C1877=\"\",ISBLANK(C1877)),\"\",VLOOKUP(C1877,Sheet2!A:G,4,FALSE))","v":""},null,null,{"$f":"IF(OR(C1877=\"\",ISBLANK(C1877)),\"\",VLOOKUP(C1877,Sheet2!A:F,3,FALSE))","v":""},{"$f":"IF(OR(C1877=\"\",ISBLANK(C1877)),\"\",VLOOKUP(C1877,Sheet2!A:G,6,FALSE))","v":""},""]
[{"$f":"IF(OR(C1878=\"\",ISBLANK(C1878)),\"\",VLOOKUP(C1878,Sheet2!A:F,2,FALSE))","v":""},{"$f":"IF(OR(C1878=\"\",ISBLANK(C1878)),\"\",VLOOKUP(C1878,Sheet2!A:G,4,FALSE))","v":""},null,null,{"$f":"IF(OR(C1878=\"\",ISBLANK(C1878)),\"\",VLOOKUP(C1878,Sheet2!A:F,3,FALSE))","v":""},{"$f":"IF(OR(C1878=\"\",ISBLANK(C1878)),\"\",VLOOKUP(C1878,Sheet2!A:G,6,FALSE))","v":""},""]
[{"$f":"IF(OR(C1879=\"\",ISBLANK(C1879)),\"\",VLOOKUP(C1879,Sheet2!A:F,2,FALSE))","v":""},{"$f":"IF(OR(C1879=\"\",ISBLANK(C1879)),\"\",VLOOKUP(C1879,Sheet2!A:G,4,FALSE))","v":""},null,null,{"$f":"IF(OR(C1879=\"\",ISBLANK(C1879)),\"\",VLOOKUP(C1879,Sheet2!A:F,3,FALSE))","v":""},{"$f":"IF(OR(C1879=\"\",ISBLANK(C1879)),\"\",VLOOKUP(C1879,Sheet2!A:G,6,FALSE))","v":""},""]
[{"$f":"IF(OR(C1880=\"\",ISBLANK(C1880)),\"\",VLOOKUP(C1880,Sheet2!A:F,2,FALSE))","v":""},{"$f":"IF(OR(C1880=\"\",ISBLANK(C1880)),\"\",VLOOKUP(C1880,Sheet2!A:G,4,FALSE))","v":""},null,null,{"$f":"IF(OR(C1880=\"\",ISBLANK(C1880)),\"\",VLOOKUP(C1880,Sheet2!A:F,3,FALSE))","v":""},{"$f":"IF(OR(C1880=\"\",ISBLANK(C1880)),\"\",VLOOKUP(C1880,Sheet2!A:G,6,FALSE))","v":""},""]
[{"$f":"IF(OR(C1881=\"\",ISBLANK(C1881)),\"\",VLOOKUP(C1881,Sheet2!A:F,2,FALSE))","v":""},{"$f":"IF(OR(C1881=\"\",ISBLANK(C1881)),\"\",VLOOKUP(C1881,Sheet2!A:G,4,FALSE))","v":""},null,null,{"$f":"IF(OR(C1881=\"\",ISBLANK(C1881)),\"\",VLOOKUP(C1881,Sheet2!A:F,3,FALSE))","v":""},{"$f":"IF(OR(C1881=\"\",ISBLANK(C1881)),\"\",VLOOKUP(C1881,Sheet2!A:G,6,FALSE))","v":""},""]
[{"$f":"IF(OR(C1882=\"\",ISBLANK(C1882)),\"\",VLOOKUP(C1882,Sheet2!A:F,2,FALSE))","v":""},{"$f":"IF(OR(C1882=\"\",ISBLANK(C1882)),\"\",VLOOKUP(C1882,Sheet2!A:G,4,FALSE))","v":""},null,null,{"$f":"IF(OR(C1882=\"\",ISBLANK(C1882)),\"\",VLOOKUP(C1882,Sheet2!A:F,3,FALSE))","v":""},{"$f":"IF(OR(C1882=\"\",ISBLANK(C1882)),\"\",VLOOKUP(C1882,Sheet2!A:G,6,FALSE))","v":""},""]
[{"$f":"IF(OR(C1883=\"\",ISBLANK(C1883)),\"\",VLOOKUP(C1883,Sheet2!A:F,2,FALSE))","v":""},{"$f":"IF(OR(C1883=\"\",ISBLANK(C1883)),\"\",VLOOKUP(C1883,Sheet2!A:G,4,FALSE))","v":""},null,null,{"$f":"IF(OR(C1883=\"\",ISBLANK(C1883)),\"\",VLOOKUP(C1883,Sheet2!A:F,3,FALSE))","v":""},{"$f":"IF(OR(C1883=\"\",ISBLANK(C1883)),\"\",VLOOKUP(C1883,Sheet2!A:G,6,FALSE))","v":""},""]
[{"$f":"IF(OR(C1884=\"\",ISBLANK(C1884)),\"\",VLOOKUP(C1884,Sheet2!A:F,2,FALSE))","v":""},{"$f":"IF(OR(C1884=\"\",ISBLANK(C1884)),\"\",VLOOKUP(C1884,Sheet2!A:G,4,FALSE))","v":""},null,null,{"$f":"IF(OR(C1884=\"\",ISBLANK(C1884)),\"\",VLOOKUP(C1884,Sheet2!A:F,3,FALSE))","v":""},{"$f":"IF(OR(C1884=\"\",ISBLANK(C1884)),\"\",VLOOKUP(C1884,Sheet2!A:G,6,FALSE))","v":""},""]
[{"$f":"IF(OR(C1885=\"\",ISBLANK(C1885)),\"\",VLOOKUP(C1885,Sheet2!A:F,2,FALSE))","v":""},{"$f":"IF(OR(C1885=\"\",ISBLANK(C1885)),\"\",VLOOKUP(C1885,Sheet2!A:G,4,FALSE))","v":""},null,null,{"$f":"IF(OR(C1885=\"\",ISBLANK(C1885)),\"\",VLOOKUP(C1885,Sheet2!A:F,3,FALSE))","v":""},{"$f":"IF(OR(C1885=\"\",ISBLANK(C1885)),\"\",VLOOKUP(C1885,Sheet2!A:G,6,FALSE))","v":""},""]
[{"$f":"IF(OR(C1886=\"\",ISBLANK(C1886)),\"\",VLOOKUP(C1886,Sheet2!A:F,2,FALSE))","v":""},{"$f":"IF(OR(C1886=\"\",ISBLANK(C1886)),\"\",VLOOKUP(C1886,Sheet2!A:G,4,FALSE))","v":""},null,null,{"$f":"IF(OR(C1886=\"\",ISBLANK(C1886)),\"\",VLOOKUP(C1886,Sheet2!A:F,3,FALSE))","v":""},{"$f":"IF(OR(C1886=\"\",ISBLANK(C1886)),\"\",VLOOKUP(C1886,Sheet2!A:G,6,FALSE))","v":""},""]
[{"$f":"IF(OR(C1887=\"\",ISBLANK(C1887)),\"\",VLOOKUP(C1887,Sheet2!A:F,2,FALSE))","v":""},{"$f":"IF(OR(C1887=\"\",ISBLANK(C1887)),\"\",VLOOKUP(C1887,Sheet2!A:G,4,FALSE))","v":""},null,null,{"$f":"IF(OR(C1887=\"\",ISBLANK(C1887)),\"\",VLOOKUP(C1887,Sheet2!A:F,3,FALSE))","v":""},{"$f":"IF(OR(C1887=\"\",ISBLANK(C1887)),\"\",VLOOKUP(C1887,Sheet2!A:G,6,FALSE))","v":""},""]
[{"$f":"IF(OR(C1888=\"\",ISBLANK(C1888)),\"\",VLOOKUP(C1888,Sheet2!A:F,2,FALSE))","v":""},{"$f":"IF(OR(C1888=\"\",ISBLANK(C1888)),\"\",VLOOKUP(C1888,Sheet2!A:G,4,FALSE))","v":""},null,null,{"$f":"IF(OR(C1888=\"\",ISBLANK(C1888)),\"\",VLOOKUP(C1888,Sheet2!A:F,3,FALSE))","v":""},{"$f":"IF(OR(C1888=\"\",ISBLANK(C1888)),\"\",VLOOKUP(C1888,Sheet2!A:G,6,FALSE))","v":""},""]
[{"$f":"IF(OR(C1889=\"\",ISBLANK(C1889)),\"\",VLOOKUP(C1889,Sheet2!A:F,2,FALSE))","v":""},{"$f":"IF(OR(C1889=\"\",ISBLANK(C1889)),\"\",VLOOKUP(C1889,Sheet2!A:G,4,FALSE))","v":""},null,null,{"$f":"IF(OR(C1889=\"\",ISBLANK(C1889)),\"\",VLOOKUP(C1889,Sheet2!A:F,3,FALSE))","v":""},{"$f":"IF(OR(C1889=\"\",ISBLANK(C1889)),\"\",VLOOKUP(C1889,Sheet2!A:G,6,FALSE))","v":""},""]
[{"$f":"IF(OR(C1890=\"\",ISBLANK(C1890)),\"\",VLOOKUP(C1890,Sheet2!A:F,2,FALSE))","v":""},{"$f":"IF(OR(C1890=\"\",ISBLANK(C1890)),\"\",VLOOKUP(C1890,Sheet2!A:G,4,FALSE))","v":""},null,null,{"$f":"IF(OR(C1890=\"\",ISBLANK(C1890)),\"\",VLOOKUP(C1890,Sheet2!A:F,3,FALSE))","v":""},{"$f":"IF(OR(C1890=\"\",ISBLANK(C1890)),\"\",VLOOKUP(C1890,Sheet2!A:G,6,FALSE))","v":""},""]
[{"$f":"IF(OR(C1891=\"\",ISBLANK(C1891)),\"\",VLOOKUP(C1891,Sheet2!A:F,2,FALSE))","v":""},{"$f":"IF(OR(C1891=\"\",ISBLANK(C1891)),\"\",VLOOKUP(C1891,Sheet2!A:G,4,FALSE))","v":""},null,null,{"$f":"IF(OR(C1891=\"\",ISBLANK(C1891)),\"\",VLOOKUP(C1891,Sheet2!A:F,3,FALSE))","v":""},{"$f":"IF(OR(C1891=\"\",ISBLANK(C1891)),\"\",VLOOKUP(C1891,Sheet2!A:G,6,FALSE))","v":""},""]
[{"$f":"IF(OR(C1892=\"\",ISBLANK(C1892)),\"\",VLOOKUP(C1892,Sheet2!A:F,2,FALSE))","v":""},{"$f":"IF(OR(C1892=\"\",ISBLANK(C1892)),\"\",VLOOKUP(C1892,Sheet2!A:G,4,FALSE))","v":""},null,null,{"$f":"IF(OR(C1892=\"\",ISBLANK(C1892)),\"\",VLOOKUP(C1892,Sheet2!A:F,3,FALSE))","v":""},{"$f":"IF(OR(C1892=\"\",ISBLANK(C1892)),\"\",VLOOKUP(C1892,Sheet2!A:G,6,FALSE))","v":""},""]
[{"$f":"IF(OR(C1893=\"\",ISBLANK(C1893)),\"\",VLOOKUP(C1893,Sheet2!A:F,2,FALSE))","v":""},{"$f":"IF(OR(C1893=\"\",ISBLANK(C1893)),\"\",VLOOKUP(C1893,Sheet2!A:G,4,FALSE))","v":""},null,null,{"$f":"IF(OR(C1893=\"\",ISBLANK(C1893)),\"\",VLOOKUP(C1893,Sheet2!A:F,3,FALSE))","v":""},{"$f":"IF(OR(C1893=\"\",ISBLANK(C1893)),\"\",VLOOKUP(C1893,Sheet2!A:G,6,FALSE))","v":""},""]
[{"$f":"IF(OR(C1894=\"\",ISBLANK(C1894)),\"\",VLOOKUP(C1894,Sheet2!A:F,2,FALSE))","v":""},{"$f":"IF(OR(C1894=\"\",ISBLANK(C1894)),\"\",VLOOKUP(C1894,Sheet2!A:G,4,FALSE))","v":""},null,null,{"$f":"IF(OR(C1894=\"\",ISBLANK(C1894)),\"\",VLOOKUP(C1894,Sheet2!A:F,3,FALSE))","v":""},{"$f":"IF(OR(C1894=\"\",ISBLANK(C1894)),\"\",VLOOKUP(C1894,Sheet2!A:G,6,FALSE))","v":""},""]
[{"$f":"IF(OR(C1895=\"\",ISBLANK(C1895)),\"\",VLOOKUP(C1895,Sheet2!A:F,2,FALSE))","v":""},{"$f":"IF(OR(C1895=\"\",ISBLANK(C1895)),\"\",VLOOKUP(C1895,Sheet2!A:G,4,FALSE))","v":""},null,null,{"$f":"IF(OR(C1895=\"\",ISBLANK(C1895)),\"\",VLOOKUP(C1895,Sheet2!A:F,3,FALSE))","v":""},{"$f":"IF(OR(C1895=\"\",ISBLANK(C1895)),\"\",VLOOKUP(C1895,Sheet2!A:G,6,FALSE))","v":""},""]
[{"$f":"IF(OR(C1896=\"\",ISBLANK(C1896)),\"\",VLOOKUP(C1896,Sheet2!A:F,2,FALSE))","v":""},{"$f":"IF(OR(C1896=\"\",ISBLANK(C1896)),\"\",VLOOKUP(C1896,Sheet2!A:G,4,FALSE))","v":""},null,null,{"$f":"IF(OR(C1896=\"\",ISBLANK(C1896)),\"\",VLOOKUP(C1896,Sheet2!A:F,3,FALSE))","v":""},{"$f":"IF(OR(C1896=\"\",ISBLANK(C1896)),\"\",VLOOKUP(C1896,Sheet2!A:G,6,FALSE))","v":""},""]
[{"$f":"IF(OR(C1897=\"\",ISBLANK(C1897)),\"\",VLOOKUP(C1897,Sheet2!A:F,2,FALSE))","v":""},{"$f":"IF(OR(C1897=\"\",ISBLANK(C1897)),\"\",VLOOKUP(C1897,Sheet2!A:G,4,FALSE))","v":""},null,null,{"$f":"IF(OR(C1897=\"\",ISBLANK(C1897)),\"\",VLOOKUP(C1897,Sheet2!A:F,3,FALSE))","v":""},{"$f":"IF(OR(C1897=\"\",ISBLANK(C1897)),\"\",VLOOKUP(C1897,Sheet2!A:G,6,FALSE))","v":""},""]
[{"$f":"IF(OR(C1898=\"\",ISBLANK(C1898)),\"\",VLOOKUP(C1898,Sheet2!A:F,2,FALSE))","v":""},{"$f":"IF(OR(C1898=\"\",ISBLANK(C1898)),\"\",VLOOKUP(C1898,Sheet2!A:G,4,FALSE))","v":""},null,null,{"$f":"IF(OR(C1898=\"\",ISBLANK(C1898)),\"\",VLOOKUP(C1898,Sheet2!A:F,3,FALSE))","v":""},{"$f":"IF(OR(C1898=\"\",ISBLANK(C1898)),\"\",VLOOKUP(C1898,Sheet2!A:G,6,FALSE))","v":""},""]
[{"$f":"IF(OR(C1899=\"\",ISBLANK(C1899)),\"\",VLOOKUP(C1899,Sheet2!A:F,2,FALSE))","v":""},{"$f":"IF(OR(C1899=\"\",ISBLANK(C1899)),\"\",VLOOKUP(C1899,Sheet2!A:G,4,FALSE))","v":""},null,null,{"$f":"IF(OR(C1899=\"\",ISBLANK(C1899)),\"\",VLOOKUP(C1899,Sheet2!A:F,3,FALSE))","v":""},{"$f":"IF(OR(C1899=\"\",ISBLANK(C1899)),\"\",VLOOKUP(C1899,Sheet2!A:G,6,FALSE))","v":""},""]
[{"$f":"IF(OR(C1900=\"\",ISBLANK(C1900)),\"\",VLOOKUP(C1900,Sheet2!A:F,2,FALSE))","v":""},{"$f":"IF(OR(C1900=\"\",ISBLANK(C1900)),\"\",VLOOKUP(C1900,Sheet2!A:G,4,FALSE))","v":""},null,null,{"$f":"IF(OR(C1900=\"\",ISBLANK(C1900)),\"\",VLOOKUP(C1900,Sheet2!A:F,3,FALSE))","v":""},{"$f":"IF(OR(C1900=\"\",ISBLANK(C1900)),\"\",VLOOKUP(C1900,Sheet2!A:G,6,FALSE))","v":""},""]
[{"$f":"IF(OR(C1901=\"\",ISBLANK(C1901)),\"\",VLOOKUP(C1901,Sheet2!A:F,2,FALSE))","v":""},{"$f":"IF(OR(C1901=\"\",ISBLANK(C1901)),\"\",VLOOKUP(C1901,Sheet2!A:G,4,FALSE))","v":""},null,null,{"$f":"IF(OR(C1901=\"\",ISBLANK(C1901)),\"\",VLOOKUP(C1901,Sheet2!A:F,3,FALSE))","v":""},{"$f":"IF(OR(C1901=\"\",ISBLANK(C1901)),\"\",VLOOKUP(C1901,Sheet2!A:G,6,FALSE))","v":""},""]
[{"$f":"IF(OR(C1902=\"\",ISBLANK(C1902)),\"\",VLOOKUP(C1902,Sheet2!A:F,2,FALSE))","v":""},{"$f":"IF(OR(C1902=\"\",ISBLANK(C1902)),\"\",VLOOKUP(C1902,Sheet2!A:G,4,FALSE))","v":""},null,null,{"$f":"IF(OR(C1902=\"\",ISBLANK(C1902)),\"\",VLOOKUP(C1902,Sheet2!A:F,3,FALSE))","v":""},{"$f":"IF(OR(C1902=\"\",ISBLANK(C1902)),\"\",VLOOKUP(C1902,Sheet2!A:G,6,FALSE))","v":""},""]
[{"$f":"IF(OR(C1903=\"\",ISBLANK(C1903)),\"\",VLOOKUP(C1903,Sheet2!A:F,2,FALSE))","v":""},{"$f":"IF(OR(C1903=\"\",ISBLANK(C1903)),\"\",VLOOKUP(C1903,Sheet2!A:G,4,FALSE))","v":""},null,null,{"$f":"IF(OR(C1903=\"\",ISBLANK(C1903)),\"\",VLOOKUP(C1903,Sheet2!A:F,3,FALSE))","v":""},{"$f":"IF(OR(C1903=\"\",ISBLANK(C1903)),\"\",VLOOKUP(C1903,Sheet2!A:G,6,FALSE))","v":""},""]
[{"$f":"IF(OR(C1904=\"\",ISBLANK(C1904)),\"\",VLOOKUP(C1904,Sheet2!A:F,2,FALSE))","v":""},{"$f":"IF(OR(C1904=\"\",ISBLANK(C1904)),\"\",VLOOKUP(C1904,Sheet2!A:G,4,FALSE))","v":""},null,null,{"$f":"IF(OR(C1904=\"\",ISBLANK(C1904)),\"\",VLOOKUP(C1904,Sheet2!A:F,3,FALSE))","v":""},{"$f":"IF(OR(C1904=\"\",ISBLANK(C1904)),\"\",VLOOKUP(C1904,Sheet2!A:G,6,FALSE))","v":""},""]
[{"$f":"IF(OR(C1905=\"\",ISBLANK(C1905)),\"\",VLOOKUP(C1905,Sheet2!A:F,2,FALSE))","v":""},{"$f":"IF(OR(C1905=\"\",ISBLANK(C1905)),\"\",VLOOKUP(C1905,Sheet2!A:G,4,FALSE))","v":""},null,null,{"$f":"IF(OR(C1905=\"\",ISBLANK(C1905)),\"\",VLOOKUP(C1905,Sheet2!A:F,3,FALSE))","v":""},{"$f":"IF(OR(C1905=\"\",ISBLANK(C1905)),\"\",VLOOKUP(C1905,Sheet2!A:G,6,FALSE))","v":""},""]
[{"$f":"IF(OR(C1906=\"\",ISBLANK(C1906)),\"\",VLOOKUP(C1906,Sheet2!A:F,2,FALSE))","v":""},{"$f":"IF(OR(C1906=\"\",ISBLANK(C1906)),\"\",VLOOKUP(C1906,Sheet2!A:G,4,FALSE))","v":""},null,null,{"$f":"IF(OR(C1906=\"\",ISBLANK(C1906)),\"\",VLOOKUP(C1906,Sheet2!A:F,3,FALSE))","v":""},{"$f":"IF(OR(C1906=\"\",ISBLANK(C1906)),\"\",VLOOKUP(C1906,Sheet2!A:G,6,FALSE))","v":""},""]
[{"$f":"IF(OR(C1907=\"\",ISBLANK(C1907)),\"\",VLOOKUP(C1907,Sheet2!A:F,2,FALSE))","v":""},{"$f":"IF(OR(C1907=\"\",ISBLANK(C1907)),\"\",VLOOKUP(C1907,Sheet2!A:G,4,FALSE))","v":""},null,null,{"$f":"IF(OR(C1907=\"\",ISBLANK(C1907)),\"\",VLOOKUP(C1907,Sheet2!A:F,3,FALSE))","v":""},{"$f":"IF(OR(C1907=\"\",ISBLANK(C1907)),\"\",VLOOKUP(C1907,Sheet2!A:G,6,FALSE))","v":""},""]
[{"$f":"IF(OR(C1908=\"\",ISBLANK(C1908)),\"\",VLOOKUP(C1908,Sheet2!A:F,2,FALSE))","v":""},{"$f":"IF(OR(C1908=\"\",ISBLANK(C1908)),\"\",VLOOKUP(C1908,Sheet2!A:G,4,FALSE))","v":""},null,null,{"$f":"IF(OR(C1908=\"\",ISBLANK(C1908)),\"\",VLOOKUP(C1908,Sheet2!A:F,3,FALSE))","v":""},{"$f":"IF(OR(C1908=\"\",ISBLANK(C1908)),\"\",VLOOKUP(C1908,Sheet2!A:G,6,FALSE))","v":""},""]
[{"$f":"IF(OR(C1909=\"\",ISBLANK(C1909)),\"\",VLOOKUP(C1909,Sheet2!A:F,2,FALSE))","v":""},{"$f":"IF(OR(C1909=\"\",ISBLANK(C1909)),\"\",VLOOKUP(C1909,Sheet2!A:G,4,FALSE))","v":""},null,null,{"$f":"IF(OR(C1909=\"\",ISBLANK(C1909)),\"\",VLOOKUP(C1909,Sheet2!A:F,3,FALSE))","v":""},{"$f":"IF(OR(C1909=\"\",ISBLANK(C1909)),\"\",VLOOKUP(C1909,Sheet2!A:G,6,FALSE))","v":""},""]
[{"$f":"IF(OR(C1910=\"\",ISBLANK(C1910)),\"\",VLOOKUP(C1910,Sheet2!A:F,2,FALSE))","v":""},{"$f":"IF(OR(C1910=\"\",ISBLANK(C1910)),\"\",VLOOKUP(C1910,Sheet2!A:G,4,FALSE))","v":""},null,null,{"$f":"IF(OR(C1910=\"\",ISBLANK(C1910)),\"\",VLOOKUP(C1910,Sheet2!A:F,3,FALSE))","v":""},{"$f":"IF(OR(C1910=\"\",ISBLANK(C1910)),\"\",VLOOKUP(C1910,Sheet2!A:G,6,FALSE))","v":""},""]
[{"$f":"IF(OR(C1911=\"\",ISBLANK(C1911)),\"\",VLOOKUP(C1911,Sheet2!A:F,2,FALSE))","v":""},{"$f":"IF(OR(C1911=\"\",ISBLANK(C1911)),\"\",VLOOKUP(C1911,Sheet2!A:G,4,FALSE))","v":""},null,null,{"$f":"IF(OR(C1911=\"\",ISBLANK(C1911)),\"\",VLOOKUP(C1911,Sheet2!A:F,3,FALSE))","v":""},{"$f":"IF(OR(C1911=\"\",ISBLANK(C1911)),\"\",VLOOKUP(C1911,Sheet2!A:G,6,FALSE))","v":""},""]
[{"$f":"IF(OR(C1912=\"\",ISBLANK(C1912)),\"\",VLOOKUP(C1912,Sheet2!A:F,2,FALSE))","v":""},{"$f":"IF(OR(C1912=\"\",ISBLANK(C1912)),\"\",VLOOKUP(C1912,Sheet2!A:G,4,FALSE))","v":""},null,null,{"$f":"IF(OR(C1912=\"\",ISBLANK(C1912)),\"\",VLOOKUP(C1912,Sheet2!A:F,3,FALSE))","v":""},{"$f":"IF(OR(C1912=\"\",ISBLANK(C1912)),\"\",VLOOKUP(C1912,Sheet2!A:G,6,FALSE))","v":""},""]
[{"$f":"IF(OR(C1913=\"\",ISBLANK(C1913)),\"\",VLOOKUP(C1913,Sheet2!A:F,2,FALSE))","v":""},{"$f":"IF(OR(C1913=\"\",ISBLANK(C1913)),\"\",VLOOKUP(C1913,Sheet2!A:G,4,FALSE))","v":""},null,null,{"$f":"IF(OR(C1913=\"\",ISBLANK(C1913)),\"\",VLOOKUP(C1913,Sheet2!A:F,3,FALSE))","v":""},{"$f":"IF(OR(C1913=\"\",ISBLANK(C1913)),\"\",VLOOKUP(C1913,Sheet2!A:G,6,FALSE))","v":""},""]
[{"$f":"IF(OR(C1914=\"\",ISBLANK(C1914)),\"\",VLOOKUP(C1914,Sheet2!A:F,2,FALSE))","v":""},{"$f":"IF(OR(C1914=\"\",ISBLANK(C1914)),\"\",VLOOKUP(C1914,Sheet2!A:G,4,FALSE))","v":""},null,null,{"$f":"IF(OR(C1914=\"\",ISBLANK(C1914)),\"\",VLOOKUP(C1914,Sheet2!A:F,3,FALSE))","v":""},{"$f":"IF(OR(C1914=\"\",ISBLANK(C1914)),\"\",VLOOKUP(C1914,Sheet2!A:G,6,FALSE))","v":""},""]
[{"$f":"IF(OR(C1915=\"\",ISBLANK(C1915)),\"\",VLOOKUP(C1915,Sheet2!A:F,2,FALSE))","v":""},{"$f":"IF(OR(C1915=\"\",ISBLANK(C1915)),\"\",VLOOKUP(C1915,Sheet2!A:G,4,FALSE))","v":""},null,null,{"$f":"IF(OR(C1915=\"\",ISBLANK(C1915)),\"\",VLOOKUP(C1915,Sheet2!A:F,3,FALSE))","v":""},{"$f":"IF(OR(C1915=\"\",ISBLANK(C1915)),\"\",VLOOKUP(C1915,Sheet2!A:G,6,FALSE))","v":""},""]
[{"$f":"IF(OR(C1916=\"\",ISBLANK(C1916)),\"\",VLOOKUP(C1916,Sheet2!A:F,2,FALSE))","v":""},{"$f":"IF(OR(C1916=\"\",ISBLANK(C1916)),\"\",VLOOKUP(C1916,Sheet2!A:G,4,FALSE))","v":""},null,null,{"$f":"IF(OR(C1916=\"\",ISBLANK(C1916)),\"\",VLOOKUP(C1916,Sheet2!A:F,3,FALSE))","v":""},{"$f":"IF(OR(C1916=\"\",ISBLANK(C1916)),\"\",VLOOKUP(C1916,Sheet2!A:G,6,FALSE))","v":""},""]
[{"$f":"IF(OR(C1917=\"\",ISBLANK(C1917)),\"\",VLOOKUP(C1917,Sheet2!A:F,2,FALSE))","v":""},{"$f":"IF(OR(C1917=\"\",ISBLANK(C1917)),\"\",VLOOKUP(C1917,Sheet2!A:G,4,FALSE))","v":""},null,null,{"$f":"IF(OR(C1917=\"\",ISBLANK(C1917)),\"\",VLOOKUP(C1917,Sheet2!A:F,3,FALSE))","v":""},{"$f":"IF(OR(C1917=\"\",ISBLANK(C1917)),\"\",VLOOKUP(C1917,Sheet2!A:G,6,FALSE))","v":""},""]
[{"$f":"IF(OR(C1918=\"\",ISBLANK(C1918)),\"\",VLOOKUP(C1918,Sheet2!A:F,2,FALSE))","v":""},{"$f":"IF(OR(C1918=\"\",ISBLANK(C1918)),\"\",VLOOKUP(C1918,Sheet2!A:G,4,FALSE))","v":""},null,null,{"$f":"IF(OR(C1918=\"\",ISBLANK(C1918)),\"\",VLOOKUP(C1918,Sheet2!A:F,3,FALSE))","v":""},{"$f":"IF(OR(C1918=\"\",ISBLANK(C1918)),\"\",VLOOKUP(C1918,Sheet2!A:G,6,FALSE))","v":""},""]
[{"$f":"IF(OR(C1919=\"\",ISBLANK(C1919)),\"\",VLOOKUP(C1919,Sheet2!A:F,2,FALSE))","v":""},{"$f":"IF(OR(C1919=\"\",ISBLANK(C1919)),\"\",VLOOKUP(C1919,Sheet2!A:G,4,FALSE))","v":""},null,null,{"$f":"IF(OR(C1919=\"\",ISBLANK(C1919)),\"\",VLOOKUP(C1919,Sheet2!A:F,3,FALSE))","v":""},{"$f":"IF(OR(C1919=\"\",ISBLANK(C1919)),\"\",VLOOKUP(C1919,Sheet2!A:G,6,FALSE))","v":""},""]
[{"$f":"IF(OR(C1920=\"\",ISBLANK(C1920)),\"\",VLOOKUP(C1920,Sheet2!A:F,2,FALSE))","v":""},{"$f":"IF(OR(C1920=\"\",ISBLANK(C1920)),\"\",VLOOKUP(C1920,Sheet2!A:G,4,FALSE))","v":""},null,null,{"$f":"IF(OR(C1920=\"\",ISBLANK(C1920)),\"\",VLOOKUP(C1920,Sheet2!A:F,3,FALSE))","v":""},{"$f":"IF(OR(C1920=\"\",ISBLANK(C1920)),\"\",VLOOKUP(C1920,Sheet2!A:G,6,FALSE))","v":""},""]
[{"$f":"IF(OR(C1921=\"\",ISBLANK(C1921)),\"\",VLOOKUP(C1921,Sheet2!A:F,2,FALSE))","v":""},{"$f":"IF(OR(C1921=\"\",ISBLANK(C1921)),\"\",VLOOKUP(C1921,Sheet2!A:G,4,FALSE))","v":""},null,null,{"$f":"IF(OR(C1921=\"\",ISBLANK(C1921)),\"\",VLOOKUP(C1921,Sheet2!A:F,3,FALSE))","v":""},{"$f":"IF(OR(C1921=\"\",ISBLANK(C1921)),\"\",VLOOKUP(C1921,Sheet2!A:G,6,FALSE))","v":""},""]
[{"$f":"IF(OR(C1922=\"\",ISBLANK(C1922)),\"\",VLOOKUP(C1922,Sheet2!A:F,2,FALSE))","v":""},{"$f":"IF(OR(C1922=\"\",ISBLANK(C1922)),\"\",VLOOKUP(C1922,Sheet2!A:G,4,FALSE))","v":""},null,null,{"$f":"IF(OR(C1922=\"\",ISBLANK(C1922)),\"\",VLOOKUP(C1922,Sheet2!A:F,3,FALSE))","v":""},{"$f":"IF(OR(C1922=\"\",ISBLANK(C1922)),\"\",VLOOKUP(C1922,Sheet2!A:G,6,FALSE))","v":""},""]
[{"$f":"IF(OR(C1923=\"\",ISBLANK(C1923)),\"\",VLOOKUP(C1923,Sheet2!A:F,2,FALSE))","v":""},{"$f":"IF(OR(C1923=\"\",ISBLANK(C1923)),\"\",VLOOKUP(C1923,Sheet2!A:G,4,FALSE))","v":""},null,null,{"$f":"IF(OR(C1923=\"\",ISBLANK(C1923)),\"\",VLOOKUP(C1923,Sheet2!A:F,3,FALSE))","v":""},{"$f":"IF(OR(C1923=\"\",ISBLANK(C1923)),\"\",VLOOKUP(C1923,Sheet2!A:G,6,FALSE))","v":""},{"$f":"IF(F1923=0,\"\",F1923)","v":""}]
[{"$f":"IF(OR(C1924=\"\",ISBLANK(C1924)),\"\",VLOOKUP(C1924,Sheet2!A:F,2,FALSE))","v":""},{"$f":"IF(OR(C1924=\"\",ISBLANK(C1924)),\"\",VLOOKUP(C1924,Sheet2!A:G,4,FALSE))","v":""},null,null,{"$f":"IF(OR(C1924=\"\",ISBLANK(C1924)),\"\",VLOOKUP(C1924,Sheet2!A:F,3,FALSE))","v":""},{"$f":"IF(OR(C1924=\"\",ISBLANK(C1924)),\"\",VLOOKUP(C1924,Sheet2!A:G,6,FALSE))","v":""},""]
[{"$f":"IF(OR(C1925=\"\",ISBLANK(C1925)),\"\",VLOOKUP(C1925,Sheet2!A:F,2,FALSE))","v":""},{"$f":"IF(OR(C1925=\"\",ISBLANK(C1925)),\"\",VLOOKUP(C1925,Sheet2!A:G,4,FALSE))","v":""},null,null,{"$f":"IF(OR(C1925=\"\",ISBLANK(C1925)),\"\",VLOOKUP(C1925,Sheet2!A:F,3,FALSE))","v":""},{"$f":"IF(OR(C1925=\"\",ISBLANK(C1925)),\"\",VLOOKUP(C1925,Sheet2!A:G,6,FALSE))","v":""},""]
[{"$f":"IF(OR(C1926=\"\",ISBLANK(C1926)),\"\",VLOOKUP(C1926,Sheet2!A:F,2,FALSE))","v":""},{"$f":"IF(OR(C1926=\"\",ISBLANK(C1926)),\"\",VLOOKUP(C1926,Sheet2!A:G,4,FALSE))","v":""},null,null,{"$f":"IF(OR(C1926=\"\",ISBLANK(C1926)),\"\",VLOOKUP(C1926,Sheet2!A:F,3,FALSE))","v":""},{"$f":"IF(OR(C1926=\"\",ISBLANK(C1926)),\"\",VLOOKUP(C1926,Sheet2!A:G,6,FALSE))","v":""},""]
[{"$f":"IF(OR(C1927=\"\",ISBLANK(C1927)),\"\",VLOOKUP(C1927,Sheet2!A:F,2,FALSE))","v":""},{"$f":"IF(OR(C1927=\"\",ISBLANK(C1927)),\"\",VLOOKUP(C1927,Sheet2!A:G,4,FALSE))","v":""},null,null,{"$f":"IF(OR(C1927=\"\",ISBLANK(C1927)),\"\",VLOOKUP(C1927,Sheet2!A:F,3,FALSE))","v":""},{"$f":"IF(OR(C1927=\"\",ISBLANK(C1927)),\"\",VLOOKUP(C1927,Sheet2!A:G,6,FALSE))","v":""},""]
[{"$f":"IF(OR(C1928=\"\",ISBLANK(C1928)),\"\",VLOOKUP(C1928,Sheet2!A:F,2,FALSE))","v":""},{"$f":"IF(OR(C1928=\"\",ISBLANK(C1928)),\"\",VLOOKUP(C1928,Sheet2!A:G,4,FALSE))","v":""},null,null,{"$f":"IF(OR(C1928=\"\",ISBLANK(C1928)),\"\",VLOOKUP(C1928,Sheet2!A:F,3,FALSE))","v":""},{"$f":"IF(OR(C1928=\"\",ISBLANK(C1928)),\"\",VLOOKUP(C1928,Sheet2!A:G,6,FALSE))","v":""},""]
[{"$f":"IF(OR(C1929=\"\",ISBLANK(C1929)),\"\",VLOOKUP(C1929,Sheet2!A:F,2,FALSE))","v":""},{"$f":"IF(OR(C1929=\"\",ISBLANK(C1929)),\"\",VLOOKUP(C1929,Sheet2!A:G,4,FALSE))","v":""},null,null,{"$f":"IF(OR(C1929=\"\",ISBLANK(C1929)),\"\",VLOOKUP(C1929,Sheet2!A:F,3,FALSE))","v":""},{"$f":"IF(OR(C1929=\"\",ISBLANK(C1929)),\"\",VLOOKUP(C1929,Sheet2!A:G,6,FALSE))","v":""},""]
[{"$f":"IF(OR(C1930=\"\",ISBLANK(C1930)),\"\",VLOOKUP(C1930,Sheet2!A:F,2,FALSE))","v":""},{"$f":"IF(OR(C1930=\"\",ISBLANK(C1930)),\"\",VLOOKUP(C1930,Sheet2!A:G,4,FALSE))","v":""},null,null,{"$f":"IF(OR(C1930=\"\",ISBLANK(C1930)),\"\",VLOOKUP(C1930,Sheet2!A:F,3,FALSE))","v":""},{"$f":"IF(OR(C1930=\"\",ISBLANK(C1930)),\"\",VLOOKUP(C1930,Sheet2!A:G,6,FALSE))","v":""},""]
[{"$f":"IF(OR(C1931=\"\",ISBLANK(C1931)),\"\",VLOOKUP(C1931,Sheet2!A:F,2,FALSE))","v":""},{"$f":"IF(OR(C1931=\"\",ISBLANK(C1931)),\"\",VLOOKUP(C1931,Sheet2!A:G,4,FALSE))","v":""},null,null,{"$f":"IF(OR(C1931=\"\",ISBLANK(C1931)),\"\",VLOOKUP(C1931,Sheet2!A:F,3,FALSE))","v":""},{"$f":"IF(OR(C1931=\"\",ISBLANK(C1931)),\"\",VLOOKUP(C1931,Sheet2!A:G,6,FALSE))","v":""},""]
[{"$f":"IF(OR(C1932=\"\",ISBLANK(C1932)),\"\",VLOOKUP(C1932,Sheet2!A:F,2,FALSE))","v":""},{"$f":"IF(OR(C1932=\"\",ISBLANK(C1932)),\"\",VLOOKUP(C1932,Sheet2!A:G,4,FALSE))","v":""},null,null,{"$f":"IF(OR(C1932=\"\",ISBLANK(C1932)),\"\",VLOOKUP(C1932,Sheet2!A:F,3,FALSE))","v":""},{"$f":"IF(OR(C1932=\"\",ISBLANK(C1932)),\"\",VLOOKUP(C1932,Sheet2!A:G,6,FALSE))","v":""},""]
[{"$f":"IF(OR(C1933=\"\",ISBLANK(C1933)),\"\",VLOOKUP(C1933,Sheet2!A:F,2,FALSE))","v":""},{"$f":"IF(OR(C1933=\"\",ISBLANK(C1933)),\"\",VLOOKUP(C1933,Sheet2!A:G,4,FALSE))","v":""},null,null,{"$f":"IF(OR(C1933=\"\",ISBLANK(C1933)),\"\",VLOOKUP(C1933,Sheet2!A:F,3,FALSE))","v":""},{"$f":"IF(OR(C1933=\"\",ISBLANK(C1933)),\"\",VLOOKUP(C1933,Sheet2!A:G,6,FALSE))","v":""},""]
[{"$f":"IF(OR(C1934=\"\",ISBLANK(C1934)),\"\",VLOOKUP(C1934,Sheet2!A:F,2,FALSE))","v":""},{"$f":"IF(OR(C1934=\"\",ISBLANK(C1934)),\"\",VLOOKUP(C1934,Sheet2!A:G,4,FALSE))","v":""},null,null,{"$f":"IF(OR(C1934=\"\",ISBLANK(C1934)),\"\",VLOOKUP(C1934,Sheet2!A:F,3,FALSE))","v":""},{"$f":"IF(OR(C1934=\"\",ISBLANK(C1934)),\"\",VLOOKUP(C1934,Sheet2!A:G,6,FALSE))","v":""},""]
[{"$f":"IF(OR(C1935=\"\",ISBLANK(C1935)),\"\",VLOOKUP(C1935,Sheet2!A:F,2,FALSE))","v":""},{"$f":"IF(OR(C1935=\"\",ISBLANK(C1935)),\"\",VLOOKUP(C1935,Sheet2!A:G,4,FALSE))","v":""},null,null,{"$f":"IF(OR(C1935=\"\",ISBLANK(C1935)),\"\",VLOOKUP(C1935,Sheet2!A:F,3,FALSE))","v":""},{"$f":"IF(OR(C1935=\"\",ISBLANK(C1935)),\"\",VLOOKUP(C1935,Sheet2!A:G,6,FALSE))","v":""},""]
[{"$f":"IF(OR(C1936=\"\",ISBLANK(C1936)),\"\",VLOOKUP(C1936,Sheet2!A:F,2,FALSE))","v":""},{"$f":"IF(OR(C1936=\"\",ISBLANK(C1936)),\"\",VLOOKUP(C1936,Sheet2!A:G,4,FALSE))","v":""},null,null,{"$f":"IF(OR(C1936=\"\",ISBLANK(C1936)),\"\",VLOOKUP(C1936,Sheet2!A:F,3,FALSE))","v":""},{"$f":"IF(OR(C1936=\"\",ISBLANK(C1936)),\"\",VLOOKUP(C1936,Sheet2!A:G,6,FALSE))","v":""},""]
[{"$f":"IF(OR(C1937=\"\",ISBLANK(C1937)),\"\",VLOOKUP(C1937,Sheet2!A:F,2,FALSE))","v":""},{"$f":"IF(OR(C1937=\"\",ISBLANK(C1937)),\"\",VLOOKUP(C1937,Sheet2!A:G,4,FALSE))","v":""},null,null,{"$f":"IF(OR(C1937=\"\",ISBLANK(C1937)),\"\",VLOOKUP(C1937,Sheet2!A:F,3,FALSE))","v":""},{"$f":"IF(OR(C1937=\"\",ISBLANK(C1937)),\"\",VLOOKUP(C1937,Sheet2!A:G,6,FALSE))","v":""},""]
[{"$f":"IF(OR(C1938=\"\",ISBLANK(C1938)),\"\",VLOOKUP(C1938,Sheet2!A:F,2,FALSE))","v":""},{"$f":"IF(OR(C1938=\"\",ISBLANK(C1938)),\"\",VLOOKUP(C1938,Sheet2!A:G,4,FALSE))","v":""},null,null,{"$f":"IF(OR(C1938=\"\",ISBLANK(C1938)),\"\",VLOOKUP(C1938,Sheet2!A:F,3,FALSE))","v":""},{"$f":"IF(OR(C1938=\"\",ISBLANK(C1938)),\"\",VLOOKUP(C1938,Sheet2!A:G,6,FALSE))","v":""},""]
[{"$f":"IF(OR(C1939=\"\",ISBLANK(C1939)),\"\",VLOOKUP(C1939,Sheet2!A:F,2,FALSE))","v":""},{"$f":"IF(OR(C1939=\"\",ISBLANK(C1939)),\"\",VLOOKUP(C1939,Sheet2!A:G,4,FALSE))","v":""},null,null,{"$f":"IF(OR(C1939=\"\",ISBLANK(C1939)),\"\",VLOOKUP(C1939,Sheet2!A:F,3,FALSE))","v":""},{"$f":"IF(OR(C1939=\"\",ISBLANK(C1939)),\"\",VLOOKUP(C1939,Sheet2!A:G,6,FALSE))","v":""},""]
[{"$f":"IF(OR(C1940=\"\",ISBLANK(C1940)),\"\",VLOOKUP(C1940,Sheet2!A:F,2,FALSE))","v":""},{"$f":"IF(OR(C1940=\"\",ISBLANK(C1940)),\"\",VLOOKUP(C1940,Sheet2!A:G,4,FALSE))","v":""},null,null,{"$f":"IF(OR(C1940=\"\",ISBLANK(C1940)),\"\",VLOOKUP(C1940,Sheet2!A:F,3,FALSE))","v":""},{"$f":"IF(OR(C1940=\"\",ISBLANK(C1940)),\"\",VLOOKUP(C1940,Sheet2!A:G,6,FALSE))","v":""},""]
[{"$f":"IF(OR(C1941=\"\",ISBLANK(C1941)),\"\",VLOOKUP(C1941,Sheet2!A:F,2,FALSE))","v":""},{"$f":"IF(OR(C1941=\"\",ISBLANK(C1941)),\"\",VLOOKUP(C1941,Sheet2!A:G,4,FALSE))","v":""},null,null,{"$f":"IF(OR(C1941=\"\",ISBLANK(C1941)),\"\",VLOOKUP(C1941,Sheet2!A:F,3,FALSE))","v":""},{"$f":"IF(OR(C1941=\"\",ISBLANK(C1941)),\"\",VLOOKUP(C1941,Sheet2!A:G,6,FALSE))","v":""},""]
[{"$f":"IF(OR(C1942=\"\",ISBLANK(C1942)),\"\",VLOOKUP(C1942,Sheet2!A:F,2,FALSE))","v":""},{"$f":"IF(OR(C1942=\"\",ISBLANK(C1942)),\"\",VLOOKUP(C1942,Sheet2!A:G,4,FALSE))","v":""},null,null,{"$f":"IF(OR(C1942=\"\",ISBLANK(C1942)),\"\",VLOOKUP(C1942,Sheet2!A:F,3,FALSE))","v":""},{"$f":"IF(OR(C1942=\"\",ISBLANK(C1942)),\"\",VLOOKUP(C1942,Sheet2!A:G,6,FALSE))","v":""},""]
[{"$f":"IF(OR(C1943=\"\",ISBLANK(C1943)),\"\",VLOOKUP(C1943,Sheet2!A:F,2,FALSE))","v":""},{"$f":"IF(OR(C1943=\"\",ISBLANK(C1943)),\"\",VLOOKUP(C1943,Sheet2!A:G,4,FALSE))","v":""},null,null,{"$f":"IF(OR(C1943=\"\",ISBLANK(C1943)),\"\",VLOOKUP(C1943,Sheet2!A:F,3,FALSE))","v":""},{"$f":"IF(OR(C1943=\"\",ISBLANK(C1943)),\"\",VLOOKUP(C1943,Sheet2!A:G,6,FALSE))","v":""},""]
[{"$f":"IF(OR(C1944=\"\",ISBLANK(C1944)),\"\",VLOOKUP(C1944,Sheet2!A:F,2,FALSE))","v":""},{"$f":"IF(OR(C1944=\"\",ISBLANK(C1944)),\"\",VLOOKUP(C1944,Sheet2!A:G,4,FALSE))","v":""},null,null,{"$f":"IF(OR(C1944=\"\",ISBLANK(C1944)),\"\",VLOOKUP(C1944,Sheet2!A:F,3,FALSE))","v":""},{"$f":"IF(OR(C1944=\"\",ISBLANK(C1944)),\"\",VLOOKUP(C1944,Sheet2!A:G,6,FALSE))","v":""},""]
[{"$f":"IF(OR(C1945=\"\",ISBLANK(C1945)),\"\",VLOOKUP(C1945,Sheet2!A:F,2,FALSE))","v":""},{"$f":"IF(OR(C1945=\"\",ISBLANK(C1945)),\"\",VLOOKUP(C1945,Sheet2!A:G,4,FALSE))","v":""},null,null,{"$f":"IF(OR(C1945=\"\",ISBLANK(C1945)),\"\",VLOOKUP(C1945,Sheet2!A:F,3,FALSE))","v":""},{"$f":"IF(OR(C1945=\"\",ISBLANK(C1945)),\"\",VLOOKUP(C1945,Sheet2!A:G,6,FALSE))","v":""},""]
[{"$f":"IF(OR(C1946=\"\",ISBLANK(C1946)),\"\",VLOOKUP(C1946,Sheet2!A:F,2,FALSE))","v":""},{"$f":"IF(OR(C1946=\"\",ISBLANK(C1946)),\"\",VLOOKUP(C1946,Sheet2!A:G,4,FALSE))","v":""},null,null,{"$f":"IF(OR(C1946=\"\",ISBLANK(C1946)),\"\",VLOOKUP(C1946,Sheet2!A:F,3,FALSE))","v":""},{"$f":"IF(OR(C1946=\"\",ISBLANK(C1946)),\"\",VLOOKUP(C1946,Sheet2!A:G,6,FALSE))","v":""},""]
[{"$f":"IF(OR(C1947=\"\",ISBLANK(C1947)),\"\",VLOOKUP(C1947,Sheet2!A:F,2,FALSE))","v":""},{"$f":"IF(OR(C1947=\"\",ISBLANK(C1947)),\"\",VLOOKUP(C1947,Sheet2!A:G,4,FALSE))","v":""},null,null,{"$f":"IF(OR(C1947=\"\",ISBLANK(C1947)),\"\",VLOOKUP(C1947,Sheet2!A:F,3,FALSE))","v":""},{"$f":"IF(OR(C1947=\"\",ISBLANK(C1947)),\"\",VLOOKUP(C1947,Sheet2!A:G,6,FALSE))","v":""},""]
[{"$f":"IF(OR(C1948=\"\",ISBLANK(C1948)),\"\",VLOOKUP(C1948,Sheet2!A:F,2,FALSE))","v":""},{"$f":"IF(OR(C1948=\"\",ISBLANK(C1948)),\"\",VLOOKUP(C1948,Sheet2!A:G,4,FALSE))","v":""},null,null,{"$f":"IF(OR(C1948=\"\",ISBLANK(C1948)),\"\",VLOOKUP(C1948,Sheet2!A:F,3,FALSE))","v":""},{"$f":"IF(OR(C1948=\"\",ISBLANK(C1948)),\"\",VLOOKUP(C1948,Sheet2!A:G,6,FALSE))","v":""},""]
[{"$f":"IF(OR(C1949=\"\",ISBLANK(C1949)),\"\",VLOOKUP(C1949,Sheet2!A:F,2,FALSE))","v":""},{"$f":"IF(OR(C1949=\"\",ISBLANK(C1949)),\"\",VLOOKUP(C1949,Sheet2!A:G,4,FALSE))","v":""},null,null,{"$f":"IF(OR(C1949=\"\",ISBLANK(C1949)),\"\",VLOOKUP(C1949,Sheet2!A:F,3,FALSE))","v":""},{"$f":"IF(OR(C1949=\"\",ISBLANK(C1949)),\"\",VLOOKUP(C1949,Sheet2!A:G,6,FALSE))","v":""},""]
[{"$f":"IF(OR(C1950=\"\",ISBLANK(C1950)),\"\",VLOOKUP(C1950,Sheet2!A:F,2,FALSE))","v":""},{"$f":"IF(OR(C1950=\"\",ISBLANK(C1950)),\"\",VLOOKUP(C1950,Sheet2!A:G,4,FALSE))","v":""},null,null,{"$f":"IF(OR(C1950=\"\",ISBLANK(C1950)),\"\",VLOOKUP(C1950,Sheet2!A:F,3,FALSE))","v":""},{"$f":"IF(OR(C1950=\"\",ISBLANK(C1950)),\"\",VLOOKUP(C1950,Sheet2!A:G,6,FALSE))","v":""},""]
[{"$f":"IF(OR(C1951=\"\",ISBLANK(C1951)),\"\",VLOOKUP(C1951,Sheet2!A:F,2,FALSE))","v":""},{"$f":"IF(OR(C1951=\"\",ISBLANK(C1951)),\"\",VLOOKUP(C1951,Sheet2!A:G,4,FALSE))","v":""},null,null,{"$f":"IF(OR(C1951=\"\",ISBLANK(C1951)),\"\",VLOOKUP(C1951,Sheet2!A:F,3,FALSE))","v":""},{"$f":"IF(OR(C1951=\"\",ISBLANK(C1951)),\"\",VLOOKUP(C1951,Sheet2!A:G,6,FALSE))","v":""},""]
[{"$f":"IF(OR(C1952=\"\",ISBLANK(C1952)),\"\",VLOOKUP(C1952,Sheet2!A:F,2,FALSE))","v":""},{"$f":"IF(OR(C1952=\"\",ISBLANK(C1952)),\"\",VLOOKUP(C1952,Sheet2!A:G,4,FALSE))","v":""},null,null,{"$f":"IF(OR(C1952=\"\",ISBLANK(C1952)),\"\",VLOOKUP(C1952,Sheet2!A:F,3,FALSE))","v":""},{"$f":"IF(OR(C1952=\"\",ISBLANK(C1952)),\"\",VLOOKUP(C1952,Sheet2!A:G,6,FALSE))","v":""},""]
[{"$f":"IF(OR(C1953=\"\",ISBLANK(C1953)),\"\",VLOOKUP(C1953,Sheet2!A:F,2,FALSE))","v":""},{"$f":"IF(OR(C1953=\"\",ISBLANK(C1953)),\"\",VLOOKUP(C1953,Sheet2!A:G,4,FALSE))","v":""},null,null,{"$f":"IF(OR(C1953=\"\",ISBLANK(C1953)),\"\",VLOOKUP(C1953,Sheet2!A:F,3,FALSE))","v":""},{"$f":"IF(OR(C1953=\"\",ISBLANK(C1953)),\"\",VLOOKUP(C1953,Sheet2!A:G,6,FALSE))","v":""},""]
[{"$f":"IF(OR(C1954=\"\",ISBLANK(C1954)),\"\",VLOOKUP(C1954,Sheet2!A:F,2,FALSE))","v":""},{"$f":"IF(OR(C1954=\"\",ISBLANK(C1954)),\"\",VLOOKUP(C1954,Sheet2!A:G,4,FALSE))","v":""},null,null,{"$f":"IF(OR(C1954=\"\",ISBLANK(C1954)),\"\",VLOOKUP(C1954,Sheet2!A:F,3,FALSE))","v":""},{"$f":"IF(OR(C1954=\"\",ISBLANK(C1954)),\"\",VLOOKUP(C1954,Sheet2!A:G,6,FALSE))","v":""},""]
[{"$f":"IF(OR(C1955=\"\",ISBLANK(C1955)),\"\",VLOOKUP(C1955,Sheet2!A:F,2,FALSE))","v":""},{"$f":"IF(OR(C1955=\"\",ISBLANK(C1955)),\"\",VLOOKUP(C1955,Sheet2!A:G,4,FALSE))","v":""},null,null,{"$f":"IF(OR(C1955=\"\",ISBLANK(C1955)),\"\",VLOOKUP(C1955,Sheet2!A:F,3,FALSE))","v":""},{"$f":"IF(OR(C1955=\"\",ISBLANK(C1955)),\"\",VLOOKUP(C1955,Sheet2!A:G,6,FALSE))","v":""},""]
[{"$f":"IF(OR(C1956=\"\",ISBLANK(C1956)),\"\",VLOOKUP(C1956,Sheet2!A:F,2,FALSE))","v":""},{"$f":"IF(OR(C1956=\"\",ISBLANK(C1956)),\"\",VLOOKUP(C1956,Sheet2!A:G,4,FALSE))","v":""},null,null,{"$f":"IF(OR(C1956=\"\",ISBLANK(C1956)),\"\",VLOOKUP(C1956,Sheet2!A:F,3,FALSE))","v":""},{"$f":"IF(OR(C1956=\"\",ISBLANK(C1956)),\"\",VLOOKUP(C1956,Sheet2!A:G,6,FALSE))","v":""},""]
[{"$f":"IF(OR(C1957=\"\",ISBLANK(C1957)),\"\",VLOOKUP(C1957,Sheet2!A:F,2,FALSE))","v":""},{"$f":"IF(OR(C1957=\"\",ISBLANK(C1957)),\"\",VLOOKUP(C1957,Sheet2!A:G,4,FALSE))","v":""},null,null,{"$f":"IF(OR(C1957=\"\",ISBLANK(C1957)),\"\",VLOOKUP(C1957,Sheet2!A:F,3,FALSE))","v":""},{"$f":"IF(OR(C1957=\"\",ISBLANK(C1957)),\"\",VLOOKUP(C1957,Sheet2!A:G,6,FALSE))","v":""},""]
[{"$f":"IF(OR(C1958=\"\",ISBLANK(C1958)),\"\",VLOOKUP(C1958,Sheet2!A:F,2,FALSE))","v":""},{"$f":"IF(OR(C1958=\"\",ISBLANK(C1958)),\"\",VLOOKUP(C1958,Sheet2!A:G,4,FALSE))","v":""},null,null,{"$f":"IF(OR(C1958=\"\",ISBLANK(C1958)),\"\",VLOOKUP(C1958,Sheet2!A:F,3,FALSE))","v":""},{"$f":"IF(OR(C1958=\"\",ISBLANK(C1958)),\"\",VLOOKUP(C1958,Sheet2!A:G,6,FALSE))","v":""},""]
[{"$f":"IF(OR(C1959=\"\",ISBLANK(C1959)),\"\",VLOOKUP(C1959,Sheet2!A:F,2,FALSE))","v":""},{"$f":"IF(OR(C1959=\"\",ISBLANK(C1959)),\"\",VLOOKUP(C1959,Sheet2!A:G,4,FALSE))","v":""},null,null,{"$f":"IF(OR(C1959=\"\",ISBLANK(C1959)),\"\",VLOOKUP(C1959,Sheet2!A:F,3,FALSE))","v":""},{"$f":"IF(OR(C1959=\"\",ISBLANK(C1959)),\"\",VLOOKUP(C1959,Sheet2!A:G,6,FALSE))","v":""},""]
[{"$f":"IF(OR(C1960=\"\",ISBLANK(C1960)),\"\",VLOOKUP(C1960,Sheet2!A:F,2,FALSE))","v":""},{"$f":"IF(OR(C1960=\"\",ISBLANK(C1960)),\"\",VLOOKUP(C1960,Sheet2!A:G,4,FALSE))","v":""},null,null,{"$f":"IF(OR(C1960=\"\",ISBLANK(C1960)),\"\",VLOOKUP(C1960,Sheet2!A:F,3,FALSE))","v":""},{"$f":"IF(OR(C1960=\"\",ISBLANK(C1960)),\"\",VLOOKUP(C1960,Sheet2!A:G,6,FALSE))","v":""},""]
[{"$f":"IF(OR(C1961=\"\",ISBLANK(C1961)),\"\",VLOOKUP(C1961,Sheet2!A:F,2,FALSE))","v":""},{"$f":"IF(OR(C1961=\"\",ISBLANK(C1961)),\"\",VLOOKUP(C1961,Sheet2!A:G,4,FALSE))","v":""},null,null,{"$f":"IF(OR(C1961=\"\",ISBLANK(C1961)),\"\",VLOOKUP(C1961,Sheet2!A:F,3,FALSE))","v":""},{"$f":"IF(OR(C1961=\"\",ISBLANK(C1961)),\"\",VLOOKUP(C1961,Sheet2!A:G,6,FALSE))","v":""},""]
[{"$f":"IF(OR(C1962=\"\",ISBLANK(C1962)),\"\",VLOOKUP(C1962,Sheet2!A:F,2,FALSE))","v":""},{"$f":"IF(OR(C1962=\"\",ISBLANK(C1962)),\"\",VLOOKUP(C1962,Sheet2!A:G,4,FALSE))","v":""},null,null,{"$f":"IF(OR(C1962=\"\",ISBLANK(C1962)),\"\",VLOOKUP(C1962,Sheet2!A:F,3,FALSE))","v":""},{"$f":"IF(OR(C1962=\"\",ISBLANK(C1962)),\"\",VLOOKUP(C1962,Sheet2!A:G,6,FALSE))","v":""},""]
[{"$f":"IF(OR(C1963=\"\",ISBLANK(C1963)),\"\",VLOOKUP(C1963,Sheet2!A:F,2,FALSE))","v":""},{"$f":"IF(OR(C1963=\"\",ISBLANK(C1963)),\"\",VLOOKUP(C1963,Sheet2!A:G,4,FALSE))","v":""},null,null,{"$f":"IF(OR(C1963=\"\",ISBLANK(C1963)),\"\",VLOOKUP(C1963,Sheet2!A:F,3,FALSE))","v":""},{"$f":"IF(OR(C1963=\"\",ISBLANK(C1963)),\"\",VLOOKUP(C1963,Sheet2!A:G,6,FALSE))","v":""},""]
[{"$f":"IF(OR(C1964=\"\",ISBLANK(C1964)),\"\",VLOOKUP(C1964,Sheet2!A:F,2,FALSE))","v":""},{"$f":"IF(OR(C1964=\"\",ISBLANK(C1964)),\"\",VLOOKUP(C1964,Sheet2!A:G,4,FALSE))","v":""},null,null,{"$f":"IF(OR(C1964=\"\",ISBLANK(C1964)),\"\",VLOOKUP(C1964,Sheet2!A:F,3,FALSE))","v":""},{"$f":"IF(OR(C1964=\"\",ISBLANK(C1964)),\"\",VLOOKUP(C1964,Sheet2!A:G,6,FALSE))","v":""},""]
[{"$f":"IF(OR(C1965=\"\",ISBLANK(C1965)),\"\",VLOOKUP(C1965,Sheet2!A:F,2,FALSE))","v":""},{"$f":"IF(OR(C1965=\"\",ISBLANK(C1965)),\"\",VLOOKUP(C1965,Sheet2!A:G,4,FALSE))","v":""},null,null,{"$f":"IF(OR(C1965=\"\",ISBLANK(C1965)),\"\",VLOOKUP(C1965,Sheet2!A:F,3,FALSE))","v":""},{"$f":"IF(OR(C1965=\"\",ISBLANK(C1965)),\"\",VLOOKUP(C1965,Sheet2!A:G,6,FALSE))","v":""},""]
[{"$f":"IF(OR(C1966=\"\",ISBLANK(C1966)),\"\",VLOOKUP(C1966,Sheet2!A:F,2,FALSE))","v":""},{"$f":"IF(OR(C1966=\"\",ISBLANK(C1966)),\"\",VLOOKUP(C1966,Sheet2!A:G,4,FALSE))","v":""},null,null,{"$f":"IF(OR(C1966=\"\",ISBLANK(C1966)),\"\",VLOOKUP(C1966,Sheet2!A:F,3,FALSE))","v":""},{"$f":"IF(OR(C1966=\"\",ISBLANK(C1966)),\"\",VLOOKUP(C1966,Sheet2!A:G,6,FALSE))","v":""},""]
[{"$f":"IF(OR(C1967=\"\",ISBLANK(C1967)),\"\",VLOOKUP(C1967,Sheet2!A:F,2,FALSE))","v":""},{"$f":"IF(OR(C1967=\"\",ISBLANK(C1967)),\"\",VLOOKUP(C1967,Sheet2!A:G,4,FALSE))","v":""},null,null,{"$f":"IF(OR(C1967=\"\",ISBLANK(C1967)),\"\",VLOOKUP(C1967,Sheet2!A:F,3,FALSE))","v":""},{"$f":"IF(OR(C1967=\"\",ISBLANK(C1967)),\"\",VLOOKUP(C1967,Sheet2!A:G,6,FALSE))","v":""},""]
[{"$f":"IF(OR(C1968=\"\",ISBLANK(C1968)),\"\",VLOOKUP(C1968,Sheet2!A:F,2,FALSE))","v":""},{"$f":"IF(OR(C1968=\"\",ISBLANK(C1968)),\"\",VLOOKUP(C1968,Sheet2!A:G,4,FALSE))","v":""},null,null,{"$f":"IF(OR(C1968=\"\",ISBLANK(C1968)),\"\",VLOOKUP(C1968,Sheet2!A:F,3,FALSE))","v":""},{"$f":"IF(OR(C1968=\"\",ISBLANK(C1968)),\"\",VLOOKUP(C1968,Sheet2!A:G,6,FALSE))","v":""},""]
[{"$f":"IF(OR(C1969=\"\",ISBLANK(C1969)),\"\",VLOOKUP(C1969,Sheet2!A:F,2,FALSE))","v":""},{"$f":"IF(OR(C1969=\"\",ISBLANK(C1969)),\"\",VLOOKUP(C1969,Sheet2!A:G,4,FALSE))","v":""},null,null,{"$f":"IF(OR(C1969=\"\",ISBLANK(C1969)),\"\",VLOOKUP(C1969,Sheet2!A:F,3,FALSE))","v":""},{"$f":"IF(OR(C1969=\"\",ISBLANK(C1969)),\"\",VLOOKUP(C1969,Sheet2!A:G,6,FALSE))","v":""},""]
[{"$f":"IF(OR(C1970=\"\",ISBLANK(C1970)),\"\",VLOOKUP(C1970,Sheet2!A:F,2,FALSE))","v":""},{"$f":"IF(OR(C1970=\"\",ISBLANK(C1970)),\"\",VLOOKUP(C1970,Sheet2!A:G,4,FALSE))","v":""},null,null,{"$f":"IF(OR(C1970=\"\",ISBLANK(C1970)),\"\",VLOOKUP(C1970,Sheet2!A:F,3,FALSE))","v":""},{"$f":"IF(OR(C1970=\"\",ISBLANK(C1970)),\"\",VLOOKUP(C1970,Sheet2!A:G,6,FALSE))","v":""},""]
[{"$f":"IF(OR(C1971=\"\",ISBLANK(C1971)),\"\",VLOOKUP(C1971,Sheet2!A:F,2,FALSE))","v":""},{"$f":"IF(OR(C1971=\"\",ISBLANK(C1971)),\"\",VLOOKUP(C1971,Sheet2!A:G,4,FALSE))","v":""},null,null,{"$f":"IF(OR(C1971=\"\",ISBLANK(C1971)),\"\",VLOOKUP(C1971,Sheet2!A:F,3,FALSE))","v":""},{"$f":"IF(OR(C1971=\"\",ISBLANK(C1971)),\"\",VLOOKUP(C1971,Sheet2!A:G,6,FALSE))","v":""},""]
[{"$f":"IF(OR(C1972=\"\",ISBLANK(C1972)),\"\",VLOOKUP(C1972,Sheet2!A:F,2,FALSE))","v":""},{"$f":"IF(OR(C1972=\"\",ISBLANK(C1972)),\"\",VLOOKUP(C1972,Sheet2!A:G,4,FALSE))","v":""},null,null,{"$f":"IF(OR(C1972=\"\",ISBLANK(C1972)),\"\",VLOOKUP(C1972,Sheet2!A:F,3,FALSE))","v":""},{"$f":"IF(OR(C1972=\"\",ISBLANK(C1972)),\"\",VLOOKUP(C1972,Sheet2!A:G,6,FALSE))","v":""},""]
[{"$f":"IF(OR(C1973=\"\",ISBLANK(C1973)),\"\",VLOOKUP(C1973,Sheet2!A:F,2,FALSE))","v":""},{"$f":"IF(OR(C1973=\"\",ISBLANK(C1973)),\"\",VLOOKUP(C1973,Sheet2!A:G,4,FALSE))","v":""},null,null,{"$f":"IF(OR(C1973=\"\",ISBLANK(C1973)),\"\",VLOOKUP(C1973,Sheet2!A:F,3,FALSE))","v":""},{"$f":"IF(OR(C1973=\"\",ISBLANK(C1973)),\"\",VLOOKUP(C1973,Sheet2!A:G,6,FALSE))","v":""},""]
[{"$f":"IF(OR(C1974=\"\",ISBLANK(C1974)),\"\",VLOOKUP(C1974,Sheet2!A:F,2,FALSE))","v":""},{"$f":"IF(OR(C1974=\"\",ISBLANK(C1974)),\"\",VLOOKUP(C1974,Sheet2!A:G,4,FALSE))","v":""},null,null,{"$f":"IF(OR(C1974=\"\",ISBLANK(C1974)),\"\",VLOOKUP(C1974,Sheet2!A:F,3,FALSE))","v":""},{"$f":"IF(OR(C1974=\"\",ISBLANK(C1974)),\"\",VLOOKUP(C1974,Sheet2!A:G,6,FALSE))","v":""},""]
[{"$f":"IF(OR(C1975=\"\",ISBLANK(C1975)),\"\",VLOOKUP(C1975,Sheet2!A:F,2,FALSE))","v":""},{"$f":"IF(OR(C1975=\"\",ISBLANK(C1975)),\"\",VLOOKUP(C1975,Sheet2!A:G,4,FALSE))","v":""},null,null,{"$f":"IF(OR(C1975=\"\",ISBLANK(C1975)),\"\",VLOOKUP(C1975,Sheet2!A:F,3,FALSE))","v":""},{"$f":"IF(OR(C1975=\"\",ISBLANK(C1975)),\"\",VLOOKUP(C1975,Sheet2!A:G,6,FALSE))","v":""},""]
[{"$f":"IF(OR(C1976=\"\",ISBLANK(C1976)),\"\",VLOOKUP(C1976,Sheet2!A:F,2,FALSE))","v":""},{"$f":"IF(OR(C1976=\"\",ISBLANK(C1976)),\"\",VLOOKUP(C1976,Sheet2!A:G,4,FALSE))","v":""},null,null,{"$f":"IF(OR(C1976=\"\",ISBLANK(C1976)),\"\",VLOOKUP(C1976,Sheet2!A:F,3,FALSE))","v":""},{"$f":"IF(OR(C1976=\"\",ISBLANK(C1976)),\"\",VLOOKUP(C1976,Sheet2!A:G,6,FALSE))","v":""},""]
[{"$f":"IF(OR(C1977=\"\",ISBLANK(C1977)),\"\",VLOOKUP(C1977,Sheet2!A:F,2,FALSE))","v":""},{"$f":"IF(OR(C1977=\"\",ISBLANK(C1977)),\"\",VLOOKUP(C1977,Sheet2!A:G,4,FALSE))","v":""},null,null,{"$f":"IF(OR(C1977=\"\",ISBLANK(C1977)),\"\",VLOOKUP(C1977,Sheet2!A:F,3,FALSE))","v":""},{"$f":"IF(OR(C1977=\"\",ISBLANK(C1977)),\"\",VLOOKUP(C1977,Sheet2!A:G,6,FALSE))","v":""},""]
[{"$f":"IF(OR(C1978=\"\",ISBLANK(C1978)),\"\",VLOOKUP(C1978,Sheet2!A:F,2,FALSE))","v":""},{"$f":"IF(OR(C1978=\"\",ISBLANK(C1978)),\"\",VLOOKUP(C1978,Sheet2!A:G,4,FALSE))","v":""},null,null,{"$f":"IF(OR(C1978=\"\",ISBLANK(C1978)),\"\",VLOOKUP(C1978,Sheet2!A:F,3,FALSE))","v":""},{"$f":"IF(OR(C1978=\"\",ISBLANK(C1978)),\"\",VLOOKUP(C1978,Sheet2!A:G,6,FALSE))","v":""},""]
[{"$f":"IF(OR(C1979=\"\",ISBLANK(C1979)),\"\",VLOOKUP(C1979,Sheet2!A:F,2,FALSE))","v":""},{"$f":"IF(OR(C1979=\"\",ISBLANK(C1979)),\"\",VLOOKUP(C1979,Sheet2!A:G,4,FALSE))","v":""},null,null,{"$f":"IF(OR(C1979=\"\",ISBLANK(C1979)),\"\",VLOOKUP(C1979,Sheet2!A:F,3,FALSE))","v":""},{"$f":"IF(OR(C1979=\"\",ISBLANK(C1979)),\"\",VLOOKUP(C1979,Sheet2!A:G,6,FALSE))","v":""},""]
[{"$f":"IF(OR(C1980=\"\",ISBLANK(C1980)),\"\",VLOOKUP(C1980,Sheet2!A:F,2,FALSE))","v":""},{"$f":"IF(OR(C1980=\"\",ISBLANK(C1980)),\"\",VLOOKUP(C1980,Sheet2!A:G,4,FALSE))","v":""},null,null,{"$f":"IF(OR(C1980=\"\",ISBLANK(C1980)),\"\",VLOOKUP(C1980,Sheet2!A:F,3,FALSE))","v":""},{"$f":"IF(OR(C1980=\"\",ISBLANK(C1980)),\"\",VLOOKUP(C1980,Sheet2!A:G,6,FALSE))","v":""},""]
[{"$f":"IF(OR(C1981=\"\",ISBLANK(C1981)),\"\",VLOOKUP(C1981,Sheet2!A:F,2,FALSE))","v":""},{"$f":"IF(OR(C1981=\"\",ISBLANK(C1981)),\"\",VLOOKUP(C1981,Sheet2!A:G,4,FALSE))","v":""},null,null,{"$f":"IF(OR(C1981=\"\",ISBLANK(C1981)),\"\",VLOOKUP(C1981,Sheet2!A:F,3,FALSE))","v":""},{"$f":"IF(OR(C1981=\"\",ISBLANK(C1981)),\"\",VLOOKUP(C1981,Sheet2!A:G,6,FALSE))","v":""},""]
[{"$f":"IF(OR(C1982=\"\",ISBLANK(C1982)),\"\",VLOOKUP(C1982,Sheet2!A:F,2,FALSE))","v":""},{"$f":"IF(OR(C1982=\"\",ISBLANK(C1982)),\"\",VLOOKUP(C1982,Sheet2!A:G,4,FALSE))","v":""},null,null,{"$f":"IF(OR(C1982=\"\",ISBLANK(C1982)),\"\",VLOOKUP(C1982,Sheet2!A:F,3,FALSE))","v":""},{"$f":"IF(OR(C1982=\"\",ISBLANK(C1982)),\"\",VLOOKUP(C1982,Sheet2!A:G,6,FALSE))","v":""},""]
[{"$f":"IF(OR(C1983=\"\",ISBLANK(C1983)),\"\",VLOOKUP(C1983,Sheet2!A:F,2,FALSE))","v":""},{"$f":"IF(OR(C1983=\"\",ISBLANK(C1983)),\"\",VLOOKUP(C1983,Sheet2!A:G,4,FALSE))","v":""},null,null,{"$f":"IF(OR(C1983=\"\",ISBLANK(C1983)),\"\",VLOOKUP(C1983,Sheet2!A:F,3,FALSE))","v":""},{"$f":"IF(OR(C1983=\"\",ISBLANK(C1983)),\"\",VLOOKUP(C1983,Sheet2!A:G,6,FALSE))","v":""},""]
[{"$f":"IF(OR(C1984=\"\",ISBLANK(C1984)),\"\",VLOOKUP(C1984,Sheet2!A:F,2,FALSE))","v":""},{"$f":"IF(OR(C1984=\"\",ISBLANK(C1984)),\"\",VLOOKUP(C1984,Sheet2!A:G,4,FALSE))","v":""},null,null,{"$f":"IF(OR(C1984=\"\",ISBLANK(C1984)),\"\",VLOOKUP(C1984,Sheet2!A:F,3,FALSE))","v":""},{"$f":"IF(OR(C1984=\"\",ISBLANK(C1984)),\"\",VLOOKUP(C1984,Sheet2!A:G,6,FALSE))","v":""},""]
[{"$f":"IF(OR(C1985=\"\",ISBLANK(C1985)),\"\",VLOOKUP(C1985,Sheet2!A:F,2,FALSE))","v":""},{"$f":"IF(OR(C1985=\"\",ISBLANK(C1985)),\"\",VLOOKUP(C1985,Sheet2!A:G,4,FALSE))","v":""},null,null,{"$f":"IF(OR(C1985=\"\",ISBLANK(C1985)),\"\",VLOOKUP(C1985,Sheet2!A:F,3,FALSE))","v":""},{"$f":"IF(OR(C1985=\"\",ISBLANK(C1985)),\"\",VLOOKUP(C1985,Sheet2!A:G,6,FALSE))","v":""},""]
[{"$f":"IF(OR(C1986=\"\",ISBLANK(C1986)),\"\",VLOOKUP(C1986,Sheet2!A:F,2,FALSE))","v":""},{"$f":"IF(OR(C1986=\"\",ISBLANK(C1986)),\"\",VLOOKUP(C1986,Sheet2!A:G,4,FALSE))","v":""},null,null,{"$f":"IF(OR(C1986=\"\",ISBLANK(C1986)),\"\",VLOOKUP(C1986,Sheet2!A:F,3,FALSE))","v":""},{"$f":"IF(OR(C1986=\"\",ISBLANK(C1986)),\"\",VLOOKUP(C1986,Sheet2!A:G,6,FALSE))","v":""},""]
[{"$f":"IF(OR(C1987=\"\",ISBLANK(C1987)),\"\",VLOOKUP(C1987,Sheet2!A:F,2,FALSE))","v":""},{"$f":"IF(OR(C1987=\"\",ISBLANK(C1987)),\"\",VLOOKUP(C1987,Sheet2!A:G,4,FALSE))","v":""},null,null,{"$f":"IF(OR(C1987=\"\",ISBLANK(C1987)),\"\",VLOOKUP(C1987,Sheet2!A:F,3,FALSE))","v":""},{"$f":"IF(OR(C1987=\"\",ISBLANK(C1987)),\"\",VLOOKUP(C1987,Sheet2!A:G,6,FALSE))","v":""},{"$f":"IF(F1987=0,\"\",F1987)","v":""}]
[{"$f":"IF(OR(C1988=\"\",ISBLANK(C1988)),\"\",VLOOKUP(C1988,Sheet2!A:F,2,FALSE))","v":""},{"$f":"IF(OR(C1988=\"\",ISBLANK(C1988)),\"\",VLOOKUP(C1988,Sheet2!A:G,4,FALSE))","v":""},null,null,{"$f":"IF(OR(C1988=\"\",ISBLANK(C1988)),\"\",VLOOKUP(C1988,Sheet2!A:F,3,FALSE))","v":""},{"$f":"IF(OR(C1988=\"\",ISBLANK(C1988)),\"\",VLOOKUP(C1988,Sheet2!A:G,6,FALSE))","v":""},""]
[{"$f":"IF(OR(C1989=\"\",ISBLANK(C1989)),\"\",VLOOKUP(C1989,Sheet2!A:F,2,FALSE))","v":""},{"$f":"IF(OR(C1989=\"\",ISBLANK(C1989)),\"\",VLOOKUP(C1989,Sheet2!A:G,4,FALSE))","v":""},null,null,{"$f":"IF(OR(C1989=\"\",ISBLANK(C1989)),\"\",VLOOKUP(C1989,Sheet2!A:F,3,FALSE))","v":""},{"$f":"IF(OR(C1989=\"\",ISBLANK(C1989)),\"\",VLOOKUP(C1989,Sheet2!A:G,6,FALSE))","v":""},""]
[{"$f":"IF(OR(C1990=\"\",ISBLANK(C1990)),\"\",VLOOKUP(C1990,Sheet2!A:F,2,FALSE))","v":""},{"$f":"IF(OR(C1990=\"\",ISBLANK(C1990)),\"\",VLOOKUP(C1990,Sheet2!A:G,4,FALSE))","v":""},null,null,{"$f":"IF(OR(C1990=\"\",ISBLANK(C1990)),\"\",VLOOKUP(C1990,Sheet2!A:F,3,FALSE))","v":""},{"$f":"IF(OR(C1990=\"\",ISBLANK(C1990)),\"\",VLOOKUP(C1990,Sheet2!A:G,6,FALSE))","v":""},""]
[{"$f":"IF(OR(C1991=\"\",ISBLANK(C1991)),\"\",VLOOKUP(C1991,Sheet2!A:F,2,FALSE))","v":""},{"$f":"IF(OR(C1991=\"\",ISBLANK(C1991)),\"\",VLOOKUP(C1991,Sheet2!A:G,4,FALSE))","v":""},null,null,{"$f":"IF(OR(C1991=\"\",ISBLANK(C1991)),\"\",VLOOKUP(C1991,Sheet2!A:F,3,FALSE))","v":""},{"$f":"IF(OR(C1991=\"\",ISBLANK(C1991)),\"\",VLOOKUP(C1991,Sheet2!A:G,6,FALSE))","v":""},""]
[{"$f":"IF(OR(C1992=\"\",ISBLANK(C1992)),\"\",VLOOKUP(C1992,Sheet2!A:F,2,FALSE))","v":""},{"$f":"IF(OR(C1992=\"\",ISBLANK(C1992)),\"\",VLOOKUP(C1992,Sheet2!A:G,4,FALSE))","v":""},null,null,{"$f":"IF(OR(C1992=\"\",ISBLANK(C1992)),\"\",VLOOKUP(C1992,Sheet2!A:F,3,FALSE))","v":""},{"$f":"IF(OR(C1992=\"\",ISBLANK(C1992)),\"\",VLOOKUP(C1992,Sheet2!A:G,6,FALSE))","v":""},""]
[{"$f":"IF(OR(C1993=\"\",ISBLANK(C1993)),\"\",VLOOKUP(C1993,Sheet2!A:F,2,FALSE))","v":""},{"$f":"IF(OR(C1993=\"\",ISBLANK(C1993)),\"\",VLOOKUP(C1993,Sheet2!A:G,4,FALSE))","v":""},null,null,{"$f":"IF(OR(C1993=\"\",ISBLANK(C1993)),\"\",VLOOKUP(C1993,Sheet2!A:F,3,FALSE))","v":""},{"$f":"IF(OR(C1993=\"\",ISBLANK(C1993)),\"\",VLOOKUP(C1993,Sheet2!A:G,6,FALSE))","v":""},""]
[{"$f":"IF(OR(C1994=\"\",ISBLANK(C1994)),\"\",VLOOKUP(C1994,Sheet2!A:F,2,FALSE))","v":""},{"$f":"IF(OR(C1994=\"\",ISBLANK(C1994)),\"\",VLOOKUP(C1994,Sheet2!A:G,4,FALSE))","v":""},null,null,{"$f":"IF(OR(C1994=\"\",ISBLANK(C1994)),\"\",VLOOKUP(C1994,Sheet2!A:F,3,FALSE))","v":""},{"$f":"IF(OR(C1994=\"\",ISBLANK(C1994)),\"\",VLOOKUP(C1994,Sheet2!A:G,6,FALSE))","v":""},""]
[{"$f":"IF(OR(C1995=\"\",ISBLANK(C1995)),\"\",VLOOKUP(C1995,Sheet2!A:F,2,FALSE))","v":""},{"$f":"IF(OR(C1995=\"\",ISBLANK(C1995)),\"\",VLOOKUP(C1995,Sheet2!A:G,4,FALSE))","v":""},null,null,{"$f":"IF(OR(C1995=\"\",ISBLANK(C1995)),\"\",VLOOKUP(C1995,Sheet2!A:F,3,FALSE))","v":""},{"$f":"IF(OR(C1995=\"\",ISBLANK(C1995)),\"\",VLOOKUP(C1995,Sheet2!A:G,6,FALSE))","v":""},""]
[{"$f":"IF(OR(C1996=\"\",ISBLANK(C1996)),\"\",VLOOKUP(C1996,Sheet2!A:F,2,FALSE))","v":""},{"$f":"IF(OR(C1996=\"\",ISBLANK(C1996)),\"\",VLOOKUP(C1996,Sheet2!A:G,4,FALSE))","v":""},null,null,{"$f":"IF(OR(C1996=\"\",ISBLANK(C1996)),\"\",VLOOKUP(C1996,Sheet2!A:F,3,FALSE))","v":""},{"$f":"IF(OR(C1996=\"\",ISBLANK(C1996)),\"\",VLOOKUP(C1996,Sheet2!A:G,6,FALSE))","v":""},""]
[{"$f":"IF(OR(C1997=\"\",ISBLANK(C1997)),\"\",VLOOKUP(C1997,Sheet2!A:F,2,FALSE))","v":""},{"$f":"IF(OR(C1997=\"\",ISBLANK(C1997)),\"\",VLOOKUP(C1997,Sheet2!A:G,4,FALSE))","v":""},null,null,{"$f":"IF(OR(C1997=\"\",ISBLANK(C1997)),\"\",VLOOKUP(C1997,Sheet2!A:F,3,FALSE))","v":""},{"$f":"IF(OR(C1997=\"\",ISBLANK(C1997)),\"\",VLOOKUP(C1997,Sheet2!A:G,6,FALSE))","v":""},""]
[{"$f":"IF(OR(C1998=\"\",ISBLANK(C1998)),\"\",VLOOKUP(C1998,Sheet2!A:F,2,FALSE))","v":""},{"$f":"IF(OR(C1998=\"\",ISBLANK(C1998)),\"\",VLOOKUP(C1998,Sheet2!A:G,4,FALSE))","v":""},null,null,{"$f":"IF(OR(C1998=\"\",ISBLANK(C1998)),\"\",VLOOKUP(C1998,Sheet2!A:F,3,FALSE))","v":""},{"$f":"IF(OR(C1998=\"\",ISBLANK(C1998)),\"\",VLOOKUP(C1998,Sheet2!A:G,6,FALSE))","v":""},""]
[{"$f":"IF(OR(C1999=\"\",ISBLANK(C1999)),\"\",VLOOKUP(C1999,Sheet2!A:F,2,FALSE))","v":""},{"$f":"IF(OR(C1999=\"\",ISBLANK(C1999)),\"\",VLOOKUP(C1999,Sheet2!A:G,4,FALSE))","v":""},null,null,{"$f":"IF(OR(C1999=\"\",ISBLANK(C1999)),\"\",VLOOKUP(C1999,Sheet2!A:F,3,FALSE))","v":""},{"$f":"IF(OR(C1999=\"\",ISBLANK(C1999)),\"\",VLOOKUP(C1999,Sheet2!A:G,6,FALSE))","v":""},""]
[{"$f":"IF(OR(C2000=\"\",ISBLANK(C2000)),\"\",VLOOKUP(C2000,Sheet2!A:F,2,FALSE))","v":""},{"$f":"IF(OR(C2000=\"\",ISBLANK(C2000)),\"\",VLOOKUP(C2000,Sheet2!A:G,4,FALSE))","v":""},null,null,{"$f":"IF(OR(C2000=\"\",ISBLANK(C2000)),\"\",VLOOKUP(C2000,Sheet2!A:F,3,FALSE))","v":""},{"$f":"IF(OR(C2000=\"\",ISBLANK(C2000)),\"\",VLOOKUP(C2000,Sheet2!A:G,6,FALSE))","v":""},""]
[{"$f":"IF(OR(C2018=\"\",ISBLANK(C2018)),\"\",VLOOKUP(C2018,Sheet2!A:F,2,FALSE))","v":""},{"$f":"IF(OR(C2018=\"\",ISBLANK(C2018)),\"\",VLOOKUP(C2018,Sheet2!A:G,4,FALSE))","v":""},null,null,{"$f":"IF(OR(C2018=\"\",ISBLANK(C2018)),\"\",VLOOKUP(C2018,Sheet2!A:F,3,FALSE))","v":""},{"$f":"IF(OR(C2018=\"\",ISBLANK(C2018)),\"\",VLOOKUP(C2018,Sheet2!A:G,6,FALSE))","v":""},""]
[{"$f":"IF(OR(C2034=\"\",ISBLANK(C2034)),\"\",VLOOKUP(C2034,Sheet2!A:F,2,FALSE))","v":""},{"$f":"IF(OR(C2034=\"\",ISBLANK(C2034)),\"\",VLOOKUP(C2034,Sheet2!A:G,4,FALSE))","v":""},null,null,{"$f":"IF(OR(C2034=\"\",ISBLANK(C2034)),\"\",VLOOKUP(C2034,Sheet2!A:F,3,FALSE))","v":""},{"$f":"IF(OR(C2034=\"\",ISBLANK(C2034)),\"\",VLOOKUP(C2034,Sheet2!A:G,6,FALSE))","v":""},""]
[{"$f":"IF(OR(C2067=\"\",ISBLANK(C2067)),\"\",VLOOKUP(C2067,Sheet2!A:F,2,FALSE))","v":""},{"$f":"IF(OR(C2067=\"\",ISBLANK(C2067)),\"\",VLOOKUP(C2067,Sheet2!A:G,4,FALSE))","v":""},null,null,{"$f":"IF(OR(C2067=\"\",ISBLANK(C2067)),\"\",VLOOKUP(C2067,Sheet2!A:F,3,FALSE))","v":""},{"$f":"IF(OR(C2067=\"\",ISBLANK(C2067)),\"\",VLOOKUP(C2067,Sheet2!A:G,6,FALSE))","v":""},""]
[{"$f":"IF(OR(C2092=\"\",ISBLANK(C2092)),\"\",VLOOKUP(C2092,Sheet2!A:F,2,FALSE))","v":""},{"$f":"IF(OR(C2092=\"\",ISBLANK(C2092)),\"\",VLOOKUP(C2092,Sheet2!A:G,4,FALSE))","v":""},null,null,{"$f":"IF(OR(C2092=\"\",ISBLANK(C2092)),\"\",VLOOKUP(C2092,Sheet2!A:F,3,FALSE))","v":""},{"$f":"IF(OR(C2092=\"\",ISBLANK(C2092)),\"\",VLOOKUP(C2092,Sheet2!A:G,6,FALSE))","v":""},""]
[{"$f":"IF(OR(C2101=\"\",ISBLANK(C2101)),\"\",VLOOKUP(C2101,Sheet2!A:F,2,FALSE))","v":""},{"$f":"IF(OR(C2101=\"\",ISBLANK(C2101)),\"\",VLOOKUP(C2101,Sheet2!A:G,4,FALSE))","v":""},null,null,{"$f":"IF(OR(C2101=\"\",ISBLANK(C2101)),\"\",VLOOKUP(C2101,Sheet2!A:F,3,FALSE))","v":""},{"$f":"IF(OR(C2101=\"\",ISBLANK(C2101)),\"\",VLOOKUP(C2101,Sheet2!A:G,6,FALSE))","v":""},""]
[{"$f":"IF(OR(C2134=\"\",ISBLANK(C2134)),\"\",VLOOKUP(C2134,Sheet2!A:F,2,FALSE))","v":""},{"$f":"IF(OR(C2134=\"\",ISBLANK(C2134)),\"\",VLOOKUP(C2134,Sheet2!A:G,4,FALSE))","v":""},null,null,{"$f":"IF(OR(C2134=\"\",ISBLANK(C2134)),\"\",VLOOKUP(C2134,Sheet2!A:F,3,FALSE))","v":""},{"$f":"IF(OR(C2134=\"\",ISBLANK(C2134)),\"\",VLOOKUP(C2134,Sheet2!A:G,6,FALSE))","v":""},""]
[{"$f":"IF(OR(C2159=\"\",ISBLANK(C2159)),\"\",VLOOKUP(C2159,Sheet2!A:F,2,FALSE))","v":""},{"$f":"IF(OR(C2159=\"\",ISBLANK(C2159)),\"\",VLOOKUP(C2159,Sheet2!A:G,4,FALSE))","v":""},null,null,{"$f":"IF(OR(C2159=\"\",ISBLANK(C2159)),\"\",VLOOKUP(C2159,Sheet2!A:F,3,FALSE))","v":""},{"$f":"IF(OR(C2159=\"\",ISBLANK(C2159)),\"\",VLOOKUP(C2159,Sheet2!A:G,6,FALSE))","v":""},""]
[{"$f":"IF(OR(C2168=\"\",ISBLANK(C2168)),\"\",VLOOKUP(C2168,Sheet2!A:F,2,FALSE))","v":""},{"$f":"IF(OR(C2168=\"\",ISBLANK(C2168)),\"\",VLOOKUP(C2168,Sheet2!A:G,4,FALSE))","v":""},null,null,{"$f":"IF(OR(C2168=\"\",ISBLANK(C2168)),\"\",VLOOKUP(C2168,Sheet2!A:F,3,FALSE))","v":""},{"$f":"IF(OR(C2168=\"\",ISBLANK(C2168)),\"\",VLOOKUP(C2168,Sheet2!A:G,6,FALSE))","v":""},""]
[{"$f":"IF(OR(C2193=\"\",ISBLANK(C2193)),\"\",VLOOKUP(C2193,Sheet2!A:F,2,FALSE))","v":""},{"$f":"IF(OR(C2193=\"\",ISBLANK(C2193)),\"\",VLOOKUP(C2193,Sheet2!A:G,4,FALSE))","v":""},null,null,{"$f":"IF(OR(C2193=\"\",ISBLANK(C2193)),\"\",VLOOKUP(C2193,Sheet2!A:F,3,FALSE))","v":""},{"$f":"IF(OR(C2193=\"\",ISBLANK(C2193)),\"\",VLOOKUP(C2193,Sheet2!A:G,6,FALSE))","v":""},""]
[{"$f":"IF(OR(C2226=\"\",ISBLANK(C2226)),\"\",VLOOKUP(C2226,Sheet2!A:F,2,FALSE))","v":""},{"$f":"IF(OR(C2226=\"\",ISBLANK(C2226)),\"\",VLOOKUP(C2226,Sheet2!A:G,4,FALSE))","v":""},null,null,{"$f":"IF(OR(C2226=\"\",ISBLANK(C2226)),\"\",VLOOKUP(C2226,Sheet2!A:F,3,FALSE))","v":""},{"$f":"IF(OR(C2226=\"\",ISBLANK(C2226)),\"\",VLOOKUP(C2226,Sheet2!A:G,6,FALSE))","v":""},""]
[{"$f":"IF(OR(C2258=\"\",ISBLANK(C2258)),\"\",VLOOKUP(C2258,Sheet2!A:F,2,FALSE))","v":""},{"$f":"IF(OR(C2258=\"\",ISBLANK(C2258)),\"\",VLOOKUP(C2258,Sheet2!A:G,4,FALSE))","v":""},null,null,{"$f":"IF(OR(C2258=\"\",ISBLANK(C2258)),\"\",VLOOKUP(C2258,Sheet2!A:F,3,FALSE))","v":""},{"$f":"IF(OR(C2258=\"\",ISBLANK(C2258)),\"\",VLOOKUP(C2258,Sheet2!A:G,6,FALSE))","v":""},""]
[{"$f":"IF(OR(C2283=\"\",ISBLANK(C2283)),\"\",VLOOKUP(C2283,Sheet2!A:F,2,FALSE))","v":""},{"$f":"IF(OR(C2283=\"\",ISBLANK(C2283)),\"\",VLOOKUP(C2283,Sheet2!A:G,4,FALSE))","v":""},null,null,{"$f":"IF(OR(C2283=\"\",ISBLANK(C2283)),\"\",VLOOKUP(C2283,Sheet2!A:F,3,FALSE))","v":""},{"$f":"IF(OR(C2283=\"\",ISBLANK(C2283)),\"\",VLOOKUP(C2283,Sheet2!A:G,6,FALSE))","v":""},""]
[{"$f":"IF(OR(C2292=\"\",ISBLANK(C2292)),\"\",VLOOKUP(C2292,Sheet2!A:F,2,FALSE))","v":""},{"$f":"IF(OR(C2292=\"\",ISBLANK(C2292)),\"\",VLOOKUP(C2292,Sheet2!A:G,4,FALSE))","v":""},null,null,{"$f":"IF(OR(C2292=\"\",ISBLANK(C2292)),\"\",VLOOKUP(C2292,Sheet2!A:F,3,FALSE))","v":""},{"$f":"IF(OR(C2292=\"\",ISBLANK(C2292)),\"\",VLOOKUP(C2292,Sheet2!A:G,6,FALSE))","v":""},""]
[{"$f":"IF(OR(C2325=\"\",ISBLANK(C2325)),\"\",VLOOKUP(C2325,Sheet2!A:F,2,FALSE))","v":""},{"$f":"IF(OR(C2325=\"\",ISBLANK(C2325)),\"\",VLOOKUP(C2325,Sheet2!A:G,4,FALSE))","v":""},null,null,{"$f":"IF(OR(C2325=\"\",ISBLANK(C2325)),\"\",VLOOKUP(C2325,Sheet2!A:F,3,FALSE))","v":""},{"$f":"IF(OR(C2325=\"\",ISBLANK(C2325)),\"\",VLOOKUP(C2325,Sheet2!A:G,6,FALSE))","v":""},""]
[{"$f":"IF(OR(C2350=\"\",ISBLANK(C2350)),\"\",VLOOKUP(C2350,Sheet2!A:F,2,FALSE))","v":""},{"$f":"IF(OR(C2350=\"\",ISBLANK(C2350)),\"\",VLOOKUP(C2350,Sheet2!A:G,4,FALSE))","v":""},null,null,{"$f":"IF(OR(C2350=\"\",ISBLANK(C2350)),\"\",VLOOKUP(C2350,Sheet2!A:F,3,FALSE))","v":""},{"$f":"IF(OR(C2350=\"\",ISBLANK(C2350)),\"\",VLOOKUP(C2350,Sheet2!A:G,6,FALSE))","v":""},""]
[{"$f":"IF(OR(C2359=\"\",ISBLANK(C2359)),\"\",VLOOKUP(C2359,Sheet2!A:F,2,FALSE))","v":""},{"$f":"IF(OR(C2359=\"\",ISBLANK(C2359)),\"\",VLOOKUP(C2359,Sheet2!A:G,4,FALSE))","v":""},null,null,{"$f":"IF(OR(C2359=\"\",ISBLANK(C2359)),\"\",VLOOKUP(C2359,Sheet2!A:F,3,FALSE))","v":""},{"$f":"IF(OR(C2359=\"\",ISBLANK(C2359)),\"\",VLOOKUP(C2359,Sheet2!A:G,6,FALSE))","v":""},""]
[{"$f":"IF(OR(C2384=\"\",ISBLANK(C2384)),\"\",VLOOKUP(C2384,Sheet2!A:F,2,FALSE))","v":""},{"$f":"IF(OR(C2384=\"\",ISBLANK(C2384)),\"\",VLOOKUP(C2384,Sheet2!A:G,4,FALSE))","v":""},null,null,{"$f":"IF(OR(C2384=\"\",ISBLANK(C2384)),\"\",VLOOKUP(C2384,Sheet2!A:F,3,FALSE))","v":""},{"$f":"IF(OR(C2384=\"\",ISBLANK(C2384)),\"\",VLOOKUP(C2384,Sheet2!A:G,6,FALSE))","v":""},""]
[{"$f":"IF(OR(C2417=\"\",ISBLANK(C2417)),\"\",VLOOKUP(C2417,Sheet2!A:F,2,FALSE))","v":""},{"$f":"IF(OR(C2417=\"\",ISBLANK(C2417)),\"\",VLOOKUP(C2417,Sheet2!A:G,4,FALSE))","v":""},null,null,{"$f":"IF(OR(C2417=\"\",ISBLANK(C2417)),\"\",VLOOKUP(C2417,Sheet2!A:F,3,FALSE))","v":""},{"$f":"IF(OR(C2417=\"\",ISBLANK(C2417)),\"\",VLOOKUP(C2417,Sheet2!A:G,6,FALSE))","v":""},""]
[{"$f":"IF(OR(C2450=\"\",ISBLANK(C2450)),\"\",VLOOKUP(C2450,Sheet2!A:F,2,FALSE))","v":""},{"$f":"IF(OR(C2450=\"\",ISBLANK(C2450)),\"\",VLOOKUP(C2450,Sheet2!A:G,4,FALSE))","v":""},null,null,{"$f":"IF(OR(C2450=\"\",ISBLANK(C2450)),\"\",VLOOKUP(C2450,Sheet2!A:F,3,FALSE))","v":""},{"$f":"IF(OR(C2450=\"\",ISBLANK(C2450)),\"\",VLOOKUP(C2450,Sheet2!A:G,6,FALSE))","v":""},""]
[{"$f":"IF(OR(C2457=\"\",ISBLANK(C2457)),\"\",VLOOKUP(C2457,Sheet2!A:F,2,FALSE))","v":""},{"$f":"IF(OR(C2457=\"\",ISBLANK(C2457)),\"\",VLOOKUP(C2457,Sheet2!A:G,4,FALSE))","v":""},null,null,{"$f":"IF(OR(C2457=\"\",ISBLANK(C2457)),\"\",VLOOKUP(C2457,Sheet2!A:F,3,FALSE))","v":""},{"$f":"IF(OR(C2457=\"\",ISBLANK(C2457)),\"\",VLOOKUP(C2457,Sheet2!A:G,6,FALSE))","v":""},""]
[{"$f":"IF(OR(C2483=\"\",ISBLANK(C2483)),\"\",VLOOKUP(C2483,Sheet2!A:F,2,FALSE))","v":""},{"$f":"IF(OR(C2483=\"\",ISBLANK(C2483)),\"\",VLOOKUP(C2483,Sheet2!A:G,4,FALSE))","v":""},null,null,{"$f":"IF(OR(C2483=\"\",ISBLANK(C2483)),\"\",VLOOKUP(C2483,Sheet2!A:F,3,FALSE))","v":""},{"$f":"IF(OR(C2483=\"\",ISBLANK(C2483)),\"\",VLOOKUP(C2483,Sheet2!A:G,6,FALSE))","v":""},""]
[{"$f":"IF(OR(C2508=\"\",ISBLANK(C2508)),\"\",VLOOKUP(C2508,Sheet2!A:F,2,FALSE))","v":""},{"$f":"IF(OR(C2508=\"\",ISBLANK(C2508)),\"\",VLOOKUP(C2508,Sheet2!A:G,4,FALSE))","v":""},null,null,{"$f":"IF(OR(C2508=\"\",ISBLANK(C2508)),\"\",VLOOKUP(C2508,Sheet2!A:F,3,FALSE))","v":""},{"$f":"IF(OR(C2508=\"\",ISBLANK(C2508)),\"\",VLOOKUP(C2508,Sheet2!A:G,6,FALSE))","v":""},""]
[{"$f":"IF(OR(C2541=\"\",ISBLANK(C2541)),\"\",VLOOKUP(C2541,Sheet2!A:F,2,FALSE))","v":""},{"$f":"IF(OR(C2541=\"\",ISBLANK(C2541)),\"\",VLOOKUP(C2541,Sheet2!A:G,4,FALSE))","v":""},null,null,{"$f":"IF(OR(C2541=\"\",ISBLANK(C2541)),\"\",VLOOKUP(C2541,Sheet2!A:F,3,FALSE))","v":""},{"$f":"IF(OR(C2541=\"\",ISBLANK(C2541)),\"\",VLOOKUP(C2541,Sheet2!A:G,6,FALSE))","v":""},""]
[{"$f":"IF(OR(C2550=\"\",ISBLANK(C2550)),\"\",VLOOKUP(C2550,Sheet2!A:F,2,FALSE))","v":""},{"$f":"IF(OR(C2550=\"\",ISBLANK(C2550)),\"\",VLOOKUP(C2550,Sheet2!A:G,4,FALSE))","v":""},null,null,{"$f":"IF(OR(C2550=\"\",ISBLANK(C2550)),\"\",VLOOKUP(C2550,Sheet2!A:F,3,FALSE))","v":""},{"$f":"IF(OR(C2550=\"\",ISBLANK(C2550)),\"\",VLOOKUP(C2550,Sheet2!A:G,6,FALSE))","v":""},""]
[{"$f":"IF(OR(C2575=\"\",ISBLANK(C2575)),\"\",VLOOKUP(C2575,Sheet2!A:F,2,FALSE))","v":""},{"$f":"IF(OR(C2575=\"\",ISBLANK(C2575)),\"\",VLOOKUP(C2575,Sheet2!A:G,4,FALSE))","v":""},null,null,{"$f":"IF(OR(C2575=\"\",ISBLANK(C2575)),\"\",VLOOKUP(C2575,Sheet2!A:F,3,FALSE))","v":""},{"$f":"IF(OR(C2575=\"\",ISBLANK(C2575)),\"\",VLOOKUP(C2575,Sheet2!A:G,6,FALSE))","v":""},""]
[{"$f":"IF(OR(C2608=\"\",ISBLANK(C2608)),\"\",VLOOKUP(C2608,Sheet2!A:F,2,FALSE))","v":""},{"$f":"IF(OR(C2608=\"\",ISBLANK(C2608)),\"\",VLOOKUP(C2608,Sheet2!A:G,4,FALSE))","v":""},null,null,{"$f":"IF(OR(C2608=\"\",ISBLANK(C2608)),\"\",VLOOKUP(C2608,Sheet2!A:F,3,FALSE))","v":""},{"$f":"IF(OR(C2608=\"\",ISBLANK(C2608)),\"\",VLOOKUP(C2608,Sheet2!A:G,6,FALSE))","v":""},""]
[{"$f":"IF(OR(C2641=\"\",ISBLANK(C2641)),\"\",VLOOKUP(C2641,Sheet2!A:F,2,FALSE))","v":""},{"$f":"IF(OR(C2641=\"\",ISBLANK(C2641)),\"\",VLOOKUP(C2641,Sheet2!A:G,4,FALSE))","v":""},null,null,{"$f":"IF(OR(C2641=\"\",ISBLANK(C2641)),\"\",VLOOKUP(C2641,Sheet2!A:F,3,FALSE))","v":""},{"$f":"IF(OR(C2641=\"\",ISBLANK(C2641)),\"\",VLOOKUP(C2641,Sheet2!A:G,6,FALSE))","v":""},""]
[{"$f":"IF(OR(C2666=\"\",ISBLANK(C2666)),\"\",VLOOKUP(C2666,Sheet2!A:F,2,FALSE))","v":""},{"$f":"IF(OR(C2666=\"\",ISBLANK(C2666)),\"\",VLOOKUP(C2666,Sheet2!A:G,4,FALSE))","v":""},null,null,{"$f":"IF(OR(C2666=\"\",ISBLANK(C2666)),\"\",VLOOKUP(C2666,Sheet2!A:F,3,FALSE))","v":""},{"$f":"IF(OR(C2666=\"\",ISBLANK(C2666)),\"\",VLOOKUP(C2666,Sheet2!A:G,6,FALSE))","v":""},""]
[{"$f":"IF(OR(C2676=\"\",ISBLANK(C2676)),\"\",VLOOKUP(C2676,Sheet2!A:F,2,FALSE))","v":""},{"$f":"IF(OR(C2676=\"\",ISBLANK(C2676)),\"\",VLOOKUP(C2676,Sheet2!A:G,4,FALSE))","v":""},null,null,{"$f":"IF(OR(C2676=\"\",ISBLANK(C2676)),\"\",VLOOKUP(C2676,Sheet2!A:F,3,FALSE))","v":""},{"$f":"IF(OR(C2676=\"\",ISBLANK(C2676)),\"\",VLOOKUP(C2676,Sheet2!A:G,6,FALSE))","v":""},""]
[{"$f":"IF(OR(C2699=\"\",ISBLANK(C2699)),\"\",VLOOKUP(C2699,Sheet2!A:F,2,FALSE))","v":""},{"$f":"IF(OR(C2699=\"\",ISBLANK(C2699)),\"\",VLOOKUP(C2699,Sheet2!A:G,4,FALSE))","v":""},null,null,{"$f":"IF(OR(C2699=\"\",ISBLANK(C2699)),\"\",VLOOKUP(C2699,Sheet2!A:F,3,FALSE))","v":""},{"$f":"IF(OR(C2699=\"\",ISBLANK(C2699)),\"\",VLOOKUP(C2699,Sheet2!A:G,6,FALSE))","v":""},""]
[{"$f":"IF(OR(C2732=\"\",ISBLANK(C2732)),\"\",VLOOKUP(C2732,Sheet2!A:F,2,FALSE))","v":""},{"$f":"IF(OR(C2732=\"\",ISBLANK(C2732)),\"\",VLOOKUP(C2732,Sheet2!A:G,4,FALSE))","v":""},null,null,{"$f":"IF(OR(C2732=\"\",ISBLANK(C2732)),\"\",VLOOKUP(C2732,Sheet2!A:F,3,FALSE))","v":""},{"$f":"IF(OR(C2732=\"\",ISBLANK(C2732)),\"\",VLOOKUP(C2732,Sheet2!A:G,6,FALSE))","v":""},""]
[{"$f":"IF(OR(C2741=\"\",ISBLANK(C2741)),\"\",VLOOKUP(C2741,Sheet2!A:F,2,FALSE))","v":""},{"$f":"IF(OR(C2741=\"\",ISBLANK(C2741)),\"\",VLOOKUP(C2741,Sheet2!A:G,4,FALSE))","v":""},null,null,{"$f":"IF(OR(C2741=\"\",ISBLANK(C2741)),\"\",VLOOKUP(C2741,Sheet2!A:F,3,FALSE))","v":""},{"$f":"IF(OR(C2741=\"\",ISBLANK(C2741)),\"\",VLOOKUP(C2741,Sheet2!A:G,6,FALSE))","v":""},""]
[{"$f":"IF(OR(C2766=\"\",ISBLANK(C2766)),\"\",VLOOKUP(C2766,Sheet2!A:F,2,FALSE))","v":""},{"$f":"IF(OR(C2766=\"\",ISBLANK(C2766)),\"\",VLOOKUP(C2766,Sheet2!A:G,4,FALSE))","v":""},null,null,{"$f":"IF(OR(C2766=\"\",ISBLANK(C2766)),\"\",VLOOKUP(C2766,Sheet2!A:F,3,FALSE))","v":""},{"$f":"IF(OR(C2766=\"\",ISBLANK(C2766)),\"\",VLOOKUP(C2766,Sheet2!A:G,6,FALSE))","v":""},""]
[{"$f":"IF(OR(C2799=\"\",ISBLANK(C2799)),\"\",VLOOKUP(C2799,Sheet2!A:F,2,FALSE))","v":""},{"$f":"IF(OR(C2799=\"\",ISBLANK(C2799)),\"\",VLOOKUP(C2799,Sheet2!A:G,4,FALSE))","v":""},null,null,{"$f":"IF(OR(C2799=\"\",ISBLANK(C2799)),\"\",VLOOKUP(C2799,Sheet2!A:F,3,FALSE))","v":""},{"$f":"IF(OR(C2799=\"\",ISBLANK(C2799)),\"\",VLOOKUP(C2799,Sheet2!A:G,6,FALSE))","v":""},""]
[{"$f":"IF(OR(C2832=\"\",ISBLANK(C2832)),\"\",VLOOKUP(C2832,Sheet2!A:F,2,FALSE))","v":""},{"$f":"IF(OR(C2832=\"\",ISBLANK(C2832)),\"\",VLOOKUP(C2832,Sheet2!A:G,4,FALSE))","v":""},null,null,{"$f":"IF(OR(C2832=\"\",ISBLANK(C2832)),\"\",VLOOKUP(C2832,Sheet2!A:F,3,FALSE))","v":""},{"$f":"IF(OR(C2832=\"\",ISBLANK(C2832)),\"\",VLOOKUP(C2832,Sheet2!A:G,6,FALSE))","v":""},""]
[{"$f":"IF(OR(C2857=\"\",ISBLANK(C2857)),\"\",VLOOKUP(C2857,Sheet2!A:F,2,FALSE))","v":""},{"$f":"IF(OR(C2857=\"\",ISBLANK(C2857)),\"\",VLOOKUP(C2857,Sheet2!A:G,4,FALSE))","v":""},null,null,{"$f":"IF(OR(C2857=\"\",ISBLANK(C2857)),\"\",VLOOKUP(C2857,Sheet2!A:F,3,FALSE))","v":""},{"$f":"IF(OR(C2857=\"\",ISBLANK(C2857)),\"\",VLOOKUP(C2857,Sheet2!A:G,6,FALSE))","v":""},""]
[{"$f":"IF(OR(C2866=\"\",ISBLANK(C2866)),\"\",VLOOKUP(C2866,Sheet2!A:F,2,FALSE))","v":""},{"$f":"IF(OR(C2866=\"\",ISBLANK(C2866)),\"\",VLOOKUP(C2866,Sheet2!A:G,4,FALSE))","v":""},null,null,{"$f":"IF(OR(C2866=\"\",ISBLANK(C2866)),\"\",VLOOKUP(C2866,Sheet2!A:F,3,FALSE))","v":""},{"$f":"IF(OR(C2866=\"\",ISBLANK(C2866)),\"\",VLOOKUP(C2866,Sheet2!A:G,6,FALSE))","v":""},""]
[{"$f":"IF(OR(C2891=\"\",ISBLANK(C2891)),\"\",VLOOKUP(C2891,Sheet2!A:F,2,FALSE))","v":""},{"$f":"IF(OR(C2891=\"\",ISBLANK(C2891)),\"\",VLOOKUP(C2891,Sheet2!A:G,4,FALSE))","v":""},null,null,{"$f":"IF(OR(C2891=\"\",ISBLANK(C2891)),\"\",VLOOKUP(C2891,Sheet2!A:F,3,FALSE))","v":""},{"$f":"IF(OR(C2891=\"\",ISBLANK(C2891)),\"\",VLOOKUP(C2891,Sheet2!A:G,6,FALSE))","v":""},""]
[{"$f":"IF(OR(C2930=\"\",ISBLANK(C2930)),\"\",VLOOKUP(C2930,Sheet2!A:F,2,FALSE))","v":""},{"$f":"IF(OR(C2930=\"\",ISBLANK(C2930)),\"\",VLOOKUP(C2930,Sheet2!A:G,4,FALSE))","v":""},null,null,{"$f":"IF(OR(C2930=\"\",ISBLANK(C2930)),\"\",VLOOKUP(C2930,Sheet2!A:F,3,FALSE))","v":""},{"$f":"IF(OR(C2930=\"\",ISBLANK(C2930)),\"\",VLOOKUP(C2930,Sheet2!A:G,6,FALSE))","v":""},""]
[{"$f":"IF(OR(C2932=\"\",ISBLANK(C2932)),\"\",VLOOKUP(C2932,Sheet2!A:F,2,FALSE))","v":""},{"$f":"IF(OR(C2932=\"\",ISBLANK(C2932)),\"\",VLOOKUP(C2932,Sheet2!A:G,4,FALSE))","v":""},null,null,{"$f":"IF(OR(C2932=\"\",ISBLANK(C2932)),\"\",VLOOKUP(C2932,Sheet2!A:F,3,FALSE))","v":""},{"$f":"IF(OR(C2932=\"\",ISBLANK(C2932)),\"\",VLOOKUP(C2932,Sheet2!A:G,6,FALSE))","v":""},""]
[{"$f":"IF(OR(C2957=\"\",ISBLANK(C2957)),\"\",VLOOKUP(C2957,Sheet2!A:F,2,FALSE))","v":""},{"$f":"IF(OR(C2957=\"\",ISBLANK(C2957)),\"\",VLOOKUP(C2957,Sheet2!A:G,4,FALSE))","v":""},null,null,{"$f":"IF(OR(C2957=\"\",ISBLANK(C2957)),\"\",VLOOKUP(C2957,Sheet2!A:F,3,FALSE))","v":""},{"$f":"IF(OR(C2957=\"\",ISBLANK(C2957)),\"\",VLOOKUP(C2957,Sheet2!A:G,6,FALSE))","v":""},""]
[{"$f":"IF(OR(C2990=\"\",ISBLANK(C2990)),\"\",VLOOKUP(C2990,Sheet2!A:F,2,FALSE))","v":""},{"$f":"IF(OR(C2990=\"\",ISBLANK(C2990)),\"\",VLOOKUP(C2990,Sheet2!A:G,4,FALSE))","v":""},null,null,{"$f":"IF(OR(C2990=\"\",ISBLANK(C2990)),\"\",VLOOKUP(C2990,Sheet2!A:F,3,FALSE))","v":""},{"$f":"IF(OR(C2990=\"\",ISBLANK(C2990)),\"\",VLOOKUP(C2990,Sheet2!A:G,6,FALSE))","v":""},""]
[{"$f":"IF(OR(C3015=\"\",ISBLANK(C3015)),\"\",VLOOKUP(C3015,Sheet2!A:F,2,FALSE))","v":""},{"$f":"IF(OR(C3015=\"\",ISBLANK(C3015)),\"\",VLOOKUP(C3015,Sheet2!A:G,4,FALSE))","v":""},null,null,{"$f":"IF(OR(C3015=\"\",ISBLANK(C3015)),\"\",VLOOKUP(C3015,Sheet2!A:F,3,FALSE))","v":""},{"$f":"IF(OR(C3015=\"\",ISBLANK(C3015)),\"\",VLOOKUP(C3015,Sheet2!A:G,6,FALSE))","v":""},""]
[{"$f":"IF(OR(C3048=\"\",ISBLANK(C3048)),\"\",VLOOKUP(C3048,Sheet2!A:F,2,FALSE))","v":""},{"$f":"IF(OR(C3048=\"\",ISBLANK(C3048)),\"\",VLOOKUP(C3048,Sheet2!A:G,4,FALSE))","v":""},null,null,{"$f":"IF(OR(C3048=\"\",ISBLANK(C3048)),\"\",VLOOKUP(C3048,Sheet2!A:F,3,FALSE))","v":""},{"$f":"IF(OR(C3048=\"\",ISBLANK(C3048)),\"\",VLOOKUP(C3048,Sheet2!A:G,6,FALSE))","v":""},""]
[{"$f":"IF(OR(C3057=\"\",ISBLANK(C3057)),\"\",VLOOKUP(C3057,Sheet2!A:F,2,FALSE))","v":""},{"$f":"IF(OR(C3057=\"\",ISBLANK(C3057)),\"\",VLOOKUP(C3057,Sheet2!A:G,4,FALSE))","v":""},null,null,{"$f":"IF(OR(C3057=\"\",ISBLANK(C3057)),\"\",VLOOKUP(C3057,Sheet2!A:F,3,FALSE))","v":""},{"$f":"IF(OR(C3057=\"\",ISBLANK(C3057)),\"\",VLOOKUP(C3057,Sheet2!A:G,6,FALSE))","v":""},""]
[{"$f":"IF(OR(C3082=\"\",ISBLANK(C3082)),\"\",VLOOKUP(C3082,Sheet2!A:F,2,FALSE))","v":""},{"$f":"IF(OR(C3082=\"\",ISBLANK(C3082)),\"\",VLOOKUP(C3082,Sheet2!A:G,4,FALSE))","v":""},null,null,{"$f":"IF(OR(C3082=\"\",ISBLANK(C3082)),\"\",VLOOKUP(C3082,Sheet2!A:F,3,FALSE))","v":""},{"$f":"IF(OR(C3082=\"\",ISBLANK(C3082)),\"\",VLOOKUP(C3082,Sheet2!A:G,6,FALSE))","v":""},""]
[{"$f":"IF(OR(C3115=\"\",ISBLANK(C3115)),\"\",VLOOKUP(C3115,Sheet2!A:F,2,FALSE))","v":""},{"$f":"IF(OR(C3115=\"\",ISBLANK(C3115)),\"\",VLOOKUP(C3115,Sheet2!A:G,4,FALSE))","v":""},null,null,{"$f":"IF(OR(C3115=\"\",ISBLANK(C3115)),\"\",VLOOKUP(C3115,Sheet2!A:F,3,FALSE))","v":""},{"$f":"IF(OR(C3115=\"\",ISBLANK(C3115)),\"\",VLOOKUP(C3115,Sheet2!A:G,6,FALSE))","v":""},""]
[{"$f":"IF(OR(C3124=\"\",ISBLANK(C3124)),\"\",VLOOKUP(C3124,Sheet2!A:F,2,FALSE))","v":""},{"$f":"IF(OR(C3124=\"\",ISBLANK(C3124)),\"\",VLOOKUP(C3124,Sheet2!A:G,4,FALSE))","v":""},null,null,{"$f":"IF(OR(C3124=\"\",ISBLANK(C3124)),\"\",VLOOKUP(C3124,Sheet2!A:F,3,FALSE))","v":""},{"$f":"IF(OR(C3124=\"\",ISBLANK(C3124)),\"\",VLOOKUP(C3124,Sheet2!A:G,6,FALSE))","v":""},""]
[{"$f":"IF(OR(C3161=\"\",ISBLANK(C3161)),\"\",VLOOKUP(C3161,Sheet2!A:F,2,FALSE))","v":""},{"$f":"IF(OR(C3161=\"\",ISBLANK(C3161)),\"\",VLOOKUP(C3161,Sheet2!A:G,4,FALSE))","v":""},null,null,{"$f":"IF(OR(C3161=\"\",ISBLANK(C3161)),\"\",VLOOKUP(C3161,Sheet2!A:F,3,FALSE))","v":""},{"$f":"IF(OR(C3161=\"\",ISBLANK(C3161)),\"\",VLOOKUP(C3161,Sheet2!A:G,6,FALSE))","v":""},""]
[{"$f":"IF(OR(C3181=\"\",ISBLANK(C3181)),\"\",VLOOKUP(C3181,Sheet2!A:F,2,FALSE))","v":""},{"$f":"IF(OR(C3181=\"\",ISBLANK(C3181)),\"\",VLOOKUP(C3181,Sheet2!A:G,4,FALSE))","v":""},null,null,{"$f":"IF(OR(C3181=\"\",ISBLANK(C3181)),\"\",VLOOKUP(C3181,Sheet2!A:F,3,FALSE))","v":""},{"$f":"IF(OR(C3181=\"\",ISBLANK(C3181)),\"\",VLOOKUP(C3181,Sheet2!A:G,6,FALSE))","v":""},""]
[{"$f":"IF(OR(C3206=\"\",ISBLANK(C3206)),\"\",VLOOKUP(C3206,Sheet2!A:F,2,FALSE))","v":""},{"$f":"IF(OR(C3206=\"\",ISBLANK(C3206)),\"\",VLOOKUP(C3206,Sheet2!A:G,4,FALSE))","v":""},null,null,{"$f":"IF(OR(C3206=\"\",ISBLANK(C3206)),\"\",VLOOKUP(C3206,Sheet2!A:F,3,FALSE))","v":""},{"$f":"IF(OR(C3206=\"\",ISBLANK(C3206)),\"\",VLOOKUP(C3206,Sheet2!A:G,6,FALSE))","v":""},""]
[{"$f":"IF(OR(C3239=\"\",ISBLANK(C3239)),\"\",VLOOKUP(C3239,Sheet2!A:F,2,FALSE))","v":""},{"$f":"IF(OR(C3239=\"\",ISBLANK(C3239)),\"\",VLOOKUP(C3239,Sheet2!A:G,4,FALSE))","v":""},null,null,{"$f":"IF(OR(C3239=\"\",ISBLANK(C3239)),\"\",VLOOKUP(C3239,Sheet2!A:F,3,FALSE))","v":""},{"$f":"IF(OR(C3239=\"\",ISBLANK(C3239)),\"\",VLOOKUP(C3239,Sheet2!A:G,6,FALSE))","v":""},""]
[{"$f":"IF(OR(C3248=\"\",ISBLANK(C3248)),\"\",VLOOKUP(C3248,Sheet2!A:F,2,FALSE))","v":""},{"$f":"IF(OR(C3248=\"\",ISBLANK(C3248)),\"\",VLOOKUP(C3248,Sheet2!A:G,4,FALSE))","v":""},null,null,{"$f":"IF(OR(C3248=\"\",ISBLANK(C3248)),\"\",VLOOKUP(C3248,Sheet2!A:F,3,FALSE))","v":""},{"$f":"IF(OR(C3248=\"\",ISBLANK(C3248)),\"\",VLOOKUP(C3248,Sheet2!A:G,6,FALSE))","v":""},""]
[{"$f":"IF(OR(C3273=\"\",ISBLANK(C3273)),\"\",VLOOKUP(C3273,Sheet2!A:F,2,FALSE))","v":""},{"$f":"IF(OR(C3273=\"\",ISBLANK(C3273)),\"\",VLOOKUP(C3273,Sheet2!A:G,4,FALSE))","v":""},null,null,{"$f":"IF(OR(C3273=\"\",ISBLANK(C3273)),\"\",VLOOKUP(C3273,Sheet2!A:F,3,FALSE))","v":""},{"$f":"IF(OR(C3273=\"\",ISBLANK(C3273)),\"\",VLOOKUP(C3273,Sheet2!A:G,6,FALSE))","v":""},""]
[{"$f":"IF(OR(C3306=\"\",ISBLANK(C3306)),\"\",VLOOKUP(C3306,Sheet2!A:F,2,FALSE))","v":""},{"$f":"IF(OR(C3306=\"\",ISBLANK(C3306)),\"\",VLOOKUP(C3306,Sheet2!A:G,4,FALSE))","v":""},null,null,{"$f":"IF(OR(C3306=\"\",ISBLANK(C3306)),\"\",VLOOKUP(C3306,Sheet2!A:F,3,FALSE))","v":""},{"$f":"IF(OR(C3306=\"\",ISBLANK(C3306)),\"\",VLOOKUP(C3306,Sheet2!A:G,6,FALSE))","v":""},""]
[{"$f":"IF(OR(C3331=\"\",ISBLANK(C3331)),\"\",VLOOKUP(C3331,Sheet2!A:F,2,FALSE))","v":""},{"$f":"IF(OR(C3331=\"\",ISBLANK(C3331)),\"\",VLOOKUP(C3331,Sheet2!A:G,4,FALSE))","v":""},null,null,{"$f":"IF(OR(C3331=\"\",ISBLANK(C3331)),\"\",VLOOKUP(C3331,Sheet2!A:F,3,FALSE))","v":""},{"$f":"IF(OR(C3331=\"\",ISBLANK(C3331)),\"\",VLOOKUP(C3331,Sheet2!A:G,6,FALSE))","v":""},{"$f":"IF(F3331=0,\"\",F3331)","v":""}]
[{"$f":"IF(OR(C3340=\"\",ISBLANK(C3340)),\"\",VLOOKUP(C3340,Sheet2!A:F,2,FALSE))","v":""},{"$f":"IF(OR(C3340=\"\",ISBLANK(C3340)),\"\",VLOOKUP(C3340,Sheet2!A:G,4,FALSE))","v":""},null,null,{"$f":"IF(OR(C3340=\"\",ISBLANK(C3340)),\"\",VLOOKUP(C3340,Sheet2!A:F,3,FALSE))","v":""},{"$f":"IF(OR(C3340=\"\",ISBLANK(C3340)),\"\",VLOOKUP(C3340,Sheet2!A:G,6,FALSE))","v":""},""]
[{"$f":"IF(OR(C3380=\"\",ISBLANK(C3380)),\"\",VLOOKUP(C3380,Sheet2!A:F,2,FALSE))","v":""},{"$f":"IF(OR(C3380=\"\",ISBLANK(C3380)),\"\",VLOOKUP(C3380,Sheet2!A:G,4,FALSE))","v":""},null,null,{"$f":"IF(OR(C3380=\"\",ISBLANK(C3380)),\"\",VLOOKUP(C3380,Sheet2!A:F,3,FALSE))","v":""},{"$f":"IF(OR(C3380=\"\",ISBLANK(C3380)),\"\",VLOOKUP(C3380,Sheet2!A:G,6,FALSE))","v":""},""]
[{"$f":"IF(OR(C3397=\"\",ISBLANK(C3397)),\"\",VLOOKUP(C3397,Sheet2!A:F,2,FALSE))","v":""},{"$f":"IF(OR(C3397=\"\",ISBLANK(C3397)),\"\",VLOOKUP(C3397,Sheet2!A:G,4,FALSE))","v":""},null,null,{"$f":"IF(OR(C3397=\"\",ISBLANK(C3397)),\"\",VLOOKUP(C3397,Sheet2!A:F,3,FALSE))","v":""},{"$f":"IF(OR(C3397=\"\",ISBLANK(C3397)),\"\",VLOOKUP(C3397,Sheet2!A:G,6,FALSE))","v":""},""]
[{"$f":"IF(OR(C3430=\"\",ISBLANK(C3430)),\"\",VLOOKUP(C3430,Sheet2!A:F,2,FALSE))","v":""},{"$f":"IF(OR(C3430=\"\",ISBLANK(C3430)),\"\",VLOOKUP(C3430,Sheet2!A:G,4,FALSE))","v":""},null,null,{"$f":"IF(OR(C3430=\"\",ISBLANK(C3430)),\"\",VLOOKUP(C3430,Sheet2!A:F,3,FALSE))","v":""},{"$f":"IF(OR(C3430=\"\",ISBLANK(C3430)),\"\",VLOOKUP(C3430,Sheet2!A:G,6,FALSE))","v":""},""]
[{"$f":"IF(OR(C3439=\"\",ISBLANK(C3439)),\"\",VLOOKUP(C3439,Sheet2!A:F,2,FALSE))","v":""},{"$f":"IF(OR(C3439=\"\",ISBLANK(C3439)),\"\",VLOOKUP(C3439,Sheet2!A:G,4,FALSE))","v":""},null,null,{"$f":"IF(OR(C3439=\"\",ISBLANK(C3439)),\"\",VLOOKUP(C3439,Sheet2!A:F,3,FALSE))","v":""},{"$f":"IF(OR(C3439=\"\",ISBLANK(C3439)),\"\",VLOOKUP(C3439,Sheet2!A:G,6,FALSE))","v":""},""]
[{"$f":"IF(OR(C3464=\"\",ISBLANK(C3464)),\"\",VLOOKUP(C3464,Sheet2!A:F,2,FALSE))","v":""},{"$f":"IF(OR(C3464=\"\",ISBLANK(C3464)),\"\",VLOOKUP(C3464,Sheet2!A:G,4,FALSE))","v":""},null,null,{"$f":"IF(OR(C3464=\"\",ISBLANK(C3464)),\"\",VLOOKUP(C3464,Sheet2!A:F,3,FALSE))","v":""},{"$f":"IF(OR(C3464=\"\",ISBLANK(C3464)),\"\",VLOOKUP(C3464,Sheet2!A:G,6,FALSE))","v":""},""]
[{"$f":"IF(OR(C3497=\"\",ISBLANK(C3497)),\"\",VLOOKUP(C3497,Sheet2!A:F,2,FALSE))","v":""},{"$f":"IF(OR(C3497=\"\",ISBLANK(C3497)),\"\",VLOOKUP(C3497,Sheet2!A:G,4,FALSE))","v":""},null,null,{"$f":"IF(OR(C3497=\"\",ISBLANK(C3497)),\"\",VLOOKUP(C3497,Sheet2!A:F,3,FALSE))","v":""},{"$f":"IF(OR(C3497=\"\",ISBLANK(C3497)),\"\",VLOOKUP(C3497,Sheet2!A:G,6,FALSE))","v":""},""]
[{"$f":"IF(OR(C3522=\"\",ISBLANK(C3522)),\"\",VLOOKUP(C3522,Sheet2!A:F,2,FALSE))","v":""},{"$f":"IF(OR(C3522=\"\",ISBLANK(C3522)),\"\",VLOOKUP(C3522,Sheet2!A:G,4,FALSE))","v":""},null,null,{"$f":"IF(OR(C3522=\"\",ISBLANK(C3522)),\"\",VLOOKUP(C3522,Sheet2!A:F,3,FALSE))","v":""},{"$f":"IF(OR(C3522=\"\",ISBLANK(C3522)),\"\",VLOOKUP(C3522,Sheet2!A:G,6,FALSE))","v":""},""]
[{"$f":"IF(OR(C3531=\"\",ISBLANK(C3531)),\"\",VLOOKUP(C3531,Sheet2!A:F,2,FALSE))","v":""},{"$f":"IF(OR(C3531=\"\",ISBLANK(C3531)),\"\",VLOOKUP(C3531,Sheet2!A:G,4,FALSE))","v":""},null,null,{"$f":"IF(OR(C3531=\"\",ISBLANK(C3531)),\"\",VLOOKUP(C3531,Sheet2!A:F,3,FALSE))","v":""},{"$f":"IF(OR(C3531=\"\",ISBLANK(C3531)),\"\",VLOOKUP(C3531,Sheet2!A:G,6,FALSE))","v":""},""]
[{"$f":"IF(OR(C3564=\"\",ISBLANK(C3564)),\"\",VLOOKUP(C3564,Sheet2!A:F,2,FALSE))","v":""},{"$f":"IF(OR(C3564=\"\",ISBLANK(C3564)),\"\",VLOOKUP(C3564,Sheet2!A:G,4,FALSE))","v":""},null,null,{"$f":"IF(OR(C3564=\"\",ISBLANK(C3564)),\"\",VLOOKUP(C3564,Sheet2!A:F,3,FALSE))","v":""},{"$f":"IF(OR(C3564=\"\",ISBLANK(C3564)),\"\",VLOOKUP(C3564,Sheet2!A:G,6,FALSE))","v":""},""]
[{"$f":"IF(OR(C3589=\"\",ISBLANK(C3589)),\"\",VLOOKUP(C3589,Sheet2!A:F,2,FALSE))","v":""},{"$f":"IF(OR(C3589=\"\",ISBLANK(C3589)),\"\",VLOOKUP(C3589,Sheet2!A:G,4,FALSE))","v":""},null,null,{"$f":"IF(OR(C3589=\"\",ISBLANK(C3589)),\"\",VLOOKUP(C3589,Sheet2!A:F,3,FALSE))","v":""},{"$f":"IF(OR(C3589=\"\",ISBLANK(C3589)),\"\",VLOOKUP(C3589,Sheet2!A:G,6,FALSE))","v":""},""]
[{"$f":"IF(OR(C3611=\"\",ISBLANK(C3611)),\"\",VLOOKUP(C3611,Sheet2!A:F,2,FALSE))","v":""},{"$f":"IF(OR(C3611=\"\",ISBLANK(C3611)),\"\",VLOOKUP(C3611,Sheet2!A:G,4,FALSE))","v":""},null,null,{"$f":"IF(OR(C3611=\"\",ISBLANK(C3611)),\"\",VLOOKUP(C3611,Sheet2!A:F,3,FALSE))","v":""},{"$f":"IF(OR(C3611=\"\",ISBLANK(C3611)),\"\",VLOOKUP(C3611,Sheet2!A:G,6,FALSE))","v":""},""]
[{"$f":"IF(OR(C3630=\"\",ISBLANK(C3630)),\"\",VLOOKUP(C3630,Sheet2!A:F,2,FALSE))","v":""},{"$f":"IF(OR(C3630=\"\",ISBLANK(C3630)),\"\",VLOOKUP(C3630,Sheet2!A:G,4,FALSE))","v":""},null,null,{"$f":"IF(OR(C3630=\"\",ISBLANK(C3630)),\"\",VLOOKUP(C3630,Sheet2!A:F,3,FALSE))","v":""},{"$f":"IF(OR(C3630=\"\",ISBLANK(C3630)),\"\",VLOOKUP(C3630,Sheet2!A:G,6,FALSE))","v":""},""]
[{"$f":"IF(OR(C3655=\"\",ISBLANK(C3655)),\"\",VLOOKUP(C3655,Sheet2!A:F,2,FALSE))","v":""},{"$f":"IF(OR(C3655=\"\",ISBLANK(C3655)),\"\",VLOOKUP(C3655,Sheet2!A:G,4,FALSE))","v":""},null,null,{"$f":"IF(OR(C3655=\"\",ISBLANK(C3655)),\"\",VLOOKUP(C3655,Sheet2!A:F,3,FALSE))","v":""},{"$f":"IF(OR(C3655=\"\",ISBLANK(C3655)),\"\",VLOOKUP(C3655,Sheet2!A:G,6,FALSE))","v":""},""]
[{"$f":"IF(OR(C3688=\"\",ISBLANK(C3688)),\"\",VLOOKUP(C3688,Sheet2!A:F,2,FALSE))","v":""},{"$f":"IF(OR(C3688=\"\",ISBLANK(C3688)),\"\",VLOOKUP(C3688,Sheet2!A:G,4,FALSE))","v":""},null,null,{"$f":"IF(OR(C3688=\"\",ISBLANK(C3688)),\"\",VLOOKUP(C3688,Sheet2!A:F,3,FALSE))","v":""},{"$f":"IF(OR(C3688=\"\",ISBLANK(C3688)),\"\",VLOOKUP(C3688,Sheet2!A:G,6,FALSE))","v":""},""]
[{"$f":"IF(OR(C3713=\"\",ISBLANK(C3713)),\"\",VLOOKUP(C3713,Sheet2!A:F,2,FALSE))","v":""},{"$f":"IF(OR(C3713=\"\",ISBLANK(C3713)),\"\",VLOOKUP(C3713,Sheet2!A:G,4,FALSE))","v":""},null,null,{"$f":"IF(OR(C3713=\"\",ISBLANK(C3713)),\"\",VLOOKUP(C3713,Sheet2!A:F,3,FALSE))","v":""},{"$f":"IF(OR(C3713=\"\",ISBLANK(C3713)),\"\",VLOOKUP(C3713,Sheet2!A:G,6,FALSE))","v":""},""]
[{"$f":"IF(OR(C3722=\"\",ISBLANK(C3722)),\"\",VLOOKUP(C3722,Sheet2!A:F,2,FALSE))","v":""},{"$f":"IF(OR(C3722=\"\",ISBLANK(C3722)),\"\",VLOOKUP(C3722,Sheet2!A:G,4,FALSE))","v":""},null,null,{"$f":"IF(OR(C3722=\"\",ISBLANK(C3722)),\"\",VLOOKUP(C3722,Sheet2!A:F,3,FALSE))","v":""},{"$f":"IF(OR(C3722=\"\",ISBLANK(C3722)),\"\",VLOOKUP(C3722,Sheet2!A:G,6,FALSE))","v":""},""]
[{"$f":"IF(OR(C3755=\"\",ISBLANK(C3755)),\"\",VLOOKUP(C3755,Sheet2!A:F,2,FALSE))","v":""},{"$f":"IF(OR(C3755=\"\",ISBLANK(C3755)),\"\",VLOOKUP(C3755,Sheet2!A:G,4,FALSE))","v":""},null,null,{"$f":"IF(OR(C3755=\"\",ISBLANK(C3755)),\"\",VLOOKUP(C3755,Sheet2!A:F,3,FALSE))","v":""},{"$f":"IF(OR(C3755=\"\",ISBLANK(C3755)),\"\",VLOOKUP(C3755,Sheet2!A:G,6,FALSE))","v":""},""]
[{"$f":"IF(OR(C3780=\"\",ISBLANK(C3780)),\"\",VLOOKUP(C3780,Sheet2!A:F,2,FALSE))","v":""},{"$f":"IF(OR(C3780=\"\",ISBLANK(C3780)),\"\",VLOOKUP(C3780,Sheet2!A:G,4,FALSE))","v":""},null,null,{"$f":"IF(OR(C3780=\"\",ISBLANK(C3780)),\"\",VLOOKUP(C3780,Sheet2!A:F,3,FALSE))","v":""},{"$f":"IF(OR(C3780=\"\",ISBLANK(C3780)),\"\",VLOOKUP(C3780,Sheet2!A:G,6,FALSE))","v":""},""]
[{"$f":"IF(OR(C3813=\"\",ISBLANK(C3813)),\"\",VLOOKUP(C3813,Sheet2!A:F,2,FALSE))","v":""},{"$f":"IF(OR(C3813=\"\",ISBLANK(C3813)),\"\",VLOOKUP(C3813,Sheet2!A:G,4,FALSE))","v":""},null,null,{"$f":"IF(OR(C3813=\"\",ISBLANK(C3813)),\"\",VLOOKUP(C3813,Sheet2!A:F,3,FALSE))","v":""},{"$f":"IF(OR(C3813=\"\",ISBLANK(C3813)),\"\",VLOOKUP(C3813,Sheet2!A:G,6,FALSE))","v":""},""]
[{"$f":"IF(OR(C3819=\"\",ISBLANK(C3819)),\"\",VLOOKUP(C3819,Sheet2!A:F,2,FALSE))","v":""},{"$f":"IF(OR(C3819=\"\",ISBLANK(C3819)),\"\",VLOOKUP(C3819,Sheet2!A:G,4,FALSE))","v":""},null,null,{"$f":"IF(OR(C3819=\"\",ISBLANK(C3819)),\"\",VLOOKUP(C3819,Sheet2!A:F,3,FALSE))","v":""},{"$f":"IF(OR(C3819=\"\",ISBLANK(C3819)),\"\",VLOOKUP(C3819,Sheet2!A:G,6,FALSE))","v":""},""]
[{"$f":"IF(OR(C3846=\"\",ISBLANK(C3846)),\"\",VLOOKUP(C3846,Sheet2!A:F,2,FALSE))","v":""},{"$f":"IF(OR(C3846=\"\",ISBLANK(C3846)),\"\",VLOOKUP(C3846,Sheet2!A:G,4,FALSE))","v":""},null,null,{"$f":"IF(OR(C3846=\"\",ISBLANK(C3846)),\"\",VLOOKUP(C3846,Sheet2!A:F,3,FALSE))","v":""},{"$f":"IF(OR(C3846=\"\",ISBLANK(C3846)),\"\",VLOOKUP(C3846,Sheet2!A:G,6,FALSE))","v":""},""]
[{"$f":"IF(OR(C3879=\"\",ISBLANK(C3879)),\"\",VLOOKUP(C3879,Sheet2!A:F,2,FALSE))","v":""},{"$f":"IF(OR(C3879=\"\",ISBLANK(C3879)),\"\",VLOOKUP(C3879,Sheet2!A:G,4,FALSE))","v":""},null,null,{"$f":"IF(OR(C3879=\"\",ISBLANK(C3879)),\"\",VLOOKUP(C3879,Sheet2!A:F,3,FALSE))","v":""},{"$f":"IF(OR(C3879=\"\",ISBLANK(C3879)),\"\",VLOOKUP(C3879,Sheet2!A:G,6,FALSE))","v":""},""]
[{"$f":"IF(OR(C3904=\"\",ISBLANK(C3904)),\"\",VLOOKUP(C3904,Sheet2!A:F,2,FALSE))","v":""},{"$f":"IF(OR(C3904=\"\",ISBLANK(C3904)),\"\",VLOOKUP(C3904,Sheet2!A:G,4,FALSE))","v":""},null,null,{"$f":"IF(OR(C3904=\"\",ISBLANK(C3904)),\"\",VLOOKUP(C3904,Sheet2!A:F,3,FALSE))","v":""},{"$f":"IF(OR(C3904=\"\",ISBLANK(C3904)),\"\",VLOOKUP(C3904,Sheet2!A:G,6,FALSE))","v":""},""]
[{"$f":"IF(OR(C3913=\"\",ISBLANK(C3913)),\"\",VLOOKUP(C3913,Sheet2!A:F,2,FALSE))","v":""},{"$f":"IF(OR(C3913=\"\",ISBLANK(C3913)),\"\",VLOOKUP(C3913,Sheet2!A:G,4,FALSE))","v":""},null,null,{"$f":"IF(OR(C3913=\"\",ISBLANK(C3913)),\"\",VLOOKUP(C3913,Sheet2!A:F,3,FALSE))","v":""},{"$f":"IF(OR(C3913=\"\",ISBLANK(C3913)),\"\",VLOOKUP(C3913,Sheet2!A:G,6,FALSE))","v":""},""]
[{"$f":"IF(OR(C3946=\"\",ISBLANK(C3946)),\"\",VLOOKUP(C3946,Sheet2!A:F,2,FALSE))","v":""},{"$f":"IF(OR(C3946=\"\",ISBLANK(C3946)),\"\",VLOOKUP(C3946,Sheet2!A:G,4,FALSE))","v":""},null,null,{"$f":"IF(OR(C3946=\"\",ISBLANK(C3946)),\"\",VLOOKUP(C3946,Sheet2!A:F,3,FALSE))","v":""},{"$f":"IF(OR(C3946=\"\",ISBLANK(C3946)),\"\",VLOOKUP(C3946,Sheet2!A:G,6,FALSE))","v":""},""]
[{"$f":"IF(OR(C3971=\"\",ISBLANK(C3971)),\"\",VLOOKUP(C3971,Sheet2!A:F,2,FALSE))","v":""},{"$f":"IF(OR(C3971=\"\",ISBLANK(C3971)),\"\",VLOOKUP(C3971,Sheet2!A:G,4,FALSE))","v":""},null,null,{"$f":"IF(OR(C3971=\"\",ISBLANK(C3971)),\"\",VLOOKUP(C3971,Sheet2!A:F,3,FALSE))","v":""},{"$f":"IF(OR(C3971=\"\",ISBLANK(C3971)),\"\",VLOOKUP(C3971,Sheet2!A:G,6,FALSE))","v":""},{"$f":"IF(F3971=0,\"\",F3971)","v":""}]
[{"$f":"IF(OR(C4004=\"\",ISBLANK(C4004)),\"\",VLOOKUP(C4004,Sheet2!A:F,2,FALSE))","v":""},{"$f":"IF(OR(C4004=\"\",ISBLANK(C4004)),\"\",VLOOKUP(C4004,Sheet2!A:G,4,FALSE))","v":""},null,null,{"$f":"IF(OR(C4004=\"\",ISBLANK(C4004)),\"\",VLOOKUP(C4004,Sheet2!A:F,3,FALSE))","v":""},{"$f":"IF(OR(C4004=\"\",ISBLANK(C4004)),\"\",VLOOKUP(C4004,Sheet2!A:G,6,FALSE))","v":""},""]
[{"$f":"IF(OR(C4029=\"\",ISBLANK(C4029)),\"\",VLOOKUP(C4029,Sheet2!A:F,2,FALSE))","v":""},{"$f":"IF(OR(C4029=\"\",ISBLANK(C4029)),\"\",VLOOKUP(C4029,Sheet2!A:G,4,FALSE))","v":""},null,null,{"$f":"IF(OR(C4029=\"\",ISBLANK(C4029)),\"\",VLOOKUP(C4029,Sheet2!A:F,3,FALSE))","v":""},{"$f":"IF(OR(C4029=\"\",ISBLANK(C4029)),\"\",VLOOKUP(C4029,Sheet2!A:G,6,FALSE))","v":""},""]
[{"$f":"IF(OR(C4038=\"\",ISBLANK(C4038)),\"\",VLOOKUP(C4038,Sheet2!A:F,2,FALSE))","v":""},{"$f":"IF(OR(C4038=\"\",ISBLANK(C4038)),\"\",VLOOKUP(C4038,Sheet2!A:G,4,FALSE))","v":""},null,null,{"$f":"IF(OR(C4038=\"\",ISBLANK(C4038)),\"\",VLOOKUP(C4038,Sheet2!A:F,3,FALSE))","v":""},{"$f":"IF(OR(C4038=\"\",ISBLANK(C4038)),\"\",VLOOKUP(C4038,Sheet2!A:G,6,FALSE))","v":""},""]
[{"$f":"IF(OR(C4061=\"\",ISBLANK(C4061)),\"\",VLOOKUP(C4061,Sheet2!A:F,2,FALSE))","v":""},{"$f":"IF(OR(C4061=\"\",ISBLANK(C4061)),\"\",VLOOKUP(C4061,Sheet2!A:G,4,FALSE))","v":""},null,null,{"$f":"IF(OR(C4061=\"\",ISBLANK(C4061)),\"\",VLOOKUP(C4061,Sheet2!A:F,3,FALSE))","v":""},{"$f":"IF(OR(C4061=\"\",ISBLANK(C4061)),\"\",VLOOKUP(C4061,Sheet2!A:G,6,FALSE))","v":""},""]
[{"$f":"IF(OR(C4095=\"\",ISBLANK(C4095)),\"\",VLOOKUP(C4095,Sheet2!A:F,2,FALSE))","v":""},{"$f":"IF(OR(C4095=\"\",ISBLANK(C4095)),\"\",VLOOKUP(C4095,Sheet2!A:G,4,FALSE))","v":""},null,null,{"$f":"IF(OR(C4095=\"\",ISBLANK(C4095)),\"\",VLOOKUP(C4095,Sheet2!A:F,3,FALSE))","v":""},{"$f":"IF(OR(C4095=\"\",ISBLANK(C4095)),\"\",VLOOKUP(C4095,Sheet2!A:G,6,FALSE))","v":""},""]
[{"$f":"IF(OR(C4104=\"\",ISBLANK(C4104)),\"\",VLOOKUP(C4104,Sheet2!A:F,2,FALSE))","v":""},{"$f":"IF(OR(C4104=\"\",ISBLANK(C4104)),\"\",VLOOKUP(C4104,Sheet2!A:G,4,FALSE))","v":""},null,null,{"$f":"IF(OR(C4104=\"\",ISBLANK(C4104)),\"\",VLOOKUP(C4104,Sheet2!A:F,3,FALSE))","v":""},{"$f":"IF(OR(C4104=\"\",ISBLANK(C4104)),\"\",VLOOKUP(C4104,Sheet2!A:G,6,FALSE))","v":""},""]
[{"$f":"IF(OR(C4137=\"\",ISBLANK(C4137)),\"\",VLOOKUP(C4137,Sheet2!A:F,2,FALSE))","v":""},{"$f":"IF(OR(C4137=\"\",ISBLANK(C4137)),\"\",VLOOKUP(C4137,Sheet2!A:G,4,FALSE))","v":""},null,null,{"$f":"IF(OR(C4137=\"\",ISBLANK(C4137)),\"\",VLOOKUP(C4137,Sheet2!A:F,3,FALSE))","v":""},{"$f":"IF(OR(C4137=\"\",ISBLANK(C4137)),\"\",VLOOKUP(C4137,Sheet2!A:G,6,FALSE))","v":""},""]
[{"$f":"IF(OR(C4162=\"\",ISBLANK(C4162)),\"\",VLOOKUP(C4162,Sheet2!A:F,2,FALSE))","v":""},{"$f":"IF(OR(C4162=\"\",ISBLANK(C4162)),\"\",VLOOKUP(C4162,Sheet2!A:G,4,FALSE))","v":""},null,null,{"$f":"IF(OR(C4162=\"\",ISBLANK(C4162)),\"\",VLOOKUP(C4162,Sheet2!A:F,3,FALSE))","v":""},{"$f":"IF(OR(C4162=\"\",ISBLANK(C4162)),\"\",VLOOKUP(C4162,Sheet2!A:G,6,FALSE))","v":""},""]
[{"$f":"IF(OR(C4195=\"\",ISBLANK(C4195)),\"\",VLOOKUP(C4195,Sheet2!A:F,2,FALSE))","v":""},{"$f":"IF(OR(C4195=\"\",ISBLANK(C4195)),\"\",VLOOKUP(C4195,Sheet2!A:G,4,FALSE))","v":""},null,null,{"$f":"IF(OR(C4195=\"\",ISBLANK(C4195)),\"\",VLOOKUP(C4195,Sheet2!A:F,3,FALSE))","v":""},{"$f":"IF(OR(C4195=\"\",ISBLANK(C4195)),\"\",VLOOKUP(C4195,Sheet2!A:G,6,FALSE))","v":""},""]
[{"$f":"IF(OR(C4220=\"\",ISBLANK(C4220)),\"\",VLOOKUP(C4220,Sheet2!A:F,2,FALSE))","v":""},{"$f":"IF(OR(C4220=\"\",ISBLANK(C4220)),\"\",VLOOKUP(C4220,Sheet2!A:G,4,FALSE))","v":""},null,null,{"$f":"IF(OR(C4220=\"\",ISBLANK(C4220)),\"\",VLOOKUP(C4220,Sheet2!A:F,3,FALSE))","v":""},{"$f":"IF(OR(C4220=\"\",ISBLANK(C4220)),\"\",VLOOKUP(C4220,Sheet2!A:G,6,FALSE))","v":""},""]
[{"$f":"IF(OR(C4229=\"\",ISBLANK(C4229)),\"\",VLOOKUP(C4229,Sheet2!A:F,2,FALSE))","v":""},{"$f":"IF(OR(C4229=\"\",ISBLANK(C4229)),\"\",VLOOKUP(C4229,Sheet2!A:G,4,FALSE))","v":""},null,null,{"$f":"IF(OR(C4229=\"\",ISBLANK(C4229)),\"\",VLOOKUP(C4229,Sheet2!A:F,3,FALSE))","v":""},{"$f":"IF(OR(C4229=\"\",ISBLANK(C4229)),\"\",VLOOKUP(C4229,Sheet2!A:G,6,FALSE))","v":""},""]
[{"$f":"IF(OR(C4262=\"\",ISBLANK(C4262)),\"\",VLOOKUP(C4262,Sheet2!A:F,2,FALSE))","v":""},{"$f":"IF(OR(C4262=\"\",ISBLANK(C4262)),\"\",VLOOKUP(C4262,Sheet2!A:G,4,FALSE))","v":""},null,null,{"$f":"IF(OR(C4262=\"\",ISBLANK(C4262)),\"\",VLOOKUP(C4262,Sheet2!A:F,3,FALSE))","v":""},{"$f":"IF(OR(C4262=\"\",ISBLANK(C4262)),\"\",VLOOKUP(C4262,Sheet2!A:G,6,FALSE))","v":""},""]
[{"$f":"IF(OR(C4287=\"\",ISBLANK(C4287)),\"\",VLOOKUP(C4287,Sheet2!A:F,2,FALSE))","v":""},{"$f":"IF(OR(C4287=\"\",ISBLANK(C4287)),\"\",VLOOKUP(C4287,Sheet2!A:G,4,FALSE))","v":""},null,null,{"$f":"IF(OR(C4287=\"\",ISBLANK(C4287)),\"\",VLOOKUP(C4287,Sheet2!A:F,3,FALSE))","v":""},{"$f":"IF(OR(C4287=\"\",ISBLANK(C4287)),\"\",VLOOKUP(C4287,Sheet2!A:G,6,FALSE))","v":""},""]
[{"$f":"IF(OR(C4315=\"\",ISBLANK(C4315)),\"\",VLOOKUP(C4315,Sheet2!A:F,2,FALSE))","v":""},{"$f":"IF(OR(C4315=\"\",ISBLANK(C4315)),\"\",VLOOKUP(C4315,Sheet2!A:G,4,FALSE))","v":""},null,null,{"$f":"IF(OR(C4315=\"\",ISBLANK(C4315)),\"\",VLOOKUP(C4315,Sheet2!A:F,3,FALSE))","v":""},{"$f":"IF(OR(C4315=\"\",ISBLANK(C4315)),\"\",VLOOKUP(C4315,Sheet2!A:G,6,FALSE))","v":""},""]
[{"$f":"IF(OR(C4320=\"\",ISBLANK(C4320)),\"\",VLOOKUP(C4320,Sheet2!A:F,2,FALSE))","v":""},{"$f":"IF(OR(C4320=\"\",ISBLANK(C4320)),\"\",VLOOKUP(C4320,Sheet2!A:G,4,FALSE))","v":""},null,null,{"$f":"IF(OR(C4320=\"\",ISBLANK(C4320)),\"\",VLOOKUP(C4320,Sheet2!A:F,3,FALSE))","v":""},{"$f":"IF(OR(C4320=\"\",ISBLANK(C4320)),\"\",VLOOKUP(C4320,Sheet2!A:G,6,FALSE))","v":""},""]
[{"$f":"IF(OR(C4353=\"\",ISBLANK(C4353)),\"\",VLOOKUP(C4353,Sheet2!A:F,2,FALSE))","v":""},{"$f":"IF(OR(C4353=\"\",ISBLANK(C4353)),\"\",VLOOKUP(C4353,Sheet2!A:G,4,FALSE))","v":""},null,null,{"$f":"IF(OR(C4353=\"\",ISBLANK(C4353)),\"\",VLOOKUP(C4353,Sheet2!A:F,3,FALSE))","v":""},{"$f":"IF(OR(C4353=\"\",ISBLANK(C4353)),\"\",VLOOKUP(C4353,Sheet2!A:G,6,FALSE))","v":""},""]
[{"$f":"IF(OR(C4386=\"\",ISBLANK(C4386)),\"\",VLOOKUP(C4386,Sheet2!A:F,2,FALSE))","v":""},{"$f":"IF(OR(C4386=\"\",ISBLANK(C4386)),\"\",VLOOKUP(C4386,Sheet2!A:G,4,FALSE))","v":""},null,null,{"$f":"IF(OR(C4386=\"\",ISBLANK(C4386)),\"\",VLOOKUP(C4386,Sheet2!A:F,3,FALSE))","v":""},{"$f":"IF(OR(C4386=\"\",ISBLANK(C4386)),\"\",VLOOKUP(C4386,Sheet2!A:G,6,FALSE))","v":""},""]
[{"$f":"IF(OR(C4411=\"\",ISBLANK(C4411)),\"\",VLOOKUP(C4411,Sheet2!A:F,2,FALSE))","v":""},{"$f":"IF(OR(C4411=\"\",ISBLANK(C4411)),\"\",VLOOKUP(C4411,Sheet2!A:G,4,FALSE))","v":""},null,null,{"$f":"IF(OR(C4411=\"\",ISBLANK(C4411)),\"\",VLOOKUP(C4411,Sheet2!A:F,3,FALSE))","v":""},{"$f":"IF(OR(C4411=\"\",ISBLANK(C4411)),\"\",VLOOKUP(C4411,Sheet2!A:G,6,FALSE))","v":""},""]
[{"$f":"IF(OR(C4420=\"\",ISBLANK(C4420)),\"\",VLOOKUP(C4420,Sheet2!A:F,2,FALSE))","v":""},{"$f":"IF(OR(C4420=\"\",ISBLANK(C4420)),\"\",VLOOKUP(C4420,Sheet2!A:G,4,FALSE))","v":""},null,null,{"$f":"IF(OR(C4420=\"\",ISBLANK(C4420)),\"\",VLOOKUP(C4420,Sheet2!A:F,3,FALSE))","v":""},{"$f":"IF(OR(C4420=\"\",ISBLANK(C4420)),\"\",VLOOKUP(C4420,Sheet2!A:G,6,FALSE))","v":""},""]
[{"$f":"IF(OR(C4453=\"\",ISBLANK(C4453)),\"\",VLOOKUP(C4453,Sheet2!A:F,2,FALSE))","v":""},{"$f":"IF(OR(C4453=\"\",ISBLANK(C4453)),\"\",VLOOKUP(C4453,Sheet2!A:G,4,FALSE))","v":""},null,null,{"$f":"IF(OR(C4453=\"\",ISBLANK(C4453)),\"\",VLOOKUP(C4453,Sheet2!A:F,3,FALSE))","v":""},{"$f":"IF(OR(C4453=\"\",ISBLANK(C4453)),\"\",VLOOKUP(C4453,Sheet2!A:G,6,FALSE))","v":""},""]
[{"$f":"IF(OR(C4478=\"\",ISBLANK(C4478)),\"\",VLOOKUP(C4478,Sheet2!A:F,2,FALSE))","v":""},{"$f":"IF(OR(C4478=\"\",ISBLANK(C4478)),\"\",VLOOKUP(C4478,Sheet2!A:G,4,FALSE))","v":""},null,null,{"$f":"IF(OR(C4478=\"\",ISBLANK(C4478)),\"\",VLOOKUP(C4478,Sheet2!A:F,3,FALSE))","v":""},{"$f":"IF(OR(C4478=\"\",ISBLANK(C4478)),\"\",VLOOKUP(C4478,Sheet2!A:G,6,FALSE))","v":""},""]
[{"$f":"IF(OR(C4487=\"\",ISBLANK(C4487)),\"\",VLOOKUP(C4487,Sheet2!A:F,2,FALSE))","v":""},{"$f":"IF(OR(C4487=\"\",ISBLANK(C4487)),\"\",VLOOKUP(C4487,Sheet2!A:G,4,FALSE))","v":""},null,null,{"$f":"IF(OR(C4487=\"\",ISBLANK(C4487)),\"\",VLOOKUP(C4487,Sheet2!A:F,3,FALSE))","v":""},{"$f":"IF(OR(C4487=\"\",ISBLANK(C4487)),\"\",VLOOKUP(C4487,Sheet2!A:G,6,FALSE))","v":""},""]
[{"$f":"IF(OR(C4523=\"\",ISBLANK(C4523)),\"\",VLOOKUP(C4523,Sheet2!A:F,2,FALSE))","v":""},{"$f":"IF(OR(C4523=\"\",ISBLANK(C4523)),\"\",VLOOKUP(C4523,Sheet2!A:G,4,FALSE))","v":""},null,null,{"$f":"IF(OR(C4523=\"\",ISBLANK(C4523)),\"\",VLOOKUP(C4523,Sheet2!A:F,3,FALSE))","v":""},{"$f":"IF(OR(C4523=\"\",ISBLANK(C4523)),\"\",VLOOKUP(C4523,Sheet2!A:G,6,FALSE))","v":""},""]
[{"$f":"IF(OR(C4544=\"\",ISBLANK(C4544)),\"\",VLOOKUP(C4544,Sheet2!A:F,2,FALSE))","v":""},{"$f":"IF(OR(C4544=\"\",ISBLANK(C4544)),\"\",VLOOKUP(C4544,Sheet2!A:G,4,FALSE))","v":""},null,null,{"$f":"IF(OR(C4544=\"\",ISBLANK(C4544)),\"\",VLOOKUP(C4544,Sheet2!A:F,3,FALSE))","v":""},{"$f":"IF(OR(C4544=\"\",ISBLANK(C4544)),\"\",VLOOKUP(C4544,Sheet2!A:G,6,FALSE))","v":""},""]
[{"$f":"IF(OR(C4577=\"\",ISBLANK(C4577)),\"\",VLOOKUP(C4577,Sheet2!A:F,2,FALSE))","v":""},{"$f":"IF(OR(C4577=\"\",ISBLANK(C4577)),\"\",VLOOKUP(C4577,Sheet2!A:G,4,FALSE))","v":""},null,null,{"$f":"IF(OR(C4577=\"\",ISBLANK(C4577)),\"\",VLOOKUP(C4577,Sheet2!A:F,3,FALSE))","v":""},{"$f":"IF(OR(C4577=\"\",ISBLANK(C4577)),\"\",VLOOKUP(C4577,Sheet2!A:G,6,FALSE))","v":""},""]
[{"$f":"IF(OR(C4602=\"\",ISBLANK(C4602)),\"\",VLOOKUP(C4602,Sheet2!A:F,2,FALSE))","v":""},{"$f":"IF(OR(C4602=\"\",ISBLANK(C4602)),\"\",VLOOKUP(C4602,Sheet2!A:G,4,FALSE))","v":""},null,null,{"$f":"IF(OR(C4602=\"\",ISBLANK(C4602)),\"\",VLOOKUP(C4602,Sheet2!A:F,3,FALSE))","v":""},{"$f":"IF(OR(C4602=\"\",ISBLANK(C4602)),\"\",VLOOKUP(C4602,Sheet2!A:G,6,FALSE))","v":""},""]
[{"$f":"IF(OR(C4611=\"\",ISBLANK(C4611)),\"\",VLOOKUP(C4611,Sheet2!A:F,2,FALSE))","v":""},{"$f":"IF(OR(C4611=\"\",ISBLANK(C4611)),\"\",VLOOKUP(C4611,Sheet2!A:G,4,FALSE))","v":""},null,null,{"$f":"IF(OR(C4611=\"\",ISBLANK(C4611)),\"\",VLOOKUP(C4611,Sheet2!A:F,3,FALSE))","v":""},{"$f":"IF(OR(C4611=\"\",ISBLANK(C4611)),\"\",VLOOKUP(C4611,Sheet2!A:G,6,FALSE))","v":""},{"$f":"IF(F4611=0,\"\",F4611)","v":""}]
[{"$f":"IF(OR(C4636=\"\",ISBLANK(C4636)),\"\",VLOOKUP(C4636,Sheet2!A:F,2,FALSE))","v":""},{"$f":"IF(OR(C4636=\"\",ISBLANK(C4636)),\"\",VLOOKUP(C4636,Sheet2!A:G,4,FALSE))","v":""},null,null,{"$f":"IF(OR(C4636=\"\",ISBLANK(C4636)),\"\",VLOOKUP(C4636,Sheet2!A:F,3,FALSE))","v":""},{"$f":"IF(OR(C4636=\"\",ISBLANK(C4636)),\"\",VLOOKUP(C4636,Sheet2!A:G,6,FALSE))","v":""},""]
[{"$f":"IF(OR(C4669=\"\",ISBLANK(C4669)),\"\",VLOOKUP(C4669,Sheet2!A:F,2,FALSE))","v":""},{"$f":"IF(OR(C4669=\"\",ISBLANK(C4669)),\"\",VLOOKUP(C4669,Sheet2!A:G,4,FALSE))","v":""},null,null,{"$f":"IF(OR(C4669=\"\",ISBLANK(C4669)),\"\",VLOOKUP(C4669,Sheet2!A:F,3,FALSE))","v":""},{"$f":"IF(OR(C4669=\"\",ISBLANK(C4669)),\"\",VLOOKUP(C4669,Sheet2!A:G,6,FALSE))","v":""},""]
[{"$f":"IF(OR(C4678=\"\",ISBLANK(C4678)),\"\",VLOOKUP(C4678,Sheet2!A:F,2,FALSE))","v":""},{"$f":"IF(OR(C4678=\"\",ISBLANK(C4678)),\"\",VLOOKUP(C4678,Sheet2!A:G,4,FALSE))","v":""},null,null,{"$f":"IF(OR(C4678=\"\",ISBLANK(C4678)),\"\",VLOOKUP(C4678,Sheet2!A:F,3,FALSE))","v":""},{"$f":"IF(OR(C4678=\"\",ISBLANK(C4678)),\"\",VLOOKUP(C4678,Sheet2!A:G,6,FALSE))","v":""},""]
[{"$f":"IF(OR(C4703=\"\",ISBLANK(C4703)),\"\",VLOOKUP(C4703,Sheet2!A:F,2,FALSE))","v":""},{"$f":"IF(OR(C4703=\"\",ISBLANK(C4703)),\"\",VLOOKUP(C4703,Sheet2!A:G,4,FALSE))","v":""},null,null,{"$f":"IF(OR(C4703=\"\",ISBLANK(C4703)),\"\",VLOOKUP(C4703,Sheet2!A:F,3,FALSE))","v":""},{"$f":"IF(OR(C4703=\"\",ISBLANK(C4703)),\"\",VLOOKUP(C4703,Sheet2!A:G,6,FALSE))","v":""},""]
[{"$f":"IF(OR(C4736=\"\",ISBLANK(C4736)),\"\",VLOOKUP(C4736,Sheet2!A:F,2,FALSE))","v":""},{"$f":"IF(OR(C4736=\"\",ISBLANK(C4736)),\"\",VLOOKUP(C4736,Sheet2!A:G,4,FALSE))","v":""},null,null,{"$f":"IF(OR(C4736=\"\",ISBLANK(C4736)),\"\",VLOOKUP(C4736,Sheet2!A:F,3,FALSE))","v":""},{"$f":"IF(OR(C4736=\"\",ISBLANK(C4736)),\"\",VLOOKUP(C4736,Sheet2!A:G,6,FALSE))","v":""},""]
[{"$f":"IF(OR(C4765=\"\",ISBLANK(C4765)),\"\",VLOOKUP(C4765,Sheet2!A:F,2,FALSE))","v":""},{"$f":"IF(OR(C4765=\"\",ISBLANK(C4765)),\"\",VLOOKUP(C4765,Sheet2!A:G,4,FALSE))","v":""},null,null,{"$f":"IF(OR(C4765=\"\",ISBLANK(C4765)),\"\",VLOOKUP(C4765,Sheet2!A:F,3,FALSE))","v":""},{"$f":"IF(OR(C4765=\"\",ISBLANK(C4765)),\"\",VLOOKUP(C4765,Sheet2!A:G,6,FALSE))","v":""},""]
[{"$f":"IF(OR(C4793=\"\",ISBLANK(C4793)),\"\",VLOOKUP(C4793,Sheet2!A:F,2,FALSE))","v":""},{"$f":"IF(OR(C4793=\"\",ISBLANK(C4793)),\"\",VLOOKUP(C4793,Sheet2!A:G,4,FALSE))","v":""},null,null,{"$f":"IF(OR(C4793=\"\",ISBLANK(C4793)),\"\",VLOOKUP(C4793,Sheet2!A:F,3,FALSE))","v":""},{"$f":"IF(OR(C4793=\"\",ISBLANK(C4793)),\"\",VLOOKUP(C4793,Sheet2!A:G,6,FALSE))","v":""},""]
[{"$f":"IF(OR(C4802=\"\",ISBLANK(C4802)),\"\",VLOOKUP(C4802,Sheet2!A:F,2,FALSE))","v":""},{"$f":"IF(OR(C4802=\"\",ISBLANK(C4802)),\"\",VLOOKUP(C4802,Sheet2!A:G,4,FALSE))","v":""},null,null,{"$f":"IF(OR(C4802=\"\",ISBLANK(C4802)),\"\",VLOOKUP(C4802,Sheet2!A:F,3,FALSE))","v":""},{"$f":"IF(OR(C4802=\"\",ISBLANK(C4802)),\"\",VLOOKUP(C4802,Sheet2!A:G,6,FALSE))","v":""},""]
[{"$f":"IF(OR(C4827=\"\",ISBLANK(C4827)),\"\",VLOOKUP(C4827,Sheet2!A:F,2,FALSE))","v":""},{"$f":"IF(OR(C4827=\"\",ISBLANK(C4827)),\"\",VLOOKUP(C4827,Sheet2!A:G,4,FALSE))","v":""},null,null,{"$f":"IF(OR(C4827=\"\",ISBLANK(C4827)),\"\",VLOOKUP(C4827,Sheet2!A:F,3,FALSE))","v":""},{"$f":"IF(OR(C4827=\"\",ISBLANK(C4827)),\"\",VLOOKUP(C4827,Sheet2!A:G,6,FALSE))","v":""},""]
[{"$f":"IF(OR(C4860=\"\",ISBLANK(C4860)),\"\",VLOOKUP(C4860,Sheet2!A:F,2,FALSE))","v":""},{"$f":"IF(OR(C4860=\"\",ISBLANK(C4860)),\"\",VLOOKUP(C4860,Sheet2!A:G,4,FALSE))","v":""},null,null,{"$f":"IF(OR(C4860=\"\",ISBLANK(C4860)),\"\",VLOOKUP(C4860,Sheet2!A:F,3,FALSE))","v":""},{"$f":"IF(OR(C4860=\"\",ISBLANK(C4860)),\"\",VLOOKUP(C4860,Sheet2!A:G,6,FALSE))","v":""},""]
[{"$f":"IF(OR(C4869=\"\",ISBLANK(C4869)),\"\",VLOOKUP(C4869,Sheet2!A:F,2,FALSE))","v":""},{"$f":"IF(OR(C4869=\"\",ISBLANK(C4869)),\"\",VLOOKUP(C4869,Sheet2!A:G,4,FALSE))","v":""},null,null,{"$f":"IF(OR(C4869=\"\",ISBLANK(C4869)),\"\",VLOOKUP(C4869,Sheet2!A:F,3,FALSE))","v":""},{"$f":"IF(OR(C4869=\"\",ISBLANK(C4869)),\"\",VLOOKUP(C4869,Sheet2!A:G,6,FALSE))","v":""},""]
[{"$f":"IF(OR(C4894=\"\",ISBLANK(C4894)),\"\",VLOOKUP(C4894,Sheet2!A:F,2,FALSE))","v":""},{"$f":"IF(OR(C4894=\"\",ISBLANK(C4894)),\"\",VLOOKUP(C4894,Sheet2!A:G,4,FALSE))","v":""},null,null,{"$f":"IF(OR(C4894=\"\",ISBLANK(C4894)),\"\",VLOOKUP(C4894,Sheet2!A:F,3,FALSE))","v":""},{"$f":"IF(OR(C4894=\"\",ISBLANK(C4894)),\"\",VLOOKUP(C4894,Sheet2!A:G,6,FALSE))","v":""},""]
[{"$f":"IF(OR(C4927=\"\",ISBLANK(C4927)),\"\",VLOOKUP(C4927,Sheet2!A:F,2,FALSE))","v":""},{"$f":"IF(OR(C4927=\"\",ISBLANK(C4927)),\"\",VLOOKUP(C4927,Sheet2!A:G,4,FALSE))","v":""},null,null,{"$f":"IF(OR(C4927=\"\",ISBLANK(C4927)),\"\",VLOOKUP(C4927,Sheet2!A:F,3,FALSE))","v":""},{"$f":"IF(OR(C4927=\"\",ISBLANK(C4927)),\"\",VLOOKUP(C4927,Sheet2!A:G,6,FALSE))","v":""},""]
[{"$f":"IF(OR(C4960=\"\",ISBLANK(C4960)),\"\",VLOOKUP(C4960,Sheet2!A:F,2,FALSE))","v":""},{"$f":"IF(OR(C4960=\"\",ISBLANK(C4960)),\"\",VLOOKUP(C4960,Sheet2!A:G,4,FALSE))","v":""},null,null,{"$f":"IF(OR(C4960=\"\",ISBLANK(C4960)),\"\",VLOOKUP(C4960,Sheet2!A:F,3,FALSE))","v":""},{"$f":"IF(OR(C4960=\"\",ISBLANK(C4960)),\"\",VLOOKUP(C4960,Sheet2!A:G,6,FALSE))","v":""},""]
[{"$f":"IF(OR(C4985=\"\",ISBLANK(C4985)),\"\",VLOOKUP(C4985,Sheet2!A:F,2,FALSE))","v":""},{"$f":"IF(OR(C4985=\"\",ISBLANK(C4985)),\"\",VLOOKUP(C4985,Sheet2!A:G,4,FALSE))","v":""},null,null,{"$f":"IF(OR(C4985=\"\",ISBLANK(C4985)),\"\",VLOOKUP(C4985,Sheet2!A:F,3,FALSE))","v":""},{"$f":"IF(OR(C4985=\"\",ISBLANK(C4985)),\"\",VLOOKUP(C4985,Sheet2!A:G,6,FALSE))","v":""},""]
[{"$f":"IF(OR(C4996=\"\",ISBLANK(C4996)),\"\",VLOOKUP(C4996,Sheet2!A:F,2,FALSE))","v":""},{"$f":"IF(OR(C4996=\"\",ISBLANK(C4996)),\"\",VLOOKUP(C4996,Sheet2!A:G,4,FALSE))","v":""},null,null,{"$f":"IF(OR(C4996=\"\",ISBLANK(C4996)),\"\",VLOOKUP(C4996,Sheet2!A:F,3,FALSE))","v":""},{"$f":"IF(OR(C4996=\"\",ISBLANK(C4996)),\"\",VLOOKUP(C4996,Sheet2!A:G,6,FALSE))","v":""},""]
[{"$f":"IF(OR(C5018=\"\",ISBLANK(C5018)),\"\",VLOOKUP(C5018,Sheet2!A:F,2,FALSE))","v":""},{"$f":"IF(OR(C5018=\"\",ISBLANK(C5018)),\"\",VLOOKUP(C5018,Sheet2!A:G,4,FALSE))","v":""},null,null,{"$f":"IF(OR(C5018=\"\",ISBLANK(C5018)),\"\",VLOOKUP(C5018,Sheet2!A:F,3,FALSE))","v":""},{"$f":"IF(OR(C5018=\"\",ISBLANK(C5018)),\"\",VLOOKUP(C5018,Sheet2!A:G,6,FALSE))","v":""},""]
[{"$f":"IF(OR(C5051=\"\",ISBLANK(C5051)),\"\",VLOOKUP(C5051,Sheet2!A:F,2,FALSE))","v":""},{"$f":"IF(OR(C5051=\"\",ISBLANK(C5051)),\"\",VLOOKUP(C5051,Sheet2!A:G,4,FALSE))","v":""},null,null,{"$f":"IF(OR(C5051=\"\",ISBLANK(C5051)),\"\",VLOOKUP(C5051,Sheet2!A:F,3,FALSE))","v":""},{"$f":"IF(OR(C5051=\"\",ISBLANK(C5051)),\"\",VLOOKUP(C5051,Sheet2!A:G,6,FALSE))","v":""},""]
[{"$f":"IF(OR(C5060=\"\",ISBLANK(C5060)),\"\",VLOOKUP(C5060,Sheet2!A:F,2,FALSE))","v":""},{"$f":"IF(OR(C5060=\"\",ISBLANK(C5060)),\"\",VLOOKUP(C5060,Sheet2!A:G,4,FALSE))","v":""},null,null,{"$f":"IF(OR(C5060=\"\",ISBLANK(C5060)),\"\",VLOOKUP(C5060,Sheet2!A:F,3,FALSE))","v":""},{"$f":"IF(OR(C5060=\"\",ISBLANK(C5060)),\"\",VLOOKUP(C5060,Sheet2!A:G,6,FALSE))","v":""},""]
[{"$f":"IF(OR(C5085=\"\",ISBLANK(C5085)),\"\",VLOOKUP(C5085,Sheet2!A:F,2,FALSE))","v":""},{"$f":"IF(OR(C5085=\"\",ISBLANK(C5085)),\"\",VLOOKUP(C5085,Sheet2!A:G,4,FALSE))","v":""},null,null,{"$f":"IF(OR(C5085=\"\",ISBLANK(C5085)),\"\",VLOOKUP(C5085,Sheet2!A:F,3,FALSE))","v":""},{"$f":"IF(OR(C5085=\"\",ISBLANK(C5085)),\"\",VLOOKUP(C5085,Sheet2!A:G,6,FALSE))","v":""},""]
[{"$f":"IF(OR(C5118=\"\",ISBLANK(C5118)),\"\",VLOOKUP(C5118,Sheet2!A:F,2,FALSE))","v":""},{"$f":"IF(OR(C5118=\"\",ISBLANK(C5118)),\"\",VLOOKUP(C5118,Sheet2!A:G,4,FALSE))","v":""},null,null,{"$f":"IF(OR(C5118=\"\",ISBLANK(C5118)),\"\",VLOOKUP(C5118,Sheet2!A:F,3,FALSE))","v":""},{"$f":"IF(OR(C5118=\"\",ISBLANK(C5118)),\"\",VLOOKUP(C5118,Sheet2!A:G,6,FALSE))","v":""},""]
[{"$f":"IF(OR(C5143=\"\",ISBLANK(C5143)),\"\",VLOOKUP(C5143,Sheet2!A:F,2,FALSE))","v":""},{"$f":"IF(OR(C5143=\"\",ISBLANK(C5143)),\"\",VLOOKUP(C5143,Sheet2!A:G,4,FALSE))","v":""},null,null,{"$f":"IF(OR(C5143=\"\",ISBLANK(C5143)),\"\",VLOOKUP(C5143,Sheet2!A:F,3,FALSE))","v":""},{"$f":"IF(OR(C5143=\"\",ISBLANK(C5143)),\"\",VLOOKUP(C5143,Sheet2!A:G,6,FALSE))","v":""},""]
[{"$f":"IF(OR(C5176=\"\",ISBLANK(C5176)),\"\",VLOOKUP(C5176,Sheet2!A:F,2,FALSE))","v":""},{"$f":"IF(OR(C5176=\"\",ISBLANK(C5176)),\"\",VLOOKUP(C5176,Sheet2!A:G,4,FALSE))","v":""},null,null,{"$f":"IF(OR(C5176=\"\",ISBLANK(C5176)),\"\",VLOOKUP(C5176,Sheet2!A:F,3,FALSE))","v":""},{"$f":"IF(OR(C5176=\"\",ISBLANK(C5176)),\"\",VLOOKUP(C5176,Sheet2!A:G,6,FALSE))","v":""},""]
[{"$f":"IF(OR(C5185=\"\",ISBLANK(C5185)),\"\",VLOOKUP(C5185,Sheet2!A:F,2,FALSE))","v":""},{"$f":"IF(OR(C5185=\"\",ISBLANK(C5185)),\"\",VLOOKUP(C5185,Sheet2!A:G,4,FALSE))","v":""},null,null,{"$f":"IF(OR(C5185=\"\",ISBLANK(C5185)),\"\",VLOOKUP(C5185,Sheet2!A:F,3,FALSE))","v":""},{"$f":"IF(OR(C5185=\"\",ISBLANK(C5185)),\"\",VLOOKUP(C5185,Sheet2!A:G,6,FALSE))","v":""},""]
[{"$f":"IF(OR(C5204=\"\",ISBLANK(C5204)),\"\",VLOOKUP(C5204,Sheet2!A:F,2,FALSE))","v":""},{"$f":"IF(OR(C5204=\"\",ISBLANK(C5204)),\"\",VLOOKUP(C5204,Sheet2!A:G,4,FALSE))","v":""},null,null,{"$f":"IF(OR(C5204=\"\",ISBLANK(C5204)),\"\",VLOOKUP(C5204,Sheet2!A:F,3,FALSE))","v":""},{"$f":"IF(OR(C5204=\"\",ISBLANK(C5204)),\"\",VLOOKUP(C5204,Sheet2!A:G,6,FALSE))","v":""},""]
[{"$f":"IF(OR(C5242=\"\",ISBLANK(C5242)),\"\",VLOOKUP(C5242,Sheet2!A:F,2,FALSE))","v":""},{"$f":"IF(OR(C5242=\"\",ISBLANK(C5242)),\"\",VLOOKUP(C5242,Sheet2!A:G,4,FALSE))","v":""},null,null,{"$f":"IF(OR(C5242=\"\",ISBLANK(C5242)),\"\",VLOOKUP(C5242,Sheet2!A:F,3,FALSE))","v":""},{"$f":"IF(OR(C5242=\"\",ISBLANK(C5242)),\"\",VLOOKUP(C5242,Sheet2!A:G,6,FALSE))","v":""},""]
[{"$f":"IF(OR(C5251=\"\",ISBLANK(C5251)),\"\",VLOOKUP(C5251,Sheet2!A:F,2,FALSE))","v":""},{"$f":"IF(OR(C5251=\"\",ISBLANK(C5251)),\"\",VLOOKUP(C5251,Sheet2!A:G,4,FALSE))","v":""},null,null,{"$f":"IF(OR(C5251=\"\",ISBLANK(C5251)),\"\",VLOOKUP(C5251,Sheet2!A:F,3,FALSE))","v":""},{"$f":"IF(OR(C5251=\"\",ISBLANK(C5251)),\"\",VLOOKUP(C5251,Sheet2!A:G,6,FALSE))","v":""},{"$f":"IF(F5251=0,\"\",F5251)","v":""}]
[{"$f":"IF(OR(C5276=\"\",ISBLANK(C5276)),\"\",VLOOKUP(C5276,Sheet2!A:F,2,FALSE))","v":""},{"$f":"IF(OR(C5276=\"\",ISBLANK(C5276)),\"\",VLOOKUP(C5276,Sheet2!A:G,4,FALSE))","v":""},null,null,{"$f":"IF(OR(C5276=\"\",ISBLANK(C5276)),\"\",VLOOKUP(C5276,Sheet2!A:F,3,FALSE))","v":""},{"$f":"IF(OR(C5276=\"\",ISBLANK(C5276)),\"\",VLOOKUP(C5276,Sheet2!A:G,6,FALSE))","v":""},""]
[{"$f":"IF(OR(C5309=\"\",ISBLANK(C5309)),\"\",VLOOKUP(C5309,Sheet2!A:F,2,FALSE))","v":""},{"$f":"IF(OR(C5309=\"\",ISBLANK(C5309)),\"\",VLOOKUP(C5309,Sheet2!A:G,4,FALSE))","v":""},null,null,{"$f":"IF(OR(C5309=\"\",ISBLANK(C5309)),\"\",VLOOKUP(C5309,Sheet2!A:F,3,FALSE))","v":""},{"$f":"IF(OR(C5309=\"\",ISBLANK(C5309)),\"\",VLOOKUP(C5309,Sheet2!A:G,6,FALSE))","v":""},""]
[{"$f":"IF(OR(C5334=\"\",ISBLANK(C5334)),\"\",VLOOKUP(C5334,Sheet2!A:F,2,FALSE))","v":""},{"$f":"IF(OR(C5334=\"\",ISBLANK(C5334)),\"\",VLOOKUP(C5334,Sheet2!A:G,4,FALSE))","v":""},null,null,{"$f":"IF(OR(C5334=\"\",ISBLANK(C5334)),\"\",VLOOKUP(C5334,Sheet2!A:F,3,FALSE))","v":""},{"$f":"IF(OR(C5334=\"\",ISBLANK(C5334)),\"\",VLOOKUP(C5334,Sheet2!A:G,6,FALSE))","v":""},""]
[{"$f":"IF(OR(C5367=\"\",ISBLANK(C5367)),\"\",VLOOKUP(C5367,Sheet2!A:F,2,FALSE))","v":""},{"$f":"IF(OR(C5367=\"\",ISBLANK(C5367)),\"\",VLOOKUP(C5367,Sheet2!A:G,4,FALSE))","v":""},null,null,{"$f":"IF(OR(C5367=\"\",ISBLANK(C5367)),\"\",VLOOKUP(C5367,Sheet2!A:F,3,FALSE))","v":""},{"$f":"IF(OR(C5367=\"\",ISBLANK(C5367)),\"\",VLOOKUP(C5367,Sheet2!A:G,6,FALSE))","v":""},""]
[{"$f":"IF(OR(C5376=\"\",ISBLANK(C5376)),\"\",VLOOKUP(C5376,Sheet2!A:F,2,FALSE))","v":""},{"$f":"IF(OR(C5376=\"\",ISBLANK(C5376)),\"\",VLOOKUP(C5376,Sheet2!A:G,4,FALSE))","v":""},null,null,{"$f":"IF(OR(C5376=\"\",ISBLANK(C5376)),\"\",VLOOKUP(C5376,Sheet2!A:F,3,FALSE))","v":""},{"$f":"IF(OR(C5376=\"\",ISBLANK(C5376)),\"\",VLOOKUP(C5376,Sheet2!A:G,6,FALSE))","v":""},""]
[{"$f":"IF(OR(C5401=\"\",ISBLANK(C5401)),\"\",VLOOKUP(C5401,Sheet2!A:F,2,FALSE))","v":""},{"$f":"IF(OR(C5401=\"\",ISBLANK(C5401)),\"\",VLOOKUP(C5401,Sheet2!A:G,4,FALSE))","v":""},null,null,{"$f":"IF(OR(C5401=\"\",ISBLANK(C5401)),\"\",VLOOKUP(C5401,Sheet2!A:F,3,FALSE))","v":""},{"$f":"IF(OR(C5401=\"\",ISBLANK(C5401)),\"\",VLOOKUP(C5401,Sheet2!A:G,6,FALSE))","v":""},""]
[{"$f":"IF(OR(C5434=\"\",ISBLANK(C5434)),\"\",VLOOKUP(C5434,Sheet2!A:F,2,FALSE))","v":""},{"$f":"IF(OR(C5434=\"\",ISBLANK(C5434)),\"\",VLOOKUP(C5434,Sheet2!A:G,4,FALSE))","v":""},null,null,{"$f":"IF(OR(C5434=\"\",ISBLANK(C5434)),\"\",VLOOKUP(C5434,Sheet2!A:F,3,FALSE))","v":""},{"$f":"IF(OR(C5434=\"\",ISBLANK(C5434)),\"\",VLOOKUP(C5434,Sheet2!A:G,6,FALSE))","v":""},""]
[{"$f":"IF(OR(C5458=\"\",ISBLANK(C5458)),\"\",VLOOKUP(C5458,Sheet2!A:F,2,FALSE))","v":""},{"$f":"IF(OR(C5458=\"\",ISBLANK(C5458)),\"\",VLOOKUP(C5458,Sheet2!A:G,4,FALSE))","v":""},null,null,{"$f":"IF(OR(C5458=\"\",ISBLANK(C5458)),\"\",VLOOKUP(C5458,Sheet2!A:F,3,FALSE))","v":""},{"$f":"IF(OR(C5458=\"\",ISBLANK(C5458)),\"\",VLOOKUP(C5458,Sheet2!A:G,6,FALSE))","v":""},""]
[{"$f":"IF(OR(C5467=\"\",ISBLANK(C5467)),\"\",VLOOKUP(C5467,Sheet2!A:F,2,FALSE))","v":""},{"$f":"IF(OR(C5467=\"\",ISBLANK(C5467)),\"\",VLOOKUP(C5467,Sheet2!A:G,4,FALSE))","v":""},null,null,{"$f":"IF(OR(C5467=\"\",ISBLANK(C5467)),\"\",VLOOKUP(C5467,Sheet2!A:F,3,FALSE))","v":""},{"$f":"IF(OR(C5467=\"\",ISBLANK(C5467)),\"\",VLOOKUP(C5467,Sheet2!A:G,6,FALSE))","v":""},""]
[{"$f":"IF(OR(C5500=\"\",ISBLANK(C5500)),\"\",VLOOKUP(C5500,Sheet2!A:F,2,FALSE))","v":""},{"$f":"IF(OR(C5500=\"\",ISBLANK(C5500)),\"\",VLOOKUP(C5500,Sheet2!A:G,4,FALSE))","v":""},null,null,{"$f":"IF(OR(C5500=\"\",ISBLANK(C5500)),\"\",VLOOKUP(C5500,Sheet2!A:F,3,FALSE))","v":""},{"$f":"IF(OR(C5500=\"\",ISBLANK(C5500)),\"\",VLOOKUP(C5500,Sheet2!A:G,6,FALSE))","v":""},""]
[{"$f":"IF(OR(C5525=\"\",ISBLANK(C5525)),\"\",VLOOKUP(C5525,Sheet2!A:F,2,FALSE))","v":""},{"$f":"IF(OR(C5525=\"\",ISBLANK(C5525)),\"\",VLOOKUP(C5525,Sheet2!A:G,4,FALSE))","v":""},null,null,{"$f":"IF(OR(C5525=\"\",ISBLANK(C5525)),\"\",VLOOKUP(C5525,Sheet2!A:F,3,FALSE))","v":""},{"$f":"IF(OR(C5525=\"\",ISBLANK(C5525)),\"\",VLOOKUP(C5525,Sheet2!A:G,6,FALSE))","v":""},""]
[{"$f":"IF(OR(C5558=\"\",ISBLANK(C5558)),\"\",VLOOKUP(C5558,Sheet2!A:F,2,FALSE))","v":""},{"$f":"IF(OR(C5558=\"\",ISBLANK(C5558)),\"\",VLOOKUP(C5558,Sheet2!A:G,4,FALSE))","v":""},null,null,{"$f":"IF(OR(C5558=\"\",ISBLANK(C5558)),\"\",VLOOKUP(C5558,Sheet2!A:F,3,FALSE))","v":""},{"$f":"IF(OR(C5558=\"\",ISBLANK(C5558)),\"\",VLOOKUP(C5558,Sheet2!A:G,6,FALSE))","v":""},""]
[{"$f":"IF(OR(C5567=\"\",ISBLANK(C5567)),\"\",VLOOKUP(C5567,Sheet2!A:F,2,FALSE))","v":""},{"$f":"IF(OR(C5567=\"\",ISBLANK(C5567)),\"\",VLOOKUP(C5567,Sheet2!A:G,4,FALSE))","v":""},null,null,{"$f":"IF(OR(C5567=\"\",ISBLANK(C5567)),\"\",VLOOKUP(C5567,Sheet2!A:F,3,FALSE))","v":""},{"$f":"IF(OR(C5567=\"\",ISBLANK(C5567)),\"\",VLOOKUP(C5567,Sheet2!A:G,6,FALSE))","v":""},""]
[{"$f":"IF(OR(C5592=\"\",ISBLANK(C5592)),\"\",VLOOKUP(C5592,Sheet2!A:F,2,FALSE))","v":""},{"$f":"IF(OR(C5592=\"\",ISBLANK(C5592)),\"\",VLOOKUP(C5592,Sheet2!A:G,4,FALSE))","v":""},null,null,{"$f":"IF(OR(C5592=\"\",ISBLANK(C5592)),\"\",VLOOKUP(C5592,Sheet2!A:F,3,FALSE))","v":""},{"$f":"IF(OR(C5592=\"\",ISBLANK(C5592)),\"\",VLOOKUP(C5592,Sheet2!A:G,6,FALSE))","v":""},""]
[{"$f":"IF(OR(C5625=\"\",ISBLANK(C5625)),\"\",VLOOKUP(C5625,Sheet2!A:F,2,FALSE))","v":""},{"$f":"IF(OR(C5625=\"\",ISBLANK(C5625)),\"\",VLOOKUP(C5625,Sheet2!A:G,4,FALSE))","v":""},null,null,{"$f":"IF(OR(C5625=\"\",ISBLANK(C5625)),\"\",VLOOKUP(C5625,Sheet2!A:F,3,FALSE))","v":""},{"$f":"IF(OR(C5625=\"\",ISBLANK(C5625)),\"\",VLOOKUP(C5625,Sheet2!A:G,6,FALSE))","v":""},""]
[{"$f":"IF(OR(C5650=\"\",ISBLANK(C5650)),\"\",VLOOKUP(C5650,Sheet2!A:F,2,FALSE))","v":""},{"$f":"IF(OR(C5650=\"\",ISBLANK(C5650)),\"\",VLOOKUP(C5650,Sheet2!A:G,4,FALSE))","v":""},null,null,{"$f":"IF(OR(C5650=\"\",ISBLANK(C5650)),\"\",VLOOKUP(C5650,Sheet2!A:F,3,FALSE))","v":""},{"$f":"IF(OR(C5650=\"\",ISBLANK(C5650)),\"\",VLOOKUP(C5650,Sheet2!A:G,6,FALSE))","v":""},""]
[{"$f":"IF(OR(C5677=\"\",ISBLANK(C5677)),\"\",VLOOKUP(C5677,Sheet2!A:F,2,FALSE))","v":""},{"$f":"IF(OR(C5677=\"\",ISBLANK(C5677)),\"\",VLOOKUP(C5677,Sheet2!A:G,4,FALSE))","v":""},null,null,{"$f":"IF(OR(C5677=\"\",ISBLANK(C5677)),\"\",VLOOKUP(C5677,Sheet2!A:F,3,FALSE))","v":""},{"$f":"IF(OR(C5677=\"\",ISBLANK(C5677)),\"\",VLOOKUP(C5677,Sheet2!A:G,6,FALSE))","v":""},""]
[{"$f":"IF(OR(C5691=\"\",ISBLANK(C5691)),\"\",VLOOKUP(C5691,Sheet2!A:F,2,FALSE))","v":""},{"$f":"IF(OR(C5691=\"\",ISBLANK(C5691)),\"\",VLOOKUP(C5691,Sheet2!A:G,4,FALSE))","v":""},null,null,{"$f":"IF(OR(C5691=\"\",ISBLANK(C5691)),\"\",VLOOKUP(C5691,Sheet2!A:F,3,FALSE))","v":""},{"$f":"IF(OR(C5691=\"\",ISBLANK(C5691)),\"\",VLOOKUP(C5691,Sheet2!A:G,6,FALSE))","v":""},""]
[{"$f":"IF(OR(C5716=\"\",ISBLANK(C5716)),\"\",VLOOKUP(C5716,Sheet2!A:F,2,FALSE))","v":""},{"$f":"IF(OR(C5716=\"\",ISBLANK(C5716)),\"\",VLOOKUP(C5716,Sheet2!A:G,4,FALSE))","v":""},null,null,{"$f":"IF(OR(C5716=\"\",ISBLANK(C5716)),\"\",VLOOKUP(C5716,Sheet2!A:F,3,FALSE))","v":""},{"$f":"IF(OR(C5716=\"\",ISBLANK(C5716)),\"\",VLOOKUP(C5716,Sheet2!A:G,6,FALSE))","v":""},""]
[{"$f":"IF(OR(C5749=\"\",ISBLANK(C5749)),\"\",VLOOKUP(C5749,Sheet2!A:F,2,FALSE))","v":""},{"$f":"IF(OR(C5749=\"\",ISBLANK(C5749)),\"\",VLOOKUP(C5749,Sheet2!A:G,4,FALSE))","v":""},null,null,{"$f":"IF(OR(C5749=\"\",ISBLANK(C5749)),\"\",VLOOKUP(C5749,Sheet2!A:F,3,FALSE))","v":""},{"$f":"IF(OR(C5749=\"\",ISBLANK(C5749)),\"\",VLOOKUP(C5749,Sheet2!A:G,6,FALSE))","v":""},""]
[{"$f":"IF(OR(C5758=\"\",ISBLANK(C5758)),\"\",VLOOKUP(C5758,Sheet2!A:F,2,FALSE))","v":""},{"$f":"IF(OR(C5758=\"\",ISBLANK(C5758)),\"\",VLOOKUP(C5758,Sheet2!A:G,4,FALSE))","v":""},null,null,{"$f":"IF(OR(C5758=\"\",ISBLANK(C5758)),\"\",VLOOKUP(C5758,Sheet2!A:F,3,FALSE))","v":""},{"$f":"IF(OR(C5758=\"\",ISBLANK(C5758)),\"\",VLOOKUP(C5758,Sheet2!A:G,6,FALSE))","v":""},""]
[{"$f":"IF(OR(C5783=\"\",ISBLANK(C5783)),\"\",VLOOKUP(C5783,Sheet2!A:F,2,FALSE))","v":""},{"$f":"IF(OR(C5783=\"\",ISBLANK(C5783)),\"\",VLOOKUP(C5783,Sheet2!A:G,4,FALSE))","v":""},null,null,{"$f":"IF(OR(C5783=\"\",ISBLANK(C5783)),\"\",VLOOKUP(C5783,Sheet2!A:F,3,FALSE))","v":""},{"$f":"IF(OR(C5783=\"\",ISBLANK(C5783)),\"\",VLOOKUP(C5783,Sheet2!A:G,6,FALSE))","v":""},""]
[{"$f":"IF(OR(C5816=\"\",ISBLANK(C5816)),\"\",VLOOKUP(C5816,Sheet2!A:F,2,FALSE))","v":""},{"$f":"IF(OR(C5816=\"\",ISBLANK(C5816)),\"\",VLOOKUP(C5816,Sheet2!A:G,4,FALSE))","v":""},null,null,{"$f":"IF(OR(C5816=\"\",ISBLANK(C5816)),\"\",VLOOKUP(C5816,Sheet2!A:F,3,FALSE))","v":""},{"$f":"IF(OR(C5816=\"\",ISBLANK(C5816)),\"\",VLOOKUP(C5816,Sheet2!A:G,6,FALSE))","v":""},""]
[{"$f":"IF(OR(C5841=\"\",ISBLANK(C5841)),\"\",VLOOKUP(C5841,Sheet2!A:F,2,FALSE))","v":""},{"$f":"IF(OR(C5841=\"\",ISBLANK(C5841)),\"\",VLOOKUP(C5841,Sheet2!A:G,4,FALSE))","v":""},null,null,{"$f":"IF(OR(C5841=\"\",ISBLANK(C5841)),\"\",VLOOKUP(C5841,Sheet2!A:F,3,FALSE))","v":""},{"$f":"IF(OR(C5841=\"\",ISBLANK(C5841)),\"\",VLOOKUP(C5841,Sheet2!A:G,6,FALSE))","v":""},""]
[{"$f":"IF(OR(C5850=\"\",ISBLANK(C5850)),\"\",VLOOKUP(C5850,Sheet2!A:F,2,FALSE))","v":""},{"$f":"IF(OR(C5850=\"\",ISBLANK(C5850)),\"\",VLOOKUP(C5850,Sheet2!A:G,4,FALSE))","v":""},null,null,{"$f":"IF(OR(C5850=\"\",ISBLANK(C5850)),\"\",VLOOKUP(C5850,Sheet2!A:F,3,FALSE))","v":""},{"$f":"IF(OR(C5850=\"\",ISBLANK(C5850)),\"\",VLOOKUP(C5850,Sheet2!A:G,6,FALSE))","v":""},""]
[{"$f":"IF(OR(C5883=\"\",ISBLANK(C5883)),\"\",VLOOKUP(C5883,Sheet2!A:F,2,FALSE))","v":""},{"$f":"IF(OR(C5883=\"\",ISBLANK(C5883)),\"\",VLOOKUP(C5883,Sheet2!A:G,4,FALSE))","v":""},null,null,{"$f":"IF(OR(C5883=\"\",ISBLANK(C5883)),\"\",VLOOKUP(C5883,Sheet2!A:F,3,FALSE))","v":""},{"$f":"IF(OR(C5883=\"\",ISBLANK(C5883)),\"\",VLOOKUP(C5883,Sheet2!A:G,6,FALSE))","v":""},""]
[{"$f":"IF(OR(C5908=\"\",ISBLANK(C5908)),\"\",VLOOKUP(C5908,Sheet2!A:F,2,FALSE))","v":""},{"$f":"IF(OR(C5908=\"\",ISBLANK(C5908)),\"\",VLOOKUP(C5908,Sheet2!A:G,4,FALSE))","v":""},null,null,{"$f":"IF(OR(C5908=\"\",ISBLANK(C5908)),\"\",VLOOKUP(C5908,Sheet2!A:F,3,FALSE))","v":""},{"$f":"IF(OR(C5908=\"\",ISBLANK(C5908)),\"\",VLOOKUP(C5908,Sheet2!A:G,6,FALSE))","v":""},""]
[{"$f":"IF(OR(C5940=\"\",ISBLANK(C5940)),\"\",VLOOKUP(C5940,Sheet2!A:F,2,FALSE))","v":""},{"$f":"IF(OR(C5940=\"\",ISBLANK(C5940)),\"\",VLOOKUP(C5940,Sheet2!A:G,4,FALSE))","v":""},null,null,{"$f":"IF(OR(C5940=\"\",ISBLANK(C5940)),\"\",VLOOKUP(C5940,Sheet2!A:F,3,FALSE))","v":""},{"$f":"IF(OR(C5940=\"\",ISBLANK(C5940)),\"\",VLOOKUP(C5940,Sheet2!A:G,6,FALSE))","v":""},""]
[{"$f":"IF(OR(C5965=\"\",ISBLANK(C5965)),\"\",VLOOKUP(C5965,Sheet2!A:F,2,FALSE))","v":""},{"$f":"IF(OR(C5965=\"\",ISBLANK(C5965)),\"\",VLOOKUP(C5965,Sheet2!A:G,4,FALSE))","v":""},null,null,{"$f":"IF(OR(C5965=\"\",ISBLANK(C5965)),\"\",VLOOKUP(C5965,Sheet2!A:F,3,FALSE))","v":""},{"$f":"IF(OR(C5965=\"\",ISBLANK(C5965)),\"\",VLOOKUP(C5965,Sheet2!A:G,6,FALSE))","v":""},""]
[{"$f":"IF(OR(C5974=\"\",ISBLANK(C5974)),\"\",VLOOKUP(C5974,Sheet2!A:F,2,FALSE))","v":""},{"$f":"IF(OR(C5974=\"\",ISBLANK(C5974)),\"\",VLOOKUP(C5974,Sheet2!A:G,4,FALSE))","v":""},null,null,{"$f":"IF(OR(C5974=\"\",ISBLANK(C5974)),\"\",VLOOKUP(C5974,Sheet2!A:F,3,FALSE))","v":""},{"$f":"IF(OR(C5974=\"\",ISBLANK(C5974)),\"\",VLOOKUP(C5974,Sheet2!A:G,6,FALSE))","v":""},""]
[{"$f":"IF(OR(C6007=\"\",ISBLANK(C6007)),\"\",VLOOKUP(C6007,Sheet2!A:F,2,FALSE))","v":""},{"$f":"IF(OR(C6007=\"\",ISBLANK(C6007)),\"\",VLOOKUP(C6007,Sheet2!A:G,4,FALSE))","v":""},null,null,{"$f":"IF(OR(C6007=\"\",ISBLANK(C6007)),\"\",VLOOKUP(C6007,Sheet2!A:F,3,FALSE))","v":""},{"$f":"IF(OR(C6007=\"\",ISBLANK(C6007)),\"\",VLOOKUP(C6007,Sheet2!A:G,6,FALSE))","v":""},""]
[{"$f":"IF(OR(C6032=\"\",ISBLANK(C6032)),\"\",VLOOKUP(C6032,Sheet2!A:F,2,FALSE))","v":""},{"$f":"IF(OR(C6032=\"\",ISBLANK(C6032)),\"\",VLOOKUP(C6032,Sheet2!A:G,4,FALSE))","v":""},null,null,{"$f":"IF(OR(C6032=\"\",ISBLANK(C6032)),\"\",VLOOKUP(C6032,Sheet2!A:F,3,FALSE))","v":""},{"$f":"IF(OR(C6032=\"\",ISBLANK(C6032)),\"\",VLOOKUP(C6032,Sheet2!A:G,6,FALSE))","v":""},""]
[{"$f":"IF(OR(C6041=\"\",ISBLANK(C6041)),\"\",VLOOKUP(C6041,Sheet2!A:F,2,FALSE))","v":""},{"$f":"IF(OR(C6041=\"\",ISBLANK(C6041)),\"\",VLOOKUP(C6041,Sheet2!A:G,4,FALSE))","v":""},null,null,{"$f":"IF(OR(C6041=\"\",ISBLANK(C6041)),\"\",VLOOKUP(C6041,Sheet2!A:F,3,FALSE))","v":""},{"$f":"IF(OR(C6041=\"\",ISBLANK(C6041)),\"\",VLOOKUP(C6041,Sheet2!A:G,6,FALSE))","v":""},""]
[{"$f":"IF(OR(C6074=\"\",ISBLANK(C6074)),\"\",VLOOKUP(C6074,Sheet2!A:F,2,FALSE))","v":""},{"$f":"IF(OR(C6074=\"\",ISBLANK(C6074)),\"\",VLOOKUP(C6074,Sheet2!A:G,4,FALSE))","v":""},null,null,{"$f":"IF(OR(C6074=\"\",ISBLANK(C6074)),\"\",VLOOKUP(C6074,Sheet2!A:F,3,FALSE))","v":""},{"$f":"IF(OR(C6074=\"\",ISBLANK(C6074)),\"\",VLOOKUP(C6074,Sheet2!A:G,6,FALSE))","v":""},""]
[{"$f":"IF(OR(C6099=\"\",ISBLANK(C6099)),\"\",VLOOKUP(C6099,Sheet2!A:F,2,FALSE))","v":""},{"$f":"IF(OR(C6099=\"\",ISBLANK(C6099)),\"\",VLOOKUP(C6099,Sheet2!A:G,4,FALSE))","v":""},null,null,{"$f":"IF(OR(C6099=\"\",ISBLANK(C6099)),\"\",VLOOKUP(C6099,Sheet2!A:F,3,FALSE))","v":""},{"$f":"IF(OR(C6099=\"\",ISBLANK(C6099)),\"\",VLOOKUP(C6099,Sheet2!A:G,6,FALSE))","v":""},""]
[{"$f":"IF(OR(C6132=\"\",ISBLANK(C6132)),\"\",VLOOKUP(C6132,Sheet2!A:F,2,FALSE))","v":""},{"$f":"IF(OR(C6132=\"\",ISBLANK(C6132)),\"\",VLOOKUP(C6132,Sheet2!A:G,4,FALSE))","v":""},null,null,{"$f":"IF(OR(C6132=\"\",ISBLANK(C6132)),\"\",VLOOKUP(C6132,Sheet2!A:F,3,FALSE))","v":""},{"$f":"IF(OR(C6132=\"\",ISBLANK(C6132)),\"\",VLOOKUP(C6132,Sheet2!A:G,6,FALSE))","v":""},""]
[{"$f":"IF(OR(C6139=\"\",ISBLANK(C6139)),\"\",VLOOKUP(C6139,Sheet2!A:F,2,FALSE))","v":""},{"$f":"IF(OR(C6139=\"\",ISBLANK(C6139)),\"\",VLOOKUP(C6139,Sheet2!A:G,4,FALSE))","v":""},null,null,{"$f":"IF(OR(C6139=\"\",ISBLANK(C6139)),\"\",VLOOKUP(C6139,Sheet2!A:F,3,FALSE))","v":""},{"$f":"IF(OR(C6139=\"\",ISBLANK(C6139)),\"\",VLOOKUP(C6139,Sheet2!A:G,6,FALSE))","v":""},""]
[{"$f":"IF(OR(C6165=\"\",ISBLANK(C6165)),\"\",VLOOKUP(C6165,Sheet2!A:F,2,FALSE))","v":""},{"$f":"IF(OR(C6165=\"\",ISBLANK(C6165)),\"\",VLOOKUP(C6165,Sheet2!A:G,4,FALSE))","v":""},null,null,{"$f":"IF(OR(C6165=\"\",ISBLANK(C6165)),\"\",VLOOKUP(C6165,Sheet2!A:F,3,FALSE))","v":""},{"$f":"IF(OR(C6165=\"\",ISBLANK(C6165)),\"\",VLOOKUP(C6165,Sheet2!A:G,6,FALSE))","v":""},""]
[{"$f":"IF(OR(C6198=\"\",ISBLANK(C6198)),\"\",VLOOKUP(C6198,Sheet2!A:F,2,FALSE))","v":""},{"$f":"IF(OR(C6198=\"\",ISBLANK(C6198)),\"\",VLOOKUP(C6198,Sheet2!A:G,4,FALSE))","v":""},null,null,{"$f":"IF(OR(C6198=\"\",ISBLANK(C6198)),\"\",VLOOKUP(C6198,Sheet2!A:F,3,FALSE))","v":""},{"$f":"IF(OR(C6198=\"\",ISBLANK(C6198)),\"\",VLOOKUP(C6198,Sheet2!A:G,6,FALSE))","v":""},""]
[{"$f":"IF(OR(C6223=\"\",ISBLANK(C6223)),\"\",VLOOKUP(C6223,Sheet2!A:F,2,FALSE))","v":""},{"$f":"IF(OR(C6223=\"\",ISBLANK(C6223)),\"\",VLOOKUP(C6223,Sheet2!A:G,4,FALSE))","v":""},null,null,{"$f":"IF(OR(C6223=\"\",ISBLANK(C6223)),\"\",VLOOKUP(C6223,Sheet2!A:F,3,FALSE))","v":""},{"$f":"IF(OR(C6223=\"\",ISBLANK(C6223)),\"\",VLOOKUP(C6223,Sheet2!A:G,6,FALSE))","v":""},""]
[{"$f":"IF(OR(C6232=\"\",ISBLANK(C6232)),\"\",VLOOKUP(C6232,Sheet2!A:F,2,FALSE))","v":""},{"$f":"IF(OR(C6232=\"\",ISBLANK(C6232)),\"\",VLOOKUP(C6232,Sheet2!A:G,4,FALSE))","v":""},null,null,{"$f":"IF(OR(C6232=\"\",ISBLANK(C6232)),\"\",VLOOKUP(C6232,Sheet2!A:F,3,FALSE))","v":""},{"$f":"IF(OR(C6232=\"\",ISBLANK(C6232)),\"\",VLOOKUP(C6232,Sheet2!A:G,6,FALSE))","v":""},""]
[{"$f":"IF(OR(C6265=\"\",ISBLANK(C6265)),\"\",VLOOKUP(C6265,Sheet2!A:F,2,FALSE))","v":""},{"$f":"IF(OR(C6265=\"\",ISBLANK(C6265)),\"\",VLOOKUP(C6265,Sheet2!A:G,4,FALSE))","v":""},null,null,{"$f":"IF(OR(C6265=\"\",ISBLANK(C6265)),\"\",VLOOKUP(C6265,Sheet2!A:F,3,FALSE))","v":""},{"$f":"IF(OR(C6265=\"\",ISBLANK(C6265)),\"\",VLOOKUP(C6265,Sheet2!A:G,6,FALSE))","v":""},""]
[{"$f":"IF(OR(C6290=\"\",ISBLANK(C6290)),\"\",VLOOKUP(C6290,Sheet2!A:F,2,FALSE))","v":""},{"$f":"IF(OR(C6290=\"\",ISBLANK(C6290)),\"\",VLOOKUP(C6290,Sheet2!A:G,4,FALSE))","v":""},null,null,{"$f":"IF(OR(C6290=\"\",ISBLANK(C6290)),\"\",VLOOKUP(C6290,Sheet2!A:F,3,FALSE))","v":""},{"$f":"IF(OR(C6290=\"\",ISBLANK(C6290)),\"\",VLOOKUP(C6290,Sheet2!A:G,6,FALSE))","v":""},""]
[{"$f":"IF(OR(C6323=\"\",ISBLANK(C6323)),\"\",VLOOKUP(C6323,Sheet2!A:F,2,FALSE))","v":""},{"$f":"IF(OR(C6323=\"\",ISBLANK(C6323)),\"\",VLOOKUP(C6323,Sheet2!A:G,4,FALSE))","v":""},null,null,{"$f":"IF(OR(C6323=\"\",ISBLANK(C6323)),\"\",VLOOKUP(C6323,Sheet2!A:F,3,FALSE))","v":""},{"$f":"IF(OR(C6323=\"\",ISBLANK(C6323)),\"\",VLOOKUP(C6323,Sheet2!A:G,6,FALSE))","v":""},""]
[{"$f":"IF(OR(C6348=\"\",ISBLANK(C6348)),\"\",VLOOKUP(C6348,Sheet2!A:F,2,FALSE))","v":""},{"$f":"IF(OR(C6348=\"\",ISBLANK(C6348)),\"\",VLOOKUP(C6348,Sheet2!A:G,4,FALSE))","v":""},null,null,{"$f":"IF(OR(C6348=\"\",ISBLANK(C6348)),\"\",VLOOKUP(C6348,Sheet2!A:F,3,FALSE))","v":""},{"$f":"IF(OR(C6348=\"\",ISBLANK(C6348)),\"\",VLOOKUP(C6348,Sheet2!A:G,6,FALSE))","v":""},""]
[{"$f":"IF(OR(C6358=\"\",ISBLANK(C6358)),\"\",VLOOKUP(C6358,Sheet2!A:F,2,FALSE))","v":""},{"$f":"IF(OR(C6358=\"\",ISBLANK(C6358)),\"\",VLOOKUP(C6358,Sheet2!A:G,4,FALSE))","v":""},null,null,{"$f":"IF(OR(C6358=\"\",ISBLANK(C6358)),\"\",VLOOKUP(C6358,Sheet2!A:F,3,FALSE))","v":""},{"$f":"IF(OR(C6358=\"\",ISBLANK(C6358)),\"\",VLOOKUP(C6358,Sheet2!A:G,6,FALSE))","v":""},""]
[{"$f":"IF(OR(C6389=\"\",ISBLANK(C6389)),\"\",VLOOKUP(C6389,Sheet2!A:F,2,FALSE))","v":""},{"$f":"IF(OR(C6389=\"\",ISBLANK(C6389)),\"\",VLOOKUP(C6389,Sheet2!A:G,4,FALSE))","v":""},null,null,{"$f":"IF(OR(C6389=\"\",ISBLANK(C6389)),\"\",VLOOKUP(C6389,Sheet2!A:F,3,FALSE))","v":""},{"$f":"IF(OR(C6389=\"\",ISBLANK(C6389)),\"\",VLOOKUP(C6389,Sheet2!A:G,6,FALSE))","v":""},""]
[{"$f":"IF(OR(C6414=\"\",ISBLANK(C6414)),\"\",VLOOKUP(C6414,Sheet2!A:F,2,FALSE))","v":""},{"$f":"IF(OR(C6414=\"\",ISBLANK(C6414)),\"\",VLOOKUP(C6414,Sheet2!A:G,4,FALSE))","v":""},null,null,{"$f":"IF(OR(C6414=\"\",ISBLANK(C6414)),\"\",VLOOKUP(C6414,Sheet2!A:F,3,FALSE))","v":""},{"$f":"IF(OR(C6414=\"\",ISBLANK(C6414)),\"\",VLOOKUP(C6414,Sheet2!A:G,6,FALSE))","v":""},""]
[{"$f":"IF(OR(C6423=\"\",ISBLANK(C6423)),\"\",VLOOKUP(C6423,Sheet2!A:F,2,FALSE))","v":""},{"$f":"IF(OR(C6423=\"\",ISBLANK(C6423)),\"\",VLOOKUP(C6423,Sheet2!A:G,4,FALSE))","v":""},null,null,{"$f":"IF(OR(C6423=\"\",ISBLANK(C6423)),\"\",VLOOKUP(C6423,Sheet2!A:F,3,FALSE))","v":""},{"$f":"IF(OR(C6423=\"\",ISBLANK(C6423)),\"\",VLOOKUP(C6423,Sheet2!A:G,6,FALSE))","v":""},""]
[{"$f":"IF(OR(C6448=\"\",ISBLANK(C6448)),\"\",VLOOKUP(C6448,Sheet2!A:F,2,FALSE))","v":""},{"$f":"IF(OR(C6448=\"\",ISBLANK(C6448)),\"\",VLOOKUP(C6448,Sheet2!A:G,4,FALSE))","v":""},null,null,{"$f":"IF(OR(C6448=\"\",ISBLANK(C6448)),\"\",VLOOKUP(C6448,Sheet2!A:F,3,FALSE))","v":""},{"$f":"IF(OR(C6448=\"\",ISBLANK(C6448)),\"\",VLOOKUP(C6448,Sheet2!A:G,6,FALSE))","v":""},""]
[{"$f":"IF(OR(C6481=\"\",ISBLANK(C6481)),\"\",VLOOKUP(C6481,Sheet2!A:F,2,FALSE))","v":""},{"$f":"IF(OR(C6481=\"\",ISBLANK(C6481)),\"\",VLOOKUP(C6481,Sheet2!A:G,4,FALSE))","v":""},null,null,{"$f":"IF(OR(C6481=\"\",ISBLANK(C6481)),\"\",VLOOKUP(C6481,Sheet2!A:F,3,FALSE))","v":""},{"$f":"IF(OR(C6481=\"\",ISBLANK(C6481)),\"\",VLOOKUP(C6481,Sheet2!A:G,6,FALSE))","v":""},""]
[{"$f":"IF(OR(C6514=\"\",ISBLANK(C6514)),\"\",VLOOKUP(C6514,Sheet2!A:F,2,FALSE))","v":""},{"$f":"IF(OR(C6514=\"\",ISBLANK(C6514)),\"\",VLOOKUP(C6514,Sheet2!A:G,4,FALSE))","v":""},null,null,{"$f":"IF(OR(C6514=\"\",ISBLANK(C6514)),\"\",VLOOKUP(C6514,Sheet2!A:F,3,FALSE))","v":""},{"$f":"IF(OR(C6514=\"\",ISBLANK(C6514)),\"\",VLOOKUP(C6514,Sheet2!A:G,6,FALSE))","v":""},""]
[{"$f":"IF(OR(C6539=\"\",ISBLANK(C6539)),\"\",VLOOKUP(C6539,Sheet2!A:F,2,FALSE))","v":""},{"$f":"IF(OR(C6539=\"\",ISBLANK(C6539)),\"\",VLOOKUP(C6539,Sheet2!A:G,4,FALSE))","v":""},null,null,{"$f":"IF(OR(C6539=\"\",ISBLANK(C6539)),\"\",VLOOKUP(C6539,Sheet2!A:F,3,FALSE))","v":""},{"$f":"IF(OR(C6539=\"\",ISBLANK(C6539)),\"\",VLOOKUP(C6539,Sheet2!A:G,6,FALSE))","v":""},""]
[{"$f":"IF(OR(C6548=\"\",ISBLANK(C6548)),\"\",VLOOKUP(C6548,Sheet2!A:F,2,FALSE))","v":""},{"$f":"IF(OR(C6548=\"\",ISBLANK(C6548)),\"\",VLOOKUP(C6548,Sheet2!A:G,4,FALSE))","v":""},null,null,{"$f":"IF(OR(C6548=\"\",ISBLANK(C6548)),\"\",VLOOKUP(C6548,Sheet2!A:F,3,FALSE))","v":""},{"$f":"IF(OR(C6548=\"\",ISBLANK(C6548)),\"\",VLOOKUP(C6548,Sheet2!A:G,6,FALSE))","v":""},""]
[{"$f":"IF(OR(C6581=\"\",ISBLANK(C6581)),\"\",VLOOKUP(C6581,Sheet2!A:F,2,FALSE))","v":""},{"$f":"IF(OR(C6581=\"\",ISBLANK(C6581)),\"\",VLOOKUP(C6581,Sheet2!A:G,4,FALSE))","v":""},null,null,{"$f":"IF(OR(C6581=\"\",ISBLANK(C6581)),\"\",VLOOKUP(C6581,Sheet2!A:F,3,FALSE))","v":""},{"$f":"IF(OR(C6581=\"\",ISBLANK(C6581)),\"\",VLOOKUP(C6581,Sheet2!A:G,6,FALSE))","v":""},""]
[{"$f":"IF(OR(C6589=\"\",ISBLANK(C6589)),\"\",VLOOKUP(C6589,Sheet2!A:F,2,FALSE))","v":""},{"$f":"IF(OR(C6589=\"\",ISBLANK(C6589)),\"\",VLOOKUP(C6589,Sheet2!A:G,4,FALSE))","v":""},null,null,{"$f":"IF(OR(C6589=\"\",ISBLANK(C6589)),\"\",VLOOKUP(C6589,Sheet2!A:F,3,FALSE))","v":""},{"$f":"IF(OR(C6589=\"\",ISBLANK(C6589)),\"\",VLOOKUP(C6589,Sheet2!A:G,6,FALSE))","v":""},""]
[{"$f":"IF(OR(C6614=\"\",ISBLANK(C6614)),\"\",VLOOKUP(C6614,Sheet2!A:F,2,FALSE))","v":""},{"$f":"IF(OR(C6614=\"\",ISBLANK(C6614)),\"\",VLOOKUP(C6614,Sheet2!A:G,4,FALSE))","v":""},null,null,{"$f":"IF(OR(C6614=\"\",ISBLANK(C6614)),\"\",VLOOKUP(C6614,Sheet2!A:F,3,FALSE))","v":""},{"$f":"IF(OR(C6614=\"\",ISBLANK(C6614)),\"\",VLOOKUP(C6614,Sheet2!A:G,6,FALSE))","v":""},""]
[{"$f":"IF(OR(C6639=\"\",ISBLANK(C6639)),\"\",VLOOKUP(C6639,Sheet2!A:F,2,FALSE))","v":""},{"$f":"IF(OR(C6639=\"\",ISBLANK(C6639)),\"\",VLOOKUP(C6639,Sheet2!A:G,4,FALSE))","v":""},null,null,{"$f":"IF(OR(C6639=\"\",ISBLANK(C6639)),\"\",VLOOKUP(C6639,Sheet2!A:F,3,FALSE))","v":""},{"$f":"IF(OR(C6639=\"\",ISBLANK(C6639)),\"\",VLOOKUP(C6639,Sheet2!A:G,6,FALSE))","v":""},""]
[{"$f":"IF(OR(C6672=\"\",ISBLANK(C6672)),\"\",VLOOKUP(C6672,Sheet2!A:F,2,FALSE))","v":""},{"$f":"IF(OR(C6672=\"\",ISBLANK(C6672)),\"\",VLOOKUP(C6672,Sheet2!A:G,4,FALSE))","v":""},null,null,{"$f":"IF(OR(C6672=\"\",ISBLANK(C6672)),\"\",VLOOKUP(C6672,Sheet2!A:F,3,FALSE))","v":""},{"$f":"IF(OR(C6672=\"\",ISBLANK(C6672)),\"\",VLOOKUP(C6672,Sheet2!A:G,6,FALSE))","v":""},""]
[{"$f":"IF(OR(C6705=\"\",ISBLANK(C6705)),\"\",VLOOKUP(C6705,Sheet2!A:F,2,FALSE))","v":""},{"$f":"IF(OR(C6705=\"\",ISBLANK(C6705)),\"\",VLOOKUP(C6705,Sheet2!A:G,4,FALSE))","v":""},null,null,{"$f":"IF(OR(C6705=\"\",ISBLANK(C6705)),\"\",VLOOKUP(C6705,Sheet2!A:F,3,FALSE))","v":""},{"$f":"IF(OR(C6705=\"\",ISBLANK(C6705)),\"\",VLOOKUP(C6705,Sheet2!A:G,6,FALSE))","v":""},""]
[{"$f":"IF(OR(C6730=\"\",ISBLANK(C6730)),\"\",VLOOKUP(C6730,Sheet2!A:F,2,FALSE))","v":""},{"$f":"IF(OR(C6730=\"\",ISBLANK(C6730)),\"\",VLOOKUP(C6730,Sheet2!A:G,4,FALSE))","v":""},null,null,{"$f":"IF(OR(C6730=\"\",ISBLANK(C6730)),\"\",VLOOKUP(C6730,Sheet2!A:F,3,FALSE))","v":""},{"$f":"IF(OR(C6730=\"\",ISBLANK(C6730)),\"\",VLOOKUP(C6730,Sheet2!A:G,6,FALSE))","v":""},""]
[{"$f":"IF(OR(C6739=\"\",ISBLANK(C6739)),\"\",VLOOKUP(C6739,Sheet2!A:F,2,FALSE))","v":""},{"$f":"IF(OR(C6739=\"\",ISBLANK(C6739)),\"\",VLOOKUP(C6739,Sheet2!A:G,4,FALSE))","v":""},null,null,{"$f":"IF(OR(C6739=\"\",ISBLANK(C6739)),\"\",VLOOKUP(C6739,Sheet2!A:F,3,FALSE))","v":""},{"$f":"IF(OR(C6739=\"\",ISBLANK(C6739)),\"\",VLOOKUP(C6739,Sheet2!A:G,6,FALSE))","v":""},""]
[{"$f":"IF(OR(C6764=\"\",ISBLANK(C6764)),\"\",VLOOKUP(C6764,Sheet2!A:F,2,FALSE))","v":""},{"$f":"IF(OR(C6764=\"\",ISBLANK(C6764)),\"\",VLOOKUP(C6764,Sheet2!A:G,4,FALSE))","v":""},null,null,{"$f":"IF(OR(C6764=\"\",ISBLANK(C6764)),\"\",VLOOKUP(C6764,Sheet2!A:F,3,FALSE))","v":""},{"$f":"IF(OR(C6764=\"\",ISBLANK(C6764)),\"\",VLOOKUP(C6764,Sheet2!A:G,6,FALSE))","v":""},""]
[{"$f":"IF(OR(C6797=\"\",ISBLANK(C6797)),\"\",VLOOKUP(C6797,Sheet2!A:F,2,FALSE))","v":""},{"$f":"IF(OR(C6797=\"\",ISBLANK(C6797)),\"\",VLOOKUP(C6797,Sheet2!A:G,4,FALSE))","v":""},null,null,{"$f":"IF(OR(C6797=\"\",ISBLANK(C6797)),\"\",VLOOKUP(C6797,Sheet2!A:F,3,FALSE))","v":""},{"$f":"IF(OR(C6797=\"\",ISBLANK(C6797)),\"\",VLOOKUP(C6797,Sheet2!A:G,6,FALSE))","v":""},""]
[{"$f":"IF(OR(C6808=\"\",ISBLANK(C6808)),\"\",VLOOKUP(C6808,Sheet2!A:F,2,FALSE))","v":""},{"$f":"IF(OR(C6808=\"\",ISBLANK(C6808)),\"\",VLOOKUP(C6808,Sheet2!A:G,4,FALSE))","v":""},null,null,{"$f":"IF(OR(C6808=\"\",ISBLANK(C6808)),\"\",VLOOKUP(C6808,Sheet2!A:F,3,FALSE))","v":""},{"$f":"IF(OR(C6808=\"\",ISBLANK(C6808)),\"\",VLOOKUP(C6808,Sheet2!A:G,6,FALSE))","v":""},""]
[{"$f":"IF(OR(C6830=\"\",ISBLANK(C6830)),\"\",VLOOKUP(C6830,Sheet2!A:F,2,FALSE))","v":""},{"$f":"IF(OR(C6830=\"\",ISBLANK(C6830)),\"\",VLOOKUP(C6830,Sheet2!A:G,4,FALSE))","v":""},null,null,{"$f":"IF(OR(C6830=\"\",ISBLANK(C6830)),\"\",VLOOKUP(C6830,Sheet2!A:F,3,FALSE))","v":""},{"$f":"IF(OR(C6830=\"\",ISBLANK(C6830)),\"\",VLOOKUP(C6830,Sheet2!A:G,6,FALSE))","v":""},""]
[{"$f":"IF(OR(C6863=\"\",ISBLANK(C6863)),\"\",VLOOKUP(C6863,Sheet2!A:F,2,FALSE))","v":""},{"$f":"IF(OR(C6863=\"\",ISBLANK(C6863)),\"\",VLOOKUP(C6863,Sheet2!A:G,4,FALSE))","v":""},null,null,{"$f":"IF(OR(C6863=\"\",ISBLANK(C6863)),\"\",VLOOKUP(C6863,Sheet2!A:F,3,FALSE))","v":""},{"$f":"IF(OR(C6863=\"\",ISBLANK(C6863)),\"\",VLOOKUP(C6863,Sheet2!A:G,6,FALSE))","v":""},""]
[{"$f":"IF(OR(C6896=\"\",ISBLANK(C6896)),\"\",VLOOKUP(C6896,Sheet2!A:F,2,FALSE))","v":""},{"$f":"IF(OR(C6896=\"\",ISBLANK(C6896)),\"\",VLOOKUP(C6896,Sheet2!A:G,4,FALSE))","v":""},null,null,{"$f":"IF(OR(C6896=\"\",ISBLANK(C6896)),\"\",VLOOKUP(C6896,Sheet2!A:F,3,FALSE))","v":""},{"$f":"IF(OR(C6896=\"\",ISBLANK(C6896)),\"\",VLOOKUP(C6896,Sheet2!A:G,6,FALSE))","v":""},""]
[{"$f":"IF(OR(C6921=\"\",ISBLANK(C6921)),\"\",VLOOKUP(C6921,Sheet2!A:F,2,FALSE))","v":""},{"$f":"IF(OR(C6921=\"\",ISBLANK(C6921)),\"\",VLOOKUP(C6921,Sheet2!A:G,4,FALSE))","v":""},null,null,{"$f":"IF(OR(C6921=\"\",ISBLANK(C6921)),\"\",VLOOKUP(C6921,Sheet2!A:F,3,FALSE))","v":""},{"$f":"IF(OR(C6921=\"\",ISBLANK(C6921)),\"\",VLOOKUP(C6921,Sheet2!A:G,6,FALSE))","v":""},""]
[{"$f":"IF(OR(C6930=\"\",ISBLANK(C6930)),\"\",VLOOKUP(C6930,Sheet2!A:F,2,FALSE))","v":""},{"$f":"IF(OR(C6930=\"\",ISBLANK(C6930)),\"\",VLOOKUP(C6930,Sheet2!A:G,4,FALSE))","v":""},null,null,{"$f":"IF(OR(C6930=\"\",ISBLANK(C6930)),\"\",VLOOKUP(C6930,Sheet2!A:F,3,FALSE))","v":""},{"$f":"IF(OR(C6930=\"\",ISBLANK(C6930)),\"\",VLOOKUP(C6930,Sheet2!A:G,6,FALSE))","v":""},""]
[{"$f":"IF(OR(C6955=\"\",ISBLANK(C6955)),\"\",VLOOKUP(C6955,Sheet2!A:F,2,FALSE))","v":""},{"$f":"IF(OR(C6955=\"\",ISBLANK(C6955)),\"\",VLOOKUP(C6955,Sheet2!A:G,4,FALSE))","v":""},null,null,{"$f":"IF(OR(C6955=\"\",ISBLANK(C6955)),\"\",VLOOKUP(C6955,Sheet2!A:F,3,FALSE))","v":""},{"$f":"IF(OR(C6955=\"\",ISBLANK(C6955)),\"\",VLOOKUP(C6955,Sheet2!A:G,6,FALSE))","v":""},""]
[{"$f":"IF(OR(C6988=\"\",ISBLANK(C6988)),\"\",VLOOKUP(C6988,Sheet2!A:F,2,FALSE))","v":""},{"$f":"IF(OR(C6988=\"\",ISBLANK(C6988)),\"\",VLOOKUP(C6988,Sheet2!A:G,4,FALSE))","v":""},null,null,{"$f":"IF(OR(C6988=\"\",ISBLANK(C6988)),\"\",VLOOKUP(C6988,Sheet2!A:F,3,FALSE))","v":""},{"$f":"IF(OR(C6988=\"\",ISBLANK(C6988)),\"\",VLOOKUP(C6988,Sheet2!A:G,6,FALSE))","v":""},""]
[{"$f":"IF(OR(C6997=\"\",ISBLANK(C6997)),\"\",VLOOKUP(C6997,Sheet2!A:F,2,FALSE))","v":""},{"$f":"IF(OR(C6997=\"\",ISBLANK(C6997)),\"\",VLOOKUP(C6997,Sheet2!A:G,4,FALSE))","v":""},null,null,{"$f":"IF(OR(C6997=\"\",ISBLANK(C6997)),\"\",VLOOKUP(C6997,Sheet2!A:F,3,FALSE))","v":""},{"$f":"IF(OR(C6997=\"\",ISBLANK(C6997)),\"\",VLOOKUP(C6997,Sheet2!A:G,6,FALSE))","v":""},""]
[{"$f":"IF(OR(C7022=\"\",ISBLANK(C7022)),\"\",VLOOKUP(C7022,Sheet2!A:F,2,FALSE))","v":""},{"$f":"IF(OR(C7022=\"\",ISBLANK(C7022)),\"\",VLOOKUP(C7022,Sheet2!A:G,4,FALSE))","v":""},null,null,{"$f":"IF(OR(C7022=\"\",ISBLANK(C7022)),\"\",VLOOKUP(C7022,Sheet2!A:F,3,FALSE))","v":""},{"$f":"IF(OR(C7022=\"\",ISBLANK(C7022)),\"\",VLOOKUP(C7022,Sheet2!A:G,6,FALSE))","v":""},""]
[{"$f":"IF(OR(C7062=\"\",ISBLANK(C7062)),\"\",VLOOKUP(C7062,Sheet2!A:F,2,FALSE))","v":""},{"$f":"IF(OR(C7062=\"\",ISBLANK(C7062)),\"\",VLOOKUP(C7062,Sheet2!A:G,4,FALSE))","v":""},null,null,{"$f":"IF(OR(C7062=\"\",ISBLANK(C7062)),\"\",VLOOKUP(C7062,Sheet2!A:F,3,FALSE))","v":""},{"$f":"IF(OR(C7062=\"\",ISBLANK(C7062)),\"\",VLOOKUP(C7062,Sheet2!A:G,6,FALSE))","v":""},""]
[{"$f":"IF(OR(C7087=\"\",ISBLANK(C7087)),\"\",VLOOKUP(C7087,Sheet2!A:F,2,FALSE))","v":""},{"$f":"IF(OR(C7087=\"\",ISBLANK(C7087)),\"\",VLOOKUP(C7087,Sheet2!A:G,4,FALSE))","v":""},null,null,{"$f":"IF(OR(C7087=\"\",ISBLANK(C7087)),\"\",VLOOKUP(C7087,Sheet2!A:F,3,FALSE))","v":""},{"$f":"IF(OR(C7087=\"\",ISBLANK(C7087)),\"\",VLOOKUP(C7087,Sheet2!A:G,6,FALSE))","v":""},""]
[{"$f":"IF(OR(C7112=\"\",ISBLANK(C7112)),\"\",VLOOKUP(C7112,Sheet2!A:F,2,FALSE))","v":""},{"$f":"IF(OR(C7112=\"\",ISBLANK(C7112)),\"\",VLOOKUP(C7112,Sheet2!A:G,4,FALSE))","v":""},null,null,{"$f":"IF(OR(C7112=\"\",ISBLANK(C7112)),\"\",VLOOKUP(C7112,Sheet2!A:F,3,FALSE))","v":""},{"$f":"IF(OR(C7112=\"\",ISBLANK(C7112)),\"\",VLOOKUP(C7112,Sheet2!A:G,6,FALSE))","v":""},""]
[{"$f":"IF(OR(C7121=\"\",ISBLANK(C7121)),\"\",VLOOKUP(C7121,Sheet2!A:F,2,FALSE))","v":""},{"$f":"IF(OR(C7121=\"\",ISBLANK(C7121)),\"\",VLOOKUP(C7121,Sheet2!A:G,4,FALSE))","v":""},null,null,{"$f":"IF(OR(C7121=\"\",ISBLANK(C7121)),\"\",VLOOKUP(C7121,Sheet2!A:F,3,FALSE))","v":""},{"$f":"IF(OR(C7121=\"\",ISBLANK(C7121)),\"\",VLOOKUP(C7121,Sheet2!A:G,6,FALSE))","v":""},""]
[{"$f":"IF(OR(C7146=\"\",ISBLANK(C7146)),\"\",VLOOKUP(C7146,Sheet2!A:F,2,FALSE))","v":""},{"$f":"IF(OR(C7146=\"\",ISBLANK(C7146)),\"\",VLOOKUP(C7146,Sheet2!A:G,4,FALSE))","v":""},null,null,{"$f":"IF(OR(C7146=\"\",ISBLANK(C7146)),\"\",VLOOKUP(C7146,Sheet2!A:F,3,FALSE))","v":""},{"$f":"IF(OR(C7146=\"\",ISBLANK(C7146)),\"\",VLOOKUP(C7146,Sheet2!A:G,6,FALSE))","v":""},""]
[{"$f":"IF(OR(C7179=\"\",ISBLANK(C7179)),\"\",VLOOKUP(C7179,Sheet2!A:F,2,FALSE))","v":""},{"$f":"IF(OR(C7179=\"\",ISBLANK(C7179)),\"\",VLOOKUP(C7179,Sheet2!A:G,4,FALSE))","v":""},null,null,{"$f":"IF(OR(C7179=\"\",ISBLANK(C7179)),\"\",VLOOKUP(C7179,Sheet2!A:F,3,FALSE))","v":""},{"$f":"IF(OR(C7179=\"\",ISBLANK(C7179)),\"\",VLOOKUP(C7179,Sheet2!A:G,6,FALSE))","v":""},""]
[{"$f":"IF(OR(C7188=\"\",ISBLANK(C7188)),\"\",VLOOKUP(C7188,Sheet2!A:F,2,FALSE))","v":""},{"$f":"IF(OR(C7188=\"\",ISBLANK(C7188)),\"\",VLOOKUP(C7188,Sheet2!A:G,4,FALSE))","v":""},null,null,{"$f":"IF(OR(C7188=\"\",ISBLANK(C7188)),\"\",VLOOKUP(C7188,Sheet2!A:F,3,FALSE))","v":""},{"$f":"IF(OR(C7188=\"\",ISBLANK(C7188)),\"\",VLOOKUP(C7188,Sheet2!A:G,6,FALSE))","v":""},""]
[{"$f":"IF(OR(C7213=\"\",ISBLANK(C7213)),\"\",VLOOKUP(C7213,Sheet2!A:F,2,FALSE))","v":""},{"$f":"IF(OR(C7213=\"\",ISBLANK(C7213)),\"\",VLOOKUP(C7213,Sheet2!A:G,4,FALSE))","v":""},null,null,{"$f":"IF(OR(C7213=\"\",ISBLANK(C7213)),\"\",VLOOKUP(C7213,Sheet2!A:F,3,FALSE))","v":""},{"$f":"IF(OR(C7213=\"\",ISBLANK(C7213)),\"\",VLOOKUP(C7213,Sheet2!A:G,6,FALSE))","v":""},""]
[{"$f":"IF(OR(C7246=\"\",ISBLANK(C7246)),\"\",VLOOKUP(C7246,Sheet2!A:F,2,FALSE))","v":""},{"$f":"IF(OR(C7246=\"\",ISBLANK(C7246)),\"\",VLOOKUP(C7246,Sheet2!A:G,4,FALSE))","v":""},null,null,{"$f":"IF(OR(C7246=\"\",ISBLANK(C7246)),\"\",VLOOKUP(C7246,Sheet2!A:F,3,FALSE))","v":""},{"$f":"IF(OR(C7246=\"\",ISBLANK(C7246)),\"\",VLOOKUP(C7246,Sheet2!A:G,6,FALSE))","v":""},""]
[{"$f":"IF(OR(C7271=\"\",ISBLANK(C7271)),\"\",VLOOKUP(C7271,Sheet2!A:F,2,FALSE))","v":""},{"$f":"IF(OR(C7271=\"\",ISBLANK(C7271)),\"\",VLOOKUP(C7271,Sheet2!A:G,4,FALSE))","v":""},null,null,{"$f":"IF(OR(C7271=\"\",ISBLANK(C7271)),\"\",VLOOKUP(C7271,Sheet2!A:F,3,FALSE))","v":""},{"$f":"IF(OR(C7271=\"\",ISBLANK(C7271)),\"\",VLOOKUP(C7271,Sheet2!A:G,6,FALSE))","v":""},""]
[{"$f":"IF(OR(C7293=\"\",ISBLANK(C7293)),\"\",VLOOKUP(C7293,Sheet2!A:F,2,FALSE))","v":""},{"$f":"IF(OR(C7293=\"\",ISBLANK(C7293)),\"\",VLOOKUP(C7293,Sheet2!A:G,4,FALSE))","v":""},null,null,{"$f":"IF(OR(C7293=\"\",ISBLANK(C7293)),\"\",VLOOKUP(C7293,Sheet2!A:F,3,FALSE))","v":""},{"$f":"IF(OR(C7293=\"\",ISBLANK(C7293)),\"\",VLOOKUP(C7293,Sheet2!A:G,6,FALSE))","v":""},""]
[{"$f":"IF(OR(C7312=\"\",ISBLANK(C7312)),\"\",VLOOKUP(C7312,Sheet2!A:F,2,FALSE))","v":""},{"$f":"IF(OR(C7312=\"\",ISBLANK(C7312)),\"\",VLOOKUP(C7312,Sheet2!A:G,4,FALSE))","v":""},null,null,{"$f":"IF(OR(C7312=\"\",ISBLANK(C7312)),\"\",VLOOKUP(C7312,Sheet2!A:F,3,FALSE))","v":""},{"$f":"IF(OR(C7312=\"\",ISBLANK(C7312)),\"\",VLOOKUP(C7312,Sheet2!A:G,6,FALSE))","v":""},""]
[{"$f":"IF(OR(C7337=\"\",ISBLANK(C7337)),\"\",VLOOKUP(C7337,Sheet2!A:F,2,FALSE))","v":""},{"$f":"IF(OR(C7337=\"\",ISBLANK(C7337)),\"\",VLOOKUP(C7337,Sheet2!A:G,4,FALSE))","v":""},null,null,{"$f":"IF(OR(C7337=\"\",ISBLANK(C7337)),\"\",VLOOKUP(C7337,Sheet2!A:F,3,FALSE))","v":""},{"$f":"IF(OR(C7337=\"\",ISBLANK(C7337)),\"\",VLOOKUP(C7337,Sheet2!A:G,6,FALSE))","v":""},""]
[{"$f":"IF(OR(C7370=\"\",ISBLANK(C7370)),\"\",VLOOKUP(C7370,Sheet2!A:F,2,FALSE))","v":""},{"$f":"IF(OR(C7370=\"\",ISBLANK(C7370)),\"\",VLOOKUP(C7370,Sheet2!A:G,4,FALSE))","v":""},null,null,{"$f":"IF(OR(C7370=\"\",ISBLANK(C7370)),\"\",VLOOKUP(C7370,Sheet2!A:F,3,FALSE))","v":""},{"$f":"IF(OR(C7370=\"\",ISBLANK(C7370)),\"\",VLOOKUP(C7370,Sheet2!A:G,6,FALSE))","v":""},""]
[{"$f":"IF(OR(C7379=\"\",ISBLANK(C7379)),\"\",VLOOKUP(C7379,Sheet2!A:F,2,FALSE))","v":""},{"$f":"IF(OR(C7379=\"\",ISBLANK(C7379)),\"\",VLOOKUP(C7379,Sheet2!A:G,4,FALSE))","v":""},null,null,{"$f":"IF(OR(C7379=\"\",ISBLANK(C7379)),\"\",VLOOKUP(C7379,Sheet2!A:F,3,FALSE))","v":""},{"$f":"IF(OR(C7379=\"\",ISBLANK(C7379)),\"\",VLOOKUP(C7379,Sheet2!A:G,6,FALSE))","v":""},""]
[{"$f":"IF(OR(C7404=\"\",ISBLANK(C7404)),\"\",VLOOKUP(C7404,Sheet2!A:F,2,FALSE))","v":""},{"$f":"IF(OR(C7404=\"\",ISBLANK(C7404)),\"\",VLOOKUP(C7404,Sheet2!A:G,4,FALSE))","v":""},null,null,{"$f":"IF(OR(C7404=\"\",ISBLANK(C7404)),\"\",VLOOKUP(C7404,Sheet2!A:F,3,FALSE))","v":""},{"$f":"IF(OR(C7404=\"\",ISBLANK(C7404)),\"\",VLOOKUP(C7404,Sheet2!A:G,6,FALSE))","v":""},""]
[{"$f":"IF(OR(C7437=\"\",ISBLANK(C7437)),\"\",VLOOKUP(C7437,Sheet2!A:F,2,FALSE))","v":""},{"$f":"IF(OR(C7437=\"\",ISBLANK(C7437)),\"\",VLOOKUP(C7437,Sheet2!A:G,4,FALSE))","v":""},null,null,{"$f":"IF(OR(C7437=\"\",ISBLANK(C7437)),\"\",VLOOKUP(C7437,Sheet2!A:F,3,FALSE))","v":""},{"$f":"IF(OR(C7437=\"\",ISBLANK(C7437)),\"\",VLOOKUP(C7437,Sheet2!A:G,6,FALSE))","v":""},""]
[{"$f":"IF(OR(C7462=\"\",ISBLANK(C7462)),\"\",VLOOKUP(C7462,Sheet2!A:F,2,FALSE))","v":""},{"$f":"IF(OR(C7462=\"\",ISBLANK(C7462)),\"\",VLOOKUP(C7462,Sheet2!A:G,4,FALSE))","v":""},null,null,{"$f":"IF(OR(C7462=\"\",ISBLANK(C7462)),\"\",VLOOKUP(C7462,Sheet2!A:F,3,FALSE))","v":""},{"$f":"IF(OR(C7462=\"\",ISBLANK(C7462)),\"\",VLOOKUP(C7462,Sheet2!A:G,6,FALSE))","v":""},""]
[{"$f":"IF(OR(C7495=\"\",ISBLANK(C7495)),\"\",VLOOKUP(C7495,Sheet2!A:F,2,FALSE))","v":""},{"$f":"IF(OR(C7495=\"\",ISBLANK(C7495)),\"\",VLOOKUP(C7495,Sheet2!A:G,4,FALSE))","v":""},null,null,{"$f":"IF(OR(C7495=\"\",ISBLANK(C7495)),\"\",VLOOKUP(C7495,Sheet2!A:F,3,FALSE))","v":""},{"$f":"IF(OR(C7495=\"\",ISBLANK(C7495)),\"\",VLOOKUP(C7495,Sheet2!A:G,6,FALSE))","v":""},""]
[{"$f":"IF(OR(C7512=\"\",ISBLANK(C7512)),\"\",VLOOKUP(C7512,Sheet2!A:F,2,FALSE))","v":""},{"$f":"IF(OR(C7512=\"\",ISBLANK(C7512)),\"\",VLOOKUP(C7512,Sheet2!A:G,4,FALSE))","v":""},null,null,{"$f":"IF(OR(C7512=\"\",ISBLANK(C7512)),\"\",VLOOKUP(C7512,Sheet2!A:F,3,FALSE))","v":""},{"$f":"IF(OR(C7512=\"\",ISBLANK(C7512)),\"\",VLOOKUP(C7512,Sheet2!A:G,6,FALSE))","v":""},""]
[{"$f":"IF(OR(C7528=\"\",ISBLANK(C7528)),\"\",VLOOKUP(C7528,Sheet2!A:F,2,FALSE))","v":""},{"$f":"IF(OR(C7528=\"\",ISBLANK(C7528)),\"\",VLOOKUP(C7528,Sheet2!A:G,4,FALSE))","v":""},null,null,{"$f":"IF(OR(C7528=\"\",ISBLANK(C7528)),\"\",VLOOKUP(C7528,Sheet2!A:F,3,FALSE))","v":""},{"$f":"IF(OR(C7528=\"\",ISBLANK(C7528)),\"\",VLOOKUP(C7528,Sheet2!A:G,6,FALSE))","v":""},""]
[{"$f":"IF(OR(C7561=\"\",ISBLANK(C7561)),\"\",VLOOKUP(C7561,Sheet2!A:F,2,FALSE))","v":""},{"$f":"IF(OR(C7561=\"\",ISBLANK(C7561)),\"\",VLOOKUP(C7561,Sheet2!A:G,4,FALSE))","v":""},null,null,{"$f":"IF(OR(C7561=\"\",ISBLANK(C7561)),\"\",VLOOKUP(C7561,Sheet2!A:F,3,FALSE))","v":""},{"$f":"IF(OR(C7561=\"\",ISBLANK(C7561)),\"\",VLOOKUP(C7561,Sheet2!A:G,6,FALSE))","v":""},""]
[{"$f":"IF(OR(C7570=\"\",ISBLANK(C7570)),\"\",VLOOKUP(C7570,Sheet2!A:F,2,FALSE))","v":""},{"$f":"IF(OR(C7570=\"\",ISBLANK(C7570)),\"\",VLOOKUP(C7570,Sheet2!A:G,4,FALSE))","v":""},null,null,{"$f":"IF(OR(C7570=\"\",ISBLANK(C7570)),\"\",VLOOKUP(C7570,Sheet2!A:F,3,FALSE))","v":""},{"$f":"IF(OR(C7570=\"\",ISBLANK(C7570)),\"\",VLOOKUP(C7570,Sheet2!A:G,6,FALSE))","v":""},""]
[{"$f":"IF(OR(C7595=\"\",ISBLANK(C7595)),\"\",VLOOKUP(C7595,Sheet2!A:F,2,FALSE))","v":""},{"$f":"IF(OR(C7595=\"\",ISBLANK(C7595)),\"\",VLOOKUP(C7595,Sheet2!A:G,4,FALSE))","v":""},null,null,{"$f":"IF(OR(C7595=\"\",ISBLANK(C7595)),\"\",VLOOKUP(C7595,Sheet2!A:F,3,FALSE))","v":""},{"$f":"IF(OR(C7595=\"\",ISBLANK(C7595)),\"\",VLOOKUP(C7595,Sheet2!A:G,6,FALSE))","v":""},""]
[{"$f":"IF(OR(C7628=\"\",ISBLANK(C7628)),\"\",VLOOKUP(C7628,Sheet2!A:F,2,FALSE))","v":""},{"$f":"IF(OR(C7628=\"\",ISBLANK(C7628)),\"\",VLOOKUP(C7628,Sheet2!A:G,4,FALSE))","v":""},null,null,{"$f":"IF(OR(C7628=\"\",ISBLANK(C7628)),\"\",VLOOKUP(C7628,Sheet2!A:F,3,FALSE))","v":""},{"$f":"IF(OR(C7628=\"\",ISBLANK(C7628)),\"\",VLOOKUP(C7628,Sheet2!A:G,6,FALSE))","v":""},""]
[{"$f":"IF(OR(C7653=\"\",ISBLANK(C7653)),\"\",VLOOKUP(C7653,Sheet2!A:F,2,FALSE))","v":""},{"$f":"IF(OR(C7653=\"\",ISBLANK(C7653)),\"\",VLOOKUP(C7653,Sheet2!A:G,4,FALSE))","v":""},null,null,{"$f":"IF(OR(C7653=\"\",ISBLANK(C7653)),\"\",VLOOKUP(C7653,Sheet2!A:F,3,FALSE))","v":""},{"$f":"IF(OR(C7653=\"\",ISBLANK(C7653)),\"\",VLOOKUP(C7653,Sheet2!A:G,6,FALSE))","v":""},""]
[{"$f":"IF(OR(C7686=\"\",ISBLANK(C7686)),\"\",VLOOKUP(C7686,Sheet2!A:F,2,FALSE))","v":""},{"$f":"IF(OR(C7686=\"\",ISBLANK(C7686)),\"\",VLOOKUP(C7686,Sheet2!A:G,4,FALSE))","v":""},null,null,{"$f":"IF(OR(C7686=\"\",ISBLANK(C7686)),\"\",VLOOKUP(C7686,Sheet2!A:F,3,FALSE))","v":""},{"$f":"IF(OR(C7686=\"\",ISBLANK(C7686)),\"\",VLOOKUP(C7686,Sheet2!A:G,6,FALSE))","v":""},""]
[{"$f":"IF(OR(C7695=\"\",ISBLANK(C7695)),\"\",VLOOKUP(C7695,Sheet2!A:F,2,FALSE))","v":""},{"$f":"IF(OR(C7695=\"\",ISBLANK(C7695)),\"\",VLOOKUP(C7695,Sheet2!A:G,4,FALSE))","v":""},null,null,{"$f":"IF(OR(C7695=\"\",ISBLANK(C7695)),\"\",VLOOKUP(C7695,Sheet2!A:F,3,FALSE))","v":""},{"$f":"IF(OR(C7695=\"\",ISBLANK(C7695)),\"\",VLOOKUP(C7695,Sheet2!A:G,6,FALSE))","v":""},""]
[{"$f":"IF(OR(C7720=\"\",ISBLANK(C7720)),\"\",VLOOKUP(C7720,Sheet2!A:F,2,FALSE))","v":""},{"$f":"IF(OR(C7720=\"\",ISBLANK(C7720)),\"\",VLOOKUP(C7720,Sheet2!A:G,4,FALSE))","v":""},null,null,{"$f":"IF(OR(C7720=\"\",ISBLANK(C7720)),\"\",VLOOKUP(C7720,Sheet2!A:F,3,FALSE))","v":""},{"$f":"IF(OR(C7720=\"\",ISBLANK(C7720)),\"\",VLOOKUP(C7720,Sheet2!A:G,6,FALSE))","v":""},""]
[{"$f":"IF(OR(C7743=\"\",ISBLANK(C7743)),\"\",VLOOKUP(C7743,Sheet2!A:F,2,FALSE))","v":""},{"$f":"IF(OR(C7743=\"\",ISBLANK(C7743)),\"\",VLOOKUP(C7743,Sheet2!A:G,4,FALSE))","v":""},null,null,{"$f":"IF(OR(C7743=\"\",ISBLANK(C7743)),\"\",VLOOKUP(C7743,Sheet2!A:F,3,FALSE))","v":""},{"$f":"IF(OR(C7743=\"\",ISBLANK(C7743)),\"\",VLOOKUP(C7743,Sheet2!A:G,6,FALSE))","v":""},""]
[{"$f":"IF(OR(C7777=\"\",ISBLANK(C7777)),\"\",VLOOKUP(C7777,Sheet2!A:F,2,FALSE))","v":""},{"$f":"IF(OR(C7777=\"\",ISBLANK(C7777)),\"\",VLOOKUP(C7777,Sheet2!A:G,4,FALSE))","v":""},null,null,{"$f":"IF(OR(C7777=\"\",ISBLANK(C7777)),\"\",VLOOKUP(C7777,Sheet2!A:F,3,FALSE))","v":""},{"$f":"IF(OR(C7777=\"\",ISBLANK(C7777)),\"\",VLOOKUP(C7777,Sheet2!A:G,6,FALSE))","v":""},""]
[{"$f":"IF(OR(C7786=\"\",ISBLANK(C7786)),\"\",VLOOKUP(C7786,Sheet2!A:F,2,FALSE))","v":""},{"$f":"IF(OR(C7786=\"\",ISBLANK(C7786)),\"\",VLOOKUP(C7786,Sheet2!A:G,4,FALSE))","v":""},null,null,{"$f":"IF(OR(C7786=\"\",ISBLANK(C7786)),\"\",VLOOKUP(C7786,Sheet2!A:F,3,FALSE))","v":""},{"$f":"IF(OR(C7786=\"\",ISBLANK(C7786)),\"\",VLOOKUP(C7786,Sheet2!A:G,6,FALSE))","v":""},""]
[{"$f":"IF(OR(C7819=\"\",ISBLANK(C7819)),\"\",VLOOKUP(C7819,Sheet2!A:F,2,FALSE))","v":""},{"$f":"IF(OR(C7819=\"\",ISBLANK(C7819)),\"\",VLOOKUP(C7819,Sheet2!A:G,4,FALSE))","v":""},null,null,{"$f":"IF(OR(C7819=\"\",ISBLANK(C7819)),\"\",VLOOKUP(C7819,Sheet2!A:F,3,FALSE))","v":""},{"$f":"IF(OR(C7819=\"\",ISBLANK(C7819)),\"\",VLOOKUP(C7819,Sheet2!A:G,6,FALSE))","v":""},""]
[{"$f":"IF(OR(C7844=\"\",ISBLANK(C7844)),\"\",VLOOKUP(C7844,Sheet2!A:F,2,FALSE))","v":""},{"$f":"IF(OR(C7844=\"\",ISBLANK(C7844)),\"\",VLOOKUP(C7844,Sheet2!A:G,4,FALSE))","v":""},null,null,{"$f":"IF(OR(C7844=\"\",ISBLANK(C7844)),\"\",VLOOKUP(C7844,Sheet2!A:F,3,FALSE))","v":""},{"$f":"IF(OR(C7844=\"\",ISBLANK(C7844)),\"\",VLOOKUP(C7844,Sheet2!A:G,6,FALSE))","v":""},""]
[{"$f":"IF(OR(C7877=\"\",ISBLANK(C7877)),\"\",VLOOKUP(C7877,Sheet2!A:F,2,FALSE))","v":""},{"$f":"IF(OR(C7877=\"\",ISBLANK(C7877)),\"\",VLOOKUP(C7877,Sheet2!A:G,4,FALSE))","v":""},null,null,{"$f":"IF(OR(C7877=\"\",ISBLANK(C7877)),\"\",VLOOKUP(C7877,Sheet2!A:F,3,FALSE))","v":""},{"$f":"IF(OR(C7877=\"\",ISBLANK(C7877)),\"\",VLOOKUP(C7877,Sheet2!A:G,6,FALSE))","v":""},""]
[{"$f":"IF(OR(C7886=\"\",ISBLANK(C7886)),\"\",VLOOKUP(C7886,Sheet2!A:F,2,FALSE))","v":""},{"$f":"IF(OR(C7886=\"\",ISBLANK(C7886)),\"\",VLOOKUP(C7886,Sheet2!A:G,4,FALSE))","v":""},null,null,{"$f":"IF(OR(C7886=\"\",ISBLANK(C7886)),\"\",VLOOKUP(C7886,Sheet2!A:F,3,FALSE))","v":""},{"$f":"IF(OR(C7886=\"\",ISBLANK(C7886)),\"\",VLOOKUP(C7886,Sheet2!A:G,6,FALSE))","v":""},""]
[{"$f":"IF(OR(C7911=\"\",ISBLANK(C7911)),\"\",VLOOKUP(C7911,Sheet2!A:F,2,FALSE))","v":""},{"$f":"IF(OR(C7911=\"\",ISBLANK(C7911)),\"\",VLOOKUP(C7911,Sheet2!A:G,4,FALSE))","v":""},null,null,{"$f":"IF(OR(C7911=\"\",ISBLANK(C7911)),\"\",VLOOKUP(C7911,Sheet2!A:F,3,FALSE))","v":""},{"$f":"IF(OR(C7911=\"\",ISBLANK(C7911)),\"\",VLOOKUP(C7911,Sheet2!A:G,6,FALSE))","v":""},""]
[{"$f":"IF(OR(C7944=\"\",ISBLANK(C7944)),\"\",VLOOKUP(C7944,Sheet2!A:F,2,FALSE))","v":""},{"$f":"IF(OR(C7944=\"\",ISBLANK(C7944)),\"\",VLOOKUP(C7944,Sheet2!A:G,4,FALSE))","v":""},null,null,{"$f":"IF(OR(C7944=\"\",ISBLANK(C7944)),\"\",VLOOKUP(C7944,Sheet2!A:F,3,FALSE))","v":""},{"$f":"IF(OR(C7944=\"\",ISBLANK(C7944)),\"\",VLOOKUP(C7944,Sheet2!A:G,6,FALSE))","v":""},""]
[{"$f":"IF(OR(C7969=\"\",ISBLANK(C7969)),\"\",VLOOKUP(C7969,Sheet2!A:F,2,FALSE))","v":""},{"$f":"IF(OR(C7969=\"\",ISBLANK(C7969)),\"\",VLOOKUP(C7969,Sheet2!A:G,4,FALSE))","v":""},null,null,{"$f":"IF(OR(C7969=\"\",ISBLANK(C7969)),\"\",VLOOKUP(C7969,Sheet2!A:F,3,FALSE))","v":""},{"$f":"IF(OR(C7969=\"\",ISBLANK(C7969)),\"\",VLOOKUP(C7969,Sheet2!A:G,6,FALSE))","v":""},""]
[{"$f":"IF(OR(C7997=\"\",ISBLANK(C7997)),\"\",VLOOKUP(C7997,Sheet2!A:F,2,FALSE))","v":""},{"$f":"IF(OR(C7997=\"\",ISBLANK(C7997)),\"\",VLOOKUP(C7997,Sheet2!A:G,4,FALSE))","v":""},null,null,{"$f":"IF(OR(C7997=\"\",ISBLANK(C7997)),\"\",VLOOKUP(C7997,Sheet2!A:F,3,FALSE))","v":""},{"$f":"IF(OR(C7997=\"\",ISBLANK(C7997)),\"\",VLOOKUP(C7997,Sheet2!A:G,6,FALSE))","v":""},""]
[{"$f":"IF(OR(C8010=\"\",ISBLANK(C8010)),\"\",VLOOKUP(C8010,Sheet2!A:F,2,FALSE))","v":""},{"$f":"IF(OR(C8010=\"\",ISBLANK(C8010)),\"\",VLOOKUP(C8010,Sheet2!A:G,4,FALSE))","v":""},null,null,{"$f":"IF(OR(C8010=\"\",ISBLANK(C8010)),\"\",VLOOKUP(C8010,Sheet2!A:F,3,FALSE))","v":""},{"$f":"IF(OR(C8010=\"\",ISBLANK(C8010)),\"\",VLOOKUP(C8010,Sheet2!A:G,6,FALSE))","v":""},""]
[{"$f":"IF(OR(C8035=\"\",ISBLANK(C8035)),\"\",VLOOKUP(C8035,Sheet2!A:F,2,FALSE))","v":""},{"$f":"IF(OR(C8035=\"\",ISBLANK(C8035)),\"\",VLOOKUP(C8035,Sheet2!A:G,4,FALSE))","v":""},null,null,{"$f":"IF(OR(C8035=\"\",ISBLANK(C8035)),\"\",VLOOKUP(C8035,Sheet2!A:F,3,FALSE))","v":""},{"$f":"IF(OR(C8035=\"\",ISBLANK(C8035)),\"\",VLOOKUP(C8035,Sheet2!A:G,6,FALSE))","v":""},""]
[{"$f":"IF(OR(C8068=\"\",ISBLANK(C8068)),\"\",VLOOKUP(C8068,Sheet2!A:F,2,FALSE))","v":""},{"$f":"IF(OR(C8068=\"\",ISBLANK(C8068)),\"\",VLOOKUP(C8068,Sheet2!A:G,4,FALSE))","v":""},null,null,{"$f":"IF(OR(C8068=\"\",ISBLANK(C8068)),\"\",VLOOKUP(C8068,Sheet2!A:F,3,FALSE))","v":""},{"$f":"IF(OR(C8068=\"\",ISBLANK(C8068)),\"\",VLOOKUP(C8068,Sheet2!A:G,6,FALSE))","v":""},""]
[{"$f":"IF(OR(C8093=\"\",ISBLANK(C8093)),\"\",VLOOKUP(C8093,Sheet2!A:F,2,FALSE))","v":""},{"$f":"IF(OR(C8093=\"\",ISBLANK(C8093)),\"\",VLOOKUP(C8093,Sheet2!A:G,4,FALSE))","v":""},null,null,{"$f":"IF(OR(C8093=\"\",ISBLANK(C8093)),\"\",VLOOKUP(C8093,Sheet2!A:F,3,FALSE))","v":""},{"$f":"IF(OR(C8093=\"\",ISBLANK(C8093)),\"\",VLOOKUP(C8093,Sheet2!A:G,6,FALSE))","v":""},""]
[{"$f":"IF(OR(C8102=\"\",ISBLANK(C8102)),\"\",VLOOKUP(C8102,Sheet2!A:F,2,FALSE))","v":""},{"$f":"IF(OR(C8102=\"\",ISBLANK(C8102)),\"\",VLOOKUP(C8102,Sheet2!A:G,4,FALSE))","v":""},null,null,{"$f":"IF(OR(C8102=\"\",ISBLANK(C8102)),\"\",VLOOKUP(C8102,Sheet2!A:F,3,FALSE))","v":""},{"$f":"IF(OR(C8102=\"\",ISBLANK(C8102)),\"\",VLOOKUP(C8102,Sheet2!A:G,6,FALSE))","v":""},""]
[{"$f":"IF(OR(C8135=\"\",ISBLANK(C8135)),\"\",VLOOKUP(C8135,Sheet2!A:F,2,FALSE))","v":""},{"$f":"IF(OR(C8135=\"\",ISBLANK(C8135)),\"\",VLOOKUP(C8135,Sheet2!A:G,4,FALSE))","v":""},null,null,{"$f":"IF(OR(C8135=\"\",ISBLANK(C8135)),\"\",VLOOKUP(C8135,Sheet2!A:F,3,FALSE))","v":""},{"$f":"IF(OR(C8135=\"\",ISBLANK(C8135)),\"\",VLOOKUP(C8135,Sheet2!A:G,6,FALSE))","v":""},""]
[{"$f":"IF(OR(C8160=\"\",ISBLANK(C8160)),\"\",VLOOKUP(C8160,Sheet2!A:F,2,FALSE))","v":""},{"$f":"IF(OR(C8160=\"\",ISBLANK(C8160)),\"\",VLOOKUP(C8160,Sheet2!A:G,4,FALSE))","v":""},null,null,{"$f":"IF(OR(C8160=\"\",ISBLANK(C8160)),\"\",VLOOKUP(C8160,Sheet2!A:F,3,FALSE))","v":""},{"$f":"IF(OR(C8160=\"\",ISBLANK(C8160)),\"\",VLOOKUP(C8160,Sheet2!A:G,6,FALSE))","v":""},""]
[{"$f":"IF(OR(C8169=\"\",ISBLANK(C8169)),\"\",VLOOKUP(C8169,Sheet2!A:F,2,FALSE))","v":""},{"$f":"IF(OR(C8169=\"\",ISBLANK(C8169)),\"\",VLOOKUP(C8169,Sheet2!A:G,4,FALSE))","v":""},null,null,{"$f":"IF(OR(C8169=\"\",ISBLANK(C8169)),\"\",VLOOKUP(C8169,Sheet2!A:F,3,FALSE))","v":""},{"$f":"IF(OR(C8169=\"\",ISBLANK(C8169)),\"\",VLOOKUP(C8169,Sheet2!A:G,6,FALSE))","v":""},""]
[{"$f":"IF(OR(C8193=\"\",ISBLANK(C8193)),\"\",VLOOKUP(C8193,Sheet2!A:F,2,FALSE))","v":""},{"$f":"IF(OR(C8193=\"\",ISBLANK(C8193)),\"\",VLOOKUP(C8193,Sheet2!A:G,4,FALSE))","v":""},null,null,{"$f":"IF(OR(C8193=\"\",ISBLANK(C8193)),\"\",VLOOKUP(C8193,Sheet2!A:F,3,FALSE))","v":""},{"$f":"IF(OR(C8193=\"\",ISBLANK(C8193)),\"\",VLOOKUP(C8193,Sheet2!A:G,6,FALSE))","v":""},""]
[{"$f":"IF(OR(C8226=\"\",ISBLANK(C8226)),\"\",VLOOKUP(C8226,Sheet2!A:F,2,FALSE))","v":""},{"$f":"IF(OR(C8226=\"\",ISBLANK(C8226)),\"\",VLOOKUP(C8226,Sheet2!A:G,4,FALSE))","v":""},null,null,{"$f":"IF(OR(C8226=\"\",ISBLANK(C8226)),\"\",VLOOKUP(C8226,Sheet2!A:F,3,FALSE))","v":""},{"$f":"IF(OR(C8226=\"\",ISBLANK(C8226)),\"\",VLOOKUP(C8226,Sheet2!A:G,6,FALSE))","v":""},""]
[{"$f":"IF(OR(C8259=\"\",ISBLANK(C8259)),\"\",VLOOKUP(C8259,Sheet2!A:F,2,FALSE))","v":""},{"$f":"IF(OR(C8259=\"\",ISBLANK(C8259)),\"\",VLOOKUP(C8259,Sheet2!A:G,4,FALSE))","v":""},null,null,{"$f":"IF(OR(C8259=\"\",ISBLANK(C8259)),\"\",VLOOKUP(C8259,Sheet2!A:F,3,FALSE))","v":""},{"$f":"IF(OR(C8259=\"\",ISBLANK(C8259)),\"\",VLOOKUP(C8259,Sheet2!A:G,6,FALSE))","v":""},{"$f":"IF(F8259=0,\"\",F8259)","v":""}]
[{"$f":"IF(OR(C8284=\"\",ISBLANK(C8284)),\"\",VLOOKUP(C8284,Sheet2!A:F,2,FALSE))","v":""},{"$f":"IF(OR(C8284=\"\",ISBLANK(C8284)),\"\",VLOOKUP(C8284,Sheet2!A:G,4,FALSE))","v":""},null,null,{"$f":"IF(OR(C8284=\"\",ISBLANK(C8284)),\"\",VLOOKUP(C8284,Sheet2!A:F,3,FALSE))","v":""},{"$f":"IF(OR(C8284=\"\",ISBLANK(C8284)),\"\",VLOOKUP(C8284,Sheet2!A:G,6,FALSE))","v":""},""]
[{"$f":"IF(OR(C8293=\"\",ISBLANK(C8293)),\"\",VLOOKUP(C8293,Sheet2!A:F,2,FALSE))","v":""},{"$f":"IF(OR(C8293=\"\",ISBLANK(C8293)),\"\",VLOOKUP(C8293,Sheet2!A:G,4,FALSE))","v":""},null,null,{"$f":"IF(OR(C8293=\"\",ISBLANK(C8293)),\"\",VLOOKUP(C8293,Sheet2!A:F,3,FALSE))","v":""},{"$f":"IF(OR(C8293=\"\",ISBLANK(C8293)),\"\",VLOOKUP(C8293,Sheet2!A:G,6,FALSE))","v":""},""]
[{"$f":"IF(OR(C8326=\"\",ISBLANK(C8326)),\"\",VLOOKUP(C8326,Sheet2!A:F,2,FALSE))","v":""},{"$f":"IF(OR(C8326=\"\",ISBLANK(C8326)),\"\",VLOOKUP(C8326,Sheet2!A:G,4,FALSE))","v":""},null,null,{"$f":"IF(OR(C8326=\"\",ISBLANK(C8326)),\"\",VLOOKUP(C8326,Sheet2!A:F,3,FALSE))","v":""},{"$f":"IF(OR(C8326=\"\",ISBLANK(C8326)),\"\",VLOOKUP(C8326,Sheet2!A:G,6,FALSE))","v":""},""]
[{"$f":"IF(OR(C8351=\"\",ISBLANK(C8351)),\"\",VLOOKUP(C8351,Sheet2!A:F,2,FALSE))","v":""},{"$f":"IF(OR(C8351=\"\",ISBLANK(C8351)),\"\",VLOOKUP(C8351,Sheet2!A:G,4,FALSE))","v":""},null,null,{"$f":"IF(OR(C8351=\"\",ISBLANK(C8351)),\"\",VLOOKUP(C8351,Sheet2!A:F,3,FALSE))","v":""},{"$f":"IF(OR(C8351=\"\",ISBLANK(C8351)),\"\",VLOOKUP(C8351,Sheet2!A:G,6,FALSE))","v":""},""]
[{"$f":"IF(OR(C8360=\"\",ISBLANK(C8360)),\"\",VLOOKUP(C8360,Sheet2!A:F,2,FALSE))","v":""},{"$f":"IF(OR(C8360=\"\",ISBLANK(C8360)),\"\",VLOOKUP(C8360,Sheet2!A:G,4,FALSE))","v":""},null,null,{"$f":"IF(OR(C8360=\"\",ISBLANK(C8360)),\"\",VLOOKUP(C8360,Sheet2!A:F,3,FALSE))","v":""},{"$f":"IF(OR(C8360=\"\",ISBLANK(C8360)),\"\",VLOOKUP(C8360,Sheet2!A:G,6,FALSE))","v":""},""]
[{"$f":"IF(OR(C8393=\"\",ISBLANK(C8393)),\"\",VLOOKUP(C8393,Sheet2!A:F,2,FALSE))","v":""},{"$f":"IF(OR(C8393=\"\",ISBLANK(C8393)),\"\",VLOOKUP(C8393,Sheet2!A:G,4,FALSE))","v":""},null,null,{"$f":"IF(OR(C8393=\"\",ISBLANK(C8393)),\"\",VLOOKUP(C8393,Sheet2!A:F,3,FALSE))","v":""},{"$f":"IF(OR(C8393=\"\",ISBLANK(C8393)),\"\",VLOOKUP(C8393,Sheet2!A:G,6,FALSE))","v":""},""]
[{"$f":"IF(OR(C8418=\"\",ISBLANK(C8418)),\"\",VLOOKUP(C8418,Sheet2!A:F,2,FALSE))","v":""},{"$f":"IF(OR(C8418=\"\",ISBLANK(C8418)),\"\",VLOOKUP(C8418,Sheet2!A:G,4,FALSE))","v":""},null,null,{"$f":"IF(OR(C8418=\"\",ISBLANK(C8418)),\"\",VLOOKUP(C8418,Sheet2!A:F,3,FALSE))","v":""},{"$f":"IF(OR(C8418=\"\",ISBLANK(C8418)),\"\",VLOOKUP(C8418,Sheet2!A:G,6,FALSE))","v":""},""]
[{"$f":"IF(OR(C8447=\"\",ISBLANK(C8447)),\"\",VLOOKUP(C8447,Sheet2!A:F,2,FALSE))","v":""},{"$f":"IF(OR(C8447=\"\",ISBLANK(C8447)),\"\",VLOOKUP(C8447,Sheet2!A:G,4,FALSE))","v":""},null,null,{"$f":"IF(OR(C8447=\"\",ISBLANK(C8447)),\"\",VLOOKUP(C8447,Sheet2!A:F,3,FALSE))","v":""},{"$f":"IF(OR(C8447=\"\",ISBLANK(C8447)),\"\",VLOOKUP(C8447,Sheet2!A:G,6,FALSE))","v":""},""]
[{"$f":"IF(OR(C8475=\"\",ISBLANK(C8475)),\"\",VLOOKUP(C8475,Sheet2!A:F,2,FALSE))","v":""},{"$f":"IF(OR(C8475=\"\",ISBLANK(C8475)),\"\",VLOOKUP(C8475,Sheet2!A:G,4,FALSE))","v":""},null,null,{"$f":"IF(OR(C8475=\"\",ISBLANK(C8475)),\"\",VLOOKUP(C8475,Sheet2!A:F,3,FALSE))","v":""},{"$f":"IF(OR(C8475=\"\",ISBLANK(C8475)),\"\",VLOOKUP(C8475,Sheet2!A:G,6,FALSE))","v":""},""]
[{"$f":"IF(OR(C8484=\"\",ISBLANK(C8484)),\"\",VLOOKUP(C8484,Sheet2!A:F,2,FALSE))","v":""},{"$f":"IF(OR(C8484=\"\",ISBLANK(C8484)),\"\",VLOOKUP(C8484,Sheet2!A:G,4,FALSE))","v":""},null,null,{"$f":"IF(OR(C8484=\"\",ISBLANK(C8484)),\"\",VLOOKUP(C8484,Sheet2!A:F,3,FALSE))","v":""},{"$f":"IF(OR(C8484=\"\",ISBLANK(C8484)),\"\",VLOOKUP(C8484,Sheet2!A:G,6,FALSE))","v":""},""]
[{"$f":"IF(OR(C8517=\"\",ISBLANK(C8517)),\"\",VLOOKUP(C8517,Sheet2!A:F,2,FALSE))","v":""},{"$f":"IF(OR(C8517=\"\",ISBLANK(C8517)),\"\",VLOOKUP(C8517,Sheet2!A:G,4,FALSE))","v":""},null,null,{"$f":"IF(OR(C8517=\"\",ISBLANK(C8517)),\"\",VLOOKUP(C8517,Sheet2!A:F,3,FALSE))","v":""},{"$f":"IF(OR(C8517=\"\",ISBLANK(C8517)),\"\",VLOOKUP(C8517,Sheet2!A:G,6,FALSE))","v":""},""]
[{"$f":"IF(OR(C8542=\"\",ISBLANK(C8542)),\"\",VLOOKUP(C8542,Sheet2!A:F,2,FALSE))","v":""},{"$f":"IF(OR(C8542=\"\",ISBLANK(C8542)),\"\",VLOOKUP(C8542,Sheet2!A:G,4,FALSE))","v":""},null,null,{"$f":"IF(OR(C8542=\"\",ISBLANK(C8542)),\"\",VLOOKUP(C8542,Sheet2!A:F,3,FALSE))","v":""},{"$f":"IF(OR(C8542=\"\",ISBLANK(C8542)),\"\",VLOOKUP(C8542,Sheet2!A:G,6,FALSE))","v":""},""]
[{"$f":"IF(OR(C8551=\"\",ISBLANK(C8551)),\"\",VLOOKUP(C8551,Sheet2!A:F,2,FALSE))","v":""},{"$f":"IF(OR(C8551=\"\",ISBLANK(C8551)),\"\",VLOOKUP(C8551,Sheet2!A:G,4,FALSE))","v":""},null,null,{"$f":"IF(OR(C8551=\"\",ISBLANK(C8551)),\"\",VLOOKUP(C8551,Sheet2!A:F,3,FALSE))","v":""},{"$f":"IF(OR(C8551=\"\",ISBLANK(C8551)),\"\",VLOOKUP(C8551,Sheet2!A:G,6,FALSE))","v":""},""]
[{"$f":"IF(OR(C8576=\"\",ISBLANK(C8576)),\"\",VLOOKUP(C8576,Sheet2!A:F,2,FALSE))","v":""},{"$f":"IF(OR(C8576=\"\",ISBLANK(C8576)),\"\",VLOOKUP(C8576,Sheet2!A:G,4,FALSE))","v":""},null,null,{"$f":"IF(OR(C8576=\"\",ISBLANK(C8576)),\"\",VLOOKUP(C8576,Sheet2!A:F,3,FALSE))","v":""},{"$f":"IF(OR(C8576=\"\",ISBLANK(C8576)),\"\",VLOOKUP(C8576,Sheet2!A:G,6,FALSE))","v":""},""]
[{"$f":"IF(OR(C8609=\"\",ISBLANK(C8609)),\"\",VLOOKUP(C8609,Sheet2!A:F,2,FALSE))","v":""},{"$f":"IF(OR(C8609=\"\",ISBLANK(C8609)),\"\",VLOOKUP(C8609,Sheet2!A:G,4,FALSE))","v":""},null,null,{"$f":"IF(OR(C8609=\"\",ISBLANK(C8609)),\"\",VLOOKUP(C8609,Sheet2!A:F,3,FALSE))","v":""},{"$f":"IF(OR(C8609=\"\",ISBLANK(C8609)),\"\",VLOOKUP(C8609,Sheet2!A:G,6,FALSE))","v":""},""]
[{"$f":"IF(OR(C8642=\"\",ISBLANK(C8642)),\"\",VLOOKUP(C8642,Sheet2!A:F,2,FALSE))","v":""},{"$f":"IF(OR(C8642=\"\",ISBLANK(C8642)),\"\",VLOOKUP(C8642,Sheet2!A:G,4,FALSE))","v":""},null,null,{"$f":"IF(OR(C8642=\"\",ISBLANK(C8642)),\"\",VLOOKUP(C8642,Sheet2!A:F,3,FALSE))","v":""},{"$f":"IF(OR(C8642=\"\",ISBLANK(C8642)),\"\",VLOOKUP(C8642,Sheet2!A:G,6,FALSE))","v":""},""]
[{"$f":"IF(OR(C8655=\"\",ISBLANK(C8655)),\"\",VLOOKUP(C8655,Sheet2!A:F,2,FALSE))","v":""},{"$f":"IF(OR(C8655=\"\",ISBLANK(C8655)),\"\",VLOOKUP(C8655,Sheet2!A:G,4,FALSE))","v":""},null,null,{"$f":"IF(OR(C8655=\"\",ISBLANK(C8655)),\"\",VLOOKUP(C8655,Sheet2!A:F,3,FALSE))","v":""},{"$f":"IF(OR(C8655=\"\",ISBLANK(C8655)),\"\",VLOOKUP(C8655,Sheet2!A:G,6,FALSE))","v":""},""]
[{"$f":"IF(OR(C8675=\"\",ISBLANK(C8675)),\"\",VLOOKUP(C8675,Sheet2!A:F,2,FALSE))","v":""},{"$f":"IF(OR(C8675=\"\",ISBLANK(C8675)),\"\",VLOOKUP(C8675,Sheet2!A:G,4,FALSE))","v":""},null,null,{"$f":"IF(OR(C8675=\"\",ISBLANK(C8675)),\"\",VLOOKUP(C8675,Sheet2!A:F,3,FALSE))","v":""},{"$f":"IF(OR(C8675=\"\",ISBLANK(C8675)),\"\",VLOOKUP(C8675,Sheet2!A:G,6,FALSE))","v":""},""]
[{"$f":"IF(OR(C8708=\"\",ISBLANK(C8708)),\"\",VLOOKUP(C8708,Sheet2!A:F,2,FALSE))","v":""},{"$f":"IF(OR(C8708=\"\",ISBLANK(C8708)),\"\",VLOOKUP(C8708,Sheet2!A:G,4,FALSE))","v":""},null,null,{"$f":"IF(OR(C8708=\"\",ISBLANK(C8708)),\"\",VLOOKUP(C8708,Sheet2!A:F,3,FALSE))","v":""},{"$f":"IF(OR(C8708=\"\",ISBLANK(C8708)),\"\",VLOOKUP(C8708,Sheet2!A:G,6,FALSE))","v":""},""]
[{"$f":"IF(OR(C8733=\"\",ISBLANK(C8733)),\"\",VLOOKUP(C8733,Sheet2!A:F,2,FALSE))","v":""},{"$f":"IF(OR(C8733=\"\",ISBLANK(C8733)),\"\",VLOOKUP(C8733,Sheet2!A:G,4,FALSE))","v":""},null,null,{"$f":"IF(OR(C8733=\"\",ISBLANK(C8733)),\"\",VLOOKUP(C8733,Sheet2!A:F,3,FALSE))","v":""},{"$f":"IF(OR(C8733=\"\",ISBLANK(C8733)),\"\",VLOOKUP(C8733,Sheet2!A:G,6,FALSE))","v":""},""]
[{"$f":"IF(OR(C8742=\"\",ISBLANK(C8742)),\"\",VLOOKUP(C8742,Sheet2!A:F,2,FALSE))","v":""},{"$f":"IF(OR(C8742=\"\",ISBLANK(C8742)),\"\",VLOOKUP(C8742,Sheet2!A:G,4,FALSE))","v":""},null,null,{"$f":"IF(OR(C8742=\"\",ISBLANK(C8742)),\"\",VLOOKUP(C8742,Sheet2!A:F,3,FALSE))","v":""},{"$f":"IF(OR(C8742=\"\",ISBLANK(C8742)),\"\",VLOOKUP(C8742,Sheet2!A:G,6,FALSE))","v":""},""]
[{"$f":"IF(OR(C8767=\"\",ISBLANK(C8767)),\"\",VLOOKUP(C8767,Sheet2!A:F,2,FALSE))","v":""},{"$f":"IF(OR(C8767=\"\",ISBLANK(C8767)),\"\",VLOOKUP(C8767,Sheet2!A:G,4,FALSE))","v":""},null,null,{"$f":"IF(OR(C8767=\"\",ISBLANK(C8767)),\"\",VLOOKUP(C8767,Sheet2!A:F,3,FALSE))","v":""},{"$f":"IF(OR(C8767=\"\",ISBLANK(C8767)),\"\",VLOOKUP(C8767,Sheet2!A:G,6,FALSE))","v":""},""]
[{"$f":"IF(OR(C8800=\"\",ISBLANK(C8800)),\"\",VLOOKUP(C8800,Sheet2!A:F,2,FALSE))","v":""},{"$f":"IF(OR(C8800=\"\",ISBLANK(C8800)),\"\",VLOOKUP(C8800,Sheet2!A:G,4,FALSE))","v":""},null,null,{"$f":"IF(OR(C8800=\"\",ISBLANK(C8800)),\"\",VLOOKUP(C8800,Sheet2!A:F,3,FALSE))","v":""},{"$f":"IF(OR(C8800=\"\",ISBLANK(C8800)),\"\",VLOOKUP(C8800,Sheet2!A:G,6,FALSE))","v":""},""]
[{"$f":"IF(OR(C8833=\"\",ISBLANK(C8833)),\"\",VLOOKUP(C8833,Sheet2!A:F,2,FALSE))","v":""},{"$f":"IF(OR(C8833=\"\",ISBLANK(C8833)),\"\",VLOOKUP(C8833,Sheet2!A:G,4,FALSE))","v":""},null,null,{"$f":"IF(OR(C8833=\"\",ISBLANK(C8833)),\"\",VLOOKUP(C8833,Sheet2!A:F,3,FALSE))","v":""},{"$f":"IF(OR(C8833=\"\",ISBLANK(C8833)),\"\",VLOOKUP(C8833,Sheet2!A:G,6,FALSE))","v":""},""]
[{"$f":"IF(OR(C8858=\"\",ISBLANK(C8858)),\"\",VLOOKUP(C8858,Sheet2!A:F,2,FALSE))","v":""},{"$f":"IF(OR(C8858=\"\",ISBLANK(C8858)),\"\",VLOOKUP(C8858,Sheet2!A:G,4,FALSE))","v":""},null,null,{"$f":"IF(OR(C8858=\"\",ISBLANK(C8858)),\"\",VLOOKUP(C8858,Sheet2!A:F,3,FALSE))","v":""},{"$f":"IF(OR(C8858=\"\",ISBLANK(C8858)),\"\",VLOOKUP(C8858,Sheet2!A:G,6,FALSE))","v":""},""]
[{"$f":"IF(OR(C8867=\"\",ISBLANK(C8867)),\"\",VLOOKUP(C8867,Sheet2!A:F,2,FALSE))","v":""},{"$f":"IF(OR(C8867=\"\",ISBLANK(C8867)),\"\",VLOOKUP(C8867,Sheet2!A:G,4,FALSE))","v":""},null,null,{"$f":"IF(OR(C8867=\"\",ISBLANK(C8867)),\"\",VLOOKUP(C8867,Sheet2!A:F,3,FALSE))","v":""},{"$f":"IF(OR(C8867=\"\",ISBLANK(C8867)),\"\",VLOOKUP(C8867,Sheet2!A:G,6,FALSE))","v":""},""]
[{"$f":"IF(OR(C8886=\"\",ISBLANK(C8886)),\"\",VLOOKUP(C8886,Sheet2!A:F,2,FALSE))","v":""},{"$f":"IF(OR(C8886=\"\",ISBLANK(C8886)),\"\",VLOOKUP(C8886,Sheet2!A:G,4,FALSE))","v":""},null,null,{"$f":"IF(OR(C8886=\"\",ISBLANK(C8886)),\"\",VLOOKUP(C8886,Sheet2!A:F,3,FALSE))","v":""},{"$f":"IF(OR(C8886=\"\",ISBLANK(C8886)),\"\",VLOOKUP(C8886,Sheet2!A:G,6,FALSE))","v":""},""]
[{"$f":"IF(OR(C8924=\"\",ISBLANK(C8924)),\"\",VLOOKUP(C8924,Sheet2!A:F,2,FALSE))","v":""},{"$f":"IF(OR(C8924=\"\",ISBLANK(C8924)),\"\",VLOOKUP(C8924,Sheet2!A:G,4,FALSE))","v":""},null,null,{"$f":"IF(OR(C8924=\"\",ISBLANK(C8924)),\"\",VLOOKUP(C8924,Sheet2!A:F,3,FALSE))","v":""},{"$f":"IF(OR(C8924=\"\",ISBLANK(C8924)),\"\",VLOOKUP(C8924,Sheet2!A:G,6,FALSE))","v":""},""]
[{"$f":"IF(OR(C8933=\"\",ISBLANK(C8933)),\"\",VLOOKUP(C8933,Sheet2!A:F,2,FALSE))","v":""},{"$f":"IF(OR(C8933=\"\",ISBLANK(C8933)),\"\",VLOOKUP(C8933,Sheet2!A:G,4,FALSE))","v":""},null,null,{"$f":"IF(OR(C8933=\"\",ISBLANK(C8933)),\"\",VLOOKUP(C8933,Sheet2!A:F,3,FALSE))","v":""},{"$f":"IF(OR(C8933=\"\",ISBLANK(C8933)),\"\",VLOOKUP(C8933,Sheet2!A:G,6,FALSE))","v":""},""]
[{"$f":"IF(OR(C8958=\"\",ISBLANK(C8958)),\"\",VLOOKUP(C8958,Sheet2!A:F,2,FALSE))","v":""},{"$f":"IF(OR(C8958=\"\",ISBLANK(C8958)),\"\",VLOOKUP(C8958,Sheet2!A:G,4,FALSE))","v":""},null,null,{"$f":"IF(OR(C8958=\"\",ISBLANK(C8958)),\"\",VLOOKUP(C8958,Sheet2!A:F,3,FALSE))","v":""},{"$f":"IF(OR(C8958=\"\",ISBLANK(C8958)),\"\",VLOOKUP(C8958,Sheet2!A:G,6,FALSE))","v":""},""]
[{"$f":"IF(OR(C8991=\"\",ISBLANK(C8991)),\"\",VLOOKUP(C8991,Sheet2!A:F,2,FALSE))","v":""},{"$f":"IF(OR(C8991=\"\",ISBLANK(C8991)),\"\",VLOOKUP(C8991,Sheet2!A:G,4,FALSE))","v":""},null,null,{"$f":"IF(OR(C8991=\"\",ISBLANK(C8991)),\"\",VLOOKUP(C8991,Sheet2!A:F,3,FALSE))","v":""},{"$f":"IF(OR(C8991=\"\",ISBLANK(C8991)),\"\",VLOOKUP(C8991,Sheet2!A:G,6,FALSE))","v":""},""]
[{"$f":"IF(OR(C9024=\"\",ISBLANK(C9024)),\"\",VLOOKUP(C9024,Sheet2!A:F,2,FALSE))","v":""},{"$f":"IF(OR(C9024=\"\",ISBLANK(C9024)),\"\",VLOOKUP(C9024,Sheet2!A:G,4,FALSE))","v":""},null,null,{"$f":"IF(OR(C9024=\"\",ISBLANK(C9024)),\"\",VLOOKUP(C9024,Sheet2!A:F,3,FALSE))","v":""},{"$f":"IF(OR(C9024=\"\",ISBLANK(C9024)),\"\",VLOOKUP(C9024,Sheet2!A:G,6,FALSE))","v":""},""]
[{"$f":"IF(OR(C9049=\"\",ISBLANK(C9049)),\"\",VLOOKUP(C9049,Sheet2!A:F,2,FALSE))","v":""},{"$f":"IF(OR(C9049=\"\",ISBLANK(C9049)),\"\",VLOOKUP(C9049,Sheet2!A:G,4,FALSE))","v":""},null,null,{"$f":"IF(OR(C9049=\"\",ISBLANK(C9049)),\"\",VLOOKUP(C9049,Sheet2!A:F,3,FALSE))","v":""},{"$f":"IF(OR(C9049=\"\",ISBLANK(C9049)),\"\",VLOOKUP(C9049,Sheet2!A:G,6,FALSE))","v":""},""]
[{"$f":"IF(OR(C9058=\"\",ISBLANK(C9058)),\"\",VLOOKUP(C9058,Sheet2!A:F,2,FALSE))","v":""},{"$f":"IF(OR(C9058=\"\",ISBLANK(C9058)),\"\",VLOOKUP(C9058,Sheet2!A:G,4,FALSE))","v":""},null,null,{"$f":"IF(OR(C9058=\"\",ISBLANK(C9058)),\"\",VLOOKUP(C9058,Sheet2!A:F,3,FALSE))","v":""},{"$f":"IF(OR(C9058=\"\",ISBLANK(C9058)),\"\",VLOOKUP(C9058,Sheet2!A:G,6,FALSE))","v":""},""]
[{"$f":"IF(OR(C9083=\"\",ISBLANK(C9083)),\"\",VLOOKUP(C9083,Sheet2!A:F,2,FALSE))","v":""},{"$f":"IF(OR(C9083=\"\",ISBLANK(C9083)),\"\",VLOOKUP(C9083,Sheet2!A:G,4,FALSE))","v":""},null,null,{"$f":"IF(OR(C9083=\"\",ISBLANK(C9083)),\"\",VLOOKUP(C9083,Sheet2!A:F,3,FALSE))","v":""},{"$f":"IF(OR(C9083=\"\",ISBLANK(C9083)),\"\",VLOOKUP(C9083,Sheet2!A:G,6,FALSE))","v":""},""]
[{"$f":"IF(OR(C9116=\"\",ISBLANK(C9116)),\"\",VLOOKUP(C9116,Sheet2!A:F,2,FALSE))","v":""},{"$f":"IF(OR(C9116=\"\",ISBLANK(C9116)),\"\",VLOOKUP(C9116,Sheet2!A:G,4,FALSE))","v":""},null,null,{"$f":"IF(OR(C9116=\"\",ISBLANK(C9116)),\"\",VLOOKUP(C9116,Sheet2!A:F,3,FALSE))","v":""},{"$f":"IF(OR(C9116=\"\",ISBLANK(C9116)),\"\",VLOOKUP(C9116,Sheet2!A:G,6,FALSE))","v":""},""]
[{"$f":"IF(OR(C9128=\"\",ISBLANK(C9128)),\"\",VLOOKUP(C9128,Sheet2!A:F,2,FALSE))","v":""},{"$f":"IF(OR(C9128=\"\",ISBLANK(C9128)),\"\",VLOOKUP(C9128,Sheet2!A:G,4,FALSE))","v":""},null,null,{"$f":"IF(OR(C9128=\"\",ISBLANK(C9128)),\"\",VLOOKUP(C9128,Sheet2!A:F,3,FALSE))","v":""},{"$f":"IF(OR(C9128=\"\",ISBLANK(C9128)),\"\",VLOOKUP(C9128,Sheet2!A:G,6,FALSE))","v":""},""]
[{"$f":"IF(OR(C9149=\"\",ISBLANK(C9149)),\"\",VLOOKUP(C9149,Sheet2!A:F,2,FALSE))","v":""},{"$f":"IF(OR(C9149=\"\",ISBLANK(C9149)),\"\",VLOOKUP(C9149,Sheet2!A:G,4,FALSE))","v":""},null,null,{"$f":"IF(OR(C9149=\"\",ISBLANK(C9149)),\"\",VLOOKUP(C9149,Sheet2!A:F,3,FALSE))","v":""},{"$f":"IF(OR(C9149=\"\",ISBLANK(C9149)),\"\",VLOOKUP(C9149,Sheet2!A:G,6,FALSE))","v":""},""]
[{"$f":"IF(OR(C9182=\"\",ISBLANK(C9182)),\"\",VLOOKUP(C9182,Sheet2!A:F,2,FALSE))","v":""},{"$f":"IF(OR(C9182=\"\",ISBLANK(C9182)),\"\",VLOOKUP(C9182,Sheet2!A:G,4,FALSE))","v":""},null,null,{"$f":"IF(OR(C9182=\"\",ISBLANK(C9182)),\"\",VLOOKUP(C9182,Sheet2!A:F,3,FALSE))","v":""},{"$f":"IF(OR(C9182=\"\",ISBLANK(C9182)),\"\",VLOOKUP(C9182,Sheet2!A:G,6,FALSE))","v":""},""]
[{"$f":"IF(OR(C9215=\"\",ISBLANK(C9215)),\"\",VLOOKUP(C9215,Sheet2!A:F,2,FALSE))","v":""},{"$f":"IF(OR(C9215=\"\",ISBLANK(C9215)),\"\",VLOOKUP(C9215,Sheet2!A:G,4,FALSE))","v":""},null,null,{"$f":"IF(OR(C9215=\"\",ISBLANK(C9215)),\"\",VLOOKUP(C9215,Sheet2!A:F,3,FALSE))","v":""},{"$f":"IF(OR(C9215=\"\",ISBLANK(C9215)),\"\",VLOOKUP(C9215,Sheet2!A:G,6,FALSE))","v":""},""]
[{"$f":"IF(OR(C9240=\"\",ISBLANK(C9240)),\"\",VLOOKUP(C9240,Sheet2!A:F,2,FALSE))","v":""},{"$f":"IF(OR(C9240=\"\",ISBLANK(C9240)),\"\",VLOOKUP(C9240,Sheet2!A:G,4,FALSE))","v":""},null,null,{"$f":"IF(OR(C9240=\"\",ISBLANK(C9240)),\"\",VLOOKUP(C9240,Sheet2!A:F,3,FALSE))","v":""},{"$f":"IF(OR(C9240=\"\",ISBLANK(C9240)),\"\",VLOOKUP(C9240,Sheet2!A:G,6,FALSE))","v":""},""]
[{"$f":"IF(OR(C9249=\"\",ISBLANK(C9249)),\"\",VLOOKUP(C9249,Sheet2!A:F,2,FALSE))","v":""},{"$f":"IF(OR(C9249=\"\",ISBLANK(C9249)),\"\",VLOOKUP(C9249,Sheet2!A:G,4,FALSE))","v":""},null,null,{"$f":"IF(OR(C9249=\"\",ISBLANK(C9249)),\"\",VLOOKUP(C9249,Sheet2!A:F,3,FALSE))","v":""},{"$f":"IF(OR(C9249=\"\",ISBLANK(C9249)),\"\",VLOOKUP(C9249,Sheet2!A:G,6,FALSE))","v":""},""]
[{"$f":"IF(OR(C9274=\"\",ISBLANK(C9274)),\"\",VLOOKUP(C9274,Sheet2!A:F,2,FALSE))","v":""},{"$f":"IF(OR(C9274=\"\",ISBLANK(C9274)),\"\",VLOOKUP(C9274,Sheet2!A:G,4,FALSE))","v":""},null,null,{"$f":"IF(OR(C9274=\"\",ISBLANK(C9274)),\"\",VLOOKUP(C9274,Sheet2!A:F,3,FALSE))","v":""},{"$f":"IF(OR(C9274=\"\",ISBLANK(C9274)),\"\",VLOOKUP(C9274,Sheet2!A:G,6,FALSE))","v":""},""]
[{"$f":"IF(OR(C9307=\"\",ISBLANK(C9307)),\"\",VLOOKUP(C9307,Sheet2!A:F,2,FALSE))","v":""},{"$f":"IF(OR(C9307=\"\",ISBLANK(C9307)),\"\",VLOOKUP(C9307,Sheet2!A:G,4,FALSE))","v":""},null,null,{"$f":"IF(OR(C9307=\"\",ISBLANK(C9307)),\"\",VLOOKUP(C9307,Sheet2!A:F,3,FALSE))","v":""},{"$f":"IF(OR(C9307=\"\",ISBLANK(C9307)),\"\",VLOOKUP(C9307,Sheet2!A:G,6,FALSE))","v":""},""]
[{"$f":"IF(OR(C9316=\"\",ISBLANK(C9316)),\"\",VLOOKUP(C9316,Sheet2!A:F,2,FALSE))","v":""},{"$f":"IF(OR(C9316=\"\",ISBLANK(C9316)),\"\",VLOOKUP(C9316,Sheet2!A:G,4,FALSE))","v":""},null,null,{"$f":"IF(OR(C9316=\"\",ISBLANK(C9316)),\"\",VLOOKUP(C9316,Sheet2!A:F,3,FALSE))","v":""},{"$f":"IF(OR(C9316=\"\",ISBLANK(C9316)),\"\",VLOOKUP(C9316,Sheet2!A:G,6,FALSE))","v":""},""]
[{"$f":"IF(OR(C9359=\"\",ISBLANK(C9359)),\"\",VLOOKUP(C9359,Sheet2!A:F,2,FALSE))","v":""},{"$f":"IF(OR(C9359=\"\",ISBLANK(C9359)),\"\",VLOOKUP(C9359,Sheet2!A:G,4,FALSE))","v":""},null,null,{"$f":"IF(OR(C9359=\"\",ISBLANK(C9359)),\"\",VLOOKUP(C9359,Sheet2!A:F,3,FALSE))","v":""},{"$f":"IF(OR(C9359=\"\",ISBLANK(C9359)),\"\",VLOOKUP(C9359,Sheet2!A:G,6,FALSE))","v":""},""]
[{"$f":"IF(OR(C9373=\"\",ISBLANK(C9373)),\"\",VLOOKUP(C9373,Sheet2!A:F,2,FALSE))","v":""},{"$f":"IF(OR(C9373=\"\",ISBLANK(C9373)),\"\",VLOOKUP(C9373,Sheet2!A:G,4,FALSE))","v":""},null,null,{"$f":"IF(OR(C9373=\"\",ISBLANK(C9373)),\"\",VLOOKUP(C9373,Sheet2!A:F,3,FALSE))","v":""},{"$f":"IF(OR(C9373=\"\",ISBLANK(C9373)),\"\",VLOOKUP(C9373,Sheet2!A:G,6,FALSE))","v":""},""]
[{"$f":"IF(OR(C9398=\"\",ISBLANK(C9398)),\"\",VLOOKUP(C9398,Sheet2!A:F,2,FALSE))","v":""},{"$f":"IF(OR(C9398=\"\",ISBLANK(C9398)),\"\",VLOOKUP(C9398,Sheet2!A:G,4,FALSE))","v":""},null,null,{"$f":"IF(OR(C9398=\"\",ISBLANK(C9398)),\"\",VLOOKUP(C9398,Sheet2!A:F,3,FALSE))","v":""},{"$f":"IF(OR(C9398=\"\",ISBLANK(C9398)),\"\",VLOOKUP(C9398,Sheet2!A:G,6,FALSE))","v":""},""]
[{"$f":"IF(OR(C9431=\"\",ISBLANK(C9431)),\"\",VLOOKUP(C9431,Sheet2!A:F,2,FALSE))","v":""},{"$f":"IF(OR(C9431=\"\",ISBLANK(C9431)),\"\",VLOOKUP(C9431,Sheet2!A:G,4,FALSE))","v":""},null,null,{"$f":"IF(OR(C9431=\"\",ISBLANK(C9431)),\"\",VLOOKUP(C9431,Sheet2!A:F,3,FALSE))","v":""},{"$f":"IF(OR(C9431=\"\",ISBLANK(C9431)),\"\",VLOOKUP(C9431,Sheet2!A:G,6,FALSE))","v":""},""]
[{"$f":"IF(OR(C9440=\"\",ISBLANK(C9440)),\"\",VLOOKUP(C9440,Sheet2!A:F,2,FALSE))","v":""},{"$f":"IF(OR(C9440=\"\",ISBLANK(C9440)),\"\",VLOOKUP(C9440,Sheet2!A:G,4,FALSE))","v":""},null,null,{"$f":"IF(OR(C9440=\"\",ISBLANK(C9440)),\"\",VLOOKUP(C9440,Sheet2!A:F,3,FALSE))","v":""},{"$f":"IF(OR(C9440=\"\",ISBLANK(C9440)),\"\",VLOOKUP(C9440,Sheet2!A:G,6,FALSE))","v":""},""]
[{"$f":"IF(OR(C9465=\"\",ISBLANK(C9465)),\"\",VLOOKUP(C9465,Sheet2!A:F,2,FALSE))","v":""},{"$f":"IF(OR(C9465=\"\",ISBLANK(C9465)),\"\",VLOOKUP(C9465,Sheet2!A:G,4,FALSE))","v":""},null,null,{"$f":"IF(OR(C9465=\"\",ISBLANK(C9465)),\"\",VLOOKUP(C9465,Sheet2!A:F,3,FALSE))","v":""},{"$f":"IF(OR(C9465=\"\",ISBLANK(C9465)),\"\",VLOOKUP(C9465,Sheet2!A:G,6,FALSE))","v":""},""]
[{"$f":"IF(OR(C9498=\"\",ISBLANK(C9498)),\"\",VLOOKUP(C9498,Sheet2!A:F,2,FALSE))","v":""},{"$f":"IF(OR(C9498=\"\",ISBLANK(C9498)),\"\",VLOOKUP(C9498,Sheet2!A:G,4,FALSE))","v":""},null,null,{"$f":"IF(OR(C9498=\"\",ISBLANK(C9498)),\"\",VLOOKUP(C9498,Sheet2!A:F,3,FALSE))","v":""},{"$f":"IF(OR(C9498=\"\",ISBLANK(C9498)),\"\",VLOOKUP(C9498,Sheet2!A:G,6,FALSE))","v":""},""]
[{"$f":"IF(OR(C9507=\"\",ISBLANK(C9507)),\"\",VLOOKUP(C9507,Sheet2!A:F,2,FALSE))","v":""},{"$f":"IF(OR(C9507=\"\",ISBLANK(C9507)),\"\",VLOOKUP(C9507,Sheet2!A:G,4,FALSE))","v":""},null,null,{"$f":"IF(OR(C9507=\"\",ISBLANK(C9507)),\"\",VLOOKUP(C9507,Sheet2!A:F,3,FALSE))","v":""},{"$f":"IF(OR(C9507=\"\",ISBLANK(C9507)),\"\",VLOOKUP(C9507,Sheet2!A:G,6,FALSE))","v":""},""]
[{"$f":"IF(OR(C9532=\"\",ISBLANK(C9532)),\"\",VLOOKUP(C9532,Sheet2!A:F,2,FALSE))","v":""},{"$f":"IF(OR(C9532=\"\",ISBLANK(C9532)),\"\",VLOOKUP(C9532,Sheet2!A:G,4,FALSE))","v":""},null,null,{"$f":"IF(OR(C9532=\"\",ISBLANK(C9532)),\"\",VLOOKUP(C9532,Sheet2!A:F,3,FALSE))","v":""},{"$f":"IF(OR(C9532=\"\",ISBLANK(C9532)),\"\",VLOOKUP(C9532,Sheet2!A:G,6,FALSE))","v":""},""]
[{"$f":"IF(OR(C9565=\"\",ISBLANK(C9565)),\"\",VLOOKUP(C9565,Sheet2!A:F,2,FALSE))","v":""},{"$f":"IF(OR(C9565=\"\",ISBLANK(C9565)),\"\",VLOOKUP(C9565,Sheet2!A:G,4,FALSE))","v":""},null,null,{"$f":"IF(OR(C9565=\"\",ISBLANK(C9565)),\"\",VLOOKUP(C9565,Sheet2!A:F,3,FALSE))","v":""},{"$f":"IF(OR(C9565=\"\",ISBLANK(C9565)),\"\",VLOOKUP(C9565,Sheet2!A:G,6,FALSE))","v":""},""]
[{"$f":"IF(OR(C9590=\"\",ISBLANK(C9590)),\"\",VLOOKUP(C9590,Sheet2!A:F,2,FALSE))","v":""},{"$f":"IF(OR(C9590=\"\",ISBLANK(C9590)),\"\",VLOOKUP(C9590,Sheet2!A:G,4,FALSE))","v":""},null,null,{"$f":"IF(OR(C9590=\"\",ISBLANK(C9590)),\"\",VLOOKUP(C9590,Sheet2!A:F,3,FALSE))","v":""},{"$f":"IF(OR(C9590=\"\",ISBLANK(C9590)),\"\",VLOOKUP(C9590,Sheet2!A:G,6,FALSE))","v":""},""]
[{"$f":"IF(OR(C9622=\"\",ISBLANK(C9622)),\"\",VLOOKUP(C9622,Sheet2!A:F,2,FALSE))","v":""},{"$f":"IF(OR(C9622=\"\",ISBLANK(C9622)),\"\",VLOOKUP(C9622,Sheet2!A:G,4,FALSE))","v":""},null,null,{"$f":"IF(OR(C9622=\"\",ISBLANK(C9622)),\"\",VLOOKUP(C9622,Sheet2!A:F,3,FALSE))","v":""},{"$f":"IF(OR(C9622=\"\",ISBLANK(C9622)),\"\",VLOOKUP(C9622,Sheet2!A:G,6,FALSE))","v":""},""]
[{"$f":"IF(OR(C9631=\"\",ISBLANK(C9631)),\"\",VLOOKUP(C9631,Sheet2!A:F,2,FALSE))","v":""},{"$f":"IF(OR(C9631=\"\",ISBLANK(C9631)),\"\",VLOOKUP(C9631,Sheet2!A:G,4,FALSE))","v":""},null,null,{"$f":"IF(OR(C9631=\"\",ISBLANK(C9631)),\"\",VLOOKUP(C9631,Sheet2!A:F,3,FALSE))","v":""},{"$f":"IF(OR(C9631=\"\",ISBLANK(C9631)),\"\",VLOOKUP(C9631,Sheet2!A:G,6,FALSE))","v":""},""]
[{"$f":"IF(OR(C9656=\"\",ISBLANK(C9656)),\"\",VLOOKUP(C9656,Sheet2!A:F,2,FALSE))","v":""},{"$f":"IF(OR(C9656=\"\",ISBLANK(C9656)),\"\",VLOOKUP(C9656,Sheet2!A:G,4,FALSE))","v":""},null,null,{"$f":"IF(OR(C9656=\"\",ISBLANK(C9656)),\"\",VLOOKUP(C9656,Sheet2!A:F,3,FALSE))","v":""},{"$f":"IF(OR(C9656=\"\",ISBLANK(C9656)),\"\",VLOOKUP(C9656,Sheet2!A:G,6,FALSE))","v":""},""]
[{"$f":"IF(OR(C9689=\"\",ISBLANK(C9689)),\"\",VLOOKUP(C9689,Sheet2!A:F,2,FALSE))","v":""},{"$f":"IF(OR(C9689=\"\",ISBLANK(C9689)),\"\",VLOOKUP(C9689,Sheet2!A:G,4,FALSE))","v":""},null,null,{"$f":"IF(OR(C9689=\"\",ISBLANK(C9689)),\"\",VLOOKUP(C9689,Sheet2!A:F,3,FALSE))","v":""},{"$f":"IF(OR(C9689=\"\",ISBLANK(C9689)),\"\",VLOOKUP(C9689,Sheet2!A:G,6,FALSE))","v":""},""]
[{"$f":"IF(OR(C9698=\"\",ISBLANK(C9698)),\"\",VLOOKUP(C9698,Sheet2!A:F,2,FALSE))","v":""},{"$f":"IF(OR(C9698=\"\",ISBLANK(C9698)),\"\",VLOOKUP(C9698,Sheet2!A:G,4,FALSE))","v":""},null,null,{"$f":"IF(OR(C9698=\"\",ISBLANK(C9698)),\"\",VLOOKUP(C9698,Sheet2!A:F,3,FALSE))","v":""},{"$f":"IF(OR(C9698=\"\",ISBLANK(C9698)),\"\",VLOOKUP(C9698,Sheet2!A:G,6,FALSE))","v":""},""]
[{"$f":"IF(OR(C9723=\"\",ISBLANK(C9723)),\"\",VLOOKUP(C9723,Sheet2!A:F,2,FALSE))","v":""},{"$f":"IF(OR(C9723=\"\",ISBLANK(C9723)),\"\",VLOOKUP(C9723,Sheet2!A:G,4,FALSE))","v":""},null,null,{"$f":"IF(OR(C9723=\"\",ISBLANK(C9723)),\"\",VLOOKUP(C9723,Sheet2!A:F,3,FALSE))","v":""},{"$f":"IF(OR(C9723=\"\",ISBLANK(C9723)),\"\",VLOOKUP(C9723,Sheet2!A:G,6,FALSE))","v":""},""]
[{"$f":"IF(OR(C9756=\"\",ISBLANK(C9756)),\"\",VLOOKUP(C9756,Sheet2!A:F,2,FALSE))","v":""},{"$f":"IF(OR(C9756=\"\",ISBLANK(C9756)),\"\",VLOOKUP(C9756,Sheet2!A:G,4,FALSE))","v":""},null,null,{"$f":"IF(OR(C9756=\"\",ISBLANK(C9756)),\"\",VLOOKUP(C9756,Sheet2!A:F,3,FALSE))","v":""},{"$f":"IF(OR(C9756=\"\",ISBLANK(C9756)),\"\",VLOOKUP(C9756,Sheet2!A:G,6,FALSE))","v":""},""]
[{"$f":"IF(OR(C9781=\"\",ISBLANK(C9781)),\"\",VLOOKUP(C9781,Sheet2!A:F,2,FALSE))","v":""},{"$f":"IF(OR(C9781=\"\",ISBLANK(C9781)),\"\",VLOOKUP(C9781,Sheet2!A:G,4,FALSE))","v":""},null,null,{"$f":"IF(OR(C9781=\"\",ISBLANK(C9781)),\"\",VLOOKUP(C9781,Sheet2!A:F,3,FALSE))","v":""},{"$f":"IF(OR(C9781=\"\",ISBLANK(C9781)),\"\",VLOOKUP(C9781,Sheet2!A:G,6,FALSE))","v":""},""]
[{"$f":"IF(OR(C9809=\"\",ISBLANK(C9809)),\"\",VLOOKUP(C9809,Sheet2!A:F,2,FALSE))","v":""},{"$f":"IF(OR(C9809=\"\",ISBLANK(C9809)),\"\",VLOOKUP(C9809,Sheet2!A:G,4,FALSE))","v":""},null,null,{"$f":"IF(OR(C9809=\"\",ISBLANK(C9809)),\"\",VLOOKUP(C9809,Sheet2!A:F,3,FALSE))","v":""},{"$f":"IF(OR(C9809=\"\",ISBLANK(C9809)),\"\",VLOOKUP(C9809,Sheet2!A:G,6,FALSE))","v":""},""]
[{"$f":"IF(OR(C9822=\"\",ISBLANK(C9822)),\"\",VLOOKUP(C9822,Sheet2!A:F,2,FALSE))","v":""},{"$f":"IF(OR(C9822=\"\",ISBLANK(C9822)),\"\",VLOOKUP(C9822,Sheet2!A:G,4,FALSE))","v":""},null,null,{"$f":"IF(OR(C9822=\"\",ISBLANK(C9822)),\"\",VLOOKUP(C9822,Sheet2!A:F,3,FALSE))","v":""},{"$f":"IF(OR(C9822=\"\",ISBLANK(C9822)),\"\",VLOOKUP(C9822,Sheet2!A:G,6,FALSE))","v":""},""]
[{"$f":"IF(OR(C9847=\"\",ISBLANK(C9847)),\"\",VLOOKUP(C9847,Sheet2!A:F,2,FALSE))","v":""},{"$f":"IF(OR(C9847=\"\",ISBLANK(C9847)),\"\",VLOOKUP(C9847,Sheet2!A:G,4,FALSE))","v":""},null,null,{"$f":"IF(OR(C9847=\"\",ISBLANK(C9847)),\"\",VLOOKUP(C9847,Sheet2!A:F,3,FALSE))","v":""},{"$f":"IF(OR(C9847=\"\",ISBLANK(C9847)),\"\",VLOOKUP(C9847,Sheet2!A:G,6,FALSE))","v":""},""]
[{"$f":"IF(OR(C9880=\"\",ISBLANK(C9880)),\"\",VLOOKUP(C9880,Sheet2!A:F,2,FALSE))","v":""},{"$f":"IF(OR(C9880=\"\",ISBLANK(C9880)),\"\",VLOOKUP(C9880,Sheet2!A:G,4,FALSE))","v":""},null,null,{"$f":"IF(OR(C9880=\"\",ISBLANK(C9880)),\"\",VLOOKUP(C9880,Sheet2!A:F,3,FALSE))","v":""},{"$f":"IF(OR(C9880=\"\",ISBLANK(C9880)),\"\",VLOOKUP(C9880,Sheet2!A:G,6,FALSE))","v":""},""]
[{"$f":"IF(OR(C9905=\"\",ISBLANK(C9905)),\"\",VLOOKUP(C9905,Sheet2!A:F,2,FALSE))","v":""},{"$f":"IF(OR(C9905=\"\",ISBLANK(C9905)),\"\",VLOOKUP(C9905,Sheet2!A:G,4,FALSE))","v":""},null,null,{"$f":"IF(OR(C9905=\"\",ISBLANK(C9905)),\"\",VLOOKUP(C9905,Sheet2!A:F,3,FALSE))","v":""},{"$f":"IF(OR(C9905=\"\",ISBLANK(C9905)),\"\",VLOOKUP(C9905,Sheet2!A:G,6,FALSE))","v":""},""]
[{"$f":"IF(OR(C9914=\"\",ISBLANK(C9914)),\"\",VLOOKUP(C9914,Sheet2!A:F,2,FALSE))","v":""},{"$f":"IF(OR(C9914=\"\",ISBLANK(C9914)),\"\",VLOOKUP(C9914,Sheet2!A:G,4,FALSE))","v":""},null,null,{"$f":"IF(OR(C9914=\"\",ISBLANK(C9914)),\"\",VLOOKUP(C9914,Sheet2!A:F,3,FALSE))","v":""},{"$f":"IF(OR(C9914=\"\",ISBLANK(C9914)),\"\",VLOOKUP(C9914,Sheet2!A:G,6,FALSE))","v":""},""]
[{"$f":"IF(OR(C9947=\"\",ISBLANK(C9947)),\"\",VLOOKUP(C9947,Sheet2!A:F,2,FALSE))","v":""},{"$f":"IF(OR(C9947=\"\",ISBLANK(C9947)),\"\",VLOOKUP(C9947,Sheet2!A:G,4,FALSE))","v":""},null,null,{"$f":"IF(OR(C9947=\"\",ISBLANK(C9947)),\"\",VLOOKUP(C9947,Sheet2!A:F,3,FALSE))","v":""},{"$f":"IF(OR(C9947=\"\",ISBLANK(C9947)),\"\",VLOOKUP(C9947,Sheet2!A:G,6,FALSE))","v":""},""]
[{"$f":"IF(OR(C9972=\"\",ISBLANK(C9972)),\"\",VLOOKUP(C9972,Sheet2!A:F,2,FALSE))","v":""},{"$f":"IF(OR(C9972=\"\",ISBLANK(C9972)),\"\",VLOOKUP(C9972,Sheet2!A:G,4,FALSE))","v":""},null,null,{"$f":"IF(OR(C9972=\"\",ISBLANK(C9972)),\"\",VLOOKUP(C9972,Sheet2!A:F,3,FALSE))","v":""},{"$f":"IF(OR(C9972=\"\",ISBLANK(C9972)),\"\",VLOOKUP(C9972,Sheet2!A:G,6,FALSE))","v":""},""]
[{"$f":"IF(OR(C10005=\"\",ISBLANK(C10005)),\"\",VLOOKUP(C10005,Sheet2!A:F,2,FALSE))","v":""},{"$f":"IF(OR(C10005=\"\",ISBLANK(C10005)),\"\",VLOOKUP(C10005,Sheet2!A:G,4,FALSE))","v":""},null,null,{"$f":"IF(OR(C10005=\"\",ISBLANK(C10005)),\"\",VLOOKUP(C10005,Sheet2!A:F,3,FALSE))","v":""},{"$f":"IF(OR(C10005=\"\",ISBLANK(C10005)),\"\",VLOOKUP(C10005,Sheet2!A:G,6,FALSE))","v":""},""]
[{"$f":"IF(OR(C10014=\"\",ISBLANK(C10014)),\"\",VLOOKUP(C10014,Sheet2!A:F,2,FALSE))","v":""},{"$f":"IF(OR(C10014=\"\",ISBLANK(C10014)),\"\",VLOOKUP(C10014,Sheet2!A:G,4,FALSE))","v":""},null,null,{"$f":"IF(OR(C10014=\"\",ISBLANK(C10014)),\"\",VLOOKUP(C10014,Sheet2!A:F,3,FALSE))","v":""},{"$f":"IF(OR(C10014=\"\",ISBLANK(C10014)),\"\",VLOOKUP(C10014,Sheet2!A:G,6,FALSE))","v":""},""]
[{"$f":"IF(OR(C10040=\"\",ISBLANK(C10040)),\"\",VLOOKUP(C10040,Sheet2!A:F,2,FALSE))","v":""},{"$f":"IF(OR(C10040=\"\",ISBLANK(C10040)),\"\",VLOOKUP(C10040,Sheet2!A:G,4,FALSE))","v":""},null,null,{"$f":"IF(OR(C10040=\"\",ISBLANK(C10040)),\"\",VLOOKUP(C10040,Sheet2!A:F,3,FALSE))","v":""},{"$f":"IF(OR(C10040=\"\",ISBLANK(C10040)),\"\",VLOOKUP(C10040,Sheet2!A:G,6,FALSE))","v":""},""]
[{"$f":"IF(OR(C10071=\"\",ISBLANK(C10071)),\"\",VLOOKUP(C10071,Sheet2!A:F,2,FALSE))","v":""},{"$f":"IF(OR(C10071=\"\",ISBLANK(C10071)),\"\",VLOOKUP(C10071,Sheet2!A:G,4,FALSE))","v":""},null,null,{"$f":"IF(OR(C10071=\"\",ISBLANK(C10071)),\"\",VLOOKUP(C10071,Sheet2!A:F,3,FALSE))","v":""},{"$f":"IF(OR(C10071=\"\",ISBLANK(C10071)),\"\",VLOOKUP(C10071,Sheet2!A:G,6,FALSE))","v":""},""]
[{"$f":"IF(OR(C10096=\"\",ISBLANK(C10096)),\"\",VLOOKUP(C10096,Sheet2!A:F,2,FALSE))","v":""},{"$f":"IF(OR(C10096=\"\",ISBLANK(C10096)),\"\",VLOOKUP(C10096,Sheet2!A:G,4,FALSE))","v":""},null,null,{"$f":"IF(OR(C10096=\"\",ISBLANK(C10096)),\"\",VLOOKUP(C10096,Sheet2!A:F,3,FALSE))","v":""},{"$f":"IF(OR(C10096=\"\",ISBLANK(C10096)),\"\",VLOOKUP(C10096,Sheet2!A:G,6,FALSE))","v":""},""]
[{"$f":"IF(OR(C10105=\"\",ISBLANK(C10105)),\"\",VLOOKUP(C10105,Sheet2!A:F,2,FALSE))","v":""},{"$f":"IF(OR(C10105=\"\",ISBLANK(C10105)),\"\",VLOOKUP(C10105,Sheet2!A:G,4,FALSE))","v":""},null,null,{"$f":"IF(OR(C10105=\"\",ISBLANK(C10105)),\"\",VLOOKUP(C10105,Sheet2!A:F,3,FALSE))","v":""},{"$f":"IF(OR(C10105=\"\",ISBLANK(C10105)),\"\",VLOOKUP(C10105,Sheet2!A:G,6,FALSE))","v":""},""]
[{"$f":"IF(OR(C10138=\"\",ISBLANK(C10138)),\"\",VLOOKUP(C10138,Sheet2!A:F,2,FALSE))","v":""},{"$f":"IF(OR(C10138=\"\",ISBLANK(C10138)),\"\",VLOOKUP(C10138,Sheet2!A:G,4,FALSE))","v":""},null,null,{"$f":"IF(OR(C10138=\"\",ISBLANK(C10138)),\"\",VLOOKUP(C10138,Sheet2!A:F,3,FALSE))","v":""},{"$f":"IF(OR(C10138=\"\",ISBLANK(C10138)),\"\",VLOOKUP(C10138,Sheet2!A:G,6,FALSE))","v":""},""]
[{"$f":"IF(OR(C10163=\"\",ISBLANK(C10163)),\"\",VLOOKUP(C10163,Sheet2!A:F,2,FALSE))","v":""},{"$f":"IF(OR(C10163=\"\",ISBLANK(C10163)),\"\",VLOOKUP(C10163,Sheet2!A:G,4,FALSE))","v":""},null,null,{"$f":"IF(OR(C10163=\"\",ISBLANK(C10163)),\"\",VLOOKUP(C10163,Sheet2!A:F,3,FALSE))","v":""},{"$f":"IF(OR(C10163=\"\",ISBLANK(C10163)),\"\",VLOOKUP(C10163,Sheet2!A:G,6,FALSE))","v":""},""]
[{"$f":"IF(OR(C10196=\"\",ISBLANK(C10196)),\"\",VLOOKUP(C10196,Sheet2!A:F,2,FALSE))","v":""},{"$f":"IF(OR(C10196=\"\",ISBLANK(C10196)),\"\",VLOOKUP(C10196,Sheet2!A:G,4,FALSE))","v":""},null,null,{"$f":"IF(OR(C10196=\"\",ISBLANK(C10196)),\"\",VLOOKUP(C10196,Sheet2!A:F,3,FALSE))","v":""},{"$f":"IF(OR(C10196=\"\",ISBLANK(C10196)),\"\",VLOOKUP(C10196,Sheet2!A:G,6,FALSE))","v":""},""]
[{"$f":"IF(OR(C10197=\"\",ISBLANK(C10197)),\"\",VLOOKUP(C10197,Sheet2!A:F,2,FALSE))","v":""},{"$f":"IF(OR(C10197=\"\",ISBLANK(C10197)),\"\",VLOOKUP(C10197,Sheet2!A:G,4,FALSE))","v":""},null,null,{"$f":"IF(OR(C10197=\"\",ISBLANK(C10197)),\"\",VLOOKUP(C10197,Sheet2!A:F,3,FALSE))","v":""},{"$f":"IF(OR(C10197=\"\",ISBLANK(C10197)),\"\",VLOOKUP(C10197,Sheet2!A:G,6,FALSE))","v":""},""]
[{"$f":"IF(OR(C10230=\"\",ISBLANK(C10230)),\"\",VLOOKUP(C10230,Sheet2!A:F,2,FALSE))","v":""},{"$f":"IF(OR(C10230=\"\",ISBLANK(C10230)),\"\",VLOOKUP(C10230,Sheet2!A:G,4,FALSE))","v":""},null,null,{"$f":"IF(OR(C10230=\"\",ISBLANK(C10230)),\"\",VLOOKUP(C10230,Sheet2!A:F,3,FALSE))","v":""},{"$f":"IF(OR(C10230=\"\",ISBLANK(C10230)),\"\",VLOOKUP(C10230,Sheet2!A:G,6,FALSE))","v":""},""]
[{"$f":"IF(OR(C10263=\"\",ISBLANK(C10263)),\"\",VLOOKUP(C10263,Sheet2!A:F,2,FALSE))","v":""},{"$f":"IF(OR(C10263=\"\",ISBLANK(C10263)),\"\",VLOOKUP(C10263,Sheet2!A:G,4,FALSE))","v":""},null,null,{"$f":"IF(OR(C10263=\"\",ISBLANK(C10263)),\"\",VLOOKUP(C10263,Sheet2!A:F,3,FALSE))","v":""},{"$f":"IF(OR(C10263=\"\",ISBLANK(C10263)),\"\",VLOOKUP(C10263,Sheet2!A:G,6,FALSE))","v":""},""]
[{"$f":"IF(OR(C10271=\"\",ISBLANK(C10271)),\"\",VLOOKUP(C10271,Sheet2!A:F,2,FALSE))","v":""},{"$f":"IF(OR(C10271=\"\",ISBLANK(C10271)),\"\",VLOOKUP(C10271,Sheet2!A:G,4,FALSE))","v":""},null,null,{"$f":"IF(OR(C10271=\"\",ISBLANK(C10271)),\"\",VLOOKUP(C10271,Sheet2!A:F,3,FALSE))","v":""},{"$f":"IF(OR(C10271=\"\",ISBLANK(C10271)),\"\",VLOOKUP(C10271,Sheet2!A:G,6,FALSE))","v":""},""]
[{"$f":"IF(OR(C10296=\"\",ISBLANK(C10296)),\"\",VLOOKUP(C10296,Sheet2!A:F,2,FALSE))","v":""},{"$f":"IF(OR(C10296=\"\",ISBLANK(C10296)),\"\",VLOOKUP(C10296,Sheet2!A:G,4,FALSE))","v":""},null,null,{"$f":"IF(OR(C10296=\"\",ISBLANK(C10296)),\"\",VLOOKUP(C10296,Sheet2!A:F,3,FALSE))","v":""},{"$f":"IF(OR(C10296=\"\",ISBLANK(C10296)),\"\",VLOOKUP(C10296,Sheet2!A:G,6,FALSE))","v":""},""]
[{"$f":"IF(OR(C10329=\"\",ISBLANK(C10329)),\"\",VLOOKUP(C10329,Sheet2!A:F,2,FALSE))","v":""},{"$f":"IF(OR(C10329=\"\",ISBLANK(C10329)),\"\",VLOOKUP(C10329,Sheet2!A:G,4,FALSE))","v":""},null,null,{"$f":"IF(OR(C10329=\"\",ISBLANK(C10329)),\"\",VLOOKUP(C10329,Sheet2!A:F,3,FALSE))","v":""},{"$f":"IF(OR(C10329=\"\",ISBLANK(C10329)),\"\",VLOOKUP(C10329,Sheet2!A:G,6,FALSE))","v":""},""]
[{"$f":"IF(OR(C10354=\"\",ISBLANK(C10354)),\"\",VLOOKUP(C10354,Sheet2!A:F,2,FALSE))","v":""},{"$f":"IF(OR(C10354=\"\",ISBLANK(C10354)),\"\",VLOOKUP(C10354,Sheet2!A:G,4,FALSE))","v":""},null,null,{"$f":"IF(OR(C10354=\"\",ISBLANK(C10354)),\"\",VLOOKUP(C10354,Sheet2!A:F,3,FALSE))","v":""},{"$f":"IF(OR(C10354=\"\",ISBLANK(C10354)),\"\",VLOOKUP(C10354,Sheet2!A:G,6,FALSE))","v":""},""]
[{"$f":"IF(OR(C10387=\"\",ISBLANK(C10387)),\"\",VLOOKUP(C10387,Sheet2!A:F,2,FALSE))","v":""},{"$f":"IF(OR(C10387=\"\",ISBLANK(C10387)),\"\",VLOOKUP(C10387,Sheet2!A:G,4,FALSE))","v":""},null,null,{"$f":"IF(OR(C10387=\"\",ISBLANK(C10387)),\"\",VLOOKUP(C10387,Sheet2!A:F,3,FALSE))","v":""},{"$f":"IF(OR(C10387=\"\",ISBLANK(C10387)),\"\",VLOOKUP(C10387,Sheet2!A:G,6,FALSE))","v":""},""]
[{"$f":"IF(OR(C10388=\"\",ISBLANK(C10388)),\"\",VLOOKUP(C10388,Sheet2!A:F,2,FALSE))","v":""},{"$f":"IF(OR(C10388=\"\",ISBLANK(C10388)),\"\",VLOOKUP(C10388,Sheet2!A:G,4,FALSE))","v":""},null,null,{"$f":"IF(OR(C10388=\"\",ISBLANK(C10388)),\"\",VLOOKUP(C10388,Sheet2!A:F,3,FALSE))","v":""},{"$f":"IF(OR(C10388=\"\",ISBLANK(C10388)),\"\",VLOOKUP(C10388,Sheet2!A:G,6,FALSE))","v":""},""]
[{"$f":"IF(OR(C10421=\"\",ISBLANK(C10421)),\"\",VLOOKUP(C10421,Sheet2!A:F,2,FALSE))","v":""},{"$f":"IF(OR(C10421=\"\",ISBLANK(C10421)),\"\",VLOOKUP(C10421,Sheet2!A:G,4,FALSE))","v":""},null,null,{"$f":"IF(OR(C10421=\"\",ISBLANK(C10421)),\"\",VLOOKUP(C10421,Sheet2!A:F,3,FALSE))","v":""},{"$f":"IF(OR(C10421=\"\",ISBLANK(C10421)),\"\",VLOOKUP(C10421,Sheet2!A:G,6,FALSE))","v":""},""]
[{"$f":"IF(OR(C10454=\"\",ISBLANK(C10454)),\"\",VLOOKUP(C10454,Sheet2!A:F,2,FALSE))","v":""},{"$f":"IF(OR(C10454=\"\",ISBLANK(C10454)),\"\",VLOOKUP(C10454,Sheet2!A:G,4,FALSE))","v":""},null,null,{"$f":"IF(OR(C10454=\"\",ISBLANK(C10454)),\"\",VLOOKUP(C10454,Sheet2!A:F,3,FALSE))","v":""},{"$f":"IF(OR(C10454=\"\",ISBLANK(C10454)),\"\",VLOOKUP(C10454,Sheet2!A:G,6,FALSE))","v":""},""]
[{"$f":"IF(OR(C10479=\"\",ISBLANK(C10479)),\"\",VLOOKUP(C10479,Sheet2!A:F,2,FALSE))","v":""},{"$f":"IF(OR(C10479=\"\",ISBLANK(C10479)),\"\",VLOOKUP(C10479,Sheet2!A:G,4,FALSE))","v":""},null,null,{"$f":"IF(OR(C10479=\"\",ISBLANK(C10479)),\"\",VLOOKUP(C10479,Sheet2!A:F,3,FALSE))","v":""},{"$f":"IF(OR(C10479=\"\",ISBLANK(C10479)),\"\",VLOOKUP(C10479,Sheet2!A:G,6,FALSE))","v":""},""]
[{"$f":"IF(OR(C10490=\"\",ISBLANK(C10490)),\"\",VLOOKUP(C10490,Sheet2!A:F,2,FALSE))","v":""},{"$f":"IF(OR(C10490=\"\",ISBLANK(C10490)),\"\",VLOOKUP(C10490,Sheet2!A:G,4,FALSE))","v":""},null,null,{"$f":"IF(OR(C10490=\"\",ISBLANK(C10490)),\"\",VLOOKUP(C10490,Sheet2!A:F,3,FALSE))","v":""},{"$f":"IF(OR(C10490=\"\",ISBLANK(C10490)),\"\",VLOOKUP(C10490,Sheet2!A:G,6,FALSE))","v":""},""]
[{"$f":"IF(OR(C10520=\"\",ISBLANK(C10520)),\"\",VLOOKUP(C10520,Sheet2!A:F,2,FALSE))","v":""},{"$f":"IF(OR(C10520=\"\",ISBLANK(C10520)),\"\",VLOOKUP(C10520,Sheet2!A:G,4,FALSE))","v":""},null,null,{"$f":"IF(OR(C10520=\"\",ISBLANK(C10520)),\"\",VLOOKUP(C10520,Sheet2!A:F,3,FALSE))","v":""},{"$f":"IF(OR(C10520=\"\",ISBLANK(C10520)),\"\",VLOOKUP(C10520,Sheet2!A:G,6,FALSE))","v":""},""]
[{"$f":"IF(OR(C10545=\"\",ISBLANK(C10545)),\"\",VLOOKUP(C10545,Sheet2!A:F,2,FALSE))","v":""},{"$f":"IF(OR(C10545=\"\",ISBLANK(C10545)),\"\",VLOOKUP(C10545,Sheet2!A:G,4,FALSE))","v":""},null,null,{"$f":"IF(OR(C10545=\"\",ISBLANK(C10545)),\"\",VLOOKUP(C10545,Sheet2!A:F,3,FALSE))","v":""},{"$f":"IF(OR(C10545=\"\",ISBLANK(C10545)),\"\",VLOOKUP(C10545,Sheet2!A:G,6,FALSE))","v":""},""]
[{"$f":"IF(OR(C10578=\"\",ISBLANK(C10578)),\"\",VLOOKUP(C10578,Sheet2!A:F,2,FALSE))","v":""},{"$f":"IF(OR(C10578=\"\",ISBLANK(C10578)),\"\",VLOOKUP(C10578,Sheet2!A:G,4,FALSE))","v":""},null,null,{"$f":"IF(OR(C10578=\"\",ISBLANK(C10578)),\"\",VLOOKUP(C10578,Sheet2!A:F,3,FALSE))","v":""},{"$f":"IF(OR(C10578=\"\",ISBLANK(C10578)),\"\",VLOOKUP(C10578,Sheet2!A:G,6,FALSE))","v":""},""]
[{"$f":"IF(OR(C10579=\"\",ISBLANK(C10579)),\"\",VLOOKUP(C10579,Sheet2!A:F,2,FALSE))","v":""},{"$f":"IF(OR(C10579=\"\",ISBLANK(C10579)),\"\",VLOOKUP(C10579,Sheet2!A:G,4,FALSE))","v":""},null,null,{"$f":"IF(OR(C10579=\"\",ISBLANK(C10579)),\"\",VLOOKUP(C10579,Sheet2!A:F,3,FALSE))","v":""},{"$f":"IF(OR(C10579=\"\",ISBLANK(C10579)),\"\",VLOOKUP(C10579,Sheet2!A:G,6,FALSE))","v":""},""]
[{"$f":"IF(OR(C10612=\"\",ISBLANK(C10612)),\"\",VLOOKUP(C10612,Sheet2!A:F,2,FALSE))","v":""},{"$f":"IF(OR(C10612=\"\",ISBLANK(C10612)),\"\",VLOOKUP(C10612,Sheet2!A:G,4,FALSE))","v":""},null,null,{"$f":"IF(OR(C10612=\"\",ISBLANK(C10612)),\"\",VLOOKUP(C10612,Sheet2!A:F,3,FALSE))","v":""},{"$f":"IF(OR(C10612=\"\",ISBLANK(C10612)),\"\",VLOOKUP(C10612,Sheet2!A:G,6,FALSE))","v":""},""]
[{"$f":"IF(OR(C10645=\"\",ISBLANK(C10645)),\"\",VLOOKUP(C10645,Sheet2!A:F,2,FALSE))","v":""},{"$f":"IF(OR(C10645=\"\",ISBLANK(C10645)),\"\",VLOOKUP(C10645,Sheet2!A:G,4,FALSE))","v":""},null,null,{"$f":"IF(OR(C10645=\"\",ISBLANK(C10645)),\"\",VLOOKUP(C10645,Sheet2!A:F,3,FALSE))","v":""},{"$f":"IF(OR(C10645=\"\",ISBLANK(C10645)),\"\",VLOOKUP(C10645,Sheet2!A:G,6,FALSE))","v":""},""]
[{"$f":"IF(OR(C10670=\"\",ISBLANK(C10670)),\"\",VLOOKUP(C10670,Sheet2!A:F,2,FALSE))","v":""},{"$f":"IF(OR(C10670=\"\",ISBLANK(C10670)),\"\",VLOOKUP(C10670,Sheet2!A:G,4,FALSE))","v":""},null,null,{"$f":"IF(OR(C10670=\"\",ISBLANK(C10670)),\"\",VLOOKUP(C10670,Sheet2!A:F,3,FALSE))","v":""},{"$f":"IF(OR(C10670=\"\",ISBLANK(C10670)),\"\",VLOOKUP(C10670,Sheet2!A:G,6,FALSE))","v":""},""]
[{"$f":"IF(OR(C10679=\"\",ISBLANK(C10679)),\"\",VLOOKUP(C10679,Sheet2!A:F,2,FALSE))","v":""},{"$f":"IF(OR(C10679=\"\",ISBLANK(C10679)),\"\",VLOOKUP(C10679,Sheet2!A:G,4,FALSE))","v":""},null,null,{"$f":"IF(OR(C10679=\"\",ISBLANK(C10679)),\"\",VLOOKUP(C10679,Sheet2!A:F,3,FALSE))","v":""},{"$f":"IF(OR(C10679=\"\",ISBLANK(C10679)),\"\",VLOOKUP(C10679,Sheet2!A:G,6,FALSE))","v":""},""]
[{"$f":"IF(OR(C10704=\"\",ISBLANK(C10704)),\"\",VLOOKUP(C10704,Sheet2!A:F,2,FALSE))","v":""},{"$f":"IF(OR(C10704=\"\",ISBLANK(C10704)),\"\",VLOOKUP(C10704,Sheet2!A:G,4,FALSE))","v":""},null,null,{"$f":"IF(OR(C10704=\"\",ISBLANK(C10704)),\"\",VLOOKUP(C10704,Sheet2!A:F,3,FALSE))","v":""},{"$f":"IF(OR(C10704=\"\",ISBLANK(C10704)),\"\",VLOOKUP(C10704,Sheet2!A:G,6,FALSE))","v":""},""]
[{"$f":"IF(OR(C10744=\"\",ISBLANK(C10744)),\"\",VLOOKUP(C10744,Sheet2!A:F,2,FALSE))","v":""},{"$f":"IF(OR(C10744=\"\",ISBLANK(C10744)),\"\",VLOOKUP(C10744,Sheet2!A:G,4,FALSE))","v":""},null,null,{"$f":"IF(OR(C10744=\"\",ISBLANK(C10744)),\"\",VLOOKUP(C10744,Sheet2!A:F,3,FALSE))","v":""},{"$f":"IF(OR(C10744=\"\",ISBLANK(C10744)),\"\",VLOOKUP(C10744,Sheet2!A:G,6,FALSE))","v":""},""]
[{"$f":"IF(OR(C10769=\"\",ISBLANK(C10769)),\"\",VLOOKUP(C10769,Sheet2!A:F,2,FALSE))","v":""},{"$f":"IF(OR(C10769=\"\",ISBLANK(C10769)),\"\",VLOOKUP(C10769,Sheet2!A:G,4,FALSE))","v":""},null,null,{"$f":"IF(OR(C10769=\"\",ISBLANK(C10769)),\"\",VLOOKUP(C10769,Sheet2!A:F,3,FALSE))","v":""},{"$f":"IF(OR(C10769=\"\",ISBLANK(C10769)),\"\",VLOOKUP(C10769,Sheet2!A:G,6,FALSE))","v":""},""]
[{"$f":"IF(OR(C10770=\"\",ISBLANK(C10770)),\"\",VLOOKUP(C10770,Sheet2!A:F,2,FALSE))","v":""},{"$f":"IF(OR(C10770=\"\",ISBLANK(C10770)),\"\",VLOOKUP(C10770,Sheet2!A:G,4,FALSE))","v":""},null,null,{"$f":"IF(OR(C10770=\"\",ISBLANK(C10770)),\"\",VLOOKUP(C10770,Sheet2!A:F,3,FALSE))","v":""},{"$f":"IF(OR(C10770=\"\",ISBLANK(C10770)),\"\",VLOOKUP(C10770,Sheet2!A:G,6,FALSE))","v":""},""]
[{"$f":"IF(OR(C10803=\"\",ISBLANK(C10803)),\"\",VLOOKUP(C10803,Sheet2!A:F,2,FALSE))","v":""},{"$f":"IF(OR(C10803=\"\",ISBLANK(C10803)),\"\",VLOOKUP(C10803,Sheet2!A:G,4,FALSE))","v":""},null,null,{"$f":"IF(OR(C10803=\"\",ISBLANK(C10803)),\"\",VLOOKUP(C10803,Sheet2!A:F,3,FALSE))","v":""},{"$f":"IF(OR(C10803=\"\",ISBLANK(C10803)),\"\",VLOOKUP(C10803,Sheet2!A:G,6,FALSE))","v":""},""]
[{"$f":"IF(OR(C10836=\"\",ISBLANK(C10836)),\"\",VLOOKUP(C10836,Sheet2!A:F,2,FALSE))","v":""},{"$f":"IF(OR(C10836=\"\",ISBLANK(C10836)),\"\",VLOOKUP(C10836,Sheet2!A:G,4,FALSE))","v":""},null,null,{"$f":"IF(OR(C10836=\"\",ISBLANK(C10836)),\"\",VLOOKUP(C10836,Sheet2!A:F,3,FALSE))","v":""},{"$f":"IF(OR(C10836=\"\",ISBLANK(C10836)),\"\",VLOOKUP(C10836,Sheet2!A:G,6,FALSE))","v":""},""]
[{"$f":"IF(OR(C10861=\"\",ISBLANK(C10861)),\"\",VLOOKUP(C10861,Sheet2!A:F,2,FALSE))","v":""},{"$f":"IF(OR(C10861=\"\",ISBLANK(C10861)),\"\",VLOOKUP(C10861,Sheet2!A:G,4,FALSE))","v":""},null,null,{"$f":"IF(OR(C10861=\"\",ISBLANK(C10861)),\"\",VLOOKUP(C10861,Sheet2!A:F,3,FALSE))","v":""},{"$f":"IF(OR(C10861=\"\",ISBLANK(C10861)),\"\",VLOOKUP(C10861,Sheet2!A:G,6,FALSE))","v":""},""]
[{"$f":"IF(OR(C10870=\"\",ISBLANK(C10870)),\"\",VLOOKUP(C10870,Sheet2!A:F,2,FALSE))","v":""},{"$f":"IF(OR(C10870=\"\",ISBLANK(C10870)),\"\",VLOOKUP(C10870,Sheet2!A:G,4,FALSE))","v":""},null,null,{"$f":"IF(OR(C10870=\"\",ISBLANK(C10870)),\"\",VLOOKUP(C10870,Sheet2!A:F,3,FALSE))","v":""},{"$f":"IF(OR(C10870=\"\",ISBLANK(C10870)),\"\",VLOOKUP(C10870,Sheet2!A:G,6,FALSE))","v":""},""]
[{"$f":"IF(OR(C10895=\"\",ISBLANK(C10895)),\"\",VLOOKUP(C10895,Sheet2!A:F,2,FALSE))","v":""},{"$f":"IF(OR(C10895=\"\",ISBLANK(C10895)),\"\",VLOOKUP(C10895,Sheet2!A:G,4,FALSE))","v":""},null,null,{"$f":"IF(OR(C10895=\"\",ISBLANK(C10895)),\"\",VLOOKUP(C10895,Sheet2!A:F,3,FALSE))","v":""},{"$f":"IF(OR(C10895=\"\",ISBLANK(C10895)),\"\",VLOOKUP(C10895,Sheet2!A:G,6,FALSE))","v":""},""]
[{"$f":"IF(OR(C10928=\"\",ISBLANK(C10928)),\"\",VLOOKUP(C10928,Sheet2!A:F,2,FALSE))","v":""},{"$f":"IF(OR(C10928=\"\",ISBLANK(C10928)),\"\",VLOOKUP(C10928,Sheet2!A:G,4,FALSE))","v":""},null,null,{"$f":"IF(OR(C10928=\"\",ISBLANK(C10928)),\"\",VLOOKUP(C10928,Sheet2!A:F,3,FALSE))","v":""},{"$f":"IF(OR(C10928=\"\",ISBLANK(C10928)),\"\",VLOOKUP(C10928,Sheet2!A:G,6,FALSE))","v":""},""]
[{"$f":"IF(OR(C10961=\"\",ISBLANK(C10961)),\"\",VLOOKUP(C10961,Sheet2!A:F,2,FALSE))","v":""},{"$f":"IF(OR(C10961=\"\",ISBLANK(C10961)),\"\",VLOOKUP(C10961,Sheet2!A:G,4,FALSE))","v":""},null,null,{"$f":"IF(OR(C10961=\"\",ISBLANK(C10961)),\"\",VLOOKUP(C10961,Sheet2!A:F,3,FALSE))","v":""},{"$f":"IF(OR(C10961=\"\",ISBLANK(C10961)),\"\",VLOOKUP(C10961,Sheet2!A:G,6,FALSE))","v":""},""]
[{"$f":"IF(OR(C10975=\"\",ISBLANK(C10975)),\"\",VLOOKUP(C10975,Sheet2!A:F,2,FALSE))","v":""},{"$f":"IF(OR(C10975=\"\",ISBLANK(C10975)),\"\",VLOOKUP(C10975,Sheet2!A:G,4,FALSE))","v":""},null,null,{"$f":"IF(OR(C10975=\"\",ISBLANK(C10975)),\"\",VLOOKUP(C10975,Sheet2!A:F,3,FALSE))","v":""},{"$f":"IF(OR(C10975=\"\",ISBLANK(C10975)),\"\",VLOOKUP(C10975,Sheet2!A:G,6,FALSE))","v":""},""]
[{"$f":"IF(OR(C10994=\"\",ISBLANK(C10994)),\"\",VLOOKUP(C10994,Sheet2!A:F,2,FALSE))","v":""},{"$f":"IF(OR(C10994=\"\",ISBLANK(C10994)),\"\",VLOOKUP(C10994,Sheet2!A:G,4,FALSE))","v":""},null,null,{"$f":"IF(OR(C10994=\"\",ISBLANK(C10994)),\"\",VLOOKUP(C10994,Sheet2!A:F,3,FALSE))","v":""},{"$f":"IF(OR(C10994=\"\",ISBLANK(C10994)),\"\",VLOOKUP(C10994,Sheet2!A:G,6,FALSE))","v":""},""]
[{"$f":"IF(OR(C11019=\"\",ISBLANK(C11019)),\"\",VLOOKUP(C11019,Sheet2!A:F,2,FALSE))","v":""},{"$f":"IF(OR(C11019=\"\",ISBLANK(C11019)),\"\",VLOOKUP(C11019,Sheet2!A:G,4,FALSE))","v":""},null,null,{"$f":"IF(OR(C11019=\"\",ISBLANK(C11019)),\"\",VLOOKUP(C11019,Sheet2!A:F,3,FALSE))","v":""},{"$f":"IF(OR(C11019=\"\",ISBLANK(C11019)),\"\",VLOOKUP(C11019,Sheet2!A:G,6,FALSE))","v":""},""]
[{"$f":"IF(OR(C11052=\"\",ISBLANK(C11052)),\"\",VLOOKUP(C11052,Sheet2!A:F,2,FALSE))","v":""},{"$f":"IF(OR(C11052=\"\",ISBLANK(C11052)),\"\",VLOOKUP(C11052,Sheet2!A:G,4,FALSE))","v":""},null,null,{"$f":"IF(OR(C11052=\"\",ISBLANK(C11052)),\"\",VLOOKUP(C11052,Sheet2!A:F,3,FALSE))","v":""},{"$f":"IF(OR(C11052=\"\",ISBLANK(C11052)),\"\",VLOOKUP(C11052,Sheet2!A:G,6,FALSE))","v":""},""]
[{"$f":"IF(OR(C11061=\"\",ISBLANK(C11061)),\"\",VLOOKUP(C11061,Sheet2!A:F,2,FALSE))","v":""},{"$f":"IF(OR(C11061=\"\",ISBLANK(C11061)),\"\",VLOOKUP(C11061,Sheet2!A:G,4,FALSE))","v":""},null,null,{"$f":"IF(OR(C11061=\"\",ISBLANK(C11061)),\"\",VLOOKUP(C11061,Sheet2!A:F,3,FALSE))","v":""},{"$f":"IF(OR(C11061=\"\",ISBLANK(C11061)),\"\",VLOOKUP(C11061,Sheet2!A:G,6,FALSE))","v":""},""]
[{"$f":"IF(OR(C11086=\"\",ISBLANK(C11086)),\"\",VLOOKUP(C11086,Sheet2!A:F,2,FALSE))","v":""},{"$f":"IF(OR(C11086=\"\",ISBLANK(C11086)),\"\",VLOOKUP(C11086,Sheet2!A:G,4,FALSE))","v":""},null,null,{"$f":"IF(OR(C11086=\"\",ISBLANK(C11086)),\"\",VLOOKUP(C11086,Sheet2!A:F,3,FALSE))","v":""},{"$f":"IF(OR(C11086=\"\",ISBLANK(C11086)),\"\",VLOOKUP(C11086,Sheet2!A:G,6,FALSE))","v":""},""]
[{"$f":"IF(OR(C11119=\"\",ISBLANK(C11119)),\"\",VLOOKUP(C11119,Sheet2!A:F,2,FALSE))","v":""},{"$f":"IF(OR(C11119=\"\",ISBLANK(C11119)),\"\",VLOOKUP(C11119,Sheet2!A:G,4,FALSE))","v":""},null,null,{"$f":"IF(OR(C11119=\"\",ISBLANK(C11119)),\"\",VLOOKUP(C11119,Sheet2!A:F,3,FALSE))","v":""},{"$f":"IF(OR(C11119=\"\",ISBLANK(C11119)),\"\",VLOOKUP(C11119,Sheet2!A:G,6,FALSE))","v":""},""]
[{"$f":"IF(OR(C11152=\"\",ISBLANK(C11152)),\"\",VLOOKUP(C11152,Sheet2!A:F,2,FALSE))","v":""},{"$f":"IF(OR(C11152=\"\",ISBLANK(C11152)),\"\",VLOOKUP(C11152,Sheet2!A:G,4,FALSE))","v":""},null,null,{"$f":"IF(OR(C11152=\"\",ISBLANK(C11152)),\"\",VLOOKUP(C11152,Sheet2!A:F,3,FALSE))","v":""},{"$f":"IF(OR(C11152=\"\",ISBLANK(C11152)),\"\",VLOOKUP(C11152,Sheet2!A:G,6,FALSE))","v":""},""]
[{"$f":"IF(OR(C11153=\"\",ISBLANK(C11153)),\"\",VLOOKUP(C11153,Sheet2!A:F,2,FALSE))","v":""},{"$f":"IF(OR(C11153=\"\",ISBLANK(C11153)),\"\",VLOOKUP(C11153,Sheet2!A:G,4,FALSE))","v":""},null,null,{"$f":"IF(OR(C11153=\"\",ISBLANK(C11153)),\"\",VLOOKUP(C11153,Sheet2!A:F,3,FALSE))","v":""},{"$f":"IF(OR(C11153=\"\",ISBLANK(C11153)),\"\",VLOOKUP(C11153,Sheet2!A:G,6,FALSE))","v":""},""]
[{"$f":"IF(OR(C11194=\"\",ISBLANK(C11194)),\"\",VLOOKUP(C11194,Sheet2!A:F,2,FALSE))","v":""},{"$f":"IF(OR(C11194=\"\",ISBLANK(C11194)),\"\",VLOOKUP(C11194,Sheet2!A:G,4,FALSE))","v":""},null,null,{"$f":"IF(OR(C11194=\"\",ISBLANK(C11194)),\"\",VLOOKUP(C11194,Sheet2!A:F,3,FALSE))","v":""},{"$f":"IF(OR(C11194=\"\",ISBLANK(C11194)),\"\",VLOOKUP(C11194,Sheet2!A:G,6,FALSE))","v":""},""]
[{"$f":"IF(OR(C11210=\"\",ISBLANK(C11210)),\"\",VLOOKUP(C11210,Sheet2!A:F,2,FALSE))","v":""},{"$f":"IF(OR(C11210=\"\",ISBLANK(C11210)),\"\",VLOOKUP(C11210,Sheet2!A:G,4,FALSE))","v":""},null,null,{"$f":"IF(OR(C11210=\"\",ISBLANK(C11210)),\"\",VLOOKUP(C11210,Sheet2!A:F,3,FALSE))","v":""},{"$f":"IF(OR(C11210=\"\",ISBLANK(C11210)),\"\",VLOOKUP(C11210,Sheet2!A:G,6,FALSE))","v":""},""]
[{"$f":"IF(OR(C11243=\"\",ISBLANK(C11243)),\"\",VLOOKUP(C11243,Sheet2!A:F,2,FALSE))","v":""},{"$f":"IF(OR(C11243=\"\",ISBLANK(C11243)),\"\",VLOOKUP(C11243,Sheet2!A:G,4,FALSE))","v":""},null,null,{"$f":"IF(OR(C11243=\"\",ISBLANK(C11243)),\"\",VLOOKUP(C11243,Sheet2!A:F,3,FALSE))","v":""},{"$f":"IF(OR(C11243=\"\",ISBLANK(C11243)),\"\",VLOOKUP(C11243,Sheet2!A:G,6,FALSE))","v":""},""]
[{"$f":"IF(OR(C11252=\"\",ISBLANK(C11252)),\"\",VLOOKUP(C11252,Sheet2!A:F,2,FALSE))","v":""},{"$f":"IF(OR(C11252=\"\",ISBLANK(C11252)),\"\",VLOOKUP(C11252,Sheet2!A:G,4,FALSE))","v":""},null,null,{"$f":"IF(OR(C11252=\"\",ISBLANK(C11252)),\"\",VLOOKUP(C11252,Sheet2!A:F,3,FALSE))","v":""},{"$f":"IF(OR(C11252=\"\",ISBLANK(C11252)),\"\",VLOOKUP(C11252,Sheet2!A:G,6,FALSE))","v":""},""]
[{"$f":"IF(OR(C11277=\"\",ISBLANK(C11277)),\"\",VLOOKUP(C11277,Sheet2!A:F,2,FALSE))","v":""},{"$f":"IF(OR(C11277=\"\",ISBLANK(C11277)),\"\",VLOOKUP(C11277,Sheet2!A:G,4,FALSE))","v":""},null,null,{"$f":"IF(OR(C11277=\"\",ISBLANK(C11277)),\"\",VLOOKUP(C11277,Sheet2!A:F,3,FALSE))","v":""},{"$f":"IF(OR(C11277=\"\",ISBLANK(C11277)),\"\",VLOOKUP(C11277,Sheet2!A:G,6,FALSE))","v":""},""]
[{"$f":"IF(OR(C11310=\"\",ISBLANK(C11310)),\"\",VLOOKUP(C11310,Sheet2!A:F,2,FALSE))","v":""},{"$f":"IF(OR(C11310=\"\",ISBLANK(C11310)),\"\",VLOOKUP(C11310,Sheet2!A:G,4,FALSE))","v":""},null,null,{"$f":"IF(OR(C11310=\"\",ISBLANK(C11310)),\"\",VLOOKUP(C11310,Sheet2!A:F,3,FALSE))","v":""},{"$f":"IF(OR(C11310=\"\",ISBLANK(C11310)),\"\",VLOOKUP(C11310,Sheet2!A:G,6,FALSE))","v":""},""]
[{"$f":"IF(OR(C11343=\"\",ISBLANK(C11343)),\"\",VLOOKUP(C11343,Sheet2!A:F,2,FALSE))","v":""},{"$f":"IF(OR(C11343=\"\",ISBLANK(C11343)),\"\",VLOOKUP(C11343,Sheet2!A:G,4,FALSE))","v":""},null,null,{"$f":"IF(OR(C11343=\"\",ISBLANK(C11343)),\"\",VLOOKUP(C11343,Sheet2!A:F,3,FALSE))","v":""},{"$f":"IF(OR(C11343=\"\",ISBLANK(C11343)),\"\",VLOOKUP(C11343,Sheet2!A:G,6,FALSE))","v":""},""]
[{"$f":"IF(OR(C11344=\"\",ISBLANK(C11344)),\"\",VLOOKUP(C11344,Sheet2!A:F,2,FALSE))","v":""},{"$f":"IF(OR(C11344=\"\",ISBLANK(C11344)),\"\",VLOOKUP(C11344,Sheet2!A:G,4,FALSE))","v":""},null,null,{"$f":"IF(OR(C11344=\"\",ISBLANK(C11344)),\"\",VLOOKUP(C11344,Sheet2!A:F,3,FALSE))","v":""},{"$f":"IF(OR(C11344=\"\",ISBLANK(C11344)),\"\",VLOOKUP(C11344,Sheet2!A:G,6,FALSE))","v":""},""]
[{"$f":"IF(OR(C11377=\"\",ISBLANK(C11377)),\"\",VLOOKUP(C11377,Sheet2!A:F,2,FALSE))","v":""},{"$f":"IF(OR(C11377=\"\",ISBLANK(C11377)),\"\",VLOOKUP(C11377,Sheet2!A:G,4,FALSE))","v":""},null,null,{"$f":"IF(OR(C11377=\"\",ISBLANK(C11377)),\"\",VLOOKUP(C11377,Sheet2!A:F,3,FALSE))","v":""},{"$f":"IF(OR(C11377=\"\",ISBLANK(C11377)),\"\",VLOOKUP(C11377,Sheet2!A:G,6,FALSE))","v":""},""]
[{"$f":"IF(OR(C11402=\"\",ISBLANK(C11402)),\"\",VLOOKUP(C11402,Sheet2!A:F,2,FALSE))","v":""},{"$f":"IF(OR(C11402=\"\",ISBLANK(C11402)),\"\",VLOOKUP(C11402,Sheet2!A:G,4,FALSE))","v":""},null,null,{"$f":"IF(OR(C11402=\"\",ISBLANK(C11402)),\"\",VLOOKUP(C11402,Sheet2!A:F,3,FALSE))","v":""},{"$f":"IF(OR(C11402=\"\",ISBLANK(C11402)),\"\",VLOOKUP(C11402,Sheet2!A:G,6,FALSE))","v":""},""]
[{"$f":"IF(OR(C11425=\"\",ISBLANK(C11425)),\"\",VLOOKUP(C11425,Sheet2!A:F,2,FALSE))","v":""},{"$f":"IF(OR(C11425=\"\",ISBLANK(C11425)),\"\",VLOOKUP(C11425,Sheet2!A:G,4,FALSE))","v":""},null,null,{"$f":"IF(OR(C11425=\"\",ISBLANK(C11425)),\"\",VLOOKUP(C11425,Sheet2!A:F,3,FALSE))","v":""},{"$f":"IF(OR(C11425=\"\",ISBLANK(C11425)),\"\",VLOOKUP(C11425,Sheet2!A:G,6,FALSE))","v":""},""]
[{"$f":"IF(OR(C11443=\"\",ISBLANK(C11443)),\"\",VLOOKUP(C11443,Sheet2!A:F,2,FALSE))","v":""},{"$f":"IF(OR(C11443=\"\",ISBLANK(C11443)),\"\",VLOOKUP(C11443,Sheet2!A:G,4,FALSE))","v":""},null,null,{"$f":"IF(OR(C11443=\"\",ISBLANK(C11443)),\"\",VLOOKUP(C11443,Sheet2!A:F,3,FALSE))","v":""},{"$f":"IF(OR(C11443=\"\",ISBLANK(C11443)),\"\",VLOOKUP(C11443,Sheet2!A:G,6,FALSE))","v":""},""]
[{"$f":"IF(OR(C11468=\"\",ISBLANK(C11468)),\"\",VLOOKUP(C11468,Sheet2!A:F,2,FALSE))","v":""},{"$f":"IF(OR(C11468=\"\",ISBLANK(C11468)),\"\",VLOOKUP(C11468,Sheet2!A:G,4,FALSE))","v":""},null,null,{"$f":"IF(OR(C11468=\"\",ISBLANK(C11468)),\"\",VLOOKUP(C11468,Sheet2!A:F,3,FALSE))","v":""},{"$f":"IF(OR(C11468=\"\",ISBLANK(C11468)),\"\",VLOOKUP(C11468,Sheet2!A:G,6,FALSE))","v":""},""]
[{"$f":"IF(OR(C11501=\"\",ISBLANK(C11501)),\"\",VLOOKUP(C11501,Sheet2!A:F,2,FALSE))","v":""},{"$f":"IF(OR(C11501=\"\",ISBLANK(C11501)),\"\",VLOOKUP(C11501,Sheet2!A:G,4,FALSE))","v":""},null,null,{"$f":"IF(OR(C11501=\"\",ISBLANK(C11501)),\"\",VLOOKUP(C11501,Sheet2!A:F,3,FALSE))","v":""},{"$f":"IF(OR(C11501=\"\",ISBLANK(C11501)),\"\",VLOOKUP(C11501,Sheet2!A:G,6,FALSE))","v":""},""]
[{"$f":"IF(OR(C11526=\"\",ISBLANK(C11526)),\"\",VLOOKUP(C11526,Sheet2!A:F,2,FALSE))","v":""},{"$f":"IF(OR(C11526=\"\",ISBLANK(C11526)),\"\",VLOOKUP(C11526,Sheet2!A:G,4,FALSE))","v":""},null,null,{"$f":"IF(OR(C11526=\"\",ISBLANK(C11526)),\"\",VLOOKUP(C11526,Sheet2!A:F,3,FALSE))","v":""},{"$f":"IF(OR(C11526=\"\",ISBLANK(C11526)),\"\",VLOOKUP(C11526,Sheet2!A:G,6,FALSE))","v":""},""]
[{"$f":"IF(OR(C11535=\"\",ISBLANK(C11535)),\"\",VLOOKUP(C11535,Sheet2!A:F,2,FALSE))","v":""},{"$f":"IF(OR(C11535=\"\",ISBLANK(C11535)),\"\",VLOOKUP(C11535,Sheet2!A:G,4,FALSE))","v":""},null,null,{"$f":"IF(OR(C11535=\"\",ISBLANK(C11535)),\"\",VLOOKUP(C11535,Sheet2!A:F,3,FALSE))","v":""},{"$f":"IF(OR(C11535=\"\",ISBLANK(C11535)),\"\",VLOOKUP(C11535,Sheet2!A:G,6,FALSE))","v":""},""]
[{"$f":"IF(OR(C11568=\"\",ISBLANK(C11568)),\"\",VLOOKUP(C11568,Sheet2!A:F,2,FALSE))","v":""},{"$f":"IF(OR(C11568=\"\",ISBLANK(C11568)),\"\",VLOOKUP(C11568,Sheet2!A:G,4,FALSE))","v":""},null,null,{"$f":"IF(OR(C11568=\"\",ISBLANK(C11568)),\"\",VLOOKUP(C11568,Sheet2!A:F,3,FALSE))","v":""},{"$f":"IF(OR(C11568=\"\",ISBLANK(C11568)),\"\",VLOOKUP(C11568,Sheet2!A:G,6,FALSE))","v":""},""]
[{"$f":"IF(OR(C11593=\"\",ISBLANK(C11593)),\"\",VLOOKUP(C11593,Sheet2!A:F,2,FALSE))","v":""},{"$f":"IF(OR(C11593=\"\",ISBLANK(C11593)),\"\",VLOOKUP(C11593,Sheet2!A:G,4,FALSE))","v":""},null,null,{"$f":"IF(OR(C11593=\"\",ISBLANK(C11593)),\"\",VLOOKUP(C11593,Sheet2!A:F,3,FALSE))","v":""},{"$f":"IF(OR(C11593=\"\",ISBLANK(C11593)),\"\",VLOOKUP(C11593,Sheet2!A:G,6,FALSE))","v":""},""]
[{"$f":"IF(OR(C11626=\"\",ISBLANK(C11626)),\"\",VLOOKUP(C11626,Sheet2!A:F,2,FALSE))","v":""},{"$f":"IF(OR(C11626=\"\",ISBLANK(C11626)),\"\",VLOOKUP(C11626,Sheet2!A:G,4,FALSE))","v":""},null,null,{"$f":"IF(OR(C11626=\"\",ISBLANK(C11626)),\"\",VLOOKUP(C11626,Sheet2!A:F,3,FALSE))","v":""},{"$f":"IF(OR(C11626=\"\",ISBLANK(C11626)),\"\",VLOOKUP(C11626,Sheet2!A:G,6,FALSE))","v":""},""]
[{"$f":"IF(OR(C11644=\"\",ISBLANK(C11644)),\"\",VLOOKUP(C11644,Sheet2!A:F,2,FALSE))","v":""},{"$f":"IF(OR(C11644=\"\",ISBLANK(C11644)),\"\",VLOOKUP(C11644,Sheet2!A:G,4,FALSE))","v":""},null,null,{"$f":"IF(OR(C11644=\"\",ISBLANK(C11644)),\"\",VLOOKUP(C11644,Sheet2!A:F,3,FALSE))","v":""},{"$f":"IF(OR(C11644=\"\",ISBLANK(C11644)),\"\",VLOOKUP(C11644,Sheet2!A:G,6,FALSE))","v":""},""]
[{"$f":"IF(OR(C11659=\"\",ISBLANK(C11659)),\"\",VLOOKUP(C11659,Sheet2!A:F,2,FALSE))","v":""},{"$f":"IF(OR(C11659=\"\",ISBLANK(C11659)),\"\",VLOOKUP(C11659,Sheet2!A:G,4,FALSE))","v":""},null,null,{"$f":"IF(OR(C11659=\"\",ISBLANK(C11659)),\"\",VLOOKUP(C11659,Sheet2!A:F,3,FALSE))","v":""},{"$f":"IF(OR(C11659=\"\",ISBLANK(C11659)),\"\",VLOOKUP(C11659,Sheet2!A:G,6,FALSE))","v":""},""]
[{"$f":"IF(OR(C11692=\"\",ISBLANK(C11692)),\"\",VLOOKUP(C11692,Sheet2!A:F,2,FALSE))","v":""},{"$f":"IF(OR(C11692=\"\",ISBLANK(C11692)),\"\",VLOOKUP(C11692,Sheet2!A:G,4,FALSE))","v":""},null,null,{"$f":"IF(OR(C11692=\"\",ISBLANK(C11692)),\"\",VLOOKUP(C11692,Sheet2!A:F,3,FALSE))","v":""},{"$f":"IF(OR(C11692=\"\",ISBLANK(C11692)),\"\",VLOOKUP(C11692,Sheet2!A:G,6,FALSE))","v":""},""]
[{"$f":"IF(OR(C11717=\"\",ISBLANK(C11717)),\"\",VLOOKUP(C11717,Sheet2!A:F,2,FALSE))","v":""},{"$f":"IF(OR(C11717=\"\",ISBLANK(C11717)),\"\",VLOOKUP(C11717,Sheet2!A:G,4,FALSE))","v":""},null,null,{"$f":"IF(OR(C11717=\"\",ISBLANK(C11717)),\"\",VLOOKUP(C11717,Sheet2!A:F,3,FALSE))","v":""},{"$f":"IF(OR(C11717=\"\",ISBLANK(C11717)),\"\",VLOOKUP(C11717,Sheet2!A:G,6,FALSE))","v":""},""]
[{"$f":"IF(OR(C11726=\"\",ISBLANK(C11726)),\"\",VLOOKUP(C11726,Sheet2!A:F,2,FALSE))","v":""},{"$f":"IF(OR(C11726=\"\",ISBLANK(C11726)),\"\",VLOOKUP(C11726,Sheet2!A:G,4,FALSE))","v":""},null,null,{"$f":"IF(OR(C11726=\"\",ISBLANK(C11726)),\"\",VLOOKUP(C11726,Sheet2!A:F,3,FALSE))","v":""},{"$f":"IF(OR(C11726=\"\",ISBLANK(C11726)),\"\",VLOOKUP(C11726,Sheet2!A:G,6,FALSE))","v":""},""]
[{"$f":"IF(OR(C11759=\"\",ISBLANK(C11759)),\"\",VLOOKUP(C11759,Sheet2!A:F,2,FALSE))","v":""},{"$f":"IF(OR(C11759=\"\",ISBLANK(C11759)),\"\",VLOOKUP(C11759,Sheet2!A:G,4,FALSE))","v":""},null,null,{"$f":"IF(OR(C11759=\"\",ISBLANK(C11759)),\"\",VLOOKUP(C11759,Sheet2!A:F,3,FALSE))","v":""},{"$f":"IF(OR(C11759=\"\",ISBLANK(C11759)),\"\",VLOOKUP(C11759,Sheet2!A:G,6,FALSE))","v":""},""]
[{"$f":"IF(OR(C11784=\"\",ISBLANK(C11784)),\"\",VLOOKUP(C11784,Sheet2!A:F,2,FALSE))","v":""},{"$f":"IF(OR(C11784=\"\",ISBLANK(C11784)),\"\",VLOOKUP(C11784,Sheet2!A:G,4,FALSE))","v":""},null,null,{"$f":"IF(OR(C11784=\"\",ISBLANK(C11784)),\"\",VLOOKUP(C11784,Sheet2!A:F,3,FALSE))","v":""},{"$f":"IF(OR(C11784=\"\",ISBLANK(C11784)),\"\",VLOOKUP(C11784,Sheet2!A:G,6,FALSE))","v":""},""]
[{"$f":"IF(OR(C11817=\"\",ISBLANK(C11817)),\"\",VLOOKUP(C11817,Sheet2!A:F,2,FALSE))","v":""},{"$f":"IF(OR(C11817=\"\",ISBLANK(C11817)),\"\",VLOOKUP(C11817,Sheet2!A:G,4,FALSE))","v":""},null,null,{"$f":"IF(OR(C11817=\"\",ISBLANK(C11817)),\"\",VLOOKUP(C11817,Sheet2!A:F,3,FALSE))","v":""},{"$f":"IF(OR(C11817=\"\",ISBLANK(C11817)),\"\",VLOOKUP(C11817,Sheet2!A:G,6,FALSE))","v":""},""]
[{"$f":"IF(OR(C11826=\"\",ISBLANK(C11826)),\"\",VLOOKUP(C11826,Sheet2!A:F,2,FALSE))","v":""},{"$f":"IF(OR(C11826=\"\",ISBLANK(C11826)),\"\",VLOOKUP(C11826,Sheet2!A:G,4,FALSE))","v":""},null,null,{"$f":"IF(OR(C11826=\"\",ISBLANK(C11826)),\"\",VLOOKUP(C11826,Sheet2!A:F,3,FALSE))","v":""},{"$f":"IF(OR(C11826=\"\",ISBLANK(C11826)),\"\",VLOOKUP(C11826,Sheet2!A:G,6,FALSE))","v":""},""]
[{"$f":"IF(OR(C11851=\"\",ISBLANK(C11851)),\"\",VLOOKUP(C11851,Sheet2!A:F,2,FALSE))","v":""},{"$f":"IF(OR(C11851=\"\",ISBLANK(C11851)),\"\",VLOOKUP(C11851,Sheet2!A:G,4,FALSE))","v":""},null,null,{"$f":"IF(OR(C11851=\"\",ISBLANK(C11851)),\"\",VLOOKUP(C11851,Sheet2!A:F,3,FALSE))","v":""},{"$f":"IF(OR(C11851=\"\",ISBLANK(C11851)),\"\",VLOOKUP(C11851,Sheet2!A:G,6,FALSE))","v":""},""]
[{"$f":"IF(OR(C11875=\"\",ISBLANK(C11875)),\"\",VLOOKUP(C11875,Sheet2!A:F,2,FALSE))","v":""},{"$f":"IF(OR(C11875=\"\",ISBLANK(C11875)),\"\",VLOOKUP(C11875,Sheet2!A:G,4,FALSE))","v":""},null,null,{"$f":"IF(OR(C11875=\"\",ISBLANK(C11875)),\"\",VLOOKUP(C11875,Sheet2!A:F,3,FALSE))","v":""},{"$f":"IF(OR(C11875=\"\",ISBLANK(C11875)),\"\",VLOOKUP(C11875,Sheet2!A:G,6,FALSE))","v":""},""]
[{"$f":"IF(OR(C11908=\"\",ISBLANK(C11908)),\"\",VLOOKUP(C11908,Sheet2!A:F,2,FALSE))","v":""},{"$f":"IF(OR(C11908=\"\",ISBLANK(C11908)),\"\",VLOOKUP(C11908,Sheet2!A:G,4,FALSE))","v":""},null,null,{"$f":"IF(OR(C11908=\"\",ISBLANK(C11908)),\"\",VLOOKUP(C11908,Sheet2!A:F,3,FALSE))","v":""},{"$f":"IF(OR(C11908=\"\",ISBLANK(C11908)),\"\",VLOOKUP(C11908,Sheet2!A:G,6,FALSE))","v":""},""]
[{"$f":"IF(OR(C11917=\"\",ISBLANK(C11917)),\"\",VLOOKUP(C11917,Sheet2!A:F,2,FALSE))","v":""},{"$f":"IF(OR(C11917=\"\",ISBLANK(C11917)),\"\",VLOOKUP(C11917,Sheet2!A:G,4,FALSE))","v":""},null,null,{"$f":"IF(OR(C11917=\"\",ISBLANK(C11917)),\"\",VLOOKUP(C11917,Sheet2!A:F,3,FALSE))","v":""},{"$f":"IF(OR(C11917=\"\",ISBLANK(C11917)),\"\",VLOOKUP(C11917,Sheet2!A:G,6,FALSE))","v":""},""]
[{"$f":"IF(OR(C11950=\"\",ISBLANK(C11950)),\"\",VLOOKUP(C11950,Sheet2!A:F,2,FALSE))","v":""},{"$f":"IF(OR(C11950=\"\",ISBLANK(C11950)),\"\",VLOOKUP(C11950,Sheet2!A:G,4,FALSE))","v":""},null,null,{"$f":"IF(OR(C11950=\"\",ISBLANK(C11950)),\"\",VLOOKUP(C11950,Sheet2!A:F,3,FALSE))","v":""},{"$f":"IF(OR(C11950=\"\",ISBLANK(C11950)),\"\",VLOOKUP(C11950,Sheet2!A:G,6,FALSE))","v":""},""]
[{"$f":"IF(OR(C11975=\"\",ISBLANK(C11975)),\"\",VLOOKUP(C11975,Sheet2!A:F,2,FALSE))","v":""},{"$f":"IF(OR(C11975=\"\",ISBLANK(C11975)),\"\",VLOOKUP(C11975,Sheet2!A:G,4,FALSE))","v":""},null,null,{"$f":"IF(OR(C11975=\"\",ISBLANK(C11975)),\"\",VLOOKUP(C11975,Sheet2!A:F,3,FALSE))","v":""},{"$f":"IF(OR(C11975=\"\",ISBLANK(C11975)),\"\",VLOOKUP(C11975,Sheet2!A:G,6,FALSE))","v":""},""]
[{"$f":"IF(OR(C12008=\"\",ISBLANK(C12008)),\"\",VLOOKUP(C12008,Sheet2!A:F,2,FALSE))","v":""},{"$f":"IF(OR(C12008=\"\",ISBLANK(C12008)),\"\",VLOOKUP(C12008,Sheet2!A:G,4,FALSE))","v":""},null,null,{"$f":"IF(OR(C12008=\"\",ISBLANK(C12008)),\"\",VLOOKUP(C12008,Sheet2!A:F,3,FALSE))","v":""},{"$f":"IF(OR(C12008=\"\",ISBLANK(C12008)),\"\",VLOOKUP(C12008,Sheet2!A:G,6,FALSE))","v":""},""]
[{"$f":"IF(OR(C12033=\"\",ISBLANK(C12033)),\"\",VLOOKUP(C12033,Sheet2!A:F,2,FALSE))","v":""},{"$f":"IF(OR(C12033=\"\",ISBLANK(C12033)),\"\",VLOOKUP(C12033,Sheet2!A:G,4,FALSE))","v":""},null,null,{"$f":"IF(OR(C12033=\"\",ISBLANK(C12033)),\"\",VLOOKUP(C12033,Sheet2!A:F,3,FALSE))","v":""},{"$f":"IF(OR(C12033=\"\",ISBLANK(C12033)),\"\",VLOOKUP(C12033,Sheet2!A:G,6,FALSE))","v":""},""]
[{"$f":"IF(OR(C12042=\"\",ISBLANK(C12042)),\"\",VLOOKUP(C12042,Sheet2!A:F,2,FALSE))","v":""},{"$f":"IF(OR(C12042=\"\",ISBLANK(C12042)),\"\",VLOOKUP(C12042,Sheet2!A:G,4,FALSE))","v":""},null,null,{"$f":"IF(OR(C12042=\"\",ISBLANK(C12042)),\"\",VLOOKUP(C12042,Sheet2!A:F,3,FALSE))","v":""},{"$f":"IF(OR(C12042=\"\",ISBLANK(C12042)),\"\",VLOOKUP(C12042,Sheet2!A:G,6,FALSE))","v":""},""]
[{"$f":"IF(OR(C12075=\"\",ISBLANK(C12075)),\"\",VLOOKUP(C12075,Sheet2!A:F,2,FALSE))","v":""},{"$f":"IF(OR(C12075=\"\",ISBLANK(C12075)),\"\",VLOOKUP(C12075,Sheet2!A:G,4,FALSE))","v":""},null,null,{"$f":"IF(OR(C12075=\"\",ISBLANK(C12075)),\"\",VLOOKUP(C12075,Sheet2!A:F,3,FALSE))","v":""},{"$f":"IF(OR(C12075=\"\",ISBLANK(C12075)),\"\",VLOOKUP(C12075,Sheet2!A:G,6,FALSE))","v":""},""]
[{"$f":"IF(OR(C12100=\"\",ISBLANK(C12100)),\"\",VLOOKUP(C12100,Sheet2!A:F,2,FALSE))","v":""},{"$f":"IF(OR(C12100=\"\",ISBLANK(C12100)),\"\",VLOOKUP(C12100,Sheet2!A:G,4,FALSE))","v":""},null,null,{"$f":"IF(OR(C12100=\"\",ISBLANK(C12100)),\"\",VLOOKUP(C12100,Sheet2!A:F,3,FALSE))","v":""},{"$f":"IF(OR(C12100=\"\",ISBLANK(C12100)),\"\",VLOOKUP(C12100,Sheet2!A:G,6,FALSE))","v":""},""]
[{"$f":"IF(OR(C12129=\"\",ISBLANK(C12129)),\"\",VLOOKUP(C12129,Sheet2!A:F,2,FALSE))","v":""},{"$f":"IF(OR(C12129=\"\",ISBLANK(C12129)),\"\",VLOOKUP(C12129,Sheet2!A:G,4,FALSE))","v":""},null,null,{"$f":"IF(OR(C12129=\"\",ISBLANK(C12129)),\"\",VLOOKUP(C12129,Sheet2!A:F,3,FALSE))","v":""},{"$f":"IF(OR(C12129=\"\",ISBLANK(C12129)),\"\",VLOOKUP(C12129,Sheet2!A:G,6,FALSE))","v":""},""]
[{"$f":"IF(OR(C12141=\"\",ISBLANK(C12141)),\"\",VLOOKUP(C12141,Sheet2!A:F,2,FALSE))","v":""},{"$f":"IF(OR(C12141=\"\",ISBLANK(C12141)),\"\",VLOOKUP(C12141,Sheet2!A:G,4,FALSE))","v":""},null,null,{"$f":"IF(OR(C12141=\"\",ISBLANK(C12141)),\"\",VLOOKUP(C12141,Sheet2!A:F,3,FALSE))","v":""},{"$f":"IF(OR(C12141=\"\",ISBLANK(C12141)),\"\",VLOOKUP(C12141,Sheet2!A:G,6,FALSE))","v":""},""]
[{"$f":"IF(OR(C12166=\"\",ISBLANK(C12166)),\"\",VLOOKUP(C12166,Sheet2!A:F,2,FALSE))","v":""},{"$f":"IF(OR(C12166=\"\",ISBLANK(C12166)),\"\",VLOOKUP(C12166,Sheet2!A:G,4,FALSE))","v":""},null,null,{"$f":"IF(OR(C12166=\"\",ISBLANK(C12166)),\"\",VLOOKUP(C12166,Sheet2!A:F,3,FALSE))","v":""},{"$f":"IF(OR(C12166=\"\",ISBLANK(C12166)),\"\",VLOOKUP(C12166,Sheet2!A:G,6,FALSE))","v":""},""]
[{"$f":"IF(OR(C12199=\"\",ISBLANK(C12199)),\"\",VLOOKUP(C12199,Sheet2!A:F,2,FALSE))","v":""},{"$f":"IF(OR(C12199=\"\",ISBLANK(C12199)),\"\",VLOOKUP(C12199,Sheet2!A:G,4,FALSE))","v":""},null,null,{"$f":"IF(OR(C12199=\"\",ISBLANK(C12199)),\"\",VLOOKUP(C12199,Sheet2!A:F,3,FALSE))","v":""},{"$f":"IF(OR(C12199=\"\",ISBLANK(C12199)),\"\",VLOOKUP(C12199,Sheet2!A:G,6,FALSE))","v":""},""]
[{"$f":"IF(OR(C12224=\"\",ISBLANK(C12224)),\"\",VLOOKUP(C12224,Sheet2!A:F,2,FALSE))","v":""},{"$f":"IF(OR(C12224=\"\",ISBLANK(C12224)),\"\",VLOOKUP(C12224,Sheet2!A:G,4,FALSE))","v":""},null,null,{"$f":"IF(OR(C12224=\"\",ISBLANK(C12224)),\"\",VLOOKUP(C12224,Sheet2!A:F,3,FALSE))","v":""},{"$f":"IF(OR(C12224=\"\",ISBLANK(C12224)),\"\",VLOOKUP(C12224,Sheet2!A:G,6,FALSE))","v":""},""]
[{"$f":"IF(OR(C12233=\"\",ISBLANK(C12233)),\"\",VLOOKUP(C12233,Sheet2!A:F,2,FALSE))","v":""},{"$f":"IF(OR(C12233=\"\",ISBLANK(C12233)),\"\",VLOOKUP(C12233,Sheet2!A:G,4,FALSE))","v":""},null,null,{"$f":"IF(OR(C12233=\"\",ISBLANK(C12233)),\"\",VLOOKUP(C12233,Sheet2!A:F,3,FALSE))","v":""},{"$f":"IF(OR(C12233=\"\",ISBLANK(C12233)),\"\",VLOOKUP(C12233,Sheet2!A:G,6,FALSE))","v":""},""]
[{"$f":"IF(OR(C12266=\"\",ISBLANK(C12266)),\"\",VLOOKUP(C12266,Sheet2!A:F,2,FALSE))","v":""},{"$f":"IF(OR(C12266=\"\",ISBLANK(C12266)),\"\",VLOOKUP(C12266,Sheet2!A:G,4,FALSE))","v":""},null,null,{"$f":"IF(OR(C12266=\"\",ISBLANK(C12266)),\"\",VLOOKUP(C12266,Sheet2!A:F,3,FALSE))","v":""},{"$f":"IF(OR(C12266=\"\",ISBLANK(C12266)),\"\",VLOOKUP(C12266,Sheet2!A:G,6,FALSE))","v":""},""]
[{"$f":"IF(OR(C12291=\"\",ISBLANK(C12291)),\"\",VLOOKUP(C12291,Sheet2!A:F,2,FALSE))","v":""},{"$f":"IF(OR(C12291=\"\",ISBLANK(C12291)),\"\",VLOOKUP(C12291,Sheet2!A:G,4,FALSE))","v":""},null,null,{"$f":"IF(OR(C12291=\"\",ISBLANK(C12291)),\"\",VLOOKUP(C12291,Sheet2!A:F,3,FALSE))","v":""},{"$f":"IF(OR(C12291=\"\",ISBLANK(C12291)),\"\",VLOOKUP(C12291,Sheet2!A:G,6,FALSE))","v":""},{"$f":"IF(F12291=0,\"\",F12291)","v":""}]
[{"$f":"IF(OR(C12300=\"\",ISBLANK(C12300)),\"\",VLOOKUP(C12300,Sheet2!A:F,2,FALSE))","v":""},{"$f":"IF(OR(C12300=\"\",ISBLANK(C12300)),\"\",VLOOKUP(C12300,Sheet2!A:G,4,FALSE))","v":""},null,null,{"$f":"IF(OR(C12300=\"\",ISBLANK(C12300)),\"\",VLOOKUP(C12300,Sheet2!A:F,3,FALSE))","v":""},{"$f":"IF(OR(C12300=\"\",ISBLANK(C12300)),\"\",VLOOKUP(C12300,Sheet2!A:G,6,FALSE))","v":""},""]
[{"$f":"IF(OR(C12337=\"\",ISBLANK(C12337)),\"\",VLOOKUP(C12337,Sheet2!A:F,2,FALSE))","v":""},{"$f":"IF(OR(C12337=\"\",ISBLANK(C12337)),\"\",VLOOKUP(C12337,Sheet2!A:G,4,FALSE))","v":""},null,null,{"$f":"IF(OR(C12337=\"\",ISBLANK(C12337)),\"\",VLOOKUP(C12337,Sheet2!A:F,3,FALSE))","v":""},{"$f":"IF(OR(C12337=\"\",ISBLANK(C12337)),\"\",VLOOKUP(C12337,Sheet2!A:G,6,FALSE))","v":""},""]
[{"$f":"IF(OR(C12357=\"\",ISBLANK(C12357)),\"\",VLOOKUP(C12357,Sheet2!A:F,2,FALSE))","v":""},{"$f":"IF(OR(C12357=\"\",ISBLANK(C12357)),\"\",VLOOKUP(C12357,Sheet2!A:G,4,FALSE))","v":""},null,null,{"$f":"IF(OR(C12357=\"\",ISBLANK(C12357)),\"\",VLOOKUP(C12357,Sheet2!A:F,3,FALSE))","v":""},{"$f":"IF(OR(C12357=\"\",ISBLANK(C12357)),\"\",VLOOKUP(C12357,Sheet2!A:G,6,FALSE))","v":""},""]
[{"$f":"IF(OR(C12390=\"\",ISBLANK(C12390)),\"\",VLOOKUP(C12390,Sheet2!A:F,2,FALSE))","v":""},{"$f":"IF(OR(C12390=\"\",ISBLANK(C12390)),\"\",VLOOKUP(C12390,Sheet2!A:G,4,FALSE))","v":""},null,null,{"$f":"IF(OR(C12390=\"\",ISBLANK(C12390)),\"\",VLOOKUP(C12390,Sheet2!A:F,3,FALSE))","v":""},{"$f":"IF(OR(C12390=\"\",ISBLANK(C12390)),\"\",VLOOKUP(C12390,Sheet2!A:G,6,FALSE))","v":""},""]
[{"$f":"IF(OR(C12415=\"\",ISBLANK(C12415)),\"\",VLOOKUP(C12415,Sheet2!A:F,2,FALSE))","v":""},{"$f":"IF(OR(C12415=\"\",ISBLANK(C12415)),\"\",VLOOKUP(C12415,Sheet2!A:G,4,FALSE))","v":""},null,null,{"$f":"IF(OR(C12415=\"\",ISBLANK(C12415)),\"\",VLOOKUP(C12415,Sheet2!A:F,3,FALSE))","v":""},{"$f":"IF(OR(C12415=\"\",ISBLANK(C12415)),\"\",VLOOKUP(C12415,Sheet2!A:G,6,FALSE))","v":""},""]
[{"$f":"IF(OR(C12424=\"\",ISBLANK(C12424)),\"\",VLOOKUP(C12424,Sheet2!A:F,2,FALSE))","v":""},{"$f":"IF(OR(C12424=\"\",ISBLANK(C12424)),\"\",VLOOKUP(C12424,Sheet2!A:G,4,FALSE))","v":""},null,null,{"$f":"IF(OR(C12424=\"\",ISBLANK(C12424)),\"\",VLOOKUP(C12424,Sheet2!A:F,3,FALSE))","v":""},{"$f":"IF(OR(C12424=\"\",ISBLANK(C12424)),\"\",VLOOKUP(C12424,Sheet2!A:G,6,FALSE))","v":""},""]
[{"$f":"IF(OR(C12457=\"\",ISBLANK(C12457)),\"\",VLOOKUP(C12457,Sheet2!A:F,2,FALSE))","v":""},{"$f":"IF(OR(C12457=\"\",ISBLANK(C12457)),\"\",VLOOKUP(C12457,Sheet2!A:G,4,FALSE))","v":""},null,null,{"$f":"IF(OR(C12457=\"\",ISBLANK(C12457)),\"\",VLOOKUP(C12457,Sheet2!A:F,3,FALSE))","v":""},{"$f":"IF(OR(C12457=\"\",ISBLANK(C12457)),\"\",VLOOKUP(C12457,Sheet2!A:G,6,FALSE))","v":""},""]
[{"$f":"IF(OR(C12482=\"\",ISBLANK(C12482)),\"\",VLOOKUP(C12482,Sheet2!A:F,2,FALSE))","v":""},{"$f":"IF(OR(C12482=\"\",ISBLANK(C12482)),\"\",VLOOKUP(C12482,Sheet2!A:G,4,FALSE))","v":""},null,null,{"$f":"IF(OR(C12482=\"\",ISBLANK(C12482)),\"\",VLOOKUP(C12482,Sheet2!A:F,3,FALSE))","v":""},{"$f":"IF(OR(C12482=\"\",ISBLANK(C12482)),\"\",VLOOKUP(C12482,Sheet2!A:G,6,FALSE))","v":""},""]
[{"$f":"IF(OR(C12491=\"\",ISBLANK(C12491)),\"\",VLOOKUP(C12491,Sheet2!A:F,2,FALSE))","v":""},{"$f":"IF(OR(C12491=\"\",ISBLANK(C12491)),\"\",VLOOKUP(C12491,Sheet2!A:G,4,FALSE))","v":""},null,null,{"$f":"IF(OR(C12491=\"\",ISBLANK(C12491)),\"\",VLOOKUP(C12491,Sheet2!A:F,3,FALSE))","v":""},{"$f":"IF(OR(C12491=\"\",ISBLANK(C12491)),\"\",VLOOKUP(C12491,Sheet2!A:G,6,FALSE))","v":""},""]
[{"$f":"IF(OR(C12516=\"\",ISBLANK(C12516)),\"\",VLOOKUP(C12516,Sheet2!A:F,2,FALSE))","v":""},{"$f":"IF(OR(C12516=\"\",ISBLANK(C12516)),\"\",VLOOKUP(C12516,Sheet2!A:G,4,FALSE))","v":""},null,null,{"$f":"IF(OR(C12516=\"\",ISBLANK(C12516)),\"\",VLOOKUP(C12516,Sheet2!A:F,3,FALSE))","v":""},{"$f":"IF(OR(C12516=\"\",ISBLANK(C12516)),\"\",VLOOKUP(C12516,Sheet2!A:G,6,FALSE))","v":""},""]
[{"$f":"IF(OR(C12549=\"\",ISBLANK(C12549)),\"\",VLOOKUP(C12549,Sheet2!A:F,2,FALSE))","v":""},{"$f":"IF(OR(C12549=\"\",ISBLANK(C12549)),\"\",VLOOKUP(C12549,Sheet2!A:G,4,FALSE))","v":""},null,null,{"$f":"IF(OR(C12549=\"\",ISBLANK(C12549)),\"\",VLOOKUP(C12549,Sheet2!A:F,3,FALSE))","v":""},{"$f":"IF(OR(C12549=\"\",ISBLANK(C12549)),\"\",VLOOKUP(C12549,Sheet2!A:G,6,FALSE))","v":""},""]
[{"$f":"IF(OR(C12579=\"\",ISBLANK(C12579)),\"\",VLOOKUP(C12579,Sheet2!A:F,2,FALSE))","v":""},{"$f":"IF(OR(C12579=\"\",ISBLANK(C12579)),\"\",VLOOKUP(C12579,Sheet2!A:G,4,FALSE))","v":""},null,null,{"$f":"IF(OR(C12579=\"\",ISBLANK(C12579)),\"\",VLOOKUP(C12579,Sheet2!A:F,3,FALSE))","v":""},{"$f":"IF(OR(C12579=\"\",ISBLANK(C12579)),\"\",VLOOKUP(C12579,Sheet2!A:G,6,FALSE))","v":""},""]
[{"$f":"IF(OR(C12606=\"\",ISBLANK(C12606)),\"\",VLOOKUP(C12606,Sheet2!A:F,2,FALSE))","v":""},{"$f":"IF(OR(C12606=\"\",ISBLANK(C12606)),\"\",VLOOKUP(C12606,Sheet2!A:G,4,FALSE))","v":""},null,null,{"$f":"IF(OR(C12606=\"\",ISBLANK(C12606)),\"\",VLOOKUP(C12606,Sheet2!A:F,3,FALSE))","v":""},{"$f":"IF(OR(C12606=\"\",ISBLANK(C12606)),\"\",VLOOKUP(C12606,Sheet2!A:G,6,FALSE))","v":""},""]
[{"$f":"IF(OR(C12615=\"\",ISBLANK(C12615)),\"\",VLOOKUP(C12615,Sheet2!A:F,2,FALSE))","v":""},{"$f":"IF(OR(C12615=\"\",ISBLANK(C12615)),\"\",VLOOKUP(C12615,Sheet2!A:G,4,FALSE))","v":""},null,null,{"$f":"IF(OR(C12615=\"\",ISBLANK(C12615)),\"\",VLOOKUP(C12615,Sheet2!A:F,3,FALSE))","v":""},{"$f":"IF(OR(C12615=\"\",ISBLANK(C12615)),\"\",VLOOKUP(C12615,Sheet2!A:G,6,FALSE))","v":""},""]
[{"$f":"IF(OR(C12648=\"\",ISBLANK(C12648)),\"\",VLOOKUP(C12648,Sheet2!A:F,2,FALSE))","v":""},{"$f":"IF(OR(C12648=\"\",ISBLANK(C12648)),\"\",VLOOKUP(C12648,Sheet2!A:G,4,FALSE))","v":""},null,null,{"$f":"IF(OR(C12648=\"\",ISBLANK(C12648)),\"\",VLOOKUP(C12648,Sheet2!A:F,3,FALSE))","v":""},{"$f":"IF(OR(C12648=\"\",ISBLANK(C12648)),\"\",VLOOKUP(C12648,Sheet2!A:G,6,FALSE))","v":""},""]
[{"$f":"IF(OR(C12673=\"\",ISBLANK(C12673)),\"\",VLOOKUP(C12673,Sheet2!A:F,2,FALSE))","v":""},{"$f":"IF(OR(C12673=\"\",ISBLANK(C12673)),\"\",VLOOKUP(C12673,Sheet2!A:G,4,FALSE))","v":""},null,null,{"$f":"IF(OR(C12673=\"\",ISBLANK(C12673)),\"\",VLOOKUP(C12673,Sheet2!A:F,3,FALSE))","v":""},{"$f":"IF(OR(C12673=\"\",ISBLANK(C12673)),\"\",VLOOKUP(C12673,Sheet2!A:G,6,FALSE))","v":""},""]
[{"$f":"IF(OR(C12682=\"\",ISBLANK(C12682)),\"\",VLOOKUP(C12682,Sheet2!A:F,2,FALSE))","v":""},{"$f":"IF(OR(C12682=\"\",ISBLANK(C12682)),\"\",VLOOKUP(C12682,Sheet2!A:G,4,FALSE))","v":""},null,null,{"$f":"IF(OR(C12682=\"\",ISBLANK(C12682)),\"\",VLOOKUP(C12682,Sheet2!A:F,3,FALSE))","v":""},{"$f":"IF(OR(C12682=\"\",ISBLANK(C12682)),\"\",VLOOKUP(C12682,Sheet2!A:G,6,FALSE))","v":""},""]
[{"$f":"IF(OR(C12707=\"\",ISBLANK(C12707)),\"\",VLOOKUP(C12707,Sheet2!A:F,2,FALSE))","v":""},{"$f":"IF(OR(C12707=\"\",ISBLANK(C12707)),\"\",VLOOKUP(C12707,Sheet2!A:G,4,FALSE))","v":""},null,null,{"$f":"IF(OR(C12707=\"\",ISBLANK(C12707)),\"\",VLOOKUP(C12707,Sheet2!A:F,3,FALSE))","v":""},{"$f":"IF(OR(C12707=\"\",ISBLANK(C12707)),\"\",VLOOKUP(C12707,Sheet2!A:G,6,FALSE))","v":""},""]
[{"$f":"IF(OR(C12740=\"\",ISBLANK(C12740)),\"\",VLOOKUP(C12740,Sheet2!A:F,2,FALSE))","v":""},{"$f":"IF(OR(C12740=\"\",ISBLANK(C12740)),\"\",VLOOKUP(C12740,Sheet2!A:G,4,FALSE))","v":""},null,null,{"$f":"IF(OR(C12740=\"\",ISBLANK(C12740)),\"\",VLOOKUP(C12740,Sheet2!A:F,3,FALSE))","v":""},{"$f":"IF(OR(C12740=\"\",ISBLANK(C12740)),\"\",VLOOKUP(C12740,Sheet2!A:G,6,FALSE))","v":""},""]
[{"$f":"IF(OR(C12773=\"\",ISBLANK(C12773)),\"\",VLOOKUP(C12773,Sheet2!A:F,2,FALSE))","v":""},{"$f":"IF(OR(C12773=\"\",ISBLANK(C12773)),\"\",VLOOKUP(C12773,Sheet2!A:G,4,FALSE))","v":""},null,null,{"$f":"IF(OR(C12773=\"\",ISBLANK(C12773)),\"\",VLOOKUP(C12773,Sheet2!A:F,3,FALSE))","v":""},{"$f":"IF(OR(C12773=\"\",ISBLANK(C12773)),\"\",VLOOKUP(C12773,Sheet2!A:G,6,FALSE))","v":""},""]
[{"$f":"IF(OR(C12787=\"\",ISBLANK(C12787)),\"\",VLOOKUP(C12787,Sheet2!A:F,2,FALSE))","v":""},{"$f":"IF(OR(C12787=\"\",ISBLANK(C12787)),\"\",VLOOKUP(C12787,Sheet2!A:G,4,FALSE))","v":""},null,null,{"$f":"IF(OR(C12787=\"\",ISBLANK(C12787)),\"\",VLOOKUP(C12787,Sheet2!A:F,3,FALSE))","v":""},{"$f":"IF(OR(C12787=\"\",ISBLANK(C12787)),\"\",VLOOKUP(C12787,Sheet2!A:G,6,FALSE))","v":""},""]
[{"$f":"IF(OR(C12806=\"\",ISBLANK(C12806)),\"\",VLOOKUP(C12806,Sheet2!A:F,2,FALSE))","v":""},{"$f":"IF(OR(C12806=\"\",ISBLANK(C12806)),\"\",VLOOKUP(C12806,Sheet2!A:G,4,FALSE))","v":""},null,null,{"$f":"IF(OR(C12806=\"\",ISBLANK(C12806)),\"\",VLOOKUP(C12806,Sheet2!A:F,3,FALSE))","v":""},{"$f":"IF(OR(C12806=\"\",ISBLANK(C12806)),\"\",VLOOKUP(C12806,Sheet2!A:G,6,FALSE))","v":""},""]
[{"$f":"IF(OR(C12831=\"\",ISBLANK(C12831)),\"\",VLOOKUP(C12831,Sheet2!A:F,2,FALSE))","v":""},{"$f":"IF(OR(C12831=\"\",ISBLANK(C12831)),\"\",VLOOKUP(C12831,Sheet2!A:G,4,FALSE))","v":""},null,null,{"$f":"IF(OR(C12831=\"\",ISBLANK(C12831)),\"\",VLOOKUP(C12831,Sheet2!A:F,3,FALSE))","v":""},{"$f":"IF(OR(C12831=\"\",ISBLANK(C12831)),\"\",VLOOKUP(C12831,Sheet2!A:G,6,FALSE))","v":""},""]
[{"$f":"IF(OR(C12864=\"\",ISBLANK(C12864)),\"\",VLOOKUP(C12864,Sheet2!A:F,2,FALSE))","v":""},{"$f":"IF(OR(C12864=\"\",ISBLANK(C12864)),\"\",VLOOKUP(C12864,Sheet2!A:G,4,FALSE))","v":""},null,null,{"$f":"IF(OR(C12864=\"\",ISBLANK(C12864)),\"\",VLOOKUP(C12864,Sheet2!A:F,3,FALSE))","v":""},{"$f":"IF(OR(C12864=\"\",ISBLANK(C12864)),\"\",VLOOKUP(C12864,Sheet2!A:G,6,FALSE))","v":""},""]
[{"$f":"IF(OR(C12873=\"\",ISBLANK(C12873)),\"\",VLOOKUP(C12873,Sheet2!A:F,2,FALSE))","v":""},{"$f":"IF(OR(C12873=\"\",ISBLANK(C12873)),\"\",VLOOKUP(C12873,Sheet2!A:G,4,FALSE))","v":""},null,null,{"$f":"IF(OR(C12873=\"\",ISBLANK(C12873)),\"\",VLOOKUP(C12873,Sheet2!A:F,3,FALSE))","v":""},{"$f":"IF(OR(C12873=\"\",ISBLANK(C12873)),\"\",VLOOKUP(C12873,Sheet2!A:G,6,FALSE))","v":""},""]
[{"$f":"IF(OR(C12898=\"\",ISBLANK(C12898)),\"\",VLOOKUP(C12898,Sheet2!A:F,2,FALSE))","v":""},{"$f":"IF(OR(C12898=\"\",ISBLANK(C12898)),\"\",VLOOKUP(C12898,Sheet2!A:G,4,FALSE))","v":""},null,null,{"$f":"IF(OR(C12898=\"\",ISBLANK(C12898)),\"\",VLOOKUP(C12898,Sheet2!A:F,3,FALSE))","v":""},{"$f":"IF(OR(C12898=\"\",ISBLANK(C12898)),\"\",VLOOKUP(C12898,Sheet2!A:G,6,FALSE))","v":""},""]
[{"$f":"IF(OR(C12931=\"\",ISBLANK(C12931)),\"\",VLOOKUP(C12931,Sheet2!A:F,2,FALSE))","v":""},{"$f":"IF(OR(C12931=\"\",ISBLANK(C12931)),\"\",VLOOKUP(C12931,Sheet2!A:G,4,FALSE))","v":""},null,null,{"$f":"IF(OR(C12931=\"\",ISBLANK(C12931)),\"\",VLOOKUP(C12931,Sheet2!A:F,3,FALSE))","v":""},{"$f":"IF(OR(C12931=\"\",ISBLANK(C12931)),\"\",VLOOKUP(C12931,Sheet2!A:G,6,FALSE))","v":""},{"$f":"IF(F12931=0,\"\",F12931)","v":""}]
[{"$f":"IF(OR(C12964=\"\",ISBLANK(C12964)),\"\",VLOOKUP(C12964,Sheet2!A:F,2,FALSE))","v":""},{"$f":"IF(OR(C12964=\"\",ISBLANK(C12964)),\"\",VLOOKUP(C12964,Sheet2!A:G,4,FALSE))","v":""},null,null,{"$f":"IF(OR(C12964=\"\",ISBLANK(C12964)),\"\",VLOOKUP(C12964,Sheet2!A:F,3,FALSE))","v":""},{"$f":"IF(OR(C12964=\"\",ISBLANK(C12964)),\"\",VLOOKUP(C12964,Sheet2!A:G,6,FALSE))","v":""},""]
[{"$f":"IF(OR(C12989=\"\",ISBLANK(C12989)),\"\",VLOOKUP(C12989,Sheet2!A:F,2,FALSE))","v":""},{"$f":"IF(OR(C12989=\"\",ISBLANK(C12989)),\"\",VLOOKUP(C12989,Sheet2!A:G,4,FALSE))","v":""},null,null,{"$f":"IF(OR(C12989=\"\",ISBLANK(C12989)),\"\",VLOOKUP(C12989,Sheet2!A:F,3,FALSE))","v":""},{"$f":"IF(OR(C12989=\"\",ISBLANK(C12989)),\"\",VLOOKUP(C12989,Sheet2!A:G,6,FALSE))","v":""},""]
[{"$f":"IF(OR(C12998=\"\",ISBLANK(C12998)),\"\",VLOOKUP(C12998,Sheet2!A:F,2,FALSE))","v":""},{"$f":"IF(OR(C12998=\"\",ISBLANK(C12998)),\"\",VLOOKUP(C12998,Sheet2!A:G,4,FALSE))","v":""},null,null,{"$f":"IF(OR(C12998=\"\",ISBLANK(C12998)),\"\",VLOOKUP(C12998,Sheet2!A:F,3,FALSE))","v":""},{"$f":"IF(OR(C12998=\"\",ISBLANK(C12998)),\"\",VLOOKUP(C12998,Sheet2!A:G,6,FALSE))","v":""},""]
[{"$f":"IF(OR(C13018=\"\",ISBLANK(C13018)),\"\",VLOOKUP(C13018,Sheet2!A:F,2,FALSE))","v":""},{"$f":"IF(OR(C13018=\"\",ISBLANK(C13018)),\"\",VLOOKUP(C13018,Sheet2!A:G,4,FALSE))","v":""},null,null,{"$f":"IF(OR(C13018=\"\",ISBLANK(C13018)),\"\",VLOOKUP(C13018,Sheet2!A:F,3,FALSE))","v":""},{"$f":"IF(OR(C13018=\"\",ISBLANK(C13018)),\"\",VLOOKUP(C13018,Sheet2!A:G,6,FALSE))","v":""},""]
[{"$f":"IF(OR(C13055=\"\",ISBLANK(C13055)),\"\",VLOOKUP(C13055,Sheet2!A:F,2,FALSE))","v":""},{"$f":"IF(OR(C13055=\"\",ISBLANK(C13055)),\"\",VLOOKUP(C13055,Sheet2!A:G,4,FALSE))","v":""},null,null,{"$f":"IF(OR(C13055=\"\",ISBLANK(C13055)),\"\",VLOOKUP(C13055,Sheet2!A:F,3,FALSE))","v":""},{"$f":"IF(OR(C13055=\"\",ISBLANK(C13055)),\"\",VLOOKUP(C13055,Sheet2!A:G,6,FALSE))","v":""},""]
[{"$f":"IF(OR(C13064=\"\",ISBLANK(C13064)),\"\",VLOOKUP(C13064,Sheet2!A:F,2,FALSE))","v":""},{"$f":"IF(OR(C13064=\"\",ISBLANK(C13064)),\"\",VLOOKUP(C13064,Sheet2!A:G,4,FALSE))","v":""},null,null,{"$f":"IF(OR(C13064=\"\",ISBLANK(C13064)),\"\",VLOOKUP(C13064,Sheet2!A:F,3,FALSE))","v":""},{"$f":"IF(OR(C13064=\"\",ISBLANK(C13064)),\"\",VLOOKUP(C13064,Sheet2!A:G,6,FALSE))","v":""},""]
[{"$f":"IF(OR(C13089=\"\",ISBLANK(C13089)),\"\",VLOOKUP(C13089,Sheet2!A:F,2,FALSE))","v":""},{"$f":"IF(OR(C13089=\"\",ISBLANK(C13089)),\"\",VLOOKUP(C13089,Sheet2!A:G,4,FALSE))","v":""},null,null,{"$f":"IF(OR(C13089=\"\",ISBLANK(C13089)),\"\",VLOOKUP(C13089,Sheet2!A:F,3,FALSE))","v":""},{"$f":"IF(OR(C13089=\"\",ISBLANK(C13089)),\"\",VLOOKUP(C13089,Sheet2!A:G,6,FALSE))","v":""},""]
[{"$f":"IF(OR(C13122=\"\",ISBLANK(C13122)),\"\",VLOOKUP(C13122,Sheet2!A:F,2,FALSE))","v":""},{"$f":"IF(OR(C13122=\"\",ISBLANK(C13122)),\"\",VLOOKUP(C13122,Sheet2!A:G,4,FALSE))","v":""},null,null,{"$f":"IF(OR(C13122=\"\",ISBLANK(C13122)),\"\",VLOOKUP(C13122,Sheet2!A:F,3,FALSE))","v":""},{"$f":"IF(OR(C13122=\"\",ISBLANK(C13122)),\"\",VLOOKUP(C13122,Sheet2!A:G,6,FALSE))","v":""},""]
[{"$f":"IF(OR(C13155=\"\",ISBLANK(C13155)),\"\",VLOOKUP(C13155,Sheet2!A:F,2,FALSE))","v":""},{"$f":"IF(OR(C13155=\"\",ISBLANK(C13155)),\"\",VLOOKUP(C13155,Sheet2!A:G,4,FALSE))","v":""},null,null,{"$f":"IF(OR(C13155=\"\",ISBLANK(C13155)),\"\",VLOOKUP(C13155,Sheet2!A:F,3,FALSE))","v":""},{"$f":"IF(OR(C13155=\"\",ISBLANK(C13155)),\"\",VLOOKUP(C13155,Sheet2!A:G,6,FALSE))","v":""},""]
[{"$f":"IF(OR(C13180=\"\",ISBLANK(C13180)),\"\",VLOOKUP(C13180,Sheet2!A:F,2,FALSE))","v":""},{"$f":"IF(OR(C13180=\"\",ISBLANK(C13180)),\"\",VLOOKUP(C13180,Sheet2!A:G,4,FALSE))","v":""},null,null,{"$f":"IF(OR(C13180=\"\",ISBLANK(C13180)),\"\",VLOOKUP(C13180,Sheet2!A:F,3,FALSE))","v":""},{"$f":"IF(OR(C13180=\"\",ISBLANK(C13180)),\"\",VLOOKUP(C13180,Sheet2!A:G,6,FALSE))","v":""},""]
[{"$f":"IF(OR(C13189=\"\",ISBLANK(C13189)),\"\",VLOOKUP(C13189,Sheet2!A:F,2,FALSE))","v":""},{"$f":"IF(OR(C13189=\"\",ISBLANK(C13189)),\"\",VLOOKUP(C13189,Sheet2!A:G,4,FALSE))","v":""},null,null,{"$f":"IF(OR(C13189=\"\",ISBLANK(C13189)),\"\",VLOOKUP(C13189,Sheet2!A:F,3,FALSE))","v":""},{"$f":"IF(OR(C13189=\"\",ISBLANK(C13189)),\"\",VLOOKUP(C13189,Sheet2!A:G,6,FALSE))","v":""},""]
[{"$f":"IF(OR(C13214=\"\",ISBLANK(C13214)),\"\",VLOOKUP(C13214,Sheet2!A:F,2,FALSE))","v":""},{"$f":"IF(OR(C13214=\"\",ISBLANK(C13214)),\"\",VLOOKUP(C13214,Sheet2!A:G,4,FALSE))","v":""},null,null,{"$f":"IF(OR(C13214=\"\",ISBLANK(C13214)),\"\",VLOOKUP(C13214,Sheet2!A:F,3,FALSE))","v":""},{"$f":"IF(OR(C13214=\"\",ISBLANK(C13214)),\"\",VLOOKUP(C13214,Sheet2!A:G,6,FALSE))","v":""},""]
[{"$f":"IF(OR(C13247=\"\",ISBLANK(C13247)),\"\",VLOOKUP(C13247,Sheet2!A:F,2,FALSE))","v":""},{"$f":"IF(OR(C13247=\"\",ISBLANK(C13247)),\"\",VLOOKUP(C13247,Sheet2!A:G,4,FALSE))","v":""},null,null,{"$f":"IF(OR(C13247=\"\",ISBLANK(C13247)),\"\",VLOOKUP(C13247,Sheet2!A:F,3,FALSE))","v":""},{"$f":"IF(OR(C13247=\"\",ISBLANK(C13247)),\"\",VLOOKUP(C13247,Sheet2!A:G,6,FALSE))","v":""},""]
[{"$f":"IF(OR(C13260=\"\",ISBLANK(C13260)),\"\",VLOOKUP(C13260,Sheet2!A:F,2,FALSE))","v":""},{"$f":"IF(OR(C13260=\"\",ISBLANK(C13260)),\"\",VLOOKUP(C13260,Sheet2!A:G,4,FALSE))","v":""},null,null,{"$f":"IF(OR(C13260=\"\",ISBLANK(C13260)),\"\",VLOOKUP(C13260,Sheet2!A:F,3,FALSE))","v":""},{"$f":"IF(OR(C13260=\"\",ISBLANK(C13260)),\"\",VLOOKUP(C13260,Sheet2!A:G,6,FALSE))","v":""},""]
[{"$f":"IF(OR(C13280=\"\",ISBLANK(C13280)),\"\",VLOOKUP(C13280,Sheet2!A:F,2,FALSE))","v":""},{"$f":"IF(OR(C13280=\"\",ISBLANK(C13280)),\"\",VLOOKUP(C13280,Sheet2!A:G,4,FALSE))","v":""},null,null,{"$f":"IF(OR(C13280=\"\",ISBLANK(C13280)),\"\",VLOOKUP(C13280,Sheet2!A:F,3,FALSE))","v":""},{"$f":"IF(OR(C13280=\"\",ISBLANK(C13280)),\"\",VLOOKUP(C13280,Sheet2!A:G,6,FALSE))","v":""},""]
[{"$f":"IF(OR(C13313=\"\",ISBLANK(C13313)),\"\",VLOOKUP(C13313,Sheet2!A:F,2,FALSE))","v":""},{"$f":"IF(OR(C13313=\"\",ISBLANK(C13313)),\"\",VLOOKUP(C13313,Sheet2!A:G,4,FALSE))","v":""},null,null,{"$f":"IF(OR(C13313=\"\",ISBLANK(C13313)),\"\",VLOOKUP(C13313,Sheet2!A:F,3,FALSE))","v":""},{"$f":"IF(OR(C13313=\"\",ISBLANK(C13313)),\"\",VLOOKUP(C13313,Sheet2!A:G,6,FALSE))","v":""},""]
[{"$f":"IF(OR(C13338=\"\",ISBLANK(C13338)),\"\",VLOOKUP(C13338,Sheet2!A:F,2,FALSE))","v":""},{"$f":"IF(OR(C13338=\"\",ISBLANK(C13338)),\"\",VLOOKUP(C13338,Sheet2!A:G,4,FALSE))","v":""},null,null,{"$f":"IF(OR(C13338=\"\",ISBLANK(C13338)),\"\",VLOOKUP(C13338,Sheet2!A:F,3,FALSE))","v":""},{"$f":"IF(OR(C13338=\"\",ISBLANK(C13338)),\"\",VLOOKUP(C13338,Sheet2!A:G,6,FALSE))","v":""},""]
[{"$f":"IF(OR(C13371=\"\",ISBLANK(C13371)),\"\",VLOOKUP(C13371,Sheet2!A:F,2,FALSE))","v":""},{"$f":"IF(OR(C13371=\"\",ISBLANK(C13371)),\"\",VLOOKUP(C13371,Sheet2!A:G,4,FALSE))","v":""},null,null,{"$f":"IF(OR(C13371=\"\",ISBLANK(C13371)),\"\",VLOOKUP(C13371,Sheet2!A:F,3,FALSE))","v":""},{"$f":"IF(OR(C13371=\"\",ISBLANK(C13371)),\"\",VLOOKUP(C13371,Sheet2!A:G,6,FALSE))","v":""},""]
[{"$f":"IF(OR(C13380=\"\",ISBLANK(C13380)),\"\",VLOOKUP(C13380,Sheet2!A:F,2,FALSE))","v":""},{"$f":"IF(OR(C13380=\"\",ISBLANK(C13380)),\"\",VLOOKUP(C13380,Sheet2!A:G,4,FALSE))","v":""},null,null,{"$f":"IF(OR(C13380=\"\",ISBLANK(C13380)),\"\",VLOOKUP(C13380,Sheet2!A:F,3,FALSE))","v":""},{"$f":"IF(OR(C13380=\"\",ISBLANK(C13380)),\"\",VLOOKUP(C13380,Sheet2!A:G,6,FALSE))","v":""},""]
[{"$f":"IF(OR(C13405=\"\",ISBLANK(C13405)),\"\",VLOOKUP(C13405,Sheet2!A:F,2,FALSE))","v":""},{"$f":"IF(OR(C13405=\"\",ISBLANK(C13405)),\"\",VLOOKUP(C13405,Sheet2!A:G,4,FALSE))","v":""},null,null,{"$f":"IF(OR(C13405=\"\",ISBLANK(C13405)),\"\",VLOOKUP(C13405,Sheet2!A:F,3,FALSE))","v":""},{"$f":"IF(OR(C13405=\"\",ISBLANK(C13405)),\"\",VLOOKUP(C13405,Sheet2!A:G,6,FALSE))","v":""},""]
[{"$f":"IF(OR(C13438=\"\",ISBLANK(C13438)),\"\",VLOOKUP(C13438,Sheet2!A:F,2,FALSE))","v":""},{"$f":"IF(OR(C13438=\"\",ISBLANK(C13438)),\"\",VLOOKUP(C13438,Sheet2!A:G,4,FALSE))","v":""},null,null,{"$f":"IF(OR(C13438=\"\",ISBLANK(C13438)),\"\",VLOOKUP(C13438,Sheet2!A:F,3,FALSE))","v":""},{"$f":"IF(OR(C13438=\"\",ISBLANK(C13438)),\"\",VLOOKUP(C13438,Sheet2!A:G,6,FALSE))","v":""},""]
[{"$f":"IF(OR(C13447=\"\",ISBLANK(C13447)),\"\",VLOOKUP(C13447,Sheet2!A:F,2,FALSE))","v":""},{"$f":"IF(OR(C13447=\"\",ISBLANK(C13447)),\"\",VLOOKUP(C13447,Sheet2!A:G,4,FALSE))","v":""},null,null,{"$f":"IF(OR(C13447=\"\",ISBLANK(C13447)),\"\",VLOOKUP(C13447,Sheet2!A:F,3,FALSE))","v":""},{"$f":"IF(OR(C13447=\"\",ISBLANK(C13447)),\"\",VLOOKUP(C13447,Sheet2!A:G,6,FALSE))","v":""},""]
[{"$f":"IF(OR(C13491=\"\",ISBLANK(C13491)),\"\",VLOOKUP(C13491,Sheet2!A:F,2,FALSE))","v":""},{"$f":"IF(OR(C13491=\"\",ISBLANK(C13491)),\"\",VLOOKUP(C13491,Sheet2!A:G,4,FALSE))","v":""},null,null,{"$f":"IF(OR(C13491=\"\",ISBLANK(C13491)),\"\",VLOOKUP(C13491,Sheet2!A:F,3,FALSE))","v":""},{"$f":"IF(OR(C13491=\"\",ISBLANK(C13491)),\"\",VLOOKUP(C13491,Sheet2!A:G,6,FALSE))","v":""},""]
[{"$f":"IF(OR(C13504=\"\",ISBLANK(C13504)),\"\",VLOOKUP(C13504,Sheet2!A:F,2,FALSE))","v":""},{"$f":"IF(OR(C13504=\"\",ISBLANK(C13504)),\"\",VLOOKUP(C13504,Sheet2!A:G,4,FALSE))","v":""},null,null,{"$f":"IF(OR(C13504=\"\",ISBLANK(C13504)),\"\",VLOOKUP(C13504,Sheet2!A:F,3,FALSE))","v":""},{"$f":"IF(OR(C13504=\"\",ISBLANK(C13504)),\"\",VLOOKUP(C13504,Sheet2!A:G,6,FALSE))","v":""},""]
[{"$f":"IF(OR(C13529=\"\",ISBLANK(C13529)),\"\",VLOOKUP(C13529,Sheet2!A:F,2,FALSE))","v":""},{"$f":"IF(OR(C13529=\"\",ISBLANK(C13529)),\"\",VLOOKUP(C13529,Sheet2!A:G,4,FALSE))","v":""},null,null,{"$f":"IF(OR(C13529=\"\",ISBLANK(C13529)),\"\",VLOOKUP(C13529,Sheet2!A:F,3,FALSE))","v":""},{"$f":"IF(OR(C13529=\"\",ISBLANK(C13529)),\"\",VLOOKUP(C13529,Sheet2!A:G,6,FALSE))","v":""},""]
[{"$f":"IF(OR(C13562=\"\",ISBLANK(C13562)),\"\",VLOOKUP(C13562,Sheet2!A:F,2,FALSE))","v":""},{"$f":"IF(OR(C13562=\"\",ISBLANK(C13562)),\"\",VLOOKUP(C13562,Sheet2!A:G,4,FALSE))","v":""},null,null,{"$f":"IF(OR(C13562=\"\",ISBLANK(C13562)),\"\",VLOOKUP(C13562,Sheet2!A:F,3,FALSE))","v":""},{"$f":"IF(OR(C13562=\"\",ISBLANK(C13562)),\"\",VLOOKUP(C13562,Sheet2!A:G,6,FALSE))","v":""},""]
[{"$f":"IF(OR(C13571=\"\",ISBLANK(C13571)),\"\",VLOOKUP(C13571,Sheet2!A:F,2,FALSE))","v":""},{"$f":"IF(OR(C13571=\"\",ISBLANK(C13571)),\"\",VLOOKUP(C13571,Sheet2!A:G,4,FALSE))","v":""},null,null,{"$f":"IF(OR(C13571=\"\",ISBLANK(C13571)),\"\",VLOOKUP(C13571,Sheet2!A:F,3,FALSE))","v":""},{"$f":"IF(OR(C13571=\"\",ISBLANK(C13571)),\"\",VLOOKUP(C13571,Sheet2!A:G,6,FALSE))","v":""},{"$f":"IF(F13571=0,\"\",F13571)","v":""}]
[{"$f":"IF(OR(C13596=\"\",ISBLANK(C13596)),\"\",VLOOKUP(C13596,Sheet2!A:F,2,FALSE))","v":""},{"$f":"IF(OR(C13596=\"\",ISBLANK(C13596)),\"\",VLOOKUP(C13596,Sheet2!A:G,4,FALSE))","v":""},null,null,{"$f":"IF(OR(C13596=\"\",ISBLANK(C13596)),\"\",VLOOKUP(C13596,Sheet2!A:F,3,FALSE))","v":""},{"$f":"IF(OR(C13596=\"\",ISBLANK(C13596)),\"\",VLOOKUP(C13596,Sheet2!A:G,6,FALSE))","v":""},""]
[{"$f":"IF(OR(C13629=\"\",ISBLANK(C13629)),\"\",VLOOKUP(C13629,Sheet2!A:F,2,FALSE))","v":""},{"$f":"IF(OR(C13629=\"\",ISBLANK(C13629)),\"\",VLOOKUP(C13629,Sheet2!A:G,4,FALSE))","v":""},null,null,{"$f":"IF(OR(C13629=\"\",ISBLANK(C13629)),\"\",VLOOKUP(C13629,Sheet2!A:F,3,FALSE))","v":""},{"$f":"IF(OR(C13629=\"\",ISBLANK(C13629)),\"\",VLOOKUP(C13629,Sheet2!A:G,6,FALSE))","v":""},""]
[{"$f":"IF(OR(C13654=\"\",ISBLANK(C13654)),\"\",VLOOKUP(C13654,Sheet2!A:F,2,FALSE))","v":""},{"$f":"IF(OR(C13654=\"\",ISBLANK(C13654)),\"\",VLOOKUP(C13654,Sheet2!A:G,4,FALSE))","v":""},null,null,{"$f":"IF(OR(C13654=\"\",ISBLANK(C13654)),\"\",VLOOKUP(C13654,Sheet2!A:F,3,FALSE))","v":""},{"$f":"IF(OR(C13654=\"\",ISBLANK(C13654)),\"\",VLOOKUP(C13654,Sheet2!A:G,6,FALSE))","v":""},""]
[{"$f":"IF(OR(C13663=\"\",ISBLANK(C13663)),\"\",VLOOKUP(C13663,Sheet2!A:F,2,FALSE))","v":""},{"$f":"IF(OR(C13663=\"\",ISBLANK(C13663)),\"\",VLOOKUP(C13663,Sheet2!A:G,4,FALSE))","v":""},null,null,{"$f":"IF(OR(C13663=\"\",ISBLANK(C13663)),\"\",VLOOKUP(C13663,Sheet2!A:F,3,FALSE))","v":""},{"$f":"IF(OR(C13663=\"\",ISBLANK(C13663)),\"\",VLOOKUP(C13663,Sheet2!A:G,6,FALSE))","v":""},""]
[{"$f":"IF(OR(C13696=\"\",ISBLANK(C13696)),\"\",VLOOKUP(C13696,Sheet2!A:F,2,FALSE))","v":""},{"$f":"IF(OR(C13696=\"\",ISBLANK(C13696)),\"\",VLOOKUP(C13696,Sheet2!A:G,4,FALSE))","v":""},null,null,{"$f":"IF(OR(C13696=\"\",ISBLANK(C13696)),\"\",VLOOKUP(C13696,Sheet2!A:F,3,FALSE))","v":""},{"$f":"IF(OR(C13696=\"\",ISBLANK(C13696)),\"\",VLOOKUP(C13696,Sheet2!A:G,6,FALSE))","v":""},""]
[{"$f":"IF(OR(C13722=\"\",ISBLANK(C13722)),\"\",VLOOKUP(C13722,Sheet2!A:F,2,FALSE))","v":""},{"$f":"IF(OR(C13722=\"\",ISBLANK(C13722)),\"\",VLOOKUP(C13722,Sheet2!A:G,4,FALSE))","v":""},null,null,{"$f":"IF(OR(C13722=\"\",ISBLANK(C13722)),\"\",VLOOKUP(C13722,Sheet2!A:F,3,FALSE))","v":""},{"$f":"IF(OR(C13722=\"\",ISBLANK(C13722)),\"\",VLOOKUP(C13722,Sheet2!A:G,6,FALSE))","v":""},""]
[{"$f":"IF(OR(C13753=\"\",ISBLANK(C13753)),\"\",VLOOKUP(C13753,Sheet2!A:F,2,FALSE))","v":""},{"$f":"IF(OR(C13753=\"\",ISBLANK(C13753)),\"\",VLOOKUP(C13753,Sheet2!A:G,4,FALSE))","v":""},null,null,{"$f":"IF(OR(C13753=\"\",ISBLANK(C13753)),\"\",VLOOKUP(C13753,Sheet2!A:F,3,FALSE))","v":""},{"$f":"IF(OR(C13753=\"\",ISBLANK(C13753)),\"\",VLOOKUP(C13753,Sheet2!A:G,6,FALSE))","v":""},""]
[{"$f":"IF(OR(C13762=\"\",ISBLANK(C13762)),\"\",VLOOKUP(C13762,Sheet2!A:F,2,FALSE))","v":""},{"$f":"IF(OR(C13762=\"\",ISBLANK(C13762)),\"\",VLOOKUP(C13762,Sheet2!A:G,4,FALSE))","v":""},null,null,{"$f":"IF(OR(C13762=\"\",ISBLANK(C13762)),\"\",VLOOKUP(C13762,Sheet2!A:F,3,FALSE))","v":""},{"$f":"IF(OR(C13762=\"\",ISBLANK(C13762)),\"\",VLOOKUP(C13762,Sheet2!A:G,6,FALSE))","v":""},""]
[{"$f":"IF(OR(C13787=\"\",ISBLANK(C13787)),\"\",VLOOKUP(C13787,Sheet2!A:F,2,FALSE))","v":""},{"$f":"IF(OR(C13787=\"\",ISBLANK(C13787)),\"\",VLOOKUP(C13787,Sheet2!A:G,4,FALSE))","v":""},null,null,{"$f":"IF(OR(C13787=\"\",ISBLANK(C13787)),\"\",VLOOKUP(C13787,Sheet2!A:F,3,FALSE))","v":""},{"$f":"IF(OR(C13787=\"\",ISBLANK(C13787)),\"\",VLOOKUP(C13787,Sheet2!A:G,6,FALSE))","v":""},""]
[{"$f":"IF(OR(C13820=\"\",ISBLANK(C13820)),\"\",VLOOKUP(C13820,Sheet2!A:F,2,FALSE))","v":""},{"$f":"IF(OR(C13820=\"\",ISBLANK(C13820)),\"\",VLOOKUP(C13820,Sheet2!A:G,4,FALSE))","v":""},null,null,{"$f":"IF(OR(C13820=\"\",ISBLANK(C13820)),\"\",VLOOKUP(C13820,Sheet2!A:F,3,FALSE))","v":""},{"$f":"IF(OR(C13820=\"\",ISBLANK(C13820)),\"\",VLOOKUP(C13820,Sheet2!A:G,6,FALSE))","v":""},""]
[{"$f":"IF(OR(C13845=\"\",ISBLANK(C13845)),\"\",VLOOKUP(C13845,Sheet2!A:F,2,FALSE))","v":""},{"$f":"IF(OR(C13845=\"\",ISBLANK(C13845)),\"\",VLOOKUP(C13845,Sheet2!A:G,4,FALSE))","v":""},null,null,{"$f":"IF(OR(C13845=\"\",ISBLANK(C13845)),\"\",VLOOKUP(C13845,Sheet2!A:F,3,FALSE))","v":""},{"$f":"IF(OR(C13845=\"\",ISBLANK(C13845)),\"\",VLOOKUP(C13845,Sheet2!A:G,6,FALSE))","v":""},""]
[{"$f":"IF(OR(C13854=\"\",ISBLANK(C13854)),\"\",VLOOKUP(C13854,Sheet2!A:F,2,FALSE))","v":""},{"$f":"IF(OR(C13854=\"\",ISBLANK(C13854)),\"\",VLOOKUP(C13854,Sheet2!A:G,4,FALSE))","v":""},null,null,{"$f":"IF(OR(C13854=\"\",ISBLANK(C13854)),\"\",VLOOKUP(C13854,Sheet2!A:F,3,FALSE))","v":""},{"$f":"IF(OR(C13854=\"\",ISBLANK(C13854)),\"\",VLOOKUP(C13854,Sheet2!A:G,6,FALSE))","v":""},""]
[{"$f":"IF(OR(C13887=\"\",ISBLANK(C13887)),\"\",VLOOKUP(C13887,Sheet2!A:F,2,FALSE))","v":""},{"$f":"IF(OR(C13887=\"\",ISBLANK(C13887)),\"\",VLOOKUP(C13887,Sheet2!A:G,4,FALSE))","v":""},null,null,{"$f":"IF(OR(C13887=\"\",ISBLANK(C13887)),\"\",VLOOKUP(C13887,Sheet2!A:F,3,FALSE))","v":""},{"$f":"IF(OR(C13887=\"\",ISBLANK(C13887)),\"\",VLOOKUP(C13887,Sheet2!A:G,6,FALSE))","v":""},""]
[{"$f":"IF(OR(C13912=\"\",ISBLANK(C13912)),\"\",VLOOKUP(C13912,Sheet2!A:F,2,FALSE))","v":""},{"$f":"IF(OR(C13912=\"\",ISBLANK(C13912)),\"\",VLOOKUP(C13912,Sheet2!A:G,4,FALSE))","v":""},null,null,{"$f":"IF(OR(C13912=\"\",ISBLANK(C13912)),\"\",VLOOKUP(C13912,Sheet2!A:F,3,FALSE))","v":""},{"$f":"IF(OR(C13912=\"\",ISBLANK(C13912)),\"\",VLOOKUP(C13912,Sheet2!A:G,6,FALSE))","v":""},""]
[{"$f":"IF(OR(C13945=\"\",ISBLANK(C13945)),\"\",VLOOKUP(C13945,Sheet2!A:F,2,FALSE))","v":""},{"$f":"IF(OR(C13945=\"\",ISBLANK(C13945)),\"\",VLOOKUP(C13945,Sheet2!A:G,4,FALSE))","v":""},null,null,{"$f":"IF(OR(C13945=\"\",ISBLANK(C13945)),\"\",VLOOKUP(C13945,Sheet2!A:F,3,FALSE))","v":""},{"$f":"IF(OR(C13945=\"\",ISBLANK(C13945)),\"\",VLOOKUP(C13945,Sheet2!A:G,6,FALSE))","v":""},""]
[{"$f":"IF(OR(C13964=\"\",ISBLANK(C13964)),\"\",VLOOKUP(C13964,Sheet2!A:F,2,FALSE))","v":""},{"$f":"IF(OR(C13964=\"\",ISBLANK(C13964)),\"\",VLOOKUP(C13964,Sheet2!A:G,4,FALSE))","v":""},null,null,{"$f":"IF(OR(C13964=\"\",ISBLANK(C13964)),\"\",VLOOKUP(C13964,Sheet2!A:F,3,FALSE))","v":""},{"$f":"IF(OR(C13964=\"\",ISBLANK(C13964)),\"\",VLOOKUP(C13964,Sheet2!A:G,6,FALSE))","v":""},""]
[{"$f":"IF(OR(C13978=\"\",ISBLANK(C13978)),\"\",VLOOKUP(C13978,Sheet2!A:F,2,FALSE))","v":""},{"$f":"IF(OR(C13978=\"\",ISBLANK(C13978)),\"\",VLOOKUP(C13978,Sheet2!A:G,4,FALSE))","v":""},null,null,{"$f":"IF(OR(C13978=\"\",ISBLANK(C13978)),\"\",VLOOKUP(C13978,Sheet2!A:F,3,FALSE))","v":""},{"$f":"IF(OR(C13978=\"\",ISBLANK(C13978)),\"\",VLOOKUP(C13978,Sheet2!A:G,6,FALSE))","v":""},""]
[{"$f":"IF(OR(C14011=\"\",ISBLANK(C14011)),\"\",VLOOKUP(C14011,Sheet2!A:F,2,FALSE))","v":""},{"$f":"IF(OR(C14011=\"\",ISBLANK(C14011)),\"\",VLOOKUP(C14011,Sheet2!A:G,4,FALSE))","v":""},null,null,{"$f":"IF(OR(C14011=\"\",ISBLANK(C14011)),\"\",VLOOKUP(C14011,Sheet2!A:F,3,FALSE))","v":""},{"$f":"IF(OR(C14011=\"\",ISBLANK(C14011)),\"\",VLOOKUP(C14011,Sheet2!A:G,6,FALSE))","v":""},""]
[{"$f":"IF(OR(C14036=\"\",ISBLANK(C14036)),\"\",VLOOKUP(C14036,Sheet2!A:F,2,FALSE))","v":""},{"$f":"IF(OR(C14036=\"\",ISBLANK(C14036)),\"\",VLOOKUP(C14036,Sheet2!A:G,4,FALSE))","v":""},null,null,{"$f":"IF(OR(C14036=\"\",ISBLANK(C14036)),\"\",VLOOKUP(C14036,Sheet2!A:F,3,FALSE))","v":""},{"$f":"IF(OR(C14036=\"\",ISBLANK(C14036)),\"\",VLOOKUP(C14036,Sheet2!A:G,6,FALSE))","v":""},""]
[{"$f":"IF(OR(C14045=\"\",ISBLANK(C14045)),\"\",VLOOKUP(C14045,Sheet2!A:F,2,FALSE))","v":""},{"$f":"IF(OR(C14045=\"\",ISBLANK(C14045)),\"\",VLOOKUP(C14045,Sheet2!A:G,4,FALSE))","v":""},null,null,{"$f":"IF(OR(C14045=\"\",ISBLANK(C14045)),\"\",VLOOKUP(C14045,Sheet2!A:F,3,FALSE))","v":""},{"$f":"IF(OR(C14045=\"\",ISBLANK(C14045)),\"\",VLOOKUP(C14045,Sheet2!A:G,6,FALSE))","v":""},""]
[{"$f":"IF(OR(C14078=\"\",ISBLANK(C14078)),\"\",VLOOKUP(C14078,Sheet2!A:F,2,FALSE))","v":""},{"$f":"IF(OR(C14078=\"\",ISBLANK(C14078)),\"\",VLOOKUP(C14078,Sheet2!A:G,4,FALSE))","v":""},null,null,{"$f":"IF(OR(C14078=\"\",ISBLANK(C14078)),\"\",VLOOKUP(C14078,Sheet2!A:F,3,FALSE))","v":""},{"$f":"IF(OR(C14078=\"\",ISBLANK(C14078)),\"\",VLOOKUP(C14078,Sheet2!A:G,6,FALSE))","v":""},""]
[{"$f":"IF(OR(C14103=\"\",ISBLANK(C14103)),\"\",VLOOKUP(C14103,Sheet2!A:F,2,FALSE))","v":""},{"$f":"IF(OR(C14103=\"\",ISBLANK(C14103)),\"\",VLOOKUP(C14103,Sheet2!A:G,4,FALSE))","v":""},null,null,{"$f":"IF(OR(C14103=\"\",ISBLANK(C14103)),\"\",VLOOKUP(C14103,Sheet2!A:F,3,FALSE))","v":""},{"$f":"IF(OR(C14103=\"\",ISBLANK(C14103)),\"\",VLOOKUP(C14103,Sheet2!A:G,6,FALSE))","v":""},""]
[{"$f":"IF(OR(C14136=\"\",ISBLANK(C14136)),\"\",VLOOKUP(C14136,Sheet2!A:F,2,FALSE))","v":""},{"$f":"IF(OR(C14136=\"\",ISBLANK(C14136)),\"\",VLOOKUP(C14136,Sheet2!A:G,4,FALSE))","v":""},null,null,{"$f":"IF(OR(C14136=\"\",ISBLANK(C14136)),\"\",VLOOKUP(C14136,Sheet2!A:F,3,FALSE))","v":""},{"$f":"IF(OR(C14136=\"\",ISBLANK(C14136)),\"\",VLOOKUP(C14136,Sheet2!A:G,6,FALSE))","v":""},""]
[{"$f":"IF(OR(C14161=\"\",ISBLANK(C14161)),\"\",VLOOKUP(C14161,Sheet2!A:F,2,FALSE))","v":""},{"$f":"IF(OR(C14161=\"\",ISBLANK(C14161)),\"\",VLOOKUP(C14161,Sheet2!A:G,4,FALSE))","v":""},null,null,{"$f":"IF(OR(C14161=\"\",ISBLANK(C14161)),\"\",VLOOKUP(C14161,Sheet2!A:F,3,FALSE))","v":""},{"$f":"IF(OR(C14161=\"\",ISBLANK(C14161)),\"\",VLOOKUP(C14161,Sheet2!A:G,6,FALSE))","v":""},""]
[{"$f":"IF(OR(C14172=\"\",ISBLANK(C14172)),\"\",VLOOKUP(C14172,Sheet2!A:F,2,FALSE))","v":""},{"$f":"IF(OR(C14172=\"\",ISBLANK(C14172)),\"\",VLOOKUP(C14172,Sheet2!A:G,4,FALSE))","v":""},null,null,{"$f":"IF(OR(C14172=\"\",ISBLANK(C14172)),\"\",VLOOKUP(C14172,Sheet2!A:F,3,FALSE))","v":""},{"$f":"IF(OR(C14172=\"\",ISBLANK(C14172)),\"\",VLOOKUP(C14172,Sheet2!A:G,6,FALSE))","v":""},""]
[{"$f":"IF(OR(C14202=\"\",ISBLANK(C14202)),\"\",VLOOKUP(C14202,Sheet2!A:F,2,FALSE))","v":""},{"$f":"IF(OR(C14202=\"\",ISBLANK(C14202)),\"\",VLOOKUP(C14202,Sheet2!A:G,4,FALSE))","v":""},null,null,{"$f":"IF(OR(C14202=\"\",ISBLANK(C14202)),\"\",VLOOKUP(C14202,Sheet2!A:F,3,FALSE))","v":""},{"$f":"IF(OR(C14202=\"\",ISBLANK(C14202)),\"\",VLOOKUP(C14202,Sheet2!A:G,6,FALSE))","v":""},""]
[{"$f":"IF(OR(C14227=\"\",ISBLANK(C14227)),\"\",VLOOKUP(C14227,Sheet2!A:F,2,FALSE))","v":""},{"$f":"IF(OR(C14227=\"\",ISBLANK(C14227)),\"\",VLOOKUP(C14227,Sheet2!A:G,4,FALSE))","v":""},null,null,{"$f":"IF(OR(C14227=\"\",ISBLANK(C14227)),\"\",VLOOKUP(C14227,Sheet2!A:F,3,FALSE))","v":""},{"$f":"IF(OR(C14227=\"\",ISBLANK(C14227)),\"\",VLOOKUP(C14227,Sheet2!A:G,6,FALSE))","v":""},""]
[{"$f":"IF(OR(C14236=\"\",ISBLANK(C14236)),\"\",VLOOKUP(C14236,Sheet2!A:F,2,FALSE))","v":""},{"$f":"IF(OR(C14236=\"\",ISBLANK(C14236)),\"\",VLOOKUP(C14236,Sheet2!A:G,4,FALSE))","v":""},null,null,{"$f":"IF(OR(C14236=\"\",ISBLANK(C14236)),\"\",VLOOKUP(C14236,Sheet2!A:F,3,FALSE))","v":""},{"$f":"IF(OR(C14236=\"\",ISBLANK(C14236)),\"\",VLOOKUP(C14236,Sheet2!A:G,6,FALSE))","v":""},""]
[{"$f":"IF(OR(C14269=\"\",ISBLANK(C14269)),\"\",VLOOKUP(C14269,Sheet2!A:F,2,FALSE))","v":""},{"$f":"IF(OR(C14269=\"\",ISBLANK(C14269)),\"\",VLOOKUP(C14269,Sheet2!A:G,4,FALSE))","v":""},null,null,{"$f":"IF(OR(C14269=\"\",ISBLANK(C14269)),\"\",VLOOKUP(C14269,Sheet2!A:F,3,FALSE))","v":""},{"$f":"IF(OR(C14269=\"\",ISBLANK(C14269)),\"\",VLOOKUP(C14269,Sheet2!A:G,6,FALSE))","v":""},""]
[{"$f":"IF(OR(C14294=\"\",ISBLANK(C14294)),\"\",VLOOKUP(C14294,Sheet2!A:F,2,FALSE))","v":""},{"$f":"IF(OR(C14294=\"\",ISBLANK(C14294)),\"\",VLOOKUP(C14294,Sheet2!A:G,4,FALSE))","v":""},null,null,{"$f":"IF(OR(C14294=\"\",ISBLANK(C14294)),\"\",VLOOKUP(C14294,Sheet2!A:F,3,FALSE))","v":""},{"$f":"IF(OR(C14294=\"\",ISBLANK(C14294)),\"\",VLOOKUP(C14294,Sheet2!A:G,6,FALSE))","v":""},""]
[{"$f":"IF(OR(C14327=\"\",ISBLANK(C14327)),\"\",VLOOKUP(C14327,Sheet2!A:F,2,FALSE))","v":""},{"$f":"IF(OR(C14327=\"\",ISBLANK(C14327)),\"\",VLOOKUP(C14327,Sheet2!A:G,4,FALSE))","v":""},null,null,{"$f":"IF(OR(C14327=\"\",ISBLANK(C14327)),\"\",VLOOKUP(C14327,Sheet2!A:F,3,FALSE))","v":""},{"$f":"IF(OR(C14327=\"\",ISBLANK(C14327)),\"\",VLOOKUP(C14327,Sheet2!A:G,6,FALSE))","v":""},""]
[{"$f":"IF(OR(C14352=\"\",ISBLANK(C14352)),\"\",VLOOKUP(C14352,Sheet2!A:F,2,FALSE))","v":""},{"$f":"IF(OR(C14352=\"\",ISBLANK(C14352)),\"\",VLOOKUP(C14352,Sheet2!A:G,4,FALSE))","v":""},null,null,{"$f":"IF(OR(C14352=\"\",ISBLANK(C14352)),\"\",VLOOKUP(C14352,Sheet2!A:F,3,FALSE))","v":""},{"$f":"IF(OR(C14352=\"\",ISBLANK(C14352)),\"\",VLOOKUP(C14352,Sheet2!A:G,6,FALSE))","v":""},""]
[{"$f":"IF(OR(C14361=\"\",ISBLANK(C14361)),\"\",VLOOKUP(C14361,Sheet2!A:F,2,FALSE))","v":""},{"$f":"IF(OR(C14361=\"\",ISBLANK(C14361)),\"\",VLOOKUP(C14361,Sheet2!A:G,4,FALSE))","v":""},null,null,{"$f":"IF(OR(C14361=\"\",ISBLANK(C14361)),\"\",VLOOKUP(C14361,Sheet2!A:F,3,FALSE))","v":""},{"$f":"IF(OR(C14361=\"\",ISBLANK(C14361)),\"\",VLOOKUP(C14361,Sheet2!A:G,6,FALSE))","v":""},""]
[{"$f":"IF(OR(C14394=\"\",ISBLANK(C14394)),\"\",VLOOKUP(C14394,Sheet2!A:F,2,FALSE))","v":""},{"$f":"IF(OR(C14394=\"\",ISBLANK(C14394)),\"\",VLOOKUP(C14394,Sheet2!A:G,4,FALSE))","v":""},null,null,{"$f":"IF(OR(C14394=\"\",ISBLANK(C14394)),\"\",VLOOKUP(C14394,Sheet2!A:F,3,FALSE))","v":""},{"$f":"IF(OR(C14394=\"\",ISBLANK(C14394)),\"\",VLOOKUP(C14394,Sheet2!A:G,6,FALSE))","v":""},""]
[{"$f":"IF(OR(C14403=\"\",ISBLANK(C14403)),\"\",VLOOKUP(C14403,Sheet2!A:F,2,FALSE))","v":""},{"$f":"IF(OR(C14403=\"\",ISBLANK(C14403)),\"\",VLOOKUP(C14403,Sheet2!A:G,4,FALSE))","v":""},null,null,{"$f":"IF(OR(C14403=\"\",ISBLANK(C14403)),\"\",VLOOKUP(C14403,Sheet2!A:F,3,FALSE))","v":""},{"$f":"IF(OR(C14403=\"\",ISBLANK(C14403)),\"\",VLOOKUP(C14403,Sheet2!A:G,6,FALSE))","v":""},{"$f":"IF(F14403=0,\"\",F14403)","v":""}]
[{"$f":"IF(OR(C14427=\"\",ISBLANK(C14427)),\"\",VLOOKUP(C14427,Sheet2!A:F,2,FALSE))","v":""},{"$f":"IF(OR(C14427=\"\",ISBLANK(C14427)),\"\",VLOOKUP(C14427,Sheet2!A:G,4,FALSE))","v":""},null,null,{"$f":"IF(OR(C14427=\"\",ISBLANK(C14427)),\"\",VLOOKUP(C14427,Sheet2!A:F,3,FALSE))","v":""},{"$f":"IF(OR(C14427=\"\",ISBLANK(C14427)),\"\",VLOOKUP(C14427,Sheet2!A:G,6,FALSE))","v":""},""]
[{"$f":"IF(OR(C14452=\"\",ISBLANK(C14452)),\"\",VLOOKUP(C14452,Sheet2!A:F,2,FALSE))","v":""},{"$f":"IF(OR(C14452=\"\",ISBLANK(C14452)),\"\",VLOOKUP(C14452,Sheet2!A:G,4,FALSE))","v":""},null,null,{"$f":"IF(OR(C14452=\"\",ISBLANK(C14452)),\"\",VLOOKUP(C14452,Sheet2!A:F,3,FALSE))","v":""},{"$f":"IF(OR(C14452=\"\",ISBLANK(C14452)),\"\",VLOOKUP(C14452,Sheet2!A:G,6,FALSE))","v":""},""]
[{"$f":"IF(OR(C14485=\"\",ISBLANK(C14485)),\"\",VLOOKUP(C14485,Sheet2!A:F,2,FALSE))","v":""},{"$f":"IF(OR(C14485=\"\",ISBLANK(C14485)),\"\",VLOOKUP(C14485,Sheet2!A:G,4,FALSE))","v":""},null,null,{"$f":"IF(OR(C14485=\"\",ISBLANK(C14485)),\"\",VLOOKUP(C14485,Sheet2!A:F,3,FALSE))","v":""},{"$f":"IF(OR(C14485=\"\",ISBLANK(C14485)),\"\",VLOOKUP(C14485,Sheet2!A:G,6,FALSE))","v":""},""]
[{"$f":"IF(OR(C14518=\"\",ISBLANK(C14518)),\"\",VLOOKUP(C14518,Sheet2!A:F,2,FALSE))","v":""},{"$f":"IF(OR(C14518=\"\",ISBLANK(C14518)),\"\",VLOOKUP(C14518,Sheet2!A:G,4,FALSE))","v":""},null,null,{"$f":"IF(OR(C14518=\"\",ISBLANK(C14518)),\"\",VLOOKUP(C14518,Sheet2!A:F,3,FALSE))","v":""},{"$f":"IF(OR(C14518=\"\",ISBLANK(C14518)),\"\",VLOOKUP(C14518,Sheet2!A:G,6,FALSE))","v":""},""]
[{"$f":"IF(OR(C14543=\"\",ISBLANK(C14543)),\"\",VLOOKUP(C14543,Sheet2!A:F,2,FALSE))","v":""},{"$f":"IF(OR(C14543=\"\",ISBLANK(C14543)),\"\",VLOOKUP(C14543,Sheet2!A:G,4,FALSE))","v":""},null,null,{"$f":"IF(OR(C14543=\"\",ISBLANK(C14543)),\"\",VLOOKUP(C14543,Sheet2!A:F,3,FALSE))","v":""},{"$f":"IF(OR(C14543=\"\",ISBLANK(C14543)),\"\",VLOOKUP(C14543,Sheet2!A:G,6,FALSE))","v":""},""]
[{"$f":"IF(OR(C14552=\"\",ISBLANK(C14552)),\"\",VLOOKUP(C14552,Sheet2!A:F,2,FALSE))","v":""},{"$f":"IF(OR(C14552=\"\",ISBLANK(C14552)),\"\",VLOOKUP(C14552,Sheet2!A:G,4,FALSE))","v":""},null,null,{"$f":"IF(OR(C14552=\"\",ISBLANK(C14552)),\"\",VLOOKUP(C14552,Sheet2!A:F,3,FALSE))","v":""},{"$f":"IF(OR(C14552=\"\",ISBLANK(C14552)),\"\",VLOOKUP(C14552,Sheet2!A:G,6,FALSE))","v":""},""]
[{"$f":"IF(OR(C14585=\"\",ISBLANK(C14585)),\"\",VLOOKUP(C14585,Sheet2!A:F,2,FALSE))","v":""},{"$f":"IF(OR(C14585=\"\",ISBLANK(C14585)),\"\",VLOOKUP(C14585,Sheet2!A:G,4,FALSE))","v":""},null,null,{"$f":"IF(OR(C14585=\"\",ISBLANK(C14585)),\"\",VLOOKUP(C14585,Sheet2!A:F,3,FALSE))","v":""},{"$f":"IF(OR(C14585=\"\",ISBLANK(C14585)),\"\",VLOOKUP(C14585,Sheet2!A:G,6,FALSE))","v":""},""]
[{"$f":"IF(OR(C14610=\"\",ISBLANK(C14610)),\"\",VLOOKUP(C14610,Sheet2!A:F,2,FALSE))","v":""},{"$f":"IF(OR(C14610=\"\",ISBLANK(C14610)),\"\",VLOOKUP(C14610,Sheet2!A:G,4,FALSE))","v":""},null,null,{"$f":"IF(OR(C14610=\"\",ISBLANK(C14610)),\"\",VLOOKUP(C14610,Sheet2!A:F,3,FALSE))","v":""},{"$f":"IF(OR(C14610=\"\",ISBLANK(C14610)),\"\",VLOOKUP(C14610,Sheet2!A:G,6,FALSE))","v":""},""]
[{"$f":"IF(OR(C14622=\"\",ISBLANK(C14622)),\"\",VLOOKUP(C14622,Sheet2!A:F,2,FALSE))","v":""},{"$f":"IF(OR(C14622=\"\",ISBLANK(C14622)),\"\",VLOOKUP(C14622,Sheet2!A:G,4,FALSE))","v":""},null,null,{"$f":"IF(OR(C14622=\"\",ISBLANK(C14622)),\"\",VLOOKUP(C14622,Sheet2!A:F,3,FALSE))","v":""},{"$f":"IF(OR(C14622=\"\",ISBLANK(C14622)),\"\",VLOOKUP(C14622,Sheet2!A:G,6,FALSE))","v":""},""]
[{"$f":"IF(OR(C14643=\"\",ISBLANK(C14643)),\"\",VLOOKUP(C14643,Sheet2!A:F,2,FALSE))","v":""},{"$f":"IF(OR(C14643=\"\",ISBLANK(C14643)),\"\",VLOOKUP(C14643,Sheet2!A:G,4,FALSE))","v":""},null,null,{"$f":"IF(OR(C14643=\"\",ISBLANK(C14643)),\"\",VLOOKUP(C14643,Sheet2!A:F,3,FALSE))","v":""},{"$f":"IF(OR(C14643=\"\",ISBLANK(C14643)),\"\",VLOOKUP(C14643,Sheet2!A:G,6,FALSE))","v":""},""]
[{"$f":"IF(OR(C14676=\"\",ISBLANK(C14676)),\"\",VLOOKUP(C14676,Sheet2!A:F,2,FALSE))","v":""},{"$f":"IF(OR(C14676=\"\",ISBLANK(C14676)),\"\",VLOOKUP(C14676,Sheet2!A:G,4,FALSE))","v":""},null,null,{"$f":"IF(OR(C14676=\"\",ISBLANK(C14676)),\"\",VLOOKUP(C14676,Sheet2!A:F,3,FALSE))","v":""},{"$f":"IF(OR(C14676=\"\",ISBLANK(C14676)),\"\",VLOOKUP(C14676,Sheet2!A:G,6,FALSE))","v":""},""]
[{"$f":"IF(OR(C14709=\"\",ISBLANK(C14709)),\"\",VLOOKUP(C14709,Sheet2!A:F,2,FALSE))","v":""},{"$f":"IF(OR(C14709=\"\",ISBLANK(C14709)),\"\",VLOOKUP(C14709,Sheet2!A:G,4,FALSE))","v":""},null,null,{"$f":"IF(OR(C14709=\"\",ISBLANK(C14709)),\"\",VLOOKUP(C14709,Sheet2!A:F,3,FALSE))","v":""},{"$f":"IF(OR(C14709=\"\",ISBLANK(C14709)),\"\",VLOOKUP(C14709,Sheet2!A:G,6,FALSE))","v":""},""]
[{"$f":"IF(OR(C14734=\"\",ISBLANK(C14734)),\"\",VLOOKUP(C14734,Sheet2!A:F,2,FALSE))","v":""},{"$f":"IF(OR(C14734=\"\",ISBLANK(C14734)),\"\",VLOOKUP(C14734,Sheet2!A:G,4,FALSE))","v":""},null,null,{"$f":"IF(OR(C14734=\"\",ISBLANK(C14734)),\"\",VLOOKUP(C14734,Sheet2!A:F,3,FALSE))","v":""},{"$f":"IF(OR(C14734=\"\",ISBLANK(C14734)),\"\",VLOOKUP(C14734,Sheet2!A:G,6,FALSE))","v":""},""]
[{"$f":"IF(OR(C14743=\"\",ISBLANK(C14743)),\"\",VLOOKUP(C14743,Sheet2!A:F,2,FALSE))","v":""},{"$f":"IF(OR(C14743=\"\",ISBLANK(C14743)),\"\",VLOOKUP(C14743,Sheet2!A:G,4,FALSE))","v":""},null,null,{"$f":"IF(OR(C14743=\"\",ISBLANK(C14743)),\"\",VLOOKUP(C14743,Sheet2!A:F,3,FALSE))","v":""},{"$f":"IF(OR(C14743=\"\",ISBLANK(C14743)),\"\",VLOOKUP(C14743,Sheet2!A:G,6,FALSE))","v":""},""]
[{"$f":"IF(OR(C14776=\"\",ISBLANK(C14776)),\"\",VLOOKUP(C14776,Sheet2!A:F,2,FALSE))","v":""},{"$f":"IF(OR(C14776=\"\",ISBLANK(C14776)),\"\",VLOOKUP(C14776,Sheet2!A:G,4,FALSE))","v":""},null,null,{"$f":"IF(OR(C14776=\"\",ISBLANK(C14776)),\"\",VLOOKUP(C14776,Sheet2!A:F,3,FALSE))","v":""},{"$f":"IF(OR(C14776=\"\",ISBLANK(C14776)),\"\",VLOOKUP(C14776,Sheet2!A:G,6,FALSE))","v":""},""]
[{"$f":"IF(OR(C14801=\"\",ISBLANK(C14801)),\"\",VLOOKUP(C14801,Sheet2!A:F,2,FALSE))","v":""},{"$f":"IF(OR(C14801=\"\",ISBLANK(C14801)),\"\",VLOOKUP(C14801,Sheet2!A:G,4,FALSE))","v":""},null,null,{"$f":"IF(OR(C14801=\"\",ISBLANK(C14801)),\"\",VLOOKUP(C14801,Sheet2!A:F,3,FALSE))","v":""},{"$f":"IF(OR(C14801=\"\",ISBLANK(C14801)),\"\",VLOOKUP(C14801,Sheet2!A:G,6,FALSE))","v":""},""]
[{"$f":"IF(OR(C14810=\"\",ISBLANK(C14810)),\"\",VLOOKUP(C14810,Sheet2!A:F,2,FALSE))","v":""},{"$f":"IF(OR(C14810=\"\",ISBLANK(C14810)),\"\",VLOOKUP(C14810,Sheet2!A:G,4,FALSE))","v":""},null,null,{"$f":"IF(OR(C14810=\"\",ISBLANK(C14810)),\"\",VLOOKUP(C14810,Sheet2!A:F,3,FALSE))","v":""},{"$f":"IF(OR(C14810=\"\",ISBLANK(C14810)),\"\",VLOOKUP(C14810,Sheet2!A:G,6,FALSE))","v":""},""]
[{"$f":"IF(OR(C14835=\"\",ISBLANK(C14835)),\"\",VLOOKUP(C14835,Sheet2!A:F,2,FALSE))","v":""},{"$f":"IF(OR(C14835=\"\",ISBLANK(C14835)),\"\",VLOOKUP(C14835,Sheet2!A:G,4,FALSE))","v":""},null,null,{"$f":"IF(OR(C14835=\"\",ISBLANK(C14835)),\"\",VLOOKUP(C14835,Sheet2!A:F,3,FALSE))","v":""},{"$f":"IF(OR(C14835=\"\",ISBLANK(C14835)),\"\",VLOOKUP(C14835,Sheet2!A:G,6,FALSE))","v":""},""]
[{"$f":"IF(OR(C14876=\"\",ISBLANK(C14876)),\"\",VLOOKUP(C14876,Sheet2!A:F,2,FALSE))","v":""},{"$f":"IF(OR(C14876=\"\",ISBLANK(C14876)),\"\",VLOOKUP(C14876,Sheet2!A:G,4,FALSE))","v":""},null,null,{"$f":"IF(OR(C14876=\"\",ISBLANK(C14876)),\"\",VLOOKUP(C14876,Sheet2!A:F,3,FALSE))","v":""},{"$f":"IF(OR(C14876=\"\",ISBLANK(C14876)),\"\",VLOOKUP(C14876,Sheet2!A:G,6,FALSE))","v":""},""]
[{"$f":"IF(OR(C14900=\"\",ISBLANK(C14900)),\"\",VLOOKUP(C14900,Sheet2!A:F,2,FALSE))","v":""},{"$f":"IF(OR(C14900=\"\",ISBLANK(C14900)),\"\",VLOOKUP(C14900,Sheet2!A:G,4,FALSE))","v":""},null,null,{"$f":"IF(OR(C14900=\"\",ISBLANK(C14900)),\"\",VLOOKUP(C14900,Sheet2!A:F,3,FALSE))","v":""},{"$f":"IF(OR(C14900=\"\",ISBLANK(C14900)),\"\",VLOOKUP(C14900,Sheet2!A:G,6,FALSE))","v":""},""]
[{"$f":"IF(OR(C14925=\"\",ISBLANK(C14925)),\"\",VLOOKUP(C14925,Sheet2!A:F,2,FALSE))","v":""},{"$f":"IF(OR(C14925=\"\",ISBLANK(C14925)),\"\",VLOOKUP(C14925,Sheet2!A:G,4,FALSE))","v":""},null,null,{"$f":"IF(OR(C14925=\"\",ISBLANK(C14925)),\"\",VLOOKUP(C14925,Sheet2!A:F,3,FALSE))","v":""},{"$f":"IF(OR(C14925=\"\",ISBLANK(C14925)),\"\",VLOOKUP(C14925,Sheet2!A:G,6,FALSE))","v":""},""]
[{"$f":"IF(OR(C14934=\"\",ISBLANK(C14934)),\"\",VLOOKUP(C14934,Sheet2!A:F,2,FALSE))","v":""},{"$f":"IF(OR(C14934=\"\",ISBLANK(C14934)),\"\",VLOOKUP(C14934,Sheet2!A:G,4,FALSE))","v":""},null,null,{"$f":"IF(OR(C14934=\"\",ISBLANK(C14934)),\"\",VLOOKUP(C14934,Sheet2!A:F,3,FALSE))","v":""},{"$f":"IF(OR(C14934=\"\",ISBLANK(C14934)),\"\",VLOOKUP(C14934,Sheet2!A:G,6,FALSE))","v":""},""]
[{"$f":"IF(OR(C14959=\"\",ISBLANK(C14959)),\"\",VLOOKUP(C14959,Sheet2!A:F,2,FALSE))","v":""},{"$f":"IF(OR(C14959=\"\",ISBLANK(C14959)),\"\",VLOOKUP(C14959,Sheet2!A:G,4,FALSE))","v":""},null,null,{"$f":"IF(OR(C14959=\"\",ISBLANK(C14959)),\"\",VLOOKUP(C14959,Sheet2!A:F,3,FALSE))","v":""},{"$f":"IF(OR(C14959=\"\",ISBLANK(C14959)),\"\",VLOOKUP(C14959,Sheet2!A:G,6,FALSE))","v":""},""]
[{"$f":"IF(OR(C14992=\"\",ISBLANK(C14992)),\"\",VLOOKUP(C14992,Sheet2!A:F,2,FALSE))","v":""},{"$f":"IF(OR(C14992=\"\",ISBLANK(C14992)),\"\",VLOOKUP(C14992,Sheet2!A:G,4,FALSE))","v":""},null,null,{"$f":"IF(OR(C14992=\"\",ISBLANK(C14992)),\"\",VLOOKUP(C14992,Sheet2!A:F,3,FALSE))","v":""},{"$f":"IF(OR(C14992=\"\",ISBLANK(C14992)),\"\",VLOOKUP(C14992,Sheet2!A:G,6,FALSE))","v":""},""]
[{"$f":"IF(OR(C15001=\"\",ISBLANK(C15001)),\"\",VLOOKUP(C15001,Sheet2!A:F,2,FALSE))","v":""},{"$f":"IF(OR(C15001=\"\",ISBLANK(C15001)),\"\",VLOOKUP(C15001,Sheet2!A:G,4,FALSE))","v":""},null,null,{"$f":"IF(OR(C15001=\"\",ISBLANK(C15001)),\"\",VLOOKUP(C15001,Sheet2!A:F,3,FALSE))","v":""},{"$f":"IF(OR(C15001=\"\",ISBLANK(C15001)),\"\",VLOOKUP(C15001,Sheet2!A:G,6,FALSE))","v":""},""]
[{"$f":"IF(OR(C15026=\"\",ISBLANK(C15026)),\"\",VLOOKUP(C15026,Sheet2!A:F,2,FALSE))","v":""},{"$f":"IF(OR(C15026=\"\",ISBLANK(C15026)),\"\",VLOOKUP(C15026,Sheet2!A:G,4,FALSE))","v":""},null,null,{"$f":"IF(OR(C15026=\"\",ISBLANK(C15026)),\"\",VLOOKUP(C15026,Sheet2!A:F,3,FALSE))","v":""},{"$f":"IF(OR(C15026=\"\",ISBLANK(C15026)),\"\",VLOOKUP(C15026,Sheet2!A:G,6,FALSE))","v":""},""]
[{"$f":"IF(OR(C15059=\"\",ISBLANK(C15059)),\"\",VLOOKUP(C15059,Sheet2!A:F,2,FALSE))","v":""},{"$f":"IF(OR(C15059=\"\",ISBLANK(C15059)),\"\",VLOOKUP(C15059,Sheet2!A:G,4,FALSE))","v":""},null,null,{"$f":"IF(OR(C15059=\"\",ISBLANK(C15059)),\"\",VLOOKUP(C15059,Sheet2!A:F,3,FALSE))","v":""},{"$f":"IF(OR(C15059=\"\",ISBLANK(C15059)),\"\",VLOOKUP(C15059,Sheet2!A:G,6,FALSE))","v":""},""]
[{"$f":"IF(OR(C15092=\"\",ISBLANK(C15092)),\"\",VLOOKUP(C15092,Sheet2!A:F,2,FALSE))","v":""},{"$f":"IF(OR(C15092=\"\",ISBLANK(C15092)),\"\",VLOOKUP(C15092,Sheet2!A:G,4,FALSE))","v":""},null,null,{"$f":"IF(OR(C15092=\"\",ISBLANK(C15092)),\"\",VLOOKUP(C15092,Sheet2!A:F,3,FALSE))","v":""},{"$f":"IF(OR(C15092=\"\",ISBLANK(C15092)),\"\",VLOOKUP(C15092,Sheet2!A:G,6,FALSE))","v":""},""]
[{"$f":"IF(OR(C15107=\"\",ISBLANK(C15107)),\"\",VLOOKUP(C15107,Sheet2!A:F,2,FALSE))","v":""},{"$f":"IF(OR(C15107=\"\",ISBLANK(C15107)),\"\",VLOOKUP(C15107,Sheet2!A:G,4,FALSE))","v":""},null,null,{"$f":"IF(OR(C15107=\"\",ISBLANK(C15107)),\"\",VLOOKUP(C15107,Sheet2!A:F,3,FALSE))","v":""},{"$f":"IF(OR(C15107=\"\",ISBLANK(C15107)),\"\",VLOOKUP(C15107,Sheet2!A:G,6,FALSE))","v":""},{"$f":"IF(F15107=0,\"\",F15107)","v":""}]
[{"$f":"IF(OR(C15125=\"\",ISBLANK(C15125)),\"\",VLOOKUP(C15125,Sheet2!A:F,2,FALSE))","v":""},{"$f":"IF(OR(C15125=\"\",ISBLANK(C15125)),\"\",VLOOKUP(C15125,Sheet2!A:G,4,FALSE))","v":""},null,null,{"$f":"IF(OR(C15125=\"\",ISBLANK(C15125)),\"\",VLOOKUP(C15125,Sheet2!A:F,3,FALSE))","v":""},{"$f":"IF(OR(C15125=\"\",ISBLANK(C15125)),\"\",VLOOKUP(C15125,Sheet2!A:G,6,FALSE))","v":""},""]
[{"$f":"IF(OR(C15150=\"\",ISBLANK(C15150)),\"\",VLOOKUP(C15150,Sheet2!A:F,2,FALSE))","v":""},{"$f":"IF(OR(C15150=\"\",ISBLANK(C15150)),\"\",VLOOKUP(C15150,Sheet2!A:G,4,FALSE))","v":""},null,null,{"$f":"IF(OR(C15150=\"\",ISBLANK(C15150)),\"\",VLOOKUP(C15150,Sheet2!A:F,3,FALSE))","v":""},{"$f":"IF(OR(C15150=\"\",ISBLANK(C15150)),\"\",VLOOKUP(C15150,Sheet2!A:G,6,FALSE))","v":""},""]
[{"$f":"IF(OR(C15183=\"\",ISBLANK(C15183)),\"\",VLOOKUP(C15183,Sheet2!A:F,2,FALSE))","v":""},{"$f":"IF(OR(C15183=\"\",ISBLANK(C15183)),\"\",VLOOKUP(C15183,Sheet2!A:G,4,FALSE))","v":""},null,null,{"$f":"IF(OR(C15183=\"\",ISBLANK(C15183)),\"\",VLOOKUP(C15183,Sheet2!A:F,3,FALSE))","v":""},{"$f":"IF(OR(C15183=\"\",ISBLANK(C15183)),\"\",VLOOKUP(C15183,Sheet2!A:G,6,FALSE))","v":""},""]
[{"$f":"IF(OR(C15192=\"\",ISBLANK(C15192)),\"\",VLOOKUP(C15192,Sheet2!A:F,2,FALSE))","v":""},{"$f":"IF(OR(C15192=\"\",ISBLANK(C15192)),\"\",VLOOKUP(C15192,Sheet2!A:G,4,FALSE))","v":""},null,null,{"$f":"IF(OR(C15192=\"\",ISBLANK(C15192)),\"\",VLOOKUP(C15192,Sheet2!A:F,3,FALSE))","v":""},{"$f":"IF(OR(C15192=\"\",ISBLANK(C15192)),\"\",VLOOKUP(C15192,Sheet2!A:G,6,FALSE))","v":""},""]
[{"$f":"IF(OR(C15217=\"\",ISBLANK(C15217)),\"\",VLOOKUP(C15217,Sheet2!A:F,2,FALSE))","v":""},{"$f":"IF(OR(C15217=\"\",ISBLANK(C15217)),\"\",VLOOKUP(C15217,Sheet2!A:G,4,FALSE))","v":""},null,null,{"$f":"IF(OR(C15217=\"\",ISBLANK(C15217)),\"\",VLOOKUP(C15217,Sheet2!A:F,3,FALSE))","v":""},{"$f":"IF(OR(C15217=\"\",ISBLANK(C15217)),\"\",VLOOKUP(C15217,Sheet2!A:G,6,FALSE))","v":""},""]
[{"$f":"IF(OR(C15250=\"\",ISBLANK(C15250)),\"\",VLOOKUP(C15250,Sheet2!A:F,2,FALSE))","v":""},{"$f":"IF(OR(C15250=\"\",ISBLANK(C15250)),\"\",VLOOKUP(C15250,Sheet2!A:G,4,FALSE))","v":""},null,null,{"$f":"IF(OR(C15250=\"\",ISBLANK(C15250)),\"\",VLOOKUP(C15250,Sheet2!A:F,3,FALSE))","v":""},{"$f":"IF(OR(C15250=\"\",ISBLANK(C15250)),\"\",VLOOKUP(C15250,Sheet2!A:G,6,FALSE))","v":""},""]
[{"$f":"IF(OR(C15283=\"\",ISBLANK(C15283)),\"\",VLOOKUP(C15283,Sheet2!A:F,2,FALSE))","v":""},{"$f":"IF(OR(C15283=\"\",ISBLANK(C15283)),\"\",VLOOKUP(C15283,Sheet2!A:G,4,FALSE))","v":""},null,null,{"$f":"IF(OR(C15283=\"\",ISBLANK(C15283)),\"\",VLOOKUP(C15283,Sheet2!A:F,3,FALSE))","v":""},{"$f":"IF(OR(C15283=\"\",ISBLANK(C15283)),\"\",VLOOKUP(C15283,Sheet2!A:G,6,FALSE))","v":""},""]
[{"$f":"IF(OR(C15308=\"\",ISBLANK(C15308)),\"\",VLOOKUP(C15308,Sheet2!A:F,2,FALSE))","v":""},{"$f":"IF(OR(C15308=\"\",ISBLANK(C15308)),\"\",VLOOKUP(C15308,Sheet2!A:G,4,FALSE))","v":""},null,null,{"$f":"IF(OR(C15308=\"\",ISBLANK(C15308)),\"\",VLOOKUP(C15308,Sheet2!A:F,3,FALSE))","v":""},{"$f":"IF(OR(C15308=\"\",ISBLANK(C15308)),\"\",VLOOKUP(C15308,Sheet2!A:G,6,FALSE))","v":""},""]
[{"$f":"IF(OR(C15326=\"\",ISBLANK(C15326)),\"\",VLOOKUP(C15326,Sheet2!A:F,2,FALSE))","v":""},{"$f":"IF(OR(C15326=\"\",ISBLANK(C15326)),\"\",VLOOKUP(C15326,Sheet2!A:G,4,FALSE))","v":""},null,null,{"$f":"IF(OR(C15326=\"\",ISBLANK(C15326)),\"\",VLOOKUP(C15326,Sheet2!A:F,3,FALSE))","v":""},{"$f":"IF(OR(C15326=\"\",ISBLANK(C15326)),\"\",VLOOKUP(C15326,Sheet2!A:G,6,FALSE))","v":""},""]
[{"$f":"IF(OR(C15341=\"\",ISBLANK(C15341)),\"\",VLOOKUP(C15341,Sheet2!A:F,2,FALSE))","v":""},{"$f":"IF(OR(C15341=\"\",ISBLANK(C15341)),\"\",VLOOKUP(C15341,Sheet2!A:G,4,FALSE))","v":""},null,null,{"$f":"IF(OR(C15341=\"\",ISBLANK(C15341)),\"\",VLOOKUP(C15341,Sheet2!A:F,3,FALSE))","v":""},{"$f":"IF(OR(C15341=\"\",ISBLANK(C15341)),\"\",VLOOKUP(C15341,Sheet2!A:G,6,FALSE))","v":""},""]
[{"$f":"IF(OR(C15374=\"\",ISBLANK(C15374)),\"\",VLOOKUP(C15374,Sheet2!A:F,2,FALSE))","v":""},{"$f":"IF(OR(C15374=\"\",ISBLANK(C15374)),\"\",VLOOKUP(C15374,Sheet2!A:G,4,FALSE))","v":""},null,null,{"$f":"IF(OR(C15374=\"\",ISBLANK(C15374)),\"\",VLOOKUP(C15374,Sheet2!A:F,3,FALSE))","v":""},{"$f":"IF(OR(C15374=\"\",ISBLANK(C15374)),\"\",VLOOKUP(C15374,Sheet2!A:G,6,FALSE))","v":""},""]
[{"$f":"IF(OR(C15383=\"\",ISBLANK(C15383)),\"\",VLOOKUP(C15383,Sheet2!A:F,2,FALSE))","v":""},{"$f":"IF(OR(C15383=\"\",ISBLANK(C15383)),\"\",VLOOKUP(C15383,Sheet2!A:G,4,FALSE))","v":""},null,null,{"$f":"IF(OR(C15383=\"\",ISBLANK(C15383)),\"\",VLOOKUP(C15383,Sheet2!A:F,3,FALSE))","v":""},{"$f":"IF(OR(C15383=\"\",ISBLANK(C15383)),\"\",VLOOKUP(C15383,Sheet2!A:G,6,FALSE))","v":""},""]
[{"$f":"IF(OR(C15408=\"\",ISBLANK(C15408)),\"\",VLOOKUP(C15408,Sheet2!A:F,2,FALSE))","v":""},{"$f":"IF(OR(C15408=\"\",ISBLANK(C15408)),\"\",VLOOKUP(C15408,Sheet2!A:G,4,FALSE))","v":""},null,null,{"$f":"IF(OR(C15408=\"\",ISBLANK(C15408)),\"\",VLOOKUP(C15408,Sheet2!A:F,3,FALSE))","v":""},{"$f":"IF(OR(C15408=\"\",ISBLANK(C15408)),\"\",VLOOKUP(C15408,Sheet2!A:G,6,FALSE))","v":""},""]
[{"$f":"IF(OR(C15441=\"\",ISBLANK(C15441)),\"\",VLOOKUP(C15441,Sheet2!A:F,2,FALSE))","v":""},{"$f":"IF(OR(C15441=\"\",ISBLANK(C15441)),\"\",VLOOKUP(C15441,Sheet2!A:G,4,FALSE))","v":""},null,null,{"$f":"IF(OR(C15441=\"\",ISBLANK(C15441)),\"\",VLOOKUP(C15441,Sheet2!A:F,3,FALSE))","v":""},{"$f":"IF(OR(C15441=\"\",ISBLANK(C15441)),\"\",VLOOKUP(C15441,Sheet2!A:G,6,FALSE))","v":""},""]
[{"$f":"IF(OR(C15466=\"\",ISBLANK(C15466)),\"\",VLOOKUP(C15466,Sheet2!A:F,2,FALSE))","v":""},{"$f":"IF(OR(C15466=\"\",ISBLANK(C15466)),\"\",VLOOKUP(C15466,Sheet2!A:G,4,FALSE))","v":""},null,null,{"$f":"IF(OR(C15466=\"\",ISBLANK(C15466)),\"\",VLOOKUP(C15466,Sheet2!A:F,3,FALSE))","v":""},{"$f":"IF(OR(C15466=\"\",ISBLANK(C15466)),\"\",VLOOKUP(C15466,Sheet2!A:G,6,FALSE))","v":""},""]
[{"$f":"IF(OR(C15499=\"\",ISBLANK(C15499)),\"\",VLOOKUP(C15499,Sheet2!A:F,2,FALSE))","v":""},{"$f":"IF(OR(C15499=\"\",ISBLANK(C15499)),\"\",VLOOKUP(C15499,Sheet2!A:G,4,FALSE))","v":""},null,null,{"$f":"IF(OR(C15499=\"\",ISBLANK(C15499)),\"\",VLOOKUP(C15499,Sheet2!A:F,3,FALSE))","v":""},{"$f":"IF(OR(C15499=\"\",ISBLANK(C15499)),\"\",VLOOKUP(C15499,Sheet2!A:G,6,FALSE))","v":""},""]
[{"$f":"IF(OR(C15508=\"\",ISBLANK(C15508)),\"\",VLOOKUP(C15508,Sheet2!A:F,2,FALSE))","v":""},{"$f":"IF(OR(C15508=\"\",ISBLANK(C15508)),\"\",VLOOKUP(C15508,Sheet2!A:G,4,FALSE))","v":""},null,null,{"$f":"IF(OR(C15508=\"\",ISBLANK(C15508)),\"\",VLOOKUP(C15508,Sheet2!A:F,3,FALSE))","v":""},{"$f":"IF(OR(C15508=\"\",ISBLANK(C15508)),\"\",VLOOKUP(C15508,Sheet2!A:G,6,FALSE))","v":""},""]
[{"$f":"IF(OR(C15533=\"\",ISBLANK(C15533)),\"\",VLOOKUP(C15533,Sheet2!A:F,2,FALSE))","v":""},{"$f":"IF(OR(C15533=\"\",ISBLANK(C15533)),\"\",VLOOKUP(C15533,Sheet2!A:G,4,FALSE))","v":""},null,null,{"$f":"IF(OR(C15533=\"\",ISBLANK(C15533)),\"\",VLOOKUP(C15533,Sheet2!A:F,3,FALSE))","v":""},{"$f":"IF(OR(C15533=\"\",ISBLANK(C15533)),\"\",VLOOKUP(C15533,Sheet2!A:G,6,FALSE))","v":""},""]
[{"$f":"IF(OR(C15557=\"\",ISBLANK(C15557)),\"\",VLOOKUP(C15557,Sheet2!A:F,2,FALSE))","v":""},{"$f":"IF(OR(C15557=\"\",ISBLANK(C15557)),\"\",VLOOKUP(C15557,Sheet2!A:G,4,FALSE))","v":""},null,null,{"$f":"IF(OR(C15557=\"\",ISBLANK(C15557)),\"\",VLOOKUP(C15557,Sheet2!A:F,3,FALSE))","v":""},{"$f":"IF(OR(C15557=\"\",ISBLANK(C15557)),\"\",VLOOKUP(C15557,Sheet2!A:G,6,FALSE))","v":""},""]
[{"$f":"IF(OR(C15574=\"\",ISBLANK(C15574)),\"\",VLOOKUP(C15574,Sheet2!A:F,2,FALSE))","v":""},{"$f":"IF(OR(C15574=\"\",ISBLANK(C15574)),\"\",VLOOKUP(C15574,Sheet2!A:G,4,FALSE))","v":""},null,null,{"$f":"IF(OR(C15574=\"\",ISBLANK(C15574)),\"\",VLOOKUP(C15574,Sheet2!A:F,3,FALSE))","v":""},{"$f":"IF(OR(C15574=\"\",ISBLANK(C15574)),\"\",VLOOKUP(C15574,Sheet2!A:G,6,FALSE))","v":""},""]
[{"$f":"IF(OR(C15599=\"\",ISBLANK(C15599)),\"\",VLOOKUP(C15599,Sheet2!A:F,2,FALSE))","v":""},{"$f":"IF(OR(C15599=\"\",ISBLANK(C15599)),\"\",VLOOKUP(C15599,Sheet2!A:G,4,FALSE))","v":""},null,null,{"$f":"IF(OR(C15599=\"\",ISBLANK(C15599)),\"\",VLOOKUP(C15599,Sheet2!A:F,3,FALSE))","v":""},{"$f":"IF(OR(C15599=\"\",ISBLANK(C15599)),\"\",VLOOKUP(C15599,Sheet2!A:G,6,FALSE))","v":""},""]
[{"$f":"IF(OR(C15632=\"\",ISBLANK(C15632)),\"\",VLOOKUP(C15632,Sheet2!A:F,2,FALSE))","v":""},{"$f":"IF(OR(C15632=\"\",ISBLANK(C15632)),\"\",VLOOKUP(C15632,Sheet2!A:G,4,FALSE))","v":""},null,null,{"$f":"IF(OR(C15632=\"\",ISBLANK(C15632)),\"\",VLOOKUP(C15632,Sheet2!A:F,3,FALSE))","v":""},{"$f":"IF(OR(C15632=\"\",ISBLANK(C15632)),\"\",VLOOKUP(C15632,Sheet2!A:G,6,FALSE))","v":""},""]
[{"$f":"IF(OR(C15657=\"\",ISBLANK(C15657)),\"\",VLOOKUP(C15657,Sheet2!A:F,2,FALSE))","v":""},{"$f":"IF(OR(C15657=\"\",ISBLANK(C15657)),\"\",VLOOKUP(C15657,Sheet2!A:G,4,FALSE))","v":""},null,null,{"$f":"IF(OR(C15657=\"\",ISBLANK(C15657)),\"\",VLOOKUP(C15657,Sheet2!A:F,3,FALSE))","v":""},{"$f":"IF(OR(C15657=\"\",ISBLANK(C15657)),\"\",VLOOKUP(C15657,Sheet2!A:G,6,FALSE))","v":""},""]
[{"$f":"IF(OR(C15690=\"\",ISBLANK(C15690)),\"\",VLOOKUP(C15690,Sheet2!A:F,2,FALSE))","v":""},{"$f":"IF(OR(C15690=\"\",ISBLANK(C15690)),\"\",VLOOKUP(C15690,Sheet2!A:G,4,FALSE))","v":""},null,null,{"$f":"IF(OR(C15690=\"\",ISBLANK(C15690)),\"\",VLOOKUP(C15690,Sheet2!A:F,3,FALSE))","v":""},{"$f":"IF(OR(C15690=\"\",ISBLANK(C15690)),\"\",VLOOKUP(C15690,Sheet2!A:G,6,FALSE))","v":""},""]
[{"$f":"IF(OR(C15699=\"\",ISBLANK(C15699)),\"\",VLOOKUP(C15699,Sheet2!A:F,2,FALSE))","v":""},{"$f":"IF(OR(C15699=\"\",ISBLANK(C15699)),\"\",VLOOKUP(C15699,Sheet2!A:G,4,FALSE))","v":""},null,null,{"$f":"IF(OR(C15699=\"\",ISBLANK(C15699)),\"\",VLOOKUP(C15699,Sheet2!A:F,3,FALSE))","v":""},{"$f":"IF(OR(C15699=\"\",ISBLANK(C15699)),\"\",VLOOKUP(C15699,Sheet2!A:G,6,FALSE))","v":""},""]
[{"$f":"IF(OR(C15724=\"\",ISBLANK(C15724)),\"\",VLOOKUP(C15724,Sheet2!A:F,2,FALSE))","v":""},{"$f":"IF(OR(C15724=\"\",ISBLANK(C15724)),\"\",VLOOKUP(C15724,Sheet2!A:G,4,FALSE))","v":""},null,null,{"$f":"IF(OR(C15724=\"\",ISBLANK(C15724)),\"\",VLOOKUP(C15724,Sheet2!A:F,3,FALSE))","v":""},{"$f":"IF(OR(C15724=\"\",ISBLANK(C15724)),\"\",VLOOKUP(C15724,Sheet2!A:G,6,FALSE))","v":""},""]
[{"$f":"IF(OR(C15757=\"\",ISBLANK(C15757)),\"\",VLOOKUP(C15757,Sheet2!A:F,2,FALSE))","v":""},{"$f":"IF(OR(C15757=\"\",ISBLANK(C15757)),\"\",VLOOKUP(C15757,Sheet2!A:G,4,FALSE))","v":""},null,null,{"$f":"IF(OR(C15757=\"\",ISBLANK(C15757)),\"\",VLOOKUP(C15757,Sheet2!A:F,3,FALSE))","v":""},{"$f":"IF(OR(C15757=\"\",ISBLANK(C15757)),\"\",VLOOKUP(C15757,Sheet2!A:G,6,FALSE))","v":""},""]
[{"$f":"IF(OR(C15765=\"\",ISBLANK(C15765)),\"\",VLOOKUP(C15765,Sheet2!A:F,2,FALSE))","v":""},{"$f":"IF(OR(C15765=\"\",ISBLANK(C15765)),\"\",VLOOKUP(C15765,Sheet2!A:G,4,FALSE))","v":""},null,null,{"$f":"IF(OR(C15765=\"\",ISBLANK(C15765)),\"\",VLOOKUP(C15765,Sheet2!A:F,3,FALSE))","v":""},{"$f":"IF(OR(C15765=\"\",ISBLANK(C15765)),\"\",VLOOKUP(C15765,Sheet2!A:G,6,FALSE))","v":""},""]
[{"$f":"IF(OR(C15790=\"\",ISBLANK(C15790)),\"\",VLOOKUP(C15790,Sheet2!A:F,2,FALSE))","v":""},{"$f":"IF(OR(C15790=\"\",ISBLANK(C15790)),\"\",VLOOKUP(C15790,Sheet2!A:G,4,FALSE))","v":""},null,null,{"$f":"IF(OR(C15790=\"\",ISBLANK(C15790)),\"\",VLOOKUP(C15790,Sheet2!A:F,3,FALSE))","v":""},{"$f":"IF(OR(C15790=\"\",ISBLANK(C15790)),\"\",VLOOKUP(C15790,Sheet2!A:G,6,FALSE))","v":""},""]
[{"$f":"IF(OR(C15823=\"\",ISBLANK(C15823)),\"\",VLOOKUP(C15823,Sheet2!A:F,2,FALSE))","v":""},{"$f":"IF(OR(C15823=\"\",ISBLANK(C15823)),\"\",VLOOKUP(C15823,Sheet2!A:G,4,FALSE))","v":""},null,null,{"$f":"IF(OR(C15823=\"\",ISBLANK(C15823)),\"\",VLOOKUP(C15823,Sheet2!A:F,3,FALSE))","v":""},{"$f":"IF(OR(C15823=\"\",ISBLANK(C15823)),\"\",VLOOKUP(C15823,Sheet2!A:G,6,FALSE))","v":""},""]
[{"$f":"IF(OR(C15848=\"\",ISBLANK(C15848)),\"\",VLOOKUP(C15848,Sheet2!A:F,2,FALSE))","v":""},{"$f":"IF(OR(C15848=\"\",ISBLANK(C15848)),\"\",VLOOKUP(C15848,Sheet2!A:G,4,FALSE))","v":""},null,null,{"$f":"IF(OR(C15848=\"\",ISBLANK(C15848)),\"\",VLOOKUP(C15848,Sheet2!A:F,3,FALSE))","v":""},{"$f":"IF(OR(C15848=\"\",ISBLANK(C15848)),\"\",VLOOKUP(C15848,Sheet2!A:G,6,FALSE))","v":""},""]
[{"$f":"IF(OR(C15881=\"\",ISBLANK(C15881)),\"\",VLOOKUP(C15881,Sheet2!A:F,2,FALSE))","v":""},{"$f":"IF(OR(C15881=\"\",ISBLANK(C15881)),\"\",VLOOKUP(C15881,Sheet2!A:G,4,FALSE))","v":""},null,null,{"$f":"IF(OR(C15881=\"\",ISBLANK(C15881)),\"\",VLOOKUP(C15881,Sheet2!A:F,3,FALSE))","v":""},{"$f":"IF(OR(C15881=\"\",ISBLANK(C15881)),\"\",VLOOKUP(C15881,Sheet2!A:G,6,FALSE))","v":""},""]
[{"$f":"IF(OR(C15890=\"\",ISBLANK(C15890)),\"\",VLOOKUP(C15890,Sheet2!A:F,2,FALSE))","v":""},{"$f":"IF(OR(C15890=\"\",ISBLANK(C15890)),\"\",VLOOKUP(C15890,Sheet2!A:G,4,FALSE))","v":""},null,null,{"$f":"IF(OR(C15890=\"\",ISBLANK(C15890)),\"\",VLOOKUP(C15890,Sheet2!A:F,3,FALSE))","v":""},{"$f":"IF(OR(C15890=\"\",ISBLANK(C15890)),\"\",VLOOKUP(C15890,Sheet2!A:G,6,FALSE))","v":""},""]
[{"$f":"IF(OR(C15915=\"\",ISBLANK(C15915)),\"\",VLOOKUP(C15915,Sheet2!A:F,2,FALSE))","v":""},{"$f":"IF(OR(C15915=\"\",ISBLANK(C15915)),\"\",VLOOKUP(C15915,Sheet2!A:G,4,FALSE))","v":""},null,null,{"$f":"IF(OR(C15915=\"\",ISBLANK(C15915)),\"\",VLOOKUP(C15915,Sheet2!A:F,3,FALSE))","v":""},{"$f":"IF(OR(C15915=\"\",ISBLANK(C15915)),\"\",VLOOKUP(C15915,Sheet2!A:G,6,FALSE))","v":""},""]
[{"$f":"IF(OR(C15948=\"\",ISBLANK(C15948)),\"\",VLOOKUP(C15948,Sheet2!A:F,2,FALSE))","v":""},{"$f":"IF(OR(C15948=\"\",ISBLANK(C15948)),\"\",VLOOKUP(C15948,Sheet2!A:G,4,FALSE))","v":""},null,null,{"$f":"IF(OR(C15948=\"\",ISBLANK(C15948)),\"\",VLOOKUP(C15948,Sheet2!A:F,3,FALSE))","v":""},{"$f":"IF(OR(C15948=\"\",ISBLANK(C15948)),\"\",VLOOKUP(C15948,Sheet2!A:G,6,FALSE))","v":""},""]
[{"$f":"IF(OR(C15973=\"\",ISBLANK(C15973)),\"\",VLOOKUP(C15973,Sheet2!A:F,2,FALSE))","v":""},{"$f":"IF(OR(C15973=\"\",ISBLANK(C15973)),\"\",VLOOKUP(C15973,Sheet2!A:G,4,FALSE))","v":""},null,null,{"$f":"IF(OR(C15973=\"\",ISBLANK(C15973)),\"\",VLOOKUP(C15973,Sheet2!A:F,3,FALSE))","v":""},{"$f":"IF(OR(C15973=\"\",ISBLANK(C15973)),\"\",VLOOKUP(C15973,Sheet2!A:G,6,FALSE))","v":""},""]
[{"$f":"IF(OR(C15982=\"\",ISBLANK(C15982)),\"\",VLOOKUP(C15982,Sheet2!A:F,2,FALSE))","v":""},{"$f":"IF(OR(C15982=\"\",ISBLANK(C15982)),\"\",VLOOKUP(C15982,Sheet2!A:G,4,FALSE))","v":""},null,null,{"$f":"IF(OR(C15982=\"\",ISBLANK(C15982)),\"\",VLOOKUP(C15982,Sheet2!A:F,3,FALSE))","v":""},{"$f":"IF(OR(C15982=\"\",ISBLANK(C15982)),\"\",VLOOKUP(C15982,Sheet2!A:G,6,FALSE))","v":""},""]
[{"$f":"IF(OR(C16007=\"\",ISBLANK(C16007)),\"\",VLOOKUP(C16007,Sheet2!A:F,2,FALSE))","v":""},{"$f":"IF(OR(C16007=\"\",ISBLANK(C16007)),\"\",VLOOKUP(C16007,Sheet2!A:G,4,FALSE))","v":""},null,null,{"$f":"IF(OR(C16007=\"\",ISBLANK(C16007)),\"\",VLOOKUP(C16007,Sheet2!A:F,3,FALSE))","v":""},{"$f":"IF(OR(C16007=\"\",ISBLANK(C16007)),\"\",VLOOKUP(C16007,Sheet2!A:G,6,FALSE))","v":""},""]
[{"$f":"IF(OR(C16039=\"\",ISBLANK(C16039)),\"\",VLOOKUP(C16039,Sheet2!A:F,2,FALSE))","v":""},{"$f":"IF(OR(C16039=\"\",ISBLANK(C16039)),\"\",VLOOKUP(C16039,Sheet2!A:G,4,FALSE))","v":""},null,null,{"$f":"IF(OR(C16039=\"\",ISBLANK(C16039)),\"\",VLOOKUP(C16039,Sheet2!A:F,3,FALSE))","v":""},{"$f":"IF(OR(C16039=\"\",ISBLANK(C16039)),\"\",VLOOKUP(C16039,Sheet2!A:G,6,FALSE))","v":""},""]
[{"$f":"IF(OR(C16072=\"\",ISBLANK(C16072)),\"\",VLOOKUP(C16072,Sheet2!A:F,2,FALSE))","v":""},{"$f":"IF(OR(C16072=\"\",ISBLANK(C16072)),\"\",VLOOKUP(C16072,Sheet2!A:G,4,FALSE))","v":""},null,null,{"$f":"IF(OR(C16072=\"\",ISBLANK(C16072)),\"\",VLOOKUP(C16072,Sheet2!A:F,3,FALSE))","v":""},{"$f":"IF(OR(C16072=\"\",ISBLANK(C16072)),\"\",VLOOKUP(C16072,Sheet2!A:G,6,FALSE))","v":""},""]
[{"$f":"IF(OR(C16081=\"\",ISBLANK(C16081)),\"\",VLOOKUP(C16081,Sheet2!A:F,2,FALSE))","v":""},{"$f":"IF(OR(C16081=\"\",ISBLANK(C16081)),\"\",VLOOKUP(C16081,Sheet2!A:G,4,FALSE))","v":""},null,null,{"$f":"IF(OR(C16081=\"\",ISBLANK(C16081)),\"\",VLOOKUP(C16081,Sheet2!A:F,3,FALSE))","v":""},{"$f":"IF(OR(C16081=\"\",ISBLANK(C16081)),\"\",VLOOKUP(C16081,Sheet2!A:G,6,FALSE))","v":""},""]
[{"$f":"IF(OR(C16106=\"\",ISBLANK(C16106)),\"\",VLOOKUP(C16106,Sheet2!A:F,2,FALSE))","v":""},{"$f":"IF(OR(C16106=\"\",ISBLANK(C16106)),\"\",VLOOKUP(C16106,Sheet2!A:G,4,FALSE))","v":""},null,null,{"$f":"IF(OR(C16106=\"\",ISBLANK(C16106)),\"\",VLOOKUP(C16106,Sheet2!A:F,3,FALSE))","v":""},{"$f":"IF(OR(C16106=\"\",ISBLANK(C16106)),\"\",VLOOKUP(C16106,Sheet2!A:G,6,FALSE))","v":""},""]
[{"$f":"IF(OR(C16139=\"\",ISBLANK(C16139)),\"\",VLOOKUP(C16139,Sheet2!A:F,2,FALSE))","v":""},{"$f":"IF(OR(C16139=\"\",ISBLANK(C16139)),\"\",VLOOKUP(C16139,Sheet2!A:G,4,FALSE))","v":""},null,null,{"$f":"IF(OR(C16139=\"\",ISBLANK(C16139)),\"\",VLOOKUP(C16139,Sheet2!A:F,3,FALSE))","v":""},{"$f":"IF(OR(C16139=\"\",ISBLANK(C16139)),\"\",VLOOKUP(C16139,Sheet2!A:G,6,FALSE))","v":""},""]
[{"$f":"IF(OR(C16164=\"\",ISBLANK(C16164)),\"\",VLOOKUP(C16164,Sheet2!A:F,2,FALSE))","v":""},{"$f":"IF(OR(C16164=\"\",ISBLANK(C16164)),\"\",VLOOKUP(C16164,Sheet2!A:G,4,FALSE))","v":""},null,null,{"$f":"IF(OR(C16164=\"\",ISBLANK(C16164)),\"\",VLOOKUP(C16164,Sheet2!A:F,3,FALSE))","v":""},{"$f":"IF(OR(C16164=\"\",ISBLANK(C16164)),\"\",VLOOKUP(C16164,Sheet2!A:G,6,FALSE))","v":""},""]
[{"$f":"IF(OR(C16173=\"\",ISBLANK(C16173)),\"\",VLOOKUP(C16173,Sheet2!A:F,2,FALSE))","v":""},{"$f":"IF(OR(C16173=\"\",ISBLANK(C16173)),\"\",VLOOKUP(C16173,Sheet2!A:G,4,FALSE))","v":""},null,null,{"$f":"IF(OR(C16173=\"\",ISBLANK(C16173)),\"\",VLOOKUP(C16173,Sheet2!A:F,3,FALSE))","v":""},{"$f":"IF(OR(C16173=\"\",ISBLANK(C16173)),\"\",VLOOKUP(C16173,Sheet2!A:G,6,FALSE))","v":""},""]
[{"$f":"IF(OR(C16206=\"\",ISBLANK(C16206)),\"\",VLOOKUP(C16206,Sheet2!A:F,2,FALSE))","v":""},{"$f":"IF(OR(C16206=\"\",ISBLANK(C16206)),\"\",VLOOKUP(C16206,Sheet2!A:G,4,FALSE))","v":""},null,null,{"$f":"IF(OR(C16206=\"\",ISBLANK(C16206)),\"\",VLOOKUP(C16206,Sheet2!A:F,3,FALSE))","v":""},{"$f":"IF(OR(C16206=\"\",ISBLANK(C16206)),\"\",VLOOKUP(C16206,Sheet2!A:G,6,FALSE))","v":""},""]
[{"$f":"IF(OR(C16231=\"\",ISBLANK(C16231)),\"\",VLOOKUP(C16231,Sheet2!A:F,2,FALSE))","v":""},{"$f":"IF(OR(C16231=\"\",ISBLANK(C16231)),\"\",VLOOKUP(C16231,Sheet2!A:G,4,FALSE))","v":""},null,null,{"$f":"IF(OR(C16231=\"\",ISBLANK(C16231)),\"\",VLOOKUP(C16231,Sheet2!A:F,3,FALSE))","v":""},{"$f":"IF(OR(C16231=\"\",ISBLANK(C16231)),\"\",VLOOKUP(C16231,Sheet2!A:G,6,FALSE))","v":""},""]
[{"$f":"IF(OR(C16261=\"\",ISBLANK(C16261)),\"\",VLOOKUP(C16261,Sheet2!A:F,2,FALSE))","v":""},{"$f":"IF(OR(C16261=\"\",ISBLANK(C16261)),\"\",VLOOKUP(C16261,Sheet2!A:G,4,FALSE))","v":""},null,null,{"$f":"IF(OR(C16261=\"\",ISBLANK(C16261)),\"\",VLOOKUP(C16261,Sheet2!A:F,3,FALSE))","v":""},{"$f":"IF(OR(C16261=\"\",ISBLANK(C16261)),\"\",VLOOKUP(C16261,Sheet2!A:G,6,FALSE))","v":""},""]
[{"$f":"IF(OR(C16288=\"\",ISBLANK(C16288)),\"\",VLOOKUP(C16288,Sheet2!A:F,2,FALSE))","v":""},{"$f":"IF(OR(C16288=\"\",ISBLANK(C16288)),\"\",VLOOKUP(C16288,Sheet2!A:G,4,FALSE))","v":""},null,null,{"$f":"IF(OR(C16288=\"\",ISBLANK(C16288)),\"\",VLOOKUP(C16288,Sheet2!A:F,3,FALSE))","v":""},{"$f":"IF(OR(C16288=\"\",ISBLANK(C16288)),\"\",VLOOKUP(C16288,Sheet2!A:G,6,FALSE))","v":""},""]
[{"$f":"IF(OR(C16297=\"\",ISBLANK(C16297)),\"\",VLOOKUP(C16297,Sheet2!A:F,2,FALSE))","v":""},{"$f":"IF(OR(C16297=\"\",ISBLANK(C16297)),\"\",VLOOKUP(C16297,Sheet2!A:G,4,FALSE))","v":""},null,null,{"$f":"IF(OR(C16297=\"\",ISBLANK(C16297)),\"\",VLOOKUP(C16297,Sheet2!A:F,3,FALSE))","v":""},{"$f":"IF(OR(C16297=\"\",ISBLANK(C16297)),\"\",VLOOKUP(C16297,Sheet2!A:G,6,FALSE))","v":""},""]
[{"$f":"IF(OR(C16330=\"\",ISBLANK(C16330)),\"\",VLOOKUP(C16330,Sheet2!A:F,2,FALSE))","v":""},{"$f":"IF(OR(C16330=\"\",ISBLANK(C16330)),\"\",VLOOKUP(C16330,Sheet2!A:G,4,FALSE))","v":""},null,null,{"$f":"IF(OR(C16330=\"\",ISBLANK(C16330)),\"\",VLOOKUP(C16330,Sheet2!A:F,3,FALSE))","v":""},{"$f":"IF(OR(C16330=\"\",ISBLANK(C16330)),\"\",VLOOKUP(C16330,Sheet2!A:G,6,FALSE))","v":""},""]
[{"$f":"IF(OR(C16355=\"\",ISBLANK(C16355)),\"\",VLOOKUP(C16355,Sheet2!A:F,2,FALSE))","v":""},{"$f":"IF(OR(C16355=\"\",ISBLANK(C16355)),\"\",VLOOKUP(C16355,Sheet2!A:G,4,FALSE))","v":""},null,null,{"$f":"IF(OR(C16355=\"\",ISBLANK(C16355)),\"\",VLOOKUP(C16355,Sheet2!A:F,3,FALSE))","v":""},{"$f":"IF(OR(C16355=\"\",ISBLANK(C16355)),\"\",VLOOKUP(C16355,Sheet2!A:G,6,FALSE))","v":""},""]
[{"$f":"IF(OR(C16364=\"\",ISBLANK(C16364)),\"\",VLOOKUP(C16364,Sheet2!A:F,2,FALSE))","v":""},{"$f":"IF(OR(C16364=\"\",ISBLANK(C16364)),\"\",VLOOKUP(C16364,Sheet2!A:G,4,FALSE))","v":""},null,null,{"$f":"IF(OR(C16364=\"\",ISBLANK(C16364)),\"\",VLOOKUP(C16364,Sheet2!A:F,3,FALSE))","v":""},{"$f":"IF(OR(C16364=\"\",ISBLANK(C16364)),\"\",VLOOKUP(C16364,Sheet2!A:G,6,FALSE))","v":""},""]
[{"$f":"IF(OR(C16397=\"\",ISBLANK(C16397)),\"\",VLOOKUP(C16397,Sheet2!A:F,2,FALSE))","v":""},{"$f":"IF(OR(C16397=\"\",ISBLANK(C16397)),\"\",VLOOKUP(C16397,Sheet2!A:G,4,FALSE))","v":""},null,null,{"$f":"IF(OR(C16397=\"\",ISBLANK(C16397)),\"\",VLOOKUP(C16397,Sheet2!A:F,3,FALSE))","v":""},{"$f":"IF(OR(C16397=\"\",ISBLANK(C16397)),\"\",VLOOKUP(C16397,Sheet2!A:G,6,FALSE))","v":""},""]
[{"$f":"IF(OR(C16422=\"\",ISBLANK(C16422)),\"\",VLOOKUP(C16422,Sheet2!A:F,2,FALSE))","v":""},{"$f":"IF(OR(C16422=\"\",ISBLANK(C16422)),\"\",VLOOKUP(C16422,Sheet2!A:G,4,FALSE))","v":""},null,null,{"$f":"IF(OR(C16422=\"\",ISBLANK(C16422)),\"\",VLOOKUP(C16422,Sheet2!A:F,3,FALSE))","v":""},{"$f":"IF(OR(C16422=\"\",ISBLANK(C16422)),\"\",VLOOKUP(C16422,Sheet2!A:G,6,FALSE))","v":""},""]
[{"$f":"IF(OR(C16455=\"\",ISBLANK(C16455)),\"\",VLOOKUP(C16455,Sheet2!A:F,2,FALSE))","v":""},{"$f":"IF(OR(C16455=\"\",ISBLANK(C16455)),\"\",VLOOKUP(C16455,Sheet2!A:G,4,FALSE))","v":""},null,null,{"$f":"IF(OR(C16455=\"\",ISBLANK(C16455)),\"\",VLOOKUP(C16455,Sheet2!A:F,3,FALSE))","v":""},{"$f":"IF(OR(C16455=\"\",ISBLANK(C16455)),\"\",VLOOKUP(C16455,Sheet2!A:G,6,FALSE))","v":""},""]
[{"$f":"IF(OR(C16469=\"\",ISBLANK(C16469)),\"\",VLOOKUP(C16469,Sheet2!A:F,2,FALSE))","v":""},{"$f":"IF(OR(C16469=\"\",ISBLANK(C16469)),\"\",VLOOKUP(C16469,Sheet2!A:G,4,FALSE))","v":""},null,null,{"$f":"IF(OR(C16469=\"\",ISBLANK(C16469)),\"\",VLOOKUP(C16469,Sheet2!A:F,3,FALSE))","v":""},{"$f":"IF(OR(C16469=\"\",ISBLANK(C16469)),\"\",VLOOKUP(C16469,Sheet2!A:G,6,FALSE))","v":""},""]
[{"$f":"IF(OR(C16488=\"\",ISBLANK(C16488)),\"\",VLOOKUP(C16488,Sheet2!A:F,2,FALSE))","v":""},{"$f":"IF(OR(C16488=\"\",ISBLANK(C16488)),\"\",VLOOKUP(C16488,Sheet2!A:G,4,FALSE))","v":""},null,null,{"$f":"IF(OR(C16488=\"\",ISBLANK(C16488)),\"\",VLOOKUP(C16488,Sheet2!A:F,3,FALSE))","v":""},{"$f":"IF(OR(C16488=\"\",ISBLANK(C16488)),\"\",VLOOKUP(C16488,Sheet2!A:G,6,FALSE))","v":""},""]
[{"$f":"IF(OR(C16521=\"\",ISBLANK(C16521)),\"\",VLOOKUP(C16521,Sheet2!A:F,2,FALSE))","v":""},{"$f":"IF(OR(C16521=\"\",ISBLANK(C16521)),\"\",VLOOKUP(C16521,Sheet2!A:G,4,FALSE))","v":""},null,null,{"$f":"IF(OR(C16521=\"\",ISBLANK(C16521)),\"\",VLOOKUP(C16521,Sheet2!A:F,3,FALSE))","v":""},{"$f":"IF(OR(C16521=\"\",ISBLANK(C16521)),\"\",VLOOKUP(C16521,Sheet2!A:G,6,FALSE))","v":""},""]
[{"$f":"IF(OR(C16546=\"\",ISBLANK(C16546)),\"\",VLOOKUP(C16546,Sheet2!A:F,2,FALSE))","v":""},{"$f":"IF(OR(C16546=\"\",ISBLANK(C16546)),\"\",VLOOKUP(C16546,Sheet2!A:G,4,FALSE))","v":""},null,null,{"$f":"IF(OR(C16546=\"\",ISBLANK(C16546)),\"\",VLOOKUP(C16546,Sheet2!A:F,3,FALSE))","v":""},{"$f":"IF(OR(C16546=\"\",ISBLANK(C16546)),\"\",VLOOKUP(C16546,Sheet2!A:G,6,FALSE))","v":""},""]
[{"$f":"IF(OR(C16555=\"\",ISBLANK(C16555)),\"\",VLOOKUP(C16555,Sheet2!A:F,2,FALSE))","v":""},{"$f":"IF(OR(C16555=\"\",ISBLANK(C16555)),\"\",VLOOKUP(C16555,Sheet2!A:G,4,FALSE))","v":""},null,null,{"$f":"IF(OR(C16555=\"\",ISBLANK(C16555)),\"\",VLOOKUP(C16555,Sheet2!A:F,3,FALSE))","v":""},{"$f":"IF(OR(C16555=\"\",ISBLANK(C16555)),\"\",VLOOKUP(C16555,Sheet2!A:G,6,FALSE))","v":""},""]
[{"$f":"IF(OR(C16588=\"\",ISBLANK(C16588)),\"\",VLOOKUP(C16588,Sheet2!A:F,2,FALSE))","v":""},{"$f":"IF(OR(C16588=\"\",ISBLANK(C16588)),\"\",VLOOKUP(C16588,Sheet2!A:G,4,FALSE))","v":""},null,null,{"$f":"IF(OR(C16588=\"\",ISBLANK(C16588)),\"\",VLOOKUP(C16588,Sheet2!A:F,3,FALSE))","v":""},{"$f":"IF(OR(C16588=\"\",ISBLANK(C16588)),\"\",VLOOKUP(C16588,Sheet2!A:G,6,FALSE))","v":""},""]
[{"$f":"IF(OR(C16613=\"\",ISBLANK(C16613)),\"\",VLOOKUP(C16613,Sheet2!A:F,2,FALSE))","v":""},{"$f":"IF(OR(C16613=\"\",ISBLANK(C16613)),\"\",VLOOKUP(C16613,Sheet2!A:G,4,FALSE))","v":""},null,null,{"$f":"IF(OR(C16613=\"\",ISBLANK(C16613)),\"\",VLOOKUP(C16613,Sheet2!A:F,3,FALSE))","v":""},{"$f":"IF(OR(C16613=\"\",ISBLANK(C16613)),\"\",VLOOKUP(C16613,Sheet2!A:G,6,FALSE))","v":""},""]
[{"$f":"IF(OR(C16646=\"\",ISBLANK(C16646)),\"\",VLOOKUP(C16646,Sheet2!A:F,2,FALSE))","v":""},{"$f":"IF(OR(C16646=\"\",ISBLANK(C16646)),\"\",VLOOKUP(C16646,Sheet2!A:G,4,FALSE))","v":""},null,null,{"$f":"IF(OR(C16646=\"\",ISBLANK(C16646)),\"\",VLOOKUP(C16646,Sheet2!A:F,3,FALSE))","v":""},{"$f":"IF(OR(C16646=\"\",ISBLANK(C16646)),\"\",VLOOKUP(C16646,Sheet2!A:G,6,FALSE))","v":""},""]
[{"$f":"IF(OR(C16671=\"\",ISBLANK(C16671)),\"\",VLOOKUP(C16671,Sheet2!A:F,2,FALSE))","v":""},{"$f":"IF(OR(C16671=\"\",ISBLANK(C16671)),\"\",VLOOKUP(C16671,Sheet2!A:G,4,FALSE))","v":""},null,null,{"$f":"IF(OR(C16671=\"\",ISBLANK(C16671)),\"\",VLOOKUP(C16671,Sheet2!A:F,3,FALSE))","v":""},{"$f":"IF(OR(C16671=\"\",ISBLANK(C16671)),\"\",VLOOKUP(C16671,Sheet2!A:G,6,FALSE))","v":""},""]
[{"$f":"IF(OR(C16680=\"\",ISBLANK(C16680)),\"\",VLOOKUP(C16680,Sheet2!A:F,2,FALSE))","v":""},{"$f":"IF(OR(C16680=\"\",ISBLANK(C16680)),\"\",VLOOKUP(C16680,Sheet2!A:G,4,FALSE))","v":""},null,null,{"$f":"IF(OR(C16680=\"\",ISBLANK(C16680)),\"\",VLOOKUP(C16680,Sheet2!A:F,3,FALSE))","v":""},{"$f":"IF(OR(C16680=\"\",ISBLANK(C16680)),\"\",VLOOKUP(C16680,Sheet2!A:G,6,FALSE))","v":""},""]
[{"$f":"IF(OR(C16711=\"\",ISBLANK(C16711)),\"\",VLOOKUP(C16711,Sheet2!A:F,2,FALSE))","v":""},{"$f":"IF(OR(C16711=\"\",ISBLANK(C16711)),\"\",VLOOKUP(C16711,Sheet2!A:G,4,FALSE))","v":""},null,null,{"$f":"IF(OR(C16711=\"\",ISBLANK(C16711)),\"\",VLOOKUP(C16711,Sheet2!A:F,3,FALSE))","v":""},{"$f":"IF(OR(C16711=\"\",ISBLANK(C16711)),\"\",VLOOKUP(C16711,Sheet2!A:G,6,FALSE))","v":""},""]
[{"$f":"IF(OR(C16737=\"\",ISBLANK(C16737)),\"\",VLOOKUP(C16737,Sheet2!A:F,2,FALSE))","v":""},{"$f":"IF(OR(C16737=\"\",ISBLANK(C16737)),\"\",VLOOKUP(C16737,Sheet2!A:G,4,FALSE))","v":""},null,null,{"$f":"IF(OR(C16737=\"\",ISBLANK(C16737)),\"\",VLOOKUP(C16737,Sheet2!A:F,3,FALSE))","v":""},{"$f":"IF(OR(C16737=\"\",ISBLANK(C16737)),\"\",VLOOKUP(C16737,Sheet2!A:G,6,FALSE))","v":""},""]
[{"$f":"IF(OR(C16746=\"\",ISBLANK(C16746)),\"\",VLOOKUP(C16746,Sheet2!A:F,2,FALSE))","v":""},{"$f":"IF(OR(C16746=\"\",ISBLANK(C16746)),\"\",VLOOKUP(C16746,Sheet2!A:G,4,FALSE))","v":""},null,null,{"$f":"IF(OR(C16746=\"\",ISBLANK(C16746)),\"\",VLOOKUP(C16746,Sheet2!A:F,3,FALSE))","v":""},{"$f":"IF(OR(C16746=\"\",ISBLANK(C16746)),\"\",VLOOKUP(C16746,Sheet2!A:G,6,FALSE))","v":""},""]
[{"$f":"IF(OR(C16771=\"\",ISBLANK(C16771)),\"\",VLOOKUP(C16771,Sheet2!A:F,2,FALSE))","v":""},{"$f":"IF(OR(C16771=\"\",ISBLANK(C16771)),\"\",VLOOKUP(C16771,Sheet2!A:G,4,FALSE))","v":""},null,null,{"$f":"IF(OR(C16771=\"\",ISBLANK(C16771)),\"\",VLOOKUP(C16771,Sheet2!A:F,3,FALSE))","v":""},{"$f":"IF(OR(C16771=\"\",ISBLANK(C16771)),\"\",VLOOKUP(C16771,Sheet2!A:G,6,FALSE))","v":""},{"$f":"IF(F16771=0,\"\",F16771)","v":""}]
[{"$f":"IF(OR(C16804=\"\",ISBLANK(C16804)),\"\",VLOOKUP(C16804,Sheet2!A:F,2,FALSE))","v":""},{"$f":"IF(OR(C16804=\"\",ISBLANK(C16804)),\"\",VLOOKUP(C16804,Sheet2!A:G,4,FALSE))","v":""},null,null,{"$f":"IF(OR(C16804=\"\",ISBLANK(C16804)),\"\",VLOOKUP(C16804,Sheet2!A:F,3,FALSE))","v":""},{"$f":"IF(OR(C16804=\"\",ISBLANK(C16804)),\"\",VLOOKUP(C16804,Sheet2!A:G,6,FALSE))","v":""},""]
[{"$f":"IF(OR(C16837=\"\",ISBLANK(C16837)),\"\",VLOOKUP(C16837,Sheet2!A:F,2,FALSE))","v":""},{"$f":"IF(OR(C16837=\"\",ISBLANK(C16837)),\"\",VLOOKUP(C16837,Sheet2!A:G,4,FALSE))","v":""},null,null,{"$f":"IF(OR(C16837=\"\",ISBLANK(C16837)),\"\",VLOOKUP(C16837,Sheet2!A:F,3,FALSE))","v":""},{"$f":"IF(OR(C16837=\"\",ISBLANK(C16837)),\"\",VLOOKUP(C16837,Sheet2!A:G,6,FALSE))","v":""},""]
[{"$f":"IF(OR(C16862=\"\",ISBLANK(C16862)),\"\",VLOOKUP(C16862,Sheet2!A:F,2,FALSE))","v":""},{"$f":"IF(OR(C16862=\"\",ISBLANK(C16862)),\"\",VLOOKUP(C16862,Sheet2!A:G,4,FALSE))","v":""},null,null,{"$f":"IF(OR(C16862=\"\",ISBLANK(C16862)),\"\",VLOOKUP(C16862,Sheet2!A:F,3,FALSE))","v":""},{"$f":"IF(OR(C16862=\"\",ISBLANK(C16862)),\"\",VLOOKUP(C16862,Sheet2!A:G,6,FALSE))","v":""},""]
[{"$f":"IF(OR(C16871=\"\",ISBLANK(C16871)),\"\",VLOOKUP(C16871,Sheet2!A:F,2,FALSE))","v":""},{"$f":"IF(OR(C16871=\"\",ISBLANK(C16871)),\"\",VLOOKUP(C16871,Sheet2!A:G,4,FALSE))","v":""},null,null,{"$f":"IF(OR(C16871=\"\",ISBLANK(C16871)),\"\",VLOOKUP(C16871,Sheet2!A:F,3,FALSE))","v":""},{"$f":"IF(OR(C16871=\"\",ISBLANK(C16871)),\"\",VLOOKUP(C16871,Sheet2!A:G,6,FALSE))","v":""},""]
[{"$f":"IF(OR(C16904=\"\",ISBLANK(C16904)),\"\",VLOOKUP(C16904,Sheet2!A:F,2,FALSE))","v":""},{"$f":"IF(OR(C16904=\"\",ISBLANK(C16904)),\"\",VLOOKUP(C16904,Sheet2!A:G,4,FALSE))","v":""},null,null,{"$f":"IF(OR(C16904=\"\",ISBLANK(C16904)),\"\",VLOOKUP(C16904,Sheet2!A:F,3,FALSE))","v":""},{"$f":"IF(OR(C16904=\"\",ISBLANK(C16904)),\"\",VLOOKUP(C16904,Sheet2!A:G,6,FALSE))","v":""},""]
[{"$f":"IF(OR(C16929=\"\",ISBLANK(C16929)),\"\",VLOOKUP(C16929,Sheet2!A:F,2,FALSE))","v":""},{"$f":"IF(OR(C16929=\"\",ISBLANK(C16929)),\"\",VLOOKUP(C16929,Sheet2!A:G,4,FALSE))","v":""},null,null,{"$f":"IF(OR(C16929=\"\",ISBLANK(C16929)),\"\",VLOOKUP(C16929,Sheet2!A:F,3,FALSE))","v":""},{"$f":"IF(OR(C16929=\"\",ISBLANK(C16929)),\"\",VLOOKUP(C16929,Sheet2!A:G,6,FALSE))","v":""},""]
[{"$f":"IF(OR(C16942=\"\",ISBLANK(C16942)),\"\",VLOOKUP(C16942,Sheet2!A:F,2,FALSE))","v":""},{"$f":"IF(OR(C16942=\"\",ISBLANK(C16942)),\"\",VLOOKUP(C16942,Sheet2!A:G,4,FALSE))","v":""},null,null,{"$f":"IF(OR(C16942=\"\",ISBLANK(C16942)),\"\",VLOOKUP(C16942,Sheet2!A:F,3,FALSE))","v":""},{"$f":"IF(OR(C16942=\"\",ISBLANK(C16942)),\"\",VLOOKUP(C16942,Sheet2!A:G,6,FALSE))","v":""},""]
[{"$f":"IF(OR(C16962=\"\",ISBLANK(C16962)),\"\",VLOOKUP(C16962,Sheet2!A:F,2,FALSE))","v":""},{"$f":"IF(OR(C16962=\"\",ISBLANK(C16962)),\"\",VLOOKUP(C16962,Sheet2!A:G,4,FALSE))","v":""},null,null,{"$f":"IF(OR(C16962=\"\",ISBLANK(C16962)),\"\",VLOOKUP(C16962,Sheet2!A:F,3,FALSE))","v":""},{"$f":"IF(OR(C16962=\"\",ISBLANK(C16962)),\"\",VLOOKUP(C16962,Sheet2!A:G,6,FALSE))","v":""},""]
[{"$f":"IF(OR(C16995=\"\",ISBLANK(C16995)),\"\",VLOOKUP(C16995,Sheet2!A:F,2,FALSE))","v":""},{"$f":"IF(OR(C16995=\"\",ISBLANK(C16995)),\"\",VLOOKUP(C16995,Sheet2!A:G,4,FALSE))","v":""},null,null,{"$f":"IF(OR(C16995=\"\",ISBLANK(C16995)),\"\",VLOOKUP(C16995,Sheet2!A:F,3,FALSE))","v":""},{"$f":"IF(OR(C16995=\"\",ISBLANK(C16995)),\"\",VLOOKUP(C16995,Sheet2!A:G,6,FALSE))","v":""},""]
[{"$f":"IF(OR(C17028=\"\",ISBLANK(C17028)),\"\",VLOOKUP(C17028,Sheet2!A:F,2,FALSE))","v":""},{"$f":"IF(OR(C17028=\"\",ISBLANK(C17028)),\"\",VLOOKUP(C17028,Sheet2!A:G,4,FALSE))","v":""},null,null,{"$f":"IF(OR(C17028=\"\",ISBLANK(C17028)),\"\",VLOOKUP(C17028,Sheet2!A:F,3,FALSE))","v":""},{"$f":"IF(OR(C17028=\"\",ISBLANK(C17028)),\"\",VLOOKUP(C17028,Sheet2!A:G,6,FALSE))","v":""},""]
[{"$f":"IF(OR(C17053=\"\",ISBLANK(C17053)),\"\",VLOOKUP(C17053,Sheet2!A:F,2,FALSE))","v":""},{"$f":"IF(OR(C17053=\"\",ISBLANK(C17053)),\"\",VLOOKUP(C17053,Sheet2!A:G,4,FALSE))","v":""},null,null,{"$f":"IF(OR(C17053=\"\",ISBLANK(C17053)),\"\",VLOOKUP(C17053,Sheet2!A:F,3,FALSE))","v":""},{"$f":"IF(OR(C17053=\"\",ISBLANK(C17053)),\"\",VLOOKUP(C17053,Sheet2!A:G,6,FALSE))","v":""},""]
[{"$f":"IF(OR(C17062=\"\",ISBLANK(C17062)),\"\",VLOOKUP(C17062,Sheet2!A:F,2,FALSE))","v":""},{"$f":"IF(OR(C17062=\"\",ISBLANK(C17062)),\"\",VLOOKUP(C17062,Sheet2!A:G,4,FALSE))","v":""},null,null,{"$f":"IF(OR(C17062=\"\",ISBLANK(C17062)),\"\",VLOOKUP(C17062,Sheet2!A:F,3,FALSE))","v":""},{"$f":"IF(OR(C17062=\"\",ISBLANK(C17062)),\"\",VLOOKUP(C17062,Sheet2!A:G,6,FALSE))","v":""},""]
[{"$f":"IF(OR(C17087=\"\",ISBLANK(C17087)),\"\",VLOOKUP(C17087,Sheet2!A:F,2,FALSE))","v":""},{"$f":"IF(OR(C17087=\"\",ISBLANK(C17087)),\"\",VLOOKUP(C17087,Sheet2!A:G,4,FALSE))","v":""},null,null,{"$f":"IF(OR(C17087=\"\",ISBLANK(C17087)),\"\",VLOOKUP(C17087,Sheet2!A:F,3,FALSE))","v":""},{"$f":"IF(OR(C17087=\"\",ISBLANK(C17087)),\"\",VLOOKUP(C17087,Sheet2!A:G,6,FALSE))","v":""},""]
[{"$f":"IF(OR(C17120=\"\",ISBLANK(C17120)),\"\",VLOOKUP(C17120,Sheet2!A:F,2,FALSE))","v":""},{"$f":"IF(OR(C17120=\"\",ISBLANK(C17120)),\"\",VLOOKUP(C17120,Sheet2!A:G,4,FALSE))","v":""},null,null,{"$f":"IF(OR(C17120=\"\",ISBLANK(C17120)),\"\",VLOOKUP(C17120,Sheet2!A:F,3,FALSE))","v":""},{"$f":"IF(OR(C17120=\"\",ISBLANK(C17120)),\"\",VLOOKUP(C17120,Sheet2!A:G,6,FALSE))","v":""},""]
[{"$f":"IF(OR(C17129=\"\",ISBLANK(C17129)),\"\",VLOOKUP(C17129,Sheet2!A:F,2,FALSE))","v":""},{"$f":"IF(OR(C17129=\"\",ISBLANK(C17129)),\"\",VLOOKUP(C17129,Sheet2!A:G,4,FALSE))","v":""},null,null,{"$f":"IF(OR(C17129=\"\",ISBLANK(C17129)),\"\",VLOOKUP(C17129,Sheet2!A:F,3,FALSE))","v":""},{"$f":"IF(OR(C17129=\"\",ISBLANK(C17129)),\"\",VLOOKUP(C17129,Sheet2!A:G,6,FALSE))","v":""},""]
[{"$f":"IF(OR(C17173=\"\",ISBLANK(C17173)),\"\",VLOOKUP(C17173,Sheet2!A:F,2,FALSE))","v":""},{"$f":"IF(OR(C17173=\"\",ISBLANK(C17173)),\"\",VLOOKUP(C17173,Sheet2!A:G,4,FALSE))","v":""},null,null,{"$f":"IF(OR(C17173=\"\",ISBLANK(C17173)),\"\",VLOOKUP(C17173,Sheet2!A:F,3,FALSE))","v":""},{"$f":"IF(OR(C17173=\"\",ISBLANK(C17173)),\"\",VLOOKUP(C17173,Sheet2!A:G,6,FALSE))","v":""},""]
[{"$f":"IF(OR(C17186=\"\",ISBLANK(C17186)),\"\",VLOOKUP(C17186,Sheet2!A:F,2,FALSE))","v":""},{"$f":"IF(OR(C17186=\"\",ISBLANK(C17186)),\"\",VLOOKUP(C17186,Sheet2!A:G,4,FALSE))","v":""},null,null,{"$f":"IF(OR(C17186=\"\",ISBLANK(C17186)),\"\",VLOOKUP(C17186,Sheet2!A:F,3,FALSE))","v":""},{"$f":"IF(OR(C17186=\"\",ISBLANK(C17186)),\"\",VLOOKUP(C17186,Sheet2!A:G,6,FALSE))","v":""},""]
[{"$f":"IF(OR(C17219=\"\",ISBLANK(C17219)),\"\",VLOOKUP(C17219,Sheet2!A:F,2,FALSE))","v":""},{"$f":"IF(OR(C17219=\"\",ISBLANK(C17219)),\"\",VLOOKUP(C17219,Sheet2!A:G,4,FALSE))","v":""},null,null,{"$f":"IF(OR(C17219=\"\",ISBLANK(C17219)),\"\",VLOOKUP(C17219,Sheet2!A:F,3,FALSE))","v":""},{"$f":"IF(OR(C17219=\"\",ISBLANK(C17219)),\"\",VLOOKUP(C17219,Sheet2!A:G,6,FALSE))","v":""},{"$f":"IF(F17219=0,\"\",F17219)","v":""}]
[{"$f":"IF(OR(C17244=\"\",ISBLANK(C17244)),\"\",VLOOKUP(C17244,Sheet2!A:F,2,FALSE))","v":""},{"$f":"IF(OR(C17244=\"\",ISBLANK(C17244)),\"\",VLOOKUP(C17244,Sheet2!A:G,4,FALSE))","v":""},null,null,{"$f":"IF(OR(C17244=\"\",ISBLANK(C17244)),\"\",VLOOKUP(C17244,Sheet2!A:F,3,FALSE))","v":""},{"$f":"IF(OR(C17244=\"\",ISBLANK(C17244)),\"\",VLOOKUP(C17244,Sheet2!A:G,6,FALSE))","v":""},""]
[{"$f":"IF(OR(C17253=\"\",ISBLANK(C17253)),\"\",VLOOKUP(C17253,Sheet2!A:F,2,FALSE))","v":""},{"$f":"IF(OR(C17253=\"\",ISBLANK(C17253)),\"\",VLOOKUP(C17253,Sheet2!A:G,4,FALSE))","v":""},null,null,{"$f":"IF(OR(C17253=\"\",ISBLANK(C17253)),\"\",VLOOKUP(C17253,Sheet2!A:F,3,FALSE))","v":""},{"$f":"IF(OR(C17253=\"\",ISBLANK(C17253)),\"\",VLOOKUP(C17253,Sheet2!A:G,6,FALSE))","v":""},""]
[{"$f":"IF(OR(C17278=\"\",ISBLANK(C17278)),\"\",VLOOKUP(C17278,Sheet2!A:F,2,FALSE))","v":""},{"$f":"IF(OR(C17278=\"\",ISBLANK(C17278)),\"\",VLOOKUP(C17278,Sheet2!A:G,4,FALSE))","v":""},null,null,{"$f":"IF(OR(C17278=\"\",ISBLANK(C17278)),\"\",VLOOKUP(C17278,Sheet2!A:F,3,FALSE))","v":""},{"$f":"IF(OR(C17278=\"\",ISBLANK(C17278)),\"\",VLOOKUP(C17278,Sheet2!A:G,6,FALSE))","v":""},""]
[{"$f":"IF(OR(C17311=\"\",ISBLANK(C17311)),\"\",VLOOKUP(C17311,Sheet2!A:F,2,FALSE))","v":""},{"$f":"IF(OR(C17311=\"\",ISBLANK(C17311)),\"\",VLOOKUP(C17311,Sheet2!A:G,4,FALSE))","v":""},null,null,{"$f":"IF(OR(C17311=\"\",ISBLANK(C17311)),\"\",VLOOKUP(C17311,Sheet2!A:F,3,FALSE))","v":""},{"$f":"IF(OR(C17311=\"\",ISBLANK(C17311)),\"\",VLOOKUP(C17311,Sheet2!A:G,6,FALSE))","v":""},""]
[{"$f":"IF(OR(C17320=\"\",ISBLANK(C17320)),\"\",VLOOKUP(C17320,Sheet2!A:F,2,FALSE))","v":""},{"$f":"IF(OR(C17320=\"\",ISBLANK(C17320)),\"\",VLOOKUP(C17320,Sheet2!A:G,4,FALSE))","v":""},null,null,{"$f":"IF(OR(C17320=\"\",ISBLANK(C17320)),\"\",VLOOKUP(C17320,Sheet2!A:F,3,FALSE))","v":""},{"$f":"IF(OR(C17320=\"\",ISBLANK(C17320)),\"\",VLOOKUP(C17320,Sheet2!A:G,6,FALSE))","v":""},""]
[{"$f":"IF(OR(C17345=\"\",ISBLANK(C17345)),\"\",VLOOKUP(C17345,Sheet2!A:F,2,FALSE))","v":""},{"$f":"IF(OR(C17345=\"\",ISBLANK(C17345)),\"\",VLOOKUP(C17345,Sheet2!A:G,4,FALSE))","v":""},null,null,{"$f":"IF(OR(C17345=\"\",ISBLANK(C17345)),\"\",VLOOKUP(C17345,Sheet2!A:F,3,FALSE))","v":""},{"$f":"IF(OR(C17345=\"\",ISBLANK(C17345)),\"\",VLOOKUP(C17345,Sheet2!A:G,6,FALSE))","v":""},""]
[{"$f":"IF(OR(C17378=\"\",ISBLANK(C17378)),\"\",VLOOKUP(C17378,Sheet2!A:F,2,FALSE))","v":""},{"$f":"IF(OR(C17378=\"\",ISBLANK(C17378)),\"\",VLOOKUP(C17378,Sheet2!A:G,4,FALSE))","v":""},null,null,{"$f":"IF(OR(C17378=\"\",ISBLANK(C17378)),\"\",VLOOKUP(C17378,Sheet2!A:F,3,FALSE))","v":""},{"$f":"IF(OR(C17378=\"\",ISBLANK(C17378)),\"\",VLOOKUP(C17378,Sheet2!A:G,6,FALSE))","v":""},""]
[{"$f":"IF(OR(C17392=\"\",ISBLANK(C17392)),\"\",VLOOKUP(C17392,Sheet2!A:F,2,FALSE))","v":""},{"$f":"IF(OR(C17392=\"\",ISBLANK(C17392)),\"\",VLOOKUP(C17392,Sheet2!A:G,4,FALSE))","v":""},null,null,{"$f":"IF(OR(C17392=\"\",ISBLANK(C17392)),\"\",VLOOKUP(C17392,Sheet2!A:F,3,FALSE))","v":""},{"$f":"IF(OR(C17392=\"\",ISBLANK(C17392)),\"\",VLOOKUP(C17392,Sheet2!A:G,6,FALSE))","v":""},""]
[{"$f":"IF(OR(C17435=\"\",ISBLANK(C17435)),\"\",VLOOKUP(C17435,Sheet2!A:F,2,FALSE))","v":""},{"$f":"IF(OR(C17435=\"\",ISBLANK(C17435)),\"\",VLOOKUP(C17435,Sheet2!A:G,4,FALSE))","v":""},null,null,{"$f":"IF(OR(C17435=\"\",ISBLANK(C17435)),\"\",VLOOKUP(C17435,Sheet2!A:F,3,FALSE))","v":""},{"$f":"IF(OR(C17435=\"\",ISBLANK(C17435)),\"\",VLOOKUP(C17435,Sheet2!A:G,6,FALSE))","v":""},""]
[{"$f":"IF(OR(C17444=\"\",ISBLANK(C17444)),\"\",VLOOKUP(C17444,Sheet2!A:F,2,FALSE))","v":""},{"$f":"IF(OR(C17444=\"\",ISBLANK(C17444)),\"\",VLOOKUP(C17444,Sheet2!A:G,4,FALSE))","v":""},null,null,{"$f":"IF(OR(C17444=\"\",ISBLANK(C17444)),\"\",VLOOKUP(C17444,Sheet2!A:F,3,FALSE))","v":""},{"$f":"IF(OR(C17444=\"\",ISBLANK(C17444)),\"\",VLOOKUP(C17444,Sheet2!A:G,6,FALSE))","v":""},""]
[{"$f":"IF(OR(C17469=\"\",ISBLANK(C17469)),\"\",VLOOKUP(C17469,Sheet2!A:F,2,FALSE))","v":""},{"$f":"IF(OR(C17469=\"\",ISBLANK(C17469)),\"\",VLOOKUP(C17469,Sheet2!A:G,4,FALSE))","v":""},null,null,{"$f":"IF(OR(C17469=\"\",ISBLANK(C17469)),\"\",VLOOKUP(C17469,Sheet2!A:F,3,FALSE))","v":""},{"$f":"IF(OR(C17469=\"\",ISBLANK(C17469)),\"\",VLOOKUP(C17469,Sheet2!A:G,6,FALSE))","v":""},""]
[{"$f":"IF(OR(C17502=\"\",ISBLANK(C17502)),\"\",VLOOKUP(C17502,Sheet2!A:F,2,FALSE))","v":""},{"$f":"IF(OR(C17502=\"\",ISBLANK(C17502)),\"\",VLOOKUP(C17502,Sheet2!A:G,4,FALSE))","v":""},null,null,{"$f":"IF(OR(C17502=\"\",ISBLANK(C17502)),\"\",VLOOKUP(C17502,Sheet2!A:F,3,FALSE))","v":""},{"$f":"IF(OR(C17502=\"\",ISBLANK(C17502)),\"\",VLOOKUP(C17502,Sheet2!A:G,6,FALSE))","v":""},""]
[{"$f":"IF(OR(C17511=\"\",ISBLANK(C17511)),\"\",VLOOKUP(C17511,Sheet2!A:F,2,FALSE))","v":""},{"$f":"IF(OR(C17511=\"\",ISBLANK(C17511)),\"\",VLOOKUP(C17511,Sheet2!A:G,4,FALSE))","v":""},null,null,{"$f":"IF(OR(C17511=\"\",ISBLANK(C17511)),\"\",VLOOKUP(C17511,Sheet2!A:F,3,FALSE))","v":""},{"$f":"IF(OR(C17511=\"\",ISBLANK(C17511)),\"\",VLOOKUP(C17511,Sheet2!A:G,6,FALSE))","v":""},""]
[{"$f":"IF(OR(C17536=\"\",ISBLANK(C17536)),\"\",VLOOKUP(C17536,Sheet2!A:F,2,FALSE))","v":""},{"$f":"IF(OR(C17536=\"\",ISBLANK(C17536)),\"\",VLOOKUP(C17536,Sheet2!A:G,4,FALSE))","v":""},null,null,{"$f":"IF(OR(C17536=\"\",ISBLANK(C17536)),\"\",VLOOKUP(C17536,Sheet2!A:F,3,FALSE))","v":""},{"$f":"IF(OR(C17536=\"\",ISBLANK(C17536)),\"\",VLOOKUP(C17536,Sheet2!A:G,6,FALSE))","v":""},""]
[{"$f":"IF(OR(C17569=\"\",ISBLANK(C17569)),\"\",VLOOKUP(C17569,Sheet2!A:F,2,FALSE))","v":""},{"$f":"IF(OR(C17569=\"\",ISBLANK(C17569)),\"\",VLOOKUP(C17569,Sheet2!A:G,4,FALSE))","v":""},null,null,{"$f":"IF(OR(C17569=\"\",ISBLANK(C17569)),\"\",VLOOKUP(C17569,Sheet2!A:F,3,FALSE))","v":""},{"$f":"IF(OR(C17569=\"\",ISBLANK(C17569)),\"\",VLOOKUP(C17569,Sheet2!A:G,6,FALSE))","v":""},""]
[{"$f":"IF(OR(C17594=\"\",ISBLANK(C17594)),\"\",VLOOKUP(C17594,Sheet2!A:F,2,FALSE))","v":""},{"$f":"IF(OR(C17594=\"\",ISBLANK(C17594)),\"\",VLOOKUP(C17594,Sheet2!A:G,4,FALSE))","v":""},null,null,{"$f":"IF(OR(C17594=\"\",ISBLANK(C17594)),\"\",VLOOKUP(C17594,Sheet2!A:F,3,FALSE))","v":""},{"$f":"IF(OR(C17594=\"\",ISBLANK(C17594)),\"\",VLOOKUP(C17594,Sheet2!A:G,6,FALSE))","v":""},""]
[{"$f":"IF(OR(C17623=\"\",ISBLANK(C17623)),\"\",VLOOKUP(C17623,Sheet2!A:F,2,FALSE))","v":""},{"$f":"IF(OR(C17623=\"\",ISBLANK(C17623)),\"\",VLOOKUP(C17623,Sheet2!A:G,4,FALSE))","v":""},null,null,{"$f":"IF(OR(C17623=\"\",ISBLANK(C17623)),\"\",VLOOKUP(C17623,Sheet2!A:F,3,FALSE))","v":""},{"$f":"IF(OR(C17623=\"\",ISBLANK(C17623)),\"\",VLOOKUP(C17623,Sheet2!A:G,6,FALSE))","v":""},""]
[{"$f":"IF(OR(C17635=\"\",ISBLANK(C17635)),\"\",VLOOKUP(C17635,Sheet2!A:F,2,FALSE))","v":""},{"$f":"IF(OR(C17635=\"\",ISBLANK(C17635)),\"\",VLOOKUP(C17635,Sheet2!A:G,4,FALSE))","v":""},null,null,{"$f":"IF(OR(C17635=\"\",ISBLANK(C17635)),\"\",VLOOKUP(C17635,Sheet2!A:F,3,FALSE))","v":""},{"$f":"IF(OR(C17635=\"\",ISBLANK(C17635)),\"\",VLOOKUP(C17635,Sheet2!A:G,6,FALSE))","v":""},""]
[{"$f":"IF(OR(C17660=\"\",ISBLANK(C17660)),\"\",VLOOKUP(C17660,Sheet2!A:F,2,FALSE))","v":""},{"$f":"IF(OR(C17660=\"\",ISBLANK(C17660)),\"\",VLOOKUP(C17660,Sheet2!A:G,4,FALSE))","v":""},null,null,{"$f":"IF(OR(C17660=\"\",ISBLANK(C17660)),\"\",VLOOKUP(C17660,Sheet2!A:F,3,FALSE))","v":""},{"$f":"IF(OR(C17660=\"\",ISBLANK(C17660)),\"\",VLOOKUP(C17660,Sheet2!A:G,6,FALSE))","v":""},""]
[{"$f":"IF(OR(C17693=\"\",ISBLANK(C17693)),\"\",VLOOKUP(C17693,Sheet2!A:F,2,FALSE))","v":""},{"$f":"IF(OR(C17693=\"\",ISBLANK(C17693)),\"\",VLOOKUP(C17693,Sheet2!A:G,4,FALSE))","v":""},null,null,{"$f":"IF(OR(C17693=\"\",ISBLANK(C17693)),\"\",VLOOKUP(C17693,Sheet2!A:F,3,FALSE))","v":""},{"$f":"IF(OR(C17693=\"\",ISBLANK(C17693)),\"\",VLOOKUP(C17693,Sheet2!A:G,6,FALSE))","v":""},""]
[{"$f":"IF(OR(C17702=\"\",ISBLANK(C17702)),\"\",VLOOKUP(C17702,Sheet2!A:F,2,FALSE))","v":""},{"$f":"IF(OR(C17702=\"\",ISBLANK(C17702)),\"\",VLOOKUP(C17702,Sheet2!A:G,4,FALSE))","v":""},null,null,{"$f":"IF(OR(C17702=\"\",ISBLANK(C17702)),\"\",VLOOKUP(C17702,Sheet2!A:F,3,FALSE))","v":""},{"$f":"IF(OR(C17702=\"\",ISBLANK(C17702)),\"\",VLOOKUP(C17702,Sheet2!A:G,6,FALSE))","v":""},""]
[{"$f":"IF(OR(C17727=\"\",ISBLANK(C17727)),\"\",VLOOKUP(C17727,Sheet2!A:F,2,FALSE))","v":""},{"$f":"IF(OR(C17727=\"\",ISBLANK(C17727)),\"\",VLOOKUP(C17727,Sheet2!A:G,4,FALSE))","v":""},null,null,{"$f":"IF(OR(C17727=\"\",ISBLANK(C17727)),\"\",VLOOKUP(C17727,Sheet2!A:F,3,FALSE))","v":""},{"$f":"IF(OR(C17727=\"\",ISBLANK(C17727)),\"\",VLOOKUP(C17727,Sheet2!A:G,6,FALSE))","v":""},""]
[{"$f":"IF(OR(C17760=\"\",ISBLANK(C17760)),\"\",VLOOKUP(C17760,Sheet2!A:F,2,FALSE))","v":""},{"$f":"IF(OR(C17760=\"\",ISBLANK(C17760)),\"\",VLOOKUP(C17760,Sheet2!A:G,4,FALSE))","v":""},null,null,{"$f":"IF(OR(C17760=\"\",ISBLANK(C17760)),\"\",VLOOKUP(C17760,Sheet2!A:F,3,FALSE))","v":""},{"$f":"IF(OR(C17760=\"\",ISBLANK(C17760)),\"\",VLOOKUP(C17760,Sheet2!A:G,6,FALSE))","v":""},""]
[{"$f":"IF(OR(C17785=\"\",ISBLANK(C17785)),\"\",VLOOKUP(C17785,Sheet2!A:F,2,FALSE))","v":""},{"$f":"IF(OR(C17785=\"\",ISBLANK(C17785)),\"\",VLOOKUP(C17785,Sheet2!A:G,4,FALSE))","v":""},null,null,{"$f":"IF(OR(C17785=\"\",ISBLANK(C17785)),\"\",VLOOKUP(C17785,Sheet2!A:F,3,FALSE))","v":""},{"$f":"IF(OR(C17785=\"\",ISBLANK(C17785)),\"\",VLOOKUP(C17785,Sheet2!A:G,6,FALSE))","v":""},""]
[{"$f":"IF(OR(C17818=\"\",ISBLANK(C17818)),\"\",VLOOKUP(C17818,Sheet2!A:F,2,FALSE))","v":""},{"$f":"IF(OR(C17818=\"\",ISBLANK(C17818)),\"\",VLOOKUP(C17818,Sheet2!A:G,4,FALSE))","v":""},null,null,{"$f":"IF(OR(C17818=\"\",ISBLANK(C17818)),\"\",VLOOKUP(C17818,Sheet2!A:F,3,FALSE))","v":""},{"$f":"IF(OR(C17818=\"\",ISBLANK(C17818)),\"\",VLOOKUP(C17818,Sheet2!A:G,6,FALSE))","v":""},""]
[{"$f":"IF(OR(C17827=\"\",ISBLANK(C17827)),\"\",VLOOKUP(C17827,Sheet2!A:F,2,FALSE))","v":""},{"$f":"IF(OR(C17827=\"\",ISBLANK(C17827)),\"\",VLOOKUP(C17827,Sheet2!A:G,4,FALSE))","v":""},null,null,{"$f":"IF(OR(C17827=\"\",ISBLANK(C17827)),\"\",VLOOKUP(C17827,Sheet2!A:F,3,FALSE))","v":""},{"$f":"IF(OR(C17827=\"\",ISBLANK(C17827)),\"\",VLOOKUP(C17827,Sheet2!A:G,6,FALSE))","v":""},""]
[{"$f":"IF(OR(C17854=\"\",ISBLANK(C17854)),\"\",VLOOKUP(C17854,Sheet2!A:F,2,FALSE))","v":""},{"$f":"IF(OR(C17854=\"\",ISBLANK(C17854)),\"\",VLOOKUP(C17854,Sheet2!A:G,4,FALSE))","v":""},null,null,{"$f":"IF(OR(C17854=\"\",ISBLANK(C17854)),\"\",VLOOKUP(C17854,Sheet2!A:F,3,FALSE))","v":""},{"$f":"IF(OR(C17854=\"\",ISBLANK(C17854)),\"\",VLOOKUP(C17854,Sheet2!A:G,6,FALSE))","v":""},""]
[{"$f":"IF(OR(C17884=\"\",ISBLANK(C17884)),\"\",VLOOKUP(C17884,Sheet2!A:F,2,FALSE))","v":""},{"$f":"IF(OR(C17884=\"\",ISBLANK(C17884)),\"\",VLOOKUP(C17884,Sheet2!A:G,4,FALSE))","v":""},null,null,{"$f":"IF(OR(C17884=\"\",ISBLANK(C17884)),\"\",VLOOKUP(C17884,Sheet2!A:F,3,FALSE))","v":""},{"$f":"IF(OR(C17884=\"\",ISBLANK(C17884)),\"\",VLOOKUP(C17884,Sheet2!A:G,6,FALSE))","v":""},""]
[{"$f":"IF(OR(C17909=\"\",ISBLANK(C17909)),\"\",VLOOKUP(C17909,Sheet2!A:F,2,FALSE))","v":""},{"$f":"IF(OR(C17909=\"\",ISBLANK(C17909)),\"\",VLOOKUP(C17909,Sheet2!A:G,4,FALSE))","v":""},null,null,{"$f":"IF(OR(C17909=\"\",ISBLANK(C17909)),\"\",VLOOKUP(C17909,Sheet2!A:F,3,FALSE))","v":""},{"$f":"IF(OR(C17909=\"\",ISBLANK(C17909)),\"\",VLOOKUP(C17909,Sheet2!A:G,6,FALSE))","v":""},""]
[{"$f":"IF(OR(C17918=\"\",ISBLANK(C17918)),\"\",VLOOKUP(C17918,Sheet2!A:F,2,FALSE))","v":""},{"$f":"IF(OR(C17918=\"\",ISBLANK(C17918)),\"\",VLOOKUP(C17918,Sheet2!A:G,4,FALSE))","v":""},null,null,{"$f":"IF(OR(C17918=\"\",ISBLANK(C17918)),\"\",VLOOKUP(C17918,Sheet2!A:F,3,FALSE))","v":""},{"$f":"IF(OR(C17918=\"\",ISBLANK(C17918)),\"\",VLOOKUP(C17918,Sheet2!A:G,6,FALSE))","v":""},""]
[{"$f":"IF(OR(C17951=\"\",ISBLANK(C17951)),\"\",VLOOKUP(C17951,Sheet2!A:F,2,FALSE))","v":""},{"$f":"IF(OR(C17951=\"\",ISBLANK(C17951)),\"\",VLOOKUP(C17951,Sheet2!A:G,4,FALSE))","v":""},null,null,{"$f":"IF(OR(C17951=\"\",ISBLANK(C17951)),\"\",VLOOKUP(C17951,Sheet2!A:F,3,FALSE))","v":""},{"$f":"IF(OR(C17951=\"\",ISBLANK(C17951)),\"\",VLOOKUP(C17951,Sheet2!A:G,6,FALSE))","v":""},""]
[{"$f":"IF(OR(C17976=\"\",ISBLANK(C17976)),\"\",VLOOKUP(C17976,Sheet2!A:F,2,FALSE))","v":""},{"$f":"IF(OR(C17976=\"\",ISBLANK(C17976)),\"\",VLOOKUP(C17976,Sheet2!A:G,4,FALSE))","v":""},null,null,{"$f":"IF(OR(C17976=\"\",ISBLANK(C17976)),\"\",VLOOKUP(C17976,Sheet2!A:F,3,FALSE))","v":""},{"$f":"IF(OR(C17976=\"\",ISBLANK(C17976)),\"\",VLOOKUP(C17976,Sheet2!A:G,6,FALSE))","v":""},""]
[{"$f":"IF(OR(C18009=\"\",ISBLANK(C18009)),\"\",VLOOKUP(C18009,Sheet2!A:F,2,FALSE))","v":""},{"$f":"IF(OR(C18009=\"\",ISBLANK(C18009)),\"\",VLOOKUP(C18009,Sheet2!A:G,4,FALSE))","v":""},null,null,{"$f":"IF(OR(C18009=\"\",ISBLANK(C18009)),\"\",VLOOKUP(C18009,Sheet2!A:F,3,FALSE))","v":""},{"$f":"IF(OR(C18009=\"\",ISBLANK(C18009)),\"\",VLOOKUP(C18009,Sheet2!A:G,6,FALSE))","v":""},""]
[{"$f":"IF(OR(C18018=\"\",ISBLANK(C18018)),\"\",VLOOKUP(C18018,Sheet2!A:F,2,FALSE))","v":""},{"$f":"IF(OR(C18018=\"\",ISBLANK(C18018)),\"\",VLOOKUP(C18018,Sheet2!A:G,4,FALSE))","v":""},null,null,{"$f":"IF(OR(C18018=\"\",ISBLANK(C18018)),\"\",VLOOKUP(C18018,Sheet2!A:F,3,FALSE))","v":""},{"$f":"IF(OR(C18018=\"\",ISBLANK(C18018)),\"\",VLOOKUP(C18018,Sheet2!A:G,6,FALSE))","v":""},""]
[{"$f":"IF(OR(C18043=\"\",ISBLANK(C18043)),\"\",VLOOKUP(C18043,Sheet2!A:F,2,FALSE))","v":""},{"$f":"IF(OR(C18043=\"\",ISBLANK(C18043)),\"\",VLOOKUP(C18043,Sheet2!A:G,4,FALSE))","v":""},null,null,{"$f":"IF(OR(C18043=\"\",ISBLANK(C18043)),\"\",VLOOKUP(C18043,Sheet2!A:F,3,FALSE))","v":""},{"$f":"IF(OR(C18043=\"\",ISBLANK(C18043)),\"\",VLOOKUP(C18043,Sheet2!A:G,6,FALSE))","v":""},""]
[{"$f":"IF(OR(C18076=\"\",ISBLANK(C18076)),\"\",VLOOKUP(C18076,Sheet2!A:F,2,FALSE))","v":""},{"$f":"IF(OR(C18076=\"\",ISBLANK(C18076)),\"\",VLOOKUP(C18076,Sheet2!A:G,4,FALSE))","v":""},null,null,{"$f":"IF(OR(C18076=\"\",ISBLANK(C18076)),\"\",VLOOKUP(C18076,Sheet2!A:F,3,FALSE))","v":""},{"$f":"IF(OR(C18076=\"\",ISBLANK(C18076)),\"\",VLOOKUP(C18076,Sheet2!A:G,6,FALSE))","v":""},""]
[{"$f":"IF(OR(C18085=\"\",ISBLANK(C18085)),\"\",VLOOKUP(C18085,Sheet2!A:F,2,FALSE))","v":""},{"$f":"IF(OR(C18085=\"\",ISBLANK(C18085)),\"\",VLOOKUP(C18085,Sheet2!A:G,4,FALSE))","v":""},null,null,{"$f":"IF(OR(C18085=\"\",ISBLANK(C18085)),\"\",VLOOKUP(C18085,Sheet2!A:F,3,FALSE))","v":""},{"$f":"IF(OR(C18085=\"\",ISBLANK(C18085)),\"\",VLOOKUP(C18085,Sheet2!A:G,6,FALSE))","v":""},""]
[{"$f":"IF(OR(C18109=\"\",ISBLANK(C18109)),\"\",VLOOKUP(C18109,Sheet2!A:F,2,FALSE))","v":""},{"$f":"IF(OR(C18109=\"\",ISBLANK(C18109)),\"\",VLOOKUP(C18109,Sheet2!A:G,4,FALSE))","v":""},null,null,{"$f":"IF(OR(C18109=\"\",ISBLANK(C18109)),\"\",VLOOKUP(C18109,Sheet2!A:F,3,FALSE))","v":""},{"$f":"IF(OR(C18109=\"\",ISBLANK(C18109)),\"\",VLOOKUP(C18109,Sheet2!A:G,6,FALSE))","v":""},""]
[{"$f":"IF(OR(C18142=\"\",ISBLANK(C18142)),\"\",VLOOKUP(C18142,Sheet2!A:F,2,FALSE))","v":""},{"$f":"IF(OR(C18142=\"\",ISBLANK(C18142)),\"\",VLOOKUP(C18142,Sheet2!A:G,4,FALSE))","v":""},null,null,{"$f":"IF(OR(C18142=\"\",ISBLANK(C18142)),\"\",VLOOKUP(C18142,Sheet2!A:F,3,FALSE))","v":""},{"$f":"IF(OR(C18142=\"\",ISBLANK(C18142)),\"\",VLOOKUP(C18142,Sheet2!A:G,6,FALSE))","v":""},""]
[{"$f":"IF(OR(C18167=\"\",ISBLANK(C18167)),\"\",VLOOKUP(C18167,Sheet2!A:F,2,FALSE))","v":""},{"$f":"IF(OR(C18167=\"\",ISBLANK(C18167)),\"\",VLOOKUP(C18167,Sheet2!A:G,4,FALSE))","v":""},null,null,{"$f":"IF(OR(C18167=\"\",ISBLANK(C18167)),\"\",VLOOKUP(C18167,Sheet2!A:F,3,FALSE))","v":""},{"$f":"IF(OR(C18167=\"\",ISBLANK(C18167)),\"\",VLOOKUP(C18167,Sheet2!A:G,6,FALSE))","v":""},""]
[{"$f":"IF(OR(C18200=\"\",ISBLANK(C18200)),\"\",VLOOKUP(C18200,Sheet2!A:F,2,FALSE))","v":""},{"$f":"IF(OR(C18200=\"\",ISBLANK(C18200)),\"\",VLOOKUP(C18200,Sheet2!A:G,4,FALSE))","v":""},null,null,{"$f":"IF(OR(C18200=\"\",ISBLANK(C18200)),\"\",VLOOKUP(C18200,Sheet2!A:F,3,FALSE))","v":""},{"$f":"IF(OR(C18200=\"\",ISBLANK(C18200)),\"\",VLOOKUP(C18200,Sheet2!A:G,6,FALSE))","v":""},""]
[{"$f":"IF(OR(C18209=\"\",ISBLANK(C18209)),\"\",VLOOKUP(C18209,Sheet2!A:F,2,FALSE))","v":""},{"$f":"IF(OR(C18209=\"\",ISBLANK(C18209)),\"\",VLOOKUP(C18209,Sheet2!A:G,4,FALSE))","v":""},null,null,{"$f":"IF(OR(C18209=\"\",ISBLANK(C18209)),\"\",VLOOKUP(C18209,Sheet2!A:F,3,FALSE))","v":""},{"$f":"IF(OR(C18209=\"\",ISBLANK(C18209)),\"\",VLOOKUP(C18209,Sheet2!A:G,6,FALSE))","v":""},""]
[{"$f":"IF(OR(C18234=\"\",ISBLANK(C18234)),\"\",VLOOKUP(C18234,Sheet2!A:F,2,FALSE))","v":""},{"$f":"IF(OR(C18234=\"\",ISBLANK(C18234)),\"\",VLOOKUP(C18234,Sheet2!A:G,4,FALSE))","v":""},null,null,{"$f":"IF(OR(C18234=\"\",ISBLANK(C18234)),\"\",VLOOKUP(C18234,Sheet2!A:F,3,FALSE))","v":""},{"$f":"IF(OR(C18234=\"\",ISBLANK(C18234)),\"\",VLOOKUP(C18234,Sheet2!A:G,6,FALSE))","v":""},""]
[{"$f":"IF(OR(C18267=\"\",ISBLANK(C18267)),\"\",VLOOKUP(C18267,Sheet2!A:F,2,FALSE))","v":""},{"$f":"IF(OR(C18267=\"\",ISBLANK(C18267)),\"\",VLOOKUP(C18267,Sheet2!A:G,4,FALSE))","v":""},null,null,{"$f":"IF(OR(C18267=\"\",ISBLANK(C18267)),\"\",VLOOKUP(C18267,Sheet2!A:F,3,FALSE))","v":""},{"$f":"IF(OR(C18267=\"\",ISBLANK(C18267)),\"\",VLOOKUP(C18267,Sheet2!A:G,6,FALSE))","v":""},""]
[{"$f":"IF(OR(C18292=\"\",ISBLANK(C18292)),\"\",VLOOKUP(C18292,Sheet2!A:F,2,FALSE))","v":""},{"$f":"IF(OR(C18292=\"\",ISBLANK(C18292)),\"\",VLOOKUP(C18292,Sheet2!A:G,4,FALSE))","v":""},null,null,{"$f":"IF(OR(C18292=\"\",ISBLANK(C18292)),\"\",VLOOKUP(C18292,Sheet2!A:F,3,FALSE))","v":""},{"$f":"IF(OR(C18292=\"\",ISBLANK(C18292)),\"\",VLOOKUP(C18292,Sheet2!A:G,6,FALSE))","v":""},""]
[{"$f":"IF(OR(C18304=\"\",ISBLANK(C18304)),\"\",VLOOKUP(C18304,Sheet2!A:F,2,FALSE))","v":""},{"$f":"IF(OR(C18304=\"\",ISBLANK(C18304)),\"\",VLOOKUP(C18304,Sheet2!A:G,4,FALSE))","v":""},null,null,{"$f":"IF(OR(C18304=\"\",ISBLANK(C18304)),\"\",VLOOKUP(C18304,Sheet2!A:F,3,FALSE))","v":""},{"$f":"IF(OR(C18304=\"\",ISBLANK(C18304)),\"\",VLOOKUP(C18304,Sheet2!A:G,6,FALSE))","v":""},""]
[{"$f":"IF(OR(C18333=\"\",ISBLANK(C18333)),\"\",VLOOKUP(C18333,Sheet2!A:F,2,FALSE))","v":""},{"$f":"IF(OR(C18333=\"\",ISBLANK(C18333)),\"\",VLOOKUP(C18333,Sheet2!A:G,4,FALSE))","v":""},null,null,{"$f":"IF(OR(C18333=\"\",ISBLANK(C18333)),\"\",VLOOKUP(C18333,Sheet2!A:F,3,FALSE))","v":""},{"$f":"IF(OR(C18333=\"\",ISBLANK(C18333)),\"\",VLOOKUP(C18333,Sheet2!A:G,6,FALSE))","v":""},""]
[{"$f":"IF(OR(C18358=\"\",ISBLANK(C18358)),\"\",VLOOKUP(C18358,Sheet2!A:F,2,FALSE))","v":""},{"$f":"IF(OR(C18358=\"\",ISBLANK(C18358)),\"\",VLOOKUP(C18358,Sheet2!A:G,4,FALSE))","v":""},null,null,{"$f":"IF(OR(C18358=\"\",ISBLANK(C18358)),\"\",VLOOKUP(C18358,Sheet2!A:F,3,FALSE))","v":""},{"$f":"IF(OR(C18358=\"\",ISBLANK(C18358)),\"\",VLOOKUP(C18358,Sheet2!A:G,6,FALSE))","v":""},""]
[{"$f":"IF(OR(C18391=\"\",ISBLANK(C18391)),\"\",VLOOKUP(C18391,Sheet2!A:F,2,FALSE))","v":""},{"$f":"IF(OR(C18391=\"\",ISBLANK(C18391)),\"\",VLOOKUP(C18391,Sheet2!A:G,4,FALSE))","v":""},null,null,{"$f":"IF(OR(C18391=\"\",ISBLANK(C18391)),\"\",VLOOKUP(C18391,Sheet2!A:F,3,FALSE))","v":""},{"$f":"IF(OR(C18391=\"\",ISBLANK(C18391)),\"\",VLOOKUP(C18391,Sheet2!A:G,6,FALSE))","v":""},""]
[{"$f":"IF(OR(C18416=\"\",ISBLANK(C18416)),\"\",VLOOKUP(C18416,Sheet2!A:F,2,FALSE))","v":""},{"$f":"IF(OR(C18416=\"\",ISBLANK(C18416)),\"\",VLOOKUP(C18416,Sheet2!A:G,4,FALSE))","v":""},null,null,{"$f":"IF(OR(C18416=\"\",ISBLANK(C18416)),\"\",VLOOKUP(C18416,Sheet2!A:F,3,FALSE))","v":""},{"$f":"IF(OR(C18416=\"\",ISBLANK(C18416)),\"\",VLOOKUP(C18416,Sheet2!A:G,6,FALSE))","v":""},""]
[{"$f":"IF(OR(C18425=\"\",ISBLANK(C18425)),\"\",VLOOKUP(C18425,Sheet2!A:F,2,FALSE))","v":""},{"$f":"IF(OR(C18425=\"\",ISBLANK(C18425)),\"\",VLOOKUP(C18425,Sheet2!A:G,4,FALSE))","v":""},null,null,{"$f":"IF(OR(C18425=\"\",ISBLANK(C18425)),\"\",VLOOKUP(C18425,Sheet2!A:F,3,FALSE))","v":""},{"$f":"IF(OR(C18425=\"\",ISBLANK(C18425)),\"\",VLOOKUP(C18425,Sheet2!A:G,6,FALSE))","v":""},""]
[{"$f":"IF(OR(C18458=\"\",ISBLANK(C18458)),\"\",VLOOKUP(C18458,Sheet2!A:F,2,FALSE))","v":""},{"$f":"IF(OR(C18458=\"\",ISBLANK(C18458)),\"\",VLOOKUP(C18458,Sheet2!A:G,4,FALSE))","v":""},null,null,{"$f":"IF(OR(C18458=\"\",ISBLANK(C18458)),\"\",VLOOKUP(C18458,Sheet2!A:F,3,FALSE))","v":""},{"$f":"IF(OR(C18458=\"\",ISBLANK(C18458)),\"\",VLOOKUP(C18458,Sheet2!A:G,6,FALSE))","v":""},""]
[{"$f":"IF(OR(C18483=\"\",ISBLANK(C18483)),\"\",VLOOKUP(C18483,Sheet2!A:F,2,FALSE))","v":""},{"$f":"IF(OR(C18483=\"\",ISBLANK(C18483)),\"\",VLOOKUP(C18483,Sheet2!A:G,4,FALSE))","v":""},null,null,{"$f":"IF(OR(C18483=\"\",ISBLANK(C18483)),\"\",VLOOKUP(C18483,Sheet2!A:F,3,FALSE))","v":""},{"$f":"IF(OR(C18483=\"\",ISBLANK(C18483)),\"\",VLOOKUP(C18483,Sheet2!A:G,6,FALSE))","v":""},""]
[{"$f":"IF(OR(C18492=\"\",ISBLANK(C18492)),\"\",VLOOKUP(C18492,Sheet2!A:F,2,FALSE))","v":""},{"$f":"IF(OR(C18492=\"\",ISBLANK(C18492)),\"\",VLOOKUP(C18492,Sheet2!A:G,4,FALSE))","v":""},null,null,{"$f":"IF(OR(C18492=\"\",ISBLANK(C18492)),\"\",VLOOKUP(C18492,Sheet2!A:F,3,FALSE))","v":""},{"$f":"IF(OR(C18492=\"\",ISBLANK(C18492)),\"\",VLOOKUP(C18492,Sheet2!A:G,6,FALSE))","v":""},""]
[{"$f":"IF(OR(C18525=\"\",ISBLANK(C18525)),\"\",VLOOKUP(C18525,Sheet2!A:F,2,FALSE))","v":""},{"$f":"IF(OR(C18525=\"\",ISBLANK(C18525)),\"\",VLOOKUP(C18525,Sheet2!A:G,4,FALSE))","v":""},null,null,{"$f":"IF(OR(C18525=\"\",ISBLANK(C18525)),\"\",VLOOKUP(C18525,Sheet2!A:F,3,FALSE))","v":""},{"$f":"IF(OR(C18525=\"\",ISBLANK(C18525)),\"\",VLOOKUP(C18525,Sheet2!A:G,6,FALSE))","v":""},""]
[{"$f":"IF(OR(C18558=\"\",ISBLANK(C18558)),\"\",VLOOKUP(C18558,Sheet2!A:F,2,FALSE))","v":""},{"$f":"IF(OR(C18558=\"\",ISBLANK(C18558)),\"\",VLOOKUP(C18558,Sheet2!A:G,4,FALSE))","v":""},null,null,{"$f":"IF(OR(C18558=\"\",ISBLANK(C18558)),\"\",VLOOKUP(C18558,Sheet2!A:F,3,FALSE))","v":""},{"$f":"IF(OR(C18558=\"\",ISBLANK(C18558)),\"\",VLOOKUP(C18558,Sheet2!A:G,6,FALSE))","v":""},""]
[{"$f":"IF(OR(C18582=\"\",ISBLANK(C18582)),\"\",VLOOKUP(C18582,Sheet2!A:F,2,FALSE))","v":""},{"$f":"IF(OR(C18582=\"\",ISBLANK(C18582)),\"\",VLOOKUP(C18582,Sheet2!A:G,4,FALSE))","v":""},null,null,{"$f":"IF(OR(C18582=\"\",ISBLANK(C18582)),\"\",VLOOKUP(C18582,Sheet2!A:F,3,FALSE))","v":""},{"$f":"IF(OR(C18582=\"\",ISBLANK(C18582)),\"\",VLOOKUP(C18582,Sheet2!A:G,6,FALSE))","v":""},""]
[{"$f":"IF(OR(C18607=\"\",ISBLANK(C18607)),\"\",VLOOKUP(C18607,Sheet2!A:F,2,FALSE))","v":""},{"$f":"IF(OR(C18607=\"\",ISBLANK(C18607)),\"\",VLOOKUP(C18607,Sheet2!A:G,4,FALSE))","v":""},null,null,{"$f":"IF(OR(C18607=\"\",ISBLANK(C18607)),\"\",VLOOKUP(C18607,Sheet2!A:F,3,FALSE))","v":""},{"$f":"IF(OR(C18607=\"\",ISBLANK(C18607)),\"\",VLOOKUP(C18607,Sheet2!A:G,6,FALSE))","v":""},""]
[{"$f":"IF(OR(C18616=\"\",ISBLANK(C18616)),\"\",VLOOKUP(C18616,Sheet2!A:F,2,FALSE))","v":""},{"$f":"IF(OR(C18616=\"\",ISBLANK(C18616)),\"\",VLOOKUP(C18616,Sheet2!A:G,4,FALSE))","v":""},null,null,{"$f":"IF(OR(C18616=\"\",ISBLANK(C18616)),\"\",VLOOKUP(C18616,Sheet2!A:F,3,FALSE))","v":""},{"$f":"IF(OR(C18616=\"\",ISBLANK(C18616)),\"\",VLOOKUP(C18616,Sheet2!A:G,6,FALSE))","v":""},""]
[{"$f":"IF(OR(C18649=\"\",ISBLANK(C18649)),\"\",VLOOKUP(C18649,Sheet2!A:F,2,FALSE))","v":""},{"$f":"IF(OR(C18649=\"\",ISBLANK(C18649)),\"\",VLOOKUP(C18649,Sheet2!A:G,4,FALSE))","v":""},null,null,{"$f":"IF(OR(C18649=\"\",ISBLANK(C18649)),\"\",VLOOKUP(C18649,Sheet2!A:F,3,FALSE))","v":""},{"$f":"IF(OR(C18649=\"\",ISBLANK(C18649)),\"\",VLOOKUP(C18649,Sheet2!A:G,6,FALSE))","v":""},""]
[{"$f":"IF(OR(C18674=\"\",ISBLANK(C18674)),\"\",VLOOKUP(C18674,Sheet2!A:F,2,FALSE))","v":""},{"$f":"IF(OR(C18674=\"\",ISBLANK(C18674)),\"\",VLOOKUP(C18674,Sheet2!A:G,4,FALSE))","v":""},null,null,{"$f":"IF(OR(C18674=\"\",ISBLANK(C18674)),\"\",VLOOKUP(C18674,Sheet2!A:F,3,FALSE))","v":""},{"$f":"IF(OR(C18674=\"\",ISBLANK(C18674)),\"\",VLOOKUP(C18674,Sheet2!A:G,6,FALSE))","v":""},""]
[{"$f":"IF(OR(C18683=\"\",ISBLANK(C18683)),\"\",VLOOKUP(C18683,Sheet2!A:F,2,FALSE))","v":""},{"$f":"IF(OR(C18683=\"\",ISBLANK(C18683)),\"\",VLOOKUP(C18683,Sheet2!A:G,4,FALSE))","v":""},null,null,{"$f":"IF(OR(C18683=\"\",ISBLANK(C18683)),\"\",VLOOKUP(C18683,Sheet2!A:F,3,FALSE))","v":""},{"$f":"IF(OR(C18683=\"\",ISBLANK(C18683)),\"\",VLOOKUP(C18683,Sheet2!A:G,6,FALSE))","v":""},""]
[{"$f":"IF(OR(C18716=\"\",ISBLANK(C18716)),\"\",VLOOKUP(C18716,Sheet2!A:F,2,FALSE))","v":""},{"$f":"IF(OR(C18716=\"\",ISBLANK(C18716)),\"\",VLOOKUP(C18716,Sheet2!A:G,4,FALSE))","v":""},null,null,{"$f":"IF(OR(C18716=\"\",ISBLANK(C18716)),\"\",VLOOKUP(C18716,Sheet2!A:F,3,FALSE))","v":""},{"$f":"IF(OR(C18716=\"\",ISBLANK(C18716)),\"\",VLOOKUP(C18716,Sheet2!A:G,6,FALSE))","v":""},""]
[{"$f":"IF(OR(C18741=\"\",ISBLANK(C18741)),\"\",VLOOKUP(C18741,Sheet2!A:F,2,FALSE))","v":""},{"$f":"IF(OR(C18741=\"\",ISBLANK(C18741)),\"\",VLOOKUP(C18741,Sheet2!A:G,4,FALSE))","v":""},null,null,{"$f":"IF(OR(C18741=\"\",ISBLANK(C18741)),\"\",VLOOKUP(C18741,Sheet2!A:F,3,FALSE))","v":""},{"$f":"IF(OR(C18741=\"\",ISBLANK(C18741)),\"\",VLOOKUP(C18741,Sheet2!A:G,6,FALSE))","v":""},""]
[{"$f":"IF(OR(C18754=\"\",ISBLANK(C18754)),\"\",VLOOKUP(C18754,Sheet2!A:F,2,FALSE))","v":""},{"$f":"IF(OR(C18754=\"\",ISBLANK(C18754)),\"\",VLOOKUP(C18754,Sheet2!A:G,4,FALSE))","v":""},null,null,{"$f":"IF(OR(C18754=\"\",ISBLANK(C18754)),\"\",VLOOKUP(C18754,Sheet2!A:F,3,FALSE))","v":""},{"$f":"IF(OR(C18754=\"\",ISBLANK(C18754)),\"\",VLOOKUP(C18754,Sheet2!A:G,6,FALSE))","v":""},""]
[{"$f":"IF(OR(C18798=\"\",ISBLANK(C18798)),\"\",VLOOKUP(C18798,Sheet2!A:F,2,FALSE))","v":""},{"$f":"IF(OR(C18798=\"\",ISBLANK(C18798)),\"\",VLOOKUP(C18798,Sheet2!A:G,4,FALSE))","v":""},null,null,{"$f":"IF(OR(C18798=\"\",ISBLANK(C18798)),\"\",VLOOKUP(C18798,Sheet2!A:F,3,FALSE))","v":""},{"$f":"IF(OR(C18798=\"\",ISBLANK(C18798)),\"\",VLOOKUP(C18798,Sheet2!A:G,6,FALSE))","v":""},""]
[{"$f":"IF(OR(C18807=\"\",ISBLANK(C18807)),\"\",VLOOKUP(C18807,Sheet2!A:F,2,FALSE))","v":""},{"$f":"IF(OR(C18807=\"\",ISBLANK(C18807)),\"\",VLOOKUP(C18807,Sheet2!A:G,4,FALSE))","v":""},null,null,{"$f":"IF(OR(C18807=\"\",ISBLANK(C18807)),\"\",VLOOKUP(C18807,Sheet2!A:F,3,FALSE))","v":""},{"$f":"IF(OR(C18807=\"\",ISBLANK(C18807)),\"\",VLOOKUP(C18807,Sheet2!A:G,6,FALSE))","v":""},""]
[{"$f":"IF(OR(C18840=\"\",ISBLANK(C18840)),\"\",VLOOKUP(C18840,Sheet2!A:F,2,FALSE))","v":""},{"$f":"IF(OR(C18840=\"\",ISBLANK(C18840)),\"\",VLOOKUP(C18840,Sheet2!A:G,4,FALSE))","v":""},null,null,{"$f":"IF(OR(C18840=\"\",ISBLANK(C18840)),\"\",VLOOKUP(C18840,Sheet2!A:F,3,FALSE))","v":""},{"$f":"IF(OR(C18840=\"\",ISBLANK(C18840)),\"\",VLOOKUP(C18840,Sheet2!A:G,6,FALSE))","v":""},""]
[{"$f":"IF(OR(C18865=\"\",ISBLANK(C18865)),\"\",VLOOKUP(C18865,Sheet2!A:F,2,FALSE))","v":""},{"$f":"IF(OR(C18865=\"\",ISBLANK(C18865)),\"\",VLOOKUP(C18865,Sheet2!A:G,4,FALSE))","v":""},null,null,{"$f":"IF(OR(C18865=\"\",ISBLANK(C18865)),\"\",VLOOKUP(C18865,Sheet2!A:F,3,FALSE))","v":""},{"$f":"IF(OR(C18865=\"\",ISBLANK(C18865)),\"\",VLOOKUP(C18865,Sheet2!A:G,6,FALSE))","v":""},""]
[{"$f":"IF(OR(C18874=\"\",ISBLANK(C18874)),\"\",VLOOKUP(C18874,Sheet2!A:F,2,FALSE))","v":""},{"$f":"IF(OR(C18874=\"\",ISBLANK(C18874)),\"\",VLOOKUP(C18874,Sheet2!A:G,4,FALSE))","v":""},null,null,{"$f":"IF(OR(C18874=\"\",ISBLANK(C18874)),\"\",VLOOKUP(C18874,Sheet2!A:F,3,FALSE))","v":""},{"$f":"IF(OR(C18874=\"\",ISBLANK(C18874)),\"\",VLOOKUP(C18874,Sheet2!A:G,6,FALSE))","v":""},""]
[{"$f":"IF(OR(C18899=\"\",ISBLANK(C18899)),\"\",VLOOKUP(C18899,Sheet2!A:F,2,FALSE))","v":""},{"$f":"IF(OR(C18899=\"\",ISBLANK(C18899)),\"\",VLOOKUP(C18899,Sheet2!A:G,4,FALSE))","v":""},null,null,{"$f":"IF(OR(C18899=\"\",ISBLANK(C18899)),\"\",VLOOKUP(C18899,Sheet2!A:F,3,FALSE))","v":""},{"$f":"IF(OR(C18899=\"\",ISBLANK(C18899)),\"\",VLOOKUP(C18899,Sheet2!A:G,6,FALSE))","v":""},""]
[{"$f":"IF(OR(C18932=\"\",ISBLANK(C18932)),\"\",VLOOKUP(C18932,Sheet2!A:F,2,FALSE))","v":""},{"$f":"IF(OR(C18932=\"\",ISBLANK(C18932)),\"\",VLOOKUP(C18932,Sheet2!A:G,4,FALSE))","v":""},null,null,{"$f":"IF(OR(C18932=\"\",ISBLANK(C18932)),\"\",VLOOKUP(C18932,Sheet2!A:F,3,FALSE))","v":""},{"$f":"IF(OR(C18932=\"\",ISBLANK(C18932)),\"\",VLOOKUP(C18932,Sheet2!A:G,6,FALSE))","v":""},""]
[{"$f":"IF(OR(C18965=\"\",ISBLANK(C18965)),\"\",VLOOKUP(C18965,Sheet2!A:F,2,FALSE))","v":""},{"$f":"IF(OR(C18965=\"\",ISBLANK(C18965)),\"\",VLOOKUP(C18965,Sheet2!A:G,4,FALSE))","v":""},null,null,{"$f":"IF(OR(C18965=\"\",ISBLANK(C18965)),\"\",VLOOKUP(C18965,Sheet2!A:F,3,FALSE))","v":""},{"$f":"IF(OR(C18965=\"\",ISBLANK(C18965)),\"\",VLOOKUP(C18965,Sheet2!A:G,6,FALSE))","v":""},""]
[{"$f":"IF(OR(C18990=\"\",ISBLANK(C18990)),\"\",VLOOKUP(C18990,Sheet2!A:F,2,FALSE))","v":""},{"$f":"IF(OR(C18990=\"\",ISBLANK(C18990)),\"\",VLOOKUP(C18990,Sheet2!A:G,4,FALSE))","v":""},null,null,{"$f":"IF(OR(C18990=\"\",ISBLANK(C18990)),\"\",VLOOKUP(C18990,Sheet2!A:F,3,FALSE))","v":""},{"$f":"IF(OR(C18990=\"\",ISBLANK(C18990)),\"\",VLOOKUP(C18990,Sheet2!A:G,6,FALSE))","v":""},""]
[{"$f":"IF(OR(C19008=\"\",ISBLANK(C19008)),\"\",VLOOKUP(C19008,Sheet2!A:F,2,FALSE))","v":""},{"$f":"IF(OR(C19008=\"\",ISBLANK(C19008)),\"\",VLOOKUP(C19008,Sheet2!A:G,4,FALSE))","v":""},null,null,{"$f":"IF(OR(C19008=\"\",ISBLANK(C19008)),\"\",VLOOKUP(C19008,Sheet2!A:F,3,FALSE))","v":""},{"$f":"IF(OR(C19008=\"\",ISBLANK(C19008)),\"\",VLOOKUP(C19008,Sheet2!A:G,6,FALSE))","v":""},""]
[{"$f":"IF(OR(C19031=\"\",ISBLANK(C19031)),\"\",VLOOKUP(C19031,Sheet2!A:F,2,FALSE))","v":""},{"$f":"IF(OR(C19031=\"\",ISBLANK(C19031)),\"\",VLOOKUP(C19031,Sheet2!A:G,4,FALSE))","v":""},null,null,{"$f":"IF(OR(C19031=\"\",ISBLANK(C19031)),\"\",VLOOKUP(C19031,Sheet2!A:F,3,FALSE))","v":""},{"$f":"IF(OR(C19031=\"\",ISBLANK(C19031)),\"\",VLOOKUP(C19031,Sheet2!A:G,6,FALSE))","v":""},""]
[{"$f":"IF(OR(C19056=\"\",ISBLANK(C19056)),\"\",VLOOKUP(C19056,Sheet2!A:F,2,FALSE))","v":""},{"$f":"IF(OR(C19056=\"\",ISBLANK(C19056)),\"\",VLOOKUP(C19056,Sheet2!A:G,4,FALSE))","v":""},null,null,{"$f":"IF(OR(C19056=\"\",ISBLANK(C19056)),\"\",VLOOKUP(C19056,Sheet2!A:F,3,FALSE))","v":""},{"$f":"IF(OR(C19056=\"\",ISBLANK(C19056)),\"\",VLOOKUP(C19056,Sheet2!A:G,6,FALSE))","v":""},""]
[{"$f":"IF(OR(C19065=\"\",ISBLANK(C19065)),\"\",VLOOKUP(C19065,Sheet2!A:F,2,FALSE))","v":""},{"$f":"IF(OR(C19065=\"\",ISBLANK(C19065)),\"\",VLOOKUP(C19065,Sheet2!A:G,4,FALSE))","v":""},null,null,{"$f":"IF(OR(C19065=\"\",ISBLANK(C19065)),\"\",VLOOKUP(C19065,Sheet2!A:F,3,FALSE))","v":""},{"$f":"IF(OR(C19065=\"\",ISBLANK(C19065)),\"\",VLOOKUP(C19065,Sheet2!A:G,6,FALSE))","v":""},""]
[{"$f":"IF(OR(C19090=\"\",ISBLANK(C19090)),\"\",VLOOKUP(C19090,Sheet2!A:F,2,FALSE))","v":""},{"$f":"IF(OR(C19090=\"\",ISBLANK(C19090)),\"\",VLOOKUP(C19090,Sheet2!A:G,4,FALSE))","v":""},null,null,{"$f":"IF(OR(C19090=\"\",ISBLANK(C19090)),\"\",VLOOKUP(C19090,Sheet2!A:F,3,FALSE))","v":""},{"$f":"IF(OR(C19090=\"\",ISBLANK(C19090)),\"\",VLOOKUP(C19090,Sheet2!A:G,6,FALSE))","v":""},""]
[{"$f":"IF(OR(C19123=\"\",ISBLANK(C19123)),\"\",VLOOKUP(C19123,Sheet2!A:F,2,FALSE))","v":""},{"$f":"IF(OR(C19123=\"\",ISBLANK(C19123)),\"\",VLOOKUP(C19123,Sheet2!A:G,4,FALSE))","v":""},null,null,{"$f":"IF(OR(C19123=\"\",ISBLANK(C19123)),\"\",VLOOKUP(C19123,Sheet2!A:F,3,FALSE))","v":""},{"$f":"IF(OR(C19123=\"\",ISBLANK(C19123)),\"\",VLOOKUP(C19123,Sheet2!A:G,6,FALSE))","v":""},""]
[{"$f":"IF(OR(C19156=\"\",ISBLANK(C19156)),\"\",VLOOKUP(C19156,Sheet2!A:F,2,FALSE))","v":""},{"$f":"IF(OR(C19156=\"\",ISBLANK(C19156)),\"\",VLOOKUP(C19156,Sheet2!A:G,4,FALSE))","v":""},null,null,{"$f":"IF(OR(C19156=\"\",ISBLANK(C19156)),\"\",VLOOKUP(C19156,Sheet2!A:F,3,FALSE))","v":""},{"$f":"IF(OR(C19156=\"\",ISBLANK(C19156)),\"\",VLOOKUP(C19156,Sheet2!A:G,6,FALSE))","v":""},""]
[{"$f":"IF(OR(C19181=\"\",ISBLANK(C19181)),\"\",VLOOKUP(C19181,Sheet2!A:F,2,FALSE))","v":""},{"$f":"IF(OR(C19181=\"\",ISBLANK(C19181)),\"\",VLOOKUP(C19181,Sheet2!A:G,4,FALSE))","v":""},null,null,{"$f":"IF(OR(C19181=\"\",ISBLANK(C19181)),\"\",VLOOKUP(C19181,Sheet2!A:F,3,FALSE))","v":""},{"$f":"IF(OR(C19181=\"\",ISBLANK(C19181)),\"\",VLOOKUP(C19181,Sheet2!A:G,6,FALSE))","v":""},""]
[{"$f":"IF(OR(C19190=\"\",ISBLANK(C19190)),\"\",VLOOKUP(C19190,Sheet2!A:F,2,FALSE))","v":""},{"$f":"IF(OR(C19190=\"\",ISBLANK(C19190)),\"\",VLOOKUP(C19190,Sheet2!A:G,4,FALSE))","v":""},null,null,{"$f":"IF(OR(C19190=\"\",ISBLANK(C19190)),\"\",VLOOKUP(C19190,Sheet2!A:F,3,FALSE))","v":""},{"$f":"IF(OR(C19190=\"\",ISBLANK(C19190)),\"\",VLOOKUP(C19190,Sheet2!A:G,6,FALSE))","v":""},""]
[{"$f":"IF(OR(C19215=\"\",ISBLANK(C19215)),\"\",VLOOKUP(C19215,Sheet2!A:F,2,FALSE))","v":""},{"$f":"IF(OR(C19215=\"\",ISBLANK(C19215)),\"\",VLOOKUP(C19215,Sheet2!A:G,4,FALSE))","v":""},null,null,{"$f":"IF(OR(C19215=\"\",ISBLANK(C19215)),\"\",VLOOKUP(C19215,Sheet2!A:F,3,FALSE))","v":""},{"$f":"IF(OR(C19215=\"\",ISBLANK(C19215)),\"\",VLOOKUP(C19215,Sheet2!A:G,6,FALSE))","v":""},""]
[{"$f":"IF(OR(C19239=\"\",ISBLANK(C19239)),\"\",VLOOKUP(C19239,Sheet2!A:F,2,FALSE))","v":""},{"$f":"IF(OR(C19239=\"\",ISBLANK(C19239)),\"\",VLOOKUP(C19239,Sheet2!A:G,4,FALSE))","v":""},null,null,{"$f":"IF(OR(C19239=\"\",ISBLANK(C19239)),\"\",VLOOKUP(C19239,Sheet2!A:F,3,FALSE))","v":""},{"$f":"IF(OR(C19239=\"\",ISBLANK(C19239)),\"\",VLOOKUP(C19239,Sheet2!A:G,6,FALSE))","v":""},""]
[{"$f":"IF(OR(C19256=\"\",ISBLANK(C19256)),\"\",VLOOKUP(C19256,Sheet2!A:F,2,FALSE))","v":""},{"$f":"IF(OR(C19256=\"\",ISBLANK(C19256)),\"\",VLOOKUP(C19256,Sheet2!A:G,4,FALSE))","v":""},null,null,{"$f":"IF(OR(C19256=\"\",ISBLANK(C19256)),\"\",VLOOKUP(C19256,Sheet2!A:F,3,FALSE))","v":""},{"$f":"IF(OR(C19256=\"\",ISBLANK(C19256)),\"\",VLOOKUP(C19256,Sheet2!A:G,6,FALSE))","v":""},""]
[{"$f":"IF(OR(C19281=\"\",ISBLANK(C19281)),\"\",VLOOKUP(C19281,Sheet2!A:F,2,FALSE))","v":""},{"$f":"IF(OR(C19281=\"\",ISBLANK(C19281)),\"\",VLOOKUP(C19281,Sheet2!A:G,4,FALSE))","v":""},null,null,{"$f":"IF(OR(C19281=\"\",ISBLANK(C19281)),\"\",VLOOKUP(C19281,Sheet2!A:F,3,FALSE))","v":""},{"$f":"IF(OR(C19281=\"\",ISBLANK(C19281)),\"\",VLOOKUP(C19281,Sheet2!A:G,6,FALSE))","v":""},""]
[{"$f":"IF(OR(C19314=\"\",ISBLANK(C19314)),\"\",VLOOKUP(C19314,Sheet2!A:F,2,FALSE))","v":""},{"$f":"IF(OR(C19314=\"\",ISBLANK(C19314)),\"\",VLOOKUP(C19314,Sheet2!A:G,4,FALSE))","v":""},null,null,{"$f":"IF(OR(C19314=\"\",ISBLANK(C19314)),\"\",VLOOKUP(C19314,Sheet2!A:F,3,FALSE))","v":""},{"$f":"IF(OR(C19314=\"\",ISBLANK(C19314)),\"\",VLOOKUP(C19314,Sheet2!A:G,6,FALSE))","v":""},""]
[{"$f":"IF(OR(C19347=\"\",ISBLANK(C19347)),\"\",VLOOKUP(C19347,Sheet2!A:F,2,FALSE))","v":""},{"$f":"IF(OR(C19347=\"\",ISBLANK(C19347)),\"\",VLOOKUP(C19347,Sheet2!A:G,4,FALSE))","v":""},null,null,{"$f":"IF(OR(C19347=\"\",ISBLANK(C19347)),\"\",VLOOKUP(C19347,Sheet2!A:F,3,FALSE))","v":""},{"$f":"IF(OR(C19347=\"\",ISBLANK(C19347)),\"\",VLOOKUP(C19347,Sheet2!A:G,6,FALSE))","v":""},""]
[{"$f":"IF(OR(C19372=\"\",ISBLANK(C19372)),\"\",VLOOKUP(C19372,Sheet2!A:F,2,FALSE))","v":""},{"$f":"IF(OR(C19372=\"\",ISBLANK(C19372)),\"\",VLOOKUP(C19372,Sheet2!A:G,4,FALSE))","v":""},null,null,{"$f":"IF(OR(C19372=\"\",ISBLANK(C19372)),\"\",VLOOKUP(C19372,Sheet2!A:F,3,FALSE))","v":""},{"$f":"IF(OR(C19372=\"\",ISBLANK(C19372)),\"\",VLOOKUP(C19372,Sheet2!A:G,6,FALSE))","v":""},""]
[{"$f":"IF(OR(C19381=\"\",ISBLANK(C19381)),\"\",VLOOKUP(C19381,Sheet2!A:F,2,FALSE))","v":""},{"$f":"IF(OR(C19381=\"\",ISBLANK(C19381)),\"\",VLOOKUP(C19381,Sheet2!A:G,4,FALSE))","v":""},null,null,{"$f":"IF(OR(C19381=\"\",ISBLANK(C19381)),\"\",VLOOKUP(C19381,Sheet2!A:F,3,FALSE))","v":""},{"$f":"IF(OR(C19381=\"\",ISBLANK(C19381)),\"\",VLOOKUP(C19381,Sheet2!A:G,6,FALSE))","v":""},""]
[{"$f":"IF(OR(C19406=\"\",ISBLANK(C19406)),\"\",VLOOKUP(C19406,Sheet2!A:F,2,FALSE))","v":""},{"$f":"IF(OR(C19406=\"\",ISBLANK(C19406)),\"\",VLOOKUP(C19406,Sheet2!A:G,4,FALSE))","v":""},null,null,{"$f":"IF(OR(C19406=\"\",ISBLANK(C19406)),\"\",VLOOKUP(C19406,Sheet2!A:F,3,FALSE))","v":""},{"$f":"IF(OR(C19406=\"\",ISBLANK(C19406)),\"\",VLOOKUP(C19406,Sheet2!A:G,6,FALSE))","v":""},""]
[{"$f":"IF(OR(C19439=\"\",ISBLANK(C19439)),\"\",VLOOKUP(C19439,Sheet2!A:F,2,FALSE))","v":""},{"$f":"IF(OR(C19439=\"\",ISBLANK(C19439)),\"\",VLOOKUP(C19439,Sheet2!A:G,4,FALSE))","v":""},null,null,{"$f":"IF(OR(C19439=\"\",ISBLANK(C19439)),\"\",VLOOKUP(C19439,Sheet2!A:F,3,FALSE))","v":""},{"$f":"IF(OR(C19439=\"\",ISBLANK(C19439)),\"\",VLOOKUP(C19439,Sheet2!A:G,6,FALSE))","v":""},""]
[{"$f":"IF(OR(C19458=\"\",ISBLANK(C19458)),\"\",VLOOKUP(C19458,Sheet2!A:F,2,FALSE))","v":""},{"$f":"IF(OR(C19458=\"\",ISBLANK(C19458)),\"\",VLOOKUP(C19458,Sheet2!A:G,4,FALSE))","v":""},null,null,{"$f":"IF(OR(C19458=\"\",ISBLANK(C19458)),\"\",VLOOKUP(C19458,Sheet2!A:F,3,FALSE))","v":""},{"$f":"IF(OR(C19458=\"\",ISBLANK(C19458)),\"\",VLOOKUP(C19458,Sheet2!A:G,6,FALSE))","v":""},""]
[{"$f":"IF(OR(C19472=\"\",ISBLANK(C19472)),\"\",VLOOKUP(C19472,Sheet2!A:F,2,FALSE))","v":""},{"$f":"IF(OR(C19472=\"\",ISBLANK(C19472)),\"\",VLOOKUP(C19472,Sheet2!A:G,4,FALSE))","v":""},null,null,{"$f":"IF(OR(C19472=\"\",ISBLANK(C19472)),\"\",VLOOKUP(C19472,Sheet2!A:F,3,FALSE))","v":""},{"$f":"IF(OR(C19472=\"\",ISBLANK(C19472)),\"\",VLOOKUP(C19472,Sheet2!A:G,6,FALSE))","v":""},""]
[{"$f":"IF(OR(C19505=\"\",ISBLANK(C19505)),\"\",VLOOKUP(C19505,Sheet2!A:F,2,FALSE))","v":""},{"$f":"IF(OR(C19505=\"\",ISBLANK(C19505)),\"\",VLOOKUP(C19505,Sheet2!A:G,4,FALSE))","v":""},null,null,{"$f":"IF(OR(C19505=\"\",ISBLANK(C19505)),\"\",VLOOKUP(C19505,Sheet2!A:F,3,FALSE))","v":""},{"$f":"IF(OR(C19505=\"\",ISBLANK(C19505)),\"\",VLOOKUP(C19505,Sheet2!A:G,6,FALSE))","v":""},""]
[{"$f":"IF(OR(C19538=\"\",ISBLANK(C19538)),\"\",VLOOKUP(C19538,Sheet2!A:F,2,FALSE))","v":""},{"$f":"IF(OR(C19538=\"\",ISBLANK(C19538)),\"\",VLOOKUP(C19538,Sheet2!A:G,4,FALSE))","v":""},null,null,{"$f":"IF(OR(C19538=\"\",ISBLANK(C19538)),\"\",VLOOKUP(C19538,Sheet2!A:F,3,FALSE))","v":""},{"$f":"IF(OR(C19538=\"\",ISBLANK(C19538)),\"\",VLOOKUP(C19538,Sheet2!A:G,6,FALSE))","v":""},""]
[{"$f":"IF(OR(C19563=\"\",ISBLANK(C19563)),\"\",VLOOKUP(C19563,Sheet2!A:F,2,FALSE))","v":""},{"$f":"IF(OR(C19563=\"\",ISBLANK(C19563)),\"\",VLOOKUP(C19563,Sheet2!A:G,4,FALSE))","v":""},null,null,{"$f":"IF(OR(C19563=\"\",ISBLANK(C19563)),\"\",VLOOKUP(C19563,Sheet2!A:F,3,FALSE))","v":""},{"$f":"IF(OR(C19563=\"\",ISBLANK(C19563)),\"\",VLOOKUP(C19563,Sheet2!A:G,6,FALSE))","v":""},""]
[{"$f":"IF(OR(C19572=\"\",ISBLANK(C19572)),\"\",VLOOKUP(C19572,Sheet2!A:F,2,FALSE))","v":""},{"$f":"IF(OR(C19572=\"\",ISBLANK(C19572)),\"\",VLOOKUP(C19572,Sheet2!A:G,4,FALSE))","v":""},null,null,{"$f":"IF(OR(C19572=\"\",ISBLANK(C19572)),\"\",VLOOKUP(C19572,Sheet2!A:F,3,FALSE))","v":""},{"$f":"IF(OR(C19572=\"\",ISBLANK(C19572)),\"\",VLOOKUP(C19572,Sheet2!A:G,6,FALSE))","v":""},""]
[{"$f":"IF(OR(C19597=\"\",ISBLANK(C19597)),\"\",VLOOKUP(C19597,Sheet2!A:F,2,FALSE))","v":""},{"$f":"IF(OR(C19597=\"\",ISBLANK(C19597)),\"\",VLOOKUP(C19597,Sheet2!A:G,4,FALSE))","v":""},null,null,{"$f":"IF(OR(C19597=\"\",ISBLANK(C19597)),\"\",VLOOKUP(C19597,Sheet2!A:F,3,FALSE))","v":""},{"$f":"IF(OR(C19597=\"\",ISBLANK(C19597)),\"\",VLOOKUP(C19597,Sheet2!A:G,6,FALSE))","v":""},""]
[{"$f":"IF(OR(C19630=\"\",ISBLANK(C19630)),\"\",VLOOKUP(C19630,Sheet2!A:F,2,FALSE))","v":""},{"$f":"IF(OR(C19630=\"\",ISBLANK(C19630)),\"\",VLOOKUP(C19630,Sheet2!A:G,4,FALSE))","v":""},null,null,{"$f":"IF(OR(C19630=\"\",ISBLANK(C19630)),\"\",VLOOKUP(C19630,Sheet2!A:F,3,FALSE))","v":""},{"$f":"IF(OR(C19630=\"\",ISBLANK(C19630)),\"\",VLOOKUP(C19630,Sheet2!A:G,6,FALSE))","v":""},""]
[{"$f":"IF(OR(C19639=\"\",ISBLANK(C19639)),\"\",VLOOKUP(C19639,Sheet2!A:F,2,FALSE))","v":""},{"$f":"IF(OR(C19639=\"\",ISBLANK(C19639)),\"\",VLOOKUP(C19639,Sheet2!A:G,4,FALSE))","v":""},null,null,{"$f":"IF(OR(C19639=\"\",ISBLANK(C19639)),\"\",VLOOKUP(C19639,Sheet2!A:F,3,FALSE))","v":""},{"$f":"IF(OR(C19639=\"\",ISBLANK(C19639)),\"\",VLOOKUP(C19639,Sheet2!A:G,6,FALSE))","v":""},""]
[{"$f":"IF(OR(C19664=\"\",ISBLANK(C19664)),\"\",VLOOKUP(C19664,Sheet2!A:F,2,FALSE))","v":""},{"$f":"IF(OR(C19664=\"\",ISBLANK(C19664)),\"\",VLOOKUP(C19664,Sheet2!A:G,4,FALSE))","v":""},null,null,{"$f":"IF(OR(C19664=\"\",ISBLANK(C19664)),\"\",VLOOKUP(C19664,Sheet2!A:F,3,FALSE))","v":""},{"$f":"IF(OR(C19664=\"\",ISBLANK(C19664)),\"\",VLOOKUP(C19664,Sheet2!A:G,6,FALSE))","v":""},""]
[{"$f":"IF(OR(C19689=\"\",ISBLANK(C19689)),\"\",VLOOKUP(C19689,Sheet2!A:F,2,FALSE))","v":""},{"$f":"IF(OR(C19689=\"\",ISBLANK(C19689)),\"\",VLOOKUP(C19689,Sheet2!A:G,4,FALSE))","v":""},null,null,{"$f":"IF(OR(C19689=\"\",ISBLANK(C19689)),\"\",VLOOKUP(C19689,Sheet2!A:F,3,FALSE))","v":""},{"$f":"IF(OR(C19689=\"\",ISBLANK(C19689)),\"\",VLOOKUP(C19689,Sheet2!A:G,6,FALSE))","v":""},""]
[{"$f":"IF(OR(C19721=\"\",ISBLANK(C19721)),\"\",VLOOKUP(C19721,Sheet2!A:F,2,FALSE))","v":""},{"$f":"IF(OR(C19721=\"\",ISBLANK(C19721)),\"\",VLOOKUP(C19721,Sheet2!A:G,4,FALSE))","v":""},null,null,{"$f":"IF(OR(C19721=\"\",ISBLANK(C19721)),\"\",VLOOKUP(C19721,Sheet2!A:F,3,FALSE))","v":""},{"$f":"IF(OR(C19721=\"\",ISBLANK(C19721)),\"\",VLOOKUP(C19721,Sheet2!A:G,6,FALSE))","v":""},""]
[{"$f":"IF(OR(C19754=\"\",ISBLANK(C19754)),\"\",VLOOKUP(C19754,Sheet2!A:F,2,FALSE))","v":""},{"$f":"IF(OR(C19754=\"\",ISBLANK(C19754)),\"\",VLOOKUP(C19754,Sheet2!A:G,4,FALSE))","v":""},null,null,{"$f":"IF(OR(C19754=\"\",ISBLANK(C19754)),\"\",VLOOKUP(C19754,Sheet2!A:F,3,FALSE))","v":""},{"$f":"IF(OR(C19754=\"\",ISBLANK(C19754)),\"\",VLOOKUP(C19754,Sheet2!A:G,6,FALSE))","v":""},""]
[{"$f":"IF(OR(C19763=\"\",ISBLANK(C19763)),\"\",VLOOKUP(C19763,Sheet2!A:F,2,FALSE))","v":""},{"$f":"IF(OR(C19763=\"\",ISBLANK(C19763)),\"\",VLOOKUP(C19763,Sheet2!A:G,4,FALSE))","v":""},null,null,{"$f":"IF(OR(C19763=\"\",ISBLANK(C19763)),\"\",VLOOKUP(C19763,Sheet2!A:F,3,FALSE))","v":""},{"$f":"IF(OR(C19763=\"\",ISBLANK(C19763)),\"\",VLOOKUP(C19763,Sheet2!A:G,6,FALSE))","v":""},""]
[{"$f":"IF(OR(C19788=\"\",ISBLANK(C19788)),\"\",VLOOKUP(C19788,Sheet2!A:F,2,FALSE))","v":""},{"$f":"IF(OR(C19788=\"\",ISBLANK(C19788)),\"\",VLOOKUP(C19788,Sheet2!A:G,4,FALSE))","v":""},null,null,{"$f":"IF(OR(C19788=\"\",ISBLANK(C19788)),\"\",VLOOKUP(C19788,Sheet2!A:F,3,FALSE))","v":""},{"$f":"IF(OR(C19788=\"\",ISBLANK(C19788)),\"\",VLOOKUP(C19788,Sheet2!A:G,6,FALSE))","v":""},""]
[{"$f":"IF(OR(C19821=\"\",ISBLANK(C19821)),\"\",VLOOKUP(C19821,Sheet2!A:F,2,FALSE))","v":""},{"$f":"IF(OR(C19821=\"\",ISBLANK(C19821)),\"\",VLOOKUP(C19821,Sheet2!A:G,4,FALSE))","v":""},null,null,{"$f":"IF(OR(C19821=\"\",ISBLANK(C19821)),\"\",VLOOKUP(C19821,Sheet2!A:F,3,FALSE))","v":""},{"$f":"IF(OR(C19821=\"\",ISBLANK(C19821)),\"\",VLOOKUP(C19821,Sheet2!A:G,6,FALSE))","v":""},""]
[{"$f":"IF(OR(C19830=\"\",ISBLANK(C19830)),\"\",VLOOKUP(C19830,Sheet2!A:F,2,FALSE))","v":""},{"$f":"IF(OR(C19830=\"\",ISBLANK(C19830)),\"\",VLOOKUP(C19830,Sheet2!A:G,4,FALSE))","v":""},null,null,{"$f":"IF(OR(C19830=\"\",ISBLANK(C19830)),\"\",VLOOKUP(C19830,Sheet2!A:F,3,FALSE))","v":""},{"$f":"IF(OR(C19830=\"\",ISBLANK(C19830)),\"\",VLOOKUP(C19830,Sheet2!A:G,6,FALSE))","v":""},""]
[{"$f":"IF(OR(C19855=\"\",ISBLANK(C19855)),\"\",VLOOKUP(C19855,Sheet2!A:F,2,FALSE))","v":""},{"$f":"IF(OR(C19855=\"\",ISBLANK(C19855)),\"\",VLOOKUP(C19855,Sheet2!A:G,4,FALSE))","v":""},null,null,{"$f":"IF(OR(C19855=\"\",ISBLANK(C19855)),\"\",VLOOKUP(C19855,Sheet2!A:F,3,FALSE))","v":""},{"$f":"IF(OR(C19855=\"\",ISBLANK(C19855)),\"\",VLOOKUP(C19855,Sheet2!A:G,6,FALSE))","v":""},""]
[{"$f":"IF(OR(C19888=\"\",ISBLANK(C19888)),\"\",VLOOKUP(C19888,Sheet2!A:F,2,FALSE))","v":""},{"$f":"IF(OR(C19888=\"\",ISBLANK(C19888)),\"\",VLOOKUP(C19888,Sheet2!A:G,4,FALSE))","v":""},null,null,{"$f":"IF(OR(C19888=\"\",ISBLANK(C19888)),\"\",VLOOKUP(C19888,Sheet2!A:F,3,FALSE))","v":""},{"$f":"IF(OR(C19888=\"\",ISBLANK(C19888)),\"\",VLOOKUP(C19888,Sheet2!A:G,6,FALSE))","v":""},""]
[{"$f":"IF(OR(C19913=\"\",ISBLANK(C19913)),\"\",VLOOKUP(C19913,Sheet2!A:F,2,FALSE))","v":""},{"$f":"IF(OR(C19913=\"\",ISBLANK(C19913)),\"\",VLOOKUP(C19913,Sheet2!A:G,4,FALSE))","v":""},null,null,{"$f":"IF(OR(C19913=\"\",ISBLANK(C19913)),\"\",VLOOKUP(C19913,Sheet2!A:F,3,FALSE))","v":""},{"$f":"IF(OR(C19913=\"\",ISBLANK(C19913)),\"\",VLOOKUP(C19913,Sheet2!A:G,6,FALSE))","v":""},""]
[{"$f":"IF(OR(C19943=\"\",ISBLANK(C19943)),\"\",VLOOKUP(C19943,Sheet2!A:F,2,FALSE))","v":""},{"$f":"IF(OR(C19943=\"\",ISBLANK(C19943)),\"\",VLOOKUP(C19943,Sheet2!A:G,4,FALSE))","v":""},null,null,{"$f":"IF(OR(C19943=\"\",ISBLANK(C19943)),\"\",VLOOKUP(C19943,Sheet2!A:F,3,FALSE))","v":""},{"$f":"IF(OR(C19943=\"\",ISBLANK(C19943)),\"\",VLOOKUP(C19943,Sheet2!A:G,6,FALSE))","v":""},""]
[{"$f":"IF(OR(C19954=\"\",ISBLANK(C19954)),\"\",VLOOKUP(C19954,Sheet2!A:F,2,FALSE))","v":""},{"$f":"IF(OR(C19954=\"\",ISBLANK(C19954)),\"\",VLOOKUP(C19954,Sheet2!A:G,4,FALSE))","v":""},null,null,{"$f":"IF(OR(C19954=\"\",ISBLANK(C19954)),\"\",VLOOKUP(C19954,Sheet2!A:F,3,FALSE))","v":""},{"$f":"IF(OR(C19954=\"\",ISBLANK(C19954)),\"\",VLOOKUP(C19954,Sheet2!A:G,6,FALSE))","v":""},""]
[{"$f":"IF(OR(C19979=\"\",ISBLANK(C19979)),\"\",VLOOKUP(C19979,Sheet2!A:F,2,FALSE))","v":""},{"$f":"IF(OR(C19979=\"\",ISBLANK(C19979)),\"\",VLOOKUP(C19979,Sheet2!A:G,4,FALSE))","v":""},null,null,{"$f":"IF(OR(C19979=\"\",ISBLANK(C19979)),\"\",VLOOKUP(C19979,Sheet2!A:F,3,FALSE))","v":""},{"$f":"IF(OR(C19979=\"\",ISBLANK(C19979)),\"\",VLOOKUP(C19979,Sheet2!A:G,6,FALSE))","v":""},""]
[{"$f":"IF(OR(C20012=\"\",ISBLANK(C20012)),\"\",VLOOKUP(C20012,Sheet2!A:F,2,FALSE))","v":""},{"$f":"IF(OR(C20012=\"\",ISBLANK(C20012)),\"\",VLOOKUP(C20012,Sheet2!A:G,4,FALSE))","v":""},null,null,{"$f":"IF(OR(C20012=\"\",ISBLANK(C20012)),\"\",VLOOKUP(C20012,Sheet2!A:F,3,FALSE))","v":""},{"$f":"IF(OR(C20012=\"\",ISBLANK(C20012)),\"\",VLOOKUP(C20012,Sheet2!A:G,6,FALSE))","v":""},""]
[{"$f":"IF(OR(C20037=\"\",ISBLANK(C20037)),\"\",VLOOKUP(C20037,Sheet2!A:F,2,FALSE))","v":""},{"$f":"IF(OR(C20037=\"\",ISBLANK(C20037)),\"\",VLOOKUP(C20037,Sheet2!A:G,4,FALSE))","v":""},null,null,{"$f":"IF(OR(C20037=\"\",ISBLANK(C20037)),\"\",VLOOKUP(C20037,Sheet2!A:F,3,FALSE))","v":""},{"$f":"IF(OR(C20037=\"\",ISBLANK(C20037)),\"\",VLOOKUP(C20037,Sheet2!A:G,6,FALSE))","v":""},""]
[{"$f":"IF(OR(C20046=\"\",ISBLANK(C20046)),\"\",VLOOKUP(C20046,Sheet2!A:F,2,FALSE))","v":""},{"$f":"IF(OR(C20046=\"\",ISBLANK(C20046)),\"\",VLOOKUP(C20046,Sheet2!A:G,4,FALSE))","v":""},null,null,{"$f":"IF(OR(C20046=\"\",ISBLANK(C20046)),\"\",VLOOKUP(C20046,Sheet2!A:F,3,FALSE))","v":""},{"$f":"IF(OR(C20046=\"\",ISBLANK(C20046)),\"\",VLOOKUP(C20046,Sheet2!A:G,6,FALSE))","v":""},""]
[{"$f":"IF(OR(C20079=\"\",ISBLANK(C20079)),\"\",VLOOKUP(C20079,Sheet2!A:F,2,FALSE))","v":""},{"$f":"IF(OR(C20079=\"\",ISBLANK(C20079)),\"\",VLOOKUP(C20079,Sheet2!A:G,4,FALSE))","v":""},null,null,{"$f":"IF(OR(C20079=\"\",ISBLANK(C20079)),\"\",VLOOKUP(C20079,Sheet2!A:F,3,FALSE))","v":""},{"$f":"IF(OR(C20079=\"\",ISBLANK(C20079)),\"\",VLOOKUP(C20079,Sheet2!A:G,6,FALSE))","v":""},""]
[{"$f":"IF(OR(C20104=\"\",ISBLANK(C20104)),\"\",VLOOKUP(C20104,Sheet2!A:F,2,FALSE))","v":""},{"$f":"IF(OR(C20104=\"\",ISBLANK(C20104)),\"\",VLOOKUP(C20104,Sheet2!A:G,4,FALSE))","v":""},null,null,{"$f":"IF(OR(C20104=\"\",ISBLANK(C20104)),\"\",VLOOKUP(C20104,Sheet2!A:F,3,FALSE))","v":""},{"$f":"IF(OR(C20104=\"\",ISBLANK(C20104)),\"\",VLOOKUP(C20104,Sheet2!A:G,6,FALSE))","v":""},""]
[{"$f":"IF(OR(C20137=\"\",ISBLANK(C20137)),\"\",VLOOKUP(C20137,Sheet2!A:F,2,FALSE))","v":""},{"$f":"IF(OR(C20137=\"\",ISBLANK(C20137)),\"\",VLOOKUP(C20137,Sheet2!A:G,4,FALSE))","v":""},null,null,{"$f":"IF(OR(C20137=\"\",ISBLANK(C20137)),\"\",VLOOKUP(C20137,Sheet2!A:F,3,FALSE))","v":""},{"$f":"IF(OR(C20137=\"\",ISBLANK(C20137)),\"\",VLOOKUP(C20137,Sheet2!A:G,6,FALSE))","v":""},""]
[{"$f":"IF(OR(C20139=\"\",ISBLANK(C20139)),\"\",VLOOKUP(C20139,Sheet2!A:F,2,FALSE))","v":""},{"$f":"IF(OR(C20139=\"\",ISBLANK(C20139)),\"\",VLOOKUP(C20139,Sheet2!A:G,4,FALSE))","v":""},null,null,{"$f":"IF(OR(C20139=\"\",ISBLANK(C20139)),\"\",VLOOKUP(C20139,Sheet2!A:F,3,FALSE))","v":""},{"$f":"IF(OR(C20139=\"\",ISBLANK(C20139)),\"\",VLOOKUP(C20139,Sheet2!A:G,6,FALSE))","v":""},""]
[{"$f":"IF(OR(C20170=\"\",ISBLANK(C20170)),\"\",VLOOKUP(C20170,Sheet2!A:F,2,FALSE))","v":""},{"$f":"IF(OR(C20170=\"\",ISBLANK(C20170)),\"\",VLOOKUP(C20170,Sheet2!A:G,4,FALSE))","v":""},null,null,{"$f":"IF(OR(C20170=\"\",ISBLANK(C20170)),\"\",VLOOKUP(C20170,Sheet2!A:F,3,FALSE))","v":""},{"$f":"IF(OR(C20170=\"\",ISBLANK(C20170)),\"\",VLOOKUP(C20170,Sheet2!A:G,6,FALSE))","v":""},""]
[{"$f":"IF(OR(C20203=\"\",ISBLANK(C20203)),\"\",VLOOKUP(C20203,Sheet2!A:F,2,FALSE))","v":""},{"$f":"IF(OR(C20203=\"\",ISBLANK(C20203)),\"\",VLOOKUP(C20203,Sheet2!A:G,4,FALSE))","v":""},null,null,{"$f":"IF(OR(C20203=\"\",ISBLANK(C20203)),\"\",VLOOKUP(C20203,Sheet2!A:F,3,FALSE))","v":""},{"$f":"IF(OR(C20203=\"\",ISBLANK(C20203)),\"\",VLOOKUP(C20203,Sheet2!A:G,6,FALSE))","v":""},""]
[{"$f":"IF(OR(C20228=\"\",ISBLANK(C20228)),\"\",VLOOKUP(C20228,Sheet2!A:F,2,FALSE))","v":""},{"$f":"IF(OR(C20228=\"\",ISBLANK(C20228)),\"\",VLOOKUP(C20228,Sheet2!A:G,4,FALSE))","v":""},null,null,{"$f":"IF(OR(C20228=\"\",ISBLANK(C20228)),\"\",VLOOKUP(C20228,Sheet2!A:F,3,FALSE))","v":""},{"$f":"IF(OR(C20228=\"\",ISBLANK(C20228)),\"\",VLOOKUP(C20228,Sheet2!A:G,6,FALSE))","v":""},""]
[{"$f":"IF(OR(C20237=\"\",ISBLANK(C20237)),\"\",VLOOKUP(C20237,Sheet2!A:F,2,FALSE))","v":""},{"$f":"IF(OR(C20237=\"\",ISBLANK(C20237)),\"\",VLOOKUP(C20237,Sheet2!A:G,4,FALSE))","v":""},null,null,{"$f":"IF(OR(C20237=\"\",ISBLANK(C20237)),\"\",VLOOKUP(C20237,Sheet2!A:F,3,FALSE))","v":""},{"$f":"IF(OR(C20237=\"\",ISBLANK(C20237)),\"\",VLOOKUP(C20237,Sheet2!A:G,6,FALSE))","v":""},""]
[{"$f":"IF(OR(C20270=\"\",ISBLANK(C20270)),\"\",VLOOKUP(C20270,Sheet2!A:F,2,FALSE))","v":""},{"$f":"IF(OR(C20270=\"\",ISBLANK(C20270)),\"\",VLOOKUP(C20270,Sheet2!A:G,4,FALSE))","v":""},null,null,{"$f":"IF(OR(C20270=\"\",ISBLANK(C20270)),\"\",VLOOKUP(C20270,Sheet2!A:F,3,FALSE))","v":""},{"$f":"IF(OR(C20270=\"\",ISBLANK(C20270)),\"\",VLOOKUP(C20270,Sheet2!A:G,6,FALSE))","v":""},""]
[{"$f":"IF(OR(C20295=\"\",ISBLANK(C20295)),\"\",VLOOKUP(C20295,Sheet2!A:F,2,FALSE))","v":""},{"$f":"IF(OR(C20295=\"\",ISBLANK(C20295)),\"\",VLOOKUP(C20295,Sheet2!A:G,4,FALSE))","v":""},null,null,{"$f":"IF(OR(C20295=\"\",ISBLANK(C20295)),\"\",VLOOKUP(C20295,Sheet2!A:F,3,FALSE))","v":""},{"$f":"IF(OR(C20295=\"\",ISBLANK(C20295)),\"\",VLOOKUP(C20295,Sheet2!A:G,6,FALSE))","v":""},""]
[{"$f":"IF(OR(C20328=\"\",ISBLANK(C20328)),\"\",VLOOKUP(C20328,Sheet2!A:F,2,FALSE))","v":""},{"$f":"IF(OR(C20328=\"\",ISBLANK(C20328)),\"\",VLOOKUP(C20328,Sheet2!A:G,4,FALSE))","v":""},null,null,{"$f":"IF(OR(C20328=\"\",ISBLANK(C20328)),\"\",VLOOKUP(C20328,Sheet2!A:F,3,FALSE))","v":""},{"$f":"IF(OR(C20328=\"\",ISBLANK(C20328)),\"\",VLOOKUP(C20328,Sheet2!A:G,6,FALSE))","v":""},""]
[{"$f":"IF(OR(C20337=\"\",ISBLANK(C20337)),\"\",VLOOKUP(C20337,Sheet2!A:F,2,FALSE))","v":""},{"$f":"IF(OR(C20337=\"\",ISBLANK(C20337)),\"\",VLOOKUP(C20337,Sheet2!A:G,4,FALSE))","v":""},null,null,{"$f":"IF(OR(C20337=\"\",ISBLANK(C20337)),\"\",VLOOKUP(C20337,Sheet2!A:F,3,FALSE))","v":""},{"$f":"IF(OR(C20337=\"\",ISBLANK(C20337)),\"\",VLOOKUP(C20337,Sheet2!A:G,6,FALSE))","v":""},""]
[{"$f":"IF(OR(C20362=\"\",ISBLANK(C20362)),\"\",VLOOKUP(C20362,Sheet2!A:F,2,FALSE))","v":""},{"$f":"IF(OR(C20362=\"\",ISBLANK(C20362)),\"\",VLOOKUP(C20362,Sheet2!A:G,4,FALSE))","v":""},null,null,{"$f":"IF(OR(C20362=\"\",ISBLANK(C20362)),\"\",VLOOKUP(C20362,Sheet2!A:F,3,FALSE))","v":""},{"$f":"IF(OR(C20362=\"\",ISBLANK(C20362)),\"\",VLOOKUP(C20362,Sheet2!A:G,6,FALSE))","v":""},""]
[{"$f":"IF(OR(C20393=\"\",ISBLANK(C20393)),\"\",VLOOKUP(C20393,Sheet2!A:F,2,FALSE))","v":""},{"$f":"IF(OR(C20393=\"\",ISBLANK(C20393)),\"\",VLOOKUP(C20393,Sheet2!A:G,4,FALSE))","v":""},null,null,{"$f":"IF(OR(C20393=\"\",ISBLANK(C20393)),\"\",VLOOKUP(C20393,Sheet2!A:F,3,FALSE))","v":""},{"$f":"IF(OR(C20393=\"\",ISBLANK(C20393)),\"\",VLOOKUP(C20393,Sheet2!A:G,6,FALSE))","v":""},""]
[{"$f":"IF(OR(C20419=\"\",ISBLANK(C20419)),\"\",VLOOKUP(C20419,Sheet2!A:F,2,FALSE))","v":""},{"$f":"IF(OR(C20419=\"\",ISBLANK(C20419)),\"\",VLOOKUP(C20419,Sheet2!A:G,4,FALSE))","v":""},null,null,{"$f":"IF(OR(C20419=\"\",ISBLANK(C20419)),\"\",VLOOKUP(C20419,Sheet2!A:F,3,FALSE))","v":""},{"$f":"IF(OR(C20419=\"\",ISBLANK(C20419)),\"\",VLOOKUP(C20419,Sheet2!A:G,6,FALSE))","v":""},{"$f":"IF(F20419=0,\"\",F20419)","v":""}]
[{"$f":"IF(OR(C20428=\"\",ISBLANK(C20428)),\"\",VLOOKUP(C20428,Sheet2!A:F,2,FALSE))","v":""},{"$f":"IF(OR(C20428=\"\",ISBLANK(C20428)),\"\",VLOOKUP(C20428,Sheet2!A:G,4,FALSE))","v":""},null,null,{"$f":"IF(OR(C20428=\"\",ISBLANK(C20428)),\"\",VLOOKUP(C20428,Sheet2!A:F,3,FALSE))","v":""},{"$f":"IF(OR(C20428=\"\",ISBLANK(C20428)),\"\",VLOOKUP(C20428,Sheet2!A:G,6,FALSE))","v":""},""]
[{"$f":"IF(OR(C20461=\"\",ISBLANK(C20461)),\"\",VLOOKUP(C20461,Sheet2!A:F,2,FALSE))","v":""},{"$f":"IF(OR(C20461=\"\",ISBLANK(C20461)),\"\",VLOOKUP(C20461,Sheet2!A:G,4,FALSE))","v":""},null,null,{"$f":"IF(OR(C20461=\"\",ISBLANK(C20461)),\"\",VLOOKUP(C20461,Sheet2!A:F,3,FALSE))","v":""},{"$f":"IF(OR(C20461=\"\",ISBLANK(C20461)),\"\",VLOOKUP(C20461,Sheet2!A:G,6,FALSE))","v":""},""]
[{"$f":"IF(OR(C20486=\"\",ISBLANK(C20486)),\"\",VLOOKUP(C20486,Sheet2!A:F,2,FALSE))","v":""},{"$f":"IF(OR(C20486=\"\",ISBLANK(C20486)),\"\",VLOOKUP(C20486,Sheet2!A:G,4,FALSE))","v":""},null,null,{"$f":"IF(OR(C20486=\"\",ISBLANK(C20486)),\"\",VLOOKUP(C20486,Sheet2!A:F,3,FALSE))","v":""},{"$f":"IF(OR(C20486=\"\",ISBLANK(C20486)),\"\",VLOOKUP(C20486,Sheet2!A:G,6,FALSE))","v":""},""]
[{"$f":"IF(OR(C20519=\"\",ISBLANK(C20519)),\"\",VLOOKUP(C20519,Sheet2!A:F,2,FALSE))","v":""},{"$f":"IF(OR(C20519=\"\",ISBLANK(C20519)),\"\",VLOOKUP(C20519,Sheet2!A:G,4,FALSE))","v":""},null,null,{"$f":"IF(OR(C20519=\"\",ISBLANK(C20519)),\"\",VLOOKUP(C20519,Sheet2!A:F,3,FALSE))","v":""},{"$f":"IF(OR(C20519=\"\",ISBLANK(C20519)),\"\",VLOOKUP(C20519,Sheet2!A:G,6,FALSE))","v":""},""]
[{"$f":"IF(OR(C20520=\"\",ISBLANK(C20520)),\"\",VLOOKUP(C20520,Sheet2!A:F,2,FALSE))","v":""},{"$f":"IF(OR(C20520=\"\",ISBLANK(C20520)),\"\",VLOOKUP(C20520,Sheet2!A:G,4,FALSE))","v":""},null,null,{"$f":"IF(OR(C20520=\"\",ISBLANK(C20520)),\"\",VLOOKUP(C20520,Sheet2!A:F,3,FALSE))","v":""},{"$f":"IF(OR(C20520=\"\",ISBLANK(C20520)),\"\",VLOOKUP(C20520,Sheet2!A:G,6,FALSE))","v":""},""]
[{"$f":"IF(OR(C20553=\"\",ISBLANK(C20553)),\"\",VLOOKUP(C20553,Sheet2!A:F,2,FALSE))","v":""},{"$f":"IF(OR(C20553=\"\",ISBLANK(C20553)),\"\",VLOOKUP(C20553,Sheet2!A:G,4,FALSE))","v":""},null,null,{"$f":"IF(OR(C20553=\"\",ISBLANK(C20553)),\"\",VLOOKUP(C20553,Sheet2!A:F,3,FALSE))","v":""},{"$f":"IF(OR(C20553=\"\",ISBLANK(C20553)),\"\",VLOOKUP(C20553,Sheet2!A:G,6,FALSE))","v":""},""]
[{"$f":"IF(OR(C20586=\"\",ISBLANK(C20586)),\"\",VLOOKUP(C20586,Sheet2!A:F,2,FALSE))","v":""},{"$f":"IF(OR(C20586=\"\",ISBLANK(C20586)),\"\",VLOOKUP(C20586,Sheet2!A:G,4,FALSE))","v":""},null,null,{"$f":"IF(OR(C20586=\"\",ISBLANK(C20586)),\"\",VLOOKUP(C20586,Sheet2!A:F,3,FALSE))","v":""},{"$f":"IF(OR(C20586=\"\",ISBLANK(C20586)),\"\",VLOOKUP(C20586,Sheet2!A:G,6,FALSE))","v":""},""]
[{"$f":"IF(OR(C20601=\"\",ISBLANK(C20601)),\"\",VLOOKUP(C20601,Sheet2!A:F,2,FALSE))","v":""},{"$f":"IF(OR(C20601=\"\",ISBLANK(C20601)),\"\",VLOOKUP(C20601,Sheet2!A:G,4,FALSE))","v":""},null,null,{"$f":"IF(OR(C20601=\"\",ISBLANK(C20601)),\"\",VLOOKUP(C20601,Sheet2!A:F,3,FALSE))","v":""},{"$f":"IF(OR(C20601=\"\",ISBLANK(C20601)),\"\",VLOOKUP(C20601,Sheet2!A:G,6,FALSE))","v":""},""]
[{"$f":"IF(OR(C20619=\"\",ISBLANK(C20619)),\"\",VLOOKUP(C20619,Sheet2!A:F,2,FALSE))","v":""},{"$f":"IF(OR(C20619=\"\",ISBLANK(C20619)),\"\",VLOOKUP(C20619,Sheet2!A:G,4,FALSE))","v":""},null,null,{"$f":"IF(OR(C20619=\"\",ISBLANK(C20619)),\"\",VLOOKUP(C20619,Sheet2!A:F,3,FALSE))","v":""},{"$f":"IF(OR(C20619=\"\",ISBLANK(C20619)),\"\",VLOOKUP(C20619,Sheet2!A:G,6,FALSE))","v":""},""]
[{"$f":"IF(OR(C20652=\"\",ISBLANK(C20652)),\"\",VLOOKUP(C20652,Sheet2!A:F,2,FALSE))","v":""},{"$f":"IF(OR(C20652=\"\",ISBLANK(C20652)),\"\",VLOOKUP(C20652,Sheet2!A:G,4,FALSE))","v":""},null,null,{"$f":"IF(OR(C20652=\"\",ISBLANK(C20652)),\"\",VLOOKUP(C20652,Sheet2!A:F,3,FALSE))","v":""},{"$f":"IF(OR(C20652=\"\",ISBLANK(C20652)),\"\",VLOOKUP(C20652,Sheet2!A:G,6,FALSE))","v":""},""]
[{"$f":"IF(OR(C20677=\"\",ISBLANK(C20677)),\"\",VLOOKUP(C20677,Sheet2!A:F,2,FALSE))","v":""},{"$f":"IF(OR(C20677=\"\",ISBLANK(C20677)),\"\",VLOOKUP(C20677,Sheet2!A:G,4,FALSE))","v":""},null,null,{"$f":"IF(OR(C20677=\"\",ISBLANK(C20677)),\"\",VLOOKUP(C20677,Sheet2!A:F,3,FALSE))","v":""},{"$f":"IF(OR(C20677=\"\",ISBLANK(C20677)),\"\",VLOOKUP(C20677,Sheet2!A:G,6,FALSE))","v":""},""]
[{"$f":"IF(OR(C20710=\"\",ISBLANK(C20710)),\"\",VLOOKUP(C20710,Sheet2!A:F,2,FALSE))","v":""},{"$f":"IF(OR(C20710=\"\",ISBLANK(C20710)),\"\",VLOOKUP(C20710,Sheet2!A:G,4,FALSE))","v":""},null,null,{"$f":"IF(OR(C20710=\"\",ISBLANK(C20710)),\"\",VLOOKUP(C20710,Sheet2!A:F,3,FALSE))","v":""},{"$f":"IF(OR(C20710=\"\",ISBLANK(C20710)),\"\",VLOOKUP(C20710,Sheet2!A:G,6,FALSE))","v":""},""]
[{"$f":"IF(OR(C20711=\"\",ISBLANK(C20711)),\"\",VLOOKUP(C20711,Sheet2!A:F,2,FALSE))","v":""},{"$f":"IF(OR(C20711=\"\",ISBLANK(C20711)),\"\",VLOOKUP(C20711,Sheet2!A:G,4,FALSE))","v":""},null,null,{"$f":"IF(OR(C20711=\"\",ISBLANK(C20711)),\"\",VLOOKUP(C20711,Sheet2!A:F,3,FALSE))","v":""},{"$f":"IF(OR(C20711=\"\",ISBLANK(C20711)),\"\",VLOOKUP(C20711,Sheet2!A:G,6,FALSE))","v":""},""]
[{"$f":"IF(OR(C20744=\"\",ISBLANK(C20744)),\"\",VLOOKUP(C20744,Sheet2!A:F,2,FALSE))","v":""},{"$f":"IF(OR(C20744=\"\",ISBLANK(C20744)),\"\",VLOOKUP(C20744,Sheet2!A:G,4,FALSE))","v":""},null,null,{"$f":"IF(OR(C20744=\"\",ISBLANK(C20744)),\"\",VLOOKUP(C20744,Sheet2!A:F,3,FALSE))","v":""},{"$f":"IF(OR(C20744=\"\",ISBLANK(C20744)),\"\",VLOOKUP(C20744,Sheet2!A:G,6,FALSE))","v":""},""]
[{"$f":"IF(OR(C20777=\"\",ISBLANK(C20777)),\"\",VLOOKUP(C20777,Sheet2!A:F,2,FALSE))","v":""},{"$f":"IF(OR(C20777=\"\",ISBLANK(C20777)),\"\",VLOOKUP(C20777,Sheet2!A:G,4,FALSE))","v":""},null,null,{"$f":"IF(OR(C20777=\"\",ISBLANK(C20777)),\"\",VLOOKUP(C20777,Sheet2!A:F,3,FALSE))","v":""},{"$f":"IF(OR(C20777=\"\",ISBLANK(C20777)),\"\",VLOOKUP(C20777,Sheet2!A:G,6,FALSE))","v":""},""]
[{"$f":"IF(OR(C20802=\"\",ISBLANK(C20802)),\"\",VLOOKUP(C20802,Sheet2!A:F,2,FALSE))","v":""},{"$f":"IF(OR(C20802=\"\",ISBLANK(C20802)),\"\",VLOOKUP(C20802,Sheet2!A:G,4,FALSE))","v":""},null,null,{"$f":"IF(OR(C20802=\"\",ISBLANK(C20802)),\"\",VLOOKUP(C20802,Sheet2!A:F,3,FALSE))","v":""},{"$f":"IF(OR(C20802=\"\",ISBLANK(C20802)),\"\",VLOOKUP(C20802,Sheet2!A:G,6,FALSE))","v":""},""]
[{"$f":"IF(OR(C20811=\"\",ISBLANK(C20811)),\"\",VLOOKUP(C20811,Sheet2!A:F,2,FALSE))","v":""},{"$f":"IF(OR(C20811=\"\",ISBLANK(C20811)),\"\",VLOOKUP(C20811,Sheet2!A:G,4,FALSE))","v":""},null,null,{"$f":"IF(OR(C20811=\"\",ISBLANK(C20811)),\"\",VLOOKUP(C20811,Sheet2!A:F,3,FALSE))","v":""},{"$f":"IF(OR(C20811=\"\",ISBLANK(C20811)),\"\",VLOOKUP(C20811,Sheet2!A:G,6,FALSE))","v":""},""]
[{"$f":"IF(OR(C20843=\"\",ISBLANK(C20843)),\"\",VLOOKUP(C20843,Sheet2!A:F,2,FALSE))","v":""},{"$f":"IF(OR(C20843=\"\",ISBLANK(C20843)),\"\",VLOOKUP(C20843,Sheet2!A:G,4,FALSE))","v":""},null,null,{"$f":"IF(OR(C20843=\"\",ISBLANK(C20843)),\"\",VLOOKUP(C20843,Sheet2!A:F,3,FALSE))","v":""},{"$f":"IF(OR(C20843=\"\",ISBLANK(C20843)),\"\",VLOOKUP(C20843,Sheet2!A:G,6,FALSE))","v":""},""]
[{"$f":"IF(OR(C20868=\"\",ISBLANK(C20868)),\"\",VLOOKUP(C20868,Sheet2!A:F,2,FALSE))","v":""},{"$f":"IF(OR(C20868=\"\",ISBLANK(C20868)),\"\",VLOOKUP(C20868,Sheet2!A:G,4,FALSE))","v":""},null,null,{"$f":"IF(OR(C20868=\"\",ISBLANK(C20868)),\"\",VLOOKUP(C20868,Sheet2!A:F,3,FALSE))","v":""},{"$f":"IF(OR(C20868=\"\",ISBLANK(C20868)),\"\",VLOOKUP(C20868,Sheet2!A:G,6,FALSE))","v":""},""]
[{"$f":"IF(OR(C20901=\"\",ISBLANK(C20901)),\"\",VLOOKUP(C20901,Sheet2!A:F,2,FALSE))","v":""},{"$f":"IF(OR(C20901=\"\",ISBLANK(C20901)),\"\",VLOOKUP(C20901,Sheet2!A:G,4,FALSE))","v":""},null,null,{"$f":"IF(OR(C20901=\"\",ISBLANK(C20901)),\"\",VLOOKUP(C20901,Sheet2!A:F,3,FALSE))","v":""},{"$f":"IF(OR(C20901=\"\",ISBLANK(C20901)),\"\",VLOOKUP(C20901,Sheet2!A:G,6,FALSE))","v":""},""]
[{"$f":"IF(OR(C20902=\"\",ISBLANK(C20902)),\"\",VLOOKUP(C20902,Sheet2!A:F,2,FALSE))","v":""},{"$f":"IF(OR(C20902=\"\",ISBLANK(C20902)),\"\",VLOOKUP(C20902,Sheet2!A:G,4,FALSE))","v":""},null,null,{"$f":"IF(OR(C20902=\"\",ISBLANK(C20902)),\"\",VLOOKUP(C20902,Sheet2!A:F,3,FALSE))","v":""},{"$f":"IF(OR(C20902=\"\",ISBLANK(C20902)),\"\",VLOOKUP(C20902,Sheet2!A:G,6,FALSE))","v":""},""]
[{"$f":"IF(OR(C20935=\"\",ISBLANK(C20935)),\"\",VLOOKUP(C20935,Sheet2!A:F,2,FALSE))","v":""},{"$f":"IF(OR(C20935=\"\",ISBLANK(C20935)),\"\",VLOOKUP(C20935,Sheet2!A:G,4,FALSE))","v":""},null,null,{"$f":"IF(OR(C20935=\"\",ISBLANK(C20935)),\"\",VLOOKUP(C20935,Sheet2!A:F,3,FALSE))","v":""},{"$f":"IF(OR(C20935=\"\",ISBLANK(C20935)),\"\",VLOOKUP(C20935,Sheet2!A:G,6,FALSE))","v":""},""]
[{"$f":"IF(OR(C20968=\"\",ISBLANK(C20968)),\"\",VLOOKUP(C20968,Sheet2!A:F,2,FALSE))","v":""},{"$f":"IF(OR(C20968=\"\",ISBLANK(C20968)),\"\",VLOOKUP(C20968,Sheet2!A:G,4,FALSE))","v":""},null,null,{"$f":"IF(OR(C20968=\"\",ISBLANK(C20968)),\"\",VLOOKUP(C20968,Sheet2!A:F,3,FALSE))","v":""},{"$f":"IF(OR(C20968=\"\",ISBLANK(C20968)),\"\",VLOOKUP(C20968,Sheet2!A:G,6,FALSE))","v":""},""]
[{"$f":"IF(OR(C20993=\"\",ISBLANK(C20993)),\"\",VLOOKUP(C20993,Sheet2!A:F,2,FALSE))","v":""},{"$f":"IF(OR(C20993=\"\",ISBLANK(C20993)),\"\",VLOOKUP(C20993,Sheet2!A:G,4,FALSE))","v":""},null,null,{"$f":"IF(OR(C20993=\"\",ISBLANK(C20993)),\"\",VLOOKUP(C20993,Sheet2!A:F,3,FALSE))","v":""},{"$f":"IF(OR(C20993=\"\",ISBLANK(C20993)),\"\",VLOOKUP(C20993,Sheet2!A:G,6,FALSE))","v":""},""]
[{"$f":"IF(OR(C21002=\"\",ISBLANK(C21002)),\"\",VLOOKUP(C21002,Sheet2!A:F,2,FALSE))","v":""},{"$f":"IF(OR(C21002=\"\",ISBLANK(C21002)),\"\",VLOOKUP(C21002,Sheet2!A:G,4,FALSE))","v":""},null,null,{"$f":"IF(OR(C21002=\"\",ISBLANK(C21002)),\"\",VLOOKUP(C21002,Sheet2!A:F,3,FALSE))","v":""},{"$f":"IF(OR(C21002=\"\",ISBLANK(C21002)),\"\",VLOOKUP(C21002,Sheet2!A:G,6,FALSE))","v":""},""]
[{"$f":"IF(OR(C21027=\"\",ISBLANK(C21027)),\"\",VLOOKUP(C21027,Sheet2!A:F,2,FALSE))","v":""},{"$f":"IF(OR(C21027=\"\",ISBLANK(C21027)),\"\",VLOOKUP(C21027,Sheet2!A:G,4,FALSE))","v":""},null,null,{"$f":"IF(OR(C21027=\"\",ISBLANK(C21027)),\"\",VLOOKUP(C21027,Sheet2!A:F,3,FALSE))","v":""},{"$f":"IF(OR(C21027=\"\",ISBLANK(C21027)),\"\",VLOOKUP(C21027,Sheet2!A:G,6,FALSE))","v":""},""]
[{"$f":"IF(OR(C21060=\"\",ISBLANK(C21060)),\"\",VLOOKUP(C21060,Sheet2!A:F,2,FALSE))","v":""},{"$f":"IF(OR(C21060=\"\",ISBLANK(C21060)),\"\",VLOOKUP(C21060,Sheet2!A:G,4,FALSE))","v":""},null,null,{"$f":"IF(OR(C21060=\"\",ISBLANK(C21060)),\"\",VLOOKUP(C21060,Sheet2!A:F,3,FALSE))","v":""},{"$f":"IF(OR(C21060=\"\",ISBLANK(C21060)),\"\",VLOOKUP(C21060,Sheet2!A:G,6,FALSE))","v":""},""]
[{"$f":"IF(OR(C21074=\"\",ISBLANK(C21074)),\"\",VLOOKUP(C21074,Sheet2!A:F,2,FALSE))","v":""},{"$f":"IF(OR(C21074=\"\",ISBLANK(C21074)),\"\",VLOOKUP(C21074,Sheet2!A:G,4,FALSE))","v":""},null,null,{"$f":"IF(OR(C21074=\"\",ISBLANK(C21074)),\"\",VLOOKUP(C21074,Sheet2!A:F,3,FALSE))","v":""},{"$f":"IF(OR(C21074=\"\",ISBLANK(C21074)),\"\",VLOOKUP(C21074,Sheet2!A:G,6,FALSE))","v":""},""]
[{"$f":"IF(OR(C21093=\"\",ISBLANK(C21093)),\"\",VLOOKUP(C21093,Sheet2!A:F,2,FALSE))","v":""},{"$f":"IF(OR(C21093=\"\",ISBLANK(C21093)),\"\",VLOOKUP(C21093,Sheet2!A:G,4,FALSE))","v":""},null,null,{"$f":"IF(OR(C21093=\"\",ISBLANK(C21093)),\"\",VLOOKUP(C21093,Sheet2!A:F,3,FALSE))","v":""},{"$f":"IF(OR(C21093=\"\",ISBLANK(C21093)),\"\",VLOOKUP(C21093,Sheet2!A:G,6,FALSE))","v":""},""]
[{"$f":"IF(OR(C21126=\"\",ISBLANK(C21126)),\"\",VLOOKUP(C21126,Sheet2!A:F,2,FALSE))","v":""},{"$f":"IF(OR(C21126=\"\",ISBLANK(C21126)),\"\",VLOOKUP(C21126,Sheet2!A:G,4,FALSE))","v":""},null,null,{"$f":"IF(OR(C21126=\"\",ISBLANK(C21126)),\"\",VLOOKUP(C21126,Sheet2!A:F,3,FALSE))","v":""},{"$f":"IF(OR(C21126=\"\",ISBLANK(C21126)),\"\",VLOOKUP(C21126,Sheet2!A:G,6,FALSE))","v":""},""]
[{"$f":"IF(OR(C21159=\"\",ISBLANK(C21159)),\"\",VLOOKUP(C21159,Sheet2!A:F,2,FALSE))","v":""},{"$f":"IF(OR(C21159=\"\",ISBLANK(C21159)),\"\",VLOOKUP(C21159,Sheet2!A:G,4,FALSE))","v":""},null,null,{"$f":"IF(OR(C21159=\"\",ISBLANK(C21159)),\"\",VLOOKUP(C21159,Sheet2!A:F,3,FALSE))","v":""},{"$f":"IF(OR(C21159=\"\",ISBLANK(C21159)),\"\",VLOOKUP(C21159,Sheet2!A:G,6,FALSE))","v":""},""]
[{"$f":"IF(OR(C21184=\"\",ISBLANK(C21184)),\"\",VLOOKUP(C21184,Sheet2!A:F,2,FALSE))","v":""},{"$f":"IF(OR(C21184=\"\",ISBLANK(C21184)),\"\",VLOOKUP(C21184,Sheet2!A:G,4,FALSE))","v":""},null,null,{"$f":"IF(OR(C21184=\"\",ISBLANK(C21184)),\"\",VLOOKUP(C21184,Sheet2!A:F,3,FALSE))","v":""},{"$f":"IF(OR(C21184=\"\",ISBLANK(C21184)),\"\",VLOOKUP(C21184,Sheet2!A:G,6,FALSE))","v":""},""]
[{"$f":"IF(OR(C21193=\"\",ISBLANK(C21193)),\"\",VLOOKUP(C21193,Sheet2!A:F,2,FALSE))","v":""},{"$f":"IF(OR(C21193=\"\",ISBLANK(C21193)),\"\",VLOOKUP(C21193,Sheet2!A:G,4,FALSE))","v":""},null,null,{"$f":"IF(OR(C21193=\"\",ISBLANK(C21193)),\"\",VLOOKUP(C21193,Sheet2!A:F,3,FALSE))","v":""},{"$f":"IF(OR(C21193=\"\",ISBLANK(C21193)),\"\",VLOOKUP(C21193,Sheet2!A:G,6,FALSE))","v":""},""]
[{"$f":"IF(OR(C21218=\"\",ISBLANK(C21218)),\"\",VLOOKUP(C21218,Sheet2!A:F,2,FALSE))","v":""},{"$f":"IF(OR(C21218=\"\",ISBLANK(C21218)),\"\",VLOOKUP(C21218,Sheet2!A:G,4,FALSE))","v":""},null,null,{"$f":"IF(OR(C21218=\"\",ISBLANK(C21218)),\"\",VLOOKUP(C21218,Sheet2!A:F,3,FALSE))","v":""},{"$f":"IF(OR(C21218=\"\",ISBLANK(C21218)),\"\",VLOOKUP(C21218,Sheet2!A:G,6,FALSE))","v":""},""]
[{"$f":"IF(OR(C21251=\"\",ISBLANK(C21251)),\"\",VLOOKUP(C21251,Sheet2!A:F,2,FALSE))","v":""},{"$f":"IF(OR(C21251=\"\",ISBLANK(C21251)),\"\",VLOOKUP(C21251,Sheet2!A:G,4,FALSE))","v":""},null,null,{"$f":"IF(OR(C21251=\"\",ISBLANK(C21251)),\"\",VLOOKUP(C21251,Sheet2!A:F,3,FALSE))","v":""},{"$f":"IF(OR(C21251=\"\",ISBLANK(C21251)),\"\",VLOOKUP(C21251,Sheet2!A:G,6,FALSE))","v":""},{"$f":"IF(F21251=0,\"\",F21251)","v":""}]
[{"$f":"IF(OR(C21284=\"\",ISBLANK(C21284)),\"\",VLOOKUP(C21284,Sheet2!A:F,2,FALSE))","v":""},{"$f":"IF(OR(C21284=\"\",ISBLANK(C21284)),\"\",VLOOKUP(C21284,Sheet2!A:G,4,FALSE))","v":""},null,null,{"$f":"IF(OR(C21284=\"\",ISBLANK(C21284)),\"\",VLOOKUP(C21284,Sheet2!A:F,3,FALSE))","v":""},{"$f":"IF(OR(C21284=\"\",ISBLANK(C21284)),\"\",VLOOKUP(C21284,Sheet2!A:G,6,FALSE))","v":""},""]
[{"$f":"IF(OR(C21305=\"\",ISBLANK(C21305)),\"\",VLOOKUP(C21305,Sheet2!A:F,2,FALSE))","v":""},{"$f":"IF(OR(C21305=\"\",ISBLANK(C21305)),\"\",VLOOKUP(C21305,Sheet2!A:G,4,FALSE))","v":""},null,null,{"$f":"IF(OR(C21305=\"\",ISBLANK(C21305)),\"\",VLOOKUP(C21305,Sheet2!A:F,3,FALSE))","v":""},{"$f":"IF(OR(C21305=\"\",ISBLANK(C21305)),\"\",VLOOKUP(C21305,Sheet2!A:G,6,FALSE))","v":""},""]
[{"$f":"IF(OR(C21317=\"\",ISBLANK(C21317)),\"\",VLOOKUP(C21317,Sheet2!A:F,2,FALSE))","v":""},{"$f":"IF(OR(C21317=\"\",ISBLANK(C21317)),\"\",VLOOKUP(C21317,Sheet2!A:G,4,FALSE))","v":""},null,null,{"$f":"IF(OR(C21317=\"\",ISBLANK(C21317)),\"\",VLOOKUP(C21317,Sheet2!A:F,3,FALSE))","v":""},{"$f":"IF(OR(C21317=\"\",ISBLANK(C21317)),\"\",VLOOKUP(C21317,Sheet2!A:G,6,FALSE))","v":""},""]
[{"$f":"IF(OR(C21342=\"\",ISBLANK(C21342)),\"\",VLOOKUP(C21342,Sheet2!A:F,2,FALSE))","v":""},{"$f":"IF(OR(C21342=\"\",ISBLANK(C21342)),\"\",VLOOKUP(C21342,Sheet2!A:G,4,FALSE))","v":""},null,null,{"$f":"IF(OR(C21342=\"\",ISBLANK(C21342)),\"\",VLOOKUP(C21342,Sheet2!A:F,3,FALSE))","v":""},{"$f":"IF(OR(C21342=\"\",ISBLANK(C21342)),\"\",VLOOKUP(C21342,Sheet2!A:G,6,FALSE))","v":""},""]
[{"$f":"IF(OR(C21375=\"\",ISBLANK(C21375)),\"\",VLOOKUP(C21375,Sheet2!A:F,2,FALSE))","v":""},{"$f":"IF(OR(C21375=\"\",ISBLANK(C21375)),\"\",VLOOKUP(C21375,Sheet2!A:G,4,FALSE))","v":""},null,null,{"$f":"IF(OR(C21375=\"\",ISBLANK(C21375)),\"\",VLOOKUP(C21375,Sheet2!A:F,3,FALSE))","v":""},{"$f":"IF(OR(C21375=\"\",ISBLANK(C21375)),\"\",VLOOKUP(C21375,Sheet2!A:G,6,FALSE))","v":""},""]
[{"$f":"IF(OR(C21384=\"\",ISBLANK(C21384)),\"\",VLOOKUP(C21384,Sheet2!A:F,2,FALSE))","v":""},{"$f":"IF(OR(C21384=\"\",ISBLANK(C21384)),\"\",VLOOKUP(C21384,Sheet2!A:G,4,FALSE))","v":""},null,null,{"$f":"IF(OR(C21384=\"\",ISBLANK(C21384)),\"\",VLOOKUP(C21384,Sheet2!A:F,3,FALSE))","v":""},{"$f":"IF(OR(C21384=\"\",ISBLANK(C21384)),\"\",VLOOKUP(C21384,Sheet2!A:G,6,FALSE))","v":""},""]
[{"$f":"IF(OR(C21409=\"\",ISBLANK(C21409)),\"\",VLOOKUP(C21409,Sheet2!A:F,2,FALSE))","v":""},{"$f":"IF(OR(C21409=\"\",ISBLANK(C21409)),\"\",VLOOKUP(C21409,Sheet2!A:G,4,FALSE))","v":""},null,null,{"$f":"IF(OR(C21409=\"\",ISBLANK(C21409)),\"\",VLOOKUP(C21409,Sheet2!A:F,3,FALSE))","v":""},{"$f":"IF(OR(C21409=\"\",ISBLANK(C21409)),\"\",VLOOKUP(C21409,Sheet2!A:G,6,FALSE))","v":""},""]
[{"$f":"IF(OR(C21442=\"\",ISBLANK(C21442)),\"\",VLOOKUP(C21442,Sheet2!A:F,2,FALSE))","v":""},{"$f":"IF(OR(C21442=\"\",ISBLANK(C21442)),\"\",VLOOKUP(C21442,Sheet2!A:G,4,FALSE))","v":""},null,null,{"$f":"IF(OR(C21442=\"\",ISBLANK(C21442)),\"\",VLOOKUP(C21442,Sheet2!A:F,3,FALSE))","v":""},{"$f":"IF(OR(C21442=\"\",ISBLANK(C21442)),\"\",VLOOKUP(C21442,Sheet2!A:G,6,FALSE))","v":""},""]
[{"$f":"IF(OR(C21475=\"\",ISBLANK(C21475)),\"\",VLOOKUP(C21475,Sheet2!A:F,2,FALSE))","v":""},{"$f":"IF(OR(C21475=\"\",ISBLANK(C21475)),\"\",VLOOKUP(C21475,Sheet2!A:G,4,FALSE))","v":""},null,null,{"$f":"IF(OR(C21475=\"\",ISBLANK(C21475)),\"\",VLOOKUP(C21475,Sheet2!A:F,3,FALSE))","v":""},{"$f":"IF(OR(C21475=\"\",ISBLANK(C21475)),\"\",VLOOKUP(C21475,Sheet2!A:G,6,FALSE))","v":""},""]
[{"$f":"IF(OR(C21476=\"\",ISBLANK(C21476)),\"\",VLOOKUP(C21476,Sheet2!A:F,2,FALSE))","v":""},{"$f":"IF(OR(C21476=\"\",ISBLANK(C21476)),\"\",VLOOKUP(C21476,Sheet2!A:G,4,FALSE))","v":""},null,null,{"$f":"IF(OR(C21476=\"\",ISBLANK(C21476)),\"\",VLOOKUP(C21476,Sheet2!A:F,3,FALSE))","v":""},{"$f":"IF(OR(C21476=\"\",ISBLANK(C21476)),\"\",VLOOKUP(C21476,Sheet2!A:G,6,FALSE))","v":""},""]
[{"$f":"IF(OR(C21509=\"\",ISBLANK(C21509)),\"\",VLOOKUP(C21509,Sheet2!A:F,2,FALSE))","v":""},{"$f":"IF(OR(C21509=\"\",ISBLANK(C21509)),\"\",VLOOKUP(C21509,Sheet2!A:G,4,FALSE))","v":""},null,null,{"$f":"IF(OR(C21509=\"\",ISBLANK(C21509)),\"\",VLOOKUP(C21509,Sheet2!A:F,3,FALSE))","v":""},{"$f":"IF(OR(C21509=\"\",ISBLANK(C21509)),\"\",VLOOKUP(C21509,Sheet2!A:G,6,FALSE))","v":""},""]
[{"$f":"IF(OR(C21536=\"\",ISBLANK(C21536)),\"\",VLOOKUP(C21536,Sheet2!A:F,2,FALSE))","v":""},{"$f":"IF(OR(C21536=\"\",ISBLANK(C21536)),\"\",VLOOKUP(C21536,Sheet2!A:G,4,FALSE))","v":""},null,null,{"$f":"IF(OR(C21536=\"\",ISBLANK(C21536)),\"\",VLOOKUP(C21536,Sheet2!A:F,3,FALSE))","v":""},{"$f":"IF(OR(C21536=\"\",ISBLANK(C21536)),\"\",VLOOKUP(C21536,Sheet2!A:G,6,FALSE))","v":""},""]
[{"$f":"IF(OR(C21566=\"\",ISBLANK(C21566)),\"\",VLOOKUP(C21566,Sheet2!A:F,2,FALSE))","v":""},{"$f":"IF(OR(C21566=\"\",ISBLANK(C21566)),\"\",VLOOKUP(C21566,Sheet2!A:G,4,FALSE))","v":""},null,null,{"$f":"IF(OR(C21566=\"\",ISBLANK(C21566)),\"\",VLOOKUP(C21566,Sheet2!A:F,3,FALSE))","v":""},{"$f":"IF(OR(C21566=\"\",ISBLANK(C21566)),\"\",VLOOKUP(C21566,Sheet2!A:G,6,FALSE))","v":""},""]
[{"$f":"IF(OR(C21575=\"\",ISBLANK(C21575)),\"\",VLOOKUP(C21575,Sheet2!A:F,2,FALSE))","v":""},{"$f":"IF(OR(C21575=\"\",ISBLANK(C21575)),\"\",VLOOKUP(C21575,Sheet2!A:G,4,FALSE))","v":""},null,null,{"$f":"IF(OR(C21575=\"\",ISBLANK(C21575)),\"\",VLOOKUP(C21575,Sheet2!A:F,3,FALSE))","v":""},{"$f":"IF(OR(C21575=\"\",ISBLANK(C21575)),\"\",VLOOKUP(C21575,Sheet2!A:G,6,FALSE))","v":""},""]
[{"$f":"IF(OR(C21600=\"\",ISBLANK(C21600)),\"\",VLOOKUP(C21600,Sheet2!A:F,2,FALSE))","v":""},{"$f":"IF(OR(C21600=\"\",ISBLANK(C21600)),\"\",VLOOKUP(C21600,Sheet2!A:G,4,FALSE))","v":""},null,null,{"$f":"IF(OR(C21600=\"\",ISBLANK(C21600)),\"\",VLOOKUP(C21600,Sheet2!A:F,3,FALSE))","v":""},{"$f":"IF(OR(C21600=\"\",ISBLANK(C21600)),\"\",VLOOKUP(C21600,Sheet2!A:G,6,FALSE))","v":""},""]
[{"$f":"IF(OR(C21633=\"\",ISBLANK(C21633)),\"\",VLOOKUP(C21633,Sheet2!A:F,2,FALSE))","v":""},{"$f":"IF(OR(C21633=\"\",ISBLANK(C21633)),\"\",VLOOKUP(C21633,Sheet2!A:G,4,FALSE))","v":""},null,null,{"$f":"IF(OR(C21633=\"\",ISBLANK(C21633)),\"\",VLOOKUP(C21633,Sheet2!A:F,3,FALSE))","v":""},{"$f":"IF(OR(C21633=\"\",ISBLANK(C21633)),\"\",VLOOKUP(C21633,Sheet2!A:G,6,FALSE))","v":""},""]
[{"$f":"IF(OR(C21666=\"\",ISBLANK(C21666)),\"\",VLOOKUP(C21666,Sheet2!A:F,2,FALSE))","v":""},{"$f":"IF(OR(C21666=\"\",ISBLANK(C21666)),\"\",VLOOKUP(C21666,Sheet2!A:G,4,FALSE))","v":""},null,null,{"$f":"IF(OR(C21666=\"\",ISBLANK(C21666)),\"\",VLOOKUP(C21666,Sheet2!A:F,3,FALSE))","v":""},{"$f":"IF(OR(C21666=\"\",ISBLANK(C21666)),\"\",VLOOKUP(C21666,Sheet2!A:G,6,FALSE))","v":""},""]
[{"$f":"IF(OR(C21667=\"\",ISBLANK(C21667)),\"\",VLOOKUP(C21667,Sheet2!A:F,2,FALSE))","v":""},{"$f":"IF(OR(C21667=\"\",ISBLANK(C21667)),\"\",VLOOKUP(C21667,Sheet2!A:G,4,FALSE))","v":""},null,null,{"$f":"IF(OR(C21667=\"\",ISBLANK(C21667)),\"\",VLOOKUP(C21667,Sheet2!A:F,3,FALSE))","v":""},{"$f":"IF(OR(C21667=\"\",ISBLANK(C21667)),\"\",VLOOKUP(C21667,Sheet2!A:G,6,FALSE))","v":""},""]
[{"$f":"IF(OR(C21700=\"\",ISBLANK(C21700)),\"\",VLOOKUP(C21700,Sheet2!A:F,2,FALSE))","v":""},{"$f":"IF(OR(C21700=\"\",ISBLANK(C21700)),\"\",VLOOKUP(C21700,Sheet2!A:G,4,FALSE))","v":""},null,null,{"$f":"IF(OR(C21700=\"\",ISBLANK(C21700)),\"\",VLOOKUP(C21700,Sheet2!A:F,3,FALSE))","v":""},{"$f":"IF(OR(C21700=\"\",ISBLANK(C21700)),\"\",VLOOKUP(C21700,Sheet2!A:G,6,FALSE))","v":""},""]
[{"$f":"IF(OR(C21725=\"\",ISBLANK(C21725)),\"\",VLOOKUP(C21725,Sheet2!A:F,2,FALSE))","v":""},{"$f":"IF(OR(C21725=\"\",ISBLANK(C21725)),\"\",VLOOKUP(C21725,Sheet2!A:G,4,FALSE))","v":""},null,null,{"$f":"IF(OR(C21725=\"\",ISBLANK(C21725)),\"\",VLOOKUP(C21725,Sheet2!A:F,3,FALSE))","v":""},{"$f":"IF(OR(C21725=\"\",ISBLANK(C21725)),\"\",VLOOKUP(C21725,Sheet2!A:G,6,FALSE))","v":""},""]
[{"$f":"IF(OR(C21755=\"\",ISBLANK(C21755)),\"\",VLOOKUP(C21755,Sheet2!A:F,2,FALSE))","v":""},{"$f":"IF(OR(C21755=\"\",ISBLANK(C21755)),\"\",VLOOKUP(C21755,Sheet2!A:G,4,FALSE))","v":""},null,null,{"$f":"IF(OR(C21755=\"\",ISBLANK(C21755)),\"\",VLOOKUP(C21755,Sheet2!A:F,3,FALSE))","v":""},{"$f":"IF(OR(C21755=\"\",ISBLANK(C21755)),\"\",VLOOKUP(C21755,Sheet2!A:G,6,FALSE))","v":""},""]
[{"$f":"IF(OR(C21766=\"\",ISBLANK(C21766)),\"\",VLOOKUP(C21766,Sheet2!A:F,2,FALSE))","v":""},{"$f":"IF(OR(C21766=\"\",ISBLANK(C21766)),\"\",VLOOKUP(C21766,Sheet2!A:G,4,FALSE))","v":""},null,null,{"$f":"IF(OR(C21766=\"\",ISBLANK(C21766)),\"\",VLOOKUP(C21766,Sheet2!A:F,3,FALSE))","v":""},{"$f":"IF(OR(C21766=\"\",ISBLANK(C21766)),\"\",VLOOKUP(C21766,Sheet2!A:G,6,FALSE))","v":""},""]
[{"$f":"IF(OR(C21791=\"\",ISBLANK(C21791)),\"\",VLOOKUP(C21791,Sheet2!A:F,2,FALSE))","v":""},{"$f":"IF(OR(C21791=\"\",ISBLANK(C21791)),\"\",VLOOKUP(C21791,Sheet2!A:G,4,FALSE))","v":""},null,null,{"$f":"IF(OR(C21791=\"\",ISBLANK(C21791)),\"\",VLOOKUP(C21791,Sheet2!A:F,3,FALSE))","v":""},{"$f":"IF(OR(C21791=\"\",ISBLANK(C21791)),\"\",VLOOKUP(C21791,Sheet2!A:G,6,FALSE))","v":""},""]
[{"$f":"IF(OR(C21824=\"\",ISBLANK(C21824)),\"\",VLOOKUP(C21824,Sheet2!A:F,2,FALSE))","v":""},{"$f":"IF(OR(C21824=\"\",ISBLANK(C21824)),\"\",VLOOKUP(C21824,Sheet2!A:G,4,FALSE))","v":""},null,null,{"$f":"IF(OR(C21824=\"\",ISBLANK(C21824)),\"\",VLOOKUP(C21824,Sheet2!A:F,3,FALSE))","v":""},{"$f":"IF(OR(C21824=\"\",ISBLANK(C21824)),\"\",VLOOKUP(C21824,Sheet2!A:G,6,FALSE))","v":""},""]
[{"$f":"IF(OR(C21849=\"\",ISBLANK(C21849)),\"\",VLOOKUP(C21849,Sheet2!A:F,2,FALSE))","v":""},{"$f":"IF(OR(C21849=\"\",ISBLANK(C21849)),\"\",VLOOKUP(C21849,Sheet2!A:G,4,FALSE))","v":""},null,null,{"$f":"IF(OR(C21849=\"\",ISBLANK(C21849)),\"\",VLOOKUP(C21849,Sheet2!A:F,3,FALSE))","v":""},{"$f":"IF(OR(C21849=\"\",ISBLANK(C21849)),\"\",VLOOKUP(C21849,Sheet2!A:G,6,FALSE))","v":""},""]
[{"$f":"IF(OR(C21858=\"\",ISBLANK(C21858)),\"\",VLOOKUP(C21858,Sheet2!A:F,2,FALSE))","v":""},{"$f":"IF(OR(C21858=\"\",ISBLANK(C21858)),\"\",VLOOKUP(C21858,Sheet2!A:G,4,FALSE))","v":""},null,null,{"$f":"IF(OR(C21858=\"\",ISBLANK(C21858)),\"\",VLOOKUP(C21858,Sheet2!A:F,3,FALSE))","v":""},{"$f":"IF(OR(C21858=\"\",ISBLANK(C21858)),\"\",VLOOKUP(C21858,Sheet2!A:G,6,FALSE))","v":""},""]
[{"$f":"IF(OR(C21891=\"\",ISBLANK(C21891)),\"\",VLOOKUP(C21891,Sheet2!A:F,2,FALSE))","v":""},{"$f":"IF(OR(C21891=\"\",ISBLANK(C21891)),\"\",VLOOKUP(C21891,Sheet2!A:G,4,FALSE))","v":""},null,null,{"$f":"IF(OR(C21891=\"\",ISBLANK(C21891)),\"\",VLOOKUP(C21891,Sheet2!A:F,3,FALSE))","v":""},{"$f":"IF(OR(C21891=\"\",ISBLANK(C21891)),\"\",VLOOKUP(C21891,Sheet2!A:G,6,FALSE))","v":""},{"$f":"IF(F21891=0,\"\",F21891)","v":""}]
[{"$f":"IF(OR(C21916=\"\",ISBLANK(C21916)),\"\",VLOOKUP(C21916,Sheet2!A:F,2,FALSE))","v":""},{"$f":"IF(OR(C21916=\"\",ISBLANK(C21916)),\"\",VLOOKUP(C21916,Sheet2!A:G,4,FALSE))","v":""},null,null,{"$f":"IF(OR(C21916=\"\",ISBLANK(C21916)),\"\",VLOOKUP(C21916,Sheet2!A:F,3,FALSE))","v":""},{"$f":"IF(OR(C21916=\"\",ISBLANK(C21916)),\"\",VLOOKUP(C21916,Sheet2!A:G,6,FALSE))","v":""},""]
[{"$f":"IF(OR(C21949=\"\",ISBLANK(C21949)),\"\",VLOOKUP(C21949,Sheet2!A:F,2,FALSE))","v":""},{"$f":"IF(OR(C21949=\"\",ISBLANK(C21949)),\"\",VLOOKUP(C21949,Sheet2!A:G,4,FALSE))","v":""},null,null,{"$f":"IF(OR(C21949=\"\",ISBLANK(C21949)),\"\",VLOOKUP(C21949,Sheet2!A:F,3,FALSE))","v":""},{"$f":"IF(OR(C21949=\"\",ISBLANK(C21949)),\"\",VLOOKUP(C21949,Sheet2!A:G,6,FALSE))","v":""},""]
[{"$f":"IF(OR(C21958=\"\",ISBLANK(C21958)),\"\",VLOOKUP(C21958,Sheet2!A:F,2,FALSE))","v":""},{"$f":"IF(OR(C21958=\"\",ISBLANK(C21958)),\"\",VLOOKUP(C21958,Sheet2!A:G,4,FALSE))","v":""},null,null,{"$f":"IF(OR(C21958=\"\",ISBLANK(C21958)),\"\",VLOOKUP(C21958,Sheet2!A:F,3,FALSE))","v":""},{"$f":"IF(OR(C21958=\"\",ISBLANK(C21958)),\"\",VLOOKUP(C21958,Sheet2!A:G,6,FALSE))","v":""},""]
[{"$f":"IF(OR(C21986=\"\",ISBLANK(C21986)),\"\",VLOOKUP(C21986,Sheet2!A:F,2,FALSE))","v":""},{"$f":"IF(OR(C21986=\"\",ISBLANK(C21986)),\"\",VLOOKUP(C21986,Sheet2!A:G,4,FALSE))","v":""},null,null,{"$f":"IF(OR(C21986=\"\",ISBLANK(C21986)),\"\",VLOOKUP(C21986,Sheet2!A:F,3,FALSE))","v":""},{"$f":"IF(OR(C21986=\"\",ISBLANK(C21986)),\"\",VLOOKUP(C21986,Sheet2!A:G,6,FALSE))","v":""},""]
[{"$f":"IF(OR(C22015=\"\",ISBLANK(C22015)),\"\",VLOOKUP(C22015,Sheet2!A:F,2,FALSE))","v":""},{"$f":"IF(OR(C22015=\"\",ISBLANK(C22015)),\"\",VLOOKUP(C22015,Sheet2!A:G,4,FALSE))","v":""},null,null,{"$f":"IF(OR(C22015=\"\",ISBLANK(C22015)),\"\",VLOOKUP(C22015,Sheet2!A:F,3,FALSE))","v":""},{"$f":"IF(OR(C22015=\"\",ISBLANK(C22015)),\"\",VLOOKUP(C22015,Sheet2!A:G,6,FALSE))","v":""},""]
[{"$f":"IF(OR(C22040=\"\",ISBLANK(C22040)),\"\",VLOOKUP(C22040,Sheet2!A:F,2,FALSE))","v":""},{"$f":"IF(OR(C22040=\"\",ISBLANK(C22040)),\"\",VLOOKUP(C22040,Sheet2!A:G,4,FALSE))","v":""},null,null,{"$f":"IF(OR(C22040=\"\",ISBLANK(C22040)),\"\",VLOOKUP(C22040,Sheet2!A:F,3,FALSE))","v":""},{"$f":"IF(OR(C22040=\"\",ISBLANK(C22040)),\"\",VLOOKUP(C22040,Sheet2!A:G,6,FALSE))","v":""},""]
[{"$f":"IF(OR(C22049=\"\",ISBLANK(C22049)),\"\",VLOOKUP(C22049,Sheet2!A:F,2,FALSE))","v":""},{"$f":"IF(OR(C22049=\"\",ISBLANK(C22049)),\"\",VLOOKUP(C22049,Sheet2!A:G,4,FALSE))","v":""},null,null,{"$f":"IF(OR(C22049=\"\",ISBLANK(C22049)),\"\",VLOOKUP(C22049,Sheet2!A:F,3,FALSE))","v":""},{"$f":"IF(OR(C22049=\"\",ISBLANK(C22049)),\"\",VLOOKUP(C22049,Sheet2!A:G,6,FALSE))","v":""},""]
[{"$f":"IF(OR(C22082=\"\",ISBLANK(C22082)),\"\",VLOOKUP(C22082,Sheet2!A:F,2,FALSE))","v":""},{"$f":"IF(OR(C22082=\"\",ISBLANK(C22082)),\"\",VLOOKUP(C22082,Sheet2!A:G,4,FALSE))","v":""},null,null,{"$f":"IF(OR(C22082=\"\",ISBLANK(C22082)),\"\",VLOOKUP(C22082,Sheet2!A:F,3,FALSE))","v":""},{"$f":"IF(OR(C22082=\"\",ISBLANK(C22082)),\"\",VLOOKUP(C22082,Sheet2!A:G,6,FALSE))","v":""},""]
[{"$f":"IF(OR(C22107=\"\",ISBLANK(C22107)),\"\",VLOOKUP(C22107,Sheet2!A:F,2,FALSE))","v":""},{"$f":"IF(OR(C22107=\"\",ISBLANK(C22107)),\"\",VLOOKUP(C22107,Sheet2!A:G,4,FALSE))","v":""},null,null,{"$f":"IF(OR(C22107=\"\",ISBLANK(C22107)),\"\",VLOOKUP(C22107,Sheet2!A:F,3,FALSE))","v":""},{"$f":"IF(OR(C22107=\"\",ISBLANK(C22107)),\"\",VLOOKUP(C22107,Sheet2!A:G,6,FALSE))","v":""},""]
[{"$f":"IF(OR(C22140=\"\",ISBLANK(C22140)),\"\",VLOOKUP(C22140,Sheet2!A:F,2,FALSE))","v":""},{"$f":"IF(OR(C22140=\"\",ISBLANK(C22140)),\"\",VLOOKUP(C22140,Sheet2!A:G,4,FALSE))","v":""},null,null,{"$f":"IF(OR(C22140=\"\",ISBLANK(C22140)),\"\",VLOOKUP(C22140,Sheet2!A:F,3,FALSE))","v":""},{"$f":"IF(OR(C22140=\"\",ISBLANK(C22140)),\"\",VLOOKUP(C22140,Sheet2!A:G,6,FALSE))","v":""},""]
[{"$f":"IF(OR(C22149=\"\",ISBLANK(C22149)),\"\",VLOOKUP(C22149,Sheet2!A:F,2,FALSE))","v":""},{"$f":"IF(OR(C22149=\"\",ISBLANK(C22149)),\"\",VLOOKUP(C22149,Sheet2!A:G,4,FALSE))","v":""},null,null,{"$f":"IF(OR(C22149=\"\",ISBLANK(C22149)),\"\",VLOOKUP(C22149,Sheet2!A:F,3,FALSE))","v":""},{"$f":"IF(OR(C22149=\"\",ISBLANK(C22149)),\"\",VLOOKUP(C22149,Sheet2!A:G,6,FALSE))","v":""},""]
[{"$f":"IF(OR(C22174=\"\",ISBLANK(C22174)),\"\",VLOOKUP(C22174,Sheet2!A:F,2,FALSE))","v":""},{"$f":"IF(OR(C22174=\"\",ISBLANK(C22174)),\"\",VLOOKUP(C22174,Sheet2!A:G,4,FALSE))","v":""},null,null,{"$f":"IF(OR(C22174=\"\",ISBLANK(C22174)),\"\",VLOOKUP(C22174,Sheet2!A:F,3,FALSE))","v":""},{"$f":"IF(OR(C22174=\"\",ISBLANK(C22174)),\"\",VLOOKUP(C22174,Sheet2!A:G,6,FALSE))","v":""},""]
[{"$f":"IF(OR(C22207=\"\",ISBLANK(C22207)),\"\",VLOOKUP(C22207,Sheet2!A:F,2,FALSE))","v":""},{"$f":"IF(OR(C22207=\"\",ISBLANK(C22207)),\"\",VLOOKUP(C22207,Sheet2!A:G,4,FALSE))","v":""},null,null,{"$f":"IF(OR(C22207=\"\",ISBLANK(C22207)),\"\",VLOOKUP(C22207,Sheet2!A:F,3,FALSE))","v":""},{"$f":"IF(OR(C22207=\"\",ISBLANK(C22207)),\"\",VLOOKUP(C22207,Sheet2!A:G,6,FALSE))","v":""},""]
[{"$f":"IF(OR(C22217=\"\",ISBLANK(C22217)),\"\",VLOOKUP(C22217,Sheet2!A:F,2,FALSE))","v":""},{"$f":"IF(OR(C22217=\"\",ISBLANK(C22217)),\"\",VLOOKUP(C22217,Sheet2!A:G,4,FALSE))","v":""},null,null,{"$f":"IF(OR(C22217=\"\",ISBLANK(C22217)),\"\",VLOOKUP(C22217,Sheet2!A:F,3,FALSE))","v":""},{"$f":"IF(OR(C22217=\"\",ISBLANK(C22217)),\"\",VLOOKUP(C22217,Sheet2!A:G,6,FALSE))","v":""},""]
[{"$f":"IF(OR(C22240=\"\",ISBLANK(C22240)),\"\",VLOOKUP(C22240,Sheet2!A:F,2,FALSE))","v":""},{"$f":"IF(OR(C22240=\"\",ISBLANK(C22240)),\"\",VLOOKUP(C22240,Sheet2!A:G,4,FALSE))","v":""},null,null,{"$f":"IF(OR(C22240=\"\",ISBLANK(C22240)),\"\",VLOOKUP(C22240,Sheet2!A:F,3,FALSE))","v":""},{"$f":"IF(OR(C22240=\"\",ISBLANK(C22240)),\"\",VLOOKUP(C22240,Sheet2!A:G,6,FALSE))","v":""},""]
[{"$f":"IF(OR(C22273=\"\",ISBLANK(C22273)),\"\",VLOOKUP(C22273,Sheet2!A:F,2,FALSE))","v":""},{"$f":"IF(OR(C22273=\"\",ISBLANK(C22273)),\"\",VLOOKUP(C22273,Sheet2!A:G,4,FALSE))","v":""},null,null,{"$f":"IF(OR(C22273=\"\",ISBLANK(C22273)),\"\",VLOOKUP(C22273,Sheet2!A:F,3,FALSE))","v":""},{"$f":"IF(OR(C22273=\"\",ISBLANK(C22273)),\"\",VLOOKUP(C22273,Sheet2!A:G,6,FALSE))","v":""},""]
[{"$f":"IF(OR(C22298=\"\",ISBLANK(C22298)),\"\",VLOOKUP(C22298,Sheet2!A:F,2,FALSE))","v":""},{"$f":"IF(OR(C22298=\"\",ISBLANK(C22298)),\"\",VLOOKUP(C22298,Sheet2!A:G,4,FALSE))","v":""},null,null,{"$f":"IF(OR(C22298=\"\",ISBLANK(C22298)),\"\",VLOOKUP(C22298,Sheet2!A:F,3,FALSE))","v":""},{"$f":"IF(OR(C22298=\"\",ISBLANK(C22298)),\"\",VLOOKUP(C22298,Sheet2!A:G,6,FALSE))","v":""},""]
[{"$f":"IF(OR(C22331=\"\",ISBLANK(C22331)),\"\",VLOOKUP(C22331,Sheet2!A:F,2,FALSE))","v":""},{"$f":"IF(OR(C22331=\"\",ISBLANK(C22331)),\"\",VLOOKUP(C22331,Sheet2!A:G,4,FALSE))","v":""},null,null,{"$f":"IF(OR(C22331=\"\",ISBLANK(C22331)),\"\",VLOOKUP(C22331,Sheet2!A:F,3,FALSE))","v":""},{"$f":"IF(OR(C22331=\"\",ISBLANK(C22331)),\"\",VLOOKUP(C22331,Sheet2!A:G,6,FALSE))","v":""},""]
[{"$f":"IF(OR(C22356=\"\",ISBLANK(C22356)),\"\",VLOOKUP(C22356,Sheet2!A:F,2,FALSE))","v":""},{"$f":"IF(OR(C22356=\"\",ISBLANK(C22356)),\"\",VLOOKUP(C22356,Sheet2!A:G,4,FALSE))","v":""},null,null,{"$f":"IF(OR(C22356=\"\",ISBLANK(C22356)),\"\",VLOOKUP(C22356,Sheet2!A:F,3,FALSE))","v":""},{"$f":"IF(OR(C22356=\"\",ISBLANK(C22356)),\"\",VLOOKUP(C22356,Sheet2!A:G,6,FALSE))","v":""},""]
[{"$f":"IF(OR(C22365=\"\",ISBLANK(C22365)),\"\",VLOOKUP(C22365,Sheet2!A:F,2,FALSE))","v":""},{"$f":"IF(OR(C22365=\"\",ISBLANK(C22365)),\"\",VLOOKUP(C22365,Sheet2!A:G,4,FALSE))","v":""},null,null,{"$f":"IF(OR(C22365=\"\",ISBLANK(C22365)),\"\",VLOOKUP(C22365,Sheet2!A:F,3,FALSE))","v":""},{"$f":"IF(OR(C22365=\"\",ISBLANK(C22365)),\"\",VLOOKUP(C22365,Sheet2!A:G,6,FALSE))","v":""},""]
[{"$f":"IF(OR(C22398=\"\",ISBLANK(C22398)),\"\",VLOOKUP(C22398,Sheet2!A:F,2,FALSE))","v":""},{"$f":"IF(OR(C22398=\"\",ISBLANK(C22398)),\"\",VLOOKUP(C22398,Sheet2!A:G,4,FALSE))","v":""},null,null,{"$f":"IF(OR(C22398=\"\",ISBLANK(C22398)),\"\",VLOOKUP(C22398,Sheet2!A:F,3,FALSE))","v":""},{"$f":"IF(OR(C22398=\"\",ISBLANK(C22398)),\"\",VLOOKUP(C22398,Sheet2!A:G,6,FALSE))","v":""},""]
[{"$f":"IF(OR(C22423=\"\",ISBLANK(C22423)),\"\",VLOOKUP(C22423,Sheet2!A:F,2,FALSE))","v":""},{"$f":"IF(OR(C22423=\"\",ISBLANK(C22423)),\"\",VLOOKUP(C22423,Sheet2!A:G,4,FALSE))","v":""},null,null,{"$f":"IF(OR(C22423=\"\",ISBLANK(C22423)),\"\",VLOOKUP(C22423,Sheet2!A:F,3,FALSE))","v":""},{"$f":"IF(OR(C22423=\"\",ISBLANK(C22423)),\"\",VLOOKUP(C22423,Sheet2!A:G,6,FALSE))","v":""},""]
[{"$f":"IF(OR(C22436=\"\",ISBLANK(C22436)),\"\",VLOOKUP(C22436,Sheet2!A:F,2,FALSE))","v":""},{"$f":"IF(OR(C22436=\"\",ISBLANK(C22436)),\"\",VLOOKUP(C22436,Sheet2!A:G,4,FALSE))","v":""},null,null,{"$f":"IF(OR(C22436=\"\",ISBLANK(C22436)),\"\",VLOOKUP(C22436,Sheet2!A:F,3,FALSE))","v":""},{"$f":"IF(OR(C22436=\"\",ISBLANK(C22436)),\"\",VLOOKUP(C22436,Sheet2!A:G,6,FALSE))","v":""},""]
[{"$f":"IF(OR(C22464=\"\",ISBLANK(C22464)),\"\",VLOOKUP(C22464,Sheet2!A:F,2,FALSE))","v":""},{"$f":"IF(OR(C22464=\"\",ISBLANK(C22464)),\"\",VLOOKUP(C22464,Sheet2!A:G,4,FALSE))","v":""},null,null,{"$f":"IF(OR(C22464=\"\",ISBLANK(C22464)),\"\",VLOOKUP(C22464,Sheet2!A:F,3,FALSE))","v":""},{"$f":"IF(OR(C22464=\"\",ISBLANK(C22464)),\"\",VLOOKUP(C22464,Sheet2!A:G,6,FALSE))","v":""},""]
[{"$f":"IF(OR(C22489=\"\",ISBLANK(C22489)),\"\",VLOOKUP(C22489,Sheet2!A:F,2,FALSE))","v":""},{"$f":"IF(OR(C22489=\"\",ISBLANK(C22489)),\"\",VLOOKUP(C22489,Sheet2!A:G,4,FALSE))","v":""},null,null,{"$f":"IF(OR(C22489=\"\",ISBLANK(C22489)),\"\",VLOOKUP(C22489,Sheet2!A:F,3,FALSE))","v":""},{"$f":"IF(OR(C22489=\"\",ISBLANK(C22489)),\"\",VLOOKUP(C22489,Sheet2!A:G,6,FALSE))","v":""},""]
[{"$f":"IF(OR(C22522=\"\",ISBLANK(C22522)),\"\",VLOOKUP(C22522,Sheet2!A:F,2,FALSE))","v":""},{"$f":"IF(OR(C22522=\"\",ISBLANK(C22522)),\"\",VLOOKUP(C22522,Sheet2!A:G,4,FALSE))","v":""},null,null,{"$f":"IF(OR(C22522=\"\",ISBLANK(C22522)),\"\",VLOOKUP(C22522,Sheet2!A:F,3,FALSE))","v":""},{"$f":"IF(OR(C22522=\"\",ISBLANK(C22522)),\"\",VLOOKUP(C22522,Sheet2!A:G,6,FALSE))","v":""},""]
[{"$f":"IF(OR(C22547=\"\",ISBLANK(C22547)),\"\",VLOOKUP(C22547,Sheet2!A:F,2,FALSE))","v":""},{"$f":"IF(OR(C22547=\"\",ISBLANK(C22547)),\"\",VLOOKUP(C22547,Sheet2!A:G,4,FALSE))","v":""},null,null,{"$f":"IF(OR(C22547=\"\",ISBLANK(C22547)),\"\",VLOOKUP(C22547,Sheet2!A:F,3,FALSE))","v":""},{"$f":"IF(OR(C22547=\"\",ISBLANK(C22547)),\"\",VLOOKUP(C22547,Sheet2!A:G,6,FALSE))","v":""},""]
[{"$f":"IF(OR(C22556=\"\",ISBLANK(C22556)),\"\",VLOOKUP(C22556,Sheet2!A:F,2,FALSE))","v":""},{"$f":"IF(OR(C22556=\"\",ISBLANK(C22556)),\"\",VLOOKUP(C22556,Sheet2!A:G,4,FALSE))","v":""},null,null,{"$f":"IF(OR(C22556=\"\",ISBLANK(C22556)),\"\",VLOOKUP(C22556,Sheet2!A:F,3,FALSE))","v":""},{"$f":"IF(OR(C22556=\"\",ISBLANK(C22556)),\"\",VLOOKUP(C22556,Sheet2!A:G,6,FALSE))","v":""},""]
[{"$f":"IF(OR(C22589=\"\",ISBLANK(C22589)),\"\",VLOOKUP(C22589,Sheet2!A:F,2,FALSE))","v":""},{"$f":"IF(OR(C22589=\"\",ISBLANK(C22589)),\"\",VLOOKUP(C22589,Sheet2!A:G,4,FALSE))","v":""},null,null,{"$f":"IF(OR(C22589=\"\",ISBLANK(C22589)),\"\",VLOOKUP(C22589,Sheet2!A:F,3,FALSE))","v":""},{"$f":"IF(OR(C22589=\"\",ISBLANK(C22589)),\"\",VLOOKUP(C22589,Sheet2!A:G,6,FALSE))","v":""},""]
[{"$f":"IF(OR(C22614=\"\",ISBLANK(C22614)),\"\",VLOOKUP(C22614,Sheet2!A:F,2,FALSE))","v":""},{"$f":"IF(OR(C22614=\"\",ISBLANK(C22614)),\"\",VLOOKUP(C22614,Sheet2!A:G,4,FALSE))","v":""},null,null,{"$f":"IF(OR(C22614=\"\",ISBLANK(C22614)),\"\",VLOOKUP(C22614,Sheet2!A:F,3,FALSE))","v":""},{"$f":"IF(OR(C22614=\"\",ISBLANK(C22614)),\"\",VLOOKUP(C22614,Sheet2!A:G,6,FALSE))","v":""},""]
[{"$f":"IF(OR(C22623=\"\",ISBLANK(C22623)),\"\",VLOOKUP(C22623,Sheet2!A:F,2,FALSE))","v":""},{"$f":"IF(OR(C22623=\"\",ISBLANK(C22623)),\"\",VLOOKUP(C22623,Sheet2!A:G,4,FALSE))","v":""},null,null,{"$f":"IF(OR(C22623=\"\",ISBLANK(C22623)),\"\",VLOOKUP(C22623,Sheet2!A:F,3,FALSE))","v":""},{"$f":"IF(OR(C22623=\"\",ISBLANK(C22623)),\"\",VLOOKUP(C22623,Sheet2!A:G,6,FALSE))","v":""},""]
[{"$f":"IF(OR(C22648=\"\",ISBLANK(C22648)),\"\",VLOOKUP(C22648,Sheet2!A:F,2,FALSE))","v":""},{"$f":"IF(OR(C22648=\"\",ISBLANK(C22648)),\"\",VLOOKUP(C22648,Sheet2!A:G,4,FALSE))","v":""},null,null,{"$f":"IF(OR(C22648=\"\",ISBLANK(C22648)),\"\",VLOOKUP(C22648,Sheet2!A:F,3,FALSE))","v":""},{"$f":"IF(OR(C22648=\"\",ISBLANK(C22648)),\"\",VLOOKUP(C22648,Sheet2!A:G,6,FALSE))","v":""},""]
[{"$f":"IF(OR(C22690=\"\",ISBLANK(C22690)),\"\",VLOOKUP(C22690,Sheet2!A:F,2,FALSE))","v":""},{"$f":"IF(OR(C22690=\"\",ISBLANK(C22690)),\"\",VLOOKUP(C22690,Sheet2!A:G,4,FALSE))","v":""},null,null,{"$f":"IF(OR(C22690=\"\",ISBLANK(C22690)),\"\",VLOOKUP(C22690,Sheet2!A:F,3,FALSE))","v":""},{"$f":"IF(OR(C22690=\"\",ISBLANK(C22690)),\"\",VLOOKUP(C22690,Sheet2!A:G,6,FALSE))","v":""},""]
[{"$f":"IF(OR(C22713=\"\",ISBLANK(C22713)),\"\",VLOOKUP(C22713,Sheet2!A:F,2,FALSE))","v":""},{"$f":"IF(OR(C22713=\"\",ISBLANK(C22713)),\"\",VLOOKUP(C22713,Sheet2!A:G,4,FALSE))","v":""},null,null,{"$f":"IF(OR(C22713=\"\",ISBLANK(C22713)),\"\",VLOOKUP(C22713,Sheet2!A:F,3,FALSE))","v":""},{"$f":"IF(OR(C22713=\"\",ISBLANK(C22713)),\"\",VLOOKUP(C22713,Sheet2!A:G,6,FALSE))","v":""},""]
[{"$f":"IF(OR(C22738=\"\",ISBLANK(C22738)),\"\",VLOOKUP(C22738,Sheet2!A:F,2,FALSE))","v":""},{"$f":"IF(OR(C22738=\"\",ISBLANK(C22738)),\"\",VLOOKUP(C22738,Sheet2!A:G,4,FALSE))","v":""},null,null,{"$f":"IF(OR(C22738=\"\",ISBLANK(C22738)),\"\",VLOOKUP(C22738,Sheet2!A:F,3,FALSE))","v":""},{"$f":"IF(OR(C22738=\"\",ISBLANK(C22738)),\"\",VLOOKUP(C22738,Sheet2!A:G,6,FALSE))","v":""},""]
[{"$f":"IF(OR(C22747=\"\",ISBLANK(C22747)),\"\",VLOOKUP(C22747,Sheet2!A:F,2,FALSE))","v":""},{"$f":"IF(OR(C22747=\"\",ISBLANK(C22747)),\"\",VLOOKUP(C22747,Sheet2!A:G,4,FALSE))","v":""},null,null,{"$f":"IF(OR(C22747=\"\",ISBLANK(C22747)),\"\",VLOOKUP(C22747,Sheet2!A:F,3,FALSE))","v":""},{"$f":"IF(OR(C22747=\"\",ISBLANK(C22747)),\"\",VLOOKUP(C22747,Sheet2!A:G,6,FALSE))","v":""},""]
[{"$f":"IF(OR(C22780=\"\",ISBLANK(C22780)),\"\",VLOOKUP(C22780,Sheet2!A:F,2,FALSE))","v":""},{"$f":"IF(OR(C22780=\"\",ISBLANK(C22780)),\"\",VLOOKUP(C22780,Sheet2!A:G,4,FALSE))","v":""},null,null,{"$f":"IF(OR(C22780=\"\",ISBLANK(C22780)),\"\",VLOOKUP(C22780,Sheet2!A:F,3,FALSE))","v":""},{"$f":"IF(OR(C22780=\"\",ISBLANK(C22780)),\"\",VLOOKUP(C22780,Sheet2!A:G,6,FALSE))","v":""},""]
[{"$f":"IF(OR(C22805=\"\",ISBLANK(C22805)),\"\",VLOOKUP(C22805,Sheet2!A:F,2,FALSE))","v":""},{"$f":"IF(OR(C22805=\"\",ISBLANK(C22805)),\"\",VLOOKUP(C22805,Sheet2!A:G,4,FALSE))","v":""},null,null,{"$f":"IF(OR(C22805=\"\",ISBLANK(C22805)),\"\",VLOOKUP(C22805,Sheet2!A:F,3,FALSE))","v":""},{"$f":"IF(OR(C22805=\"\",ISBLANK(C22805)),\"\",VLOOKUP(C22805,Sheet2!A:G,6,FALSE))","v":""},""]
[{"$f":"IF(OR(C22814=\"\",ISBLANK(C22814)),\"\",VLOOKUP(C22814,Sheet2!A:F,2,FALSE))","v":""},{"$f":"IF(OR(C22814=\"\",ISBLANK(C22814)),\"\",VLOOKUP(C22814,Sheet2!A:G,4,FALSE))","v":""},null,null,{"$f":"IF(OR(C22814=\"\",ISBLANK(C22814)),\"\",VLOOKUP(C22814,Sheet2!A:F,3,FALSE))","v":""},{"$f":"IF(OR(C22814=\"\",ISBLANK(C22814)),\"\",VLOOKUP(C22814,Sheet2!A:G,6,FALSE))","v":""},""]
[{"$f":"IF(OR(C22839=\"\",ISBLANK(C22839)),\"\",VLOOKUP(C22839,Sheet2!A:F,2,FALSE))","v":""},{"$f":"IF(OR(C22839=\"\",ISBLANK(C22839)),\"\",VLOOKUP(C22839,Sheet2!A:G,4,FALSE))","v":""},null,null,{"$f":"IF(OR(C22839=\"\",ISBLANK(C22839)),\"\",VLOOKUP(C22839,Sheet2!A:F,3,FALSE))","v":""},{"$f":"IF(OR(C22839=\"\",ISBLANK(C22839)),\"\",VLOOKUP(C22839,Sheet2!A:G,6,FALSE))","v":""},""]
[{"$f":"IF(OR(C22872=\"\",ISBLANK(C22872)),\"\",VLOOKUP(C22872,Sheet2!A:F,2,FALSE))","v":""},{"$f":"IF(OR(C22872=\"\",ISBLANK(C22872)),\"\",VLOOKUP(C22872,Sheet2!A:G,4,FALSE))","v":""},null,null,{"$f":"IF(OR(C22872=\"\",ISBLANK(C22872)),\"\",VLOOKUP(C22872,Sheet2!A:F,3,FALSE))","v":""},{"$f":"IF(OR(C22872=\"\",ISBLANK(C22872)),\"\",VLOOKUP(C22872,Sheet2!A:G,6,FALSE))","v":""},""]
[{"$f":"IF(OR(C22905=\"\",ISBLANK(C22905)),\"\",VLOOKUP(C22905,Sheet2!A:F,2,FALSE))","v":""},{"$f":"IF(OR(C22905=\"\",ISBLANK(C22905)),\"\",VLOOKUP(C22905,Sheet2!A:G,4,FALSE))","v":""},null,null,{"$f":"IF(OR(C22905=\"\",ISBLANK(C22905)),\"\",VLOOKUP(C22905,Sheet2!A:F,3,FALSE))","v":""},{"$f":"IF(OR(C22905=\"\",ISBLANK(C22905)),\"\",VLOOKUP(C22905,Sheet2!A:G,6,FALSE))","v":""},""]
[{"$f":"IF(OR(C22921=\"\",ISBLANK(C22921)),\"\",VLOOKUP(C22921,Sheet2!A:F,2,FALSE))","v":""},{"$f":"IF(OR(C22921=\"\",ISBLANK(C22921)),\"\",VLOOKUP(C22921,Sheet2!A:G,4,FALSE))","v":""},null,null,{"$f":"IF(OR(C22921=\"\",ISBLANK(C22921)),\"\",VLOOKUP(C22921,Sheet2!A:F,3,FALSE))","v":""},{"$f":"IF(OR(C22921=\"\",ISBLANK(C22921)),\"\",VLOOKUP(C22921,Sheet2!A:G,6,FALSE))","v":""},""]
[{"$f":"IF(OR(C22938=\"\",ISBLANK(C22938)),\"\",VLOOKUP(C22938,Sheet2!A:F,2,FALSE))","v":""},{"$f":"IF(OR(C22938=\"\",ISBLANK(C22938)),\"\",VLOOKUP(C22938,Sheet2!A:G,4,FALSE))","v":""},null,null,{"$f":"IF(OR(C22938=\"\",ISBLANK(C22938)),\"\",VLOOKUP(C22938,Sheet2!A:F,3,FALSE))","v":""},{"$f":"IF(OR(C22938=\"\",ISBLANK(C22938)),\"\",VLOOKUP(C22938,Sheet2!A:G,6,FALSE))","v":""},""]
[{"$f":"IF(OR(C22971=\"\",ISBLANK(C22971)),\"\",VLOOKUP(C22971,Sheet2!A:F,2,FALSE))","v":""},{"$f":"IF(OR(C22971=\"\",ISBLANK(C22971)),\"\",VLOOKUP(C22971,Sheet2!A:G,4,FALSE))","v":""},null,null,{"$f":"IF(OR(C22971=\"\",ISBLANK(C22971)),\"\",VLOOKUP(C22971,Sheet2!A:F,3,FALSE))","v":""},{"$f":"IF(OR(C22971=\"\",ISBLANK(C22971)),\"\",VLOOKUP(C22971,Sheet2!A:G,6,FALSE))","v":""},""]
[{"$f":"IF(OR(C22996=\"\",ISBLANK(C22996)),\"\",VLOOKUP(C22996,Sheet2!A:F,2,FALSE))","v":""},{"$f":"IF(OR(C22996=\"\",ISBLANK(C22996)),\"\",VLOOKUP(C22996,Sheet2!A:G,4,FALSE))","v":""},null,null,{"$f":"IF(OR(C22996=\"\",ISBLANK(C22996)),\"\",VLOOKUP(C22996,Sheet2!A:F,3,FALSE))","v":""},{"$f":"IF(OR(C22996=\"\",ISBLANK(C22996)),\"\",VLOOKUP(C22996,Sheet2!A:G,6,FALSE))","v":""},""]
[{"$f":"IF(OR(C23005=\"\",ISBLANK(C23005)),\"\",VLOOKUP(C23005,Sheet2!A:F,2,FALSE))","v":""},{"$f":"IF(OR(C23005=\"\",ISBLANK(C23005)),\"\",VLOOKUP(C23005,Sheet2!A:G,4,FALSE))","v":""},null,null,{"$f":"IF(OR(C23005=\"\",ISBLANK(C23005)),\"\",VLOOKUP(C23005,Sheet2!A:F,3,FALSE))","v":""},{"$f":"IF(OR(C23005=\"\",ISBLANK(C23005)),\"\",VLOOKUP(C23005,Sheet2!A:G,6,FALSE))","v":""},""]
[{"$f":"IF(OR(C23030=\"\",ISBLANK(C23030)),\"\",VLOOKUP(C23030,Sheet2!A:F,2,FALSE))","v":""},{"$f":"IF(OR(C23030=\"\",ISBLANK(C23030)),\"\",VLOOKUP(C23030,Sheet2!A:G,4,FALSE))","v":""},null,null,{"$f":"IF(OR(C23030=\"\",ISBLANK(C23030)),\"\",VLOOKUP(C23030,Sheet2!A:F,3,FALSE))","v":""},{"$f":"IF(OR(C23030=\"\",ISBLANK(C23030)),\"\",VLOOKUP(C23030,Sheet2!A:G,6,FALSE))","v":""},""]
[{"$f":"IF(OR(C23063=\"\",ISBLANK(C23063)),\"\",VLOOKUP(C23063,Sheet2!A:F,2,FALSE))","v":""},{"$f":"IF(OR(C23063=\"\",ISBLANK(C23063)),\"\",VLOOKUP(C23063,Sheet2!A:G,4,FALSE))","v":""},null,null,{"$f":"IF(OR(C23063=\"\",ISBLANK(C23063)),\"\",VLOOKUP(C23063,Sheet2!A:F,3,FALSE))","v":""},{"$f":"IF(OR(C23063=\"\",ISBLANK(C23063)),\"\",VLOOKUP(C23063,Sheet2!A:G,6,FALSE))","v":""},""]
[{"$f":"IF(OR(C23096=\"\",ISBLANK(C23096)),\"\",VLOOKUP(C23096,Sheet2!A:F,2,FALSE))","v":""},{"$f":"IF(OR(C23096=\"\",ISBLANK(C23096)),\"\",VLOOKUP(C23096,Sheet2!A:G,4,FALSE))","v":""},null,null,{"$f":"IF(OR(C23096=\"\",ISBLANK(C23096)),\"\",VLOOKUP(C23096,Sheet2!A:F,3,FALSE))","v":""},{"$f":"IF(OR(C23096=\"\",ISBLANK(C23096)),\"\",VLOOKUP(C23096,Sheet2!A:G,6,FALSE))","v":""},""]
[{"$f":"IF(OR(C23121=\"\",ISBLANK(C23121)),\"\",VLOOKUP(C23121,Sheet2!A:F,2,FALSE))","v":""},{"$f":"IF(OR(C23121=\"\",ISBLANK(C23121)),\"\",VLOOKUP(C23121,Sheet2!A:G,4,FALSE))","v":""},null,null,{"$f":"IF(OR(C23121=\"\",ISBLANK(C23121)),\"\",VLOOKUP(C23121,Sheet2!A:F,3,FALSE))","v":""},{"$f":"IF(OR(C23121=\"\",ISBLANK(C23121)),\"\",VLOOKUP(C23121,Sheet2!A:G,6,FALSE))","v":""},""]
[{"$f":"IF(OR(C23140=\"\",ISBLANK(C23140)),\"\",VLOOKUP(C23140,Sheet2!A:F,2,FALSE))","v":""},{"$f":"IF(OR(C23140=\"\",ISBLANK(C23140)),\"\",VLOOKUP(C23140,Sheet2!A:G,4,FALSE))","v":""},null,null,{"$f":"IF(OR(C23140=\"\",ISBLANK(C23140)),\"\",VLOOKUP(C23140,Sheet2!A:F,3,FALSE))","v":""},{"$f":"IF(OR(C23140=\"\",ISBLANK(C23140)),\"\",VLOOKUP(C23140,Sheet2!A:G,6,FALSE))","v":""},""]
[{"$f":"IF(OR(C23154=\"\",ISBLANK(C23154)),\"\",VLOOKUP(C23154,Sheet2!A:F,2,FALSE))","v":""},{"$f":"IF(OR(C23154=\"\",ISBLANK(C23154)),\"\",VLOOKUP(C23154,Sheet2!A:G,4,FALSE))","v":""},null,null,{"$f":"IF(OR(C23154=\"\",ISBLANK(C23154)),\"\",VLOOKUP(C23154,Sheet2!A:F,3,FALSE))","v":""},{"$f":"IF(OR(C23154=\"\",ISBLANK(C23154)),\"\",VLOOKUP(C23154,Sheet2!A:G,6,FALSE))","v":""},""]
[{"$f":"IF(OR(C23187=\"\",ISBLANK(C23187)),\"\",VLOOKUP(C23187,Sheet2!A:F,2,FALSE))","v":""},{"$f":"IF(OR(C23187=\"\",ISBLANK(C23187)),\"\",VLOOKUP(C23187,Sheet2!A:G,4,FALSE))","v":""},null,null,{"$f":"IF(OR(C23187=\"\",ISBLANK(C23187)),\"\",VLOOKUP(C23187,Sheet2!A:F,3,FALSE))","v":""},{"$f":"IF(OR(C23187=\"\",ISBLANK(C23187)),\"\",VLOOKUP(C23187,Sheet2!A:G,6,FALSE))","v":""},""]
[{"$f":"IF(OR(C23196=\"\",ISBLANK(C23196)),\"\",VLOOKUP(C23196,Sheet2!A:F,2,FALSE))","v":""},{"$f":"IF(OR(C23196=\"\",ISBLANK(C23196)),\"\",VLOOKUP(C23196,Sheet2!A:G,4,FALSE))","v":""},null,null,{"$f":"IF(OR(C23196=\"\",ISBLANK(C23196)),\"\",VLOOKUP(C23196,Sheet2!A:F,3,FALSE))","v":""},{"$f":"IF(OR(C23196=\"\",ISBLANK(C23196)),\"\",VLOOKUP(C23196,Sheet2!A:G,6,FALSE))","v":""},""]
[{"$f":"IF(OR(C23221=\"\",ISBLANK(C23221)),\"\",VLOOKUP(C23221,Sheet2!A:F,2,FALSE))","v":""},{"$f":"IF(OR(C23221=\"\",ISBLANK(C23221)),\"\",VLOOKUP(C23221,Sheet2!A:G,4,FALSE))","v":""},null,null,{"$f":"IF(OR(C23221=\"\",ISBLANK(C23221)),\"\",VLOOKUP(C23221,Sheet2!A:F,3,FALSE))","v":""},{"$f":"IF(OR(C23221=\"\",ISBLANK(C23221)),\"\",VLOOKUP(C23221,Sheet2!A:G,6,FALSE))","v":""},""]
[{"$f":"IF(OR(C23254=\"\",ISBLANK(C23254)),\"\",VLOOKUP(C23254,Sheet2!A:F,2,FALSE))","v":""},{"$f":"IF(OR(C23254=\"\",ISBLANK(C23254)),\"\",VLOOKUP(C23254,Sheet2!A:G,4,FALSE))","v":""},null,null,{"$f":"IF(OR(C23254=\"\",ISBLANK(C23254)),\"\",VLOOKUP(C23254,Sheet2!A:F,3,FALSE))","v":""},{"$f":"IF(OR(C23254=\"\",ISBLANK(C23254)),\"\",VLOOKUP(C23254,Sheet2!A:G,6,FALSE))","v":""},""]
[{"$f":"IF(OR(C23287=\"\",ISBLANK(C23287)),\"\",VLOOKUP(C23287,Sheet2!A:F,2,FALSE))","v":""},{"$f":"IF(OR(C23287=\"\",ISBLANK(C23287)),\"\",VLOOKUP(C23287,Sheet2!A:G,4,FALSE))","v":""},null,null,{"$f":"IF(OR(C23287=\"\",ISBLANK(C23287)),\"\",VLOOKUP(C23287,Sheet2!A:F,3,FALSE))","v":""},{"$f":"IF(OR(C23287=\"\",ISBLANK(C23287)),\"\",VLOOKUP(C23287,Sheet2!A:G,6,FALSE))","v":""},""]
[{"$f":"IF(OR(C23312=\"\",ISBLANK(C23312)),\"\",VLOOKUP(C23312,Sheet2!A:F,2,FALSE))","v":""},{"$f":"IF(OR(C23312=\"\",ISBLANK(C23312)),\"\",VLOOKUP(C23312,Sheet2!A:G,4,FALSE))","v":""},null,null,{"$f":"IF(OR(C23312=\"\",ISBLANK(C23312)),\"\",VLOOKUP(C23312,Sheet2!A:F,3,FALSE))","v":""},{"$f":"IF(OR(C23312=\"\",ISBLANK(C23312)),\"\",VLOOKUP(C23312,Sheet2!A:G,6,FALSE))","v":""},""]
[{"$f":"IF(OR(C23321=\"\",ISBLANK(C23321)),\"\",VLOOKUP(C23321,Sheet2!A:F,2,FALSE))","v":""},{"$f":"IF(OR(C23321=\"\",ISBLANK(C23321)),\"\",VLOOKUP(C23321,Sheet2!A:G,4,FALSE))","v":""},null,null,{"$f":"IF(OR(C23321=\"\",ISBLANK(C23321)),\"\",VLOOKUP(C23321,Sheet2!A:F,3,FALSE))","v":""},{"$f":"IF(OR(C23321=\"\",ISBLANK(C23321)),\"\",VLOOKUP(C23321,Sheet2!A:G,6,FALSE))","v":""},""]
[{"$f":"IF(OR(C23346=\"\",ISBLANK(C23346)),\"\",VLOOKUP(C23346,Sheet2!A:F,2,FALSE))","v":""},{"$f":"IF(OR(C23346=\"\",ISBLANK(C23346)),\"\",VLOOKUP(C23346,Sheet2!A:G,4,FALSE))","v":""},null,null,{"$f":"IF(OR(C23346=\"\",ISBLANK(C23346)),\"\",VLOOKUP(C23346,Sheet2!A:F,3,FALSE))","v":""},{"$f":"IF(OR(C23346=\"\",ISBLANK(C23346)),\"\",VLOOKUP(C23346,Sheet2!A:G,6,FALSE))","v":""},""]
[{"$f":"IF(OR(C23371=\"\",ISBLANK(C23371)),\"\",VLOOKUP(C23371,Sheet2!A:F,2,FALSE))","v":""},{"$f":"IF(OR(C23371=\"\",ISBLANK(C23371)),\"\",VLOOKUP(C23371,Sheet2!A:G,4,FALSE))","v":""},null,null,{"$f":"IF(OR(C23371=\"\",ISBLANK(C23371)),\"\",VLOOKUP(C23371,Sheet2!A:F,3,FALSE))","v":""},{"$f":"IF(OR(C23371=\"\",ISBLANK(C23371)),\"\",VLOOKUP(C23371,Sheet2!A:G,6,FALSE))","v":""},""]
[{"$f":"IF(OR(C23387=\"\",ISBLANK(C23387)),\"\",VLOOKUP(C23387,Sheet2!A:F,2,FALSE))","v":""},{"$f":"IF(OR(C23387=\"\",ISBLANK(C23387)),\"\",VLOOKUP(C23387,Sheet2!A:G,4,FALSE))","v":""},null,null,{"$f":"IF(OR(C23387=\"\",ISBLANK(C23387)),\"\",VLOOKUP(C23387,Sheet2!A:F,3,FALSE))","v":""},{"$f":"IF(OR(C23387=\"\",ISBLANK(C23387)),\"\",VLOOKUP(C23387,Sheet2!A:G,6,FALSE))","v":""},""]
[{"$f":"IF(OR(C23412=\"\",ISBLANK(C23412)),\"\",VLOOKUP(C23412,Sheet2!A:F,2,FALSE))","v":""},{"$f":"IF(OR(C23412=\"\",ISBLANK(C23412)),\"\",VLOOKUP(C23412,Sheet2!A:G,4,FALSE))","v":""},null,null,{"$f":"IF(OR(C23412=\"\",ISBLANK(C23412)),\"\",VLOOKUP(C23412,Sheet2!A:F,3,FALSE))","v":""},{"$f":"IF(OR(C23412=\"\",ISBLANK(C23412)),\"\",VLOOKUP(C23412,Sheet2!A:G,6,FALSE))","v":""},""]
[{"$f":"IF(OR(C23445=\"\",ISBLANK(C23445)),\"\",VLOOKUP(C23445,Sheet2!A:F,2,FALSE))","v":""},{"$f":"IF(OR(C23445=\"\",ISBLANK(C23445)),\"\",VLOOKUP(C23445,Sheet2!A:G,4,FALSE))","v":""},null,null,{"$f":"IF(OR(C23445=\"\",ISBLANK(C23445)),\"\",VLOOKUP(C23445,Sheet2!A:F,3,FALSE))","v":""},{"$f":"IF(OR(C23445=\"\",ISBLANK(C23445)),\"\",VLOOKUP(C23445,Sheet2!A:G,6,FALSE))","v":""},""]
[{"$f":"IF(OR(C23470=\"\",ISBLANK(C23470)),\"\",VLOOKUP(C23470,Sheet2!A:F,2,FALSE))","v":""},{"$f":"IF(OR(C23470=\"\",ISBLANK(C23470)),\"\",VLOOKUP(C23470,Sheet2!A:G,4,FALSE))","v":""},null,null,{"$f":"IF(OR(C23470=\"\",ISBLANK(C23470)),\"\",VLOOKUP(C23470,Sheet2!A:F,3,FALSE))","v":""},{"$f":"IF(OR(C23470=\"\",ISBLANK(C23470)),\"\",VLOOKUP(C23470,Sheet2!A:G,6,FALSE))","v":""},""]
[{"$f":"IF(OR(C23503=\"\",ISBLANK(C23503)),\"\",VLOOKUP(C23503,Sheet2!A:F,2,FALSE))","v":""},{"$f":"IF(OR(C23503=\"\",ISBLANK(C23503)),\"\",VLOOKUP(C23503,Sheet2!A:G,4,FALSE))","v":""},null,null,{"$f":"IF(OR(C23503=\"\",ISBLANK(C23503)),\"\",VLOOKUP(C23503,Sheet2!A:F,3,FALSE))","v":""},{"$f":"IF(OR(C23503=\"\",ISBLANK(C23503)),\"\",VLOOKUP(C23503,Sheet2!A:G,6,FALSE))","v":""},""]
[{"$f":"IF(OR(C23512=\"\",ISBLANK(C23512)),\"\",VLOOKUP(C23512,Sheet2!A:F,2,FALSE))","v":""},{"$f":"IF(OR(C23512=\"\",ISBLANK(C23512)),\"\",VLOOKUP(C23512,Sheet2!A:G,4,FALSE))","v":""},null,null,{"$f":"IF(OR(C23512=\"\",ISBLANK(C23512)),\"\",VLOOKUP(C23512,Sheet2!A:F,3,FALSE))","v":""},{"$f":"IF(OR(C23512=\"\",ISBLANK(C23512)),\"\",VLOOKUP(C23512,Sheet2!A:G,6,FALSE))","v":""},""]
[{"$f":"IF(OR(C23537=\"\",ISBLANK(C23537)),\"\",VLOOKUP(C23537,Sheet2!A:F,2,FALSE))","v":""},{"$f":"IF(OR(C23537=\"\",ISBLANK(C23537)),\"\",VLOOKUP(C23537,Sheet2!A:G,4,FALSE))","v":""},null,null,{"$f":"IF(OR(C23537=\"\",ISBLANK(C23537)),\"\",VLOOKUP(C23537,Sheet2!A:F,3,FALSE))","v":""},{"$f":"IF(OR(C23537=\"\",ISBLANK(C23537)),\"\",VLOOKUP(C23537,Sheet2!A:G,6,FALSE))","v":""},""]
[{"$f":"IF(OR(C23570=\"\",ISBLANK(C23570)),\"\",VLOOKUP(C23570,Sheet2!A:F,2,FALSE))","v":""},{"$f":"IF(OR(C23570=\"\",ISBLANK(C23570)),\"\",VLOOKUP(C23570,Sheet2!A:G,4,FALSE))","v":""},null,null,{"$f":"IF(OR(C23570=\"\",ISBLANK(C23570)),\"\",VLOOKUP(C23570,Sheet2!A:F,3,FALSE))","v":""},{"$f":"IF(OR(C23570=\"\",ISBLANK(C23570)),\"\",VLOOKUP(C23570,Sheet2!A:G,6,FALSE))","v":""},""]
[{"$f":"IF(OR(C23590=\"\",ISBLANK(C23590)),\"\",VLOOKUP(C23590,Sheet2!A:F,2,FALSE))","v":""},{"$f":"IF(OR(C23590=\"\",ISBLANK(C23590)),\"\",VLOOKUP(C23590,Sheet2!A:G,4,FALSE))","v":""},null,null,{"$f":"IF(OR(C23590=\"\",ISBLANK(C23590)),\"\",VLOOKUP(C23590,Sheet2!A:F,3,FALSE))","v":""},{"$f":"IF(OR(C23590=\"\",ISBLANK(C23590)),\"\",VLOOKUP(C23590,Sheet2!A:G,6,FALSE))","v":""},""]
[{"$f":"IF(OR(C23603=\"\",ISBLANK(C23603)),\"\",VLOOKUP(C23603,Sheet2!A:F,2,FALSE))","v":""},{"$f":"IF(OR(C23603=\"\",ISBLANK(C23603)),\"\",VLOOKUP(C23603,Sheet2!A:G,4,FALSE))","v":""},null,null,{"$f":"IF(OR(C23603=\"\",ISBLANK(C23603)),\"\",VLOOKUP(C23603,Sheet2!A:F,3,FALSE))","v":""},{"$f":"IF(OR(C23603=\"\",ISBLANK(C23603)),\"\",VLOOKUP(C23603,Sheet2!A:G,6,FALSE))","v":""},""]
[{"$f":"IF(OR(C23636=\"\",ISBLANK(C23636)),\"\",VLOOKUP(C23636,Sheet2!A:F,2,FALSE))","v":""},{"$f":"IF(OR(C23636=\"\",ISBLANK(C23636)),\"\",VLOOKUP(C23636,Sheet2!A:G,4,FALSE))","v":""},null,null,{"$f":"IF(OR(C23636=\"\",ISBLANK(C23636)),\"\",VLOOKUP(C23636,Sheet2!A:F,3,FALSE))","v":""},{"$f":"IF(OR(C23636=\"\",ISBLANK(C23636)),\"\",VLOOKUP(C23636,Sheet2!A:G,6,FALSE))","v":""},""]
[{"$f":"IF(OR(C23661=\"\",ISBLANK(C23661)),\"\",VLOOKUP(C23661,Sheet2!A:F,2,FALSE))","v":""},{"$f":"IF(OR(C23661=\"\",ISBLANK(C23661)),\"\",VLOOKUP(C23661,Sheet2!A:G,4,FALSE))","v":""},null,null,{"$f":"IF(OR(C23661=\"\",ISBLANK(C23661)),\"\",VLOOKUP(C23661,Sheet2!A:F,3,FALSE))","v":""},{"$f":"IF(OR(C23661=\"\",ISBLANK(C23661)),\"\",VLOOKUP(C23661,Sheet2!A:G,6,FALSE))","v":""},""]
[{"$f":"IF(OR(C23694=\"\",ISBLANK(C23694)),\"\",VLOOKUP(C23694,Sheet2!A:F,2,FALSE))","v":""},{"$f":"IF(OR(C23694=\"\",ISBLANK(C23694)),\"\",VLOOKUP(C23694,Sheet2!A:G,4,FALSE))","v":""},null,null,{"$f":"IF(OR(C23694=\"\",ISBLANK(C23694)),\"\",VLOOKUP(C23694,Sheet2!A:F,3,FALSE))","v":""},{"$f":"IF(OR(C23694=\"\",ISBLANK(C23694)),\"\",VLOOKUP(C23694,Sheet2!A:G,6,FALSE))","v":""},""]
[{"$f":"IF(OR(C23703=\"\",ISBLANK(C23703)),\"\",VLOOKUP(C23703,Sheet2!A:F,2,FALSE))","v":""},{"$f":"IF(OR(C23703=\"\",ISBLANK(C23703)),\"\",VLOOKUP(C23703,Sheet2!A:G,4,FALSE))","v":""},null,null,{"$f":"IF(OR(C23703=\"\",ISBLANK(C23703)),\"\",VLOOKUP(C23703,Sheet2!A:F,3,FALSE))","v":""},{"$f":"IF(OR(C23703=\"\",ISBLANK(C23703)),\"\",VLOOKUP(C23703,Sheet2!A:G,6,FALSE))","v":""},""]
[{"$f":"IF(OR(C23728=\"\",ISBLANK(C23728)),\"\",VLOOKUP(C23728,Sheet2!A:F,2,FALSE))","v":""},{"$f":"IF(OR(C23728=\"\",ISBLANK(C23728)),\"\",VLOOKUP(C23728,Sheet2!A:G,4,FALSE))","v":""},null,null,{"$f":"IF(OR(C23728=\"\",ISBLANK(C23728)),\"\",VLOOKUP(C23728,Sheet2!A:F,3,FALSE))","v":""},{"$f":"IF(OR(C23728=\"\",ISBLANK(C23728)),\"\",VLOOKUP(C23728,Sheet2!A:G,6,FALSE))","v":""},""]
[{"$f":"IF(OR(C23761=\"\",ISBLANK(C23761)),\"\",VLOOKUP(C23761,Sheet2!A:F,2,FALSE))","v":""},{"$f":"IF(OR(C23761=\"\",ISBLANK(C23761)),\"\",VLOOKUP(C23761,Sheet2!A:G,4,FALSE))","v":""},null,null,{"$f":"IF(OR(C23761=\"\",ISBLANK(C23761)),\"\",VLOOKUP(C23761,Sheet2!A:F,3,FALSE))","v":""},{"$f":"IF(OR(C23761=\"\",ISBLANK(C23761)),\"\",VLOOKUP(C23761,Sheet2!A:G,6,FALSE))","v":""},""]
[{"$f":"IF(OR(C23770=\"\",ISBLANK(C23770)),\"\",VLOOKUP(C23770,Sheet2!A:F,2,FALSE))","v":""},{"$f":"IF(OR(C23770=\"\",ISBLANK(C23770)),\"\",VLOOKUP(C23770,Sheet2!A:G,4,FALSE))","v":""},null,null,{"$f":"IF(OR(C23770=\"\",ISBLANK(C23770)),\"\",VLOOKUP(C23770,Sheet2!A:F,3,FALSE))","v":""},{"$f":"IF(OR(C23770=\"\",ISBLANK(C23770)),\"\",VLOOKUP(C23770,Sheet2!A:G,6,FALSE))","v":""},""]
[{"$f":"IF(OR(C23795=\"\",ISBLANK(C23795)),\"\",VLOOKUP(C23795,Sheet2!A:F,2,FALSE))","v":""},{"$f":"IF(OR(C23795=\"\",ISBLANK(C23795)),\"\",VLOOKUP(C23795,Sheet2!A:G,4,FALSE))","v":""},null,null,{"$f":"IF(OR(C23795=\"\",ISBLANK(C23795)),\"\",VLOOKUP(C23795,Sheet2!A:F,3,FALSE))","v":""},{"$f":"IF(OR(C23795=\"\",ISBLANK(C23795)),\"\",VLOOKUP(C23795,Sheet2!A:G,6,FALSE))","v":""},""]
[{"$f":"IF(OR(C23821=\"\",ISBLANK(C23821)),\"\",VLOOKUP(C23821,Sheet2!A:F,2,FALSE))","v":""},{"$f":"IF(OR(C23821=\"\",ISBLANK(C23821)),\"\",VLOOKUP(C23821,Sheet2!A:G,4,FALSE))","v":""},null,null,{"$f":"IF(OR(C23821=\"\",ISBLANK(C23821)),\"\",VLOOKUP(C23821,Sheet2!A:F,3,FALSE))","v":""},{"$f":"IF(OR(C23821=\"\",ISBLANK(C23821)),\"\",VLOOKUP(C23821,Sheet2!A:G,6,FALSE))","v":""},""]
[{"$f":"IF(OR(C23852=\"\",ISBLANK(C23852)),\"\",VLOOKUP(C23852,Sheet2!A:F,2,FALSE))","v":""},{"$f":"IF(OR(C23852=\"\",ISBLANK(C23852)),\"\",VLOOKUP(C23852,Sheet2!A:G,4,FALSE))","v":""},null,null,{"$f":"IF(OR(C23852=\"\",ISBLANK(C23852)),\"\",VLOOKUP(C23852,Sheet2!A:F,3,FALSE))","v":""},{"$f":"IF(OR(C23852=\"\",ISBLANK(C23852)),\"\",VLOOKUP(C23852,Sheet2!A:G,6,FALSE))","v":""},""]
[{"$f":"IF(OR(C23885=\"\",ISBLANK(C23885)),\"\",VLOOKUP(C23885,Sheet2!A:F,2,FALSE))","v":""},{"$f":"IF(OR(C23885=\"\",ISBLANK(C23885)),\"\",VLOOKUP(C23885,Sheet2!A:G,4,FALSE))","v":""},null,null,{"$f":"IF(OR(C23885=\"\",ISBLANK(C23885)),\"\",VLOOKUP(C23885,Sheet2!A:F,3,FALSE))","v":""},{"$f":"IF(OR(C23885=\"\",ISBLANK(C23885)),\"\",VLOOKUP(C23885,Sheet2!A:G,6,FALSE))","v":""},""]
[{"$f":"IF(OR(C23894=\"\",ISBLANK(C23894)),\"\",VLOOKUP(C23894,Sheet2!A:F,2,FALSE))","v":""},{"$f":"IF(OR(C23894=\"\",ISBLANK(C23894)),\"\",VLOOKUP(C23894,Sheet2!A:G,4,FALSE))","v":""},null,null,{"$f":"IF(OR(C23894=\"\",ISBLANK(C23894)),\"\",VLOOKUP(C23894,Sheet2!A:F,3,FALSE))","v":""},{"$f":"IF(OR(C23894=\"\",ISBLANK(C23894)),\"\",VLOOKUP(C23894,Sheet2!A:G,6,FALSE))","v":""},""]
[{"$f":"IF(OR(C23919=\"\",ISBLANK(C23919)),\"\",VLOOKUP(C23919,Sheet2!A:F,2,FALSE))","v":""},{"$f":"IF(OR(C23919=\"\",ISBLANK(C23919)),\"\",VLOOKUP(C23919,Sheet2!A:G,4,FALSE))","v":""},null,null,{"$f":"IF(OR(C23919=\"\",ISBLANK(C23919)),\"\",VLOOKUP(C23919,Sheet2!A:F,3,FALSE))","v":""},{"$f":"IF(OR(C23919=\"\",ISBLANK(C23919)),\"\",VLOOKUP(C23919,Sheet2!A:G,6,FALSE))","v":""},""]
[{"$f":"IF(OR(C23952=\"\",ISBLANK(C23952)),\"\",VLOOKUP(C23952,Sheet2!A:F,2,FALSE))","v":""},{"$f":"IF(OR(C23952=\"\",ISBLANK(C23952)),\"\",VLOOKUP(C23952,Sheet2!A:G,4,FALSE))","v":""},null,null,{"$f":"IF(OR(C23952=\"\",ISBLANK(C23952)),\"\",VLOOKUP(C23952,Sheet2!A:F,3,FALSE))","v":""},{"$f":"IF(OR(C23952=\"\",ISBLANK(C23952)),\"\",VLOOKUP(C23952,Sheet2!A:G,6,FALSE))","v":""},""]
[{"$f":"IF(OR(C23977=\"\",ISBLANK(C23977)),\"\",VLOOKUP(C23977,Sheet2!A:F,2,FALSE))","v":""},{"$f":"IF(OR(C23977=\"\",ISBLANK(C23977)),\"\",VLOOKUP(C23977,Sheet2!A:G,4,FALSE))","v":""},null,null,{"$f":"IF(OR(C23977=\"\",ISBLANK(C23977)),\"\",VLOOKUP(C23977,Sheet2!A:F,3,FALSE))","v":""},{"$f":"IF(OR(C23977=\"\",ISBLANK(C23977)),\"\",VLOOKUP(C23977,Sheet2!A:G,6,FALSE))","v":""},""]
[{"$f":"IF(OR(C23986=\"\",ISBLANK(C23986)),\"\",VLOOKUP(C23986,Sheet2!A:F,2,FALSE))","v":""},{"$f":"IF(OR(C23986=\"\",ISBLANK(C23986)),\"\",VLOOKUP(C23986,Sheet2!A:G,4,FALSE))","v":""},null,null,{"$f":"IF(OR(C23986=\"\",ISBLANK(C23986)),\"\",VLOOKUP(C23986,Sheet2!A:F,3,FALSE))","v":""},{"$f":"IF(OR(C23986=\"\",ISBLANK(C23986)),\"\",VLOOKUP(C23986,Sheet2!A:G,6,FALSE))","v":""},""]
[{"$f":"IF(OR(C24019=\"\",ISBLANK(C24019)),\"\",VLOOKUP(C24019,Sheet2!A:F,2,FALSE))","v":""},{"$f":"IF(OR(C24019=\"\",ISBLANK(C24019)),\"\",VLOOKUP(C24019,Sheet2!A:G,4,FALSE))","v":""},null,null,{"$f":"IF(OR(C24019=\"\",ISBLANK(C24019)),\"\",VLOOKUP(C24019,Sheet2!A:F,3,FALSE))","v":""},{"$f":"IF(OR(C24019=\"\",ISBLANK(C24019)),\"\",VLOOKUP(C24019,Sheet2!A:G,6,FALSE))","v":""},""]
[{"$f":"IF(OR(C24044=\"\",ISBLANK(C24044)),\"\",VLOOKUP(C24044,Sheet2!A:F,2,FALSE))","v":""},{"$f":"IF(OR(C24044=\"\",ISBLANK(C24044)),\"\",VLOOKUP(C24044,Sheet2!A:G,4,FALSE))","v":""},null,null,{"$f":"IF(OR(C24044=\"\",ISBLANK(C24044)),\"\",VLOOKUP(C24044,Sheet2!A:F,3,FALSE))","v":""},{"$f":"IF(OR(C24044=\"\",ISBLANK(C24044)),\"\",VLOOKUP(C24044,Sheet2!A:G,6,FALSE))","v":""},""]
[{"$f":"IF(OR(C24075=\"\",ISBLANK(C24075)),\"\",VLOOKUP(C24075,Sheet2!A:F,2,FALSE))","v":""},{"$f":"IF(OR(C24075=\"\",ISBLANK(C24075)),\"\",VLOOKUP(C24075,Sheet2!A:G,4,FALSE))","v":""},null,null,{"$f":"IF(OR(C24075=\"\",ISBLANK(C24075)),\"\",VLOOKUP(C24075,Sheet2!A:F,3,FALSE))","v":""},{"$f":"IF(OR(C24075=\"\",ISBLANK(C24075)),\"\",VLOOKUP(C24075,Sheet2!A:G,6,FALSE))","v":""},""]
[{"$f":"IF(OR(C24085=\"\",ISBLANK(C24085)),\"\",VLOOKUP(C24085,Sheet2!A:F,2,FALSE))","v":""},{"$f":"IF(OR(C24085=\"\",ISBLANK(C24085)),\"\",VLOOKUP(C24085,Sheet2!A:G,4,FALSE))","v":""},null,null,{"$f":"IF(OR(C24085=\"\",ISBLANK(C24085)),\"\",VLOOKUP(C24085,Sheet2!A:F,3,FALSE))","v":""},{"$f":"IF(OR(C24085=\"\",ISBLANK(C24085)),\"\",VLOOKUP(C24085,Sheet2!A:G,6,FALSE))","v":""},""]
[{"$f":"IF(OR(C24110=\"\",ISBLANK(C24110)),\"\",VLOOKUP(C24110,Sheet2!A:F,2,FALSE))","v":""},{"$f":"IF(OR(C24110=\"\",ISBLANK(C24110)),\"\",VLOOKUP(C24110,Sheet2!A:G,4,FALSE))","v":""},null,null,{"$f":"IF(OR(C24110=\"\",ISBLANK(C24110)),\"\",VLOOKUP(C24110,Sheet2!A:F,3,FALSE))","v":""},{"$f":"IF(OR(C24110=\"\",ISBLANK(C24110)),\"\",VLOOKUP(C24110,Sheet2!A:G,6,FALSE))","v":""},""]
[{"$f":"IF(OR(C24143=\"\",ISBLANK(C24143)),\"\",VLOOKUP(C24143,Sheet2!A:F,2,FALSE))","v":""},{"$f":"IF(OR(C24143=\"\",ISBLANK(C24143)),\"\",VLOOKUP(C24143,Sheet2!A:G,4,FALSE))","v":""},null,null,{"$f":"IF(OR(C24143=\"\",ISBLANK(C24143)),\"\",VLOOKUP(C24143,Sheet2!A:F,3,FALSE))","v":""},{"$f":"IF(OR(C24143=\"\",ISBLANK(C24143)),\"\",VLOOKUP(C24143,Sheet2!A:G,6,FALSE))","v":""},""]
[{"$f":"IF(OR(C24168=\"\",ISBLANK(C24168)),\"\",VLOOKUP(C24168,Sheet2!A:F,2,FALSE))","v":""},{"$f":"IF(OR(C24168=\"\",ISBLANK(C24168)),\"\",VLOOKUP(C24168,Sheet2!A:G,4,FALSE))","v":""},null,null,{"$f":"IF(OR(C24168=\"\",ISBLANK(C24168)),\"\",VLOOKUP(C24168,Sheet2!A:F,3,FALSE))","v":""},{"$f":"IF(OR(C24168=\"\",ISBLANK(C24168)),\"\",VLOOKUP(C24168,Sheet2!A:G,6,FALSE))","v":""},""]
[{"$f":"IF(OR(C24177=\"\",ISBLANK(C24177)),\"\",VLOOKUP(C24177,Sheet2!A:F,2,FALSE))","v":""},{"$f":"IF(OR(C24177=\"\",ISBLANK(C24177)),\"\",VLOOKUP(C24177,Sheet2!A:G,4,FALSE))","v":""},null,null,{"$f":"IF(OR(C24177=\"\",ISBLANK(C24177)),\"\",VLOOKUP(C24177,Sheet2!A:F,3,FALSE))","v":""},{"$f":"IF(OR(C24177=\"\",ISBLANK(C24177)),\"\",VLOOKUP(C24177,Sheet2!A:G,6,FALSE))","v":""},""]
[{"$f":"IF(OR(C24210=\"\",ISBLANK(C24210)),\"\",VLOOKUP(C24210,Sheet2!A:F,2,FALSE))","v":""},{"$f":"IF(OR(C24210=\"\",ISBLANK(C24210)),\"\",VLOOKUP(C24210,Sheet2!A:G,4,FALSE))","v":""},null,null,{"$f":"IF(OR(C24210=\"\",ISBLANK(C24210)),\"\",VLOOKUP(C24210,Sheet2!A:F,3,FALSE))","v":""},{"$f":"IF(OR(C24210=\"\",ISBLANK(C24210)),\"\",VLOOKUP(C24210,Sheet2!A:G,6,FALSE))","v":""},""]
[{"$f":"IF(OR(C24235=\"\",ISBLANK(C24235)),\"\",VLOOKUP(C24235,Sheet2!A:F,2,FALSE))","v":""},{"$f":"IF(OR(C24235=\"\",ISBLANK(C24235)),\"\",VLOOKUP(C24235,Sheet2!A:G,4,FALSE))","v":""},null,null,{"$f":"IF(OR(C24235=\"\",ISBLANK(C24235)),\"\",VLOOKUP(C24235,Sheet2!A:F,3,FALSE))","v":""},{"$f":"IF(OR(C24235=\"\",ISBLANK(C24235)),\"\",VLOOKUP(C24235,Sheet2!A:G,6,FALSE))","v":""},""]
[{"$f":"IF(OR(C24268=\"\",ISBLANK(C24268)),\"\",VLOOKUP(C24268,Sheet2!A:F,2,FALSE))","v":""},{"$f":"IF(OR(C24268=\"\",ISBLANK(C24268)),\"\",VLOOKUP(C24268,Sheet2!A:G,4,FALSE))","v":""},null,null,{"$f":"IF(OR(C24268=\"\",ISBLANK(C24268)),\"\",VLOOKUP(C24268,Sheet2!A:F,3,FALSE))","v":""},{"$f":"IF(OR(C24268=\"\",ISBLANK(C24268)),\"\",VLOOKUP(C24268,Sheet2!A:G,6,FALSE))","v":""},""]
[{"$f":"IF(OR(C24294=\"\",ISBLANK(C24294)),\"\",VLOOKUP(C24294,Sheet2!A:F,2,FALSE))","v":""},{"$f":"IF(OR(C24294=\"\",ISBLANK(C24294)),\"\",VLOOKUP(C24294,Sheet2!A:G,4,FALSE))","v":""},null,null,{"$f":"IF(OR(C24294=\"\",ISBLANK(C24294)),\"\",VLOOKUP(C24294,Sheet2!A:F,3,FALSE))","v":""},{"$f":"IF(OR(C24294=\"\",ISBLANK(C24294)),\"\",VLOOKUP(C24294,Sheet2!A:G,6,FALSE))","v":""},""]
[{"$f":"IF(OR(C24301=\"\",ISBLANK(C24301)),\"\",VLOOKUP(C24301,Sheet2!A:F,2,FALSE))","v":""},{"$f":"IF(OR(C24301=\"\",ISBLANK(C24301)),\"\",VLOOKUP(C24301,Sheet2!A:G,4,FALSE))","v":""},null,null,{"$f":"IF(OR(C24301=\"\",ISBLANK(C24301)),\"\",VLOOKUP(C24301,Sheet2!A:F,3,FALSE))","v":""},{"$f":"IF(OR(C24301=\"\",ISBLANK(C24301)),\"\",VLOOKUP(C24301,Sheet2!A:G,6,FALSE))","v":""},""]
[{"$f":"IF(OR(C24334=\"\",ISBLANK(C24334)),\"\",VLOOKUP(C24334,Sheet2!A:F,2,FALSE))","v":""},{"$f":"IF(OR(C24334=\"\",ISBLANK(C24334)),\"\",VLOOKUP(C24334,Sheet2!A:G,4,FALSE))","v":""},null,null,{"$f":"IF(OR(C24334=\"\",ISBLANK(C24334)),\"\",VLOOKUP(C24334,Sheet2!A:F,3,FALSE))","v":""},{"$f":"IF(OR(C24334=\"\",ISBLANK(C24334)),\"\",VLOOKUP(C24334,Sheet2!A:G,6,FALSE))","v":""},""]
[{"$f":"IF(OR(C24359=\"\",ISBLANK(C24359)),\"\",VLOOKUP(C24359,Sheet2!A:F,2,FALSE))","v":""},{"$f":"IF(OR(C24359=\"\",ISBLANK(C24359)),\"\",VLOOKUP(C24359,Sheet2!A:G,4,FALSE))","v":""},null,null,{"$f":"IF(OR(C24359=\"\",ISBLANK(C24359)),\"\",VLOOKUP(C24359,Sheet2!A:F,3,FALSE))","v":""},{"$f":"IF(OR(C24359=\"\",ISBLANK(C24359)),\"\",VLOOKUP(C24359,Sheet2!A:G,6,FALSE))","v":""},""]
[{"$f":"IF(OR(C24368=\"\",ISBLANK(C24368)),\"\",VLOOKUP(C24368,Sheet2!A:F,2,FALSE))","v":""},{"$f":"IF(OR(C24368=\"\",ISBLANK(C24368)),\"\",VLOOKUP(C24368,Sheet2!A:G,4,FALSE))","v":""},null,null,{"$f":"IF(OR(C24368=\"\",ISBLANK(C24368)),\"\",VLOOKUP(C24368,Sheet2!A:F,3,FALSE))","v":""},{"$f":"IF(OR(C24368=\"\",ISBLANK(C24368)),\"\",VLOOKUP(C24368,Sheet2!A:G,6,FALSE))","v":""},""]
[{"$f":"IF(OR(C24401=\"\",ISBLANK(C24401)),\"\",VLOOKUP(C24401,Sheet2!A:F,2,FALSE))","v":""},{"$f":"IF(OR(C24401=\"\",ISBLANK(C24401)),\"\",VLOOKUP(C24401,Sheet2!A:G,4,FALSE))","v":""},null,null,{"$f":"IF(OR(C24401=\"\",ISBLANK(C24401)),\"\",VLOOKUP(C24401,Sheet2!A:F,3,FALSE))","v":""},{"$f":"IF(OR(C24401=\"\",ISBLANK(C24401)),\"\",VLOOKUP(C24401,Sheet2!A:G,6,FALSE))","v":""},""]
[{"$f":"IF(OR(C24426=\"\",ISBLANK(C24426)),\"\",VLOOKUP(C24426,Sheet2!A:F,2,FALSE))","v":""},{"$f":"IF(OR(C24426=\"\",ISBLANK(C24426)),\"\",VLOOKUP(C24426,Sheet2!A:G,4,FALSE))","v":""},null,null,{"$f":"IF(OR(C24426=\"\",ISBLANK(C24426)),\"\",VLOOKUP(C24426,Sheet2!A:F,3,FALSE))","v":""},{"$f":"IF(OR(C24426=\"\",ISBLANK(C24426)),\"\",VLOOKUP(C24426,Sheet2!A:G,6,FALSE))","v":""},""]
[{"$f":"IF(OR(C24459=\"\",ISBLANK(C24459)),\"\",VLOOKUP(C24459,Sheet2!A:F,2,FALSE))","v":""},{"$f":"IF(OR(C24459=\"\",ISBLANK(C24459)),\"\",VLOOKUP(C24459,Sheet2!A:G,4,FALSE))","v":""},null,null,{"$f":"IF(OR(C24459=\"\",ISBLANK(C24459)),\"\",VLOOKUP(C24459,Sheet2!A:F,3,FALSE))","v":""},{"$f":"IF(OR(C24459=\"\",ISBLANK(C24459)),\"\",VLOOKUP(C24459,Sheet2!A:G,6,FALSE))","v":""},""]
[{"$f":"IF(OR(C24484=\"\",ISBLANK(C24484)),\"\",VLOOKUP(C24484,Sheet2!A:F,2,FALSE))","v":""},{"$f":"IF(OR(C24484=\"\",ISBLANK(C24484)),\"\",VLOOKUP(C24484,Sheet2!A:G,4,FALSE))","v":""},null,null,{"$f":"IF(OR(C24484=\"\",ISBLANK(C24484)),\"\",VLOOKUP(C24484,Sheet2!A:F,3,FALSE))","v":""},{"$f":"IF(OR(C24484=\"\",ISBLANK(C24484)),\"\",VLOOKUP(C24484,Sheet2!A:G,6,FALSE))","v":""},""]
[{"$f":"IF(OR(C24493=\"\",ISBLANK(C24493)),\"\",VLOOKUP(C24493,Sheet2!A:F,2,FALSE))","v":""},{"$f":"IF(OR(C24493=\"\",ISBLANK(C24493)),\"\",VLOOKUP(C24493,Sheet2!A:G,4,FALSE))","v":""},null,null,{"$f":"IF(OR(C24493=\"\",ISBLANK(C24493)),\"\",VLOOKUP(C24493,Sheet2!A:F,3,FALSE))","v":""},{"$f":"IF(OR(C24493=\"\",ISBLANK(C24493)),\"\",VLOOKUP(C24493,Sheet2!A:G,6,FALSE))","v":""},""]
[{"$f":"IF(OR(C24525=\"\",ISBLANK(C24525)),\"\",VLOOKUP(C24525,Sheet2!A:F,2,FALSE))","v":""},{"$f":"IF(OR(C24525=\"\",ISBLANK(C24525)),\"\",VLOOKUP(C24525,Sheet2!A:G,4,FALSE))","v":""},null,null,{"$f":"IF(OR(C24525=\"\",ISBLANK(C24525)),\"\",VLOOKUP(C24525,Sheet2!A:F,3,FALSE))","v":""},{"$f":"IF(OR(C24525=\"\",ISBLANK(C24525)),\"\",VLOOKUP(C24525,Sheet2!A:G,6,FALSE))","v":""},""]
[{"$f":"IF(OR(C24550=\"\",ISBLANK(C24550)),\"\",VLOOKUP(C24550,Sheet2!A:F,2,FALSE))","v":""},{"$f":"IF(OR(C24550=\"\",ISBLANK(C24550)),\"\",VLOOKUP(C24550,Sheet2!A:G,4,FALSE))","v":""},null,null,{"$f":"IF(OR(C24550=\"\",ISBLANK(C24550)),\"\",VLOOKUP(C24550,Sheet2!A:F,3,FALSE))","v":""},{"$f":"IF(OR(C24550=\"\",ISBLANK(C24550)),\"\",VLOOKUP(C24550,Sheet2!A:G,6,FALSE))","v":""},""]
[{"$f":"IF(OR(C24559=\"\",ISBLANK(C24559)),\"\",VLOOKUP(C24559,Sheet2!A:F,2,FALSE))","v":""},{"$f":"IF(OR(C24559=\"\",ISBLANK(C24559)),\"\",VLOOKUP(C24559,Sheet2!A:G,4,FALSE))","v":""},null,null,{"$f":"IF(OR(C24559=\"\",ISBLANK(C24559)),\"\",VLOOKUP(C24559,Sheet2!A:F,3,FALSE))","v":""},{"$f":"IF(OR(C24559=\"\",ISBLANK(C24559)),\"\",VLOOKUP(C24559,Sheet2!A:G,6,FALSE))","v":""},""]
[{"$f":"IF(OR(C24592=\"\",ISBLANK(C24592)),\"\",VLOOKUP(C24592,Sheet2!A:F,2,FALSE))","v":""},{"$f":"IF(OR(C24592=\"\",ISBLANK(C24592)),\"\",VLOOKUP(C24592,Sheet2!A:G,4,FALSE))","v":""},null,null,{"$f":"IF(OR(C24592=\"\",ISBLANK(C24592)),\"\",VLOOKUP(C24592,Sheet2!A:F,3,FALSE))","v":""},{"$f":"IF(OR(C24592=\"\",ISBLANK(C24592)),\"\",VLOOKUP(C24592,Sheet2!A:G,6,FALSE))","v":""},""]
[{"$f":"IF(OR(C24617=\"\",ISBLANK(C24617)),\"\",VLOOKUP(C24617,Sheet2!A:F,2,FALSE))","v":""},{"$f":"IF(OR(C24617=\"\",ISBLANK(C24617)),\"\",VLOOKUP(C24617,Sheet2!A:G,4,FALSE))","v":""},null,null,{"$f":"IF(OR(C24617=\"\",ISBLANK(C24617)),\"\",VLOOKUP(C24617,Sheet2!A:F,3,FALSE))","v":""},{"$f":"IF(OR(C24617=\"\",ISBLANK(C24617)),\"\",VLOOKUP(C24617,Sheet2!A:G,6,FALSE))","v":""},""]
[{"$f":"IF(OR(C24650=\"\",ISBLANK(C24650)),\"\",VLOOKUP(C24650,Sheet2!A:F,2,FALSE))","v":""},{"$f":"IF(OR(C24650=\"\",ISBLANK(C24650)),\"\",VLOOKUP(C24650,Sheet2!A:G,4,FALSE))","v":""},null,null,{"$f":"IF(OR(C24650=\"\",ISBLANK(C24650)),\"\",VLOOKUP(C24650,Sheet2!A:F,3,FALSE))","v":""},{"$f":"IF(OR(C24650=\"\",ISBLANK(C24650)),\"\",VLOOKUP(C24650,Sheet2!A:G,6,FALSE))","v":""},""]
[{"$f":"IF(OR(C24675=\"\",ISBLANK(C24675)),\"\",VLOOKUP(C24675,Sheet2!A:F,2,FALSE))","v":""},{"$f":"IF(OR(C24675=\"\",ISBLANK(C24675)),\"\",VLOOKUP(C24675,Sheet2!A:G,4,FALSE))","v":""},null,null,{"$f":"IF(OR(C24675=\"\",ISBLANK(C24675)),\"\",VLOOKUP(C24675,Sheet2!A:F,3,FALSE))","v":""},{"$f":"IF(OR(C24675=\"\",ISBLANK(C24675)),\"\",VLOOKUP(C24675,Sheet2!A:G,6,FALSE))","v":""},""]
[{"$f":"IF(OR(C24684=\"\",ISBLANK(C24684)),\"\",VLOOKUP(C24684,Sheet2!A:F,2,FALSE))","v":""},{"$f":"IF(OR(C24684=\"\",ISBLANK(C24684)),\"\",VLOOKUP(C24684,Sheet2!A:G,4,FALSE))","v":""},null,null,{"$f":"IF(OR(C24684=\"\",ISBLANK(C24684)),\"\",VLOOKUP(C24684,Sheet2!A:F,3,FALSE))","v":""},{"$f":"IF(OR(C24684=\"\",ISBLANK(C24684)),\"\",VLOOKUP(C24684,Sheet2!A:G,6,FALSE))","v":""},""]
[{"$f":"IF(OR(C24717=\"\",ISBLANK(C24717)),\"\",VLOOKUP(C24717,Sheet2!A:F,2,FALSE))","v":""},{"$f":"IF(OR(C24717=\"\",ISBLANK(C24717)),\"\",VLOOKUP(C24717,Sheet2!A:G,4,FALSE))","v":""},null,null,{"$f":"IF(OR(C24717=\"\",ISBLANK(C24717)),\"\",VLOOKUP(C24717,Sheet2!A:F,3,FALSE))","v":""},{"$f":"IF(OR(C24717=\"\",ISBLANK(C24717)),\"\",VLOOKUP(C24717,Sheet2!A:G,6,FALSE))","v":""},""]
[{"$f":"IF(OR(C24733=\"\",ISBLANK(C24733)),\"\",VLOOKUP(C24733,Sheet2!A:F,2,FALSE))","v":""},{"$f":"IF(OR(C24733=\"\",ISBLANK(C24733)),\"\",VLOOKUP(C24733,Sheet2!A:G,4,FALSE))","v":""},null,null,{"$f":"IF(OR(C24733=\"\",ISBLANK(C24733)),\"\",VLOOKUP(C24733,Sheet2!A:F,3,FALSE))","v":""},{"$f":"IF(OR(C24733=\"\",ISBLANK(C24733)),\"\",VLOOKUP(C24733,Sheet2!A:G,6,FALSE))","v":""},""]
[{"$f":"IF(OR(C24750=\"\",ISBLANK(C24750)),\"\",VLOOKUP(C24750,Sheet2!A:F,2,FALSE))","v":""},{"$f":"IF(OR(C24750=\"\",ISBLANK(C24750)),\"\",VLOOKUP(C24750,Sheet2!A:G,4,FALSE))","v":""},null,null,{"$f":"IF(OR(C24750=\"\",ISBLANK(C24750)),\"\",VLOOKUP(C24750,Sheet2!A:F,3,FALSE))","v":""},{"$f":"IF(OR(C24750=\"\",ISBLANK(C24750)),\"\",VLOOKUP(C24750,Sheet2!A:G,6,FALSE))","v":""},""]
[{"$f":"IF(OR(C24775=\"\",ISBLANK(C24775)),\"\",VLOOKUP(C24775,Sheet2!A:F,2,FALSE))","v":""},{"$f":"IF(OR(C24775=\"\",ISBLANK(C24775)),\"\",VLOOKUP(C24775,Sheet2!A:G,4,FALSE))","v":""},null,null,{"$f":"IF(OR(C24775=\"\",ISBLANK(C24775)),\"\",VLOOKUP(C24775,Sheet2!A:F,3,FALSE))","v":""},{"$f":"IF(OR(C24775=\"\",ISBLANK(C24775)),\"\",VLOOKUP(C24775,Sheet2!A:G,6,FALSE))","v":""},""]
[{"$f":"IF(OR(C24808=\"\",ISBLANK(C24808)),\"\",VLOOKUP(C24808,Sheet2!A:F,2,FALSE))","v":""},{"$f":"IF(OR(C24808=\"\",ISBLANK(C24808)),\"\",VLOOKUP(C24808,Sheet2!A:G,4,FALSE))","v":""},null,null,{"$f":"IF(OR(C24808=\"\",ISBLANK(C24808)),\"\",VLOOKUP(C24808,Sheet2!A:F,3,FALSE))","v":""},{"$f":"IF(OR(C24808=\"\",ISBLANK(C24808)),\"\",VLOOKUP(C24808,Sheet2!A:G,6,FALSE))","v":""},""]
[{"$f":"IF(OR(C24841=\"\",ISBLANK(C24841)),\"\",VLOOKUP(C24841,Sheet2!A:F,2,FALSE))","v":""},{"$f":"IF(OR(C24841=\"\",ISBLANK(C24841)),\"\",VLOOKUP(C24841,Sheet2!A:G,4,FALSE))","v":""},null,null,{"$f":"IF(OR(C24841=\"\",ISBLANK(C24841)),\"\",VLOOKUP(C24841,Sheet2!A:F,3,FALSE))","v":""},{"$f":"IF(OR(C24841=\"\",ISBLANK(C24841)),\"\",VLOOKUP(C24841,Sheet2!A:G,6,FALSE))","v":""},""]
[{"$f":"IF(OR(C24866=\"\",ISBLANK(C24866)),\"\",VLOOKUP(C24866,Sheet2!A:F,2,FALSE))","v":""},{"$f":"IF(OR(C24866=\"\",ISBLANK(C24866)),\"\",VLOOKUP(C24866,Sheet2!A:G,4,FALSE))","v":""},null,null,{"$f":"IF(OR(C24866=\"\",ISBLANK(C24866)),\"\",VLOOKUP(C24866,Sheet2!A:F,3,FALSE))","v":""},{"$f":"IF(OR(C24866=\"\",ISBLANK(C24866)),\"\",VLOOKUP(C24866,Sheet2!A:G,6,FALSE))","v":""},""]
[{"$f":"IF(OR(C24875=\"\",ISBLANK(C24875)),\"\",VLOOKUP(C24875,Sheet2!A:F,2,FALSE))","v":""},{"$f":"IF(OR(C24875=\"\",ISBLANK(C24875)),\"\",VLOOKUP(C24875,Sheet2!A:G,4,FALSE))","v":""},null,null,{"$f":"IF(OR(C24875=\"\",ISBLANK(C24875)),\"\",VLOOKUP(C24875,Sheet2!A:F,3,FALSE))","v":""},{"$f":"IF(OR(C24875=\"\",ISBLANK(C24875)),\"\",VLOOKUP(C24875,Sheet2!A:G,6,FALSE))","v":""},""]
[{"$f":"IF(OR(C24908=\"\",ISBLANK(C24908)),\"\",VLOOKUP(C24908,Sheet2!A:F,2,FALSE))","v":""},{"$f":"IF(OR(C24908=\"\",ISBLANK(C24908)),\"\",VLOOKUP(C24908,Sheet2!A:G,4,FALSE))","v":""},null,null,{"$f":"IF(OR(C24908=\"\",ISBLANK(C24908)),\"\",VLOOKUP(C24908,Sheet2!A:F,3,FALSE))","v":""},{"$f":"IF(OR(C24908=\"\",ISBLANK(C24908)),\"\",VLOOKUP(C24908,Sheet2!A:G,6,FALSE))","v":""},""]
[{"$f":"IF(OR(C24933=\"\",ISBLANK(C24933)),\"\",VLOOKUP(C24933,Sheet2!A:F,2,FALSE))","v":""},{"$f":"IF(OR(C24933=\"\",ISBLANK(C24933)),\"\",VLOOKUP(C24933,Sheet2!A:G,4,FALSE))","v":""},null,null,{"$f":"IF(OR(C24933=\"\",ISBLANK(C24933)),\"\",VLOOKUP(C24933,Sheet2!A:F,3,FALSE))","v":""},{"$f":"IF(OR(C24933=\"\",ISBLANK(C24933)),\"\",VLOOKUP(C24933,Sheet2!A:G,6,FALSE))","v":""},""]
[{"$f":"IF(OR(C24942=\"\",ISBLANK(C24942)),\"\",VLOOKUP(C24942,Sheet2!A:F,2,FALSE))","v":""},{"$f":"IF(OR(C24942=\"\",ISBLANK(C24942)),\"\",VLOOKUP(C24942,Sheet2!A:G,4,FALSE))","v":""},null,null,{"$f":"IF(OR(C24942=\"\",ISBLANK(C24942)),\"\",VLOOKUP(C24942,Sheet2!A:F,3,FALSE))","v":""},{"$f":"IF(OR(C24942=\"\",ISBLANK(C24942)),\"\",VLOOKUP(C24942,Sheet2!A:G,6,FALSE))","v":""},""]
[{"$f":"IF(OR(C24987=\"\",ISBLANK(C24987)),\"\",VLOOKUP(C24987,Sheet2!A:F,2,FALSE))","v":""},{"$f":"IF(OR(C24987=\"\",ISBLANK(C24987)),\"\",VLOOKUP(C24987,Sheet2!A:G,4,FALSE))","v":""},null,null,{"$f":"IF(OR(C24987=\"\",ISBLANK(C24987)),\"\",VLOOKUP(C24987,Sheet2!A:F,3,FALSE))","v":""},{"$f":"IF(OR(C24987=\"\",ISBLANK(C24987)),\"\",VLOOKUP(C24987,Sheet2!A:G,6,FALSE))","v":""},""]
[{"$f":"IF(OR(C24999=\"\",ISBLANK(C24999)),\"\",VLOOKUP(C24999,Sheet2!A:F,2,FALSE))","v":""},{"$f":"IF(OR(C24999=\"\",ISBLANK(C24999)),\"\",VLOOKUP(C24999,Sheet2!A:G,4,FALSE))","v":""},null,null,{"$f":"IF(OR(C24999=\"\",ISBLANK(C24999)),\"\",VLOOKUP(C24999,Sheet2!A:F,3,FALSE))","v":""},{"$f":"IF(OR(C24999=\"\",ISBLANK(C24999)),\"\",VLOOKUP(C24999,Sheet2!A:G,6,FALSE))","v":""},""]
[{"$f":"IF(OR(C25032=\"\",ISBLANK(C25032)),\"\",VLOOKUP(C25032,Sheet2!A:F,2,FALSE))","v":""},{"$f":"IF(OR(C25032=\"\",ISBLANK(C25032)),\"\",VLOOKUP(C25032,Sheet2!A:G,4,FALSE))","v":""},null,null,{"$f":"IF(OR(C25032=\"\",ISBLANK(C25032)),\"\",VLOOKUP(C25032,Sheet2!A:F,3,FALSE))","v":""},{"$f":"IF(OR(C25032=\"\",ISBLANK(C25032)),\"\",VLOOKUP(C25032,Sheet2!A:G,6,FALSE))","v":""},""]
[{"$f":"IF(OR(C25057=\"\",ISBLANK(C25057)),\"\",VLOOKUP(C25057,Sheet2!A:F,2,FALSE))","v":""},{"$f":"IF(OR(C25057=\"\",ISBLANK(C25057)),\"\",VLOOKUP(C25057,Sheet2!A:G,4,FALSE))","v":""},null,null,{"$f":"IF(OR(C25057=\"\",ISBLANK(C25057)),\"\",VLOOKUP(C25057,Sheet2!A:F,3,FALSE))","v":""},{"$f":"IF(OR(C25057=\"\",ISBLANK(C25057)),\"\",VLOOKUP(C25057,Sheet2!A:G,6,FALSE))","v":""},""]
[{"$f":"IF(OR(C25066=\"\",ISBLANK(C25066)),\"\",VLOOKUP(C25066,Sheet2!A:F,2,FALSE))","v":""},{"$f":"IF(OR(C25066=\"\",ISBLANK(C25066)),\"\",VLOOKUP(C25066,Sheet2!A:G,4,FALSE))","v":""},null,null,{"$f":"IF(OR(C25066=\"\",ISBLANK(C25066)),\"\",VLOOKUP(C25066,Sheet2!A:F,3,FALSE))","v":""},{"$f":"IF(OR(C25066=\"\",ISBLANK(C25066)),\"\",VLOOKUP(C25066,Sheet2!A:G,6,FALSE))","v":""},""]
[{"$f":"IF(OR(C25099=\"\",ISBLANK(C25099)),\"\",VLOOKUP(C25099,Sheet2!A:F,2,FALSE))","v":""},{"$f":"IF(OR(C25099=\"\",ISBLANK(C25099)),\"\",VLOOKUP(C25099,Sheet2!A:G,4,FALSE))","v":""},null,null,{"$f":"IF(OR(C25099=\"\",ISBLANK(C25099)),\"\",VLOOKUP(C25099,Sheet2!A:F,3,FALSE))","v":""},{"$f":"IF(OR(C25099=\"\",ISBLANK(C25099)),\"\",VLOOKUP(C25099,Sheet2!A:G,6,FALSE))","v":""},""]
[{"$f":"IF(OR(C25124=\"\",ISBLANK(C25124)),\"\",VLOOKUP(C25124,Sheet2!A:F,2,FALSE))","v":""},{"$f":"IF(OR(C25124=\"\",ISBLANK(C25124)),\"\",VLOOKUP(C25124,Sheet2!A:G,4,FALSE))","v":""},null,null,{"$f":"IF(OR(C25124=\"\",ISBLANK(C25124)),\"\",VLOOKUP(C25124,Sheet2!A:F,3,FALSE))","v":""},{"$f":"IF(OR(C25124=\"\",ISBLANK(C25124)),\"\",VLOOKUP(C25124,Sheet2!A:G,6,FALSE))","v":""},""]
[{"$f":"IF(OR(C25133=\"\",ISBLANK(C25133)),\"\",VLOOKUP(C25133,Sheet2!A:F,2,FALSE))","v":""},{"$f":"IF(OR(C25133=\"\",ISBLANK(C25133)),\"\",VLOOKUP(C25133,Sheet2!A:G,4,FALSE))","v":""},null,null,{"$f":"IF(OR(C25133=\"\",ISBLANK(C25133)),\"\",VLOOKUP(C25133,Sheet2!A:F,3,FALSE))","v":""},{"$f":"IF(OR(C25133=\"\",ISBLANK(C25133)),\"\",VLOOKUP(C25133,Sheet2!A:G,6,FALSE))","v":""},""]
[{"$f":"IF(OR(C25158=\"\",ISBLANK(C25158)),\"\",VLOOKUP(C25158,Sheet2!A:F,2,FALSE))","v":""},{"$f":"IF(OR(C25158=\"\",ISBLANK(C25158)),\"\",VLOOKUP(C25158,Sheet2!A:G,4,FALSE))","v":""},null,null,{"$f":"IF(OR(C25158=\"\",ISBLANK(C25158)),\"\",VLOOKUP(C25158,Sheet2!A:F,3,FALSE))","v":""},{"$f":"IF(OR(C25158=\"\",ISBLANK(C25158)),\"\",VLOOKUP(C25158,Sheet2!A:G,6,FALSE))","v":""},""]
[{"$f":"IF(OR(C25191=\"\",ISBLANK(C25191)),\"\",VLOOKUP(C25191,Sheet2!A:F,2,FALSE))","v":""},{"$f":"IF(OR(C25191=\"\",ISBLANK(C25191)),\"\",VLOOKUP(C25191,Sheet2!A:G,4,FALSE))","v":""},null,null,{"$f":"IF(OR(C25191=\"\",ISBLANK(C25191)),\"\",VLOOKUP(C25191,Sheet2!A:F,3,FALSE))","v":""},{"$f":"IF(OR(C25191=\"\",ISBLANK(C25191)),\"\",VLOOKUP(C25191,Sheet2!A:G,6,FALSE))","v":""},""]
[{"$f":"IF(OR(C25206=\"\",ISBLANK(C25206)),\"\",VLOOKUP(C25206,Sheet2!A:F,2,FALSE))","v":""},{"$f":"IF(OR(C25206=\"\",ISBLANK(C25206)),\"\",VLOOKUP(C25206,Sheet2!A:G,4,FALSE))","v":""},null,null,{"$f":"IF(OR(C25206=\"\",ISBLANK(C25206)),\"\",VLOOKUP(C25206,Sheet2!A:F,3,FALSE))","v":""},{"$f":"IF(OR(C25206=\"\",ISBLANK(C25206)),\"\",VLOOKUP(C25206,Sheet2!A:G,6,FALSE))","v":""},""]
[{"$f":"IF(OR(C25248=\"\",ISBLANK(C25248)),\"\",VLOOKUP(C25248,Sheet2!A:F,2,FALSE))","v":""},{"$f":"IF(OR(C25248=\"\",ISBLANK(C25248)),\"\",VLOOKUP(C25248,Sheet2!A:G,4,FALSE))","v":""},null,null,{"$f":"IF(OR(C25248=\"\",ISBLANK(C25248)),\"\",VLOOKUP(C25248,Sheet2!A:F,3,FALSE))","v":""},{"$f":"IF(OR(C25248=\"\",ISBLANK(C25248)),\"\",VLOOKUP(C25248,Sheet2!A:G,6,FALSE))","v":""},""]
[{"$f":"IF(OR(C25257=\"\",ISBLANK(C25257)),\"\",VLOOKUP(C25257,Sheet2!A:F,2,FALSE))","v":""},{"$f":"IF(OR(C25257=\"\",ISBLANK(C25257)),\"\",VLOOKUP(C25257,Sheet2!A:G,4,FALSE))","v":""},null,null,{"$f":"IF(OR(C25257=\"\",ISBLANK(C25257)),\"\",VLOOKUP(C25257,Sheet2!A:F,3,FALSE))","v":""},{"$f":"IF(OR(C25257=\"\",ISBLANK(C25257)),\"\",VLOOKUP(C25257,Sheet2!A:G,6,FALSE))","v":""},""]
[{"$f":"IF(OR(C25282=\"\",ISBLANK(C25282)),\"\",VLOOKUP(C25282,Sheet2!A:F,2,FALSE))","v":""},{"$f":"IF(OR(C25282=\"\",ISBLANK(C25282)),\"\",VLOOKUP(C25282,Sheet2!A:G,4,FALSE))","v":""},null,null,{"$f":"IF(OR(C25282=\"\",ISBLANK(C25282)),\"\",VLOOKUP(C25282,Sheet2!A:F,3,FALSE))","v":""},{"$f":"IF(OR(C25282=\"\",ISBLANK(C25282)),\"\",VLOOKUP(C25282,Sheet2!A:G,6,FALSE))","v":""},""]
[{"$f":"IF(OR(C25315=\"\",ISBLANK(C25315)),\"\",VLOOKUP(C25315,Sheet2!A:F,2,FALSE))","v":""},{"$f":"IF(OR(C25315=\"\",ISBLANK(C25315)),\"\",VLOOKUP(C25315,Sheet2!A:G,4,FALSE))","v":""},null,null,{"$f":"IF(OR(C25315=\"\",ISBLANK(C25315)),\"\",VLOOKUP(C25315,Sheet2!A:F,3,FALSE))","v":""},{"$f":"IF(OR(C25315=\"\",ISBLANK(C25315)),\"\",VLOOKUP(C25315,Sheet2!A:G,6,FALSE))","v":""},""]
[{"$f":"IF(OR(C25324=\"\",ISBLANK(C25324)),\"\",VLOOKUP(C25324,Sheet2!A:F,2,FALSE))","v":""},{"$f":"IF(OR(C25324=\"\",ISBLANK(C25324)),\"\",VLOOKUP(C25324,Sheet2!A:G,4,FALSE))","v":""},null,null,{"$f":"IF(OR(C25324=\"\",ISBLANK(C25324)),\"\",VLOOKUP(C25324,Sheet2!A:F,3,FALSE))","v":""},{"$f":"IF(OR(C25324=\"\",ISBLANK(C25324)),\"\",VLOOKUP(C25324,Sheet2!A:G,6,FALSE))","v":""},""]
[{"$f":"IF(OR(C25349=\"\",ISBLANK(C25349)),\"\",VLOOKUP(C25349,Sheet2!A:F,2,FALSE))","v":""},{"$f":"IF(OR(C25349=\"\",ISBLANK(C25349)),\"\",VLOOKUP(C25349,Sheet2!A:G,4,FALSE))","v":""},null,null,{"$f":"IF(OR(C25349=\"\",ISBLANK(C25349)),\"\",VLOOKUP(C25349,Sheet2!A:F,3,FALSE))","v":""},{"$f":"IF(OR(C25349=\"\",ISBLANK(C25349)),\"\",VLOOKUP(C25349,Sheet2!A:G,6,FALSE))","v":""},""]
[{"$f":"IF(OR(C25382=\"\",ISBLANK(C25382)),\"\",VLOOKUP(C25382,Sheet2!A:F,2,FALSE))","v":""},{"$f":"IF(OR(C25382=\"\",ISBLANK(C25382)),\"\",VLOOKUP(C25382,Sheet2!A:G,4,FALSE))","v":""},null,null,{"$f":"IF(OR(C25382=\"\",ISBLANK(C25382)),\"\",VLOOKUP(C25382,Sheet2!A:F,3,FALSE))","v":""},{"$f":"IF(OR(C25382=\"\",ISBLANK(C25382)),\"\",VLOOKUP(C25382,Sheet2!A:G,6,FALSE))","v":""},""]
[{"$f":"IF(OR(C25415=\"\",ISBLANK(C25415)),\"\",VLOOKUP(C25415,Sheet2!A:F,2,FALSE))","v":""},{"$f":"IF(OR(C25415=\"\",ISBLANK(C25415)),\"\",VLOOKUP(C25415,Sheet2!A:G,4,FALSE))","v":""},null,null,{"$f":"IF(OR(C25415=\"\",ISBLANK(C25415)),\"\",VLOOKUP(C25415,Sheet2!A:F,3,FALSE))","v":""},{"$f":"IF(OR(C25415=\"\",ISBLANK(C25415)),\"\",VLOOKUP(C25415,Sheet2!A:G,6,FALSE))","v":""},""]
[{"$f":"IF(OR(C25437=\"\",ISBLANK(C25437)),\"\",VLOOKUP(C25437,Sheet2!A:F,2,FALSE))","v":""},{"$f":"IF(OR(C25437=\"\",ISBLANK(C25437)),\"\",VLOOKUP(C25437,Sheet2!A:G,4,FALSE))","v":""},null,null,{"$f":"IF(OR(C25437=\"\",ISBLANK(C25437)),\"\",VLOOKUP(C25437,Sheet2!A:F,3,FALSE))","v":""},{"$f":"IF(OR(C25437=\"\",ISBLANK(C25437)),\"\",VLOOKUP(C25437,Sheet2!A:G,6,FALSE))","v":""},""]
[{"$f":"IF(OR(C25448=\"\",ISBLANK(C25448)),\"\",VLOOKUP(C25448,Sheet2!A:F,2,FALSE))","v":""},{"$f":"IF(OR(C25448=\"\",ISBLANK(C25448)),\"\",VLOOKUP(C25448,Sheet2!A:G,4,FALSE))","v":""},null,null,{"$f":"IF(OR(C25448=\"\",ISBLANK(C25448)),\"\",VLOOKUP(C25448,Sheet2!A:F,3,FALSE))","v":""},{"$f":"IF(OR(C25448=\"\",ISBLANK(C25448)),\"\",VLOOKUP(C25448,Sheet2!A:G,6,FALSE))","v":""},""]
[{"$f":"IF(OR(C25473=\"\",ISBLANK(C25473)),\"\",VLOOKUP(C25473,Sheet2!A:F,2,FALSE))","v":""},{"$f":"IF(OR(C25473=\"\",ISBLANK(C25473)),\"\",VLOOKUP(C25473,Sheet2!A:G,4,FALSE))","v":""},null,null,{"$f":"IF(OR(C25473=\"\",ISBLANK(C25473)),\"\",VLOOKUP(C25473,Sheet2!A:F,3,FALSE))","v":""},{"$f":"IF(OR(C25473=\"\",ISBLANK(C25473)),\"\",VLOOKUP(C25473,Sheet2!A:G,6,FALSE))","v":""},""]
[{"$f":"IF(OR(C25506=\"\",ISBLANK(C25506)),\"\",VLOOKUP(C25506,Sheet2!A:F,2,FALSE))","v":""},{"$f":"IF(OR(C25506=\"\",ISBLANK(C25506)),\"\",VLOOKUP(C25506,Sheet2!A:G,4,FALSE))","v":""},null,null,{"$f":"IF(OR(C25506=\"\",ISBLANK(C25506)),\"\",VLOOKUP(C25506,Sheet2!A:F,3,FALSE))","v":""},{"$f":"IF(OR(C25506=\"\",ISBLANK(C25506)),\"\",VLOOKUP(C25506,Sheet2!A:G,6,FALSE))","v":""},""]
[{"$f":"IF(OR(C25515=\"\",ISBLANK(C25515)),\"\",VLOOKUP(C25515,Sheet2!A:F,2,FALSE))","v":""},{"$f":"IF(OR(C25515=\"\",ISBLANK(C25515)),\"\",VLOOKUP(C25515,Sheet2!A:G,4,FALSE))","v":""},null,null,{"$f":"IF(OR(C25515=\"\",ISBLANK(C25515)),\"\",VLOOKUP(C25515,Sheet2!A:F,3,FALSE))","v":""},{"$f":"IF(OR(C25515=\"\",ISBLANK(C25515)),\"\",VLOOKUP(C25515,Sheet2!A:G,6,FALSE))","v":""},""]
[{"$f":"IF(OR(C25540=\"\",ISBLANK(C25540)),\"\",VLOOKUP(C25540,Sheet2!A:F,2,FALSE))","v":""},{"$f":"IF(OR(C25540=\"\",ISBLANK(C25540)),\"\",VLOOKUP(C25540,Sheet2!A:G,4,FALSE))","v":""},null,null,{"$f":"IF(OR(C25540=\"\",ISBLANK(C25540)),\"\",VLOOKUP(C25540,Sheet2!A:F,3,FALSE))","v":""},{"$f":"IF(OR(C25540=\"\",ISBLANK(C25540)),\"\",VLOOKUP(C25540,Sheet2!A:G,6,FALSE))","v":""},""]
[{"$f":"IF(OR(C25573=\"\",ISBLANK(C25573)),\"\",VLOOKUP(C25573,Sheet2!A:F,2,FALSE))","v":""},{"$f":"IF(OR(C25573=\"\",ISBLANK(C25573)),\"\",VLOOKUP(C25573,Sheet2!A:G,4,FALSE))","v":""},null,null,{"$f":"IF(OR(C25573=\"\",ISBLANK(C25573)),\"\",VLOOKUP(C25573,Sheet2!A:F,3,FALSE))","v":""},{"$f":"IF(OR(C25573=\"\",ISBLANK(C25573)),\"\",VLOOKUP(C25573,Sheet2!A:G,6,FALSE))","v":""},""]
[{"$f":"IF(OR(C25598=\"\",ISBLANK(C25598)),\"\",VLOOKUP(C25598,Sheet2!A:F,2,FALSE))","v":""},{"$f":"IF(OR(C25598=\"\",ISBLANK(C25598)),\"\",VLOOKUP(C25598,Sheet2!A:G,4,FALSE))","v":""},null,null,{"$f":"IF(OR(C25598=\"\",ISBLANK(C25598)),\"\",VLOOKUP(C25598,Sheet2!A:F,3,FALSE))","v":""},{"$f":"IF(OR(C25598=\"\",ISBLANK(C25598)),\"\",VLOOKUP(C25598,Sheet2!A:G,6,FALSE))","v":""},""]
[{"$f":"IF(OR(C25631=\"\",ISBLANK(C25631)),\"\",VLOOKUP(C25631,Sheet2!A:F,2,FALSE))","v":""},{"$f":"IF(OR(C25631=\"\",ISBLANK(C25631)),\"\",VLOOKUP(C25631,Sheet2!A:G,4,FALSE))","v":""},null,null,{"$f":"IF(OR(C25631=\"\",ISBLANK(C25631)),\"\",VLOOKUP(C25631,Sheet2!A:F,3,FALSE))","v":""},{"$f":"IF(OR(C25631=\"\",ISBLANK(C25631)),\"\",VLOOKUP(C25631,Sheet2!A:G,6,FALSE))","v":""},""]
[{"$f":"IF(OR(C25640=\"\",ISBLANK(C25640)),\"\",VLOOKUP(C25640,Sheet2!A:F,2,FALSE))","v":""},{"$f":"IF(OR(C25640=\"\",ISBLANK(C25640)),\"\",VLOOKUP(C25640,Sheet2!A:G,4,FALSE))","v":""},null,null,{"$f":"IF(OR(C25640=\"\",ISBLANK(C25640)),\"\",VLOOKUP(C25640,Sheet2!A:F,3,FALSE))","v":""},{"$f":"IF(OR(C25640=\"\",ISBLANK(C25640)),\"\",VLOOKUP(C25640,Sheet2!A:G,6,FALSE))","v":""},""]
[{"$f":"IF(OR(C25668=\"\",ISBLANK(C25668)),\"\",VLOOKUP(C25668,Sheet2!A:F,2,FALSE))","v":""},{"$f":"IF(OR(C25668=\"\",ISBLANK(C25668)),\"\",VLOOKUP(C25668,Sheet2!A:G,4,FALSE))","v":""},null,null,{"$f":"IF(OR(C25668=\"\",ISBLANK(C25668)),\"\",VLOOKUP(C25668,Sheet2!A:F,3,FALSE))","v":""},{"$f":"IF(OR(C25668=\"\",ISBLANK(C25668)),\"\",VLOOKUP(C25668,Sheet2!A:G,6,FALSE))","v":""},""]
[{"$f":"IF(OR(C25697=\"\",ISBLANK(C25697)),\"\",VLOOKUP(C25697,Sheet2!A:F,2,FALSE))","v":""},{"$f":"IF(OR(C25697=\"\",ISBLANK(C25697)),\"\",VLOOKUP(C25697,Sheet2!A:G,4,FALSE))","v":""},null,null,{"$f":"IF(OR(C25697=\"\",ISBLANK(C25697)),\"\",VLOOKUP(C25697,Sheet2!A:F,3,FALSE))","v":""},{"$f":"IF(OR(C25697=\"\",ISBLANK(C25697)),\"\",VLOOKUP(C25697,Sheet2!A:G,6,FALSE))","v":""},""]
[{"$f":"IF(OR(C25706=\"\",ISBLANK(C25706)),\"\",VLOOKUP(C25706,Sheet2!A:F,2,FALSE))","v":""},{"$f":"IF(OR(C25706=\"\",ISBLANK(C25706)),\"\",VLOOKUP(C25706,Sheet2!A:G,4,FALSE))","v":""},null,null,{"$f":"IF(OR(C25706=\"\",ISBLANK(C25706)),\"\",VLOOKUP(C25706,Sheet2!A:F,3,FALSE))","v":""},{"$f":"IF(OR(C25706=\"\",ISBLANK(C25706)),\"\",VLOOKUP(C25706,Sheet2!A:G,6,FALSE))","v":""},""]
[{"$f":"IF(OR(C25731=\"\",ISBLANK(C25731)),\"\",VLOOKUP(C25731,Sheet2!A:F,2,FALSE))","v":""},{"$f":"IF(OR(C25731=\"\",ISBLANK(C25731)),\"\",VLOOKUP(C25731,Sheet2!A:G,4,FALSE))","v":""},null,null,{"$f":"IF(OR(C25731=\"\",ISBLANK(C25731)),\"\",VLOOKUP(C25731,Sheet2!A:F,3,FALSE))","v":""},{"$f":"IF(OR(C25731=\"\",ISBLANK(C25731)),\"\",VLOOKUP(C25731,Sheet2!A:G,6,FALSE))","v":""},{"$f":"IF(F25731=0,\"\",F25731)","v":""}]
[{"$f":"IF(OR(C25764=\"\",ISBLANK(C25764)),\"\",VLOOKUP(C25764,Sheet2!A:F,2,FALSE))","v":""},{"$f":"IF(OR(C25764=\"\",ISBLANK(C25764)),\"\",VLOOKUP(C25764,Sheet2!A:G,4,FALSE))","v":""},null,null,{"$f":"IF(OR(C25764=\"\",ISBLANK(C25764)),\"\",VLOOKUP(C25764,Sheet2!A:F,3,FALSE))","v":""},{"$f":"IF(OR(C25764=\"\",ISBLANK(C25764)),\"\",VLOOKUP(C25764,Sheet2!A:G,6,FALSE))","v":""},""]
[{"$f":"IF(OR(C25789=\"\",ISBLANK(C25789)),\"\",VLOOKUP(C25789,Sheet2!A:F,2,FALSE))","v":""},{"$f":"IF(OR(C25789=\"\",ISBLANK(C25789)),\"\",VLOOKUP(C25789,Sheet2!A:G,4,FALSE))","v":""},null,null,{"$f":"IF(OR(C25789=\"\",ISBLANK(C25789)),\"\",VLOOKUP(C25789,Sheet2!A:F,3,FALSE))","v":""},{"$f":"IF(OR(C25789=\"\",ISBLANK(C25789)),\"\",VLOOKUP(C25789,Sheet2!A:G,6,FALSE))","v":""},""]
[{"$f":"IF(OR(C25822=\"\",ISBLANK(C25822)),\"\",VLOOKUP(C25822,Sheet2!A:F,2,FALSE))","v":""},{"$f":"IF(OR(C25822=\"\",ISBLANK(C25822)),\"\",VLOOKUP(C25822,Sheet2!A:G,4,FALSE))","v":""},null,null,{"$f":"IF(OR(C25822=\"\",ISBLANK(C25822)),\"\",VLOOKUP(C25822,Sheet2!A:F,3,FALSE))","v":""},{"$f":"IF(OR(C25822=\"\",ISBLANK(C25822)),\"\",VLOOKUP(C25822,Sheet2!A:G,6,FALSE))","v":""},""]
[{"$f":"IF(OR(C25831=\"\",ISBLANK(C25831)),\"\",VLOOKUP(C25831,Sheet2!A:F,2,FALSE))","v":""},{"$f":"IF(OR(C25831=\"\",ISBLANK(C25831)),\"\",VLOOKUP(C25831,Sheet2!A:G,4,FALSE))","v":""},null,null,{"$f":"IF(OR(C25831=\"\",ISBLANK(C25831)),\"\",VLOOKUP(C25831,Sheet2!A:F,3,FALSE))","v":""},{"$f":"IF(OR(C25831=\"\",ISBLANK(C25831)),\"\",VLOOKUP(C25831,Sheet2!A:G,6,FALSE))","v":""},""]
[{"$f":"IF(OR(C25856=\"\",ISBLANK(C25856)),\"\",VLOOKUP(C25856,Sheet2!A:F,2,FALSE))","v":""},{"$f":"IF(OR(C25856=\"\",ISBLANK(C25856)),\"\",VLOOKUP(C25856,Sheet2!A:G,4,FALSE))","v":""},null,null,{"$f":"IF(OR(C25856=\"\",ISBLANK(C25856)),\"\",VLOOKUP(C25856,Sheet2!A:F,3,FALSE))","v":""},{"$f":"IF(OR(C25856=\"\",ISBLANK(C25856)),\"\",VLOOKUP(C25856,Sheet2!A:G,6,FALSE))","v":""},""]
[{"$f":"IF(OR(C25889=\"\",ISBLANK(C25889)),\"\",VLOOKUP(C25889,Sheet2!A:F,2,FALSE))","v":""},{"$f":"IF(OR(C25889=\"\",ISBLANK(C25889)),\"\",VLOOKUP(C25889,Sheet2!A:G,4,FALSE))","v":""},null,null,{"$f":"IF(OR(C25889=\"\",ISBLANK(C25889)),\"\",VLOOKUP(C25889,Sheet2!A:F,3,FALSE))","v":""},{"$f":"IF(OR(C25889=\"\",ISBLANK(C25889)),\"\",VLOOKUP(C25889,Sheet2!A:G,6,FALSE))","v":""},""]
[{"$f":"IF(OR(C25910=\"\",ISBLANK(C25910)),\"\",VLOOKUP(C25910,Sheet2!A:F,2,FALSE))","v":""},{"$f":"IF(OR(C25910=\"\",ISBLANK(C25910)),\"\",VLOOKUP(C25910,Sheet2!A:G,4,FALSE))","v":""},null,null,{"$f":"IF(OR(C25910=\"\",ISBLANK(C25910)),\"\",VLOOKUP(C25910,Sheet2!A:F,3,FALSE))","v":""},{"$f":"IF(OR(C25910=\"\",ISBLANK(C25910)),\"\",VLOOKUP(C25910,Sheet2!A:G,6,FALSE))","v":""},""]
[{"$f":"IF(OR(C25922=\"\",ISBLANK(C25922)),\"\",VLOOKUP(C25922,Sheet2!A:F,2,FALSE))","v":""},{"$f":"IF(OR(C25922=\"\",ISBLANK(C25922)),\"\",VLOOKUP(C25922,Sheet2!A:G,4,FALSE))","v":""},null,null,{"$f":"IF(OR(C25922=\"\",ISBLANK(C25922)),\"\",VLOOKUP(C25922,Sheet2!A:F,3,FALSE))","v":""},{"$f":"IF(OR(C25922=\"\",ISBLANK(C25922)),\"\",VLOOKUP(C25922,Sheet2!A:G,6,FALSE))","v":""},""]
[{"$f":"IF(OR(C25955=\"\",ISBLANK(C25955)),\"\",VLOOKUP(C25955,Sheet2!A:F,2,FALSE))","v":""},{"$f":"IF(OR(C25955=\"\",ISBLANK(C25955)),\"\",VLOOKUP(C25955,Sheet2!A:G,4,FALSE))","v":""},null,null,{"$f":"IF(OR(C25955=\"\",ISBLANK(C25955)),\"\",VLOOKUP(C25955,Sheet2!A:F,3,FALSE))","v":""},{"$f":"IF(OR(C25955=\"\",ISBLANK(C25955)),\"\",VLOOKUP(C25955,Sheet2!A:G,6,FALSE))","v":""},""]
[{"$f":"IF(OR(C25980=\"\",ISBLANK(C25980)),\"\",VLOOKUP(C25980,Sheet2!A:F,2,FALSE))","v":""},{"$f":"IF(OR(C25980=\"\",ISBLANK(C25980)),\"\",VLOOKUP(C25980,Sheet2!A:G,4,FALSE))","v":""},null,null,{"$f":"IF(OR(C25980=\"\",ISBLANK(C25980)),\"\",VLOOKUP(C25980,Sheet2!A:F,3,FALSE))","v":""},{"$f":"IF(OR(C25980=\"\",ISBLANK(C25980)),\"\",VLOOKUP(C25980,Sheet2!A:G,6,FALSE))","v":""},""]
[{"$f":"IF(OR(C26013=\"\",ISBLANK(C26013)),\"\",VLOOKUP(C26013,Sheet2!A:F,2,FALSE))","v":""},{"$f":"IF(OR(C26013=\"\",ISBLANK(C26013)),\"\",VLOOKUP(C26013,Sheet2!A:G,4,FALSE))","v":""},null,null,{"$f":"IF(OR(C26013=\"\",ISBLANK(C26013)),\"\",VLOOKUP(C26013,Sheet2!A:F,3,FALSE))","v":""},{"$f":"IF(OR(C26013=\"\",ISBLANK(C26013)),\"\",VLOOKUP(C26013,Sheet2!A:G,6,FALSE))","v":""},""]
[{"$f":"IF(OR(C26022=\"\",ISBLANK(C26022)),\"\",VLOOKUP(C26022,Sheet2!A:F,2,FALSE))","v":""},{"$f":"IF(OR(C26022=\"\",ISBLANK(C26022)),\"\",VLOOKUP(C26022,Sheet2!A:G,4,FALSE))","v":""},null,null,{"$f":"IF(OR(C26022=\"\",ISBLANK(C26022)),\"\",VLOOKUP(C26022,Sheet2!A:F,3,FALSE))","v":""},{"$f":"IF(OR(C26022=\"\",ISBLANK(C26022)),\"\",VLOOKUP(C26022,Sheet2!A:G,6,FALSE))","v":""},""]
[{"$f":"IF(OR(C26047=\"\",ISBLANK(C26047)),\"\",VLOOKUP(C26047,Sheet2!A:F,2,FALSE))","v":""},{"$f":"IF(OR(C26047=\"\",ISBLANK(C26047)),\"\",VLOOKUP(C26047,Sheet2!A:G,4,FALSE))","v":""},null,null,{"$f":"IF(OR(C26047=\"\",ISBLANK(C26047)),\"\",VLOOKUP(C26047,Sheet2!A:F,3,FALSE))","v":""},{"$f":"IF(OR(C26047=\"\",ISBLANK(C26047)),\"\",VLOOKUP(C26047,Sheet2!A:G,6,FALSE))","v":""},""]
[{"$f":"IF(OR(C26080=\"\",ISBLANK(C26080)),\"\",VLOOKUP(C26080,Sheet2!A:F,2,FALSE))","v":""},{"$f":"IF(OR(C26080=\"\",ISBLANK(C26080)),\"\",VLOOKUP(C26080,Sheet2!A:G,4,FALSE))","v":""},null,null,{"$f":"IF(OR(C26080=\"\",ISBLANK(C26080)),\"\",VLOOKUP(C26080,Sheet2!A:F,3,FALSE))","v":""},{"$f":"IF(OR(C26080=\"\",ISBLANK(C26080)),\"\",VLOOKUP(C26080,Sheet2!A:G,6,FALSE))","v":""},""]
[{"$f":"IF(OR(C26105=\"\",ISBLANK(C26105)),\"\",VLOOKUP(C26105,Sheet2!A:F,2,FALSE))","v":""},{"$f":"IF(OR(C26105=\"\",ISBLANK(C26105)),\"\",VLOOKUP(C26105,Sheet2!A:G,4,FALSE))","v":""},null,null,{"$f":"IF(OR(C26105=\"\",ISBLANK(C26105)),\"\",VLOOKUP(C26105,Sheet2!A:F,3,FALSE))","v":""},{"$f":"IF(OR(C26105=\"\",ISBLANK(C26105)),\"\",VLOOKUP(C26105,Sheet2!A:G,6,FALSE))","v":""},""]
[{"$f":"IF(OR(C26118=\"\",ISBLANK(C26118)),\"\",VLOOKUP(C26118,Sheet2!A:F,2,FALSE))","v":""},{"$f":"IF(OR(C26118=\"\",ISBLANK(C26118)),\"\",VLOOKUP(C26118,Sheet2!A:G,4,FALSE))","v":""},null,null,{"$f":"IF(OR(C26118=\"\",ISBLANK(C26118)),\"\",VLOOKUP(C26118,Sheet2!A:F,3,FALSE))","v":""},{"$f":"IF(OR(C26118=\"\",ISBLANK(C26118)),\"\",VLOOKUP(C26118,Sheet2!A:G,6,FALSE))","v":""},""]
[{"$f":"IF(OR(C26146=\"\",ISBLANK(C26146)),\"\",VLOOKUP(C26146,Sheet2!A:F,2,FALSE))","v":""},{"$f":"IF(OR(C26146=\"\",ISBLANK(C26146)),\"\",VLOOKUP(C26146,Sheet2!A:G,4,FALSE))","v":""},null,null,{"$f":"IF(OR(C26146=\"\",ISBLANK(C26146)),\"\",VLOOKUP(C26146,Sheet2!A:F,3,FALSE))","v":""},{"$f":"IF(OR(C26146=\"\",ISBLANK(C26146)),\"\",VLOOKUP(C26146,Sheet2!A:G,6,FALSE))","v":""},""]
[{"$f":"IF(OR(C26171=\"\",ISBLANK(C26171)),\"\",VLOOKUP(C26171,Sheet2!A:F,2,FALSE))","v":""},{"$f":"IF(OR(C26171=\"\",ISBLANK(C26171)),\"\",VLOOKUP(C26171,Sheet2!A:G,4,FALSE))","v":""},null,null,{"$f":"IF(OR(C26171=\"\",ISBLANK(C26171)),\"\",VLOOKUP(C26171,Sheet2!A:F,3,FALSE))","v":""},{"$f":"IF(OR(C26171=\"\",ISBLANK(C26171)),\"\",VLOOKUP(C26171,Sheet2!A:G,6,FALSE))","v":""},""]
[{"$f":"IF(OR(C26204=\"\",ISBLANK(C26204)),\"\",VLOOKUP(C26204,Sheet2!A:F,2,FALSE))","v":""},{"$f":"IF(OR(C26204=\"\",ISBLANK(C26204)),\"\",VLOOKUP(C26204,Sheet2!A:G,4,FALSE))","v":""},null,null,{"$f":"IF(OR(C26204=\"\",ISBLANK(C26204)),\"\",VLOOKUP(C26204,Sheet2!A:F,3,FALSE))","v":""},{"$f":"IF(OR(C26204=\"\",ISBLANK(C26204)),\"\",VLOOKUP(C26204,Sheet2!A:G,6,FALSE))","v":""},""]
[{"$f":"IF(OR(C26213=\"\",ISBLANK(C26213)),\"\",VLOOKUP(C26213,Sheet2!A:F,2,FALSE))","v":""},{"$f":"IF(OR(C26213=\"\",ISBLANK(C26213)),\"\",VLOOKUP(C26213,Sheet2!A:G,4,FALSE))","v":""},null,null,{"$f":"IF(OR(C26213=\"\",ISBLANK(C26213)),\"\",VLOOKUP(C26213,Sheet2!A:F,3,FALSE))","v":""},{"$f":"IF(OR(C26213=\"\",ISBLANK(C26213)),\"\",VLOOKUP(C26213,Sheet2!A:G,6,FALSE))","v":""},""]
[{"$f":"IF(OR(C26238=\"\",ISBLANK(C26238)),\"\",VLOOKUP(C26238,Sheet2!A:F,2,FALSE))","v":""},{"$f":"IF(OR(C26238=\"\",ISBLANK(C26238)),\"\",VLOOKUP(C26238,Sheet2!A:G,4,FALSE))","v":""},null,null,{"$f":"IF(OR(C26238=\"\",ISBLANK(C26238)),\"\",VLOOKUP(C26238,Sheet2!A:F,3,FALSE))","v":""},{"$f":"IF(OR(C26238=\"\",ISBLANK(C26238)),\"\",VLOOKUP(C26238,Sheet2!A:G,6,FALSE))","v":""},""]
[{"$f":"IF(OR(C26271=\"\",ISBLANK(C26271)),\"\",VLOOKUP(C26271,Sheet2!A:F,2,FALSE))","v":""},{"$f":"IF(OR(C26271=\"\",ISBLANK(C26271)),\"\",VLOOKUP(C26271,Sheet2!A:G,4,FALSE))","v":""},null,null,{"$f":"IF(OR(C26271=\"\",ISBLANK(C26271)),\"\",VLOOKUP(C26271,Sheet2!A:F,3,FALSE))","v":""},{"$f":"IF(OR(C26271=\"\",ISBLANK(C26271)),\"\",VLOOKUP(C26271,Sheet2!A:G,6,FALSE))","v":""},""]
[{"$f":"IF(OR(C26296=\"\",ISBLANK(C26296)),\"\",VLOOKUP(C26296,Sheet2!A:F,2,FALSE))","v":""},{"$f":"IF(OR(C26296=\"\",ISBLANK(C26296)),\"\",VLOOKUP(C26296,Sheet2!A:G,4,FALSE))","v":""},null,null,{"$f":"IF(OR(C26296=\"\",ISBLANK(C26296)),\"\",VLOOKUP(C26296,Sheet2!A:F,3,FALSE))","v":""},{"$f":"IF(OR(C26296=\"\",ISBLANK(C26296)),\"\",VLOOKUP(C26296,Sheet2!A:G,6,FALSE))","v":""},""]
[{"$f":"IF(OR(C26305=\"\",ISBLANK(C26305)),\"\",VLOOKUP(C26305,Sheet2!A:F,2,FALSE))","v":""},{"$f":"IF(OR(C26305=\"\",ISBLANK(C26305)),\"\",VLOOKUP(C26305,Sheet2!A:G,4,FALSE))","v":""},null,null,{"$f":"IF(OR(C26305=\"\",ISBLANK(C26305)),\"\",VLOOKUP(C26305,Sheet2!A:F,3,FALSE))","v":""},{"$f":"IF(OR(C26305=\"\",ISBLANK(C26305)),\"\",VLOOKUP(C26305,Sheet2!A:G,6,FALSE))","v":""},""]
[{"$f":"IF(OR(C26338=\"\",ISBLANK(C26338)),\"\",VLOOKUP(C26338,Sheet2!A:F,2,FALSE))","v":""},{"$f":"IF(OR(C26338=\"\",ISBLANK(C26338)),\"\",VLOOKUP(C26338,Sheet2!A:G,4,FALSE))","v":""},null,null,{"$f":"IF(OR(C26338=\"\",ISBLANK(C26338)),\"\",VLOOKUP(C26338,Sheet2!A:F,3,FALSE))","v":""},{"$f":"IF(OR(C26338=\"\",ISBLANK(C26338)),\"\",VLOOKUP(C26338,Sheet2!A:G,6,FALSE))","v":""},""]
[{"$f":"IF(OR(C26372=\"\",ISBLANK(C26372)),\"\",VLOOKUP(C26372,Sheet2!A:F,2,FALSE))","v":""},{"$f":"IF(OR(C26372=\"\",ISBLANK(C26372)),\"\",VLOOKUP(C26372,Sheet2!A:G,4,FALSE))","v":""},null,null,{"$f":"IF(OR(C26372=\"\",ISBLANK(C26372)),\"\",VLOOKUP(C26372,Sheet2!A:F,3,FALSE))","v":""},{"$f":"IF(OR(C26372=\"\",ISBLANK(C26372)),\"\",VLOOKUP(C26372,Sheet2!A:G,6,FALSE))","v":""},""]
[{"$f":"IF(OR(C26395=\"\",ISBLANK(C26395)),\"\",VLOOKUP(C26395,Sheet2!A:F,2,FALSE))","v":""},{"$f":"IF(OR(C26395=\"\",ISBLANK(C26395)),\"\",VLOOKUP(C26395,Sheet2!A:G,4,FALSE))","v":""},null,null,{"$f":"IF(OR(C26395=\"\",ISBLANK(C26395)),\"\",VLOOKUP(C26395,Sheet2!A:F,3,FALSE))","v":""},{"$f":"IF(OR(C26395=\"\",ISBLANK(C26395)),\"\",VLOOKUP(C26395,Sheet2!A:G,6,FALSE))","v":""},""]
[{"$f":"IF(OR(C26404=\"\",ISBLANK(C26404)),\"\",VLOOKUP(C26404,Sheet2!A:F,2,FALSE))","v":""},{"$f":"IF(OR(C26404=\"\",ISBLANK(C26404)),\"\",VLOOKUP(C26404,Sheet2!A:G,4,FALSE))","v":""},null,null,{"$f":"IF(OR(C26404=\"\",ISBLANK(C26404)),\"\",VLOOKUP(C26404,Sheet2!A:F,3,FALSE))","v":""},{"$f":"IF(OR(C26404=\"\",ISBLANK(C26404)),\"\",VLOOKUP(C26404,Sheet2!A:G,6,FALSE))","v":""},""]
[{"$f":"IF(OR(C26429=\"\",ISBLANK(C26429)),\"\",VLOOKUP(C26429,Sheet2!A:F,2,FALSE))","v":""},{"$f":"IF(OR(C26429=\"\",ISBLANK(C26429)),\"\",VLOOKUP(C26429,Sheet2!A:G,4,FALSE))","v":""},null,null,{"$f":"IF(OR(C26429=\"\",ISBLANK(C26429)),\"\",VLOOKUP(C26429,Sheet2!A:F,3,FALSE))","v":""},{"$f":"IF(OR(C26429=\"\",ISBLANK(C26429)),\"\",VLOOKUP(C26429,Sheet2!A:G,6,FALSE))","v":""},""]
[{"$f":"IF(OR(C26462=\"\",ISBLANK(C26462)),\"\",VLOOKUP(C26462,Sheet2!A:F,2,FALSE))","v":""},{"$f":"IF(OR(C26462=\"\",ISBLANK(C26462)),\"\",VLOOKUP(C26462,Sheet2!A:G,4,FALSE))","v":""},null,null,{"$f":"IF(OR(C26462=\"\",ISBLANK(C26462)),\"\",VLOOKUP(C26462,Sheet2!A:F,3,FALSE))","v":""},{"$f":"IF(OR(C26462=\"\",ISBLANK(C26462)),\"\",VLOOKUP(C26462,Sheet2!A:G,6,FALSE))","v":""},""]
[{"$f":"IF(OR(C26487=\"\",ISBLANK(C26487)),\"\",VLOOKUP(C26487,Sheet2!A:F,2,FALSE))","v":""},{"$f":"IF(OR(C26487=\"\",ISBLANK(C26487)),\"\",VLOOKUP(C26487,Sheet2!A:G,4,FALSE))","v":""},null,null,{"$f":"IF(OR(C26487=\"\",ISBLANK(C26487)),\"\",VLOOKUP(C26487,Sheet2!A:F,3,FALSE))","v":""},{"$f":"IF(OR(C26487=\"\",ISBLANK(C26487)),\"\",VLOOKUP(C26487,Sheet2!A:G,6,FALSE))","v":""},""]
[{"$f":"IF(OR(C26496=\"\",ISBLANK(C26496)),\"\",VLOOKUP(C26496,Sheet2!A:F,2,FALSE))","v":""},{"$f":"IF(OR(C26496=\"\",ISBLANK(C26496)),\"\",VLOOKUP(C26496,Sheet2!A:G,4,FALSE))","v":""},null,null,{"$f":"IF(OR(C26496=\"\",ISBLANK(C26496)),\"\",VLOOKUP(C26496,Sheet2!A:F,3,FALSE))","v":""},{"$f":"IF(OR(C26496=\"\",ISBLANK(C26496)),\"\",VLOOKUP(C26496,Sheet2!A:G,6,FALSE))","v":""},""]
[{"$f":"IF(OR(C26529=\"\",ISBLANK(C26529)),\"\",VLOOKUP(C26529,Sheet2!A:F,2,FALSE))","v":""},{"$f":"IF(OR(C26529=\"\",ISBLANK(C26529)),\"\",VLOOKUP(C26529,Sheet2!A:G,4,FALSE))","v":""},null,null,{"$f":"IF(OR(C26529=\"\",ISBLANK(C26529)),\"\",VLOOKUP(C26529,Sheet2!A:F,3,FALSE))","v":""},{"$f":"IF(OR(C26529=\"\",ISBLANK(C26529)),\"\",VLOOKUP(C26529,Sheet2!A:G,6,FALSE))","v":""},""]
[{"$f":"IF(OR(C26554=\"\",ISBLANK(C26554)),\"\",VLOOKUP(C26554,Sheet2!A:F,2,FALSE))","v":""},{"$f":"IF(OR(C26554=\"\",ISBLANK(C26554)),\"\",VLOOKUP(C26554,Sheet2!A:G,4,FALSE))","v":""},null,null,{"$f":"IF(OR(C26554=\"\",ISBLANK(C26554)),\"\",VLOOKUP(C26554,Sheet2!A:F,3,FALSE))","v":""},{"$f":"IF(OR(C26554=\"\",ISBLANK(C26554)),\"\",VLOOKUP(C26554,Sheet2!A:G,6,FALSE))","v":""},""]
[{"$f":"IF(OR(C26568=\"\",ISBLANK(C26568)),\"\",VLOOKUP(C26568,Sheet2!A:F,2,FALSE))","v":""},{"$f":"IF(OR(C26568=\"\",ISBLANK(C26568)),\"\",VLOOKUP(C26568,Sheet2!A:G,4,FALSE))","v":""},null,null,{"$f":"IF(OR(C26568=\"\",ISBLANK(C26568)),\"\",VLOOKUP(C26568,Sheet2!A:F,3,FALSE))","v":""},{"$f":"IF(OR(C26568=\"\",ISBLANK(C26568)),\"\",VLOOKUP(C26568,Sheet2!A:G,6,FALSE))","v":""},""]
[{"$f":"IF(OR(C26611=\"\",ISBLANK(C26611)),\"\",VLOOKUP(C26611,Sheet2!A:F,2,FALSE))","v":""},{"$f":"IF(OR(C26611=\"\",ISBLANK(C26611)),\"\",VLOOKUP(C26611,Sheet2!A:G,4,FALSE))","v":""},null,null,{"$f":"IF(OR(C26611=\"\",ISBLANK(C26611)),\"\",VLOOKUP(C26611,Sheet2!A:F,3,FALSE))","v":""},{"$f":"IF(OR(C26611=\"\",ISBLANK(C26611)),\"\",VLOOKUP(C26611,Sheet2!A:G,6,FALSE))","v":""},""]
[{"$f":"IF(OR(C26620=\"\",ISBLANK(C26620)),\"\",VLOOKUP(C26620,Sheet2!A:F,2,FALSE))","v":""},{"$f":"IF(OR(C26620=\"\",ISBLANK(C26620)),\"\",VLOOKUP(C26620,Sheet2!A:G,4,FALSE))","v":""},null,null,{"$f":"IF(OR(C26620=\"\",ISBLANK(C26620)),\"\",VLOOKUP(C26620,Sheet2!A:F,3,FALSE))","v":""},{"$f":"IF(OR(C26620=\"\",ISBLANK(C26620)),\"\",VLOOKUP(C26620,Sheet2!A:G,6,FALSE))","v":""},""]
[{"$f":"IF(OR(C26653=\"\",ISBLANK(C26653)),\"\",VLOOKUP(C26653,Sheet2!A:F,2,FALSE))","v":""},{"$f":"IF(OR(C26653=\"\",ISBLANK(C26653)),\"\",VLOOKUP(C26653,Sheet2!A:G,4,FALSE))","v":""},null,null,{"$f":"IF(OR(C26653=\"\",ISBLANK(C26653)),\"\",VLOOKUP(C26653,Sheet2!A:F,3,FALSE))","v":""},{"$f":"IF(OR(C26653=\"\",ISBLANK(C26653)),\"\",VLOOKUP(C26653,Sheet2!A:G,6,FALSE))","v":""},""]
[{"$f":"IF(OR(C26678=\"\",ISBLANK(C26678)),\"\",VLOOKUP(C26678,Sheet2!A:F,2,FALSE))","v":""},{"$f":"IF(OR(C26678=\"\",ISBLANK(C26678)),\"\",VLOOKUP(C26678,Sheet2!A:G,4,FALSE))","v":""},null,null,{"$f":"IF(OR(C26678=\"\",ISBLANK(C26678)),\"\",VLOOKUP(C26678,Sheet2!A:F,3,FALSE))","v":""},{"$f":"IF(OR(C26678=\"\",ISBLANK(C26678)),\"\",VLOOKUP(C26678,Sheet2!A:G,6,FALSE))","v":""},""]
[{"$f":"IF(OR(C26687=\"\",ISBLANK(C26687)),\"\",VLOOKUP(C26687,Sheet2!A:F,2,FALSE))","v":""},{"$f":"IF(OR(C26687=\"\",ISBLANK(C26687)),\"\",VLOOKUP(C26687,Sheet2!A:G,4,FALSE))","v":""},null,null,{"$f":"IF(OR(C26687=\"\",ISBLANK(C26687)),\"\",VLOOKUP(C26687,Sheet2!A:F,3,FALSE))","v":""},{"$f":"IF(OR(C26687=\"\",ISBLANK(C26687)),\"\",VLOOKUP(C26687,Sheet2!A:G,6,FALSE))","v":""},""]
[{"$f":"IF(OR(C26720=\"\",ISBLANK(C26720)),\"\",VLOOKUP(C26720,Sheet2!A:F,2,FALSE))","v":""},{"$f":"IF(OR(C26720=\"\",ISBLANK(C26720)),\"\",VLOOKUP(C26720,Sheet2!A:G,4,FALSE))","v":""},null,null,{"$f":"IF(OR(C26720=\"\",ISBLANK(C26720)),\"\",VLOOKUP(C26720,Sheet2!A:F,3,FALSE))","v":""},{"$f":"IF(OR(C26720=\"\",ISBLANK(C26720)),\"\",VLOOKUP(C26720,Sheet2!A:G,6,FALSE))","v":""},""]
[{"$f":"IF(OR(C26745=\"\",ISBLANK(C26745)),\"\",VLOOKUP(C26745,Sheet2!A:F,2,FALSE))","v":""},{"$f":"IF(OR(C26745=\"\",ISBLANK(C26745)),\"\",VLOOKUP(C26745,Sheet2!A:G,4,FALSE))","v":""},null,null,{"$f":"IF(OR(C26745=\"\",ISBLANK(C26745)),\"\",VLOOKUP(C26745,Sheet2!A:F,3,FALSE))","v":""},{"$f":"IF(OR(C26745=\"\",ISBLANK(C26745)),\"\",VLOOKUP(C26745,Sheet2!A:G,6,FALSE))","v":""},""]
[{"$f":"IF(OR(C26778=\"\",ISBLANK(C26778)),\"\",VLOOKUP(C26778,Sheet2!A:F,2,FALSE))","v":""},{"$f":"IF(OR(C26778=\"\",ISBLANK(C26778)),\"\",VLOOKUP(C26778,Sheet2!A:G,4,FALSE))","v":""},null,null,{"$f":"IF(OR(C26778=\"\",ISBLANK(C26778)),\"\",VLOOKUP(C26778,Sheet2!A:F,3,FALSE))","v":""},{"$f":"IF(OR(C26778=\"\",ISBLANK(C26778)),\"\",VLOOKUP(C26778,Sheet2!A:G,6,FALSE))","v":""},""]
[{"$f":"IF(OR(C26803=\"\",ISBLANK(C26803)),\"\",VLOOKUP(C26803,Sheet2!A:F,2,FALSE))","v":""},{"$f":"IF(OR(C26803=\"\",ISBLANK(C26803)),\"\",VLOOKUP(C26803,Sheet2!A:G,4,FALSE))","v":""},null,null,{"$f":"IF(OR(C26803=\"\",ISBLANK(C26803)),\"\",VLOOKUP(C26803,Sheet2!A:F,3,FALSE))","v":""},{"$f":"IF(OR(C26803=\"\",ISBLANK(C26803)),\"\",VLOOKUP(C26803,Sheet2!A:G,6,FALSE))","v":""},""]
[{"$f":"IF(OR(C26822=\"\",ISBLANK(C26822)),\"\",VLOOKUP(C26822,Sheet2!A:F,2,FALSE))","v":""},{"$f":"IF(OR(C26822=\"\",ISBLANK(C26822)),\"\",VLOOKUP(C26822,Sheet2!A:G,4,FALSE))","v":""},null,null,{"$f":"IF(OR(C26822=\"\",ISBLANK(C26822)),\"\",VLOOKUP(C26822,Sheet2!A:F,3,FALSE))","v":""},{"$f":"IF(OR(C26822=\"\",ISBLANK(C26822)),\"\",VLOOKUP(C26822,Sheet2!A:G,6,FALSE))","v":""},""]
[{"$f":"IF(OR(C26844=\"\",ISBLANK(C26844)),\"\",VLOOKUP(C26844,Sheet2!A:F,2,FALSE))","v":""},{"$f":"IF(OR(C26844=\"\",ISBLANK(C26844)),\"\",VLOOKUP(C26844,Sheet2!A:G,4,FALSE))","v":""},null,null,{"$f":"IF(OR(C26844=\"\",ISBLANK(C26844)),\"\",VLOOKUP(C26844,Sheet2!A:F,3,FALSE))","v":""},{"$f":"IF(OR(C26844=\"\",ISBLANK(C26844)),\"\",VLOOKUP(C26844,Sheet2!A:G,6,FALSE))","v":""},""]
[{"$f":"IF(OR(C26869=\"\",ISBLANK(C26869)),\"\",VLOOKUP(C26869,Sheet2!A:F,2,FALSE))","v":""},{"$f":"IF(OR(C26869=\"\",ISBLANK(C26869)),\"\",VLOOKUP(C26869,Sheet2!A:G,4,FALSE))","v":""},null,null,{"$f":"IF(OR(C26869=\"\",ISBLANK(C26869)),\"\",VLOOKUP(C26869,Sheet2!A:F,3,FALSE))","v":""},{"$f":"IF(OR(C26869=\"\",ISBLANK(C26869)),\"\",VLOOKUP(C26869,Sheet2!A:G,6,FALSE))","v":""},""]
[{"$f":"IF(OR(C26878=\"\",ISBLANK(C26878)),\"\",VLOOKUP(C26878,Sheet2!A:F,2,FALSE))","v":""},{"$f":"IF(OR(C26878=\"\",ISBLANK(C26878)),\"\",VLOOKUP(C26878,Sheet2!A:G,4,FALSE))","v":""},null,null,{"$f":"IF(OR(C26878=\"\",ISBLANK(C26878)),\"\",VLOOKUP(C26878,Sheet2!A:F,3,FALSE))","v":""},{"$f":"IF(OR(C26878=\"\",ISBLANK(C26878)),\"\",VLOOKUP(C26878,Sheet2!A:G,6,FALSE))","v":""},""]
[{"$f":"IF(OR(C26903=\"\",ISBLANK(C26903)),\"\",VLOOKUP(C26903,Sheet2!A:F,2,FALSE))","v":""},{"$f":"IF(OR(C26903=\"\",ISBLANK(C26903)),\"\",VLOOKUP(C26903,Sheet2!A:G,4,FALSE))","v":""},null,null,{"$f":"IF(OR(C26903=\"\",ISBLANK(C26903)),\"\",VLOOKUP(C26903,Sheet2!A:F,3,FALSE))","v":""},{"$f":"IF(OR(C26903=\"\",ISBLANK(C26903)),\"\",VLOOKUP(C26903,Sheet2!A:G,6,FALSE))","v":""},""]
[{"$f":"IF(OR(C26936=\"\",ISBLANK(C26936)),\"\",VLOOKUP(C26936,Sheet2!A:F,2,FALSE))","v":""},{"$f":"IF(OR(C26936=\"\",ISBLANK(C26936)),\"\",VLOOKUP(C26936,Sheet2!A:G,4,FALSE))","v":""},null,null,{"$f":"IF(OR(C26936=\"\",ISBLANK(C26936)),\"\",VLOOKUP(C26936,Sheet2!A:F,3,FALSE))","v":""},{"$f":"IF(OR(C26936=\"\",ISBLANK(C26936)),\"\",VLOOKUP(C26936,Sheet2!A:G,6,FALSE))","v":""},""]
[{"$f":"IF(OR(C26969=\"\",ISBLANK(C26969)),\"\",VLOOKUP(C26969,Sheet2!A:F,2,FALSE))","v":""},{"$f":"IF(OR(C26969=\"\",ISBLANK(C26969)),\"\",VLOOKUP(C26969,Sheet2!A:G,4,FALSE))","v":""},null,null,{"$f":"IF(OR(C26969=\"\",ISBLANK(C26969)),\"\",VLOOKUP(C26969,Sheet2!A:F,3,FALSE))","v":""},{"$f":"IF(OR(C26969=\"\",ISBLANK(C26969)),\"\",VLOOKUP(C26969,Sheet2!A:G,6,FALSE))","v":""},""]
[{"$f":"IF(OR(C26994=\"\",ISBLANK(C26994)),\"\",VLOOKUP(C26994,Sheet2!A:F,2,FALSE))","v":""},{"$f":"IF(OR(C26994=\"\",ISBLANK(C26994)),\"\",VLOOKUP(C26994,Sheet2!A:G,4,FALSE))","v":""},null,null,{"$f":"IF(OR(C26994=\"\",ISBLANK(C26994)),\"\",VLOOKUP(C26994,Sheet2!A:F,3,FALSE))","v":""},{"$f":"IF(OR(C26994=\"\",ISBLANK(C26994)),\"\",VLOOKUP(C26994,Sheet2!A:G,6,FALSE))","v":""},""]
[{"$f":"IF(OR(C27003=\"\",ISBLANK(C27003)),\"\",VLOOKUP(C27003,Sheet2!A:F,2,FALSE))","v":""},{"$f":"IF(OR(C27003=\"\",ISBLANK(C27003)),\"\",VLOOKUP(C27003,Sheet2!A:G,4,FALSE))","v":""},null,null,{"$f":"IF(OR(C27003=\"\",ISBLANK(C27003)),\"\",VLOOKUP(C27003,Sheet2!A:F,3,FALSE))","v":""},{"$f":"IF(OR(C27003=\"\",ISBLANK(C27003)),\"\",VLOOKUP(C27003,Sheet2!A:G,6,FALSE))","v":""},""]
[{"$f":"IF(OR(C27036=\"\",ISBLANK(C27036)),\"\",VLOOKUP(C27036,Sheet2!A:F,2,FALSE))","v":""},{"$f":"IF(OR(C27036=\"\",ISBLANK(C27036)),\"\",VLOOKUP(C27036,Sheet2!A:G,4,FALSE))","v":""},null,null,{"$f":"IF(OR(C27036=\"\",ISBLANK(C27036)),\"\",VLOOKUP(C27036,Sheet2!A:F,3,FALSE))","v":""},{"$f":"IF(OR(C27036=\"\",ISBLANK(C27036)),\"\",VLOOKUP(C27036,Sheet2!A:G,6,FALSE))","v":""},""]
[{"$f":"IF(OR(C27053=\"\",ISBLANK(C27053)),\"\",VLOOKUP(C27053,Sheet2!A:F,2,FALSE))","v":""},{"$f":"IF(OR(C27053=\"\",ISBLANK(C27053)),\"\",VLOOKUP(C27053,Sheet2!A:G,4,FALSE))","v":""},null,null,{"$f":"IF(OR(C27053=\"\",ISBLANK(C27053)),\"\",VLOOKUP(C27053,Sheet2!A:F,3,FALSE))","v":""},{"$f":"IF(OR(C27053=\"\",ISBLANK(C27053)),\"\",VLOOKUP(C27053,Sheet2!A:G,6,FALSE))","v":""},""]
[{"$f":"IF(OR(C27069=\"\",ISBLANK(C27069)),\"\",VLOOKUP(C27069,Sheet2!A:F,2,FALSE))","v":""},{"$f":"IF(OR(C27069=\"\",ISBLANK(C27069)),\"\",VLOOKUP(C27069,Sheet2!A:G,4,FALSE))","v":""},null,null,{"$f":"IF(OR(C27069=\"\",ISBLANK(C27069)),\"\",VLOOKUP(C27069,Sheet2!A:F,3,FALSE))","v":""},{"$f":"IF(OR(C27069=\"\",ISBLANK(C27069)),\"\",VLOOKUP(C27069,Sheet2!A:G,6,FALSE))","v":""},""]
[{"$f":"IF(OR(C27094=\"\",ISBLANK(C27094)),\"\",VLOOKUP(C27094,Sheet2!A:F,2,FALSE))","v":""},{"$f":"IF(OR(C27094=\"\",ISBLANK(C27094)),\"\",VLOOKUP(C27094,Sheet2!A:G,4,FALSE))","v":""},null,null,{"$f":"IF(OR(C27094=\"\",ISBLANK(C27094)),\"\",VLOOKUP(C27094,Sheet2!A:F,3,FALSE))","v":""},{"$f":"IF(OR(C27094=\"\",ISBLANK(C27094)),\"\",VLOOKUP(C27094,Sheet2!A:G,6,FALSE))","v":""},""]
[{"$f":"IF(OR(C27127=\"\",ISBLANK(C27127)),\"\",VLOOKUP(C27127,Sheet2!A:F,2,FALSE))","v":""},{"$f":"IF(OR(C27127=\"\",ISBLANK(C27127)),\"\",VLOOKUP(C27127,Sheet2!A:G,4,FALSE))","v":""},null,null,{"$f":"IF(OR(C27127=\"\",ISBLANK(C27127)),\"\",VLOOKUP(C27127,Sheet2!A:F,3,FALSE))","v":""},{"$f":"IF(OR(C27127=\"\",ISBLANK(C27127)),\"\",VLOOKUP(C27127,Sheet2!A:G,6,FALSE))","v":""},""]
[{"$f":"IF(OR(C27160=\"\",ISBLANK(C27160)),\"\",VLOOKUP(C27160,Sheet2!A:F,2,FALSE))","v":""},{"$f":"IF(OR(C27160=\"\",ISBLANK(C27160)),\"\",VLOOKUP(C27160,Sheet2!A:G,4,FALSE))","v":""},null,null,{"$f":"IF(OR(C27160=\"\",ISBLANK(C27160)),\"\",VLOOKUP(C27160,Sheet2!A:F,3,FALSE))","v":""},{"$f":"IF(OR(C27160=\"\",ISBLANK(C27160)),\"\",VLOOKUP(C27160,Sheet2!A:G,6,FALSE))","v":""},""]
[{"$f":"IF(OR(C27185=\"\",ISBLANK(C27185)),\"\",VLOOKUP(C27185,Sheet2!A:F,2,FALSE))","v":""},{"$f":"IF(OR(C27185=\"\",ISBLANK(C27185)),\"\",VLOOKUP(C27185,Sheet2!A:G,4,FALSE))","v":""},null,null,{"$f":"IF(OR(C27185=\"\",ISBLANK(C27185)),\"\",VLOOKUP(C27185,Sheet2!A:F,3,FALSE))","v":""},{"$f":"IF(OR(C27185=\"\",ISBLANK(C27185)),\"\",VLOOKUP(C27185,Sheet2!A:G,6,FALSE))","v":""},""]
[{"$f":"IF(OR(C27194=\"\",ISBLANK(C27194)),\"\",VLOOKUP(C27194,Sheet2!A:F,2,FALSE))","v":""},{"$f":"IF(OR(C27194=\"\",ISBLANK(C27194)),\"\",VLOOKUP(C27194,Sheet2!A:G,4,FALSE))","v":""},null,null,{"$f":"IF(OR(C27194=\"\",ISBLANK(C27194)),\"\",VLOOKUP(C27194,Sheet2!A:F,3,FALSE))","v":""},{"$f":"IF(OR(C27194=\"\",ISBLANK(C27194)),\"\",VLOOKUP(C27194,Sheet2!A:G,6,FALSE))","v":""},""]
[{"$f":"IF(OR(C27227=\"\",ISBLANK(C27227)),\"\",VLOOKUP(C27227,Sheet2!A:F,2,FALSE))","v":""},{"$f":"IF(OR(C27227=\"\",ISBLANK(C27227)),\"\",VLOOKUP(C27227,Sheet2!A:G,4,FALSE))","v":""},null,null,{"$f":"IF(OR(C27227=\"\",ISBLANK(C27227)),\"\",VLOOKUP(C27227,Sheet2!A:F,3,FALSE))","v":""},{"$f":"IF(OR(C27227=\"\",ISBLANK(C27227)),\"\",VLOOKUP(C27227,Sheet2!A:G,6,FALSE))","v":""},""]
[{"$f":"IF(OR(C27252=\"\",ISBLANK(C27252)),\"\",VLOOKUP(C27252,Sheet2!A:F,2,FALSE))","v":""},{"$f":"IF(OR(C27252=\"\",ISBLANK(C27252)),\"\",VLOOKUP(C27252,Sheet2!A:G,4,FALSE))","v":""},null,null,{"$f":"IF(OR(C27252=\"\",ISBLANK(C27252)),\"\",VLOOKUP(C27252,Sheet2!A:F,3,FALSE))","v":""},{"$f":"IF(OR(C27252=\"\",ISBLANK(C27252)),\"\",VLOOKUP(C27252,Sheet2!A:G,6,FALSE))","v":""},""]
[{"$f":"IF(OR(C27272=\"\",ISBLANK(C27272)),\"\",VLOOKUP(C27272,Sheet2!A:F,2,FALSE))","v":""},{"$f":"IF(OR(C27272=\"\",ISBLANK(C27272)),\"\",VLOOKUP(C27272,Sheet2!A:G,4,FALSE))","v":""},null,null,{"$f":"IF(OR(C27272=\"\",ISBLANK(C27272)),\"\",VLOOKUP(C27272,Sheet2!A:F,3,FALSE))","v":""},{"$f":"IF(OR(C27272=\"\",ISBLANK(C27272)),\"\",VLOOKUP(C27272,Sheet2!A:G,6,FALSE))","v":""},""]
[{"$f":"IF(OR(C27285=\"\",ISBLANK(C27285)),\"\",VLOOKUP(C27285,Sheet2!A:F,2,FALSE))","v":""},{"$f":"IF(OR(C27285=\"\",ISBLANK(C27285)),\"\",VLOOKUP(C27285,Sheet2!A:G,4,FALSE))","v":""},null,null,{"$f":"IF(OR(C27285=\"\",ISBLANK(C27285)),\"\",VLOOKUP(C27285,Sheet2!A:F,3,FALSE))","v":""},{"$f":"IF(OR(C27285=\"\",ISBLANK(C27285)),\"\",VLOOKUP(C27285,Sheet2!A:G,6,FALSE))","v":""},""]
[{"$f":"IF(OR(C27318=\"\",ISBLANK(C27318)),\"\",VLOOKUP(C27318,Sheet2!A:F,2,FALSE))","v":""},{"$f":"IF(OR(C27318=\"\",ISBLANK(C27318)),\"\",VLOOKUP(C27318,Sheet2!A:G,4,FALSE))","v":""},null,null,{"$f":"IF(OR(C27318=\"\",ISBLANK(C27318)),\"\",VLOOKUP(C27318,Sheet2!A:F,3,FALSE))","v":""},{"$f":"IF(OR(C27318=\"\",ISBLANK(C27318)),\"\",VLOOKUP(C27318,Sheet2!A:G,6,FALSE))","v":""},""]
[{"$f":"IF(OR(C27351=\"\",ISBLANK(C27351)),\"\",VLOOKUP(C27351,Sheet2!A:F,2,FALSE))","v":""},{"$f":"IF(OR(C27351=\"\",ISBLANK(C27351)),\"\",VLOOKUP(C27351,Sheet2!A:G,4,FALSE))","v":""},null,null,{"$f":"IF(OR(C27351=\"\",ISBLANK(C27351)),\"\",VLOOKUP(C27351,Sheet2!A:F,3,FALSE))","v":""},{"$f":"IF(OR(C27351=\"\",ISBLANK(C27351)),\"\",VLOOKUP(C27351,Sheet2!A:G,6,FALSE))","v":""},""]
[{"$f":"IF(OR(C27376=\"\",ISBLANK(C27376)),\"\",VLOOKUP(C27376,Sheet2!A:F,2,FALSE))","v":""},{"$f":"IF(OR(C27376=\"\",ISBLANK(C27376)),\"\",VLOOKUP(C27376,Sheet2!A:G,4,FALSE))","v":""},null,null,{"$f":"IF(OR(C27376=\"\",ISBLANK(C27376)),\"\",VLOOKUP(C27376,Sheet2!A:F,3,FALSE))","v":""},{"$f":"IF(OR(C27376=\"\",ISBLANK(C27376)),\"\",VLOOKUP(C27376,Sheet2!A:G,6,FALSE))","v":""},""]
[{"$f":"IF(OR(C27385=\"\",ISBLANK(C27385)),\"\",VLOOKUP(C27385,Sheet2!A:F,2,FALSE))","v":""},{"$f":"IF(OR(C27385=\"\",ISBLANK(C27385)),\"\",VLOOKUP(C27385,Sheet2!A:G,4,FALSE))","v":""},null,null,{"$f":"IF(OR(C27385=\"\",ISBLANK(C27385)),\"\",VLOOKUP(C27385,Sheet2!A:F,3,FALSE))","v":""},{"$f":"IF(OR(C27385=\"\",ISBLANK(C27385)),\"\",VLOOKUP(C27385,Sheet2!A:G,6,FALSE))","v":""},""]
[{"$f":"IF(OR(C27410=\"\",ISBLANK(C27410)),\"\",VLOOKUP(C27410,Sheet2!A:F,2,FALSE))","v":""},{"$f":"IF(OR(C27410=\"\",ISBLANK(C27410)),\"\",VLOOKUP(C27410,Sheet2!A:G,4,FALSE))","v":""},null,null,{"$f":"IF(OR(C27410=\"\",ISBLANK(C27410)),\"\",VLOOKUP(C27410,Sheet2!A:F,3,FALSE))","v":""},{"$f":"IF(OR(C27410=\"\",ISBLANK(C27410)),\"\",VLOOKUP(C27410,Sheet2!A:G,6,FALSE))","v":""},""]
[{"$f":"IF(OR(C27443=\"\",ISBLANK(C27443)),\"\",VLOOKUP(C27443,Sheet2!A:F,2,FALSE))","v":""},{"$f":"IF(OR(C27443=\"\",ISBLANK(C27443)),\"\",VLOOKUP(C27443,Sheet2!A:G,4,FALSE))","v":""},null,null,{"$f":"IF(OR(C27443=\"\",ISBLANK(C27443)),\"\",VLOOKUP(C27443,Sheet2!A:F,3,FALSE))","v":""},{"$f":"IF(OR(C27443=\"\",ISBLANK(C27443)),\"\",VLOOKUP(C27443,Sheet2!A:G,6,FALSE))","v":""},""]
[{"$f":"IF(OR(C27452=\"\",ISBLANK(C27452)),\"\",VLOOKUP(C27452,Sheet2!A:F,2,FALSE))","v":""},{"$f":"IF(OR(C27452=\"\",ISBLANK(C27452)),\"\",VLOOKUP(C27452,Sheet2!A:G,4,FALSE))","v":""},null,null,{"$f":"IF(OR(C27452=\"\",ISBLANK(C27452)),\"\",VLOOKUP(C27452,Sheet2!A:F,3,FALSE))","v":""},{"$f":"IF(OR(C27452=\"\",ISBLANK(C27452)),\"\",VLOOKUP(C27452,Sheet2!A:G,6,FALSE))","v":""},""]
[{"$f":"IF(OR(C27477=\"\",ISBLANK(C27477)),\"\",VLOOKUP(C27477,Sheet2!A:F,2,FALSE))","v":""},{"$f":"IF(OR(C27477=\"\",ISBLANK(C27477)),\"\",VLOOKUP(C27477,Sheet2!A:G,4,FALSE))","v":""},null,null,{"$f":"IF(OR(C27477=\"\",ISBLANK(C27477)),\"\",VLOOKUP(C27477,Sheet2!A:F,3,FALSE))","v":""},{"$f":"IF(OR(C27477=\"\",ISBLANK(C27477)),\"\",VLOOKUP(C27477,Sheet2!A:G,6,FALSE))","v":""},""]
[{"$f":"IF(OR(C27503=\"\",ISBLANK(C27503)),\"\",VLOOKUP(C27503,Sheet2!A:F,2,FALSE))","v":""},{"$f":"IF(OR(C27503=\"\",ISBLANK(C27503)),\"\",VLOOKUP(C27503,Sheet2!A:G,4,FALSE))","v":""},null,null,{"$f":"IF(OR(C27503=\"\",ISBLANK(C27503)),\"\",VLOOKUP(C27503,Sheet2!A:F,3,FALSE))","v":""},{"$f":"IF(OR(C27503=\"\",ISBLANK(C27503)),\"\",VLOOKUP(C27503,Sheet2!A:G,6,FALSE))","v":""},""]
[{"$f":"IF(OR(C27542=\"\",ISBLANK(C27542)),\"\",VLOOKUP(C27542,Sheet2!A:F,2,FALSE))","v":""},{"$f":"IF(OR(C27542=\"\",ISBLANK(C27542)),\"\",VLOOKUP(C27542,Sheet2!A:G,4,FALSE))","v":""},null,null,{"$f":"IF(OR(C27542=\"\",ISBLANK(C27542)),\"\",VLOOKUP(C27542,Sheet2!A:F,3,FALSE))","v":""},{"$f":"IF(OR(C27542=\"\",ISBLANK(C27542)),\"\",VLOOKUP(C27542,Sheet2!A:G,6,FALSE))","v":""},""]
[{"$f":"IF(OR(C27567=\"\",ISBLANK(C27567)),\"\",VLOOKUP(C27567,Sheet2!A:F,2,FALSE))","v":""},{"$f":"IF(OR(C27567=\"\",ISBLANK(C27567)),\"\",VLOOKUP(C27567,Sheet2!A:G,4,FALSE))","v":""},null,null,{"$f":"IF(OR(C27567=\"\",ISBLANK(C27567)),\"\",VLOOKUP(C27567,Sheet2!A:F,3,FALSE))","v":""},{"$f":"IF(OR(C27567=\"\",ISBLANK(C27567)),\"\",VLOOKUP(C27567,Sheet2!A:G,6,FALSE))","v":""},""]
[{"$f":"IF(OR(C27576=\"\",ISBLANK(C27576)),\"\",VLOOKUP(C27576,Sheet2!A:F,2,FALSE))","v":""},{"$f":"IF(OR(C27576=\"\",ISBLANK(C27576)),\"\",VLOOKUP(C27576,Sheet2!A:G,4,FALSE))","v":""},null,null,{"$f":"IF(OR(C27576=\"\",ISBLANK(C27576)),\"\",VLOOKUP(C27576,Sheet2!A:F,3,FALSE))","v":""},{"$f":"IF(OR(C27576=\"\",ISBLANK(C27576)),\"\",VLOOKUP(C27576,Sheet2!A:G,6,FALSE))","v":""},""]
[{"$f":"IF(OR(C27601=\"\",ISBLANK(C27601)),\"\",VLOOKUP(C27601,Sheet2!A:F,2,FALSE))","v":""},{"$f":"IF(OR(C27601=\"\",ISBLANK(C27601)),\"\",VLOOKUP(C27601,Sheet2!A:G,4,FALSE))","v":""},null,null,{"$f":"IF(OR(C27601=\"\",ISBLANK(C27601)),\"\",VLOOKUP(C27601,Sheet2!A:F,3,FALSE))","v":""},{"$f":"IF(OR(C27601=\"\",ISBLANK(C27601)),\"\",VLOOKUP(C27601,Sheet2!A:G,6,FALSE))","v":""},""]
[{"$f":"IF(OR(C27634=\"\",ISBLANK(C27634)),\"\",VLOOKUP(C27634,Sheet2!A:F,2,FALSE))","v":""},{"$f":"IF(OR(C27634=\"\",ISBLANK(C27634)),\"\",VLOOKUP(C27634,Sheet2!A:G,4,FALSE))","v":""},null,null,{"$f":"IF(OR(C27634=\"\",ISBLANK(C27634)),\"\",VLOOKUP(C27634,Sheet2!A:F,3,FALSE))","v":""},{"$f":"IF(OR(C27634=\"\",ISBLANK(C27634)),\"\",VLOOKUP(C27634,Sheet2!A:G,6,FALSE))","v":""},""]
[{"$f":"IF(OR(C27643=\"\",ISBLANK(C27643)),\"\",VLOOKUP(C27643,Sheet2!A:F,2,FALSE))","v":""},{"$f":"IF(OR(C27643=\"\",ISBLANK(C27643)),\"\",VLOOKUP(C27643,Sheet2!A:G,4,FALSE))","v":""},null,null,{"$f":"IF(OR(C27643=\"\",ISBLANK(C27643)),\"\",VLOOKUP(C27643,Sheet2!A:F,3,FALSE))","v":""},{"$f":"IF(OR(C27643=\"\",ISBLANK(C27643)),\"\",VLOOKUP(C27643,Sheet2!A:G,6,FALSE))","v":""},""]
[{"$f":"IF(OR(C27668=\"\",ISBLANK(C27668)),\"\",VLOOKUP(C27668,Sheet2!A:F,2,FALSE))","v":""},{"$f":"IF(OR(C27668=\"\",ISBLANK(C27668)),\"\",VLOOKUP(C27668,Sheet2!A:G,4,FALSE))","v":""},null,null,{"$f":"IF(OR(C27668=\"\",ISBLANK(C27668)),\"\",VLOOKUP(C27668,Sheet2!A:F,3,FALSE))","v":""},{"$f":"IF(OR(C27668=\"\",ISBLANK(C27668)),\"\",VLOOKUP(C27668,Sheet2!A:G,6,FALSE))","v":""},""]
[{"$f":"IF(OR(C27701=\"\",ISBLANK(C27701)),\"\",VLOOKUP(C27701,Sheet2!A:F,2,FALSE))","v":""},{"$f":"IF(OR(C27701=\"\",ISBLANK(C27701)),\"\",VLOOKUP(C27701,Sheet2!A:G,4,FALSE))","v":""},null,null,{"$f":"IF(OR(C27701=\"\",ISBLANK(C27701)),\"\",VLOOKUP(C27701,Sheet2!A:F,3,FALSE))","v":""},{"$f":"IF(OR(C27701=\"\",ISBLANK(C27701)),\"\",VLOOKUP(C27701,Sheet2!A:G,6,FALSE))","v":""},""]
[{"$f":"IF(OR(C27722=\"\",ISBLANK(C27722)),\"\",VLOOKUP(C27722,Sheet2!A:F,2,FALSE))","v":""},{"$f":"IF(OR(C27722=\"\",ISBLANK(C27722)),\"\",VLOOKUP(C27722,Sheet2!A:G,4,FALSE))","v":""},null,null,{"$f":"IF(OR(C27722=\"\",ISBLANK(C27722)),\"\",VLOOKUP(C27722,Sheet2!A:F,3,FALSE))","v":""},{"$f":"IF(OR(C27722=\"\",ISBLANK(C27722)),\"\",VLOOKUP(C27722,Sheet2!A:G,6,FALSE))","v":""},""]
[{"$f":"IF(OR(C27758=\"\",ISBLANK(C27758)),\"\",VLOOKUP(C27758,Sheet2!A:F,2,FALSE))","v":""},{"$f":"IF(OR(C27758=\"\",ISBLANK(C27758)),\"\",VLOOKUP(C27758,Sheet2!A:G,4,FALSE))","v":""},null,null,{"$f":"IF(OR(C27758=\"\",ISBLANK(C27758)),\"\",VLOOKUP(C27758,Sheet2!A:F,3,FALSE))","v":""},{"$f":"IF(OR(C27758=\"\",ISBLANK(C27758)),\"\",VLOOKUP(C27758,Sheet2!A:G,6,FALSE))","v":""},""]
[{"$f":"IF(OR(C27767=\"\",ISBLANK(C27767)),\"\",VLOOKUP(C27767,Sheet2!A:F,2,FALSE))","v":""},{"$f":"IF(OR(C27767=\"\",ISBLANK(C27767)),\"\",VLOOKUP(C27767,Sheet2!A:G,4,FALSE))","v":""},null,null,{"$f":"IF(OR(C27767=\"\",ISBLANK(C27767)),\"\",VLOOKUP(C27767,Sheet2!A:F,3,FALSE))","v":""},{"$f":"IF(OR(C27767=\"\",ISBLANK(C27767)),\"\",VLOOKUP(C27767,Sheet2!A:G,6,FALSE))","v":""},""]
[{"$f":"IF(OR(C27792=\"\",ISBLANK(C27792)),\"\",VLOOKUP(C27792,Sheet2!A:F,2,FALSE))","v":""},{"$f":"IF(OR(C27792=\"\",ISBLANK(C27792)),\"\",VLOOKUP(C27792,Sheet2!A:G,4,FALSE))","v":""},null,null,{"$f":"IF(OR(C27792=\"\",ISBLANK(C27792)),\"\",VLOOKUP(C27792,Sheet2!A:F,3,FALSE))","v":""},{"$f":"IF(OR(C27792=\"\",ISBLANK(C27792)),\"\",VLOOKUP(C27792,Sheet2!A:G,6,FALSE))","v":""},""]
[{"$f":"IF(OR(C27825=\"\",ISBLANK(C27825)),\"\",VLOOKUP(C27825,Sheet2!A:F,2,FALSE))","v":""},{"$f":"IF(OR(C27825=\"\",ISBLANK(C27825)),\"\",VLOOKUP(C27825,Sheet2!A:G,4,FALSE))","v":""},null,null,{"$f":"IF(OR(C27825=\"\",ISBLANK(C27825)),\"\",VLOOKUP(C27825,Sheet2!A:F,3,FALSE))","v":""},{"$f":"IF(OR(C27825=\"\",ISBLANK(C27825)),\"\",VLOOKUP(C27825,Sheet2!A:G,6,FALSE))","v":""},""]
[{"$f":"IF(OR(C27834=\"\",ISBLANK(C27834)),\"\",VLOOKUP(C27834,Sheet2!A:F,2,FALSE))","v":""},{"$f":"IF(OR(C27834=\"\",ISBLANK(C27834)),\"\",VLOOKUP(C27834,Sheet2!A:G,4,FALSE))","v":""},null,null,{"$f":"IF(OR(C27834=\"\",ISBLANK(C27834)),\"\",VLOOKUP(C27834,Sheet2!A:F,3,FALSE))","v":""},{"$f":"IF(OR(C27834=\"\",ISBLANK(C27834)),\"\",VLOOKUP(C27834,Sheet2!A:G,6,FALSE))","v":""},""]
[{"$f":"IF(OR(C27859=\"\",ISBLANK(C27859)),\"\",VLOOKUP(C27859,Sheet2!A:F,2,FALSE))","v":""},{"$f":"IF(OR(C27859=\"\",ISBLANK(C27859)),\"\",VLOOKUP(C27859,Sheet2!A:G,4,FALSE))","v":""},null,null,{"$f":"IF(OR(C27859=\"\",ISBLANK(C27859)),\"\",VLOOKUP(C27859,Sheet2!A:F,3,FALSE))","v":""},{"$f":"IF(OR(C27859=\"\",ISBLANK(C27859)),\"\",VLOOKUP(C27859,Sheet2!A:G,6,FALSE))","v":""},""]
[{"$f":"IF(OR(C27892=\"\",ISBLANK(C27892)),\"\",VLOOKUP(C27892,Sheet2!A:F,2,FALSE))","v":""},{"$f":"IF(OR(C27892=\"\",ISBLANK(C27892)),\"\",VLOOKUP(C27892,Sheet2!A:G,4,FALSE))","v":""},null,null,{"$f":"IF(OR(C27892=\"\",ISBLANK(C27892)),\"\",VLOOKUP(C27892,Sheet2!A:F,3,FALSE))","v":""},{"$f":"IF(OR(C27892=\"\",ISBLANK(C27892)),\"\",VLOOKUP(C27892,Sheet2!A:G,6,FALSE))","v":""},""]
[{"$f":"IF(OR(C27917=\"\",ISBLANK(C27917)),\"\",VLOOKUP(C27917,Sheet2!A:F,2,FALSE))","v":""},{"$f":"IF(OR(C27917=\"\",ISBLANK(C27917)),\"\",VLOOKUP(C27917,Sheet2!A:G,4,FALSE))","v":""},null,null,{"$f":"IF(OR(C27917=\"\",ISBLANK(C27917)),\"\",VLOOKUP(C27917,Sheet2!A:F,3,FALSE))","v":""},{"$f":"IF(OR(C27917=\"\",ISBLANK(C27917)),\"\",VLOOKUP(C27917,Sheet2!A:G,6,FALSE))","v":""},""]
[{"$f":"IF(OR(C27950=\"\",ISBLANK(C27950)),\"\",VLOOKUP(C27950,Sheet2!A:F,2,FALSE))","v":""},{"$f":"IF(OR(C27950=\"\",ISBLANK(C27950)),\"\",VLOOKUP(C27950,Sheet2!A:G,4,FALSE))","v":""},null,null,{"$f":"IF(OR(C27950=\"\",ISBLANK(C27950)),\"\",VLOOKUP(C27950,Sheet2!A:F,3,FALSE))","v":""},{"$f":"IF(OR(C27950=\"\",ISBLANK(C27950)),\"\",VLOOKUP(C27950,Sheet2!A:G,6,FALSE))","v":""},""]
[{"$f":"IF(OR(C27953=\"\",ISBLANK(C27953)),\"\",VLOOKUP(C27953,Sheet2!A:F,2,FALSE))","v":""},{"$f":"IF(OR(C27953=\"\",ISBLANK(C27953)),\"\",VLOOKUP(C27953,Sheet2!A:G,4,FALSE))","v":""},null,null,{"$f":"IF(OR(C27953=\"\",ISBLANK(C27953)),\"\",VLOOKUP(C27953,Sheet2!A:F,3,FALSE))","v":""},{"$f":"IF(OR(C27953=\"\",ISBLANK(C27953)),\"\",VLOOKUP(C27953,Sheet2!A:G,6,FALSE))","v":""},""]
[{"$f":"IF(OR(C27983=\"\",ISBLANK(C27983)),\"\",VLOOKUP(C27983,Sheet2!A:F,2,FALSE))","v":""},{"$f":"IF(OR(C27983=\"\",ISBLANK(C27983)),\"\",VLOOKUP(C27983,Sheet2!A:G,4,FALSE))","v":""},null,null,{"$f":"IF(OR(C27983=\"\",ISBLANK(C27983)),\"\",VLOOKUP(C27983,Sheet2!A:F,3,FALSE))","v":""},{"$f":"IF(OR(C27983=\"\",ISBLANK(C27983)),\"\",VLOOKUP(C27983,Sheet2!A:G,6,FALSE))","v":""},""]
[{"$f":"IF(OR(C28016=\"\",ISBLANK(C28016)),\"\",VLOOKUP(C28016,Sheet2!A:F,2,FALSE))","v":""},{"$f":"IF(OR(C28016=\"\",ISBLANK(C28016)),\"\",VLOOKUP(C28016,Sheet2!A:G,4,FALSE))","v":""},null,null,{"$f":"IF(OR(C28016=\"\",ISBLANK(C28016)),\"\",VLOOKUP(C28016,Sheet2!A:F,3,FALSE))","v":""},{"$f":"IF(OR(C28016=\"\",ISBLANK(C28016)),\"\",VLOOKUP(C28016,Sheet2!A:G,6,FALSE))","v":""},""]
[{"$f":"IF(OR(C28025=\"\",ISBLANK(C28025)),\"\",VLOOKUP(C28025,Sheet2!A:F,2,FALSE))","v":""},{"$f":"IF(OR(C28025=\"\",ISBLANK(C28025)),\"\",VLOOKUP(C28025,Sheet2!A:G,4,FALSE))","v":""},null,null,{"$f":"IF(OR(C28025=\"\",ISBLANK(C28025)),\"\",VLOOKUP(C28025,Sheet2!A:F,3,FALSE))","v":""},{"$f":"IF(OR(C28025=\"\",ISBLANK(C28025)),\"\",VLOOKUP(C28025,Sheet2!A:G,6,FALSE))","v":""},""]
[{"$f":"IF(OR(C28050=\"\",ISBLANK(C28050)),\"\",VLOOKUP(C28050,Sheet2!A:F,2,FALSE))","v":""},{"$f":"IF(OR(C28050=\"\",ISBLANK(C28050)),\"\",VLOOKUP(C28050,Sheet2!A:G,4,FALSE))","v":""},null,null,{"$f":"IF(OR(C28050=\"\",ISBLANK(C28050)),\"\",VLOOKUP(C28050,Sheet2!A:F,3,FALSE))","v":""},{"$f":"IF(OR(C28050=\"\",ISBLANK(C28050)),\"\",VLOOKUP(C28050,Sheet2!A:G,6,FALSE))","v":""},""]
[{"$f":"IF(OR(C28083=\"\",ISBLANK(C28083)),\"\",VLOOKUP(C28083,Sheet2!A:F,2,FALSE))","v":""},{"$f":"IF(OR(C28083=\"\",ISBLANK(C28083)),\"\",VLOOKUP(C28083,Sheet2!A:G,4,FALSE))","v":""},null,null,{"$f":"IF(OR(C28083=\"\",ISBLANK(C28083)),\"\",VLOOKUP(C28083,Sheet2!A:F,3,FALSE))","v":""},{"$f":"IF(OR(C28083=\"\",ISBLANK(C28083)),\"\",VLOOKUP(C28083,Sheet2!A:G,6,FALSE))","v":""},""]
[{"$f":"IF(OR(C28108=\"\",ISBLANK(C28108)),\"\",VLOOKUP(C28108,Sheet2!A:F,2,FALSE))","v":""},{"$f":"IF(OR(C28108=\"\",ISBLANK(C28108)),\"\",VLOOKUP(C28108,Sheet2!A:G,4,FALSE))","v":""},null,null,{"$f":"IF(OR(C28108=\"\",ISBLANK(C28108)),\"\",VLOOKUP(C28108,Sheet2!A:F,3,FALSE))","v":""},{"$f":"IF(OR(C28108=\"\",ISBLANK(C28108)),\"\",VLOOKUP(C28108,Sheet2!A:G,6,FALSE))","v":""},""]
[{"$f":"IF(OR(C28141=\"\",ISBLANK(C28141)),\"\",VLOOKUP(C28141,Sheet2!A:F,2,FALSE))","v":""},{"$f":"IF(OR(C28141=\"\",ISBLANK(C28141)),\"\",VLOOKUP(C28141,Sheet2!A:G,4,FALSE))","v":""},null,null,{"$f":"IF(OR(C28141=\"\",ISBLANK(C28141)),\"\",VLOOKUP(C28141,Sheet2!A:F,3,FALSE))","v":""},{"$f":"IF(OR(C28141=\"\",ISBLANK(C28141)),\"\",VLOOKUP(C28141,Sheet2!A:G,6,FALSE))","v":""},""]
[{"$f":"IF(OR(C28150=\"\",ISBLANK(C28150)),\"\",VLOOKUP(C28150,Sheet2!A:F,2,FALSE))","v":""},{"$f":"IF(OR(C28150=\"\",ISBLANK(C28150)),\"\",VLOOKUP(C28150,Sheet2!A:G,4,FALSE))","v":""},null,null,{"$f":"IF(OR(C28150=\"\",ISBLANK(C28150)),\"\",VLOOKUP(C28150,Sheet2!A:F,3,FALSE))","v":""},{"$f":"IF(OR(C28150=\"\",ISBLANK(C28150)),\"\",VLOOKUP(C28150,Sheet2!A:G,6,FALSE))","v":""},""]
[{"$f":"IF(OR(C28175=\"\",ISBLANK(C28175)),\"\",VLOOKUP(C28175,Sheet2!A:F,2,FALSE))","v":""},{"$f":"IF(OR(C28175=\"\",ISBLANK(C28175)),\"\",VLOOKUP(C28175,Sheet2!A:G,4,FALSE))","v":""},null,null,{"$f":"IF(OR(C28175=\"\",ISBLANK(C28175)),\"\",VLOOKUP(C28175,Sheet2!A:F,3,FALSE))","v":""},{"$f":"IF(OR(C28175=\"\",ISBLANK(C28175)),\"\",VLOOKUP(C28175,Sheet2!A:G,6,FALSE))","v":""},""]
[{"$f":"IF(OR(C28207=\"\",ISBLANK(C28207)),\"\",VLOOKUP(C28207,Sheet2!A:F,2,FALSE))","v":""},{"$f":"IF(OR(C28207=\"\",ISBLANK(C28207)),\"\",VLOOKUP(C28207,Sheet2!A:G,4,FALSE))","v":""},null,null,{"$f":"IF(OR(C28207=\"\",ISBLANK(C28207)),\"\",VLOOKUP(C28207,Sheet2!A:F,3,FALSE))","v":""},{"$f":"IF(OR(C28207=\"\",ISBLANK(C28207)),\"\",VLOOKUP(C28207,Sheet2!A:G,6,FALSE))","v":""},""]
[{"$f":"IF(OR(C28232=\"\",ISBLANK(C28232)),\"\",VLOOKUP(C28232,Sheet2!A:F,2,FALSE))","v":""},{"$f":"IF(OR(C28232=\"\",ISBLANK(C28232)),\"\",VLOOKUP(C28232,Sheet2!A:G,4,FALSE))","v":""},null,null,{"$f":"IF(OR(C28232=\"\",ISBLANK(C28232)),\"\",VLOOKUP(C28232,Sheet2!A:F,3,FALSE))","v":""},{"$f":"IF(OR(C28232=\"\",ISBLANK(C28232)),\"\",VLOOKUP(C28232,Sheet2!A:G,6,FALSE))","v":""},""]
[{"$f":"IF(OR(C28241=\"\",ISBLANK(C28241)),\"\",VLOOKUP(C28241,Sheet2!A:F,2,FALSE))","v":""},{"$f":"IF(OR(C28241=\"\",ISBLANK(C28241)),\"\",VLOOKUP(C28241,Sheet2!A:G,4,FALSE))","v":""},null,null,{"$f":"IF(OR(C28241=\"\",ISBLANK(C28241)),\"\",VLOOKUP(C28241,Sheet2!A:F,3,FALSE))","v":""},{"$f":"IF(OR(C28241=\"\",ISBLANK(C28241)),\"\",VLOOKUP(C28241,Sheet2!A:G,6,FALSE))","v":""},""]
[{"$f":"IF(OR(C28274=\"\",ISBLANK(C28274)),\"\",VLOOKUP(C28274,Sheet2!A:F,2,FALSE))","v":""},{"$f":"IF(OR(C28274=\"\",ISBLANK(C28274)),\"\",VLOOKUP(C28274,Sheet2!A:G,4,FALSE))","v":""},null,null,{"$f":"IF(OR(C28274=\"\",ISBLANK(C28274)),\"\",VLOOKUP(C28274,Sheet2!A:F,3,FALSE))","v":""},{"$f":"IF(OR(C28274=\"\",ISBLANK(C28274)),\"\",VLOOKUP(C28274,Sheet2!A:G,6,FALSE))","v":""},""]
[{"$f":"IF(OR(C28299=\"\",ISBLANK(C28299)),\"\",VLOOKUP(C28299,Sheet2!A:F,2,FALSE))","v":""},{"$f":"IF(OR(C28299=\"\",ISBLANK(C28299)),\"\",VLOOKUP(C28299,Sheet2!A:G,4,FALSE))","v":""},null,null,{"$f":"IF(OR(C28299=\"\",ISBLANK(C28299)),\"\",VLOOKUP(C28299,Sheet2!A:F,3,FALSE))","v":""},{"$f":"IF(OR(C28299=\"\",ISBLANK(C28299)),\"\",VLOOKUP(C28299,Sheet2!A:G,6,FALSE))","v":""},""]
[{"$f":"IF(OR(C28332=\"\",ISBLANK(C28332)),\"\",VLOOKUP(C28332,Sheet2!A:F,2,FALSE))","v":""},{"$f":"IF(OR(C28332=\"\",ISBLANK(C28332)),\"\",VLOOKUP(C28332,Sheet2!A:G,4,FALSE))","v":""},null,null,{"$f":"IF(OR(C28332=\"\",ISBLANK(C28332)),\"\",VLOOKUP(C28332,Sheet2!A:F,3,FALSE))","v":""},{"$f":"IF(OR(C28332=\"\",ISBLANK(C28332)),\"\",VLOOKUP(C28332,Sheet2!A:G,6,FALSE))","v":""},""]
[{"$f":"IF(OR(C28341=\"\",ISBLANK(C28341)),\"\",VLOOKUP(C28341,Sheet2!A:F,2,FALSE))","v":""},{"$f":"IF(OR(C28341=\"\",ISBLANK(C28341)),\"\",VLOOKUP(C28341,Sheet2!A:G,4,FALSE))","v":""},null,null,{"$f":"IF(OR(C28341=\"\",ISBLANK(C28341)),\"\",VLOOKUP(C28341,Sheet2!A:F,3,FALSE))","v":""},{"$f":"IF(OR(C28341=\"\",ISBLANK(C28341)),\"\",VLOOKUP(C28341,Sheet2!A:G,6,FALSE))","v":""},""]
[{"$f":"IF(OR(C28366=\"\",ISBLANK(C28366)),\"\",VLOOKUP(C28366,Sheet2!A:F,2,FALSE))","v":""},{"$f":"IF(OR(C28366=\"\",ISBLANK(C28366)),\"\",VLOOKUP(C28366,Sheet2!A:G,4,FALSE))","v":""},null,null,{"$f":"IF(OR(C28366=\"\",ISBLANK(C28366)),\"\",VLOOKUP(C28366,Sheet2!A:F,3,FALSE))","v":""},{"$f":"IF(OR(C28366=\"\",ISBLANK(C28366)),\"\",VLOOKUP(C28366,Sheet2!A:G,6,FALSE))","v":""},""]
[{"$f":"IF(OR(C28399=\"\",ISBLANK(C28399)),\"\",VLOOKUP(C28399,Sheet2!A:F,2,FALSE))","v":""},{"$f":"IF(OR(C28399=\"\",ISBLANK(C28399)),\"\",VLOOKUP(C28399,Sheet2!A:G,4,FALSE))","v":""},null,null,{"$f":"IF(OR(C28399=\"\",ISBLANK(C28399)),\"\",VLOOKUP(C28399,Sheet2!A:F,3,FALSE))","v":""},{"$f":"IF(OR(C28399=\"\",ISBLANK(C28399)),\"\",VLOOKUP(C28399,Sheet2!A:G,6,FALSE))","v":""},""]
[{"$f":"IF(OR(C28415=\"\",ISBLANK(C28415)),\"\",VLOOKUP(C28415,Sheet2!A:F,2,FALSE))","v":""},{"$f":"IF(OR(C28415=\"\",ISBLANK(C28415)),\"\",VLOOKUP(C28415,Sheet2!A:G,4,FALSE))","v":""},null,null,{"$f":"IF(OR(C28415=\"\",ISBLANK(C28415)),\"\",VLOOKUP(C28415,Sheet2!A:F,3,FALSE))","v":""},{"$f":"IF(OR(C28415=\"\",ISBLANK(C28415)),\"\",VLOOKUP(C28415,Sheet2!A:G,6,FALSE))","v":""},""]
[{"$f":"IF(OR(C28432=\"\",ISBLANK(C28432)),\"\",VLOOKUP(C28432,Sheet2!A:F,2,FALSE))","v":""},{"$f":"IF(OR(C28432=\"\",ISBLANK(C28432)),\"\",VLOOKUP(C28432,Sheet2!A:G,4,FALSE))","v":""},null,null,{"$f":"IF(OR(C28432=\"\",ISBLANK(C28432)),\"\",VLOOKUP(C28432,Sheet2!A:F,3,FALSE))","v":""},{"$f":"IF(OR(C28432=\"\",ISBLANK(C28432)),\"\",VLOOKUP(C28432,Sheet2!A:G,6,FALSE))","v":""},""]
[{"$f":"IF(OR(C28465=\"\",ISBLANK(C28465)),\"\",VLOOKUP(C28465,Sheet2!A:F,2,FALSE))","v":""},{"$f":"IF(OR(C28465=\"\",ISBLANK(C28465)),\"\",VLOOKUP(C28465,Sheet2!A:G,4,FALSE))","v":""},null,null,{"$f":"IF(OR(C28465=\"\",ISBLANK(C28465)),\"\",VLOOKUP(C28465,Sheet2!A:F,3,FALSE))","v":""},{"$f":"IF(OR(C28465=\"\",ISBLANK(C28465)),\"\",VLOOKUP(C28465,Sheet2!A:G,6,FALSE))","v":""},""]
[{"$f":"IF(OR(C28490=\"\",ISBLANK(C28490)),\"\",VLOOKUP(C28490,Sheet2!A:F,2,FALSE))","v":""},{"$f":"IF(OR(C28490=\"\",ISBLANK(C28490)),\"\",VLOOKUP(C28490,Sheet2!A:G,4,FALSE))","v":""},null,null,{"$f":"IF(OR(C28490=\"\",ISBLANK(C28490)),\"\",VLOOKUP(C28490,Sheet2!A:F,3,FALSE))","v":""},{"$f":"IF(OR(C28490=\"\",ISBLANK(C28490)),\"\",VLOOKUP(C28490,Sheet2!A:G,6,FALSE))","v":""},""]
[{"$f":"IF(OR(C28523=\"\",ISBLANK(C28523)),\"\",VLOOKUP(C28523,Sheet2!A:F,2,FALSE))","v":""},{"$f":"IF(OR(C28523=\"\",ISBLANK(C28523)),\"\",VLOOKUP(C28523,Sheet2!A:G,4,FALSE))","v":""},null,null,{"$f":"IF(OR(C28523=\"\",ISBLANK(C28523)),\"\",VLOOKUP(C28523,Sheet2!A:F,3,FALSE))","v":""},{"$f":"IF(OR(C28523=\"\",ISBLANK(C28523)),\"\",VLOOKUP(C28523,Sheet2!A:G,6,FALSE))","v":""},""]
[{"$f":"IF(OR(C28532=\"\",ISBLANK(C28532)),\"\",VLOOKUP(C28532,Sheet2!A:F,2,FALSE))","v":""},{"$f":"IF(OR(C28532=\"\",ISBLANK(C28532)),\"\",VLOOKUP(C28532,Sheet2!A:G,4,FALSE))","v":""},null,null,{"$f":"IF(OR(C28532=\"\",ISBLANK(C28532)),\"\",VLOOKUP(C28532,Sheet2!A:F,3,FALSE))","v":""},{"$f":"IF(OR(C28532=\"\",ISBLANK(C28532)),\"\",VLOOKUP(C28532,Sheet2!A:G,6,FALSE))","v":""},""]
[{"$f":"IF(OR(C28557=\"\",ISBLANK(C28557)),\"\",VLOOKUP(C28557,Sheet2!A:F,2,FALSE))","v":""},{"$f":"IF(OR(C28557=\"\",ISBLANK(C28557)),\"\",VLOOKUP(C28557,Sheet2!A:G,4,FALSE))","v":""},null,null,{"$f":"IF(OR(C28557=\"\",ISBLANK(C28557)),\"\",VLOOKUP(C28557,Sheet2!A:F,3,FALSE))","v":""},{"$f":"IF(OR(C28557=\"\",ISBLANK(C28557)),\"\",VLOOKUP(C28557,Sheet2!A:G,6,FALSE))","v":""},""]
[{"$f":"IF(OR(C28590=\"\",ISBLANK(C28590)),\"\",VLOOKUP(C28590,Sheet2!A:F,2,FALSE))","v":""},{"$f":"IF(OR(C28590=\"\",ISBLANK(C28590)),\"\",VLOOKUP(C28590,Sheet2!A:G,4,FALSE))","v":""},null,null,{"$f":"IF(OR(C28590=\"\",ISBLANK(C28590)),\"\",VLOOKUP(C28590,Sheet2!A:F,3,FALSE))","v":""},{"$f":"IF(OR(C28590=\"\",ISBLANK(C28590)),\"\",VLOOKUP(C28590,Sheet2!A:G,6,FALSE))","v":""},""]
[{"$f":"IF(OR(C28615=\"\",ISBLANK(C28615)),\"\",VLOOKUP(C28615,Sheet2!A:F,2,FALSE))","v":""},{"$f":"IF(OR(C28615=\"\",ISBLANK(C28615)),\"\",VLOOKUP(C28615,Sheet2!A:G,4,FALSE))","v":""},null,null,{"$f":"IF(OR(C28615=\"\",ISBLANK(C28615)),\"\",VLOOKUP(C28615,Sheet2!A:F,3,FALSE))","v":""},{"$f":"IF(OR(C28615=\"\",ISBLANK(C28615)),\"\",VLOOKUP(C28615,Sheet2!A:G,6,FALSE))","v":""},""]
[{"$f":"IF(OR(C28624=\"\",ISBLANK(C28624)),\"\",VLOOKUP(C28624,Sheet2!A:F,2,FALSE))","v":""},{"$f":"IF(OR(C28624=\"\",ISBLANK(C28624)),\"\",VLOOKUP(C28624,Sheet2!A:G,4,FALSE))","v":""},null,null,{"$f":"IF(OR(C28624=\"\",ISBLANK(C28624)),\"\",VLOOKUP(C28624,Sheet2!A:F,3,FALSE))","v":""},{"$f":"IF(OR(C28624=\"\",ISBLANK(C28624)),\"\",VLOOKUP(C28624,Sheet2!A:G,6,FALSE))","v":""},""]
[{"$f":"IF(OR(C28657=\"\",ISBLANK(C28657)),\"\",VLOOKUP(C28657,Sheet2!A:F,2,FALSE))","v":""},{"$f":"IF(OR(C28657=\"\",ISBLANK(C28657)),\"\",VLOOKUP(C28657,Sheet2!A:G,4,FALSE))","v":""},null,null,{"$f":"IF(OR(C28657=\"\",ISBLANK(C28657)),\"\",VLOOKUP(C28657,Sheet2!A:F,3,FALSE))","v":""},{"$f":"IF(OR(C28657=\"\",ISBLANK(C28657)),\"\",VLOOKUP(C28657,Sheet2!A:G,6,FALSE))","v":""},""]
[{"$f":"IF(OR(C28681=\"\",ISBLANK(C28681)),\"\",VLOOKUP(C28681,Sheet2!A:F,2,FALSE))","v":""},{"$f":"IF(OR(C28681=\"\",ISBLANK(C28681)),\"\",VLOOKUP(C28681,Sheet2!A:G,4,FALSE))","v":""},null,null,{"$f":"IF(OR(C28681=\"\",ISBLANK(C28681)),\"\",VLOOKUP(C28681,Sheet2!A:F,3,FALSE))","v":""},{"$f":"IF(OR(C28681=\"\",ISBLANK(C28681)),\"\",VLOOKUP(C28681,Sheet2!A:G,6,FALSE))","v":""},""]
[{"$f":"IF(OR(C28714=\"\",ISBLANK(C28714)),\"\",VLOOKUP(C28714,Sheet2!A:F,2,FALSE))","v":""},{"$f":"IF(OR(C28714=\"\",ISBLANK(C28714)),\"\",VLOOKUP(C28714,Sheet2!A:G,4,FALSE))","v":""},null,null,{"$f":"IF(OR(C28714=\"\",ISBLANK(C28714)),\"\",VLOOKUP(C28714,Sheet2!A:F,3,FALSE))","v":""},{"$f":"IF(OR(C28714=\"\",ISBLANK(C28714)),\"\",VLOOKUP(C28714,Sheet2!A:G,6,FALSE))","v":""},""]
[{"$f":"IF(OR(C28739=\"\",ISBLANK(C28739)),\"\",VLOOKUP(C28739,Sheet2!A:F,2,FALSE))","v":""},{"$f":"IF(OR(C28739=\"\",ISBLANK(C28739)),\"\",VLOOKUP(C28739,Sheet2!A:G,4,FALSE))","v":""},null,null,{"$f":"IF(OR(C28739=\"\",ISBLANK(C28739)),\"\",VLOOKUP(C28739,Sheet2!A:F,3,FALSE))","v":""},{"$f":"IF(OR(C28739=\"\",ISBLANK(C28739)),\"\",VLOOKUP(C28739,Sheet2!A:G,6,FALSE))","v":""},{"$f":"IF(F28739=0,\"\",F28739)","v":""}]
[{"$f":"IF(OR(C28748=\"\",ISBLANK(C28748)),\"\",VLOOKUP(C28748,Sheet2!A:F,2,FALSE))","v":""},{"$f":"IF(OR(C28748=\"\",ISBLANK(C28748)),\"\",VLOOKUP(C28748,Sheet2!A:G,4,FALSE))","v":""},null,null,{"$f":"IF(OR(C28748=\"\",ISBLANK(C28748)),\"\",VLOOKUP(C28748,Sheet2!A:F,3,FALSE))","v":""},{"$f":"IF(OR(C28748=\"\",ISBLANK(C28748)),\"\",VLOOKUP(C28748,Sheet2!A:G,6,FALSE))","v":""},""]
[{"$f":"IF(OR(C28781=\"\",ISBLANK(C28781)),\"\",VLOOKUP(C28781,Sheet2!A:F,2,FALSE))","v":""},{"$f":"IF(OR(C28781=\"\",ISBLANK(C28781)),\"\",VLOOKUP(C28781,Sheet2!A:G,4,FALSE))","v":""},null,null,{"$f":"IF(OR(C28781=\"\",ISBLANK(C28781)),\"\",VLOOKUP(C28781,Sheet2!A:F,3,FALSE))","v":""},{"$f":"IF(OR(C28781=\"\",ISBLANK(C28781)),\"\",VLOOKUP(C28781,Sheet2!A:G,6,FALSE))","v":""},""]
[{"$f":"IF(OR(C28806=\"\",ISBLANK(C28806)),\"\",VLOOKUP(C28806,Sheet2!A:F,2,FALSE))","v":""},{"$f":"IF(OR(C28806=\"\",ISBLANK(C28806)),\"\",VLOOKUP(C28806,Sheet2!A:G,4,FALSE))","v":""},null,null,{"$f":"IF(OR(C28806=\"\",ISBLANK(C28806)),\"\",VLOOKUP(C28806,Sheet2!A:F,3,FALSE))","v":""},{"$f":"IF(OR(C28806=\"\",ISBLANK(C28806)),\"\",VLOOKUP(C28806,Sheet2!A:G,6,FALSE))","v":""},""]
[{"$f":"IF(OR(C28815=\"\",ISBLANK(C28815)),\"\",VLOOKUP(C28815,Sheet2!A:F,2,FALSE))","v":""},{"$f":"IF(OR(C28815=\"\",ISBLANK(C28815)),\"\",VLOOKUP(C28815,Sheet2!A:G,4,FALSE))","v":""},null,null,{"$f":"IF(OR(C28815=\"\",ISBLANK(C28815)),\"\",VLOOKUP(C28815,Sheet2!A:F,3,FALSE))","v":""},{"$f":"IF(OR(C28815=\"\",ISBLANK(C28815)),\"\",VLOOKUP(C28815,Sheet2!A:G,6,FALSE))","v":""},""]
[{"$f":"IF(OR(C28848=\"\",ISBLANK(C28848)),\"\",VLOOKUP(C28848,Sheet2!A:F,2,FALSE))","v":""},{"$f":"IF(OR(C28848=\"\",ISBLANK(C28848)),\"\",VLOOKUP(C28848,Sheet2!A:G,4,FALSE))","v":""},null,null,{"$f":"IF(OR(C28848=\"\",ISBLANK(C28848)),\"\",VLOOKUP(C28848,Sheet2!A:F,3,FALSE))","v":""},{"$f":"IF(OR(C28848=\"\",ISBLANK(C28848)),\"\",VLOOKUP(C28848,Sheet2!A:G,6,FALSE))","v":""},""]
[{"$f":"IF(OR(C28873=\"\",ISBLANK(C28873)),\"\",VLOOKUP(C28873,Sheet2!A:F,2,FALSE))","v":""},{"$f":"IF(OR(C28873=\"\",ISBLANK(C28873)),\"\",VLOOKUP(C28873,Sheet2!A:G,4,FALSE))","v":""},null,null,{"$f":"IF(OR(C28873=\"\",ISBLANK(C28873)),\"\",VLOOKUP(C28873,Sheet2!A:F,3,FALSE))","v":""},{"$f":"IF(OR(C28873=\"\",ISBLANK(C28873)),\"\",VLOOKUP(C28873,Sheet2!A:G,6,FALSE))","v":""},""]
[{"$f":"IF(OR(C28888=\"\",ISBLANK(C28888)),\"\",VLOOKUP(C28888,Sheet2!A:F,2,FALSE))","v":""},{"$f":"IF(OR(C28888=\"\",ISBLANK(C28888)),\"\",VLOOKUP(C28888,Sheet2!A:G,4,FALSE))","v":""},null,null,{"$f":"IF(OR(C28888=\"\",ISBLANK(C28888)),\"\",VLOOKUP(C28888,Sheet2!A:F,3,FALSE))","v":""},{"$f":"IF(OR(C28888=\"\",ISBLANK(C28888)),\"\",VLOOKUP(C28888,Sheet2!A:G,6,FALSE))","v":""},""]
[{"$f":"IF(OR(C28930=\"\",ISBLANK(C28930)),\"\",VLOOKUP(C28930,Sheet2!A:F,2,FALSE))","v":""},{"$f":"IF(OR(C28930=\"\",ISBLANK(C28930)),\"\",VLOOKUP(C28930,Sheet2!A:G,4,FALSE))","v":""},null,null,{"$f":"IF(OR(C28930=\"\",ISBLANK(C28930)),\"\",VLOOKUP(C28930,Sheet2!A:F,3,FALSE))","v":""},{"$f":"IF(OR(C28930=\"\",ISBLANK(C28930)),\"\",VLOOKUP(C28930,Sheet2!A:G,6,FALSE))","v":""},""]
[{"$f":"IF(OR(C28939=\"\",ISBLANK(C28939)),\"\",VLOOKUP(C28939,Sheet2!A:F,2,FALSE))","v":""},{"$f":"IF(OR(C28939=\"\",ISBLANK(C28939)),\"\",VLOOKUP(C28939,Sheet2!A:G,4,FALSE))","v":""},null,null,{"$f":"IF(OR(C28939=\"\",ISBLANK(C28939)),\"\",VLOOKUP(C28939,Sheet2!A:F,3,FALSE))","v":""},{"$f":"IF(OR(C28939=\"\",ISBLANK(C28939)),\"\",VLOOKUP(C28939,Sheet2!A:G,6,FALSE))","v":""},""]
[{"$f":"IF(OR(C28972=\"\",ISBLANK(C28972)),\"\",VLOOKUP(C28972,Sheet2!A:F,2,FALSE))","v":""},{"$f":"IF(OR(C28972=\"\",ISBLANK(C28972)),\"\",VLOOKUP(C28972,Sheet2!A:G,4,FALSE))","v":""},null,null,{"$f":"IF(OR(C28972=\"\",ISBLANK(C28972)),\"\",VLOOKUP(C28972,Sheet2!A:F,3,FALSE))","v":""},{"$f":"IF(OR(C28972=\"\",ISBLANK(C28972)),\"\",VLOOKUP(C28972,Sheet2!A:G,6,FALSE))","v":""},""]
[{"$f":"IF(OR(C28997=\"\",ISBLANK(C28997)),\"\",VLOOKUP(C28997,Sheet2!A:F,2,FALSE))","v":""},{"$f":"IF(OR(C28997=\"\",ISBLANK(C28997)),\"\",VLOOKUP(C28997,Sheet2!A:G,4,FALSE))","v":""},null,null,{"$f":"IF(OR(C28997=\"\",ISBLANK(C28997)),\"\",VLOOKUP(C28997,Sheet2!A:F,3,FALSE))","v":""},{"$f":"IF(OR(C28997=\"\",ISBLANK(C28997)),\"\",VLOOKUP(C28997,Sheet2!A:G,6,FALSE))","v":""},""]
[{"$f":"IF(OR(C29006=\"\",ISBLANK(C29006)),\"\",VLOOKUP(C29006,Sheet2!A:F,2,FALSE))","v":""},{"$f":"IF(OR(C29006=\"\",ISBLANK(C29006)),\"\",VLOOKUP(C29006,Sheet2!A:G,4,FALSE))","v":""},null,null,{"$f":"IF(OR(C29006=\"\",ISBLANK(C29006)),\"\",VLOOKUP(C29006,Sheet2!A:F,3,FALSE))","v":""},{"$f":"IF(OR(C29006=\"\",ISBLANK(C29006)),\"\",VLOOKUP(C29006,Sheet2!A:G,6,FALSE))","v":""},""]
[{"$f":"IF(OR(C29031=\"\",ISBLANK(C29031)),\"\",VLOOKUP(C29031,Sheet2!A:F,2,FALSE))","v":""},{"$f":"IF(OR(C29031=\"\",ISBLANK(C29031)),\"\",VLOOKUP(C29031,Sheet2!A:G,4,FALSE))","v":""},null,null,{"$f":"IF(OR(C29031=\"\",ISBLANK(C29031)),\"\",VLOOKUP(C29031,Sheet2!A:F,3,FALSE))","v":""},{"$f":"IF(OR(C29031=\"\",ISBLANK(C29031)),\"\",VLOOKUP(C29031,Sheet2!A:G,6,FALSE))","v":""},""]
[{"$f":"IF(OR(C29064=\"\",ISBLANK(C29064)),\"\",VLOOKUP(C29064,Sheet2!A:F,2,FALSE))","v":""},{"$f":"IF(OR(C29064=\"\",ISBLANK(C29064)),\"\",VLOOKUP(C29064,Sheet2!A:G,4,FALSE))","v":""},null,null,{"$f":"IF(OR(C29064=\"\",ISBLANK(C29064)),\"\",VLOOKUP(C29064,Sheet2!A:F,3,FALSE))","v":""},{"$f":"IF(OR(C29064=\"\",ISBLANK(C29064)),\"\",VLOOKUP(C29064,Sheet2!A:G,6,FALSE))","v":""},""]
[{"$f":"IF(OR(C29097=\"\",ISBLANK(C29097)),\"\",VLOOKUP(C29097,Sheet2!A:F,2,FALSE))","v":""},{"$f":"IF(OR(C29097=\"\",ISBLANK(C29097)),\"\",VLOOKUP(C29097,Sheet2!A:G,4,FALSE))","v":""},null,null,{"$f":"IF(OR(C29097=\"\",ISBLANK(C29097)),\"\",VLOOKUP(C29097,Sheet2!A:F,3,FALSE))","v":""},{"$f":"IF(OR(C29097=\"\",ISBLANK(C29097)),\"\",VLOOKUP(C29097,Sheet2!A:G,6,FALSE))","v":""},""]
[{"$f":"IF(OR(C29119=\"\",ISBLANK(C29119)),\"\",VLOOKUP(C29119,Sheet2!A:F,2,FALSE))","v":""},{"$f":"IF(OR(C29119=\"\",ISBLANK(C29119)),\"\",VLOOKUP(C29119,Sheet2!A:G,4,FALSE))","v":""},null,null,{"$f":"IF(OR(C29119=\"\",ISBLANK(C29119)),\"\",VLOOKUP(C29119,Sheet2!A:F,3,FALSE))","v":""},{"$f":"IF(OR(C29119=\"\",ISBLANK(C29119)),\"\",VLOOKUP(C29119,Sheet2!A:G,6,FALSE))","v":""},""]
[{"$f":"IF(OR(C29130=\"\",ISBLANK(C29130)),\"\",VLOOKUP(C29130,Sheet2!A:F,2,FALSE))","v":""},{"$f":"IF(OR(C29130=\"\",ISBLANK(C29130)),\"\",VLOOKUP(C29130,Sheet2!A:G,4,FALSE))","v":""},null,null,{"$f":"IF(OR(C29130=\"\",ISBLANK(C29130)),\"\",VLOOKUP(C29130,Sheet2!A:F,3,FALSE))","v":""},{"$f":"IF(OR(C29130=\"\",ISBLANK(C29130)),\"\",VLOOKUP(C29130,Sheet2!A:G,6,FALSE))","v":""},""]
[{"$f":"IF(OR(C29163=\"\",ISBLANK(C29163)),\"\",VLOOKUP(C29163,Sheet2!A:F,2,FALSE))","v":""},{"$f":"IF(OR(C29163=\"\",ISBLANK(C29163)),\"\",VLOOKUP(C29163,Sheet2!A:G,4,FALSE))","v":""},null,null,{"$f":"IF(OR(C29163=\"\",ISBLANK(C29163)),\"\",VLOOKUP(C29163,Sheet2!A:F,3,FALSE))","v":""},{"$f":"IF(OR(C29163=\"\",ISBLANK(C29163)),\"\",VLOOKUP(C29163,Sheet2!A:G,6,FALSE))","v":""},""]
[{"$f":"IF(OR(C29188=\"\",ISBLANK(C29188)),\"\",VLOOKUP(C29188,Sheet2!A:F,2,FALSE))","v":""},{"$f":"IF(OR(C29188=\"\",ISBLANK(C29188)),\"\",VLOOKUP(C29188,Sheet2!A:G,4,FALSE))","v":""},null,null,{"$f":"IF(OR(C29188=\"\",ISBLANK(C29188)),\"\",VLOOKUP(C29188,Sheet2!A:F,3,FALSE))","v":""},{"$f":"IF(OR(C29188=\"\",ISBLANK(C29188)),\"\",VLOOKUP(C29188,Sheet2!A:G,6,FALSE))","v":""},""]
[{"$f":"IF(OR(C29197=\"\",ISBLANK(C29197)),\"\",VLOOKUP(C29197,Sheet2!A:F,2,FALSE))","v":""},{"$f":"IF(OR(C29197=\"\",ISBLANK(C29197)),\"\",VLOOKUP(C29197,Sheet2!A:G,4,FALSE))","v":""},null,null,{"$f":"IF(OR(C29197=\"\",ISBLANK(C29197)),\"\",VLOOKUP(C29197,Sheet2!A:F,3,FALSE))","v":""},{"$f":"IF(OR(C29197=\"\",ISBLANK(C29197)),\"\",VLOOKUP(C29197,Sheet2!A:G,6,FALSE))","v":""},""]
[{"$f":"IF(OR(C29222=\"\",ISBLANK(C29222)),\"\",VLOOKUP(C29222,Sheet2!A:F,2,FALSE))","v":""},{"$f":"IF(OR(C29222=\"\",ISBLANK(C29222)),\"\",VLOOKUP(C29222,Sheet2!A:G,4,FALSE))","v":""},null,null,{"$f":"IF(OR(C29222=\"\",ISBLANK(C29222)),\"\",VLOOKUP(C29222,Sheet2!A:F,3,FALSE))","v":""},{"$f":"IF(OR(C29222=\"\",ISBLANK(C29222)),\"\",VLOOKUP(C29222,Sheet2!A:G,6,FALSE))","v":""},""]
[{"$f":"IF(OR(C29255=\"\",ISBLANK(C29255)),\"\",VLOOKUP(C29255,Sheet2!A:F,2,FALSE))","v":""},{"$f":"IF(OR(C29255=\"\",ISBLANK(C29255)),\"\",VLOOKUP(C29255,Sheet2!A:G,4,FALSE))","v":""},null,null,{"$f":"IF(OR(C29255=\"\",ISBLANK(C29255)),\"\",VLOOKUP(C29255,Sheet2!A:F,3,FALSE))","v":""},{"$f":"IF(OR(C29255=\"\",ISBLANK(C29255)),\"\",VLOOKUP(C29255,Sheet2!A:G,6,FALSE))","v":""},""]
[{"$f":"IF(OR(C29288=\"\",ISBLANK(C29288)),\"\",VLOOKUP(C29288,Sheet2!A:F,2,FALSE))","v":""},{"$f":"IF(OR(C29288=\"\",ISBLANK(C29288)),\"\",VLOOKUP(C29288,Sheet2!A:G,4,FALSE))","v":""},null,null,{"$f":"IF(OR(C29288=\"\",ISBLANK(C29288)),\"\",VLOOKUP(C29288,Sheet2!A:F,3,FALSE))","v":""},{"$f":"IF(OR(C29288=\"\",ISBLANK(C29288)),\"\",VLOOKUP(C29288,Sheet2!A:G,6,FALSE))","v":""},""]
[{"$f":"IF(OR(C29313=\"\",ISBLANK(C29313)),\"\",VLOOKUP(C29313,Sheet2!A:F,2,FALSE))","v":""},{"$f":"IF(OR(C29313=\"\",ISBLANK(C29313)),\"\",VLOOKUP(C29313,Sheet2!A:G,4,FALSE))","v":""},null,null,{"$f":"IF(OR(C29313=\"\",ISBLANK(C29313)),\"\",VLOOKUP(C29313,Sheet2!A:F,3,FALSE))","v":""},{"$f":"IF(OR(C29313=\"\",ISBLANK(C29313)),\"\",VLOOKUP(C29313,Sheet2!A:G,6,FALSE))","v":""},""]
[{"$f":"IF(OR(C29322=\"\",ISBLANK(C29322)),\"\",VLOOKUP(C29322,Sheet2!A:F,2,FALSE))","v":""},{"$f":"IF(OR(C29322=\"\",ISBLANK(C29322)),\"\",VLOOKUP(C29322,Sheet2!A:G,4,FALSE))","v":""},null,null,{"$f":"IF(OR(C29322=\"\",ISBLANK(C29322)),\"\",VLOOKUP(C29322,Sheet2!A:F,3,FALSE))","v":""},{"$f":"IF(OR(C29322=\"\",ISBLANK(C29322)),\"\",VLOOKUP(C29322,Sheet2!A:G,6,FALSE))","v":""},""]
[{"$f":"IF(OR(C29338=\"\",ISBLANK(C29338)),\"\",VLOOKUP(C29338,Sheet2!A:F,2,FALSE))","v":""},{"$f":"IF(OR(C29338=\"\",ISBLANK(C29338)),\"\",VLOOKUP(C29338,Sheet2!A:G,4,FALSE))","v":""},null,null,{"$f":"IF(OR(C29338=\"\",ISBLANK(C29338)),\"\",VLOOKUP(C29338,Sheet2!A:F,3,FALSE))","v":""},{"$f":"IF(OR(C29338=\"\",ISBLANK(C29338)),\"\",VLOOKUP(C29338,Sheet2!A:G,6,FALSE))","v":""},""]
[{"$f":"IF(OR(C29379=\"\",ISBLANK(C29379)),\"\",VLOOKUP(C29379,Sheet2!A:F,2,FALSE))","v":""},{"$f":"IF(OR(C29379=\"\",ISBLANK(C29379)),\"\",VLOOKUP(C29379,Sheet2!A:G,4,FALSE))","v":""},null,null,{"$f":"IF(OR(C29379=\"\",ISBLANK(C29379)),\"\",VLOOKUP(C29379,Sheet2!A:F,3,FALSE))","v":""},{"$f":"IF(OR(C29379=\"\",ISBLANK(C29379)),\"\",VLOOKUP(C29379,Sheet2!A:G,6,FALSE))","v":""},{"$f":"IF(F29379=0,\"\",F29379)","v":""}]
[{"$f":"IF(OR(C29388=\"\",ISBLANK(C29388)),\"\",VLOOKUP(C29388,Sheet2!A:F,2,FALSE))","v":""},{"$f":"IF(OR(C29388=\"\",ISBLANK(C29388)),\"\",VLOOKUP(C29388,Sheet2!A:G,4,FALSE))","v":""},null,null,{"$f":"IF(OR(C29388=\"\",ISBLANK(C29388)),\"\",VLOOKUP(C29388,Sheet2!A:F,3,FALSE))","v":""},{"$f":"IF(OR(C29388=\"\",ISBLANK(C29388)),\"\",VLOOKUP(C29388,Sheet2!A:G,6,FALSE))","v":""},""]
[{"$f":"IF(OR(C29413=\"\",ISBLANK(C29413)),\"\",VLOOKUP(C29413,Sheet2!A:F,2,FALSE))","v":""},{"$f":"IF(OR(C29413=\"\",ISBLANK(C29413)),\"\",VLOOKUP(C29413,Sheet2!A:G,4,FALSE))","v":""},null,null,{"$f":"IF(OR(C29413=\"\",ISBLANK(C29413)),\"\",VLOOKUP(C29413,Sheet2!A:F,3,FALSE))","v":""},{"$f":"IF(OR(C29413=\"\",ISBLANK(C29413)),\"\",VLOOKUP(C29413,Sheet2!A:G,6,FALSE))","v":""},""]
[{"$f":"IF(OR(C29446=\"\",ISBLANK(C29446)),\"\",VLOOKUP(C29446,Sheet2!A:F,2,FALSE))","v":""},{"$f":"IF(OR(C29446=\"\",ISBLANK(C29446)),\"\",VLOOKUP(C29446,Sheet2!A:G,4,FALSE))","v":""},null,null,{"$f":"IF(OR(C29446=\"\",ISBLANK(C29446)),\"\",VLOOKUP(C29446,Sheet2!A:F,3,FALSE))","v":""},{"$f":"IF(OR(C29446=\"\",ISBLANK(C29446)),\"\",VLOOKUP(C29446,Sheet2!A:G,6,FALSE))","v":""},""]
[{"$f":"IF(OR(C29479=\"\",ISBLANK(C29479)),\"\",VLOOKUP(C29479,Sheet2!A:F,2,FALSE))","v":""},{"$f":"IF(OR(C29479=\"\",ISBLANK(C29479)),\"\",VLOOKUP(C29479,Sheet2!A:G,4,FALSE))","v":""},null,null,{"$f":"IF(OR(C29479=\"\",ISBLANK(C29479)),\"\",VLOOKUP(C29479,Sheet2!A:F,3,FALSE))","v":""},{"$f":"IF(OR(C29479=\"\",ISBLANK(C29479)),\"\",VLOOKUP(C29479,Sheet2!A:G,6,FALSE))","v":""},""]
[{"$f":"IF(OR(C29504=\"\",ISBLANK(C29504)),\"\",VLOOKUP(C29504,Sheet2!A:F,2,FALSE))","v":""},{"$f":"IF(OR(C29504=\"\",ISBLANK(C29504)),\"\",VLOOKUP(C29504,Sheet2!A:G,4,FALSE))","v":""},null,null,{"$f":"IF(OR(C29504=\"\",ISBLANK(C29504)),\"\",VLOOKUP(C29504,Sheet2!A:F,3,FALSE))","v":""},{"$f":"IF(OR(C29504=\"\",ISBLANK(C29504)),\"\",VLOOKUP(C29504,Sheet2!A:G,6,FALSE))","v":""},""]
[{"$f":"IF(OR(C29513=\"\",ISBLANK(C29513)),\"\",VLOOKUP(C29513,Sheet2!A:F,2,FALSE))","v":""},{"$f":"IF(OR(C29513=\"\",ISBLANK(C29513)),\"\",VLOOKUP(C29513,Sheet2!A:G,4,FALSE))","v":""},null,null,{"$f":"IF(OR(C29513=\"\",ISBLANK(C29513)),\"\",VLOOKUP(C29513,Sheet2!A:F,3,FALSE))","v":""},{"$f":"IF(OR(C29513=\"\",ISBLANK(C29513)),\"\",VLOOKUP(C29513,Sheet2!A:G,6,FALSE))","v":""},""]
[{"$f":"IF(OR(C29538=\"\",ISBLANK(C29538)),\"\",VLOOKUP(C29538,Sheet2!A:F,2,FALSE))","v":""},{"$f":"IF(OR(C29538=\"\",ISBLANK(C29538)),\"\",VLOOKUP(C29538,Sheet2!A:G,4,FALSE))","v":""},null,null,{"$f":"IF(OR(C29538=\"\",ISBLANK(C29538)),\"\",VLOOKUP(C29538,Sheet2!A:F,3,FALSE))","v":""},{"$f":"IF(OR(C29538=\"\",ISBLANK(C29538)),\"\",VLOOKUP(C29538,Sheet2!A:G,6,FALSE))","v":""},""]
[{"$f":"IF(OR(C29569=\"\",ISBLANK(C29569)),\"\",VLOOKUP(C29569,Sheet2!A:F,2,FALSE))","v":""},{"$f":"IF(OR(C29569=\"\",ISBLANK(C29569)),\"\",VLOOKUP(C29569,Sheet2!A:G,4,FALSE))","v":""},null,null,{"$f":"IF(OR(C29569=\"\",ISBLANK(C29569)),\"\",VLOOKUP(C29569,Sheet2!A:F,3,FALSE))","v":""},{"$f":"IF(OR(C29569=\"\",ISBLANK(C29569)),\"\",VLOOKUP(C29569,Sheet2!A:G,6,FALSE))","v":""},""]
[{"$f":"IF(OR(C29579=\"\",ISBLANK(C29579)),\"\",VLOOKUP(C29579,Sheet2!A:F,2,FALSE))","v":""},{"$f":"IF(OR(C29579=\"\",ISBLANK(C29579)),\"\",VLOOKUP(C29579,Sheet2!A:G,4,FALSE))","v":""},null,null,{"$f":"IF(OR(C29579=\"\",ISBLANK(C29579)),\"\",VLOOKUP(C29579,Sheet2!A:F,3,FALSE))","v":""},{"$f":"IF(OR(C29579=\"\",ISBLANK(C29579)),\"\",VLOOKUP(C29579,Sheet2!A:G,6,FALSE))","v":""},""]
[{"$f":"IF(OR(C29604=\"\",ISBLANK(C29604)),\"\",VLOOKUP(C29604,Sheet2!A:F,2,FALSE))","v":""},{"$f":"IF(OR(C29604=\"\",ISBLANK(C29604)),\"\",VLOOKUP(C29604,Sheet2!A:G,4,FALSE))","v":""},null,null,{"$f":"IF(OR(C29604=\"\",ISBLANK(C29604)),\"\",VLOOKUP(C29604,Sheet2!A:F,3,FALSE))","v":""},{"$f":"IF(OR(C29604=\"\",ISBLANK(C29604)),\"\",VLOOKUP(C29604,Sheet2!A:G,6,FALSE))","v":""},""]
[{"$f":"IF(OR(C29637=\"\",ISBLANK(C29637)),\"\",VLOOKUP(C29637,Sheet2!A:F,2,FALSE))","v":""},{"$f":"IF(OR(C29637=\"\",ISBLANK(C29637)),\"\",VLOOKUP(C29637,Sheet2!A:G,4,FALSE))","v":""},null,null,{"$f":"IF(OR(C29637=\"\",ISBLANK(C29637)),\"\",VLOOKUP(C29637,Sheet2!A:F,3,FALSE))","v":""},{"$f":"IF(OR(C29637=\"\",ISBLANK(C29637)),\"\",VLOOKUP(C29637,Sheet2!A:G,6,FALSE))","v":""},""]
[{"$f":"IF(OR(C29670=\"\",ISBLANK(C29670)),\"\",VLOOKUP(C29670,Sheet2!A:F,2,FALSE))","v":""},{"$f":"IF(OR(C29670=\"\",ISBLANK(C29670)),\"\",VLOOKUP(C29670,Sheet2!A:G,4,FALSE))","v":""},null,null,{"$f":"IF(OR(C29670=\"\",ISBLANK(C29670)),\"\",VLOOKUP(C29670,Sheet2!A:F,3,FALSE))","v":""},{"$f":"IF(OR(C29670=\"\",ISBLANK(C29670)),\"\",VLOOKUP(C29670,Sheet2!A:G,6,FALSE))","v":""},""]
[{"$f":"IF(OR(C29695=\"\",ISBLANK(C29695)),\"\",VLOOKUP(C29695,Sheet2!A:F,2,FALSE))","v":""},{"$f":"IF(OR(C29695=\"\",ISBLANK(C29695)),\"\",VLOOKUP(C29695,Sheet2!A:G,4,FALSE))","v":""},null,null,{"$f":"IF(OR(C29695=\"\",ISBLANK(C29695)),\"\",VLOOKUP(C29695,Sheet2!A:F,3,FALSE))","v":""},{"$f":"IF(OR(C29695=\"\",ISBLANK(C29695)),\"\",VLOOKUP(C29695,Sheet2!A:G,6,FALSE))","v":""},""]
[{"$f":"IF(OR(C29704=\"\",ISBLANK(C29704)),\"\",VLOOKUP(C29704,Sheet2!A:F,2,FALSE))","v":""},{"$f":"IF(OR(C29704=\"\",ISBLANK(C29704)),\"\",VLOOKUP(C29704,Sheet2!A:G,4,FALSE))","v":""},null,null,{"$f":"IF(OR(C29704=\"\",ISBLANK(C29704)),\"\",VLOOKUP(C29704,Sheet2!A:F,3,FALSE))","v":""},{"$f":"IF(OR(C29704=\"\",ISBLANK(C29704)),\"\",VLOOKUP(C29704,Sheet2!A:G,6,FALSE))","v":""},""]
[{"$f":"IF(OR(C29729=\"\",ISBLANK(C29729)),\"\",VLOOKUP(C29729,Sheet2!A:F,2,FALSE))","v":""},{"$f":"IF(OR(C29729=\"\",ISBLANK(C29729)),\"\",VLOOKUP(C29729,Sheet2!A:G,4,FALSE))","v":""},null,null,{"$f":"IF(OR(C29729=\"\",ISBLANK(C29729)),\"\",VLOOKUP(C29729,Sheet2!A:F,3,FALSE))","v":""},{"$f":"IF(OR(C29729=\"\",ISBLANK(C29729)),\"\",VLOOKUP(C29729,Sheet2!A:G,6,FALSE))","v":""},""]
[{"$f":"IF(OR(C29762=\"\",ISBLANK(C29762)),\"\",VLOOKUP(C29762,Sheet2!A:F,2,FALSE))","v":""},{"$f":"IF(OR(C29762=\"\",ISBLANK(C29762)),\"\",VLOOKUP(C29762,Sheet2!A:G,4,FALSE))","v":""},null,null,{"$f":"IF(OR(C29762=\"\",ISBLANK(C29762)),\"\",VLOOKUP(C29762,Sheet2!A:F,3,FALSE))","v":""},{"$f":"IF(OR(C29762=\"\",ISBLANK(C29762)),\"\",VLOOKUP(C29762,Sheet2!A:G,6,FALSE))","v":""},""]
[{"$f":"IF(OR(C29771=\"\",ISBLANK(C29771)),\"\",VLOOKUP(C29771,Sheet2!A:F,2,FALSE))","v":""},{"$f":"IF(OR(C29771=\"\",ISBLANK(C29771)),\"\",VLOOKUP(C29771,Sheet2!A:G,4,FALSE))","v":""},null,null,{"$f":"IF(OR(C29771=\"\",ISBLANK(C29771)),\"\",VLOOKUP(C29771,Sheet2!A:F,3,FALSE))","v":""},{"$f":"IF(OR(C29771=\"\",ISBLANK(C29771)),\"\",VLOOKUP(C29771,Sheet2!A:G,6,FALSE))","v":""},""]
[{"$f":"IF(OR(C29800=\"\",ISBLANK(C29800)),\"\",VLOOKUP(C29800,Sheet2!A:F,2,FALSE))","v":""},{"$f":"IF(OR(C29800=\"\",ISBLANK(C29800)),\"\",VLOOKUP(C29800,Sheet2!A:G,4,FALSE))","v":""},null,null,{"$f":"IF(OR(C29800=\"\",ISBLANK(C29800)),\"\",VLOOKUP(C29800,Sheet2!A:F,3,FALSE))","v":""},{"$f":"IF(OR(C29800=\"\",ISBLANK(C29800)),\"\",VLOOKUP(C29800,Sheet2!A:G,6,FALSE))","v":""},""]
[{"$f":"IF(OR(C29828=\"\",ISBLANK(C29828)),\"\",VLOOKUP(C29828,Sheet2!A:F,2,FALSE))","v":""},{"$f":"IF(OR(C29828=\"\",ISBLANK(C29828)),\"\",VLOOKUP(C29828,Sheet2!A:G,4,FALSE))","v":""},null,null,{"$f":"IF(OR(C29828=\"\",ISBLANK(C29828)),\"\",VLOOKUP(C29828,Sheet2!A:F,3,FALSE))","v":""},{"$f":"IF(OR(C29828=\"\",ISBLANK(C29828)),\"\",VLOOKUP(C29828,Sheet2!A:G,6,FALSE))","v":""},""]
[{"$f":"IF(OR(C29861=\"\",ISBLANK(C29861)),\"\",VLOOKUP(C29861,Sheet2!A:F,2,FALSE))","v":""},{"$f":"IF(OR(C29861=\"\",ISBLANK(C29861)),\"\",VLOOKUP(C29861,Sheet2!A:G,4,FALSE))","v":""},null,null,{"$f":"IF(OR(C29861=\"\",ISBLANK(C29861)),\"\",VLOOKUP(C29861,Sheet2!A:F,3,FALSE))","v":""},{"$f":"IF(OR(C29861=\"\",ISBLANK(C29861)),\"\",VLOOKUP(C29861,Sheet2!A:G,6,FALSE))","v":""},""]
[{"$f":"IF(OR(C29886=\"\",ISBLANK(C29886)),\"\",VLOOKUP(C29886,Sheet2!A:F,2,FALSE))","v":""},{"$f":"IF(OR(C29886=\"\",ISBLANK(C29886)),\"\",VLOOKUP(C29886,Sheet2!A:G,4,FALSE))","v":""},null,null,{"$f":"IF(OR(C29886=\"\",ISBLANK(C29886)),\"\",VLOOKUP(C29886,Sheet2!A:F,3,FALSE))","v":""},{"$f":"IF(OR(C29886=\"\",ISBLANK(C29886)),\"\",VLOOKUP(C29886,Sheet2!A:G,6,FALSE))","v":""},""]
[{"$f":"IF(OR(C29895=\"\",ISBLANK(C29895)),\"\",VLOOKUP(C29895,Sheet2!A:F,2,FALSE))","v":""},{"$f":"IF(OR(C29895=\"\",ISBLANK(C29895)),\"\",VLOOKUP(C29895,Sheet2!A:G,4,FALSE))","v":""},null,null,{"$f":"IF(OR(C29895=\"\",ISBLANK(C29895)),\"\",VLOOKUP(C29895,Sheet2!A:F,3,FALSE))","v":""},{"$f":"IF(OR(C29895=\"\",ISBLANK(C29895)),\"\",VLOOKUP(C29895,Sheet2!A:G,6,FALSE))","v":""},""]
[{"$f":"IF(OR(C29920=\"\",ISBLANK(C29920)),\"\",VLOOKUP(C29920,Sheet2!A:F,2,FALSE))","v":""},{"$f":"IF(OR(C29920=\"\",ISBLANK(C29920)),\"\",VLOOKUP(C29920,Sheet2!A:G,4,FALSE))","v":""},null,null,{"$f":"IF(OR(C29920=\"\",ISBLANK(C29920)),\"\",VLOOKUP(C29920,Sheet2!A:F,3,FALSE))","v":""},{"$f":"IF(OR(C29920=\"\",ISBLANK(C29920)),\"\",VLOOKUP(C29920,Sheet2!A:G,6,FALSE))","v":""},""]
[{"$f":"IF(OR(C29953=\"\",ISBLANK(C29953)),\"\",VLOOKUP(C29953,Sheet2!A:F,2,FALSE))","v":""},{"$f":"IF(OR(C29953=\"\",ISBLANK(C29953)),\"\",VLOOKUP(C29953,Sheet2!A:G,4,FALSE))","v":""},null,null,{"$f":"IF(OR(C29953=\"\",ISBLANK(C29953)),\"\",VLOOKUP(C29953,Sheet2!A:F,3,FALSE))","v":""},{"$f":"IF(OR(C29953=\"\",ISBLANK(C29953)),\"\",VLOOKUP(C29953,Sheet2!A:G,6,FALSE))","v":""},""]
[{"$f":"IF(OR(C29962=\"\",ISBLANK(C29962)),\"\",VLOOKUP(C29962,Sheet2!A:F,2,FALSE))","v":""},{"$f":"IF(OR(C29962=\"\",ISBLANK(C29962)),\"\",VLOOKUP(C29962,Sheet2!A:G,4,FALSE))","v":""},null,null,{"$f":"IF(OR(C29962=\"\",ISBLANK(C29962)),\"\",VLOOKUP(C29962,Sheet2!A:F,3,FALSE))","v":""},{"$f":"IF(OR(C29962=\"\",ISBLANK(C29962)),\"\",VLOOKUP(C29962,Sheet2!A:G,6,FALSE))","v":""},""]
[{"$f":"IF(OR(C29987=\"\",ISBLANK(C29987)),\"\",VLOOKUP(C29987,Sheet2!A:F,2,FALSE))","v":""},{"$f":"IF(OR(C29987=\"\",ISBLANK(C29987)),\"\",VLOOKUP(C29987,Sheet2!A:G,4,FALSE))","v":""},null,null,{"$f":"IF(OR(C29987=\"\",ISBLANK(C29987)),\"\",VLOOKUP(C29987,Sheet2!A:F,3,FALSE))","v":""},{"$f":"IF(OR(C29987=\"\",ISBLANK(C29987)),\"\",VLOOKUP(C29987,Sheet2!A:G,6,FALSE))","v":""},""]
[{"$f":"IF(OR(C30020=\"\",ISBLANK(C30020)),\"\",VLOOKUP(C30020,Sheet2!A:F,2,FALSE))","v":""},{"$f":"IF(OR(C30020=\"\",ISBLANK(C30020)),\"\",VLOOKUP(C30020,Sheet2!A:G,4,FALSE))","v":""},null,null,{"$f":"IF(OR(C30020=\"\",ISBLANK(C30020)),\"\",VLOOKUP(C30020,Sheet2!A:F,3,FALSE))","v":""},{"$f":"IF(OR(C30020=\"\",ISBLANK(C30020)),\"\",VLOOKUP(C30020,Sheet2!A:G,6,FALSE))","v":""},""]
[{"$f":"IF(OR(C30031=\"\",ISBLANK(C30031)),\"\",VLOOKUP(C30031,Sheet2!A:F,2,FALSE))","v":""},{"$f":"IF(OR(C30031=\"\",ISBLANK(C30031)),\"\",VLOOKUP(C30031,Sheet2!A:G,4,FALSE))","v":""},null,null,{"$f":"IF(OR(C30031=\"\",ISBLANK(C30031)),\"\",VLOOKUP(C30031,Sheet2!A:F,3,FALSE))","v":""},{"$f":"IF(OR(C30031=\"\",ISBLANK(C30031)),\"\",VLOOKUP(C30031,Sheet2!A:G,6,FALSE))","v":""},""]
[{"$f":"IF(OR(C30077=\"\",ISBLANK(C30077)),\"\",VLOOKUP(C30077,Sheet2!A:F,2,FALSE))","v":""},{"$f":"IF(OR(C30077=\"\",ISBLANK(C30077)),\"\",VLOOKUP(C30077,Sheet2!A:G,4,FALSE))","v":""},null,null,{"$f":"IF(OR(C30077=\"\",ISBLANK(C30077)),\"\",VLOOKUP(C30077,Sheet2!A:F,3,FALSE))","v":""},{"$f":"IF(OR(C30077=\"\",ISBLANK(C30077)),\"\",VLOOKUP(C30077,Sheet2!A:G,6,FALSE))","v":""},""]
[{"$f":"IF(OR(C30086=\"\",ISBLANK(C30086)),\"\",VLOOKUP(C30086,Sheet2!A:F,2,FALSE))","v":""},{"$f":"IF(OR(C30086=\"\",ISBLANK(C30086)),\"\",VLOOKUP(C30086,Sheet2!A:G,4,FALSE))","v":""},null,null,{"$f":"IF(OR(C30086=\"\",ISBLANK(C30086)),\"\",VLOOKUP(C30086,Sheet2!A:F,3,FALSE))","v":""},{"$f":"IF(OR(C30086=\"\",ISBLANK(C30086)),\"\",VLOOKUP(C30086,Sheet2!A:G,6,FALSE))","v":""},""]
[{"$f":"IF(OR(C30111=\"\",ISBLANK(C30111)),\"\",VLOOKUP(C30111,Sheet2!A:F,2,FALSE))","v":""},{"$f":"IF(OR(C30111=\"\",ISBLANK(C30111)),\"\",VLOOKUP(C30111,Sheet2!A:G,4,FALSE))","v":""},null,null,{"$f":"IF(OR(C30111=\"\",ISBLANK(C30111)),\"\",VLOOKUP(C30111,Sheet2!A:F,3,FALSE))","v":""},{"$f":"IF(OR(C30111=\"\",ISBLANK(C30111)),\"\",VLOOKUP(C30111,Sheet2!A:G,6,FALSE))","v":""},""]
[{"$f":"IF(OR(C30144=\"\",ISBLANK(C30144)),\"\",VLOOKUP(C30144,Sheet2!A:F,2,FALSE))","v":""},{"$f":"IF(OR(C30144=\"\",ISBLANK(C30144)),\"\",VLOOKUP(C30144,Sheet2!A:G,4,FALSE))","v":""},null,null,{"$f":"IF(OR(C30144=\"\",ISBLANK(C30144)),\"\",VLOOKUP(C30144,Sheet2!A:F,3,FALSE))","v":""},{"$f":"IF(OR(C30144=\"\",ISBLANK(C30144)),\"\",VLOOKUP(C30144,Sheet2!A:G,6,FALSE))","v":""},""]
[{"$f":"IF(OR(C30153=\"\",ISBLANK(C30153)),\"\",VLOOKUP(C30153,Sheet2!A:F,2,FALSE))","v":""},{"$f":"IF(OR(C30153=\"\",ISBLANK(C30153)),\"\",VLOOKUP(C30153,Sheet2!A:G,4,FALSE))","v":""},null,null,{"$f":"IF(OR(C30153=\"\",ISBLANK(C30153)),\"\",VLOOKUP(C30153,Sheet2!A:F,3,FALSE))","v":""},{"$f":"IF(OR(C30153=\"\",ISBLANK(C30153)),\"\",VLOOKUP(C30153,Sheet2!A:G,6,FALSE))","v":""},""]
[{"$f":"IF(OR(C30178=\"\",ISBLANK(C30178)),\"\",VLOOKUP(C30178,Sheet2!A:F,2,FALSE))","v":""},{"$f":"IF(OR(C30178=\"\",ISBLANK(C30178)),\"\",VLOOKUP(C30178,Sheet2!A:G,4,FALSE))","v":""},null,null,{"$f":"IF(OR(C30178=\"\",ISBLANK(C30178)),\"\",VLOOKUP(C30178,Sheet2!A:F,3,FALSE))","v":""},{"$f":"IF(OR(C30178=\"\",ISBLANK(C30178)),\"\",VLOOKUP(C30178,Sheet2!A:G,6,FALSE))","v":""},""]
[{"$f":"IF(OR(C30211=\"\",ISBLANK(C30211)),\"\",VLOOKUP(C30211,Sheet2!A:F,2,FALSE))","v":""},{"$f":"IF(OR(C30211=\"\",ISBLANK(C30211)),\"\",VLOOKUP(C30211,Sheet2!A:G,4,FALSE))","v":""},null,null,{"$f":"IF(OR(C30211=\"\",ISBLANK(C30211)),\"\",VLOOKUP(C30211,Sheet2!A:F,3,FALSE))","v":""},{"$f":"IF(OR(C30211=\"\",ISBLANK(C30211)),\"\",VLOOKUP(C30211,Sheet2!A:G,6,FALSE))","v":""},{"$f":"IF(F30211=0,\"\",F30211)","v":""}]
[{"$f":"IF(OR(C30236=\"\",ISBLANK(C30236)),\"\",VLOOKUP(C30236,Sheet2!A:F,2,FALSE))","v":""},{"$f":"IF(OR(C30236=\"\",ISBLANK(C30236)),\"\",VLOOKUP(C30236,Sheet2!A:G,4,FALSE))","v":""},null,null,{"$f":"IF(OR(C30236=\"\",ISBLANK(C30236)),\"\",VLOOKUP(C30236,Sheet2!A:F,3,FALSE))","v":""},{"$f":"IF(OR(C30236=\"\",ISBLANK(C30236)),\"\",VLOOKUP(C30236,Sheet2!A:G,6,FALSE))","v":""},""]
[{"$f":"IF(OR(C30250=\"\",ISBLANK(C30250)),\"\",VLOOKUP(C30250,Sheet2!A:F,2,FALSE))","v":""},{"$f":"IF(OR(C30250=\"\",ISBLANK(C30250)),\"\",VLOOKUP(C30250,Sheet2!A:G,4,FALSE))","v":""},null,null,{"$f":"IF(OR(C30250=\"\",ISBLANK(C30250)),\"\",VLOOKUP(C30250,Sheet2!A:F,3,FALSE))","v":""},{"$f":"IF(OR(C30250=\"\",ISBLANK(C30250)),\"\",VLOOKUP(C30250,Sheet2!A:G,6,FALSE))","v":""},""]
[{"$f":"IF(OR(C30277=\"\",ISBLANK(C30277)),\"\",VLOOKUP(C30277,Sheet2!A:F,2,FALSE))","v":""},{"$f":"IF(OR(C30277=\"\",ISBLANK(C30277)),\"\",VLOOKUP(C30277,Sheet2!A:G,4,FALSE))","v":""},null,null,{"$f":"IF(OR(C30277=\"\",ISBLANK(C30277)),\"\",VLOOKUP(C30277,Sheet2!A:F,3,FALSE))","v":""},{"$f":"IF(OR(C30277=\"\",ISBLANK(C30277)),\"\",VLOOKUP(C30277,Sheet2!A:G,6,FALSE))","v":""},""]
[{"$f":"IF(OR(C30302=\"\",ISBLANK(C30302)),\"\",VLOOKUP(C30302,Sheet2!A:F,2,FALSE))","v":""},{"$f":"IF(OR(C30302=\"\",ISBLANK(C30302)),\"\",VLOOKUP(C30302,Sheet2!A:G,4,FALSE))","v":""},null,null,{"$f":"IF(OR(C30302=\"\",ISBLANK(C30302)),\"\",VLOOKUP(C30302,Sheet2!A:F,3,FALSE))","v":""},{"$f":"IF(OR(C30302=\"\",ISBLANK(C30302)),\"\",VLOOKUP(C30302,Sheet2!A:G,6,FALSE))","v":""},""]
[{"$f":"IF(OR(C30335=\"\",ISBLANK(C30335)),\"\",VLOOKUP(C30335,Sheet2!A:F,2,FALSE))","v":""},{"$f":"IF(OR(C30335=\"\",ISBLANK(C30335)),\"\",VLOOKUP(C30335,Sheet2!A:G,4,FALSE))","v":""},null,null,{"$f":"IF(OR(C30335=\"\",ISBLANK(C30335)),\"\",VLOOKUP(C30335,Sheet2!A:F,3,FALSE))","v":""},{"$f":"IF(OR(C30335=\"\",ISBLANK(C30335)),\"\",VLOOKUP(C30335,Sheet2!A:G,6,FALSE))","v":""},""]
[{"$f":"IF(OR(C30360=\"\",ISBLANK(C30360)),\"\",VLOOKUP(C30360,Sheet2!A:F,2,FALSE))","v":""},{"$f":"IF(OR(C30360=\"\",ISBLANK(C30360)),\"\",VLOOKUP(C30360,Sheet2!A:G,4,FALSE))","v":""},null,null,{"$f":"IF(OR(C30360=\"\",ISBLANK(C30360)),\"\",VLOOKUP(C30360,Sheet2!A:F,3,FALSE))","v":""},{"$f":"IF(OR(C30360=\"\",ISBLANK(C30360)),\"\",VLOOKUP(C30360,Sheet2!A:G,6,FALSE))","v":""},""]
[{"$f":"IF(OR(C30369=\"\",ISBLANK(C30369)),\"\",VLOOKUP(C30369,Sheet2!A:F,2,FALSE))","v":""},{"$f":"IF(OR(C30369=\"\",ISBLANK(C30369)),\"\",VLOOKUP(C30369,Sheet2!A:G,4,FALSE))","v":""},null,null,{"$f":"IF(OR(C30369=\"\",ISBLANK(C30369)),\"\",VLOOKUP(C30369,Sheet2!A:F,3,FALSE))","v":""},{"$f":"IF(OR(C30369=\"\",ISBLANK(C30369)),\"\",VLOOKUP(C30369,Sheet2!A:G,6,FALSE))","v":""},""]
[{"$f":"IF(OR(C30402=\"\",ISBLANK(C30402)),\"\",VLOOKUP(C30402,Sheet2!A:F,2,FALSE))","v":""},{"$f":"IF(OR(C30402=\"\",ISBLANK(C30402)),\"\",VLOOKUP(C30402,Sheet2!A:G,4,FALSE))","v":""},null,null,{"$f":"IF(OR(C30402=\"\",ISBLANK(C30402)),\"\",VLOOKUP(C30402,Sheet2!A:F,3,FALSE))","v":""},{"$f":"IF(OR(C30402=\"\",ISBLANK(C30402)),\"\",VLOOKUP(C30402,Sheet2!A:G,6,FALSE))","v":""},""]
[{"$f":"IF(OR(C30427=\"\",ISBLANK(C30427)),\"\",VLOOKUP(C30427,Sheet2!A:F,2,FALSE))","v":""},{"$f":"IF(OR(C30427=\"\",ISBLANK(C30427)),\"\",VLOOKUP(C30427,Sheet2!A:G,4,FALSE))","v":""},null,null,{"$f":"IF(OR(C30427=\"\",ISBLANK(C30427)),\"\",VLOOKUP(C30427,Sheet2!A:F,3,FALSE))","v":""},{"$f":"IF(OR(C30427=\"\",ISBLANK(C30427)),\"\",VLOOKUP(C30427,Sheet2!A:G,6,FALSE))","v":""},""]
[{"$f":"IF(OR(C30460=\"\",ISBLANK(C30460)),\"\",VLOOKUP(C30460,Sheet2!A:F,2,FALSE))","v":""},{"$f":"IF(OR(C30460=\"\",ISBLANK(C30460)),\"\",VLOOKUP(C30460,Sheet2!A:G,4,FALSE))","v":""},null,null,{"$f":"IF(OR(C30460=\"\",ISBLANK(C30460)),\"\",VLOOKUP(C30460,Sheet2!A:F,3,FALSE))","v":""},{"$f":"IF(OR(C30460=\"\",ISBLANK(C30460)),\"\",VLOOKUP(C30460,Sheet2!A:G,6,FALSE))","v":""},""]
[{"$f":"IF(OR(C30469=\"\",ISBLANK(C30469)),\"\",VLOOKUP(C30469,Sheet2!A:F,2,FALSE))","v":""},{"$f":"IF(OR(C30469=\"\",ISBLANK(C30469)),\"\",VLOOKUP(C30469,Sheet2!A:G,4,FALSE))","v":""},null,null,{"$f":"IF(OR(C30469=\"\",ISBLANK(C30469)),\"\",VLOOKUP(C30469,Sheet2!A:F,3,FALSE))","v":""},{"$f":"IF(OR(C30469=\"\",ISBLANK(C30469)),\"\",VLOOKUP(C30469,Sheet2!A:G,6,FALSE))","v":""},""]
[{"$f":"IF(OR(C30504=\"\",ISBLANK(C30504)),\"\",VLOOKUP(C30504,Sheet2!A:F,2,FALSE))","v":""},{"$f":"IF(OR(C30504=\"\",ISBLANK(C30504)),\"\",VLOOKUP(C30504,Sheet2!A:G,4,FALSE))","v":""},null,null,{"$f":"IF(OR(C30504=\"\",ISBLANK(C30504)),\"\",VLOOKUP(C30504,Sheet2!A:F,3,FALSE))","v":""},{"$f":"IF(OR(C30504=\"\",ISBLANK(C30504)),\"\",VLOOKUP(C30504,Sheet2!A:G,6,FALSE))","v":""},""]
[{"$f":"IF(OR(C30526=\"\",ISBLANK(C30526)),\"\",VLOOKUP(C30526,Sheet2!A:F,2,FALSE))","v":""},{"$f":"IF(OR(C30526=\"\",ISBLANK(C30526)),\"\",VLOOKUP(C30526,Sheet2!A:G,4,FALSE))","v":""},null,null,{"$f":"IF(OR(C30526=\"\",ISBLANK(C30526)),\"\",VLOOKUP(C30526,Sheet2!A:F,3,FALSE))","v":""},{"$f":"IF(OR(C30526=\"\",ISBLANK(C30526)),\"\",VLOOKUP(C30526,Sheet2!A:G,6,FALSE))","v":""},""]
[{"$f":"IF(OR(C30551=\"\",ISBLANK(C30551)),\"\",VLOOKUP(C30551,Sheet2!A:F,2,FALSE))","v":""},{"$f":"IF(OR(C30551=\"\",ISBLANK(C30551)),\"\",VLOOKUP(C30551,Sheet2!A:G,4,FALSE))","v":""},null,null,{"$f":"IF(OR(C30551=\"\",ISBLANK(C30551)),\"\",VLOOKUP(C30551,Sheet2!A:F,3,FALSE))","v":""},{"$f":"IF(OR(C30551=\"\",ISBLANK(C30551)),\"\",VLOOKUP(C30551,Sheet2!A:G,6,FALSE))","v":""},""]
[{"$f":"IF(OR(C30560=\"\",ISBLANK(C30560)),\"\",VLOOKUP(C30560,Sheet2!A:F,2,FALSE))","v":""},{"$f":"IF(OR(C30560=\"\",ISBLANK(C30560)),\"\",VLOOKUP(C30560,Sheet2!A:G,4,FALSE))","v":""},null,null,{"$f":"IF(OR(C30560=\"\",ISBLANK(C30560)),\"\",VLOOKUP(C30560,Sheet2!A:F,3,FALSE))","v":""},{"$f":"IF(OR(C30560=\"\",ISBLANK(C30560)),\"\",VLOOKUP(C30560,Sheet2!A:G,6,FALSE))","v":""},""]
[{"$f":"IF(OR(C30593=\"\",ISBLANK(C30593)),\"\",VLOOKUP(C30593,Sheet2!A:F,2,FALSE))","v":""},{"$f":"IF(OR(C30593=\"\",ISBLANK(C30593)),\"\",VLOOKUP(C30593,Sheet2!A:G,4,FALSE))","v":""},null,null,{"$f":"IF(OR(C30593=\"\",ISBLANK(C30593)),\"\",VLOOKUP(C30593,Sheet2!A:F,3,FALSE))","v":""},{"$f":"IF(OR(C30593=\"\",ISBLANK(C30593)),\"\",VLOOKUP(C30593,Sheet2!A:G,6,FALSE))","v":""},""]
[{"$f":"IF(OR(C30618=\"\",ISBLANK(C30618)),\"\",VLOOKUP(C30618,Sheet2!A:F,2,FALSE))","v":""},{"$f":"IF(OR(C30618=\"\",ISBLANK(C30618)),\"\",VLOOKUP(C30618,Sheet2!A:G,4,FALSE))","v":""},null,null,{"$f":"IF(OR(C30618=\"\",ISBLANK(C30618)),\"\",VLOOKUP(C30618,Sheet2!A:F,3,FALSE))","v":""},{"$f":"IF(OR(C30618=\"\",ISBLANK(C30618)),\"\",VLOOKUP(C30618,Sheet2!A:G,6,FALSE))","v":""},""]
[{"$f":"IF(OR(C30651=\"\",ISBLANK(C30651)),\"\",VLOOKUP(C30651,Sheet2!A:F,2,FALSE))","v":""},{"$f":"IF(OR(C30651=\"\",ISBLANK(C30651)),\"\",VLOOKUP(C30651,Sheet2!A:G,4,FALSE))","v":""},null,null,{"$f":"IF(OR(C30651=\"\",ISBLANK(C30651)),\"\",VLOOKUP(C30651,Sheet2!A:F,3,FALSE))","v":""},{"$f":"IF(OR(C30651=\"\",ISBLANK(C30651)),\"\",VLOOKUP(C30651,Sheet2!A:G,6,FALSE))","v":""},""]
[{"$f":"IF(OR(C30660=\"\",ISBLANK(C30660)),\"\",VLOOKUP(C30660,Sheet2!A:F,2,FALSE))","v":""},{"$f":"IF(OR(C30660=\"\",ISBLANK(C30660)),\"\",VLOOKUP(C30660,Sheet2!A:G,4,FALSE))","v":""},null,null,{"$f":"IF(OR(C30660=\"\",ISBLANK(C30660)),\"\",VLOOKUP(C30660,Sheet2!A:F,3,FALSE))","v":""},{"$f":"IF(OR(C30660=\"\",ISBLANK(C30660)),\"\",VLOOKUP(C30660,Sheet2!A:G,6,FALSE))","v":""},""]
[{"$f":"IF(OR(C30685=\"\",ISBLANK(C30685)),\"\",VLOOKUP(C30685,Sheet2!A:F,2,FALSE))","v":""},{"$f":"IF(OR(C30685=\"\",ISBLANK(C30685)),\"\",VLOOKUP(C30685,Sheet2!A:G,4,FALSE))","v":""},null,null,{"$f":"IF(OR(C30685=\"\",ISBLANK(C30685)),\"\",VLOOKUP(C30685,Sheet2!A:F,3,FALSE))","v":""},{"$f":"IF(OR(C30685=\"\",ISBLANK(C30685)),\"\",VLOOKUP(C30685,Sheet2!A:G,6,FALSE))","v":""},""]
[{"$f":"IF(OR(C30700=\"\",ISBLANK(C30700)),\"\",VLOOKUP(C30700,Sheet2!A:F,2,FALSE))","v":""},{"$f":"IF(OR(C30700=\"\",ISBLANK(C30700)),\"\",VLOOKUP(C30700,Sheet2!A:G,4,FALSE))","v":""},null,null,{"$f":"IF(OR(C30700=\"\",ISBLANK(C30700)),\"\",VLOOKUP(C30700,Sheet2!A:F,3,FALSE))","v":""},{"$f":"IF(OR(C30700=\"\",ISBLANK(C30700)),\"\",VLOOKUP(C30700,Sheet2!A:G,6,FALSE))","v":""},""]
[{"$f":"IF(OR(C30742=\"\",ISBLANK(C30742)),\"\",VLOOKUP(C30742,Sheet2!A:F,2,FALSE))","v":""},{"$f":"IF(OR(C30742=\"\",ISBLANK(C30742)),\"\",VLOOKUP(C30742,Sheet2!A:G,4,FALSE))","v":""},null,null,{"$f":"IF(OR(C30742=\"\",ISBLANK(C30742)),\"\",VLOOKUP(C30742,Sheet2!A:F,3,FALSE))","v":""},{"$f":"IF(OR(C30742=\"\",ISBLANK(C30742)),\"\",VLOOKUP(C30742,Sheet2!A:G,6,FALSE))","v":""},""]
[{"$f":"IF(OR(C30751=\"\",ISBLANK(C30751)),\"\",VLOOKUP(C30751,Sheet2!A:F,2,FALSE))","v":""},{"$f":"IF(OR(C30751=\"\",ISBLANK(C30751)),\"\",VLOOKUP(C30751,Sheet2!A:G,4,FALSE))","v":""},null,null,{"$f":"IF(OR(C30751=\"\",ISBLANK(C30751)),\"\",VLOOKUP(C30751,Sheet2!A:F,3,FALSE))","v":""},{"$f":"IF(OR(C30751=\"\",ISBLANK(C30751)),\"\",VLOOKUP(C30751,Sheet2!A:G,6,FALSE))","v":""},""]
[{"$f":"IF(OR(C30784=\"\",ISBLANK(C30784)),\"\",VLOOKUP(C30784,Sheet2!A:F,2,FALSE))","v":""},{"$f":"IF(OR(C30784=\"\",ISBLANK(C30784)),\"\",VLOOKUP(C30784,Sheet2!A:G,4,FALSE))","v":""},null,null,{"$f":"IF(OR(C30784=\"\",ISBLANK(C30784)),\"\",VLOOKUP(C30784,Sheet2!A:F,3,FALSE))","v":""},{"$f":"IF(OR(C30784=\"\",ISBLANK(C30784)),\"\",VLOOKUP(C30784,Sheet2!A:G,6,FALSE))","v":""},""]
[{"$f":"IF(OR(C30809=\"\",ISBLANK(C30809)),\"\",VLOOKUP(C30809,Sheet2!A:F,2,FALSE))","v":""},{"$f":"IF(OR(C30809=\"\",ISBLANK(C30809)),\"\",VLOOKUP(C30809,Sheet2!A:G,4,FALSE))","v":""},null,null,{"$f":"IF(OR(C30809=\"\",ISBLANK(C30809)),\"\",VLOOKUP(C30809,Sheet2!A:F,3,FALSE))","v":""},{"$f":"IF(OR(C30809=\"\",ISBLANK(C30809)),\"\",VLOOKUP(C30809,Sheet2!A:G,6,FALSE))","v":""},""]
[{"$f":"IF(OR(C30842=\"\",ISBLANK(C30842)),\"\",VLOOKUP(C30842,Sheet2!A:F,2,FALSE))","v":""},{"$f":"IF(OR(C30842=\"\",ISBLANK(C30842)),\"\",VLOOKUP(C30842,Sheet2!A:G,4,FALSE))","v":""},null,null,{"$f":"IF(OR(C30842=\"\",ISBLANK(C30842)),\"\",VLOOKUP(C30842,Sheet2!A:F,3,FALSE))","v":""},{"$f":"IF(OR(C30842=\"\",ISBLANK(C30842)),\"\",VLOOKUP(C30842,Sheet2!A:G,6,FALSE))","v":""},""]
[{"$f":"IF(OR(C30843=\"\",ISBLANK(C30843)),\"\",VLOOKUP(C30843,Sheet2!A:F,2,FALSE))","v":""},{"$f":"IF(OR(C30843=\"\",ISBLANK(C30843)),\"\",VLOOKUP(C30843,Sheet2!A:G,4,FALSE))","v":""},null,null,{"$f":"IF(OR(C30843=\"\",ISBLANK(C30843)),\"\",VLOOKUP(C30843,Sheet2!A:F,3,FALSE))","v":""},{"$f":"IF(OR(C30843=\"\",ISBLANK(C30843)),\"\",VLOOKUP(C30843,Sheet2!A:G,6,FALSE))","v":""},""]
[{"$f":"IF(OR(C30876=\"\",ISBLANK(C30876)),\"\",VLOOKUP(C30876,Sheet2!A:F,2,FALSE))","v":""},{"$f":"IF(OR(C30876=\"\",ISBLANK(C30876)),\"\",VLOOKUP(C30876,Sheet2!A:G,4,FALSE))","v":""},null,null,{"$f":"IF(OR(C30876=\"\",ISBLANK(C30876)),\"\",VLOOKUP(C30876,Sheet2!A:F,3,FALSE))","v":""},{"$f":"IF(OR(C30876=\"\",ISBLANK(C30876)),\"\",VLOOKUP(C30876,Sheet2!A:G,6,FALSE))","v":""},""]
[{"$f":"IF(OR(C30909=\"\",ISBLANK(C30909)),\"\",VLOOKUP(C30909,Sheet2!A:F,2,FALSE))","v":""},{"$f":"IF(OR(C30909=\"\",ISBLANK(C30909)),\"\",VLOOKUP(C30909,Sheet2!A:G,4,FALSE))","v":""},null,null,{"$f":"IF(OR(C30909=\"\",ISBLANK(C30909)),\"\",VLOOKUP(C30909,Sheet2!A:F,3,FALSE))","v":""},{"$f":"IF(OR(C30909=\"\",ISBLANK(C30909)),\"\",VLOOKUP(C30909,Sheet2!A:G,6,FALSE))","v":""},""]
[{"$f":"IF(OR(C30934=\"\",ISBLANK(C30934)),\"\",VLOOKUP(C30934,Sheet2!A:F,2,FALSE))","v":""},{"$f":"IF(OR(C30934=\"\",ISBLANK(C30934)),\"\",VLOOKUP(C30934,Sheet2!A:G,4,FALSE))","v":""},null,null,{"$f":"IF(OR(C30934=\"\",ISBLANK(C30934)),\"\",VLOOKUP(C30934,Sheet2!A:F,3,FALSE))","v":""},{"$f":"IF(OR(C30934=\"\",ISBLANK(C30934)),\"\",VLOOKUP(C30934,Sheet2!A:G,6,FALSE))","v":""},""]
[{"$f":"IF(OR(C30954=\"\",ISBLANK(C30954)),\"\",VLOOKUP(C30954,Sheet2!A:F,2,FALSE))","v":""},{"$f":"IF(OR(C30954=\"\",ISBLANK(C30954)),\"\",VLOOKUP(C30954,Sheet2!A:G,4,FALSE))","v":""},null,null,{"$f":"IF(OR(C30954=\"\",ISBLANK(C30954)),\"\",VLOOKUP(C30954,Sheet2!A:F,3,FALSE))","v":""},{"$f":"IF(OR(C30954=\"\",ISBLANK(C30954)),\"\",VLOOKUP(C30954,Sheet2!A:G,6,FALSE))","v":""},""]
[{"$f":"IF(OR(C30975=\"\",ISBLANK(C30975)),\"\",VLOOKUP(C30975,Sheet2!A:F,2,FALSE))","v":""},{"$f":"IF(OR(C30975=\"\",ISBLANK(C30975)),\"\",VLOOKUP(C30975,Sheet2!A:G,4,FALSE))","v":""},null,null,{"$f":"IF(OR(C30975=\"\",ISBLANK(C30975)),\"\",VLOOKUP(C30975,Sheet2!A:F,3,FALSE))","v":""},{"$f":"IF(OR(C30975=\"\",ISBLANK(C30975)),\"\",VLOOKUP(C30975,Sheet2!A:G,6,FALSE))","v":""},""]
[{"$f":"IF(OR(C31000=\"\",ISBLANK(C31000)),\"\",VLOOKUP(C31000,Sheet2!A:F,2,FALSE))","v":""},{"$f":"IF(OR(C31000=\"\",ISBLANK(C31000)),\"\",VLOOKUP(C31000,Sheet2!A:G,4,FALSE))","v":""},null,null,{"$f":"IF(OR(C31000=\"\",ISBLANK(C31000)),\"\",VLOOKUP(C31000,Sheet2!A:F,3,FALSE))","v":""},{"$f":"IF(OR(C31000=\"\",ISBLANK(C31000)),\"\",VLOOKUP(C31000,Sheet2!A:G,6,FALSE))","v":""},""]
[{"$f":"IF(OR(C31033=\"\",ISBLANK(C31033)),\"\",VLOOKUP(C31033,Sheet2!A:F,2,FALSE))","v":""},{"$f":"IF(OR(C31033=\"\",ISBLANK(C31033)),\"\",VLOOKUP(C31033,Sheet2!A:G,4,FALSE))","v":""},null,null,{"$f":"IF(OR(C31033=\"\",ISBLANK(C31033)),\"\",VLOOKUP(C31033,Sheet2!A:F,3,FALSE))","v":""},{"$f":"IF(OR(C31033=\"\",ISBLANK(C31033)),\"\",VLOOKUP(C31033,Sheet2!A:G,6,FALSE))","v":""},""]
[{"$f":"IF(OR(C31034=\"\",ISBLANK(C31034)),\"\",VLOOKUP(C31034,Sheet2!A:F,2,FALSE))","v":""},{"$f":"IF(OR(C31034=\"\",ISBLANK(C31034)),\"\",VLOOKUP(C31034,Sheet2!A:G,4,FALSE))","v":""},null,null,{"$f":"IF(OR(C31034=\"\",ISBLANK(C31034)),\"\",VLOOKUP(C31034,Sheet2!A:F,3,FALSE))","v":""},{"$f":"IF(OR(C31034=\"\",ISBLANK(C31034)),\"\",VLOOKUP(C31034,Sheet2!A:G,6,FALSE))","v":""},""]
[{"$f":"IF(OR(C31067=\"\",ISBLANK(C31067)),\"\",VLOOKUP(C31067,Sheet2!A:F,2,FALSE))","v":""},{"$f":"IF(OR(C31067=\"\",ISBLANK(C31067)),\"\",VLOOKUP(C31067,Sheet2!A:G,4,FALSE))","v":""},null,null,{"$f":"IF(OR(C31067=\"\",ISBLANK(C31067)),\"\",VLOOKUP(C31067,Sheet2!A:F,3,FALSE))","v":""},{"$f":"IF(OR(C31067=\"\",ISBLANK(C31067)),\"\",VLOOKUP(C31067,Sheet2!A:G,6,FALSE))","v":""},""]
[{"$f":"IF(OR(C31100=\"\",ISBLANK(C31100)),\"\",VLOOKUP(C31100,Sheet2!A:F,2,FALSE))","v":""},{"$f":"IF(OR(C31100=\"\",ISBLANK(C31100)),\"\",VLOOKUP(C31100,Sheet2!A:G,4,FALSE))","v":""},null,null,{"$f":"IF(OR(C31100=\"\",ISBLANK(C31100)),\"\",VLOOKUP(C31100,Sheet2!A:F,3,FALSE))","v":""},{"$f":"IF(OR(C31100=\"\",ISBLANK(C31100)),\"\",VLOOKUP(C31100,Sheet2!A:G,6,FALSE))","v":""},""]
[{"$f":"IF(OR(C31125=\"\",ISBLANK(C31125)),\"\",VLOOKUP(C31125,Sheet2!A:F,2,FALSE))","v":""},{"$f":"IF(OR(C31125=\"\",ISBLANK(C31125)),\"\",VLOOKUP(C31125,Sheet2!A:G,4,FALSE))","v":""},null,null,{"$f":"IF(OR(C31125=\"\",ISBLANK(C31125)),\"\",VLOOKUP(C31125,Sheet2!A:F,3,FALSE))","v":""},{"$f":"IF(OR(C31125=\"\",ISBLANK(C31125)),\"\",VLOOKUP(C31125,Sheet2!A:G,6,FALSE))","v":""},""]
[{"$f":"IF(OR(C31134=\"\",ISBLANK(C31134)),\"\",VLOOKUP(C31134,Sheet2!A:F,2,FALSE))","v":""},{"$f":"IF(OR(C31134=\"\",ISBLANK(C31134)),\"\",VLOOKUP(C31134,Sheet2!A:G,4,FALSE))","v":""},null,null,{"$f":"IF(OR(C31134=\"\",ISBLANK(C31134)),\"\",VLOOKUP(C31134,Sheet2!A:F,3,FALSE))","v":""},{"$f":"IF(OR(C31134=\"\",ISBLANK(C31134)),\"\",VLOOKUP(C31134,Sheet2!A:G,6,FALSE))","v":""},""]
[{"$f":"IF(OR(C31167=\"\",ISBLANK(C31167)),\"\",VLOOKUP(C31167,Sheet2!A:F,2,FALSE))","v":""},{"$f":"IF(OR(C31167=\"\",ISBLANK(C31167)),\"\",VLOOKUP(C31167,Sheet2!A:G,4,FALSE))","v":""},null,null,{"$f":"IF(OR(C31167=\"\",ISBLANK(C31167)),\"\",VLOOKUP(C31167,Sheet2!A:F,3,FALSE))","v":""},{"$f":"IF(OR(C31167=\"\",ISBLANK(C31167)),\"\",VLOOKUP(C31167,Sheet2!A:G,6,FALSE))","v":""},""]
[{"$f":"IF(OR(C31185=\"\",ISBLANK(C31185)),\"\",VLOOKUP(C31185,Sheet2!A:F,2,FALSE))","v":""},{"$f":"IF(OR(C31185=\"\",ISBLANK(C31185)),\"\",VLOOKUP(C31185,Sheet2!A:G,4,FALSE))","v":""},null,null,{"$f":"IF(OR(C31185=\"\",ISBLANK(C31185)),\"\",VLOOKUP(C31185,Sheet2!A:F,3,FALSE))","v":""},{"$f":"IF(OR(C31185=\"\",ISBLANK(C31185)),\"\",VLOOKUP(C31185,Sheet2!A:G,6,FALSE))","v":""},""]
[{"$f":"IF(OR(C31224=\"\",ISBLANK(C31224)),\"\",VLOOKUP(C31224,Sheet2!A:F,2,FALSE))","v":""},{"$f":"IF(OR(C31224=\"\",ISBLANK(C31224)),\"\",VLOOKUP(C31224,Sheet2!A:G,4,FALSE))","v":""},null,null,{"$f":"IF(OR(C31224=\"\",ISBLANK(C31224)),\"\",VLOOKUP(C31224,Sheet2!A:F,3,FALSE))","v":""},{"$f":"IF(OR(C31224=\"\",ISBLANK(C31224)),\"\",VLOOKUP(C31224,Sheet2!A:G,6,FALSE))","v":""},""]
[{"$f":"IF(OR(C31225=\"\",ISBLANK(C31225)),\"\",VLOOKUP(C31225,Sheet2!A:F,2,FALSE))","v":""},{"$f":"IF(OR(C31225=\"\",ISBLANK(C31225)),\"\",VLOOKUP(C31225,Sheet2!A:G,4,FALSE))","v":""},null,null,{"$f":"IF(OR(C31225=\"\",ISBLANK(C31225)),\"\",VLOOKUP(C31225,Sheet2!A:F,3,FALSE))","v":""},{"$f":"IF(OR(C31225=\"\",ISBLANK(C31225)),\"\",VLOOKUP(C31225,Sheet2!A:G,6,FALSE))","v":""},""]
[{"$f":"IF(OR(C31258=\"\",ISBLANK(C31258)),\"\",VLOOKUP(C31258,Sheet2!A:F,2,FALSE))","v":""},{"$f":"IF(OR(C31258=\"\",ISBLANK(C31258)),\"\",VLOOKUP(C31258,Sheet2!A:G,4,FALSE))","v":""},null,null,{"$f":"IF(OR(C31258=\"\",ISBLANK(C31258)),\"\",VLOOKUP(C31258,Sheet2!A:F,3,FALSE))","v":""},{"$f":"IF(OR(C31258=\"\",ISBLANK(C31258)),\"\",VLOOKUP(C31258,Sheet2!A:G,6,FALSE))","v":""},""]
[{"$f":"IF(OR(C31291=\"\",ISBLANK(C31291)),\"\",VLOOKUP(C31291,Sheet2!A:F,2,FALSE))","v":""},{"$f":"IF(OR(C31291=\"\",ISBLANK(C31291)),\"\",VLOOKUP(C31291,Sheet2!A:G,4,FALSE))","v":""},null,null,{"$f":"IF(OR(C31291=\"\",ISBLANK(C31291)),\"\",VLOOKUP(C31291,Sheet2!A:F,3,FALSE))","v":""},{"$f":"IF(OR(C31291=\"\",ISBLANK(C31291)),\"\",VLOOKUP(C31291,Sheet2!A:G,6,FALSE))","v":""},""]
[{"$f":"IF(OR(C31316=\"\",ISBLANK(C31316)),\"\",VLOOKUP(C31316,Sheet2!A:F,2,FALSE))","v":""},{"$f":"IF(OR(C31316=\"\",ISBLANK(C31316)),\"\",VLOOKUP(C31316,Sheet2!A:G,4,FALSE))","v":""},null,null,{"$f":"IF(OR(C31316=\"\",ISBLANK(C31316)),\"\",VLOOKUP(C31316,Sheet2!A:F,3,FALSE))","v":""},{"$f":"IF(OR(C31316=\"\",ISBLANK(C31316)),\"\",VLOOKUP(C31316,Sheet2!A:G,6,FALSE))","v":""},""]
[{"$f":"IF(OR(C31325=\"\",ISBLANK(C31325)),\"\",VLOOKUP(C31325,Sheet2!A:F,2,FALSE))","v":""},{"$f":"IF(OR(C31325=\"\",ISBLANK(C31325)),\"\",VLOOKUP(C31325,Sheet2!A:G,4,FALSE))","v":""},null,null,{"$f":"IF(OR(C31325=\"\",ISBLANK(C31325)),\"\",VLOOKUP(C31325,Sheet2!A:F,3,FALSE))","v":""},{"$f":"IF(OR(C31325=\"\",ISBLANK(C31325)),\"\",VLOOKUP(C31325,Sheet2!A:G,6,FALSE))","v":""},""]
[{"$f":"IF(OR(C31350=\"\",ISBLANK(C31350)),\"\",VLOOKUP(C31350,Sheet2!A:F,2,FALSE))","v":""},{"$f":"IF(OR(C31350=\"\",ISBLANK(C31350)),\"\",VLOOKUP(C31350,Sheet2!A:G,4,FALSE))","v":""},null,null,{"$f":"IF(OR(C31350=\"\",ISBLANK(C31350)),\"\",VLOOKUP(C31350,Sheet2!A:F,3,FALSE))","v":""},{"$f":"IF(OR(C31350=\"\",ISBLANK(C31350)),\"\",VLOOKUP(C31350,Sheet2!A:G,6,FALSE))","v":""},""]
[{"$f":"IF(OR(C31383=\"\",ISBLANK(C31383)),\"\",VLOOKUP(C31383,Sheet2!A:F,2,FALSE))","v":""},{"$f":"IF(OR(C31383=\"\",ISBLANK(C31383)),\"\",VLOOKUP(C31383,Sheet2!A:G,4,FALSE))","v":""},null,null,{"$f":"IF(OR(C31383=\"\",ISBLANK(C31383)),\"\",VLOOKUP(C31383,Sheet2!A:F,3,FALSE))","v":""},{"$f":"IF(OR(C31383=\"\",ISBLANK(C31383)),\"\",VLOOKUP(C31383,Sheet2!A:G,6,FALSE))","v":""},""]
[{"$f":"IF(OR(C31404=\"\",ISBLANK(C31404)),\"\",VLOOKUP(C31404,Sheet2!A:F,2,FALSE))","v":""},{"$f":"IF(OR(C31404=\"\",ISBLANK(C31404)),\"\",VLOOKUP(C31404,Sheet2!A:G,4,FALSE))","v":""},null,null,{"$f":"IF(OR(C31404=\"\",ISBLANK(C31404)),\"\",VLOOKUP(C31404,Sheet2!A:F,3,FALSE))","v":""},{"$f":"IF(OR(C31404=\"\",ISBLANK(C31404)),\"\",VLOOKUP(C31404,Sheet2!A:G,6,FALSE))","v":""},""]
[{"$f":"IF(OR(C31416=\"\",ISBLANK(C31416)),\"\",VLOOKUP(C31416,Sheet2!A:F,2,FALSE))","v":""},{"$f":"IF(OR(C31416=\"\",ISBLANK(C31416)),\"\",VLOOKUP(C31416,Sheet2!A:G,4,FALSE))","v":""},null,null,{"$f":"IF(OR(C31416=\"\",ISBLANK(C31416)),\"\",VLOOKUP(C31416,Sheet2!A:F,3,FALSE))","v":""},{"$f":"IF(OR(C31416=\"\",ISBLANK(C31416)),\"\",VLOOKUP(C31416,Sheet2!A:G,6,FALSE))","v":""},""]
[{"$f":"IF(OR(C31449=\"\",ISBLANK(C31449)),\"\",VLOOKUP(C31449,Sheet2!A:F,2,FALSE))","v":""},{"$f":"IF(OR(C31449=\"\",ISBLANK(C31449)),\"\",VLOOKUP(C31449,Sheet2!A:G,4,FALSE))","v":""},null,null,{"$f":"IF(OR(C31449=\"\",ISBLANK(C31449)),\"\",VLOOKUP(C31449,Sheet2!A:F,3,FALSE))","v":""},{"$f":"IF(OR(C31449=\"\",ISBLANK(C31449)),\"\",VLOOKUP(C31449,Sheet2!A:G,6,FALSE))","v":""},""]
[{"$f":"IF(OR(C31482=\"\",ISBLANK(C31482)),\"\",VLOOKUP(C31482,Sheet2!A:F,2,FALSE))","v":""},{"$f":"IF(OR(C31482=\"\",ISBLANK(C31482)),\"\",VLOOKUP(C31482,Sheet2!A:G,4,FALSE))","v":""},null,null,{"$f":"IF(OR(C31482=\"\",ISBLANK(C31482)),\"\",VLOOKUP(C31482,Sheet2!A:F,3,FALSE))","v":""},{"$f":"IF(OR(C31482=\"\",ISBLANK(C31482)),\"\",VLOOKUP(C31482,Sheet2!A:G,6,FALSE))","v":""},""]
[{"$f":"IF(OR(C31507=\"\",ISBLANK(C31507)),\"\",VLOOKUP(C31507,Sheet2!A:F,2,FALSE))","v":""},{"$f":"IF(OR(C31507=\"\",ISBLANK(C31507)),\"\",VLOOKUP(C31507,Sheet2!A:G,4,FALSE))","v":""},null,null,{"$f":"IF(OR(C31507=\"\",ISBLANK(C31507)),\"\",VLOOKUP(C31507,Sheet2!A:F,3,FALSE))","v":""},{"$f":"IF(OR(C31507=\"\",ISBLANK(C31507)),\"\",VLOOKUP(C31507,Sheet2!A:G,6,FALSE))","v":""},""]
[{"$f":"IF(OR(C31516=\"\",ISBLANK(C31516)),\"\",VLOOKUP(C31516,Sheet2!A:F,2,FALSE))","v":""},{"$f":"IF(OR(C31516=\"\",ISBLANK(C31516)),\"\",VLOOKUP(C31516,Sheet2!A:G,4,FALSE))","v":""},null,null,{"$f":"IF(OR(C31516=\"\",ISBLANK(C31516)),\"\",VLOOKUP(C31516,Sheet2!A:F,3,FALSE))","v":""},{"$f":"IF(OR(C31516=\"\",ISBLANK(C31516)),\"\",VLOOKUP(C31516,Sheet2!A:G,6,FALSE))","v":""},""]
[{"$f":"IF(OR(C31541=\"\",ISBLANK(C31541)),\"\",VLOOKUP(C31541,Sheet2!A:F,2,FALSE))","v":""},{"$f":"IF(OR(C31541=\"\",ISBLANK(C31541)),\"\",VLOOKUP(C31541,Sheet2!A:G,4,FALSE))","v":""},null,null,{"$f":"IF(OR(C31541=\"\",ISBLANK(C31541)),\"\",VLOOKUP(C31541,Sheet2!A:F,3,FALSE))","v":""},{"$f":"IF(OR(C31541=\"\",ISBLANK(C31541)),\"\",VLOOKUP(C31541,Sheet2!A:G,6,FALSE))","v":""},""]
[{"$f":"IF(OR(C31574=\"\",ISBLANK(C31574)),\"\",VLOOKUP(C31574,Sheet2!A:F,2,FALSE))","v":""},{"$f":"IF(OR(C31574=\"\",ISBLANK(C31574)),\"\",VLOOKUP(C31574,Sheet2!A:G,4,FALSE))","v":""},null,null,{"$f":"IF(OR(C31574=\"\",ISBLANK(C31574)),\"\",VLOOKUP(C31574,Sheet2!A:F,3,FALSE))","v":""},{"$f":"IF(OR(C31574=\"\",ISBLANK(C31574)),\"\",VLOOKUP(C31574,Sheet2!A:G,6,FALSE))","v":""},""]
[{"$f":"IF(OR(C31607=\"\",ISBLANK(C31607)),\"\",VLOOKUP(C31607,Sheet2!A:F,2,FALSE))","v":""},{"$f":"IF(OR(C31607=\"\",ISBLANK(C31607)),\"\",VLOOKUP(C31607,Sheet2!A:G,4,FALSE))","v":""},null,null,{"$f":"IF(OR(C31607=\"\",ISBLANK(C31607)),\"\",VLOOKUP(C31607,Sheet2!A:F,3,FALSE))","v":""},{"$f":"IF(OR(C31607=\"\",ISBLANK(C31607)),\"\",VLOOKUP(C31607,Sheet2!A:G,6,FALSE))","v":""},""]
[{"$f":"IF(OR(C31608=\"\",ISBLANK(C31608)),\"\",VLOOKUP(C31608,Sheet2!A:F,2,FALSE))","v":""},{"$f":"IF(OR(C31608=\"\",ISBLANK(C31608)),\"\",VLOOKUP(C31608,Sheet2!A:G,4,FALSE))","v":""},null,null,{"$f":"IF(OR(C31608=\"\",ISBLANK(C31608)),\"\",VLOOKUP(C31608,Sheet2!A:F,3,FALSE))","v":""},{"$f":"IF(OR(C31608=\"\",ISBLANK(C31608)),\"\",VLOOKUP(C31608,Sheet2!A:G,6,FALSE))","v":""},""]
[{"$f":"IF(OR(C31635=\"\",ISBLANK(C31635)),\"\",VLOOKUP(C31635,Sheet2!A:F,2,FALSE))","v":""},{"$f":"IF(OR(C31635=\"\",ISBLANK(C31635)),\"\",VLOOKUP(C31635,Sheet2!A:G,4,FALSE))","v":""},null,null,{"$f":"IF(OR(C31635=\"\",ISBLANK(C31635)),\"\",VLOOKUP(C31635,Sheet2!A:F,3,FALSE))","v":""},{"$f":"IF(OR(C31635=\"\",ISBLANK(C31635)),\"\",VLOOKUP(C31635,Sheet2!A:G,6,FALSE))","v":""},""]
[{"$f":"IF(OR(C31665=\"\",ISBLANK(C31665)),\"\",VLOOKUP(C31665,Sheet2!A:F,2,FALSE))","v":""},{"$f":"IF(OR(C31665=\"\",ISBLANK(C31665)),\"\",VLOOKUP(C31665,Sheet2!A:G,4,FALSE))","v":""},null,null,{"$f":"IF(OR(C31665=\"\",ISBLANK(C31665)),\"\",VLOOKUP(C31665,Sheet2!A:F,3,FALSE))","v":""},{"$f":"IF(OR(C31665=\"\",ISBLANK(C31665)),\"\",VLOOKUP(C31665,Sheet2!A:G,6,FALSE))","v":""},""]
[{"$f":"IF(OR(C31698=\"\",ISBLANK(C31698)),\"\",VLOOKUP(C31698,Sheet2!A:F,2,FALSE))","v":""},{"$f":"IF(OR(C31698=\"\",ISBLANK(C31698)),\"\",VLOOKUP(C31698,Sheet2!A:G,4,FALSE))","v":""},null,null,{"$f":"IF(OR(C31698=\"\",ISBLANK(C31698)),\"\",VLOOKUP(C31698,Sheet2!A:F,3,FALSE))","v":""},{"$f":"IF(OR(C31698=\"\",ISBLANK(C31698)),\"\",VLOOKUP(C31698,Sheet2!A:G,6,FALSE))","v":""},""]
[{"$f":"IF(OR(C31707=\"\",ISBLANK(C31707)),\"\",VLOOKUP(C31707,Sheet2!A:F,2,FALSE))","v":""},{"$f":"IF(OR(C31707=\"\",ISBLANK(C31707)),\"\",VLOOKUP(C31707,Sheet2!A:G,4,FALSE))","v":""},null,null,{"$f":"IF(OR(C31707=\"\",ISBLANK(C31707)),\"\",VLOOKUP(C31707,Sheet2!A:F,3,FALSE))","v":""},{"$f":"IF(OR(C31707=\"\",ISBLANK(C31707)),\"\",VLOOKUP(C31707,Sheet2!A:G,6,FALSE))","v":""},""]
[{"$f":"IF(OR(C31732=\"\",ISBLANK(C31732)),\"\",VLOOKUP(C31732,Sheet2!A:F,2,FALSE))","v":""},{"$f":"IF(OR(C31732=\"\",ISBLANK(C31732)),\"\",VLOOKUP(C31732,Sheet2!A:G,4,FALSE))","v":""},null,null,{"$f":"IF(OR(C31732=\"\",ISBLANK(C31732)),\"\",VLOOKUP(C31732,Sheet2!A:F,3,FALSE))","v":""},{"$f":"IF(OR(C31732=\"\",ISBLANK(C31732)),\"\",VLOOKUP(C31732,Sheet2!A:G,6,FALSE))","v":""},""]
[{"$f":"IF(OR(C31765=\"\",ISBLANK(C31765)),\"\",VLOOKUP(C31765,Sheet2!A:F,2,FALSE))","v":""},{"$f":"IF(OR(C31765=\"\",ISBLANK(C31765)),\"\",VLOOKUP(C31765,Sheet2!A:G,4,FALSE))","v":""},null,null,{"$f":"IF(OR(C31765=\"\",ISBLANK(C31765)),\"\",VLOOKUP(C31765,Sheet2!A:F,3,FALSE))","v":""},{"$f":"IF(OR(C31765=\"\",ISBLANK(C31765)),\"\",VLOOKUP(C31765,Sheet2!A:G,6,FALSE))","v":""},""]
[{"$f":"IF(OR(C31798=\"\",ISBLANK(C31798)),\"\",VLOOKUP(C31798,Sheet2!A:F,2,FALSE))","v":""},{"$f":"IF(OR(C31798=\"\",ISBLANK(C31798)),\"\",VLOOKUP(C31798,Sheet2!A:G,4,FALSE))","v":""},null,null,{"$f":"IF(OR(C31798=\"\",ISBLANK(C31798)),\"\",VLOOKUP(C31798,Sheet2!A:F,3,FALSE))","v":""},{"$f":"IF(OR(C31798=\"\",ISBLANK(C31798)),\"\",VLOOKUP(C31798,Sheet2!A:G,6,FALSE))","v":""},""]
[{"$f":"IF(OR(C31799=\"\",ISBLANK(C31799)),\"\",VLOOKUP(C31799,Sheet2!A:F,2,FALSE))","v":""},{"$f":"IF(OR(C31799=\"\",ISBLANK(C31799)),\"\",VLOOKUP(C31799,Sheet2!A:G,4,FALSE))","v":""},null,null,{"$f":"IF(OR(C31799=\"\",ISBLANK(C31799)),\"\",VLOOKUP(C31799,Sheet2!A:F,3,FALSE))","v":""},{"$f":"IF(OR(C31799=\"\",ISBLANK(C31799)),\"\",VLOOKUP(C31799,Sheet2!A:G,6,FALSE))","v":""},""]
[{"$f":"IF(OR(C31832=\"\",ISBLANK(C31832)),\"\",VLOOKUP(C31832,Sheet2!A:F,2,FALSE))","v":""},{"$f":"IF(OR(C31832=\"\",ISBLANK(C31832)),\"\",VLOOKUP(C31832,Sheet2!A:G,4,FALSE))","v":""},null,null,{"$f":"IF(OR(C31832=\"\",ISBLANK(C31832)),\"\",VLOOKUP(C31832,Sheet2!A:F,3,FALSE))","v":""},{"$f":"IF(OR(C31832=\"\",ISBLANK(C31832)),\"\",VLOOKUP(C31832,Sheet2!A:G,6,FALSE))","v":""},""]
[{"$f":"IF(OR(C31857=\"\",ISBLANK(C31857)),\"\",VLOOKUP(C31857,Sheet2!A:F,2,FALSE))","v":""},{"$f":"IF(OR(C31857=\"\",ISBLANK(C31857)),\"\",VLOOKUP(C31857,Sheet2!A:G,4,FALSE))","v":""},null,null,{"$f":"IF(OR(C31857=\"\",ISBLANK(C31857)),\"\",VLOOKUP(C31857,Sheet2!A:F,3,FALSE))","v":""},{"$f":"IF(OR(C31857=\"\",ISBLANK(C31857)),\"\",VLOOKUP(C31857,Sheet2!A:G,6,FALSE))","v":""},""]
[{"$f":"IF(OR(C31889=\"\",ISBLANK(C31889)),\"\",VLOOKUP(C31889,Sheet2!A:F,2,FALSE))","v":""},{"$f":"IF(OR(C31889=\"\",ISBLANK(C31889)),\"\",VLOOKUP(C31889,Sheet2!A:G,4,FALSE))","v":""},null,null,{"$f":"IF(OR(C31889=\"\",ISBLANK(C31889)),\"\",VLOOKUP(C31889,Sheet2!A:F,3,FALSE))","v":""},{"$f":"IF(OR(C31889=\"\",ISBLANK(C31889)),\"\",VLOOKUP(C31889,Sheet2!A:G,6,FALSE))","v":""},""]
[{"$f":"IF(OR(C31898=\"\",ISBLANK(C31898)),\"\",VLOOKUP(C31898,Sheet2!A:F,2,FALSE))","v":""},{"$f":"IF(OR(C31898=\"\",ISBLANK(C31898)),\"\",VLOOKUP(C31898,Sheet2!A:G,4,FALSE))","v":""},null,null,{"$f":"IF(OR(C31898=\"\",ISBLANK(C31898)),\"\",VLOOKUP(C31898,Sheet2!A:F,3,FALSE))","v":""},{"$f":"IF(OR(C31898=\"\",ISBLANK(C31898)),\"\",VLOOKUP(C31898,Sheet2!A:G,6,FALSE))","v":""},""]
[{"$f":"IF(OR(C31923=\"\",ISBLANK(C31923)),\"\",VLOOKUP(C31923,Sheet2!A:F,2,FALSE))","v":""},{"$f":"IF(OR(C31923=\"\",ISBLANK(C31923)),\"\",VLOOKUP(C31923,Sheet2!A:G,4,FALSE))","v":""},null,null,{"$f":"IF(OR(C31923=\"\",ISBLANK(C31923)),\"\",VLOOKUP(C31923,Sheet2!A:F,3,FALSE))","v":""},{"$f":"IF(OR(C31923=\"\",ISBLANK(C31923)),\"\",VLOOKUP(C31923,Sheet2!A:G,6,FALSE))","v":""},""]
[{"$f":"IF(OR(C31956=\"\",ISBLANK(C31956)),\"\",VLOOKUP(C31956,Sheet2!A:F,2,FALSE))","v":""},{"$f":"IF(OR(C31956=\"\",ISBLANK(C31956)),\"\",VLOOKUP(C31956,Sheet2!A:G,4,FALSE))","v":""},null,null,{"$f":"IF(OR(C31956=\"\",ISBLANK(C31956)),\"\",VLOOKUP(C31956,Sheet2!A:F,3,FALSE))","v":""},{"$f":"IF(OR(C31956=\"\",ISBLANK(C31956)),\"\",VLOOKUP(C31956,Sheet2!A:G,6,FALSE))","v":""},""]
[{"$f":"IF(OR(C31989=\"\",ISBLANK(C31989)),\"\",VLOOKUP(C31989,Sheet2!A:F,2,FALSE))","v":""},{"$f":"IF(OR(C31989=\"\",ISBLANK(C31989)),\"\",VLOOKUP(C31989,Sheet2!A:G,4,FALSE))","v":""},null,null,{"$f":"IF(OR(C31989=\"\",ISBLANK(C31989)),\"\",VLOOKUP(C31989,Sheet2!A:F,3,FALSE))","v":""},{"$f":"IF(OR(C31989=\"\",ISBLANK(C31989)),\"\",VLOOKUP(C31989,Sheet2!A:G,6,FALSE))","v":""},""]
[{"$f":"IF(OR(C31990=\"\",ISBLANK(C31990)),\"\",VLOOKUP(C31990,Sheet2!A:F,2,FALSE))","v":""},{"$f":"IF(OR(C31990=\"\",ISBLANK(C31990)),\"\",VLOOKUP(C31990,Sheet2!A:G,4,FALSE))","v":""},null,null,{"$f":"IF(OR(C31990=\"\",ISBLANK(C31990)),\"\",VLOOKUP(C31990,Sheet2!A:F,3,FALSE))","v":""},{"$f":"IF(OR(C31990=\"\",ISBLANK(C31990)),\"\",VLOOKUP(C31990,Sheet2!A:G,6,FALSE))","v":""},""]
[{"$f":"IF(OR(C32023=\"\",ISBLANK(C32023)),\"\",VLOOKUP(C32023,Sheet2!A:F,2,FALSE))","v":""},{"$f":"IF(OR(C32023=\"\",ISBLANK(C32023)),\"\",VLOOKUP(C32023,Sheet2!A:G,4,FALSE))","v":""},null,null,{"$f":"IF(OR(C32023=\"\",ISBLANK(C32023)),\"\",VLOOKUP(C32023,Sheet2!A:F,3,FALSE))","v":""},{"$f":"IF(OR(C32023=\"\",ISBLANK(C32023)),\"\",VLOOKUP(C32023,Sheet2!A:G,6,FALSE))","v":""},""]
[{"$f":"IF(OR(C32048=\"\",ISBLANK(C32048)),\"\",VLOOKUP(C32048,Sheet2!A:F,2,FALSE))","v":""},{"$f":"IF(OR(C32048=\"\",ISBLANK(C32048)),\"\",VLOOKUP(C32048,Sheet2!A:G,4,FALSE))","v":""},null,null,{"$f":"IF(OR(C32048=\"\",ISBLANK(C32048)),\"\",VLOOKUP(C32048,Sheet2!A:F,3,FALSE))","v":""},{"$f":"IF(OR(C32048=\"\",ISBLANK(C32048)),\"\",VLOOKUP(C32048,Sheet2!A:G,6,FALSE))","v":""},""]
[{"$f":"IF(OR(C32081=\"\",ISBLANK(C32081)),\"\",VLOOKUP(C32081,Sheet2!A:F,2,FALSE))","v":""},{"$f":"IF(OR(C32081=\"\",ISBLANK(C32081)),\"\",VLOOKUP(C32081,Sheet2!A:G,4,FALSE))","v":""},null,null,{"$f":"IF(OR(C32081=\"\",ISBLANK(C32081)),\"\",VLOOKUP(C32081,Sheet2!A:F,3,FALSE))","v":""},{"$f":"IF(OR(C32081=\"\",ISBLANK(C32081)),\"\",VLOOKUP(C32081,Sheet2!A:G,6,FALSE))","v":""},""]
[{"$f":"IF(OR(C32108=\"\",ISBLANK(C32108)),\"\",VLOOKUP(C32108,Sheet2!A:F,2,FALSE))","v":""},{"$f":"IF(OR(C32108=\"\",ISBLANK(C32108)),\"\",VLOOKUP(C32108,Sheet2!A:G,4,FALSE))","v":""},null,null,{"$f":"IF(OR(C32108=\"\",ISBLANK(C32108)),\"\",VLOOKUP(C32108,Sheet2!A:F,3,FALSE))","v":""},{"$f":"IF(OR(C32108=\"\",ISBLANK(C32108)),\"\",VLOOKUP(C32108,Sheet2!A:G,6,FALSE))","v":""},""]
[{"$f":"IF(OR(C32114=\"\",ISBLANK(C32114)),\"\",VLOOKUP(C32114,Sheet2!A:F,2,FALSE))","v":""},{"$f":"IF(OR(C32114=\"\",ISBLANK(C32114)),\"\",VLOOKUP(C32114,Sheet2!A:G,4,FALSE))","v":""},null,null,{"$f":"IF(OR(C32114=\"\",ISBLANK(C32114)),\"\",VLOOKUP(C32114,Sheet2!A:F,3,FALSE))","v":""},{"$f":"IF(OR(C32114=\"\",ISBLANK(C32114)),\"\",VLOOKUP(C32114,Sheet2!A:G,6,FALSE))","v":""},""]
[{"$f":"IF(OR(C32147=\"\",ISBLANK(C32147)),\"\",VLOOKUP(C32147,Sheet2!A:F,2,FALSE))","v":""},{"$f":"IF(OR(C32147=\"\",ISBLANK(C32147)),\"\",VLOOKUP(C32147,Sheet2!A:G,4,FALSE))","v":""},null,null,{"$f":"IF(OR(C32147=\"\",ISBLANK(C32147)),\"\",VLOOKUP(C32147,Sheet2!A:F,3,FALSE))","v":""},{"$f":"IF(OR(C32147=\"\",ISBLANK(C32147)),\"\",VLOOKUP(C32147,Sheet2!A:G,6,FALSE))","v":""},""]
[{"$f":"IF(OR(C32172=\"\",ISBLANK(C32172)),\"\",VLOOKUP(C32172,Sheet2!A:F,2,FALSE))","v":""},{"$f":"IF(OR(C32172=\"\",ISBLANK(C32172)),\"\",VLOOKUP(C32172,Sheet2!A:G,4,FALSE))","v":""},null,null,{"$f":"IF(OR(C32172=\"\",ISBLANK(C32172)),\"\",VLOOKUP(C32172,Sheet2!A:F,3,FALSE))","v":""},{"$f":"IF(OR(C32172=\"\",ISBLANK(C32172)),\"\",VLOOKUP(C32172,Sheet2!A:G,6,FALSE))","v":""},""]
[{"$f":"IF(OR(C32181=\"\",ISBLANK(C32181)),\"\",VLOOKUP(C32181,Sheet2!A:F,2,FALSE))","v":""},{"$f":"IF(OR(C32181=\"\",ISBLANK(C32181)),\"\",VLOOKUP(C32181,Sheet2!A:G,4,FALSE))","v":""},null,null,{"$f":"IF(OR(C32181=\"\",ISBLANK(C32181)),\"\",VLOOKUP(C32181,Sheet2!A:F,3,FALSE))","v":""},{"$f":"IF(OR(C32181=\"\",ISBLANK(C32181)),\"\",VLOOKUP(C32181,Sheet2!A:G,6,FALSE))","v":""},""]
[{"$f":"IF(OR(C32214=\"\",ISBLANK(C32214)),\"\",VLOOKUP(C32214,Sheet2!A:F,2,FALSE))","v":""},{"$f":"IF(OR(C32214=\"\",ISBLANK(C32214)),\"\",VLOOKUP(C32214,Sheet2!A:G,4,FALSE))","v":""},null,null,{"$f":"IF(OR(C32214=\"\",ISBLANK(C32214)),\"\",VLOOKUP(C32214,Sheet2!A:F,3,FALSE))","v":""},{"$f":"IF(OR(C32214=\"\",ISBLANK(C32214)),\"\",VLOOKUP(C32214,Sheet2!A:G,6,FALSE))","v":""},""]
[{"$f":"IF(OR(C32239=\"\",ISBLANK(C32239)),\"\",VLOOKUP(C32239,Sheet2!A:F,2,FALSE))","v":""},{"$f":"IF(OR(C32239=\"\",ISBLANK(C32239)),\"\",VLOOKUP(C32239,Sheet2!A:G,4,FALSE))","v":""},null,null,{"$f":"IF(OR(C32239=\"\",ISBLANK(C32239)),\"\",VLOOKUP(C32239,Sheet2!A:F,3,FALSE))","v":""},{"$f":"IF(OR(C32239=\"\",ISBLANK(C32239)),\"\",VLOOKUP(C32239,Sheet2!A:G,6,FALSE))","v":""},""]
[{"$f":"IF(OR(C32272=\"\",ISBLANK(C32272)),\"\",VLOOKUP(C32272,Sheet2!A:F,2,FALSE))","v":""},{"$f":"IF(OR(C32272=\"\",ISBLANK(C32272)),\"\",VLOOKUP(C32272,Sheet2!A:G,4,FALSE))","v":""},null,null,{"$f":"IF(OR(C32272=\"\",ISBLANK(C32272)),\"\",VLOOKUP(C32272,Sheet2!A:F,3,FALSE))","v":""},{"$f":"IF(OR(C32272=\"\",ISBLANK(C32272)),\"\",VLOOKUP(C32272,Sheet2!A:G,6,FALSE))","v":""},""]
[{"$f":"IF(OR(C32281=\"\",ISBLANK(C32281)),\"\",VLOOKUP(C32281,Sheet2!A:F,2,FALSE))","v":""},{"$f":"IF(OR(C32281=\"\",ISBLANK(C32281)),\"\",VLOOKUP(C32281,Sheet2!A:G,4,FALSE))","v":""},null,null,{"$f":"IF(OR(C32281=\"\",ISBLANK(C32281)),\"\",VLOOKUP(C32281,Sheet2!A:F,3,FALSE))","v":""},{"$f":"IF(OR(C32281=\"\",ISBLANK(C32281)),\"\",VLOOKUP(C32281,Sheet2!A:G,6,FALSE))","v":""},""]
[{"$f":"IF(OR(C32306=\"\",ISBLANK(C32306)),\"\",VLOOKUP(C32306,Sheet2!A:F,2,FALSE))","v":""},{"$f":"IF(OR(C32306=\"\",ISBLANK(C32306)),\"\",VLOOKUP(C32306,Sheet2!A:G,4,FALSE))","v":""},null,null,{"$f":"IF(OR(C32306=\"\",ISBLANK(C32306)),\"\",VLOOKUP(C32306,Sheet2!A:F,3,FALSE))","v":""},{"$f":"IF(OR(C32306=\"\",ISBLANK(C32306)),\"\",VLOOKUP(C32306,Sheet2!A:G,6,FALSE))","v":""},""]
[{"$f":"IF(OR(C32339=\"\",ISBLANK(C32339)),\"\",VLOOKUP(C32339,Sheet2!A:F,2,FALSE))","v":""},{"$f":"IF(OR(C32339=\"\",ISBLANK(C32339)),\"\",VLOOKUP(C32339,Sheet2!A:G,4,FALSE))","v":""},null,null,{"$f":"IF(OR(C32339=\"\",ISBLANK(C32339)),\"\",VLOOKUP(C32339,Sheet2!A:F,3,FALSE))","v":""},{"$f":"IF(OR(C32339=\"\",ISBLANK(C32339)),\"\",VLOOKUP(C32339,Sheet2!A:G,6,FALSE))","v":""},""]
[{"$f":"IF(OR(C32363=\"\",ISBLANK(C32363)),\"\",VLOOKUP(C32363,Sheet2!A:F,2,FALSE))","v":""},{"$f":"IF(OR(C32363=\"\",ISBLANK(C32363)),\"\",VLOOKUP(C32363,Sheet2!A:G,4,FALSE))","v":""},null,null,{"$f":"IF(OR(C32363=\"\",ISBLANK(C32363)),\"\",VLOOKUP(C32363,Sheet2!A:F,3,FALSE))","v":""},{"$f":"IF(OR(C32363=\"\",ISBLANK(C32363)),\"\",VLOOKUP(C32363,Sheet2!A:G,6,FALSE))","v":""},""]
[{"$f":"IF(OR(C32372=\"\",ISBLANK(C32372)),\"\",VLOOKUP(C32372,Sheet2!A:F,2,FALSE))","v":""},{"$f":"IF(OR(C32372=\"\",ISBLANK(C32372)),\"\",VLOOKUP(C32372,Sheet2!A:G,4,FALSE))","v":""},null,null,{"$f":"IF(OR(C32372=\"\",ISBLANK(C32372)),\"\",VLOOKUP(C32372,Sheet2!A:F,3,FALSE))","v":""},{"$f":"IF(OR(C32372=\"\",ISBLANK(C32372)),\"\",VLOOKUP(C32372,Sheet2!A:G,6,FALSE))","v":""},""]
[{"$f":"IF(OR(C32405=\"\",ISBLANK(C32405)),\"\",VLOOKUP(C32405,Sheet2!A:F,2,FALSE))","v":""},{"$f":"IF(OR(C32405=\"\",ISBLANK(C32405)),\"\",VLOOKUP(C32405,Sheet2!A:G,4,FALSE))","v":""},null,null,{"$f":"IF(OR(C32405=\"\",ISBLANK(C32405)),\"\",VLOOKUP(C32405,Sheet2!A:F,3,FALSE))","v":""},{"$f":"IF(OR(C32405=\"\",ISBLANK(C32405)),\"\",VLOOKUP(C32405,Sheet2!A:G,6,FALSE))","v":""},""]
[{"$f":"IF(OR(C32430=\"\",ISBLANK(C32430)),\"\",VLOOKUP(C32430,Sheet2!A:F,2,FALSE))","v":""},{"$f":"IF(OR(C32430=\"\",ISBLANK(C32430)),\"\",VLOOKUP(C32430,Sheet2!A:G,4,FALSE))","v":""},null,null,{"$f":"IF(OR(C32430=\"\",ISBLANK(C32430)),\"\",VLOOKUP(C32430,Sheet2!A:F,3,FALSE))","v":""},{"$f":"IF(OR(C32430=\"\",ISBLANK(C32430)),\"\",VLOOKUP(C32430,Sheet2!A:G,6,FALSE))","v":""},""]
[{"$f":"IF(OR(C32463=\"\",ISBLANK(C32463)),\"\",VLOOKUP(C32463,Sheet2!A:F,2,FALSE))","v":""},{"$f":"IF(OR(C32463=\"\",ISBLANK(C32463)),\"\",VLOOKUP(C32463,Sheet2!A:G,4,FALSE))","v":""},null,null,{"$f":"IF(OR(C32463=\"\",ISBLANK(C32463)),\"\",VLOOKUP(C32463,Sheet2!A:F,3,FALSE))","v":""},{"$f":"IF(OR(C32463=\"\",ISBLANK(C32463)),\"\",VLOOKUP(C32463,Sheet2!A:G,6,FALSE))","v":""},""]
[{"$f":"IF(OR(C32488=\"\",ISBLANK(C32488)),\"\",VLOOKUP(C32488,Sheet2!A:F,2,FALSE))","v":""},{"$f":"IF(OR(C32488=\"\",ISBLANK(C32488)),\"\",VLOOKUP(C32488,Sheet2!A:G,4,FALSE))","v":""},null,null,{"$f":"IF(OR(C32488=\"\",ISBLANK(C32488)),\"\",VLOOKUP(C32488,Sheet2!A:F,3,FALSE))","v":""},{"$f":"IF(OR(C32488=\"\",ISBLANK(C32488)),\"\",VLOOKUP(C32488,Sheet2!A:G,6,FALSE))","v":""},""]
[{"$f":"IF(OR(C32497=\"\",ISBLANK(C32497)),\"\",VLOOKUP(C32497,Sheet2!A:F,2,FALSE))","v":""},{"$f":"IF(OR(C32497=\"\",ISBLANK(C32497)),\"\",VLOOKUP(C32497,Sheet2!A:G,4,FALSE))","v":""},null,null,{"$f":"IF(OR(C32497=\"\",ISBLANK(C32497)),\"\",VLOOKUP(C32497,Sheet2!A:F,3,FALSE))","v":""},{"$f":"IF(OR(C32497=\"\",ISBLANK(C32497)),\"\",VLOOKUP(C32497,Sheet2!A:G,6,FALSE))","v":""},""]
[{"$f":"IF(OR(C32530=\"\",ISBLANK(C32530)),\"\",VLOOKUP(C32530,Sheet2!A:F,2,FALSE))","v":""},{"$f":"IF(OR(C32530=\"\",ISBLANK(C32530)),\"\",VLOOKUP(C32530,Sheet2!A:G,4,FALSE))","v":""},null,null,{"$f":"IF(OR(C32530=\"\",ISBLANK(C32530)),\"\",VLOOKUP(C32530,Sheet2!A:F,3,FALSE))","v":""},{"$f":"IF(OR(C32530=\"\",ISBLANK(C32530)),\"\",VLOOKUP(C32530,Sheet2!A:G,6,FALSE))","v":""},""]
[{"$f":"IF(OR(C32547=\"\",ISBLANK(C32547)),\"\",VLOOKUP(C32547,Sheet2!A:F,2,FALSE))","v":""},{"$f":"IF(OR(C32547=\"\",ISBLANK(C32547)),\"\",VLOOKUP(C32547,Sheet2!A:G,4,FALSE))","v":""},null,null,{"$f":"IF(OR(C32547=\"\",ISBLANK(C32547)),\"\",VLOOKUP(C32547,Sheet2!A:F,3,FALSE))","v":""},{"$f":"IF(OR(C32547=\"\",ISBLANK(C32547)),\"\",VLOOKUP(C32547,Sheet2!A:G,6,FALSE))","v":""},""]
[{"$f":"IF(OR(C32563=\"\",ISBLANK(C32563)),\"\",VLOOKUP(C32563,Sheet2!A:F,2,FALSE))","v":""},{"$f":"IF(OR(C32563=\"\",ISBLANK(C32563)),\"\",VLOOKUP(C32563,Sheet2!A:G,4,FALSE))","v":""},null,null,{"$f":"IF(OR(C32563=\"\",ISBLANK(C32563)),\"\",VLOOKUP(C32563,Sheet2!A:F,3,FALSE))","v":""},{"$f":"IF(OR(C32563=\"\",ISBLANK(C32563)),\"\",VLOOKUP(C32563,Sheet2!A:G,6,FALSE))","v":""},""]
[{"$f":"IF(OR(C32596=\"\",ISBLANK(C32596)),\"\",VLOOKUP(C32596,Sheet2!A:F,2,FALSE))","v":""},{"$f":"IF(OR(C32596=\"\",ISBLANK(C32596)),\"\",VLOOKUP(C32596,Sheet2!A:G,4,FALSE))","v":""},null,null,{"$f":"IF(OR(C32596=\"\",ISBLANK(C32596)),\"\",VLOOKUP(C32596,Sheet2!A:F,3,FALSE))","v":""},{"$f":"IF(OR(C32596=\"\",ISBLANK(C32596)),\"\",VLOOKUP(C32596,Sheet2!A:G,6,FALSE))","v":""},""]
[{"$f":"IF(OR(C32621=\"\",ISBLANK(C32621)),\"\",VLOOKUP(C32621,Sheet2!A:F,2,FALSE))","v":""},{"$f":"IF(OR(C32621=\"\",ISBLANK(C32621)),\"\",VLOOKUP(C32621,Sheet2!A:G,4,FALSE))","v":""},null,null,{"$f":"IF(OR(C32621=\"\",ISBLANK(C32621)),\"\",VLOOKUP(C32621,Sheet2!A:F,3,FALSE))","v":""},{"$f":"IF(OR(C32621=\"\",ISBLANK(C32621)),\"\",VLOOKUP(C32621,Sheet2!A:G,6,FALSE))","v":""},""]
[{"$f":"IF(OR(C32654=\"\",ISBLANK(C32654)),\"\",VLOOKUP(C32654,Sheet2!A:F,2,FALSE))","v":""},{"$f":"IF(OR(C32654=\"\",ISBLANK(C32654)),\"\",VLOOKUP(C32654,Sheet2!A:G,4,FALSE))","v":""},null,null,{"$f":"IF(OR(C32654=\"\",ISBLANK(C32654)),\"\",VLOOKUP(C32654,Sheet2!A:F,3,FALSE))","v":""},{"$f":"IF(OR(C32654=\"\",ISBLANK(C32654)),\"\",VLOOKUP(C32654,Sheet2!A:G,6,FALSE))","v":""},""]
[{"$f":"IF(OR(C32679=\"\",ISBLANK(C32679)),\"\",VLOOKUP(C32679,Sheet2!A:F,2,FALSE))","v":""},{"$f":"IF(OR(C32679=\"\",ISBLANK(C32679)),\"\",VLOOKUP(C32679,Sheet2!A:G,4,FALSE))","v":""},null,null,{"$f":"IF(OR(C32679=\"\",ISBLANK(C32679)),\"\",VLOOKUP(C32679,Sheet2!A:F,3,FALSE))","v":""},{"$f":"IF(OR(C32679=\"\",ISBLANK(C32679)),\"\",VLOOKUP(C32679,Sheet2!A:G,6,FALSE))","v":""},""]
[{"$f":"IF(OR(C32688=\"\",ISBLANK(C32688)),\"\",VLOOKUP(C32688,Sheet2!A:F,2,FALSE))","v":""},{"$f":"IF(OR(C32688=\"\",ISBLANK(C32688)),\"\",VLOOKUP(C32688,Sheet2!A:G,4,FALSE))","v":""},null,null,{"$f":"IF(OR(C32688=\"\",ISBLANK(C32688)),\"\",VLOOKUP(C32688,Sheet2!A:F,3,FALSE))","v":""},{"$f":"IF(OR(C32688=\"\",ISBLANK(C32688)),\"\",VLOOKUP(C32688,Sheet2!A:G,6,FALSE))","v":""},""]
[{"$f":"IF(OR(C32721=\"\",ISBLANK(C32721)),\"\",VLOOKUP(C32721,Sheet2!A:F,2,FALSE))","v":""},{"$f":"IF(OR(C32721=\"\",ISBLANK(C32721)),\"\",VLOOKUP(C32721,Sheet2!A:G,4,FALSE))","v":""},null,null,{"$f":"IF(OR(C32721=\"\",ISBLANK(C32721)),\"\",VLOOKUP(C32721,Sheet2!A:F,3,FALSE))","v":""},{"$f":"IF(OR(C32721=\"\",ISBLANK(C32721)),\"\",VLOOKUP(C32721,Sheet2!A:G,6,FALSE))","v":""},""]
[{"$f":"IF(OR(C32746=\"\",ISBLANK(C32746)),\"\",VLOOKUP(C32746,Sheet2!A:F,2,FALSE))","v":""},{"$f":"IF(OR(C32746=\"\",ISBLANK(C32746)),\"\",VLOOKUP(C32746,Sheet2!A:G,4,FALSE))","v":""},null,null,{"$f":"IF(OR(C32746=\"\",ISBLANK(C32746)),\"\",VLOOKUP(C32746,Sheet2!A:F,3,FALSE))","v":""},{"$f":"IF(OR(C32746=\"\",ISBLANK(C32746)),\"\",VLOOKUP(C32746,Sheet2!A:G,6,FALSE))","v":""},""]
[{"$f":"IF(OR(C32755=\"\",ISBLANK(C32755)),\"\",VLOOKUP(C32755,Sheet2!A:F,2,FALSE))","v":""},{"$f":"IF(OR(C32755=\"\",ISBLANK(C32755)),\"\",VLOOKUP(C32755,Sheet2!A:G,4,FALSE))","v":""},null,null,{"$f":"IF(OR(C32755=\"\",ISBLANK(C32755)),\"\",VLOOKUP(C32755,Sheet2!A:F,3,FALSE))","v":""},{"$f":"IF(OR(C32755=\"\",ISBLANK(C32755)),\"\",VLOOKUP(C32755,Sheet2!A:G,6,FALSE))","v":""},""]
[{"$f":"IF(OR(C32789=\"\",ISBLANK(C32789)),\"\",VLOOKUP(C32789,Sheet2!A:F,2,FALSE))","v":""},{"$f":"IF(OR(C32789=\"\",ISBLANK(C32789)),\"\",VLOOKUP(C32789,Sheet2!A:G,4,FALSE))","v":""},null,null,{"$f":"IF(OR(C32789=\"\",ISBLANK(C32789)),\"\",VLOOKUP(C32789,Sheet2!A:F,3,FALSE))","v":""},{"$f":"IF(OR(C32789=\"\",ISBLANK(C32789)),\"\",VLOOKUP(C32789,Sheet2!A:G,6,FALSE))","v":""},""]
[{"$f":"IF(OR(C32812=\"\",ISBLANK(C32812)),\"\",VLOOKUP(C32812,Sheet2!A:F,2,FALSE))","v":""},{"$f":"IF(OR(C32812=\"\",ISBLANK(C32812)),\"\",VLOOKUP(C32812,Sheet2!A:G,4,FALSE))","v":""},null,null,{"$f":"IF(OR(C32812=\"\",ISBLANK(C32812)),\"\",VLOOKUP(C32812,Sheet2!A:F,3,FALSE))","v":""},{"$f":"IF(OR(C32812=\"\",ISBLANK(C32812)),\"\",VLOOKUP(C32812,Sheet2!A:G,6,FALSE))","v":""},""]
[{"$f":"IF(OR(C32845=\"\",ISBLANK(C32845)),\"\",VLOOKUP(C32845,Sheet2!A:F,2,FALSE))","v":""},{"$f":"IF(OR(C32845=\"\",ISBLANK(C32845)),\"\",VLOOKUP(C32845,Sheet2!A:G,4,FALSE))","v":""},null,null,{"$f":"IF(OR(C32845=\"\",ISBLANK(C32845)),\"\",VLOOKUP(C32845,Sheet2!A:F,3,FALSE))","v":""},{"$f":"IF(OR(C32845=\"\",ISBLANK(C32845)),\"\",VLOOKUP(C32845,Sheet2!A:G,6,FALSE))","v":""},""]
[{"$f":"IF(OR(C32870=\"\",ISBLANK(C32870)),\"\",VLOOKUP(C32870,Sheet2!A:F,2,FALSE))","v":""},{"$f":"IF(OR(C32870=\"\",ISBLANK(C32870)),\"\",VLOOKUP(C32870,Sheet2!A:G,4,FALSE))","v":""},null,null,{"$f":"IF(OR(C32870=\"\",ISBLANK(C32870)),\"\",VLOOKUP(C32870,Sheet2!A:F,3,FALSE))","v":""},{"$f":"IF(OR(C32870=\"\",ISBLANK(C32870)),\"\",VLOOKUP(C32870,Sheet2!A:G,6,FALSE))","v":""},""]
[{"$f":"IF(OR(C32879=\"\",ISBLANK(C32879)),\"\",VLOOKUP(C32879,Sheet2!A:F,2,FALSE))","v":""},{"$f":"IF(OR(C32879=\"\",ISBLANK(C32879)),\"\",VLOOKUP(C32879,Sheet2!A:G,4,FALSE))","v":""},null,null,{"$f":"IF(OR(C32879=\"\",ISBLANK(C32879)),\"\",VLOOKUP(C32879,Sheet2!A:F,3,FALSE))","v":""},{"$f":"IF(OR(C32879=\"\",ISBLANK(C32879)),\"\",VLOOKUP(C32879,Sheet2!A:G,6,FALSE))","v":""},""]
[{"$f":"IF(OR(C32912=\"\",ISBLANK(C32912)),\"\",VLOOKUP(C32912,Sheet2!A:F,2,FALSE))","v":""},{"$f":"IF(OR(C32912=\"\",ISBLANK(C32912)),\"\",VLOOKUP(C32912,Sheet2!A:G,4,FALSE))","v":""},null,null,{"$f":"IF(OR(C32912=\"\",ISBLANK(C32912)),\"\",VLOOKUP(C32912,Sheet2!A:F,3,FALSE))","v":""},{"$f":"IF(OR(C32912=\"\",ISBLANK(C32912)),\"\",VLOOKUP(C32912,Sheet2!A:G,6,FALSE))","v":""},""]
[{"$f":"IF(OR(C32937=\"\",ISBLANK(C32937)),\"\",VLOOKUP(C32937,Sheet2!A:F,2,FALSE))","v":""},{"$f":"IF(OR(C32937=\"\",ISBLANK(C32937)),\"\",VLOOKUP(C32937,Sheet2!A:G,4,FALSE))","v":""},null,null,{"$f":"IF(OR(C32937=\"\",ISBLANK(C32937)),\"\",VLOOKUP(C32937,Sheet2!A:F,3,FALSE))","v":""},{"$f":"IF(OR(C32937=\"\",ISBLANK(C32937)),\"\",VLOOKUP(C32937,Sheet2!A:G,6,FALSE))","v":""},""]
[{"$f":"IF(OR(C32946=\"\",ISBLANK(C32946)),\"\",VLOOKUP(C32946,Sheet2!A:F,2,FALSE))","v":""},{"$f":"IF(OR(C32946=\"\",ISBLANK(C32946)),\"\",VLOOKUP(C32946,Sheet2!A:G,4,FALSE))","v":""},null,null,{"$f":"IF(OR(C32946=\"\",ISBLANK(C32946)),\"\",VLOOKUP(C32946,Sheet2!A:F,3,FALSE))","v":""},{"$f":"IF(OR(C32946=\"\",ISBLANK(C32946)),\"\",VLOOKUP(C32946,Sheet2!A:G,6,FALSE))","v":""},""]
[{"$f":"IF(OR(C32971=\"\",ISBLANK(C32971)),\"\",VLOOKUP(C32971,Sheet2!A:F,2,FALSE))","v":""},{"$f":"IF(OR(C32971=\"\",ISBLANK(C32971)),\"\",VLOOKUP(C32971,Sheet2!A:G,4,FALSE))","v":""},null,null,{"$f":"IF(OR(C32971=\"\",ISBLANK(C32971)),\"\",VLOOKUP(C32971,Sheet2!A:F,3,FALSE))","v":""},{"$f":"IF(OR(C32971=\"\",ISBLANK(C32971)),\"\",VLOOKUP(C32971,Sheet2!A:G,6,FALSE))","v":""},""]
[{"$f":"IF(OR(C33004=\"\",ISBLANK(C33004)),\"\",VLOOKUP(C33004,Sheet2!A:F,2,FALSE))","v":""},{"$f":"IF(OR(C33004=\"\",ISBLANK(C33004)),\"\",VLOOKUP(C33004,Sheet2!A:G,4,FALSE))","v":""},null,null,{"$f":"IF(OR(C33004=\"\",ISBLANK(C33004)),\"\",VLOOKUP(C33004,Sheet2!A:F,3,FALSE))","v":""},{"$f":"IF(OR(C33004=\"\",ISBLANK(C33004)),\"\",VLOOKUP(C33004,Sheet2!A:G,6,FALSE))","v":""},""]
[{"$f":"IF(OR(C33020=\"\",ISBLANK(C33020)),\"\",VLOOKUP(C33020,Sheet2!A:F,2,FALSE))","v":""},{"$f":"IF(OR(C33020=\"\",ISBLANK(C33020)),\"\",VLOOKUP(C33020,Sheet2!A:G,4,FALSE))","v":""},null,null,{"$f":"IF(OR(C33020=\"\",ISBLANK(C33020)),\"\",VLOOKUP(C33020,Sheet2!A:F,3,FALSE))","v":""},{"$f":"IF(OR(C33020=\"\",ISBLANK(C33020)),\"\",VLOOKUP(C33020,Sheet2!A:G,6,FALSE))","v":""},""]
[{"$f":"IF(OR(C33061=\"\",ISBLANK(C33061)),\"\",VLOOKUP(C33061,Sheet2!A:F,2,FALSE))","v":""},{"$f":"IF(OR(C33061=\"\",ISBLANK(C33061)),\"\",VLOOKUP(C33061,Sheet2!A:G,4,FALSE))","v":""},null,null,{"$f":"IF(OR(C33061=\"\",ISBLANK(C33061)),\"\",VLOOKUP(C33061,Sheet2!A:F,3,FALSE))","v":""},{"$f":"IF(OR(C33061=\"\",ISBLANK(C33061)),\"\",VLOOKUP(C33061,Sheet2!A:G,6,FALSE))","v":""},""]
[{"$f":"IF(OR(C33070=\"\",ISBLANK(C33070)),\"\",VLOOKUP(C33070,Sheet2!A:F,2,FALSE))","v":""},{"$f":"IF(OR(C33070=\"\",ISBLANK(C33070)),\"\",VLOOKUP(C33070,Sheet2!A:G,4,FALSE))","v":""},null,null,{"$f":"IF(OR(C33070=\"\",ISBLANK(C33070)),\"\",VLOOKUP(C33070,Sheet2!A:F,3,FALSE))","v":""},{"$f":"IF(OR(C33070=\"\",ISBLANK(C33070)),\"\",VLOOKUP(C33070,Sheet2!A:G,6,FALSE))","v":""},""]
[{"$f":"IF(OR(C33103=\"\",ISBLANK(C33103)),\"\",VLOOKUP(C33103,Sheet2!A:F,2,FALSE))","v":""},{"$f":"IF(OR(C33103=\"\",ISBLANK(C33103)),\"\",VLOOKUP(C33103,Sheet2!A:G,4,FALSE))","v":""},null,null,{"$f":"IF(OR(C33103=\"\",ISBLANK(C33103)),\"\",VLOOKUP(C33103,Sheet2!A:F,3,FALSE))","v":""},{"$f":"IF(OR(C33103=\"\",ISBLANK(C33103)),\"\",VLOOKUP(C33103,Sheet2!A:G,6,FALSE))","v":""},""]
[{"$f":"IF(OR(C33128=\"\",ISBLANK(C33128)),\"\",VLOOKUP(C33128,Sheet2!A:F,2,FALSE))","v":""},{"$f":"IF(OR(C33128=\"\",ISBLANK(C33128)),\"\",VLOOKUP(C33128,Sheet2!A:G,4,FALSE))","v":""},null,null,{"$f":"IF(OR(C33128=\"\",ISBLANK(C33128)),\"\",VLOOKUP(C33128,Sheet2!A:F,3,FALSE))","v":""},{"$f":"IF(OR(C33128=\"\",ISBLANK(C33128)),\"\",VLOOKUP(C33128,Sheet2!A:G,6,FALSE))","v":""},""]
[{"$f":"IF(OR(C33137=\"\",ISBLANK(C33137)),\"\",VLOOKUP(C33137,Sheet2!A:F,2,FALSE))","v":""},{"$f":"IF(OR(C33137=\"\",ISBLANK(C33137)),\"\",VLOOKUP(C33137,Sheet2!A:G,4,FALSE))","v":""},null,null,{"$f":"IF(OR(C33137=\"\",ISBLANK(C33137)),\"\",VLOOKUP(C33137,Sheet2!A:F,3,FALSE))","v":""},{"$f":"IF(OR(C33137=\"\",ISBLANK(C33137)),\"\",VLOOKUP(C33137,Sheet2!A:G,6,FALSE))","v":""},""]
[{"$f":"IF(OR(C33162=\"\",ISBLANK(C33162)),\"\",VLOOKUP(C33162,Sheet2!A:F,2,FALSE))","v":""},{"$f":"IF(OR(C33162=\"\",ISBLANK(C33162)),\"\",VLOOKUP(C33162,Sheet2!A:G,4,FALSE))","v":""},null,null,{"$f":"IF(OR(C33162=\"\",ISBLANK(C33162)),\"\",VLOOKUP(C33162,Sheet2!A:F,3,FALSE))","v":""},{"$f":"IF(OR(C33162=\"\",ISBLANK(C33162)),\"\",VLOOKUP(C33162,Sheet2!A:G,6,FALSE))","v":""},""]
[{"$f":"IF(OR(C33195=\"\",ISBLANK(C33195)),\"\",VLOOKUP(C33195,Sheet2!A:F,2,FALSE))","v":""},{"$f":"IF(OR(C33195=\"\",ISBLANK(C33195)),\"\",VLOOKUP(C33195,Sheet2!A:G,4,FALSE))","v":""},null,null,{"$f":"IF(OR(C33195=\"\",ISBLANK(C33195)),\"\",VLOOKUP(C33195,Sheet2!A:F,3,FALSE))","v":""},{"$f":"IF(OR(C33195=\"\",ISBLANK(C33195)),\"\",VLOOKUP(C33195,Sheet2!A:G,6,FALSE))","v":""},""]
[{"$f":"IF(OR(C33228=\"\",ISBLANK(C33228)),\"\",VLOOKUP(C33228,Sheet2!A:F,2,FALSE))","v":""},{"$f":"IF(OR(C33228=\"\",ISBLANK(C33228)),\"\",VLOOKUP(C33228,Sheet2!A:G,4,FALSE))","v":""},null,null,{"$f":"IF(OR(C33228=\"\",ISBLANK(C33228)),\"\",VLOOKUP(C33228,Sheet2!A:F,3,FALSE))","v":""},{"$f":"IF(OR(C33228=\"\",ISBLANK(C33228)),\"\",VLOOKUP(C33228,Sheet2!A:G,6,FALSE))","v":""},""]
[{"$f":"IF(OR(C33251=\"\",ISBLANK(C33251)),\"\",VLOOKUP(C33251,Sheet2!A:F,2,FALSE))","v":""},{"$f":"IF(OR(C33251=\"\",ISBLANK(C33251)),\"\",VLOOKUP(C33251,Sheet2!A:G,4,FALSE))","v":""},null,null,{"$f":"IF(OR(C33251=\"\",ISBLANK(C33251)),\"\",VLOOKUP(C33251,Sheet2!A:F,3,FALSE))","v":""},{"$f":"IF(OR(C33251=\"\",ISBLANK(C33251)),\"\",VLOOKUP(C33251,Sheet2!A:G,6,FALSE))","v":""},""]
[{"$f":"IF(OR(C33261=\"\",ISBLANK(C33261)),\"\",VLOOKUP(C33261,Sheet2!A:F,2,FALSE))","v":""},{"$f":"IF(OR(C33261=\"\",ISBLANK(C33261)),\"\",VLOOKUP(C33261,Sheet2!A:G,4,FALSE))","v":""},null,null,{"$f":"IF(OR(C33261=\"\",ISBLANK(C33261)),\"\",VLOOKUP(C33261,Sheet2!A:F,3,FALSE))","v":""},{"$f":"IF(OR(C33261=\"\",ISBLANK(C33261)),\"\",VLOOKUP(C33261,Sheet2!A:G,6,FALSE))","v":""},""]
[{"$f":"IF(OR(C33294=\"\",ISBLANK(C33294)),\"\",VLOOKUP(C33294,Sheet2!A:F,2,FALSE))","v":""},{"$f":"IF(OR(C33294=\"\",ISBLANK(C33294)),\"\",VLOOKUP(C33294,Sheet2!A:G,4,FALSE))","v":""},null,null,{"$f":"IF(OR(C33294=\"\",ISBLANK(C33294)),\"\",VLOOKUP(C33294,Sheet2!A:F,3,FALSE))","v":""},{"$f":"IF(OR(C33294=\"\",ISBLANK(C33294)),\"\",VLOOKUP(C33294,Sheet2!A:G,6,FALSE))","v":""},""]
[{"$f":"IF(OR(C33319=\"\",ISBLANK(C33319)),\"\",VLOOKUP(C33319,Sheet2!A:F,2,FALSE))","v":""},{"$f":"IF(OR(C33319=\"\",ISBLANK(C33319)),\"\",VLOOKUP(C33319,Sheet2!A:G,4,FALSE))","v":""},null,null,{"$f":"IF(OR(C33319=\"\",ISBLANK(C33319)),\"\",VLOOKUP(C33319,Sheet2!A:F,3,FALSE))","v":""},{"$f":"IF(OR(C33319=\"\",ISBLANK(C33319)),\"\",VLOOKUP(C33319,Sheet2!A:G,6,FALSE))","v":""},""]
[{"$f":"IF(OR(C33328=\"\",ISBLANK(C33328)),\"\",VLOOKUP(C33328,Sheet2!A:F,2,FALSE))","v":""},{"$f":"IF(OR(C33328=\"\",ISBLANK(C33328)),\"\",VLOOKUP(C33328,Sheet2!A:G,4,FALSE))","v":""},null,null,{"$f":"IF(OR(C33328=\"\",ISBLANK(C33328)),\"\",VLOOKUP(C33328,Sheet2!A:F,3,FALSE))","v":""},{"$f":"IF(OR(C33328=\"\",ISBLANK(C33328)),\"\",VLOOKUP(C33328,Sheet2!A:G,6,FALSE))","v":""},""]
[{"$f":"IF(OR(C33353=\"\",ISBLANK(C33353)),\"\",VLOOKUP(C33353,Sheet2!A:F,2,FALSE))","v":""},{"$f":"IF(OR(C33353=\"\",ISBLANK(C33353)),\"\",VLOOKUP(C33353,Sheet2!A:G,4,FALSE))","v":""},null,null,{"$f":"IF(OR(C33353=\"\",ISBLANK(C33353)),\"\",VLOOKUP(C33353,Sheet2!A:F,3,FALSE))","v":""},{"$f":"IF(OR(C33353=\"\",ISBLANK(C33353)),\"\",VLOOKUP(C33353,Sheet2!A:G,6,FALSE))","v":""},""]
[{"$f":"IF(OR(C33386=\"\",ISBLANK(C33386)),\"\",VLOOKUP(C33386,Sheet2!A:F,2,FALSE))","v":""},{"$f":"IF(OR(C33386=\"\",ISBLANK(C33386)),\"\",VLOOKUP(C33386,Sheet2!A:G,4,FALSE))","v":""},null,null,{"$f":"IF(OR(C33386=\"\",ISBLANK(C33386)),\"\",VLOOKUP(C33386,Sheet2!A:F,3,FALSE))","v":""},{"$f":"IF(OR(C33386=\"\",ISBLANK(C33386)),\"\",VLOOKUP(C33386,Sheet2!A:G,6,FALSE))","v":""},""]
[{"$f":"IF(OR(C33419=\"\",ISBLANK(C33419)),\"\",VLOOKUP(C33419,Sheet2!A:F,2,FALSE))","v":""},{"$f":"IF(OR(C33419=\"\",ISBLANK(C33419)),\"\",VLOOKUP(C33419,Sheet2!A:G,4,FALSE))","v":""},null,null,{"$f":"IF(OR(C33419=\"\",ISBLANK(C33419)),\"\",VLOOKUP(C33419,Sheet2!A:F,3,FALSE))","v":""},{"$f":"IF(OR(C33419=\"\",ISBLANK(C33419)),\"\",VLOOKUP(C33419,Sheet2!A:G,6,FALSE))","v":""},""]
[{"$f":"IF(OR(C33444=\"\",ISBLANK(C33444)),\"\",VLOOKUP(C33444,Sheet2!A:F,2,FALSE))","v":""},{"$f":"IF(OR(C33444=\"\",ISBLANK(C33444)),\"\",VLOOKUP(C33444,Sheet2!A:G,4,FALSE))","v":""},null,null,{"$f":"IF(OR(C33444=\"\",ISBLANK(C33444)),\"\",VLOOKUP(C33444,Sheet2!A:F,3,FALSE))","v":""},{"$f":"IF(OR(C33444=\"\",ISBLANK(C33444)),\"\",VLOOKUP(C33444,Sheet2!A:G,6,FALSE))","v":""},""]
[{"$f":"IF(OR(C33453=\"\",ISBLANK(C33453)),\"\",VLOOKUP(C33453,Sheet2!A:F,2,FALSE))","v":""},{"$f":"IF(OR(C33453=\"\",ISBLANK(C33453)),\"\",VLOOKUP(C33453,Sheet2!A:G,4,FALSE))","v":""},null,null,{"$f":"IF(OR(C33453=\"\",ISBLANK(C33453)),\"\",VLOOKUP(C33453,Sheet2!A:F,3,FALSE))","v":""},{"$f":"IF(OR(C33453=\"\",ISBLANK(C33453)),\"\",VLOOKUP(C33453,Sheet2!A:G,6,FALSE))","v":""},""]
[{"$f":"IF(OR(C33482=\"\",ISBLANK(C33482)),\"\",VLOOKUP(C33482,Sheet2!A:F,2,FALSE))","v":""},{"$f":"IF(OR(C33482=\"\",ISBLANK(C33482)),\"\",VLOOKUP(C33482,Sheet2!A:G,4,FALSE))","v":""},null,null,{"$f":"IF(OR(C33482=\"\",ISBLANK(C33482)),\"\",VLOOKUP(C33482,Sheet2!A:F,3,FALSE))","v":""},{"$f":"IF(OR(C33482=\"\",ISBLANK(C33482)),\"\",VLOOKUP(C33482,Sheet2!A:G,6,FALSE))","v":""},""]
[{"$f":"IF(OR(C33510=\"\",ISBLANK(C33510)),\"\",VLOOKUP(C33510,Sheet2!A:F,2,FALSE))","v":""},{"$f":"IF(OR(C33510=\"\",ISBLANK(C33510)),\"\",VLOOKUP(C33510,Sheet2!A:G,4,FALSE))","v":""},null,null,{"$f":"IF(OR(C33510=\"\",ISBLANK(C33510)),\"\",VLOOKUP(C33510,Sheet2!A:F,3,FALSE))","v":""},{"$f":"IF(OR(C33510=\"\",ISBLANK(C33510)),\"\",VLOOKUP(C33510,Sheet2!A:G,6,FALSE))","v":""},""]
[{"$f":"IF(OR(C33519=\"\",ISBLANK(C33519)),\"\",VLOOKUP(C33519,Sheet2!A:F,2,FALSE))","v":""},{"$f":"IF(OR(C33519=\"\",ISBLANK(C33519)),\"\",VLOOKUP(C33519,Sheet2!A:G,4,FALSE))","v":""},null,null,{"$f":"IF(OR(C33519=\"\",ISBLANK(C33519)),\"\",VLOOKUP(C33519,Sheet2!A:F,3,FALSE))","v":""},{"$f":"IF(OR(C33519=\"\",ISBLANK(C33519)),\"\",VLOOKUP(C33519,Sheet2!A:G,6,FALSE))","v":""},""]
[{"$f":"IF(OR(C33544=\"\",ISBLANK(C33544)),\"\",VLOOKUP(C33544,Sheet2!A:F,2,FALSE))","v":""},{"$f":"IF(OR(C33544=\"\",ISBLANK(C33544)),\"\",VLOOKUP(C33544,Sheet2!A:G,4,FALSE))","v":""},null,null,{"$f":"IF(OR(C33544=\"\",ISBLANK(C33544)),\"\",VLOOKUP(C33544,Sheet2!A:F,3,FALSE))","v":""},{"$f":"IF(OR(C33544=\"\",ISBLANK(C33544)),\"\",VLOOKUP(C33544,Sheet2!A:G,6,FALSE))","v":""},""]
[{"$f":"IF(OR(C33577=\"\",ISBLANK(C33577)),\"\",VLOOKUP(C33577,Sheet2!A:F,2,FALSE))","v":""},{"$f":"IF(OR(C33577=\"\",ISBLANK(C33577)),\"\",VLOOKUP(C33577,Sheet2!A:G,4,FALSE))","v":""},null,null,{"$f":"IF(OR(C33577=\"\",ISBLANK(C33577)),\"\",VLOOKUP(C33577,Sheet2!A:F,3,FALSE))","v":""},{"$f":"IF(OR(C33577=\"\",ISBLANK(C33577)),\"\",VLOOKUP(C33577,Sheet2!A:G,6,FALSE))","v":""},""]
[{"$f":"IF(OR(C33610=\"\",ISBLANK(C33610)),\"\",VLOOKUP(C33610,Sheet2!A:F,2,FALSE))","v":""},{"$f":"IF(OR(C33610=\"\",ISBLANK(C33610)),\"\",VLOOKUP(C33610,Sheet2!A:G,4,FALSE))","v":""},null,null,{"$f":"IF(OR(C33610=\"\",ISBLANK(C33610)),\"\",VLOOKUP(C33610,Sheet2!A:F,3,FALSE))","v":""},{"$f":"IF(OR(C33610=\"\",ISBLANK(C33610)),\"\",VLOOKUP(C33610,Sheet2!A:G,6,FALSE))","v":""},""]
[{"$f":"IF(OR(C33635=\"\",ISBLANK(C33635)),\"\",VLOOKUP(C33635,Sheet2!A:F,2,FALSE))","v":""},{"$f":"IF(OR(C33635=\"\",ISBLANK(C33635)),\"\",VLOOKUP(C33635,Sheet2!A:G,4,FALSE))","v":""},null,null,{"$f":"IF(OR(C33635=\"\",ISBLANK(C33635)),\"\",VLOOKUP(C33635,Sheet2!A:F,3,FALSE))","v":""},{"$f":"IF(OR(C33635=\"\",ISBLANK(C33635)),\"\",VLOOKUP(C33635,Sheet2!A:G,6,FALSE))","v":""},""]
[{"$f":"IF(OR(C33644=\"\",ISBLANK(C33644)),\"\",VLOOKUP(C33644,Sheet2!A:F,2,FALSE))","v":""},{"$f":"IF(OR(C33644=\"\",ISBLANK(C33644)),\"\",VLOOKUP(C33644,Sheet2!A:G,4,FALSE))","v":""},null,null,{"$f":"IF(OR(C33644=\"\",ISBLANK(C33644)),\"\",VLOOKUP(C33644,Sheet2!A:F,3,FALSE))","v":""},{"$f":"IF(OR(C33644=\"\",ISBLANK(C33644)),\"\",VLOOKUP(C33644,Sheet2!A:G,6,FALSE))","v":""},""]
[{"$f":"IF(OR(C33669=\"\",ISBLANK(C33669)),\"\",VLOOKUP(C33669,Sheet2!A:F,2,FALSE))","v":""},{"$f":"IF(OR(C33669=\"\",ISBLANK(C33669)),\"\",VLOOKUP(C33669,Sheet2!A:G,4,FALSE))","v":""},null,null,{"$f":"IF(OR(C33669=\"\",ISBLANK(C33669)),\"\",VLOOKUP(C33669,Sheet2!A:F,3,FALSE))","v":""},{"$f":"IF(OR(C33669=\"\",ISBLANK(C33669)),\"\",VLOOKUP(C33669,Sheet2!A:G,6,FALSE))","v":""},""]
[{"$f":"IF(OR(C33701=\"\",ISBLANK(C33701)),\"\",VLOOKUP(C33701,Sheet2!A:F,2,FALSE))","v":""},{"$f":"IF(OR(C33701=\"\",ISBLANK(C33701)),\"\",VLOOKUP(C33701,Sheet2!A:G,4,FALSE))","v":""},null,null,{"$f":"IF(OR(C33701=\"\",ISBLANK(C33701)),\"\",VLOOKUP(C33701,Sheet2!A:F,3,FALSE))","v":""},{"$f":"IF(OR(C33701=\"\",ISBLANK(C33701)),\"\",VLOOKUP(C33701,Sheet2!A:G,6,FALSE))","v":""},""]
[{"$f":"IF(OR(C33710=\"\",ISBLANK(C33710)),\"\",VLOOKUP(C33710,Sheet2!A:F,2,FALSE))","v":""},{"$f":"IF(OR(C33710=\"\",ISBLANK(C33710)),\"\",VLOOKUP(C33710,Sheet2!A:G,4,FALSE))","v":""},null,null,{"$f":"IF(OR(C33710=\"\",ISBLANK(C33710)),\"\",VLOOKUP(C33710,Sheet2!A:F,3,FALSE))","v":""},{"$f":"IF(OR(C33710=\"\",ISBLANK(C33710)),\"\",VLOOKUP(C33710,Sheet2!A:G,6,FALSE))","v":""},""]
[{"$f":"IF(OR(C33735=\"\",ISBLANK(C33735)),\"\",VLOOKUP(C33735,Sheet2!A:F,2,FALSE))","v":""},{"$f":"IF(OR(C33735=\"\",ISBLANK(C33735)),\"\",VLOOKUP(C33735,Sheet2!A:G,4,FALSE))","v":""},null,null,{"$f":"IF(OR(C33735=\"\",ISBLANK(C33735)),\"\",VLOOKUP(C33735,Sheet2!A:F,3,FALSE))","v":""},{"$f":"IF(OR(C33735=\"\",ISBLANK(C33735)),\"\",VLOOKUP(C33735,Sheet2!A:G,6,FALSE))","v":""},""]
[{"$f":"IF(OR(C33768=\"\",ISBLANK(C33768)),\"\",VLOOKUP(C33768,Sheet2!A:F,2,FALSE))","v":""},{"$f":"IF(OR(C33768=\"\",ISBLANK(C33768)),\"\",VLOOKUP(C33768,Sheet2!A:G,4,FALSE))","v":""},null,null,{"$f":"IF(OR(C33768=\"\",ISBLANK(C33768)),\"\",VLOOKUP(C33768,Sheet2!A:F,3,FALSE))","v":""},{"$f":"IF(OR(C33768=\"\",ISBLANK(C33768)),\"\",VLOOKUP(C33768,Sheet2!A:G,6,FALSE))","v":""},""]
[{"$f":"IF(OR(C33793=\"\",ISBLANK(C33793)),\"\",VLOOKUP(C33793,Sheet2!A:F,2,FALSE))","v":""},{"$f":"IF(OR(C33793=\"\",ISBLANK(C33793)),\"\",VLOOKUP(C33793,Sheet2!A:G,4,FALSE))","v":""},null,null,{"$f":"IF(OR(C33793=\"\",ISBLANK(C33793)),\"\",VLOOKUP(C33793,Sheet2!A:F,3,FALSE))","v":""},{"$f":"IF(OR(C33793=\"\",ISBLANK(C33793)),\"\",VLOOKUP(C33793,Sheet2!A:G,6,FALSE))","v":""},""]
[{"$f":"IF(OR(C33826=\"\",ISBLANK(C33826)),\"\",VLOOKUP(C33826,Sheet2!A:F,2,FALSE))","v":""},{"$f":"IF(OR(C33826=\"\",ISBLANK(C33826)),\"\",VLOOKUP(C33826,Sheet2!A:G,4,FALSE))","v":""},null,null,{"$f":"IF(OR(C33826=\"\",ISBLANK(C33826)),\"\",VLOOKUP(C33826,Sheet2!A:F,3,FALSE))","v":""},{"$f":"IF(OR(C33826=\"\",ISBLANK(C33826)),\"\",VLOOKUP(C33826,Sheet2!A:G,6,FALSE))","v":""},""]
[{"$f":"IF(OR(C33835=\"\",ISBLANK(C33835)),\"\",VLOOKUP(C33835,Sheet2!A:F,2,FALSE))","v":""},{"$f":"IF(OR(C33835=\"\",ISBLANK(C33835)),\"\",VLOOKUP(C33835,Sheet2!A:G,4,FALSE))","v":""},null,null,{"$f":"IF(OR(C33835=\"\",ISBLANK(C33835)),\"\",VLOOKUP(C33835,Sheet2!A:F,3,FALSE))","v":""},{"$f":"IF(OR(C33835=\"\",ISBLANK(C33835)),\"\",VLOOKUP(C33835,Sheet2!A:G,6,FALSE))","v":""},""]
[{"$f":"IF(OR(C33860=\"\",ISBLANK(C33860)),\"\",VLOOKUP(C33860,Sheet2!A:F,2,FALSE))","v":""},{"$f":"IF(OR(C33860=\"\",ISBLANK(C33860)),\"\",VLOOKUP(C33860,Sheet2!A:G,4,FALSE))","v":""},null,null,{"$f":"IF(OR(C33860=\"\",ISBLANK(C33860)),\"\",VLOOKUP(C33860,Sheet2!A:F,3,FALSE))","v":""},{"$f":"IF(OR(C33860=\"\",ISBLANK(C33860)),\"\",VLOOKUP(C33860,Sheet2!A:G,6,FALSE))","v":""},""]
[{"$f":"IF(OR(C33893=\"\",ISBLANK(C33893)),\"\",VLOOKUP(C33893,Sheet2!A:F,2,FALSE))","v":""},{"$f":"IF(OR(C33893=\"\",ISBLANK(C33893)),\"\",VLOOKUP(C33893,Sheet2!A:G,4,FALSE))","v":""},null,null,{"$f":"IF(OR(C33893=\"\",ISBLANK(C33893)),\"\",VLOOKUP(C33893,Sheet2!A:F,3,FALSE))","v":""},{"$f":"IF(OR(C33893=\"\",ISBLANK(C33893)),\"\",VLOOKUP(C33893,Sheet2!A:G,6,FALSE))","v":""},""]
[{"$f":"IF(OR(C33902=\"\",ISBLANK(C33902)),\"\",VLOOKUP(C33902,Sheet2!A:F,2,FALSE))","v":""},{"$f":"IF(OR(C33902=\"\",ISBLANK(C33902)),\"\",VLOOKUP(C33902,Sheet2!A:G,4,FALSE))","v":""},null,null,{"$f":"IF(OR(C33902=\"\",ISBLANK(C33902)),\"\",VLOOKUP(C33902,Sheet2!A:F,3,FALSE))","v":""},{"$f":"IF(OR(C33902=\"\",ISBLANK(C33902)),\"\",VLOOKUP(C33902,Sheet2!A:G,6,FALSE))","v":""},""]
[{"$f":"IF(OR(C33932=\"\",ISBLANK(C33932)),\"\",VLOOKUP(C33932,Sheet2!A:F,2,FALSE))","v":""},{"$f":"IF(OR(C33932=\"\",ISBLANK(C33932)),\"\",VLOOKUP(C33932,Sheet2!A:G,4,FALSE))","v":""},null,null,{"$f":"IF(OR(C33932=\"\",ISBLANK(C33932)),\"\",VLOOKUP(C33932,Sheet2!A:F,3,FALSE))","v":""},{"$f":"IF(OR(C33932=\"\",ISBLANK(C33932)),\"\",VLOOKUP(C33932,Sheet2!A:G,6,FALSE))","v":""},""]
[{"$f":"IF(OR(C33959=\"\",ISBLANK(C33959)),\"\",VLOOKUP(C33959,Sheet2!A:F,2,FALSE))","v":""},{"$f":"IF(OR(C33959=\"\",ISBLANK(C33959)),\"\",VLOOKUP(C33959,Sheet2!A:G,4,FALSE))","v":""},null,null,{"$f":"IF(OR(C33959=\"\",ISBLANK(C33959)),\"\",VLOOKUP(C33959,Sheet2!A:F,3,FALSE))","v":""},{"$f":"IF(OR(C33959=\"\",ISBLANK(C33959)),\"\",VLOOKUP(C33959,Sheet2!A:G,6,FALSE))","v":""},""]
[{"$f":"IF(OR(C33984=\"\",ISBLANK(C33984)),\"\",VLOOKUP(C33984,Sheet2!A:F,2,FALSE))","v":""},{"$f":"IF(OR(C33984=\"\",ISBLANK(C33984)),\"\",VLOOKUP(C33984,Sheet2!A:G,4,FALSE))","v":""},null,null,{"$f":"IF(OR(C33984=\"\",ISBLANK(C33984)),\"\",VLOOKUP(C33984,Sheet2!A:F,3,FALSE))","v":""},{"$f":"IF(OR(C33984=\"\",ISBLANK(C33984)),\"\",VLOOKUP(C33984,Sheet2!A:G,6,FALSE))","v":""},""]
[{"$f":"IF(OR(C34017=\"\",ISBLANK(C34017)),\"\",VLOOKUP(C34017,Sheet2!A:F,2,FALSE))","v":""},{"$f":"IF(OR(C34017=\"\",ISBLANK(C34017)),\"\",VLOOKUP(C34017,Sheet2!A:G,4,FALSE))","v":""},null,null,{"$f":"IF(OR(C34017=\"\",ISBLANK(C34017)),\"\",VLOOKUP(C34017,Sheet2!A:F,3,FALSE))","v":""},{"$f":"IF(OR(C34017=\"\",ISBLANK(C34017)),\"\",VLOOKUP(C34017,Sheet2!A:G,6,FALSE))","v":""},""]
[{"$f":"IF(OR(C34026=\"\",ISBLANK(C34026)),\"\",VLOOKUP(C34026,Sheet2!A:F,2,FALSE))","v":""},{"$f":"IF(OR(C34026=\"\",ISBLANK(C34026)),\"\",VLOOKUP(C34026,Sheet2!A:G,4,FALSE))","v":""},null,null,{"$f":"IF(OR(C34026=\"\",ISBLANK(C34026)),\"\",VLOOKUP(C34026,Sheet2!A:F,3,FALSE))","v":""},{"$f":"IF(OR(C34026=\"\",ISBLANK(C34026)),\"\",VLOOKUP(C34026,Sheet2!A:G,6,FALSE))","v":""},""]
[{"$f":"IF(OR(C34051=\"\",ISBLANK(C34051)),\"\",VLOOKUP(C34051,Sheet2!A:F,2,FALSE))","v":""},{"$f":"IF(OR(C34051=\"\",ISBLANK(C34051)),\"\",VLOOKUP(C34051,Sheet2!A:G,4,FALSE))","v":""},null,null,{"$f":"IF(OR(C34051=\"\",ISBLANK(C34051)),\"\",VLOOKUP(C34051,Sheet2!A:F,3,FALSE))","v":""},{"$f":"IF(OR(C34051=\"\",ISBLANK(C34051)),\"\",VLOOKUP(C34051,Sheet2!A:G,6,FALSE))","v":""},{"$f":"IF(F34051=0,\"\",F34051)","v":""}]
[{"$f":"IF(OR(C34084=\"\",ISBLANK(C34084)),\"\",VLOOKUP(C34084,Sheet2!A:F,2,FALSE))","v":""},{"$f":"IF(OR(C34084=\"\",ISBLANK(C34084)),\"\",VLOOKUP(C34084,Sheet2!A:G,4,FALSE))","v":""},null,null,{"$f":"IF(OR(C34084=\"\",ISBLANK(C34084)),\"\",VLOOKUP(C34084,Sheet2!A:F,3,FALSE))","v":""},{"$f":"IF(OR(C34084=\"\",ISBLANK(C34084)),\"\",VLOOKUP(C34084,Sheet2!A:G,6,FALSE))","v":""},""]
[{"$f":"IF(OR(C34093=\"\",ISBLANK(C34093)),\"\",VLOOKUP(C34093,Sheet2!A:F,2,FALSE))","v":""},{"$f":"IF(OR(C34093=\"\",ISBLANK(C34093)),\"\",VLOOKUP(C34093,Sheet2!A:G,4,FALSE))","v":""},null,null,{"$f":"IF(OR(C34093=\"\",ISBLANK(C34093)),\"\",VLOOKUP(C34093,Sheet2!A:F,3,FALSE))","v":""},{"$f":"IF(OR(C34093=\"\",ISBLANK(C34093)),\"\",VLOOKUP(C34093,Sheet2!A:G,6,FALSE))","v":""},""]
[{"$f":"IF(OR(C34118=\"\",ISBLANK(C34118)),\"\",VLOOKUP(C34118,Sheet2!A:F,2,FALSE))","v":""},{"$f":"IF(OR(C34118=\"\",ISBLANK(C34118)),\"\",VLOOKUP(C34118,Sheet2!A:G,4,FALSE))","v":""},null,null,{"$f":"IF(OR(C34118=\"\",ISBLANK(C34118)),\"\",VLOOKUP(C34118,Sheet2!A:F,3,FALSE))","v":""},{"$f":"IF(OR(C34118=\"\",ISBLANK(C34118)),\"\",VLOOKUP(C34118,Sheet2!A:G,6,FALSE))","v":""},""]
[{"$f":"IF(OR(C34151=\"\",ISBLANK(C34151)),\"\",VLOOKUP(C34151,Sheet2!A:F,2,FALSE))","v":""},{"$f":"IF(OR(C34151=\"\",ISBLANK(C34151)),\"\",VLOOKUP(C34151,Sheet2!A:G,4,FALSE))","v":""},null,null,{"$f":"IF(OR(C34151=\"\",ISBLANK(C34151)),\"\",VLOOKUP(C34151,Sheet2!A:F,3,FALSE))","v":""},{"$f":"IF(OR(C34151=\"\",ISBLANK(C34151)),\"\",VLOOKUP(C34151,Sheet2!A:G,6,FALSE))","v":""},""]
[{"$f":"IF(OR(C34186=\"\",ISBLANK(C34186)),\"\",VLOOKUP(C34186,Sheet2!A:F,2,FALSE))","v":""},{"$f":"IF(OR(C34186=\"\",ISBLANK(C34186)),\"\",VLOOKUP(C34186,Sheet2!A:G,4,FALSE))","v":""},null,null,{"$f":"IF(OR(C34186=\"\",ISBLANK(C34186)),\"\",VLOOKUP(C34186,Sheet2!A:F,3,FALSE))","v":""},{"$f":"IF(OR(C34186=\"\",ISBLANK(C34186)),\"\",VLOOKUP(C34186,Sheet2!A:G,6,FALSE))","v":""},""]
[{"$f":"IF(OR(C34208=\"\",ISBLANK(C34208)),\"\",VLOOKUP(C34208,Sheet2!A:F,2,FALSE))","v":""},{"$f":"IF(OR(C34208=\"\",ISBLANK(C34208)),\"\",VLOOKUP(C34208,Sheet2!A:G,4,FALSE))","v":""},null,null,{"$f":"IF(OR(C34208=\"\",ISBLANK(C34208)),\"\",VLOOKUP(C34208,Sheet2!A:F,3,FALSE))","v":""},{"$f":"IF(OR(C34208=\"\",ISBLANK(C34208)),\"\",VLOOKUP(C34208,Sheet2!A:G,6,FALSE))","v":""},""]
[{"$f":"IF(OR(C34217=\"\",ISBLANK(C34217)),\"\",VLOOKUP(C34217,Sheet2!A:F,2,FALSE))","v":""},{"$f":"IF(OR(C34217=\"\",ISBLANK(C34217)),\"\",VLOOKUP(C34217,Sheet2!A:G,4,FALSE))","v":""},null,null,{"$f":"IF(OR(C34217=\"\",ISBLANK(C34217)),\"\",VLOOKUP(C34217,Sheet2!A:F,3,FALSE))","v":""},{"$f":"IF(OR(C34217=\"\",ISBLANK(C34217)),\"\",VLOOKUP(C34217,Sheet2!A:G,6,FALSE))","v":""},""]
[{"$f":"IF(OR(C34242=\"\",ISBLANK(C34242)),\"\",VLOOKUP(C34242,Sheet2!A:F,2,FALSE))","v":""},{"$f":"IF(OR(C34242=\"\",ISBLANK(C34242)),\"\",VLOOKUP(C34242,Sheet2!A:G,4,FALSE))","v":""},null,null,{"$f":"IF(OR(C34242=\"\",ISBLANK(C34242)),\"\",VLOOKUP(C34242,Sheet2!A:F,3,FALSE))","v":""},{"$f":"IF(OR(C34242=\"\",ISBLANK(C34242)),\"\",VLOOKUP(C34242,Sheet2!A:G,6,FALSE))","v":""},""]
[{"$f":"IF(OR(C34275=\"\",ISBLANK(C34275)),\"\",VLOOKUP(C34275,Sheet2!A:F,2,FALSE))","v":""},{"$f":"IF(OR(C34275=\"\",ISBLANK(C34275)),\"\",VLOOKUP(C34275,Sheet2!A:G,4,FALSE))","v":""},null,null,{"$f":"IF(OR(C34275=\"\",ISBLANK(C34275)),\"\",VLOOKUP(C34275,Sheet2!A:F,3,FALSE))","v":""},{"$f":"IF(OR(C34275=\"\",ISBLANK(C34275)),\"\",VLOOKUP(C34275,Sheet2!A:G,6,FALSE))","v":""},""]
[{"$f":"IF(OR(C34300=\"\",ISBLANK(C34300)),\"\",VLOOKUP(C34300,Sheet2!A:F,2,FALSE))","v":""},{"$f":"IF(OR(C34300=\"\",ISBLANK(C34300)),\"\",VLOOKUP(C34300,Sheet2!A:G,4,FALSE))","v":""},null,null,{"$f":"IF(OR(C34300=\"\",ISBLANK(C34300)),\"\",VLOOKUP(C34300,Sheet2!A:F,3,FALSE))","v":""},{"$f":"IF(OR(C34300=\"\",ISBLANK(C34300)),\"\",VLOOKUP(C34300,Sheet2!A:G,6,FALSE))","v":""},""]
[{"$f":"IF(OR(C34309=\"\",ISBLANK(C34309)),\"\",VLOOKUP(C34309,Sheet2!A:F,2,FALSE))","v":""},{"$f":"IF(OR(C34309=\"\",ISBLANK(C34309)),\"\",VLOOKUP(C34309,Sheet2!A:G,4,FALSE))","v":""},null,null,{"$f":"IF(OR(C34309=\"\",ISBLANK(C34309)),\"\",VLOOKUP(C34309,Sheet2!A:F,3,FALSE))","v":""},{"$f":"IF(OR(C34309=\"\",ISBLANK(C34309)),\"\",VLOOKUP(C34309,Sheet2!A:G,6,FALSE))","v":""},""]
[{"$f":"IF(OR(C34342=\"\",ISBLANK(C34342)),\"\",VLOOKUP(C34342,Sheet2!A:F,2,FALSE))","v":""},{"$f":"IF(OR(C34342=\"\",ISBLANK(C34342)),\"\",VLOOKUP(C34342,Sheet2!A:G,4,FALSE))","v":""},null,null,{"$f":"IF(OR(C34342=\"\",ISBLANK(C34342)),\"\",VLOOKUP(C34342,Sheet2!A:F,3,FALSE))","v":""},{"$f":"IF(OR(C34342=\"\",ISBLANK(C34342)),\"\",VLOOKUP(C34342,Sheet2!A:G,6,FALSE))","v":""},""]
[{"$f":"IF(OR(C34367=\"\",ISBLANK(C34367)),\"\",VLOOKUP(C34367,Sheet2!A:F,2,FALSE))","v":""},{"$f":"IF(OR(C34367=\"\",ISBLANK(C34367)),\"\",VLOOKUP(C34367,Sheet2!A:G,4,FALSE))","v":""},null,null,{"$f":"IF(OR(C34367=\"\",ISBLANK(C34367)),\"\",VLOOKUP(C34367,Sheet2!A:F,3,FALSE))","v":""},{"$f":"IF(OR(C34367=\"\",ISBLANK(C34367)),\"\",VLOOKUP(C34367,Sheet2!A:G,6,FALSE))","v":""},""]
[{"$f":"IF(OR(C34382=\"\",ISBLANK(C34382)),\"\",VLOOKUP(C34382,Sheet2!A:F,2,FALSE))","v":""},{"$f":"IF(OR(C34382=\"\",ISBLANK(C34382)),\"\",VLOOKUP(C34382,Sheet2!A:G,4,FALSE))","v":""},null,null,{"$f":"IF(OR(C34382=\"\",ISBLANK(C34382)),\"\",VLOOKUP(C34382,Sheet2!A:F,3,FALSE))","v":""},{"$f":"IF(OR(C34382=\"\",ISBLANK(C34382)),\"\",VLOOKUP(C34382,Sheet2!A:G,6,FALSE))","v":""},""]
[{"$f":"IF(OR(C34408=\"\",ISBLANK(C34408)),\"\",VLOOKUP(C34408,Sheet2!A:F,2,FALSE))","v":""},{"$f":"IF(OR(C34408=\"\",ISBLANK(C34408)),\"\",VLOOKUP(C34408,Sheet2!A:G,4,FALSE))","v":""},null,null,{"$f":"IF(OR(C34408=\"\",ISBLANK(C34408)),\"\",VLOOKUP(C34408,Sheet2!A:F,3,FALSE))","v":""},{"$f":"IF(OR(C34408=\"\",ISBLANK(C34408)),\"\",VLOOKUP(C34408,Sheet2!A:G,6,FALSE))","v":""},""]
[{"$f":"IF(OR(C34433=\"\",ISBLANK(C34433)),\"\",VLOOKUP(C34433,Sheet2!A:F,2,FALSE))","v":""},{"$f":"IF(OR(C34433=\"\",ISBLANK(C34433)),\"\",VLOOKUP(C34433,Sheet2!A:G,4,FALSE))","v":""},null,null,{"$f":"IF(OR(C34433=\"\",ISBLANK(C34433)),\"\",VLOOKUP(C34433,Sheet2!A:F,3,FALSE))","v":""},{"$f":"IF(OR(C34433=\"\",ISBLANK(C34433)),\"\",VLOOKUP(C34433,Sheet2!A:G,6,FALSE))","v":""},""]
[{"$f":"IF(OR(C34466=\"\",ISBLANK(C34466)),\"\",VLOOKUP(C34466,Sheet2!A:F,2,FALSE))","v":""},{"$f":"IF(OR(C34466=\"\",ISBLANK(C34466)),\"\",VLOOKUP(C34466,Sheet2!A:G,4,FALSE))","v":""},null,null,{"$f":"IF(OR(C34466=\"\",ISBLANK(C34466)),\"\",VLOOKUP(C34466,Sheet2!A:F,3,FALSE))","v":""},{"$f":"IF(OR(C34466=\"\",ISBLANK(C34466)),\"\",VLOOKUP(C34466,Sheet2!A:G,6,FALSE))","v":""},""]
[{"$f":"IF(OR(C34491=\"\",ISBLANK(C34491)),\"\",VLOOKUP(C34491,Sheet2!A:F,2,FALSE))","v":""},{"$f":"IF(OR(C34491=\"\",ISBLANK(C34491)),\"\",VLOOKUP(C34491,Sheet2!A:G,4,FALSE))","v":""},null,null,{"$f":"IF(OR(C34491=\"\",ISBLANK(C34491)),\"\",VLOOKUP(C34491,Sheet2!A:F,3,FALSE))","v":""},{"$f":"IF(OR(C34491=\"\",ISBLANK(C34491)),\"\",VLOOKUP(C34491,Sheet2!A:G,6,FALSE))","v":""},""]
[{"$f":"IF(OR(C34500=\"\",ISBLANK(C34500)),\"\",VLOOKUP(C34500,Sheet2!A:F,2,FALSE))","v":""},{"$f":"IF(OR(C34500=\"\",ISBLANK(C34500)),\"\",VLOOKUP(C34500,Sheet2!A:G,4,FALSE))","v":""},null,null,{"$f":"IF(OR(C34500=\"\",ISBLANK(C34500)),\"\",VLOOKUP(C34500,Sheet2!A:F,3,FALSE))","v":""},{"$f":"IF(OR(C34500=\"\",ISBLANK(C34500)),\"\",VLOOKUP(C34500,Sheet2!A:G,6,FALSE))","v":""},""]
[{"$f":"IF(OR(C34533=\"\",ISBLANK(C34533)),\"\",VLOOKUP(C34533,Sheet2!A:F,2,FALSE))","v":""},{"$f":"IF(OR(C34533=\"\",ISBLANK(C34533)),\"\",VLOOKUP(C34533,Sheet2!A:G,4,FALSE))","v":""},null,null,{"$f":"IF(OR(C34533=\"\",ISBLANK(C34533)),\"\",VLOOKUP(C34533,Sheet2!A:F,3,FALSE))","v":""},{"$f":"IF(OR(C34533=\"\",ISBLANK(C34533)),\"\",VLOOKUP(C34533,Sheet2!A:G,6,FALSE))","v":""},""]
[{"$f":"IF(OR(C34558=\"\",ISBLANK(C34558)),\"\",VLOOKUP(C34558,Sheet2!A:F,2,FALSE))","v":""},{"$f":"IF(OR(C34558=\"\",ISBLANK(C34558)),\"\",VLOOKUP(C34558,Sheet2!A:G,4,FALSE))","v":""},null,null,{"$f":"IF(OR(C34558=\"\",ISBLANK(C34558)),\"\",VLOOKUP(C34558,Sheet2!A:F,3,FALSE))","v":""},{"$f":"IF(OR(C34558=\"\",ISBLANK(C34558)),\"\",VLOOKUP(C34558,Sheet2!A:G,6,FALSE))","v":""},""]
[{"$f":"IF(OR(C34591=\"\",ISBLANK(C34591)),\"\",VLOOKUP(C34591,Sheet2!A:F,2,FALSE))","v":""},{"$f":"IF(OR(C34591=\"\",ISBLANK(C34591)),\"\",VLOOKUP(C34591,Sheet2!A:G,4,FALSE))","v":""},null,null,{"$f":"IF(OR(C34591=\"\",ISBLANK(C34591)),\"\",VLOOKUP(C34591,Sheet2!A:F,3,FALSE))","v":""},{"$f":"IF(OR(C34591=\"\",ISBLANK(C34591)),\"\",VLOOKUP(C34591,Sheet2!A:G,6,FALSE))","v":""},""]
[{"$f":"IF(OR(C34616=\"\",ISBLANK(C34616)),\"\",VLOOKUP(C34616,Sheet2!A:F,2,FALSE))","v":""},{"$f":"IF(OR(C34616=\"\",ISBLANK(C34616)),\"\",VLOOKUP(C34616,Sheet2!A:G,4,FALSE))","v":""},null,null,{"$f":"IF(OR(C34616=\"\",ISBLANK(C34616)),\"\",VLOOKUP(C34616,Sheet2!A:F,3,FALSE))","v":""},{"$f":"IF(OR(C34616=\"\",ISBLANK(C34616)),\"\",VLOOKUP(C34616,Sheet2!A:G,6,FALSE))","v":""},""]
[{"$f":"IF(OR(C34636=\"\",ISBLANK(C34636)),\"\",VLOOKUP(C34636,Sheet2!A:F,2,FALSE))","v":""},{"$f":"IF(OR(C34636=\"\",ISBLANK(C34636)),\"\",VLOOKUP(C34636,Sheet2!A:G,4,FALSE))","v":""},null,null,{"$f":"IF(OR(C34636=\"\",ISBLANK(C34636)),\"\",VLOOKUP(C34636,Sheet2!A:F,3,FALSE))","v":""},{"$f":"IF(OR(C34636=\"\",ISBLANK(C34636)),\"\",VLOOKUP(C34636,Sheet2!A:G,6,FALSE))","v":""},""]
[{"$f":"IF(OR(C34657=\"\",ISBLANK(C34657)),\"\",VLOOKUP(C34657,Sheet2!A:F,2,FALSE))","v":""},{"$f":"IF(OR(C34657=\"\",ISBLANK(C34657)),\"\",VLOOKUP(C34657,Sheet2!A:G,4,FALSE))","v":""},null,null,{"$f":"IF(OR(C34657=\"\",ISBLANK(C34657)),\"\",VLOOKUP(C34657,Sheet2!A:F,3,FALSE))","v":""},{"$f":"IF(OR(C34657=\"\",ISBLANK(C34657)),\"\",VLOOKUP(C34657,Sheet2!A:G,6,FALSE))","v":""},""]
[{"$f":"IF(OR(C34682=\"\",ISBLANK(C34682)),\"\",VLOOKUP(C34682,Sheet2!A:F,2,FALSE))","v":""},{"$f":"IF(OR(C34682=\"\",ISBLANK(C34682)),\"\",VLOOKUP(C34682,Sheet2!A:G,4,FALSE))","v":""},null,null,{"$f":"IF(OR(C34682=\"\",ISBLANK(C34682)),\"\",VLOOKUP(C34682,Sheet2!A:F,3,FALSE))","v":""},{"$f":"IF(OR(C34682=\"\",ISBLANK(C34682)),\"\",VLOOKUP(C34682,Sheet2!A:G,6,FALSE))","v":""},""]
[{"$f":"IF(OR(C34691=\"\",ISBLANK(C34691)),\"\",VLOOKUP(C34691,Sheet2!A:F,2,FALSE))","v":""},{"$f":"IF(OR(C34691=\"\",ISBLANK(C34691)),\"\",VLOOKUP(C34691,Sheet2!A:G,4,FALSE))","v":""},null,null,{"$f":"IF(OR(C34691=\"\",ISBLANK(C34691)),\"\",VLOOKUP(C34691,Sheet2!A:F,3,FALSE))","v":""},{"$f":"IF(OR(C34691=\"\",ISBLANK(C34691)),\"\",VLOOKUP(C34691,Sheet2!A:G,6,FALSE))","v":""},{"$f":"IF(F34691=0,\"\",F34691)","v":""}]
[{"$f":"IF(OR(C34724=\"\",ISBLANK(C34724)),\"\",VLOOKUP(C34724,Sheet2!A:F,2,FALSE))","v":""},{"$f":"IF(OR(C34724=\"\",ISBLANK(C34724)),\"\",VLOOKUP(C34724,Sheet2!A:G,4,FALSE))","v":""},null,null,{"$f":"IF(OR(C34724=\"\",ISBLANK(C34724)),\"\",VLOOKUP(C34724,Sheet2!A:F,3,FALSE))","v":""},{"$f":"IF(OR(C34724=\"\",ISBLANK(C34724)),\"\",VLOOKUP(C34724,Sheet2!A:G,6,FALSE))","v":""},""]
[{"$f":"IF(OR(C34749=\"\",ISBLANK(C34749)),\"\",VLOOKUP(C34749,Sheet2!A:F,2,FALSE))","v":""},{"$f":"IF(OR(C34749=\"\",ISBLANK(C34749)),\"\",VLOOKUP(C34749,Sheet2!A:G,4,FALSE))","v":""},null,null,{"$f":"IF(OR(C34749=\"\",ISBLANK(C34749)),\"\",VLOOKUP(C34749,Sheet2!A:F,3,FALSE))","v":""},{"$f":"IF(OR(C34749=\"\",ISBLANK(C34749)),\"\",VLOOKUP(C34749,Sheet2!A:G,6,FALSE))","v":""},""]
[{"$f":"IF(OR(C34782=\"\",ISBLANK(C34782)),\"\",VLOOKUP(C34782,Sheet2!A:F,2,FALSE))","v":""},{"$f":"IF(OR(C34782=\"\",ISBLANK(C34782)),\"\",VLOOKUP(C34782,Sheet2!A:G,4,FALSE))","v":""},null,null,{"$f":"IF(OR(C34782=\"\",ISBLANK(C34782)),\"\",VLOOKUP(C34782,Sheet2!A:F,3,FALSE))","v":""},{"$f":"IF(OR(C34782=\"\",ISBLANK(C34782)),\"\",VLOOKUP(C34782,Sheet2!A:G,6,FALSE))","v":""},""]
[{"$f":"IF(OR(C34807=\"\",ISBLANK(C34807)),\"\",VLOOKUP(C34807,Sheet2!A:F,2,FALSE))","v":""},{"$f":"IF(OR(C34807=\"\",ISBLANK(C34807)),\"\",VLOOKUP(C34807,Sheet2!A:G,4,FALSE))","v":""},null,null,{"$f":"IF(OR(C34807=\"\",ISBLANK(C34807)),\"\",VLOOKUP(C34807,Sheet2!A:F,3,FALSE))","v":""},{"$f":"IF(OR(C34807=\"\",ISBLANK(C34807)),\"\",VLOOKUP(C34807,Sheet2!A:G,6,FALSE))","v":""},""]
[{"$f":"IF(OR(C34816=\"\",ISBLANK(C34816)),\"\",VLOOKUP(C34816,Sheet2!A:F,2,FALSE))","v":""},{"$f":"IF(OR(C34816=\"\",ISBLANK(C34816)),\"\",VLOOKUP(C34816,Sheet2!A:G,4,FALSE))","v":""},null,null,{"$f":"IF(OR(C34816=\"\",ISBLANK(C34816)),\"\",VLOOKUP(C34816,Sheet2!A:F,3,FALSE))","v":""},{"$f":"IF(OR(C34816=\"\",ISBLANK(C34816)),\"\",VLOOKUP(C34816,Sheet2!A:G,6,FALSE))","v":""},""]
[{"$f":"IF(OR(C34849=\"\",ISBLANK(C34849)),\"\",VLOOKUP(C34849,Sheet2!A:F,2,FALSE))","v":""},{"$f":"IF(OR(C34849=\"\",ISBLANK(C34849)),\"\",VLOOKUP(C34849,Sheet2!A:G,4,FALSE))","v":""},null,null,{"$f":"IF(OR(C34849=\"\",ISBLANK(C34849)),\"\",VLOOKUP(C34849,Sheet2!A:F,3,FALSE))","v":""},{"$f":"IF(OR(C34849=\"\",ISBLANK(C34849)),\"\",VLOOKUP(C34849,Sheet2!A:G,6,FALSE))","v":""},""]
[{"$f":"IF(OR(C34867=\"\",ISBLANK(C34867)),\"\",VLOOKUP(C34867,Sheet2!A:F,2,FALSE))","v":""},{"$f":"IF(OR(C34867=\"\",ISBLANK(C34867)),\"\",VLOOKUP(C34867,Sheet2!A:G,4,FALSE))","v":""},null,null,{"$f":"IF(OR(C34867=\"\",ISBLANK(C34867)),\"\",VLOOKUP(C34867,Sheet2!A:F,3,FALSE))","v":""},{"$f":"IF(OR(C34867=\"\",ISBLANK(C34867)),\"\",VLOOKUP(C34867,Sheet2!A:G,6,FALSE))","v":""},""]
[{"$f":"IF(OR(C34882=\"\",ISBLANK(C34882)),\"\",VLOOKUP(C34882,Sheet2!A:F,2,FALSE))","v":""},{"$f":"IF(OR(C34882=\"\",ISBLANK(C34882)),\"\",VLOOKUP(C34882,Sheet2!A:G,4,FALSE))","v":""},null,null,{"$f":"IF(OR(C34882=\"\",ISBLANK(C34882)),\"\",VLOOKUP(C34882,Sheet2!A:F,3,FALSE))","v":""},{"$f":"IF(OR(C34882=\"\",ISBLANK(C34882)),\"\",VLOOKUP(C34882,Sheet2!A:G,6,FALSE))","v":""},""]
[{"$f":"IF(OR(C34915=\"\",ISBLANK(C34915)),\"\",VLOOKUP(C34915,Sheet2!A:F,2,FALSE))","v":""},{"$f":"IF(OR(C34915=\"\",ISBLANK(C34915)),\"\",VLOOKUP(C34915,Sheet2!A:G,4,FALSE))","v":""},null,null,{"$f":"IF(OR(C34915=\"\",ISBLANK(C34915)),\"\",VLOOKUP(C34915,Sheet2!A:F,3,FALSE))","v":""},{"$f":"IF(OR(C34915=\"\",ISBLANK(C34915)),\"\",VLOOKUP(C34915,Sheet2!A:G,6,FALSE))","v":""},""]
[{"$f":"IF(OR(C34940=\"\",ISBLANK(C34940)),\"\",VLOOKUP(C34940,Sheet2!A:F,2,FALSE))","v":""},{"$f":"IF(OR(C34940=\"\",ISBLANK(C34940)),\"\",VLOOKUP(C34940,Sheet2!A:G,4,FALSE))","v":""},null,null,{"$f":"IF(OR(C34940=\"\",ISBLANK(C34940)),\"\",VLOOKUP(C34940,Sheet2!A:F,3,FALSE))","v":""},{"$f":"IF(OR(C34940=\"\",ISBLANK(C34940)),\"\",VLOOKUP(C34940,Sheet2!A:G,6,FALSE))","v":""},""]
[{"$f":"IF(OR(C34973=\"\",ISBLANK(C34973)),\"\",VLOOKUP(C34973,Sheet2!A:F,2,FALSE))","v":""},{"$f":"IF(OR(C34973=\"\",ISBLANK(C34973)),\"\",VLOOKUP(C34973,Sheet2!A:G,4,FALSE))","v":""},null,null,{"$f":"IF(OR(C34973=\"\",ISBLANK(C34973)),\"\",VLOOKUP(C34973,Sheet2!A:F,3,FALSE))","v":""},{"$f":"IF(OR(C34973=\"\",ISBLANK(C34973)),\"\",VLOOKUP(C34973,Sheet2!A:G,6,FALSE))","v":""},""]
[{"$f":"IF(OR(C34998=\"\",ISBLANK(C34998)),\"\",VLOOKUP(C34998,Sheet2!A:F,2,FALSE))","v":""},{"$f":"IF(OR(C34998=\"\",ISBLANK(C34998)),\"\",VLOOKUP(C34998,Sheet2!A:G,4,FALSE))","v":""},null,null,{"$f":"IF(OR(C34998=\"\",ISBLANK(C34998)),\"\",VLOOKUP(C34998,Sheet2!A:F,3,FALSE))","v":""},{"$f":"IF(OR(C34998=\"\",ISBLANK(C34998)),\"\",VLOOKUP(C34998,Sheet2!A:G,6,FALSE))","v":""},""]
[{"$f":"IF(OR(C35007=\"\",ISBLANK(C35007)),\"\",VLOOKUP(C35007,Sheet2!A:F,2,FALSE))","v":""},{"$f":"IF(OR(C35007=\"\",ISBLANK(C35007)),\"\",VLOOKUP(C35007,Sheet2!A:G,4,FALSE))","v":""},null,null,{"$f":"IF(OR(C35007=\"\",ISBLANK(C35007)),\"\",VLOOKUP(C35007,Sheet2!A:F,3,FALSE))","v":""},{"$f":"IF(OR(C35007=\"\",ISBLANK(C35007)),\"\",VLOOKUP(C35007,Sheet2!A:G,6,FALSE))","v":""},""]
[{"$f":"IF(OR(C35040=\"\",ISBLANK(C35040)),\"\",VLOOKUP(C35040,Sheet2!A:F,2,FALSE))","v":""},{"$f":"IF(OR(C35040=\"\",ISBLANK(C35040)),\"\",VLOOKUP(C35040,Sheet2!A:G,4,FALSE))","v":""},null,null,{"$f":"IF(OR(C35040=\"\",ISBLANK(C35040)),\"\",VLOOKUP(C35040,Sheet2!A:F,3,FALSE))","v":""},{"$f":"IF(OR(C35040=\"\",ISBLANK(C35040)),\"\",VLOOKUP(C35040,Sheet2!A:G,6,FALSE))","v":""},""]
[{"$f":"IF(OR(C35065=\"\",ISBLANK(C35065)),\"\",VLOOKUP(C35065,Sheet2!A:F,2,FALSE))","v":""},{"$f":"IF(OR(C35065=\"\",ISBLANK(C35065)),\"\",VLOOKUP(C35065,Sheet2!A:G,4,FALSE))","v":""},null,null,{"$f":"IF(OR(C35065=\"\",ISBLANK(C35065)),\"\",VLOOKUP(C35065,Sheet2!A:F,3,FALSE))","v":""},{"$f":"IF(OR(C35065=\"\",ISBLANK(C35065)),\"\",VLOOKUP(C35065,Sheet2!A:G,6,FALSE))","v":""},""]
[{"$f":"IF(OR(C35086=\"\",ISBLANK(C35086)),\"\",VLOOKUP(C35086,Sheet2!A:F,2,FALSE))","v":""},{"$f":"IF(OR(C35086=\"\",ISBLANK(C35086)),\"\",VLOOKUP(C35086,Sheet2!A:G,4,FALSE))","v":""},null,null,{"$f":"IF(OR(C35086=\"\",ISBLANK(C35086)),\"\",VLOOKUP(C35086,Sheet2!A:F,3,FALSE))","v":""},{"$f":"IF(OR(C35086=\"\",ISBLANK(C35086)),\"\",VLOOKUP(C35086,Sheet2!A:G,6,FALSE))","v":""},""]
[{"$f":"IF(OR(C35098=\"\",ISBLANK(C35098)),\"\",VLOOKUP(C35098,Sheet2!A:F,2,FALSE))","v":""},{"$f":"IF(OR(C35098=\"\",ISBLANK(C35098)),\"\",VLOOKUP(C35098,Sheet2!A:G,4,FALSE))","v":""},null,null,{"$f":"IF(OR(C35098=\"\",ISBLANK(C35098)),\"\",VLOOKUP(C35098,Sheet2!A:F,3,FALSE))","v":""},{"$f":"IF(OR(C35098=\"\",ISBLANK(C35098)),\"\",VLOOKUP(C35098,Sheet2!A:G,6,FALSE))","v":""},""]
[{"$f":"IF(OR(C35131=\"\",ISBLANK(C35131)),\"\",VLOOKUP(C35131,Sheet2!A:F,2,FALSE))","v":""},{"$f":"IF(OR(C35131=\"\",ISBLANK(C35131)),\"\",VLOOKUP(C35131,Sheet2!A:G,4,FALSE))","v":""},null,null,{"$f":"IF(OR(C35131=\"\",ISBLANK(C35131)),\"\",VLOOKUP(C35131,Sheet2!A:F,3,FALSE))","v":""},{"$f":"IF(OR(C35131=\"\",ISBLANK(C35131)),\"\",VLOOKUP(C35131,Sheet2!A:G,6,FALSE))","v":""},""]
[{"$f":"IF(OR(C35164=\"\",ISBLANK(C35164)),\"\",VLOOKUP(C35164,Sheet2!A:F,2,FALSE))","v":""},{"$f":"IF(OR(C35164=\"\",ISBLANK(C35164)),\"\",VLOOKUP(C35164,Sheet2!A:G,4,FALSE))","v":""},null,null,{"$f":"IF(OR(C35164=\"\",ISBLANK(C35164)),\"\",VLOOKUP(C35164,Sheet2!A:F,3,FALSE))","v":""},{"$f":"IF(OR(C35164=\"\",ISBLANK(C35164)),\"\",VLOOKUP(C35164,Sheet2!A:G,6,FALSE))","v":""},""]
[{"$f":"IF(OR(C35189=\"\",ISBLANK(C35189)),\"\",VLOOKUP(C35189,Sheet2!A:F,2,FALSE))","v":""},{"$f":"IF(OR(C35189=\"\",ISBLANK(C35189)),\"\",VLOOKUP(C35189,Sheet2!A:G,4,FALSE))","v":""},null,null,{"$f":"IF(OR(C35189=\"\",ISBLANK(C35189)),\"\",VLOOKUP(C35189,Sheet2!A:F,3,FALSE))","v":""},{"$f":"IF(OR(C35189=\"\",ISBLANK(C35189)),\"\",VLOOKUP(C35189,Sheet2!A:G,6,FALSE))","v":""},""]
[{"$f":"IF(OR(C35198=\"\",ISBLANK(C35198)),\"\",VLOOKUP(C35198,Sheet2!A:F,2,FALSE))","v":""},{"$f":"IF(OR(C35198=\"\",ISBLANK(C35198)),\"\",VLOOKUP(C35198,Sheet2!A:G,4,FALSE))","v":""},null,null,{"$f":"IF(OR(C35198=\"\",ISBLANK(C35198)),\"\",VLOOKUP(C35198,Sheet2!A:F,3,FALSE))","v":""},{"$f":"IF(OR(C35198=\"\",ISBLANK(C35198)),\"\",VLOOKUP(C35198,Sheet2!A:G,6,FALSE))","v":""},""]
[{"$f":"IF(OR(C35231=\"\",ISBLANK(C35231)),\"\",VLOOKUP(C35231,Sheet2!A:F,2,FALSE))","v":""},{"$f":"IF(OR(C35231=\"\",ISBLANK(C35231)),\"\",VLOOKUP(C35231,Sheet2!A:G,4,FALSE))","v":""},null,null,{"$f":"IF(OR(C35231=\"\",ISBLANK(C35231)),\"\",VLOOKUP(C35231,Sheet2!A:F,3,FALSE))","v":""},{"$f":"IF(OR(C35231=\"\",ISBLANK(C35231)),\"\",VLOOKUP(C35231,Sheet2!A:G,6,FALSE))","v":""},""]
[{"$f":"IF(OR(C35256=\"\",ISBLANK(C35256)),\"\",VLOOKUP(C35256,Sheet2!A:F,2,FALSE))","v":""},{"$f":"IF(OR(C35256=\"\",ISBLANK(C35256)),\"\",VLOOKUP(C35256,Sheet2!A:G,4,FALSE))","v":""},null,null,{"$f":"IF(OR(C35256=\"\",ISBLANK(C35256)),\"\",VLOOKUP(C35256,Sheet2!A:F,3,FALSE))","v":""},{"$f":"IF(OR(C35256=\"\",ISBLANK(C35256)),\"\",VLOOKUP(C35256,Sheet2!A:G,6,FALSE))","v":""},""]
[{"$f":"IF(OR(C35265=\"\",ISBLANK(C35265)),\"\",VLOOKUP(C35265,Sheet2!A:F,2,FALSE))","v":""},{"$f":"IF(OR(C35265=\"\",ISBLANK(C35265)),\"\",VLOOKUP(C35265,Sheet2!A:G,4,FALSE))","v":""},null,null,{"$f":"IF(OR(C35265=\"\",ISBLANK(C35265)),\"\",VLOOKUP(C35265,Sheet2!A:F,3,FALSE))","v":""},{"$f":"IF(OR(C35265=\"\",ISBLANK(C35265)),\"\",VLOOKUP(C35265,Sheet2!A:G,6,FALSE))","v":""},""]
[{"$f":"IF(OR(C35290=\"\",ISBLANK(C35290)),\"\",VLOOKUP(C35290,Sheet2!A:F,2,FALSE))","v":""},{"$f":"IF(OR(C35290=\"\",ISBLANK(C35290)),\"\",VLOOKUP(C35290,Sheet2!A:G,4,FALSE))","v":""},null,null,{"$f":"IF(OR(C35290=\"\",ISBLANK(C35290)),\"\",VLOOKUP(C35290,Sheet2!A:F,3,FALSE))","v":""},{"$f":"IF(OR(C35290=\"\",ISBLANK(C35290)),\"\",VLOOKUP(C35290,Sheet2!A:G,6,FALSE))","v":""},""]
[{"$f":"IF(OR(C35317=\"\",ISBLANK(C35317)),\"\",VLOOKUP(C35317,Sheet2!A:F,2,FALSE))","v":""},{"$f":"IF(OR(C35317=\"\",ISBLANK(C35317)),\"\",VLOOKUP(C35317,Sheet2!A:G,4,FALSE))","v":""},null,null,{"$f":"IF(OR(C35317=\"\",ISBLANK(C35317)),\"\",VLOOKUP(C35317,Sheet2!A:F,3,FALSE))","v":""},{"$f":"IF(OR(C35317=\"\",ISBLANK(C35317)),\"\",VLOOKUP(C35317,Sheet2!A:G,6,FALSE))","v":""},""]
[{"$f":"IF(OR(C35355=\"\",ISBLANK(C35355)),\"\",VLOOKUP(C35355,Sheet2!A:F,2,FALSE))","v":""},{"$f":"IF(OR(C35355=\"\",ISBLANK(C35355)),\"\",VLOOKUP(C35355,Sheet2!A:G,4,FALSE))","v":""},null,null,{"$f":"IF(OR(C35355=\"\",ISBLANK(C35355)),\"\",VLOOKUP(C35355,Sheet2!A:F,3,FALSE))","v":""},{"$f":"IF(OR(C35355=\"\",ISBLANK(C35355)),\"\",VLOOKUP(C35355,Sheet2!A:G,6,FALSE))","v":""},""]
[{"$f":"IF(OR(C35380=\"\",ISBLANK(C35380)),\"\",VLOOKUP(C35380,Sheet2!A:F,2,FALSE))","v":""},{"$f":"IF(OR(C35380=\"\",ISBLANK(C35380)),\"\",VLOOKUP(C35380,Sheet2!A:G,4,FALSE))","v":""},null,null,{"$f":"IF(OR(C35380=\"\",ISBLANK(C35380)),\"\",VLOOKUP(C35380,Sheet2!A:F,3,FALSE))","v":""},{"$f":"IF(OR(C35380=\"\",ISBLANK(C35380)),\"\",VLOOKUP(C35380,Sheet2!A:G,6,FALSE))","v":""},""]
[{"$f":"IF(OR(C35389=\"\",ISBLANK(C35389)),\"\",VLOOKUP(C35389,Sheet2!A:F,2,FALSE))","v":""},{"$f":"IF(OR(C35389=\"\",ISBLANK(C35389)),\"\",VLOOKUP(C35389,Sheet2!A:G,4,FALSE))","v":""},null,null,{"$f":"IF(OR(C35389=\"\",ISBLANK(C35389)),\"\",VLOOKUP(C35389,Sheet2!A:F,3,FALSE))","v":""},{"$f":"IF(OR(C35389=\"\",ISBLANK(C35389)),\"\",VLOOKUP(C35389,Sheet2!A:G,6,FALSE))","v":""},""]
[{"$f":"IF(OR(C35422=\"\",ISBLANK(C35422)),\"\",VLOOKUP(C35422,Sheet2!A:F,2,FALSE))","v":""},{"$f":"IF(OR(C35422=\"\",ISBLANK(C35422)),\"\",VLOOKUP(C35422,Sheet2!A:G,4,FALSE))","v":""},null,null,{"$f":"IF(OR(C35422=\"\",ISBLANK(C35422)),\"\",VLOOKUP(C35422,Sheet2!A:F,3,FALSE))","v":""},{"$f":"IF(OR(C35422=\"\",ISBLANK(C35422)),\"\",VLOOKUP(C35422,Sheet2!A:G,6,FALSE))","v":""},""]
[{"$f":"IF(OR(C35447=\"\",ISBLANK(C35447)),\"\",VLOOKUP(C35447,Sheet2!A:F,2,FALSE))","v":""},{"$f":"IF(OR(C35447=\"\",ISBLANK(C35447)),\"\",VLOOKUP(C35447,Sheet2!A:G,4,FALSE))","v":""},null,null,{"$f":"IF(OR(C35447=\"\",ISBLANK(C35447)),\"\",VLOOKUP(C35447,Sheet2!A:F,3,FALSE))","v":""},{"$f":"IF(OR(C35447=\"\",ISBLANK(C35447)),\"\",VLOOKUP(C35447,Sheet2!A:G,6,FALSE))","v":""},""]
[{"$f":"IF(OR(C35456=\"\",ISBLANK(C35456)),\"\",VLOOKUP(C35456,Sheet2!A:F,2,FALSE))","v":""},{"$f":"IF(OR(C35456=\"\",ISBLANK(C35456)),\"\",VLOOKUP(C35456,Sheet2!A:G,4,FALSE))","v":""},null,null,{"$f":"IF(OR(C35456=\"\",ISBLANK(C35456)),\"\",VLOOKUP(C35456,Sheet2!A:F,3,FALSE))","v":""},{"$f":"IF(OR(C35456=\"\",ISBLANK(C35456)),\"\",VLOOKUP(C35456,Sheet2!A:G,6,FALSE))","v":""},""]
[{"$f":"IF(OR(C35481=\"\",ISBLANK(C35481)),\"\",VLOOKUP(C35481,Sheet2!A:F,2,FALSE))","v":""},{"$f":"IF(OR(C35481=\"\",ISBLANK(C35481)),\"\",VLOOKUP(C35481,Sheet2!A:G,4,FALSE))","v":""},null,null,{"$f":"IF(OR(C35481=\"\",ISBLANK(C35481)),\"\",VLOOKUP(C35481,Sheet2!A:F,3,FALSE))","v":""},{"$f":"IF(OR(C35481=\"\",ISBLANK(C35481)),\"\",VLOOKUP(C35481,Sheet2!A:G,6,FALSE))","v":""},""]
[{"$f":"IF(OR(C35514=\"\",ISBLANK(C35514)),\"\",VLOOKUP(C35514,Sheet2!A:F,2,FALSE))","v":""},{"$f":"IF(OR(C35514=\"\",ISBLANK(C35514)),\"\",VLOOKUP(C35514,Sheet2!A:G,4,FALSE))","v":""},null,null,{"$f":"IF(OR(C35514=\"\",ISBLANK(C35514)),\"\",VLOOKUP(C35514,Sheet2!A:F,3,FALSE))","v":""},{"$f":"IF(OR(C35514=\"\",ISBLANK(C35514)),\"\",VLOOKUP(C35514,Sheet2!A:G,6,FALSE))","v":""},""]
[{"$f":"IF(OR(C35536=\"\",ISBLANK(C35536)),\"\",VLOOKUP(C35536,Sheet2!A:F,2,FALSE))","v":""},{"$f":"IF(OR(C35536=\"\",ISBLANK(C35536)),\"\",VLOOKUP(C35536,Sheet2!A:G,4,FALSE))","v":""},null,null,{"$f":"IF(OR(C35536=\"\",ISBLANK(C35536)),\"\",VLOOKUP(C35536,Sheet2!A:F,3,FALSE))","v":""},{"$f":"IF(OR(C35536=\"\",ISBLANK(C35536)),\"\",VLOOKUP(C35536,Sheet2!A:G,6,FALSE))","v":""},""]
[{"$f":"IF(OR(C35571=\"\",ISBLANK(C35571)),\"\",VLOOKUP(C35571,Sheet2!A:F,2,FALSE))","v":""},{"$f":"IF(OR(C35571=\"\",ISBLANK(C35571)),\"\",VLOOKUP(C35571,Sheet2!A:G,4,FALSE))","v":""},null,null,{"$f":"IF(OR(C35571=\"\",ISBLANK(C35571)),\"\",VLOOKUP(C35571,Sheet2!A:F,3,FALSE))","v":""},{"$f":"IF(OR(C35571=\"\",ISBLANK(C35571)),\"\",VLOOKUP(C35571,Sheet2!A:G,6,FALSE))","v":""},""]
[{"$f":"IF(OR(C35580=\"\",ISBLANK(C35580)),\"\",VLOOKUP(C35580,Sheet2!A:F,2,FALSE))","v":""},{"$f":"IF(OR(C35580=\"\",ISBLANK(C35580)),\"\",VLOOKUP(C35580,Sheet2!A:G,4,FALSE))","v":""},null,null,{"$f":"IF(OR(C35580=\"\",ISBLANK(C35580)),\"\",VLOOKUP(C35580,Sheet2!A:F,3,FALSE))","v":""},{"$f":"IF(OR(C35580=\"\",ISBLANK(C35580)),\"\",VLOOKUP(C35580,Sheet2!A:G,6,FALSE))","v":""},""]
[{"$f":"IF(OR(C35605=\"\",ISBLANK(C35605)),\"\",VLOOKUP(C35605,Sheet2!A:F,2,FALSE))","v":""},{"$f":"IF(OR(C35605=\"\",ISBLANK(C35605)),\"\",VLOOKUP(C35605,Sheet2!A:G,4,FALSE))","v":""},null,null,{"$f":"IF(OR(C35605=\"\",ISBLANK(C35605)),\"\",VLOOKUP(C35605,Sheet2!A:F,3,FALSE))","v":""},{"$f":"IF(OR(C35605=\"\",ISBLANK(C35605)),\"\",VLOOKUP(C35605,Sheet2!A:G,6,FALSE))","v":""},""]
[{"$f":"IF(OR(C35638=\"\",ISBLANK(C35638)),\"\",VLOOKUP(C35638,Sheet2!A:F,2,FALSE))","v":""},{"$f":"IF(OR(C35638=\"\",ISBLANK(C35638)),\"\",VLOOKUP(C35638,Sheet2!A:G,4,FALSE))","v":""},null,null,{"$f":"IF(OR(C35638=\"\",ISBLANK(C35638)),\"\",VLOOKUP(C35638,Sheet2!A:F,3,FALSE))","v":""},{"$f":"IF(OR(C35638=\"\",ISBLANK(C35638)),\"\",VLOOKUP(C35638,Sheet2!A:G,6,FALSE))","v":""},""]
[{"$f":"IF(OR(C35647=\"\",ISBLANK(C35647)),\"\",VLOOKUP(C35647,Sheet2!A:F,2,FALSE))","v":""},{"$f":"IF(OR(C35647=\"\",ISBLANK(C35647)),\"\",VLOOKUP(C35647,Sheet2!A:G,4,FALSE))","v":""},null,null,{"$f":"IF(OR(C35647=\"\",ISBLANK(C35647)),\"\",VLOOKUP(C35647,Sheet2!A:F,3,FALSE))","v":""},{"$f":"IF(OR(C35647=\"\",ISBLANK(C35647)),\"\",VLOOKUP(C35647,Sheet2!A:G,6,FALSE))","v":""},""]
[{"$f":"IF(OR(C35672=\"\",ISBLANK(C35672)),\"\",VLOOKUP(C35672,Sheet2!A:F,2,FALSE))","v":""},{"$f":"IF(OR(C35672=\"\",ISBLANK(C35672)),\"\",VLOOKUP(C35672,Sheet2!A:G,4,FALSE))","v":""},null,null,{"$f":"IF(OR(C35672=\"\",ISBLANK(C35672)),\"\",VLOOKUP(C35672,Sheet2!A:F,3,FALSE))","v":""},{"$f":"IF(OR(C35672=\"\",ISBLANK(C35672)),\"\",VLOOKUP(C35672,Sheet2!A:G,6,FALSE))","v":""},""]
[{"$f":"IF(OR(C35705=\"\",ISBLANK(C35705)),\"\",VLOOKUP(C35705,Sheet2!A:F,2,FALSE))","v":""},{"$f":"IF(OR(C35705=\"\",ISBLANK(C35705)),\"\",VLOOKUP(C35705,Sheet2!A:G,4,FALSE))","v":""},null,null,{"$f":"IF(OR(C35705=\"\",ISBLANK(C35705)),\"\",VLOOKUP(C35705,Sheet2!A:F,3,FALSE))","v":""},{"$f":"IF(OR(C35705=\"\",ISBLANK(C35705)),\"\",VLOOKUP(C35705,Sheet2!A:G,6,FALSE))","v":""},""]
[{"$f":"IF(OR(C35738=\"\",ISBLANK(C35738)),\"\",VLOOKUP(C35738,Sheet2!A:F,2,FALSE))","v":""},{"$f":"IF(OR(C35738=\"\",ISBLANK(C35738)),\"\",VLOOKUP(C35738,Sheet2!A:G,4,FALSE))","v":""},null,null,{"$f":"IF(OR(C35738=\"\",ISBLANK(C35738)),\"\",VLOOKUP(C35738,Sheet2!A:F,3,FALSE))","v":""},{"$f":"IF(OR(C35738=\"\",ISBLANK(C35738)),\"\",VLOOKUP(C35738,Sheet2!A:G,6,FALSE))","v":""},""]
[{"$f":"IF(OR(C35763=\"\",ISBLANK(C35763)),\"\",VLOOKUP(C35763,Sheet2!A:F,2,FALSE))","v":""},{"$f":"IF(OR(C35763=\"\",ISBLANK(C35763)),\"\",VLOOKUP(C35763,Sheet2!A:G,4,FALSE))","v":""},null,null,{"$f":"IF(OR(C35763=\"\",ISBLANK(C35763)),\"\",VLOOKUP(C35763,Sheet2!A:F,3,FALSE))","v":""},{"$f":"IF(OR(C35763=\"\",ISBLANK(C35763)),\"\",VLOOKUP(C35763,Sheet2!A:G,6,FALSE))","v":""},""]
[{"$f":"IF(OR(C35767=\"\",ISBLANK(C35767)),\"\",VLOOKUP(C35767,Sheet2!A:F,2,FALSE))","v":""},{"$f":"IF(OR(C35767=\"\",ISBLANK(C35767)),\"\",VLOOKUP(C35767,Sheet2!A:G,4,FALSE))","v":""},null,null,{"$f":"IF(OR(C35767=\"\",ISBLANK(C35767)),\"\",VLOOKUP(C35767,Sheet2!A:F,3,FALSE))","v":""},{"$f":"IF(OR(C35767=\"\",ISBLANK(C35767)),\"\",VLOOKUP(C35767,Sheet2!A:G,6,FALSE))","v":""},""]
[{"$f":"IF(OR(C35796=\"\",ISBLANK(C35796)),\"\",VLOOKUP(C35796,Sheet2!A:F,2,FALSE))","v":""},{"$f":"IF(OR(C35796=\"\",ISBLANK(C35796)),\"\",VLOOKUP(C35796,Sheet2!A:G,4,FALSE))","v":""},null,null,{"$f":"IF(OR(C35796=\"\",ISBLANK(C35796)),\"\",VLOOKUP(C35796,Sheet2!A:F,3,FALSE))","v":""},{"$f":"IF(OR(C35796=\"\",ISBLANK(C35796)),\"\",VLOOKUP(C35796,Sheet2!A:G,6,FALSE))","v":""},""]
[{"$f":"IF(OR(C35829=\"\",ISBLANK(C35829)),\"\",VLOOKUP(C35829,Sheet2!A:F,2,FALSE))","v":""},{"$f":"IF(OR(C35829=\"\",ISBLANK(C35829)),\"\",VLOOKUP(C35829,Sheet2!A:G,4,FALSE))","v":""},null,null,{"$f":"IF(OR(C35829=\"\",ISBLANK(C35829)),\"\",VLOOKUP(C35829,Sheet2!A:F,3,FALSE))","v":""},{"$f":"IF(OR(C35829=\"\",ISBLANK(C35829)),\"\",VLOOKUP(C35829,Sheet2!A:G,6,FALSE))","v":""},""]
[{"$f":"IF(OR(C35838=\"\",ISBLANK(C35838)),\"\",VLOOKUP(C35838,Sheet2!A:F,2,FALSE))","v":""},{"$f":"IF(OR(C35838=\"\",ISBLANK(C35838)),\"\",VLOOKUP(C35838,Sheet2!A:G,4,FALSE))","v":""},null,null,{"$f":"IF(OR(C35838=\"\",ISBLANK(C35838)),\"\",VLOOKUP(C35838,Sheet2!A:F,3,FALSE))","v":""},{"$f":"IF(OR(C35838=\"\",ISBLANK(C35838)),\"\",VLOOKUP(C35838,Sheet2!A:G,6,FALSE))","v":""},""]
[{"$f":"IF(OR(C35863=\"\",ISBLANK(C35863)),\"\",VLOOKUP(C35863,Sheet2!A:F,2,FALSE))","v":""},{"$f":"IF(OR(C35863=\"\",ISBLANK(C35863)),\"\",VLOOKUP(C35863,Sheet2!A:G,4,FALSE))","v":""},null,null,{"$f":"IF(OR(C35863=\"\",ISBLANK(C35863)),\"\",VLOOKUP(C35863,Sheet2!A:F,3,FALSE))","v":""},{"$f":"IF(OR(C35863=\"\",ISBLANK(C35863)),\"\",VLOOKUP(C35863,Sheet2!A:G,6,FALSE))","v":""},""]
[{"$f":"IF(OR(C35896=\"\",ISBLANK(C35896)),\"\",VLOOKUP(C35896,Sheet2!A:F,2,FALSE))","v":""},{"$f":"IF(OR(C35896=\"\",ISBLANK(C35896)),\"\",VLOOKUP(C35896,Sheet2!A:G,4,FALSE))","v":""},null,null,{"$f":"IF(OR(C35896=\"\",ISBLANK(C35896)),\"\",VLOOKUP(C35896,Sheet2!A:F,3,FALSE))","v":""},{"$f":"IF(OR(C35896=\"\",ISBLANK(C35896)),\"\",VLOOKUP(C35896,Sheet2!A:G,6,FALSE))","v":""},""]
[{"$f":"IF(OR(C35921=\"\",ISBLANK(C35921)),\"\",VLOOKUP(C35921,Sheet2!A:F,2,FALSE))","v":""},{"$f":"IF(OR(C35921=\"\",ISBLANK(C35921)),\"\",VLOOKUP(C35921,Sheet2!A:G,4,FALSE))","v":""},null,null,{"$f":"IF(OR(C35921=\"\",ISBLANK(C35921)),\"\",VLOOKUP(C35921,Sheet2!A:F,3,FALSE))","v":""},{"$f":"IF(OR(C35921=\"\",ISBLANK(C35921)),\"\",VLOOKUP(C35921,Sheet2!A:G,6,FALSE))","v":""},""]
[{"$f":"IF(OR(C35954=\"\",ISBLANK(C35954)),\"\",VLOOKUP(C35954,Sheet2!A:F,2,FALSE))","v":""},{"$f":"IF(OR(C35954=\"\",ISBLANK(C35954)),\"\",VLOOKUP(C35954,Sheet2!A:G,4,FALSE))","v":""},null,null,{"$f":"IF(OR(C35954=\"\",ISBLANK(C35954)),\"\",VLOOKUP(C35954,Sheet2!A:F,3,FALSE))","v":""},{"$f":"IF(OR(C35954=\"\",ISBLANK(C35954)),\"\",VLOOKUP(C35954,Sheet2!A:G,6,FALSE))","v":""},""]
[{"$f":"IF(OR(C35963=\"\",ISBLANK(C35963)),\"\",VLOOKUP(C35963,Sheet2!A:F,2,FALSE))","v":""},{"$f":"IF(OR(C35963=\"\",ISBLANK(C35963)),\"\",VLOOKUP(C35963,Sheet2!A:G,4,FALSE))","v":""},null,null,{"$f":"IF(OR(C35963=\"\",ISBLANK(C35963)),\"\",VLOOKUP(C35963,Sheet2!A:F,3,FALSE))","v":""},{"$f":"IF(OR(C35963=\"\",ISBLANK(C35963)),\"\",VLOOKUP(C35963,Sheet2!A:G,6,FALSE))","v":""},""]
[{"$f":"IF(OR(C35988=\"\",ISBLANK(C35988)),\"\",VLOOKUP(C35988,Sheet2!A:F,2,FALSE))","v":""},{"$f":"IF(OR(C35988=\"\",ISBLANK(C35988)),\"\",VLOOKUP(C35988,Sheet2!A:G,4,FALSE))","v":""},null,null,{"$f":"IF(OR(C35988=\"\",ISBLANK(C35988)),\"\",VLOOKUP(C35988,Sheet2!A:F,3,FALSE))","v":""},{"$f":"IF(OR(C35988=\"\",ISBLANK(C35988)),\"\",VLOOKUP(C35988,Sheet2!A:G,6,FALSE))","v":""},""]
[{"$f":"IF(OR(C36021=\"\",ISBLANK(C36021)),\"\",VLOOKUP(C36021,Sheet2!A:F,2,FALSE))","v":""},{"$f":"IF(OR(C36021=\"\",ISBLANK(C36021)),\"\",VLOOKUP(C36021,Sheet2!A:G,4,FALSE))","v":""},null,null,{"$f":"IF(OR(C36021=\"\",ISBLANK(C36021)),\"\",VLOOKUP(C36021,Sheet2!A:F,3,FALSE))","v":""},{"$f":"IF(OR(C36021=\"\",ISBLANK(C36021)),\"\",VLOOKUP(C36021,Sheet2!A:G,6,FALSE))","v":""},""]
[{"$f":"IF(OR(C36029=\"\",ISBLANK(C36029)),\"\",VLOOKUP(C36029,Sheet2!A:F,2,FALSE))","v":""},{"$f":"IF(OR(C36029=\"\",ISBLANK(C36029)),\"\",VLOOKUP(C36029,Sheet2!A:G,4,FALSE))","v":""},null,null,{"$f":"IF(OR(C36029=\"\",ISBLANK(C36029)),\"\",VLOOKUP(C36029,Sheet2!A:F,3,FALSE))","v":""},{"$f":"IF(OR(C36029=\"\",ISBLANK(C36029)),\"\",VLOOKUP(C36029,Sheet2!A:G,6,FALSE))","v":""},""]
[{"$f":"IF(OR(C36054=\"\",ISBLANK(C36054)),\"\",VLOOKUP(C36054,Sheet2!A:F,2,FALSE))","v":""},{"$f":"IF(OR(C36054=\"\",ISBLANK(C36054)),\"\",VLOOKUP(C36054,Sheet2!A:G,4,FALSE))","v":""},null,null,{"$f":"IF(OR(C36054=\"\",ISBLANK(C36054)),\"\",VLOOKUP(C36054,Sheet2!A:F,3,FALSE))","v":""},{"$f":"IF(OR(C36054=\"\",ISBLANK(C36054)),\"\",VLOOKUP(C36054,Sheet2!A:G,6,FALSE))","v":""},""]
[{"$f":"IF(OR(C36087=\"\",ISBLANK(C36087)),\"\",VLOOKUP(C36087,Sheet2!A:F,2,FALSE))","v":""},{"$f":"IF(OR(C36087=\"\",ISBLANK(C36087)),\"\",VLOOKUP(C36087,Sheet2!A:G,4,FALSE))","v":""},null,null,{"$f":"IF(OR(C36087=\"\",ISBLANK(C36087)),\"\",VLOOKUP(C36087,Sheet2!A:F,3,FALSE))","v":""},{"$f":"IF(OR(C36087=\"\",ISBLANK(C36087)),\"\",VLOOKUP(C36087,Sheet2!A:G,6,FALSE))","v":""},""]
[{"$f":"IF(OR(C36112=\"\",ISBLANK(C36112)),\"\",VLOOKUP(C36112,Sheet2!A:F,2,FALSE))","v":""},{"$f":"IF(OR(C36112=\"\",ISBLANK(C36112)),\"\",VLOOKUP(C36112,Sheet2!A:G,4,FALSE))","v":""},null,null,{"$f":"IF(OR(C36112=\"\",ISBLANK(C36112)),\"\",VLOOKUP(C36112,Sheet2!A:F,3,FALSE))","v":""},{"$f":"IF(OR(C36112=\"\",ISBLANK(C36112)),\"\",VLOOKUP(C36112,Sheet2!A:G,6,FALSE))","v":""},""]
[{"$f":"IF(OR(C36145=\"\",ISBLANK(C36145)),\"\",VLOOKUP(C36145,Sheet2!A:F,2,FALSE))","v":""},{"$f":"IF(OR(C36145=\"\",ISBLANK(C36145)),\"\",VLOOKUP(C36145,Sheet2!A:G,4,FALSE))","v":""},null,null,{"$f":"IF(OR(C36145=\"\",ISBLANK(C36145)),\"\",VLOOKUP(C36145,Sheet2!A:F,3,FALSE))","v":""},{"$f":"IF(OR(C36145=\"\",ISBLANK(C36145)),\"\",VLOOKUP(C36145,Sheet2!A:G,6,FALSE))","v":""},""]
[{"$f":"IF(OR(C36154=\"\",ISBLANK(C36154)),\"\",VLOOKUP(C36154,Sheet2!A:F,2,FALSE))","v":""},{"$f":"IF(OR(C36154=\"\",ISBLANK(C36154)),\"\",VLOOKUP(C36154,Sheet2!A:G,4,FALSE))","v":""},null,null,{"$f":"IF(OR(C36154=\"\",ISBLANK(C36154)),\"\",VLOOKUP(C36154,Sheet2!A:F,3,FALSE))","v":""},{"$f":"IF(OR(C36154=\"\",ISBLANK(C36154)),\"\",VLOOKUP(C36154,Sheet2!A:G,6,FALSE))","v":""},""]
[{"$f":"IF(OR(C36179=\"\",ISBLANK(C36179)),\"\",VLOOKUP(C36179,Sheet2!A:F,2,FALSE))","v":""},{"$f":"IF(OR(C36179=\"\",ISBLANK(C36179)),\"\",VLOOKUP(C36179,Sheet2!A:G,4,FALSE))","v":""},null,null,{"$f":"IF(OR(C36179=\"\",ISBLANK(C36179)),\"\",VLOOKUP(C36179,Sheet2!A:F,3,FALSE))","v":""},{"$f":"IF(OR(C36179=\"\",ISBLANK(C36179)),\"\",VLOOKUP(C36179,Sheet2!A:G,6,FALSE))","v":""},""]
[{"$f":"IF(OR(C36212=\"\",ISBLANK(C36212)),\"\",VLOOKUP(C36212,Sheet2!A:F,2,FALSE))","v":""},{"$f":"IF(OR(C36212=\"\",ISBLANK(C36212)),\"\",VLOOKUP(C36212,Sheet2!A:G,4,FALSE))","v":""},null,null,{"$f":"IF(OR(C36212=\"\",ISBLANK(C36212)),\"\",VLOOKUP(C36212,Sheet2!A:F,3,FALSE))","v":""},{"$f":"IF(OR(C36212=\"\",ISBLANK(C36212)),\"\",VLOOKUP(C36212,Sheet2!A:G,6,FALSE))","v":""},""]
[{"$f":"IF(OR(C36240=\"\",ISBLANK(C36240)),\"\",VLOOKUP(C36240,Sheet2!A:F,2,FALSE))","v":""},{"$f":"IF(OR(C36240=\"\",ISBLANK(C36240)),\"\",VLOOKUP(C36240,Sheet2!A:G,4,FALSE))","v":""},null,null,{"$f":"IF(OR(C36240=\"\",ISBLANK(C36240)),\"\",VLOOKUP(C36240,Sheet2!A:F,3,FALSE))","v":""},{"$f":"IF(OR(C36240=\"\",ISBLANK(C36240)),\"\",VLOOKUP(C36240,Sheet2!A:G,6,FALSE))","v":""},""]
[{"$f":"IF(OR(C36245=\"\",ISBLANK(C36245)),\"\",VLOOKUP(C36245,Sheet2!A:F,2,FALSE))","v":""},{"$f":"IF(OR(C36245=\"\",ISBLANK(C36245)),\"\",VLOOKUP(C36245,Sheet2!A:G,4,FALSE))","v":""},null,null,{"$f":"IF(OR(C36245=\"\",ISBLANK(C36245)),\"\",VLOOKUP(C36245,Sheet2!A:F,3,FALSE))","v":""},{"$f":"IF(OR(C36245=\"\",ISBLANK(C36245)),\"\",VLOOKUP(C36245,Sheet2!A:G,6,FALSE))","v":""},""]
[{"$f":"IF(OR(C36278=\"\",ISBLANK(C36278)),\"\",VLOOKUP(C36278,Sheet2!A:F,2,FALSE))","v":""},{"$f":"IF(OR(C36278=\"\",ISBLANK(C36278)),\"\",VLOOKUP(C36278,Sheet2!A:G,4,FALSE))","v":""},null,null,{"$f":"IF(OR(C36278=\"\",ISBLANK(C36278)),\"\",VLOOKUP(C36278,Sheet2!A:F,3,FALSE))","v":""},{"$f":"IF(OR(C36278=\"\",ISBLANK(C36278)),\"\",VLOOKUP(C36278,Sheet2!A:G,6,FALSE))","v":""},""]
[{"$f":"IF(OR(C36303=\"\",ISBLANK(C36303)),\"\",VLOOKUP(C36303,Sheet2!A:F,2,FALSE))","v":""},{"$f":"IF(OR(C36303=\"\",ISBLANK(C36303)),\"\",VLOOKUP(C36303,Sheet2!A:G,4,FALSE))","v":""},null,null,{"$f":"IF(OR(C36303=\"\",ISBLANK(C36303)),\"\",VLOOKUP(C36303,Sheet2!A:F,3,FALSE))","v":""},{"$f":"IF(OR(C36303=\"\",ISBLANK(C36303)),\"\",VLOOKUP(C36303,Sheet2!A:G,6,FALSE))","v":""},""]
[{"$f":"IF(OR(C36336=\"\",ISBLANK(C36336)),\"\",VLOOKUP(C36336,Sheet2!A:F,2,FALSE))","v":""},{"$f":"IF(OR(C36336=\"\",ISBLANK(C36336)),\"\",VLOOKUP(C36336,Sheet2!A:G,4,FALSE))","v":""},null,null,{"$f":"IF(OR(C36336=\"\",ISBLANK(C36336)),\"\",VLOOKUP(C36336,Sheet2!A:F,3,FALSE))","v":""},{"$f":"IF(OR(C36336=\"\",ISBLANK(C36336)),\"\",VLOOKUP(C36336,Sheet2!A:G,6,FALSE))","v":""},""]
[{"$f":"IF(OR(C36345=\"\",ISBLANK(C36345)),\"\",VLOOKUP(C36345,Sheet2!A:F,2,FALSE))","v":""},{"$f":"IF(OR(C36345=\"\",ISBLANK(C36345)),\"\",VLOOKUP(C36345,Sheet2!A:G,4,FALSE))","v":""},null,null,{"$f":"IF(OR(C36345=\"\",ISBLANK(C36345)),\"\",VLOOKUP(C36345,Sheet2!A:F,3,FALSE))","v":""},{"$f":"IF(OR(C36345=\"\",ISBLANK(C36345)),\"\",VLOOKUP(C36345,Sheet2!A:G,6,FALSE))","v":""},""]
[{"$f":"IF(OR(C36370=\"\",ISBLANK(C36370)),\"\",VLOOKUP(C36370,Sheet2!A:F,2,FALSE))","v":""},{"$f":"IF(OR(C36370=\"\",ISBLANK(C36370)),\"\",VLOOKUP(C36370,Sheet2!A:G,4,FALSE))","v":""},null,null,{"$f":"IF(OR(C36370=\"\",ISBLANK(C36370)),\"\",VLOOKUP(C36370,Sheet2!A:F,3,FALSE))","v":""},{"$f":"IF(OR(C36370=\"\",ISBLANK(C36370)),\"\",VLOOKUP(C36370,Sheet2!A:G,6,FALSE))","v":""},""]
[{"$f":"IF(OR(C36403=\"\",ISBLANK(C36403)),\"\",VLOOKUP(C36403,Sheet2!A:F,2,FALSE))","v":""},{"$f":"IF(OR(C36403=\"\",ISBLANK(C36403)),\"\",VLOOKUP(C36403,Sheet2!A:G,4,FALSE))","v":""},null,null,{"$f":"IF(OR(C36403=\"\",ISBLANK(C36403)),\"\",VLOOKUP(C36403,Sheet2!A:F,3,FALSE))","v":""},{"$f":"IF(OR(C36403=\"\",ISBLANK(C36403)),\"\",VLOOKUP(C36403,Sheet2!A:G,6,FALSE))","v":""},""]
[{"$f":"IF(OR(C36428=\"\",ISBLANK(C36428)),\"\",VLOOKUP(C36428,Sheet2!A:F,2,FALSE))","v":""},{"$f":"IF(OR(C36428=\"\",ISBLANK(C36428)),\"\",VLOOKUP(C36428,Sheet2!A:G,4,FALSE))","v":""},null,null,{"$f":"IF(OR(C36428=\"\",ISBLANK(C36428)),\"\",VLOOKUP(C36428,Sheet2!A:F,3,FALSE))","v":""},{"$f":"IF(OR(C36428=\"\",ISBLANK(C36428)),\"\",VLOOKUP(C36428,Sheet2!A:G,6,FALSE))","v":""},""]
[{"$f":"IF(OR(C36437=\"\",ISBLANK(C36437)),\"\",VLOOKUP(C36437,Sheet2!A:F,2,FALSE))","v":""},{"$f":"IF(OR(C36437=\"\",ISBLANK(C36437)),\"\",VLOOKUP(C36437,Sheet2!A:G,4,FALSE))","v":""},null,null,{"$f":"IF(OR(C36437=\"\",ISBLANK(C36437)),\"\",VLOOKUP(C36437,Sheet2!A:F,3,FALSE))","v":""},{"$f":"IF(OR(C36437=\"\",ISBLANK(C36437)),\"\",VLOOKUP(C36437,Sheet2!A:G,6,FALSE))","v":""},""]
[{"$f":"IF(OR(C36471=\"\",ISBLANK(C36471)),\"\",VLOOKUP(C36471,Sheet2!A:F,2,FALSE))","v":""},{"$f":"IF(OR(C36471=\"\",ISBLANK(C36471)),\"\",VLOOKUP(C36471,Sheet2!A:G,4,FALSE))","v":""},null,null,{"$f":"IF(OR(C36471=\"\",ISBLANK(C36471)),\"\",VLOOKUP(C36471,Sheet2!A:F,3,FALSE))","v":""},{"$f":"IF(OR(C36471=\"\",ISBLANK(C36471)),\"\",VLOOKUP(C36471,Sheet2!A:G,6,FALSE))","v":""},""]
[{"$f":"IF(OR(C36494=\"\",ISBLANK(C36494)),\"\",VLOOKUP(C36494,Sheet2!A:F,2,FALSE))","v":""},{"$f":"IF(OR(C36494=\"\",ISBLANK(C36494)),\"\",VLOOKUP(C36494,Sheet2!A:G,4,FALSE))","v":""},null,null,{"$f":"IF(OR(C36494=\"\",ISBLANK(C36494)),\"\",VLOOKUP(C36494,Sheet2!A:F,3,FALSE))","v":""},{"$f":"IF(OR(C36494=\"\",ISBLANK(C36494)),\"\",VLOOKUP(C36494,Sheet2!A:G,6,FALSE))","v":""},""]
[{"$f":"IF(OR(C36527=\"\",ISBLANK(C36527)),\"\",VLOOKUP(C36527,Sheet2!A:F,2,FALSE))","v":""},{"$f":"IF(OR(C36527=\"\",ISBLANK(C36527)),\"\",VLOOKUP(C36527,Sheet2!A:G,4,FALSE))","v":""},null,null,{"$f":"IF(OR(C36527=\"\",ISBLANK(C36527)),\"\",VLOOKUP(C36527,Sheet2!A:F,3,FALSE))","v":""},{"$f":"IF(OR(C36527=\"\",ISBLANK(C36527)),\"\",VLOOKUP(C36527,Sheet2!A:G,6,FALSE))","v":""},""]
[{"$f":"IF(OR(C36536=\"\",ISBLANK(C36536)),\"\",VLOOKUP(C36536,Sheet2!A:F,2,FALSE))","v":""},{"$f":"IF(OR(C36536=\"\",ISBLANK(C36536)),\"\",VLOOKUP(C36536,Sheet2!A:G,4,FALSE))","v":""},null,null,{"$f":"IF(OR(C36536=\"\",ISBLANK(C36536)),\"\",VLOOKUP(C36536,Sheet2!A:F,3,FALSE))","v":""},{"$f":"IF(OR(C36536=\"\",ISBLANK(C36536)),\"\",VLOOKUP(C36536,Sheet2!A:G,6,FALSE))","v":""},""]
[{"$f":"IF(OR(C36561=\"\",ISBLANK(C36561)),\"\",VLOOKUP(C36561,Sheet2!A:F,2,FALSE))","v":""},{"$f":"IF(OR(C36561=\"\",ISBLANK(C36561)),\"\",VLOOKUP(C36561,Sheet2!A:G,4,FALSE))","v":""},null,null,{"$f":"IF(OR(C36561=\"\",ISBLANK(C36561)),\"\",VLOOKUP(C36561,Sheet2!A:F,3,FALSE))","v":""},{"$f":"IF(OR(C36561=\"\",ISBLANK(C36561)),\"\",VLOOKUP(C36561,Sheet2!A:G,6,FALSE))","v":""},""]
[{"$f":"IF(OR(C36594=\"\",ISBLANK(C36594)),\"\",VLOOKUP(C36594,Sheet2!A:F,2,FALSE))","v":""},{"$f":"IF(OR(C36594=\"\",ISBLANK(C36594)),\"\",VLOOKUP(C36594,Sheet2!A:G,4,FALSE))","v":""},null,null,{"$f":"IF(OR(C36594=\"\",ISBLANK(C36594)),\"\",VLOOKUP(C36594,Sheet2!A:F,3,FALSE))","v":""},{"$f":"IF(OR(C36594=\"\",ISBLANK(C36594)),\"\",VLOOKUP(C36594,Sheet2!A:G,6,FALSE))","v":""},""]
[{"$f":"IF(OR(C36619=\"\",ISBLANK(C36619)),\"\",VLOOKUP(C36619,Sheet2!A:F,2,FALSE))","v":""},{"$f":"IF(OR(C36619=\"\",ISBLANK(C36619)),\"\",VLOOKUP(C36619,Sheet2!A:G,4,FALSE))","v":""},null,null,{"$f":"IF(OR(C36619=\"\",ISBLANK(C36619)),\"\",VLOOKUP(C36619,Sheet2!A:F,3,FALSE))","v":""},{"$f":"IF(OR(C36619=\"\",ISBLANK(C36619)),\"\",VLOOKUP(C36619,Sheet2!A:G,6,FALSE))","v":""},""]
[{"$f":"IF(OR(C36628=\"\",ISBLANK(C36628)),\"\",VLOOKUP(C36628,Sheet2!A:F,2,FALSE))","v":""},{"$f":"IF(OR(C36628=\"\",ISBLANK(C36628)),\"\",VLOOKUP(C36628,Sheet2!A:G,4,FALSE))","v":""},null,null,{"$f":"IF(OR(C36628=\"\",ISBLANK(C36628)),\"\",VLOOKUP(C36628,Sheet2!A:F,3,FALSE))","v":""},{"$f":"IF(OR(C36628=\"\",ISBLANK(C36628)),\"\",VLOOKUP(C36628,Sheet2!A:G,6,FALSE))","v":""},""]
[{"$f":"IF(OR(C36661=\"\",ISBLANK(C36661)),\"\",VLOOKUP(C36661,Sheet2!A:F,2,FALSE))","v":""},{"$f":"IF(OR(C36661=\"\",ISBLANK(C36661)),\"\",VLOOKUP(C36661,Sheet2!A:G,4,FALSE))","v":""},null,null,{"$f":"IF(OR(C36661=\"\",ISBLANK(C36661)),\"\",VLOOKUP(C36661,Sheet2!A:F,3,FALSE))","v":""},{"$f":"IF(OR(C36661=\"\",ISBLANK(C36661)),\"\",VLOOKUP(C36661,Sheet2!A:G,6,FALSE))","v":""},""]
[{"$f":"IF(OR(C36679=\"\",ISBLANK(C36679)),\"\",VLOOKUP(C36679,Sheet2!A:F,2,FALSE))","v":""},{"$f":"IF(OR(C36679=\"\",ISBLANK(C36679)),\"\",VLOOKUP(C36679,Sheet2!A:G,4,FALSE))","v":""},null,null,{"$f":"IF(OR(C36679=\"\",ISBLANK(C36679)),\"\",VLOOKUP(C36679,Sheet2!A:F,3,FALSE))","v":""},{"$f":"IF(OR(C36679=\"\",ISBLANK(C36679)),\"\",VLOOKUP(C36679,Sheet2!A:G,6,FALSE))","v":""},""]
[{"$f":"IF(OR(C36718=\"\",ISBLANK(C36718)),\"\",VLOOKUP(C36718,Sheet2!A:F,2,FALSE))","v":""},{"$f":"IF(OR(C36718=\"\",ISBLANK(C36718)),\"\",VLOOKUP(C36718,Sheet2!A:G,4,FALSE))","v":""},null,null,{"$f":"IF(OR(C36718=\"\",ISBLANK(C36718)),\"\",VLOOKUP(C36718,Sheet2!A:F,3,FALSE))","v":""},{"$f":"IF(OR(C36718=\"\",ISBLANK(C36718)),\"\",VLOOKUP(C36718,Sheet2!A:G,6,FALSE))","v":""},""]
[{"$f":"IF(OR(C36727=\"\",ISBLANK(C36727)),\"\",VLOOKUP(C36727,Sheet2!A:F,2,FALSE))","v":""},{"$f":"IF(OR(C36727=\"\",ISBLANK(C36727)),\"\",VLOOKUP(C36727,Sheet2!A:G,4,FALSE))","v":""},null,null,{"$f":"IF(OR(C36727=\"\",ISBLANK(C36727)),\"\",VLOOKUP(C36727,Sheet2!A:F,3,FALSE))","v":""},{"$f":"IF(OR(C36727=\"\",ISBLANK(C36727)),\"\",VLOOKUP(C36727,Sheet2!A:G,6,FALSE))","v":""},""]
[{"$f":"IF(OR(C36752=\"\",ISBLANK(C36752)),\"\",VLOOKUP(C36752,Sheet2!A:F,2,FALSE))","v":""},{"$f":"IF(OR(C36752=\"\",ISBLANK(C36752)),\"\",VLOOKUP(C36752,Sheet2!A:G,4,FALSE))","v":""},null,null,{"$f":"IF(OR(C36752=\"\",ISBLANK(C36752)),\"\",VLOOKUP(C36752,Sheet2!A:F,3,FALSE))","v":""},{"$f":"IF(OR(C36752=\"\",ISBLANK(C36752)),\"\",VLOOKUP(C36752,Sheet2!A:G,6,FALSE))","v":""},""]
[{"$f":"IF(OR(C36785=\"\",ISBLANK(C36785)),\"\",VLOOKUP(C36785,Sheet2!A:F,2,FALSE))","v":""},{"$f":"IF(OR(C36785=\"\",ISBLANK(C36785)),\"\",VLOOKUP(C36785,Sheet2!A:G,4,FALSE))","v":""},null,null,{"$f":"IF(OR(C36785=\"\",ISBLANK(C36785)),\"\",VLOOKUP(C36785,Sheet2!A:F,3,FALSE))","v":""},{"$f":"IF(OR(C36785=\"\",ISBLANK(C36785)),\"\",VLOOKUP(C36785,Sheet2!A:G,6,FALSE))","v":""},""]
[{"$f":"IF(OR(C36810=\"\",ISBLANK(C36810)),\"\",VLOOKUP(C36810,Sheet2!A:F,2,FALSE))","v":""},{"$f":"IF(OR(C36810=\"\",ISBLANK(C36810)),\"\",VLOOKUP(C36810,Sheet2!A:G,4,FALSE))","v":""},null,null,{"$f":"IF(OR(C36810=\"\",ISBLANK(C36810)),\"\",VLOOKUP(C36810,Sheet2!A:F,3,FALSE))","v":""},{"$f":"IF(OR(C36810=\"\",ISBLANK(C36810)),\"\",VLOOKUP(C36810,Sheet2!A:G,6,FALSE))","v":""},""]
[{"$f":"IF(OR(C36819=\"\",ISBLANK(C36819)),\"\",VLOOKUP(C36819,Sheet2!A:F,2,FALSE))","v":""},{"$f":"IF(OR(C36819=\"\",ISBLANK(C36819)),\"\",VLOOKUP(C36819,Sheet2!A:G,4,FALSE))","v":""},null,null,{"$f":"IF(OR(C36819=\"\",ISBLANK(C36819)),\"\",VLOOKUP(C36819,Sheet2!A:F,3,FALSE))","v":""},{"$f":"IF(OR(C36819=\"\",ISBLANK(C36819)),\"\",VLOOKUP(C36819,Sheet2!A:G,6,FALSE))","v":""},""]
[{"$f":"IF(OR(C36852=\"\",ISBLANK(C36852)),\"\",VLOOKUP(C36852,Sheet2!A:F,2,FALSE))","v":""},{"$f":"IF(OR(C36852=\"\",ISBLANK(C36852)),\"\",VLOOKUP(C36852,Sheet2!A:G,4,FALSE))","v":""},null,null,{"$f":"IF(OR(C36852=\"\",ISBLANK(C36852)),\"\",VLOOKUP(C36852,Sheet2!A:F,3,FALSE))","v":""},{"$f":"IF(OR(C36852=\"\",ISBLANK(C36852)),\"\",VLOOKUP(C36852,Sheet2!A:G,6,FALSE))","v":""},""]
[{"$f":"IF(OR(C36877=\"\",ISBLANK(C36877)),\"\",VLOOKUP(C36877,Sheet2!A:F,2,FALSE))","v":""},{"$f":"IF(OR(C36877=\"\",ISBLANK(C36877)),\"\",VLOOKUP(C36877,Sheet2!A:G,4,FALSE))","v":""},null,null,{"$f":"IF(OR(C36877=\"\",ISBLANK(C36877)),\"\",VLOOKUP(C36877,Sheet2!A:F,3,FALSE))","v":""},{"$f":"IF(OR(C36877=\"\",ISBLANK(C36877)),\"\",VLOOKUP(C36877,Sheet2!A:G,6,FALSE))","v":""},""]
[{"$f":"IF(OR(C36910=\"\",ISBLANK(C36910)),\"\",VLOOKUP(C36910,Sheet2!A:F,2,FALSE))","v":""},{"$f":"IF(OR(C36910=\"\",ISBLANK(C36910)),\"\",VLOOKUP(C36910,Sheet2!A:G,4,FALSE))","v":""},null,null,{"$f":"IF(OR(C36910=\"\",ISBLANK(C36910)),\"\",VLOOKUP(C36910,Sheet2!A:F,3,FALSE))","v":""},{"$f":"IF(OR(C36910=\"\",ISBLANK(C36910)),\"\",VLOOKUP(C36910,Sheet2!A:G,6,FALSE))","v":""},""]
[{"$f":"IF(OR(C36933=\"\",ISBLANK(C36933)),\"\",VLOOKUP(C36933,Sheet2!A:F,2,FALSE))","v":""},{"$f":"IF(OR(C36933=\"\",ISBLANK(C36933)),\"\",VLOOKUP(C36933,Sheet2!A:G,4,FALSE))","v":""},null,null,{"$f":"IF(OR(C36933=\"\",ISBLANK(C36933)),\"\",VLOOKUP(C36933,Sheet2!A:F,3,FALSE))","v":""},{"$f":"IF(OR(C36933=\"\",ISBLANK(C36933)),\"\",VLOOKUP(C36933,Sheet2!A:G,6,FALSE))","v":""},""]
[{"$f":"IF(OR(C36943=\"\",ISBLANK(C36943)),\"\",VLOOKUP(C36943,Sheet2!A:F,2,FALSE))","v":""},{"$f":"IF(OR(C36943=\"\",ISBLANK(C36943)),\"\",VLOOKUP(C36943,Sheet2!A:G,4,FALSE))","v":""},null,null,{"$f":"IF(OR(C36943=\"\",ISBLANK(C36943)),\"\",VLOOKUP(C36943,Sheet2!A:F,3,FALSE))","v":""},{"$f":"IF(OR(C36943=\"\",ISBLANK(C36943)),\"\",VLOOKUP(C36943,Sheet2!A:G,6,FALSE))","v":""},""]
[{"$f":"IF(OR(C36976=\"\",ISBLANK(C36976)),\"\",VLOOKUP(C36976,Sheet2!A:F,2,FALSE))","v":""},{"$f":"IF(OR(C36976=\"\",ISBLANK(C36976)),\"\",VLOOKUP(C36976,Sheet2!A:G,4,FALSE))","v":""},null,null,{"$f":"IF(OR(C36976=\"\",ISBLANK(C36976)),\"\",VLOOKUP(C36976,Sheet2!A:F,3,FALSE))","v":""},{"$f":"IF(OR(C36976=\"\",ISBLANK(C36976)),\"\",VLOOKUP(C36976,Sheet2!A:G,6,FALSE))","v":""},""]
[{"$f":"IF(OR(C37001=\"\",ISBLANK(C37001)),\"\",VLOOKUP(C37001,Sheet2!A:F,2,FALSE))","v":""},{"$f":"IF(OR(C37001=\"\",ISBLANK(C37001)),\"\",VLOOKUP(C37001,Sheet2!A:G,4,FALSE))","v":""},null,null,{"$f":"IF(OR(C37001=\"\",ISBLANK(C37001)),\"\",VLOOKUP(C37001,Sheet2!A:F,3,FALSE))","v":""},{"$f":"IF(OR(C37001=\"\",ISBLANK(C37001)),\"\",VLOOKUP(C37001,Sheet2!A:G,6,FALSE))","v":""},""]
[{"$f":"IF(OR(C37010=\"\",ISBLANK(C37010)),\"\",VLOOKUP(C37010,Sheet2!A:F,2,FALSE))","v":""},{"$f":"IF(OR(C37010=\"\",ISBLANK(C37010)),\"\",VLOOKUP(C37010,Sheet2!A:G,4,FALSE))","v":""},null,null,{"$f":"IF(OR(C37010=\"\",ISBLANK(C37010)),\"\",VLOOKUP(C37010,Sheet2!A:F,3,FALSE))","v":""},{"$f":"IF(OR(C37010=\"\",ISBLANK(C37010)),\"\",VLOOKUP(C37010,Sheet2!A:G,6,FALSE))","v":""},""]
[{"$f":"IF(OR(C37043=\"\",ISBLANK(C37043)),\"\",VLOOKUP(C37043,Sheet2!A:F,2,FALSE))","v":""},{"$f":"IF(OR(C37043=\"\",ISBLANK(C37043)),\"\",VLOOKUP(C37043,Sheet2!A:G,4,FALSE))","v":""},null,null,{"$f":"IF(OR(C37043=\"\",ISBLANK(C37043)),\"\",VLOOKUP(C37043,Sheet2!A:F,3,FALSE))","v":""},{"$f":"IF(OR(C37043=\"\",ISBLANK(C37043)),\"\",VLOOKUP(C37043,Sheet2!A:G,6,FALSE))","v":""},""]
[{"$f":"IF(OR(C37068=\"\",ISBLANK(C37068)),\"\",VLOOKUP(C37068,Sheet2!A:F,2,FALSE))","v":""},{"$f":"IF(OR(C37068=\"\",ISBLANK(C37068)),\"\",VLOOKUP(C37068,Sheet2!A:G,4,FALSE))","v":""},null,null,{"$f":"IF(OR(C37068=\"\",ISBLANK(C37068)),\"\",VLOOKUP(C37068,Sheet2!A:F,3,FALSE))","v":""},{"$f":"IF(OR(C37068=\"\",ISBLANK(C37068)),\"\",VLOOKUP(C37068,Sheet2!A:G,6,FALSE))","v":""},""]
[{"$f":"IF(OR(C37101=\"\",ISBLANK(C37101)),\"\",VLOOKUP(C37101,Sheet2!A:F,2,FALSE))","v":""},{"$f":"IF(OR(C37101=\"\",ISBLANK(C37101)),\"\",VLOOKUP(C37101,Sheet2!A:G,4,FALSE))","v":""},null,null,{"$f":"IF(OR(C37101=\"\",ISBLANK(C37101)),\"\",VLOOKUP(C37101,Sheet2!A:F,3,FALSE))","v":""},{"$f":"IF(OR(C37101=\"\",ISBLANK(C37101)),\"\",VLOOKUP(C37101,Sheet2!A:G,6,FALSE))","v":""},""]
[{"$f":"IF(OR(C37126=\"\",ISBLANK(C37126)),\"\",VLOOKUP(C37126,Sheet2!A:F,2,FALSE))","v":""},{"$f":"IF(OR(C37126=\"\",ISBLANK(C37126)),\"\",VLOOKUP(C37126,Sheet2!A:G,4,FALSE))","v":""},null,null,{"$f":"IF(OR(C37126=\"\",ISBLANK(C37126)),\"\",VLOOKUP(C37126,Sheet2!A:F,3,FALSE))","v":""},{"$f":"IF(OR(C37126=\"\",ISBLANK(C37126)),\"\",VLOOKUP(C37126,Sheet2!A:G,6,FALSE))","v":""},""]
[{"$f":"IF(OR(C37135=\"\",ISBLANK(C37135)),\"\",VLOOKUP(C37135,Sheet2!A:F,2,FALSE))","v":""},{"$f":"IF(OR(C37135=\"\",ISBLANK(C37135)),\"\",VLOOKUP(C37135,Sheet2!A:G,4,FALSE))","v":""},null,null,{"$f":"IF(OR(C37135=\"\",ISBLANK(C37135)),\"\",VLOOKUP(C37135,Sheet2!A:F,3,FALSE))","v":""},{"$f":"IF(OR(C37135=\"\",ISBLANK(C37135)),\"\",VLOOKUP(C37135,Sheet2!A:G,6,FALSE))","v":""},""]
[{"$f":"IF(OR(C37152=\"\",ISBLANK(C37152)),\"\",VLOOKUP(C37152,Sheet2!A:F,2,FALSE))","v":""},{"$f":"IF(OR(C37152=\"\",ISBLANK(C37152)),\"\",VLOOKUP(C37152,Sheet2!A:G,4,FALSE))","v":""},null,null,{"$f":"IF(OR(C37152=\"\",ISBLANK(C37152)),\"\",VLOOKUP(C37152,Sheet2!A:F,3,FALSE))","v":""},{"$f":"IF(OR(C37152=\"\",ISBLANK(C37152)),\"\",VLOOKUP(C37152,Sheet2!A:G,6,FALSE))","v":""},""]
[{"$f":"IF(OR(C37192=\"\",ISBLANK(C37192)),\"\",VLOOKUP(C37192,Sheet2!A:F,2,FALSE))","v":""},{"$f":"IF(OR(C37192=\"\",ISBLANK(C37192)),\"\",VLOOKUP(C37192,Sheet2!A:G,4,FALSE))","v":""},null,null,{"$f":"IF(OR(C37192=\"\",ISBLANK(C37192)),\"\",VLOOKUP(C37192,Sheet2!A:F,3,FALSE))","v":""},{"$f":"IF(OR(C37192=\"\",ISBLANK(C37192)),\"\",VLOOKUP(C37192,Sheet2!A:G,6,FALSE))","v":""},""]
[{"$f":"IF(OR(C37201=\"\",ISBLANK(C37201)),\"\",VLOOKUP(C37201,Sheet2!A:F,2,FALSE))","v":""},{"$f":"IF(OR(C37201=\"\",ISBLANK(C37201)),\"\",VLOOKUP(C37201,Sheet2!A:G,4,FALSE))","v":""},null,null,{"$f":"IF(OR(C37201=\"\",ISBLANK(C37201)),\"\",VLOOKUP(C37201,Sheet2!A:F,3,FALSE))","v":""},{"$f":"IF(OR(C37201=\"\",ISBLANK(C37201)),\"\",VLOOKUP(C37201,Sheet2!A:G,6,FALSE))","v":""},""]
[{"$f":"IF(OR(C37226=\"\",ISBLANK(C37226)),\"\",VLOOKUP(C37226,Sheet2!A:F,2,FALSE))","v":""},{"$f":"IF(OR(C37226=\"\",ISBLANK(C37226)),\"\",VLOOKUP(C37226,Sheet2!A:G,4,FALSE))","v":""},null,null,{"$f":"IF(OR(C37226=\"\",ISBLANK(C37226)),\"\",VLOOKUP(C37226,Sheet2!A:F,3,FALSE))","v":""},{"$f":"IF(OR(C37226=\"\",ISBLANK(C37226)),\"\",VLOOKUP(C37226,Sheet2!A:G,6,FALSE))","v":""},""]
[{"$f":"IF(OR(C37259=\"\",ISBLANK(C37259)),\"\",VLOOKUP(C37259,Sheet2!A:F,2,FALSE))","v":""},{"$f":"IF(OR(C37259=\"\",ISBLANK(C37259)),\"\",VLOOKUP(C37259,Sheet2!A:G,4,FALSE))","v":""},null,null,{"$f":"IF(OR(C37259=\"\",ISBLANK(C37259)),\"\",VLOOKUP(C37259,Sheet2!A:F,3,FALSE))","v":""},{"$f":"IF(OR(C37259=\"\",ISBLANK(C37259)),\"\",VLOOKUP(C37259,Sheet2!A:G,6,FALSE))","v":""},""]
[{"$f":"IF(OR(C37292=\"\",ISBLANK(C37292)),\"\",VLOOKUP(C37292,Sheet2!A:F,2,FALSE))","v":""},{"$f":"IF(OR(C37292=\"\",ISBLANK(C37292)),\"\",VLOOKUP(C37292,Sheet2!A:G,4,FALSE))","v":""},null,null,{"$f":"IF(OR(C37292=\"\",ISBLANK(C37292)),\"\",VLOOKUP(C37292,Sheet2!A:F,3,FALSE))","v":""},{"$f":"IF(OR(C37292=\"\",ISBLANK(C37292)),\"\",VLOOKUP(C37292,Sheet2!A:G,6,FALSE))","v":""},""]
[{"$f":"IF(OR(C37317=\"\",ISBLANK(C37317)),\"\",VLOOKUP(C37317,Sheet2!A:F,2,FALSE))","v":""},{"$f":"IF(OR(C37317=\"\",ISBLANK(C37317)),\"\",VLOOKUP(C37317,Sheet2!A:G,4,FALSE))","v":""},null,null,{"$f":"IF(OR(C37317=\"\",ISBLANK(C37317)),\"\",VLOOKUP(C37317,Sheet2!A:F,3,FALSE))","v":""},{"$f":"IF(OR(C37317=\"\",ISBLANK(C37317)),\"\",VLOOKUP(C37317,Sheet2!A:G,6,FALSE))","v":""},""]
[{"$f":"IF(OR(C37326=\"\",ISBLANK(C37326)),\"\",VLOOKUP(C37326,Sheet2!A:F,2,FALSE))","v":""},{"$f":"IF(OR(C37326=\"\",ISBLANK(C37326)),\"\",VLOOKUP(C37326,Sheet2!A:G,4,FALSE))","v":""},null,null,{"$f":"IF(OR(C37326=\"\",ISBLANK(C37326)),\"\",VLOOKUP(C37326,Sheet2!A:F,3,FALSE))","v":""},{"$f":"IF(OR(C37326=\"\",ISBLANK(C37326)),\"\",VLOOKUP(C37326,Sheet2!A:G,6,FALSE))","v":""},""]
[{"$f":"IF(OR(C37359=\"\",ISBLANK(C37359)),\"\",VLOOKUP(C37359,Sheet2!A:F,2,FALSE))","v":""},{"$f":"IF(OR(C37359=\"\",ISBLANK(C37359)),\"\",VLOOKUP(C37359,Sheet2!A:G,4,FALSE))","v":""},null,null,{"$f":"IF(OR(C37359=\"\",ISBLANK(C37359)),\"\",VLOOKUP(C37359,Sheet2!A:F,3,FALSE))","v":""},{"$f":"IF(OR(C37359=\"\",ISBLANK(C37359)),\"\",VLOOKUP(C37359,Sheet2!A:G,6,FALSE))","v":""},""]
[{"$f":"IF(OR(C37383=\"\",ISBLANK(C37383)),\"\",VLOOKUP(C37383,Sheet2!A:F,2,FALSE))","v":""},{"$f":"IF(OR(C37383=\"\",ISBLANK(C37383)),\"\",VLOOKUP(C37383,Sheet2!A:G,4,FALSE))","v":""},null,null,{"$f":"IF(OR(C37383=\"\",ISBLANK(C37383)),\"\",VLOOKUP(C37383,Sheet2!A:F,3,FALSE))","v":""},{"$f":"IF(OR(C37383=\"\",ISBLANK(C37383)),\"\",VLOOKUP(C37383,Sheet2!A:G,6,FALSE))","v":""},""]
[{"$f":"IF(OR(C37392=\"\",ISBLANK(C37392)),\"\",VLOOKUP(C37392,Sheet2!A:F,2,FALSE))","v":""},{"$f":"IF(OR(C37392=\"\",ISBLANK(C37392)),\"\",VLOOKUP(C37392,Sheet2!A:G,4,FALSE))","v":""},null,null,{"$f":"IF(OR(C37392=\"\",ISBLANK(C37392)),\"\",VLOOKUP(C37392,Sheet2!A:F,3,FALSE))","v":""},{"$f":"IF(OR(C37392=\"\",ISBLANK(C37392)),\"\",VLOOKUP(C37392,Sheet2!A:G,6,FALSE))","v":""},""]
[{"$f":"IF(OR(C37417=\"\",ISBLANK(C37417)),\"\",VLOOKUP(C37417,Sheet2!A:F,2,FALSE))","v":""},{"$f":"IF(OR(C37417=\"\",ISBLANK(C37417)),\"\",VLOOKUP(C37417,Sheet2!A:G,4,FALSE))","v":""},null,null,{"$f":"IF(OR(C37417=\"\",ISBLANK(C37417)),\"\",VLOOKUP(C37417,Sheet2!A:F,3,FALSE))","v":""},{"$f":"IF(OR(C37417=\"\",ISBLANK(C37417)),\"\",VLOOKUP(C37417,Sheet2!A:G,6,FALSE))","v":""},""]
[{"$f":"IF(OR(C37450=\"\",ISBLANK(C37450)),\"\",VLOOKUP(C37450,Sheet2!A:F,2,FALSE))","v":""},{"$f":"IF(OR(C37450=\"\",ISBLANK(C37450)),\"\",VLOOKUP(C37450,Sheet2!A:G,4,FALSE))","v":""},null,null,{"$f":"IF(OR(C37450=\"\",ISBLANK(C37450)),\"\",VLOOKUP(C37450,Sheet2!A:F,3,FALSE))","v":""},{"$f":"IF(OR(C37450=\"\",ISBLANK(C37450)),\"\",VLOOKUP(C37450,Sheet2!A:G,6,FALSE))","v":""},""]
[{"$f":"IF(OR(C37483=\"\",ISBLANK(C37483)),\"\",VLOOKUP(C37483,Sheet2!A:F,2,FALSE))","v":""},{"$f":"IF(OR(C37483=\"\",ISBLANK(C37483)),\"\",VLOOKUP(C37483,Sheet2!A:G,4,FALSE))","v":""},null,null,{"$f":"IF(OR(C37483=\"\",ISBLANK(C37483)),\"\",VLOOKUP(C37483,Sheet2!A:F,3,FALSE))","v":""},{"$f":"IF(OR(C37483=\"\",ISBLANK(C37483)),\"\",VLOOKUP(C37483,Sheet2!A:G,6,FALSE))","v":""},""]
[{"$f":"IF(OR(C37508=\"\",ISBLANK(C37508)),\"\",VLOOKUP(C37508,Sheet2!A:F,2,FALSE))","v":""},{"$f":"IF(OR(C37508=\"\",ISBLANK(C37508)),\"\",VLOOKUP(C37508,Sheet2!A:G,4,FALSE))","v":""},null,null,{"$f":"IF(OR(C37508=\"\",ISBLANK(C37508)),\"\",VLOOKUP(C37508,Sheet2!A:F,3,FALSE))","v":""},{"$f":"IF(OR(C37508=\"\",ISBLANK(C37508)),\"\",VLOOKUP(C37508,Sheet2!A:G,6,FALSE))","v":""},""]
[{"$f":"IF(OR(C37517=\"\",ISBLANK(C37517)),\"\",VLOOKUP(C37517,Sheet2!A:F,2,FALSE))","v":""},{"$f":"IF(OR(C37517=\"\",ISBLANK(C37517)),\"\",VLOOKUP(C37517,Sheet2!A:G,4,FALSE))","v":""},null,null,{"$f":"IF(OR(C37517=\"\",ISBLANK(C37517)),\"\",VLOOKUP(C37517,Sheet2!A:F,3,FALSE))","v":""},{"$f":"IF(OR(C37517=\"\",ISBLANK(C37517)),\"\",VLOOKUP(C37517,Sheet2!A:G,6,FALSE))","v":""},""]
[{"$f":"IF(OR(C37550=\"\",ISBLANK(C37550)),\"\",VLOOKUP(C37550,Sheet2!A:F,2,FALSE))","v":""},{"$f":"IF(OR(C37550=\"\",ISBLANK(C37550)),\"\",VLOOKUP(C37550,Sheet2!A:G,4,FALSE))","v":""},null,null,{"$f":"IF(OR(C37550=\"\",ISBLANK(C37550)),\"\",VLOOKUP(C37550,Sheet2!A:F,3,FALSE))","v":""},{"$f":"IF(OR(C37550=\"\",ISBLANK(C37550)),\"\",VLOOKUP(C37550,Sheet2!A:G,6,FALSE))","v":""},""]
[{"$f":"IF(OR(C37575=\"\",ISBLANK(C37575)),\"\",VLOOKUP(C37575,Sheet2!A:F,2,FALSE))","v":""},{"$f":"IF(OR(C37575=\"\",ISBLANK(C37575)),\"\",VLOOKUP(C37575,Sheet2!A:G,4,FALSE))","v":""},null,null,{"$f":"IF(OR(C37575=\"\",ISBLANK(C37575)),\"\",VLOOKUP(C37575,Sheet2!A:F,3,FALSE))","v":""},{"$f":"IF(OR(C37575=\"\",ISBLANK(C37575)),\"\",VLOOKUP(C37575,Sheet2!A:G,6,FALSE))","v":""},""]
[{"$f":"IF(OR(C37584=\"\",ISBLANK(C37584)),\"\",VLOOKUP(C37584,Sheet2!A:F,2,FALSE))","v":""},{"$f":"IF(OR(C37584=\"\",ISBLANK(C37584)),\"\",VLOOKUP(C37584,Sheet2!A:G,4,FALSE))","v":""},null,null,{"$f":"IF(OR(C37584=\"\",ISBLANK(C37584)),\"\",VLOOKUP(C37584,Sheet2!A:F,3,FALSE))","v":""},{"$f":"IF(OR(C37584=\"\",ISBLANK(C37584)),\"\",VLOOKUP(C37584,Sheet2!A:G,6,FALSE))","v":""},""]
[{"$f":"IF(OR(C37614=\"\",ISBLANK(C37614)),\"\",VLOOKUP(C37614,Sheet2!A:F,2,FALSE))","v":""},{"$f":"IF(OR(C37614=\"\",ISBLANK(C37614)),\"\",VLOOKUP(C37614,Sheet2!A:G,4,FALSE))","v":""},null,null,{"$f":"IF(OR(C37614=\"\",ISBLANK(C37614)),\"\",VLOOKUP(C37614,Sheet2!A:F,3,FALSE))","v":""},{"$f":"IF(OR(C37614=\"\",ISBLANK(C37614)),\"\",VLOOKUP(C37614,Sheet2!A:G,6,FALSE))","v":""},""]
[{"$f":"IF(OR(C37641=\"\",ISBLANK(C37641)),\"\",VLOOKUP(C37641,Sheet2!A:F,2,FALSE))","v":""},{"$f":"IF(OR(C37641=\"\",ISBLANK(C37641)),\"\",VLOOKUP(C37641,Sheet2!A:G,4,FALSE))","v":""},null,null,{"$f":"IF(OR(C37641=\"\",ISBLANK(C37641)),\"\",VLOOKUP(C37641,Sheet2!A:F,3,FALSE))","v":""},{"$f":"IF(OR(C37641=\"\",ISBLANK(C37641)),\"\",VLOOKUP(C37641,Sheet2!A:G,6,FALSE))","v":""},""]
[{"$f":"IF(OR(C37674=\"\",ISBLANK(C37674)),\"\",VLOOKUP(C37674,Sheet2!A:F,2,FALSE))","v":""},{"$f":"IF(OR(C37674=\"\",ISBLANK(C37674)),\"\",VLOOKUP(C37674,Sheet2!A:G,4,FALSE))","v":""},null,null,{"$f":"IF(OR(C37674=\"\",ISBLANK(C37674)),\"\",VLOOKUP(C37674,Sheet2!A:F,3,FALSE))","v":""},{"$f":"IF(OR(C37674=\"\",ISBLANK(C37674)),\"\",VLOOKUP(C37674,Sheet2!A:G,6,FALSE))","v":""},""]
[{"$f":"IF(OR(C37699=\"\",ISBLANK(C37699)),\"\",VLOOKUP(C37699,Sheet2!A:F,2,FALSE))","v":""},{"$f":"IF(OR(C37699=\"\",ISBLANK(C37699)),\"\",VLOOKUP(C37699,Sheet2!A:G,4,FALSE))","v":""},null,null,{"$f":"IF(OR(C37699=\"\",ISBLANK(C37699)),\"\",VLOOKUP(C37699,Sheet2!A:F,3,FALSE))","v":""},{"$f":"IF(OR(C37699=\"\",ISBLANK(C37699)),\"\",VLOOKUP(C37699,Sheet2!A:G,6,FALSE))","v":""},{"$f":"IF(F37699=0,\"\",F37699)","v":""}]
[{"$f":"IF(OR(C37708=\"\",ISBLANK(C37708)),\"\",VLOOKUP(C37708,Sheet2!A:F,2,FALSE))","v":""},{"$f":"IF(OR(C37708=\"\",ISBLANK(C37708)),\"\",VLOOKUP(C37708,Sheet2!A:G,4,FALSE))","v":""},null,null,{"$f":"IF(OR(C37708=\"\",ISBLANK(C37708)),\"\",VLOOKUP(C37708,Sheet2!A:F,3,FALSE))","v":""},{"$f":"IF(OR(C37708=\"\",ISBLANK(C37708)),\"\",VLOOKUP(C37708,Sheet2!A:G,6,FALSE))","v":""},""]
[{"$f":"IF(OR(C37733=\"\",ISBLANK(C37733)),\"\",VLOOKUP(C37733,Sheet2!A:F,2,FALSE))","v":""},{"$f":"IF(OR(C37733=\"\",ISBLANK(C37733)),\"\",VLOOKUP(C37733,Sheet2!A:G,4,FALSE))","v":""},null,null,{"$f":"IF(OR(C37733=\"\",ISBLANK(C37733)),\"\",VLOOKUP(C37733,Sheet2!A:F,3,FALSE))","v":""},{"$f":"IF(OR(C37733=\"\",ISBLANK(C37733)),\"\",VLOOKUP(C37733,Sheet2!A:G,6,FALSE))","v":""},""]
[{"$f":"IF(OR(C37766=\"\",ISBLANK(C37766)),\"\",VLOOKUP(C37766,Sheet2!A:F,2,FALSE))","v":""},{"$f":"IF(OR(C37766=\"\",ISBLANK(C37766)),\"\",VLOOKUP(C37766,Sheet2!A:G,4,FALSE))","v":""},null,null,{"$f":"IF(OR(C37766=\"\",ISBLANK(C37766)),\"\",VLOOKUP(C37766,Sheet2!A:F,3,FALSE))","v":""},{"$f":"IF(OR(C37766=\"\",ISBLANK(C37766)),\"\",VLOOKUP(C37766,Sheet2!A:G,6,FALSE))","v":""},""]
[{"$f":"IF(OR(C37775=\"\",ISBLANK(C37775)),\"\",VLOOKUP(C37775,Sheet2!A:F,2,FALSE))","v":""},{"$f":"IF(OR(C37775=\"\",ISBLANK(C37775)),\"\",VLOOKUP(C37775,Sheet2!A:G,4,FALSE))","v":""},null,null,{"$f":"IF(OR(C37775=\"\",ISBLANK(C37775)),\"\",VLOOKUP(C37775,Sheet2!A:F,3,FALSE))","v":""},{"$f":"IF(OR(C37775=\"\",ISBLANK(C37775)),\"\",VLOOKUP(C37775,Sheet2!A:G,6,FALSE))","v":""},""]
[{"$f":"IF(OR(C37800=\"\",ISBLANK(C37800)),\"\",VLOOKUP(C37800,Sheet2!A:F,2,FALSE))","v":""},{"$f":"IF(OR(C37800=\"\",ISBLANK(C37800)),\"\",VLOOKUP(C37800,Sheet2!A:G,4,FALSE))","v":""},null,null,{"$f":"IF(OR(C37800=\"\",ISBLANK(C37800)),\"\",VLOOKUP(C37800,Sheet2!A:F,3,FALSE))","v":""},{"$f":"IF(OR(C37800=\"\",ISBLANK(C37800)),\"\",VLOOKUP(C37800,Sheet2!A:G,6,FALSE))","v":""},""]
[{"$f":"IF(OR(C37833=\"\",ISBLANK(C37833)),\"\",VLOOKUP(C37833,Sheet2!A:F,2,FALSE))","v":""},{"$f":"IF(OR(C37833=\"\",ISBLANK(C37833)),\"\",VLOOKUP(C37833,Sheet2!A:G,4,FALSE))","v":""},null,null,{"$f":"IF(OR(C37833=\"\",ISBLANK(C37833)),\"\",VLOOKUP(C37833,Sheet2!A:F,3,FALSE))","v":""},{"$f":"IF(OR(C37833=\"\",ISBLANK(C37833)),\"\",VLOOKUP(C37833,Sheet2!A:G,6,FALSE))","v":""},""]
[{"$f":"IF(OR(C37856=\"\",ISBLANK(C37856)),\"\",VLOOKUP(C37856,Sheet2!A:F,2,FALSE))","v":""},{"$f":"IF(OR(C37856=\"\",ISBLANK(C37856)),\"\",VLOOKUP(C37856,Sheet2!A:G,4,FALSE))","v":""},null,null,{"$f":"IF(OR(C37856=\"\",ISBLANK(C37856)),\"\",VLOOKUP(C37856,Sheet2!A:F,3,FALSE))","v":""},{"$f":"IF(OR(C37856=\"\",ISBLANK(C37856)),\"\",VLOOKUP(C37856,Sheet2!A:G,6,FALSE))","v":""},""]
[{"$f":"IF(OR(C37890=\"\",ISBLANK(C37890)),\"\",VLOOKUP(C37890,Sheet2!A:F,2,FALSE))","v":""},{"$f":"IF(OR(C37890=\"\",ISBLANK(C37890)),\"\",VLOOKUP(C37890,Sheet2!A:G,4,FALSE))","v":""},null,null,{"$f":"IF(OR(C37890=\"\",ISBLANK(C37890)),\"\",VLOOKUP(C37890,Sheet2!A:F,3,FALSE))","v":""},{"$f":"IF(OR(C37890=\"\",ISBLANK(C37890)),\"\",VLOOKUP(C37890,Sheet2!A:G,6,FALSE))","v":""},""]
[{"$f":"IF(OR(C37899=\"\",ISBLANK(C37899)),\"\",VLOOKUP(C37899,Sheet2!A:F,2,FALSE))","v":""},{"$f":"IF(OR(C37899=\"\",ISBLANK(C37899)),\"\",VLOOKUP(C37899,Sheet2!A:G,4,FALSE))","v":""},null,null,{"$f":"IF(OR(C37899=\"\",ISBLANK(C37899)),\"\",VLOOKUP(C37899,Sheet2!A:F,3,FALSE))","v":""},{"$f":"IF(OR(C37899=\"\",ISBLANK(C37899)),\"\",VLOOKUP(C37899,Sheet2!A:G,6,FALSE))","v":""},""]
[{"$f":"IF(OR(C37924=\"\",ISBLANK(C37924)),\"\",VLOOKUP(C37924,Sheet2!A:F,2,FALSE))","v":""},{"$f":"IF(OR(C37924=\"\",ISBLANK(C37924)),\"\",VLOOKUP(C37924,Sheet2!A:G,4,FALSE))","v":""},null,null,{"$f":"IF(OR(C37924=\"\",ISBLANK(C37924)),\"\",VLOOKUP(C37924,Sheet2!A:F,3,FALSE))","v":""},{"$f":"IF(OR(C37924=\"\",ISBLANK(C37924)),\"\",VLOOKUP(C37924,Sheet2!A:G,6,FALSE))","v":""},""]
[{"$f":"IF(OR(C37957=\"\",ISBLANK(C37957)),\"\",VLOOKUP(C37957,Sheet2!A:F,2,FALSE))","v":""},{"$f":"IF(OR(C37957=\"\",ISBLANK(C37957)),\"\",VLOOKUP(C37957,Sheet2!A:G,4,FALSE))","v":""},null,null,{"$f":"IF(OR(C37957=\"\",ISBLANK(C37957)),\"\",VLOOKUP(C37957,Sheet2!A:F,3,FALSE))","v":""},{"$f":"IF(OR(C37957=\"\",ISBLANK(C37957)),\"\",VLOOKUP(C37957,Sheet2!A:G,6,FALSE))","v":""},""]
[{"$f":"IF(OR(C37966=\"\",ISBLANK(C37966)),\"\",VLOOKUP(C37966,Sheet2!A:F,2,FALSE))","v":""},{"$f":"IF(OR(C37966=\"\",ISBLANK(C37966)),\"\",VLOOKUP(C37966,Sheet2!A:G,4,FALSE))","v":""},null,null,{"$f":"IF(OR(C37966=\"\",ISBLANK(C37966)),\"\",VLOOKUP(C37966,Sheet2!A:F,3,FALSE))","v":""},{"$f":"IF(OR(C37966=\"\",ISBLANK(C37966)),\"\",VLOOKUP(C37966,Sheet2!A:G,6,FALSE))","v":""},""]
[{"$f":"IF(OR(C37991=\"\",ISBLANK(C37991)),\"\",VLOOKUP(C37991,Sheet2!A:F,2,FALSE))","v":""},{"$f":"IF(OR(C37991=\"\",ISBLANK(C37991)),\"\",VLOOKUP(C37991,Sheet2!A:G,4,FALSE))","v":""},null,null,{"$f":"IF(OR(C37991=\"\",ISBLANK(C37991)),\"\",VLOOKUP(C37991,Sheet2!A:F,3,FALSE))","v":""},{"$f":"IF(OR(C37991=\"\",ISBLANK(C37991)),\"\",VLOOKUP(C37991,Sheet2!A:G,6,FALSE))","v":""},""]
[{"$f":"IF(OR(C38024=\"\",ISBLANK(C38024)),\"\",VLOOKUP(C38024,Sheet2!A:F,2,FALSE))","v":""},{"$f":"IF(OR(C38024=\"\",ISBLANK(C38024)),\"\",VLOOKUP(C38024,Sheet2!A:G,4,FALSE))","v":""},null,null,{"$f":"IF(OR(C38024=\"\",ISBLANK(C38024)),\"\",VLOOKUP(C38024,Sheet2!A:F,3,FALSE))","v":""},{"$f":"IF(OR(C38024=\"\",ISBLANK(C38024)),\"\",VLOOKUP(C38024,Sheet2!A:G,6,FALSE))","v":""},""]
[{"$f":"IF(OR(C38049=\"\",ISBLANK(C38049)),\"\",VLOOKUP(C38049,Sheet2!A:F,2,FALSE))","v":""},{"$f":"IF(OR(C38049=\"\",ISBLANK(C38049)),\"\",VLOOKUP(C38049,Sheet2!A:G,4,FALSE))","v":""},null,null,{"$f":"IF(OR(C38049=\"\",ISBLANK(C38049)),\"\",VLOOKUP(C38049,Sheet2!A:F,3,FALSE))","v":""},{"$f":"IF(OR(C38049=\"\",ISBLANK(C38049)),\"\",VLOOKUP(C38049,Sheet2!A:G,6,FALSE))","v":""},""]
[{"$f":"IF(OR(C38064=\"\",ISBLANK(C38064)),\"\",VLOOKUP(C38064,Sheet2!A:F,2,FALSE))","v":""},{"$f":"IF(OR(C38064=\"\",ISBLANK(C38064)),\"\",VLOOKUP(C38064,Sheet2!A:G,4,FALSE))","v":""},null,null,{"$f":"IF(OR(C38064=\"\",ISBLANK(C38064)),\"\",VLOOKUP(C38064,Sheet2!A:F,3,FALSE))","v":""},{"$f":"IF(OR(C38064=\"\",ISBLANK(C38064)),\"\",VLOOKUP(C38064,Sheet2!A:G,6,FALSE))","v":""},""]
[{"$f":"IF(OR(C38090=\"\",ISBLANK(C38090)),\"\",VLOOKUP(C38090,Sheet2!A:F,2,FALSE))","v":""},{"$f":"IF(OR(C38090=\"\",ISBLANK(C38090)),\"\",VLOOKUP(C38090,Sheet2!A:G,4,FALSE))","v":""},null,null,{"$f":"IF(OR(C38090=\"\",ISBLANK(C38090)),\"\",VLOOKUP(C38090,Sheet2!A:F,3,FALSE))","v":""},{"$f":"IF(OR(C38090=\"\",ISBLANK(C38090)),\"\",VLOOKUP(C38090,Sheet2!A:G,6,FALSE))","v":""},""]
[{"$f":"IF(OR(C38115=\"\",ISBLANK(C38115)),\"\",VLOOKUP(C38115,Sheet2!A:F,2,FALSE))","v":""},{"$f":"IF(OR(C38115=\"\",ISBLANK(C38115)),\"\",VLOOKUP(C38115,Sheet2!A:G,4,FALSE))","v":""},null,null,{"$f":"IF(OR(C38115=\"\",ISBLANK(C38115)),\"\",VLOOKUP(C38115,Sheet2!A:F,3,FALSE))","v":""},{"$f":"IF(OR(C38115=\"\",ISBLANK(C38115)),\"\",VLOOKUP(C38115,Sheet2!A:G,6,FALSE))","v":""},""]
[{"$f":"IF(OR(C38148=\"\",ISBLANK(C38148)),\"\",VLOOKUP(C38148,Sheet2!A:F,2,FALSE))","v":""},{"$f":"IF(OR(C38148=\"\",ISBLANK(C38148)),\"\",VLOOKUP(C38148,Sheet2!A:G,4,FALSE))","v":""},null,null,{"$f":"IF(OR(C38148=\"\",ISBLANK(C38148)),\"\",VLOOKUP(C38148,Sheet2!A:F,3,FALSE))","v":""},{"$f":"IF(OR(C38148=\"\",ISBLANK(C38148)),\"\",VLOOKUP(C38148,Sheet2!A:G,6,FALSE))","v":""},""]
[{"$f":"IF(OR(C38157=\"\",ISBLANK(C38157)),\"\",VLOOKUP(C38157,Sheet2!A:F,2,FALSE))","v":""},{"$f":"IF(OR(C38157=\"\",ISBLANK(C38157)),\"\",VLOOKUP(C38157,Sheet2!A:G,4,FALSE))","v":""},null,null,{"$f":"IF(OR(C38157=\"\",ISBLANK(C38157)),\"\",VLOOKUP(C38157,Sheet2!A:F,3,FALSE))","v":""},{"$f":"IF(OR(C38157=\"\",ISBLANK(C38157)),\"\",VLOOKUP(C38157,Sheet2!A:G,6,FALSE))","v":""},""]
[{"$f":"IF(OR(C38182=\"\",ISBLANK(C38182)),\"\",VLOOKUP(C38182,Sheet2!A:F,2,FALSE))","v":""},{"$f":"IF(OR(C38182=\"\",ISBLANK(C38182)),\"\",VLOOKUP(C38182,Sheet2!A:G,4,FALSE))","v":""},null,null,{"$f":"IF(OR(C38182=\"\",ISBLANK(C38182)),\"\",VLOOKUP(C38182,Sheet2!A:F,3,FALSE))","v":""},{"$f":"IF(OR(C38182=\"\",ISBLANK(C38182)),\"\",VLOOKUP(C38182,Sheet2!A:G,6,FALSE))","v":""},""]
[{"$f":"IF(OR(C38215=\"\",ISBLANK(C38215)),\"\",VLOOKUP(C38215,Sheet2!A:F,2,FALSE))","v":""},{"$f":"IF(OR(C38215=\"\",ISBLANK(C38215)),\"\",VLOOKUP(C38215,Sheet2!A:G,4,FALSE))","v":""},null,null,{"$f":"IF(OR(C38215=\"\",ISBLANK(C38215)),\"\",VLOOKUP(C38215,Sheet2!A:F,3,FALSE))","v":""},{"$f":"IF(OR(C38215=\"\",ISBLANK(C38215)),\"\",VLOOKUP(C38215,Sheet2!A:G,6,FALSE))","v":""},""]
[{"$f":"IF(OR(C38240=\"\",ISBLANK(C38240)),\"\",VLOOKUP(C38240,Sheet2!A:F,2,FALSE))","v":""},{"$f":"IF(OR(C38240=\"\",ISBLANK(C38240)),\"\",VLOOKUP(C38240,Sheet2!A:G,4,FALSE))","v":""},null,null,{"$f":"IF(OR(C38240=\"\",ISBLANK(C38240)),\"\",VLOOKUP(C38240,Sheet2!A:F,3,FALSE))","v":""},{"$f":"IF(OR(C38240=\"\",ISBLANK(C38240)),\"\",VLOOKUP(C38240,Sheet2!A:G,6,FALSE))","v":""},""]
[{"$f":"IF(OR(C38273=\"\",ISBLANK(C38273)),\"\",VLOOKUP(C38273,Sheet2!A:F,2,FALSE))","v":""},{"$f":"IF(OR(C38273=\"\",ISBLANK(C38273)),\"\",VLOOKUP(C38273,Sheet2!A:G,4,FALSE))","v":""},null,null,{"$f":"IF(OR(C38273=\"\",ISBLANK(C38273)),\"\",VLOOKUP(C38273,Sheet2!A:F,3,FALSE))","v":""},{"$f":"IF(OR(C38273=\"\",ISBLANK(C38273)),\"\",VLOOKUP(C38273,Sheet2!A:G,6,FALSE))","v":""},""]
[{"$f":"IF(OR(C38282=\"\",ISBLANK(C38282)),\"\",VLOOKUP(C38282,Sheet2!A:F,2,FALSE))","v":""},{"$f":"IF(OR(C38282=\"\",ISBLANK(C38282)),\"\",VLOOKUP(C38282,Sheet2!A:G,4,FALSE))","v":""},null,null,{"$f":"IF(OR(C38282=\"\",ISBLANK(C38282)),\"\",VLOOKUP(C38282,Sheet2!A:F,3,FALSE))","v":""},{"$f":"IF(OR(C38282=\"\",ISBLANK(C38282)),\"\",VLOOKUP(C38282,Sheet2!A:G,6,FALSE))","v":""},""]
[{"$f":"IF(OR(C38318=\"\",ISBLANK(C38318)),\"\",VLOOKUP(C38318,Sheet2!A:F,2,FALSE))","v":""},{"$f":"IF(OR(C38318=\"\",ISBLANK(C38318)),\"\",VLOOKUP(C38318,Sheet2!A:G,4,FALSE))","v":""},null,null,{"$f":"IF(OR(C38318=\"\",ISBLANK(C38318)),\"\",VLOOKUP(C38318,Sheet2!A:F,3,FALSE))","v":""},{"$f":"IF(OR(C38318=\"\",ISBLANK(C38318)),\"\",VLOOKUP(C38318,Sheet2!A:G,6,FALSE))","v":""},""]
[{"$f":"IF(OR(C38339=\"\",ISBLANK(C38339)),\"\",VLOOKUP(C38339,Sheet2!A:F,2,FALSE))","v":""},{"$f":"IF(OR(C38339=\"\",ISBLANK(C38339)),\"\",VLOOKUP(C38339,Sheet2!A:G,4,FALSE))","v":""},null,null,{"$f":"IF(OR(C38339=\"\",ISBLANK(C38339)),\"\",VLOOKUP(C38339,Sheet2!A:F,3,FALSE))","v":""},{"$f":"IF(OR(C38339=\"\",ISBLANK(C38339)),\"\",VLOOKUP(C38339,Sheet2!A:G,6,FALSE))","v":""},{"$f":"IF(F38339=0,\"\",F38339)","v":""}]
[{"$f":"IF(OR(C38348=\"\",ISBLANK(C38348)),\"\",VLOOKUP(C38348,Sheet2!A:F,2,FALSE))","v":""},{"$f":"IF(OR(C38348=\"\",ISBLANK(C38348)),\"\",VLOOKUP(C38348,Sheet2!A:G,4,FALSE))","v":""},null,null,{"$f":"IF(OR(C38348=\"\",ISBLANK(C38348)),\"\",VLOOKUP(C38348,Sheet2!A:F,3,FALSE))","v":""},{"$f":"IF(OR(C38348=\"\",ISBLANK(C38348)),\"\",VLOOKUP(C38348,Sheet2!A:G,6,FALSE))","v":""},""]
[{"$f":"IF(OR(C38373=\"\",ISBLANK(C38373)),\"\",VLOOKUP(C38373,Sheet2!A:F,2,FALSE))","v":""},{"$f":"IF(OR(C38373=\"\",ISBLANK(C38373)),\"\",VLOOKUP(C38373,Sheet2!A:G,4,FALSE))","v":""},null,null,{"$f":"IF(OR(C38373=\"\",ISBLANK(C38373)),\"\",VLOOKUP(C38373,Sheet2!A:F,3,FALSE))","v":""},{"$f":"IF(OR(C38373=\"\",ISBLANK(C38373)),\"\",VLOOKUP(C38373,Sheet2!A:G,6,FALSE))","v":""},""]
[{"$f":"IF(OR(C38406=\"\",ISBLANK(C38406)),\"\",VLOOKUP(C38406,Sheet2!A:F,2,FALSE))","v":""},{"$f":"IF(OR(C38406=\"\",ISBLANK(C38406)),\"\",VLOOKUP(C38406,Sheet2!A:G,4,FALSE))","v":""},null,null,{"$f":"IF(OR(C38406=\"\",ISBLANK(C38406)),\"\",VLOOKUP(C38406,Sheet2!A:F,3,FALSE))","v":""},{"$f":"IF(OR(C38406=\"\",ISBLANK(C38406)),\"\",VLOOKUP(C38406,Sheet2!A:G,6,FALSE))","v":""},""]
[{"$f":"IF(OR(C38431=\"\",ISBLANK(C38431)),\"\",VLOOKUP(C38431,Sheet2!A:F,2,FALSE))","v":""},{"$f":"IF(OR(C38431=\"\",ISBLANK(C38431)),\"\",VLOOKUP(C38431,Sheet2!A:G,4,FALSE))","v":""},null,null,{"$f":"IF(OR(C38431=\"\",ISBLANK(C38431)),\"\",VLOOKUP(C38431,Sheet2!A:F,3,FALSE))","v":""},{"$f":"IF(OR(C38431=\"\",ISBLANK(C38431)),\"\",VLOOKUP(C38431,Sheet2!A:G,6,FALSE))","v":""},""]
[{"$f":"IF(OR(C38464=\"\",ISBLANK(C38464)),\"\",VLOOKUP(C38464,Sheet2!A:F,2,FALSE))","v":""},{"$f":"IF(OR(C38464=\"\",ISBLANK(C38464)),\"\",VLOOKUP(C38464,Sheet2!A:G,4,FALSE))","v":""},null,null,{"$f":"IF(OR(C38464=\"\",ISBLANK(C38464)),\"\",VLOOKUP(C38464,Sheet2!A:F,3,FALSE))","v":""},{"$f":"IF(OR(C38464=\"\",ISBLANK(C38464)),\"\",VLOOKUP(C38464,Sheet2!A:G,6,FALSE))","v":""},""]
[{"$f":"IF(OR(C38473=\"\",ISBLANK(C38473)),\"\",VLOOKUP(C38473,Sheet2!A:F,2,FALSE))","v":""},{"$f":"IF(OR(C38473=\"\",ISBLANK(C38473)),\"\",VLOOKUP(C38473,Sheet2!A:G,4,FALSE))","v":""},null,null,{"$f":"IF(OR(C38473=\"\",ISBLANK(C38473)),\"\",VLOOKUP(C38473,Sheet2!A:F,3,FALSE))","v":""},{"$f":"IF(OR(C38473=\"\",ISBLANK(C38473)),\"\",VLOOKUP(C38473,Sheet2!A:G,6,FALSE))","v":""},""]
[{"$f":"IF(OR(C38498=\"\",ISBLANK(C38498)),\"\",VLOOKUP(C38498,Sheet2!A:F,2,FALSE))","v":""},{"$f":"IF(OR(C38498=\"\",ISBLANK(C38498)),\"\",VLOOKUP(C38498,Sheet2!A:G,4,FALSE))","v":""},null,null,{"$f":"IF(OR(C38498=\"\",ISBLANK(C38498)),\"\",VLOOKUP(C38498,Sheet2!A:F,3,FALSE))","v":""},{"$f":"IF(OR(C38498=\"\",ISBLANK(C38498)),\"\",VLOOKUP(C38498,Sheet2!A:G,6,FALSE))","v":""},""]
[{"$f":"IF(OR(C38514=\"\",ISBLANK(C38514)),\"\",VLOOKUP(C38514,Sheet2!A:F,2,FALSE))","v":""},{"$f":"IF(OR(C38514=\"\",ISBLANK(C38514)),\"\",VLOOKUP(C38514,Sheet2!A:G,4,FALSE))","v":""},null,null,{"$f":"IF(OR(C38514=\"\",ISBLANK(C38514)),\"\",VLOOKUP(C38514,Sheet2!A:F,3,FALSE))","v":""},{"$f":"IF(OR(C38514=\"\",ISBLANK(C38514)),\"\",VLOOKUP(C38514,Sheet2!A:G,6,FALSE))","v":""},""]
[{"$f":"IF(OR(C38555=\"\",ISBLANK(C38555)),\"\",VLOOKUP(C38555,Sheet2!A:F,2,FALSE))","v":""},{"$f":"IF(OR(C38555=\"\",ISBLANK(C38555)),\"\",VLOOKUP(C38555,Sheet2!A:G,4,FALSE))","v":""},null,null,{"$f":"IF(OR(C38555=\"\",ISBLANK(C38555)),\"\",VLOOKUP(C38555,Sheet2!A:F,3,FALSE))","v":""},{"$f":"IF(OR(C38555=\"\",ISBLANK(C38555)),\"\",VLOOKUP(C38555,Sheet2!A:G,6,FALSE))","v":""},""]
[{"$f":"IF(OR(C38564=\"\",ISBLANK(C38564)),\"\",VLOOKUP(C38564,Sheet2!A:F,2,FALSE))","v":""},{"$f":"IF(OR(C38564=\"\",ISBLANK(C38564)),\"\",VLOOKUP(C38564,Sheet2!A:G,4,FALSE))","v":""},null,null,{"$f":"IF(OR(C38564=\"\",ISBLANK(C38564)),\"\",VLOOKUP(C38564,Sheet2!A:F,3,FALSE))","v":""},{"$f":"IF(OR(C38564=\"\",ISBLANK(C38564)),\"\",VLOOKUP(C38564,Sheet2!A:G,6,FALSE))","v":""},""]
[{"$f":"IF(OR(C38597=\"\",ISBLANK(C38597)),\"\",VLOOKUP(C38597,Sheet2!A:F,2,FALSE))","v":""},{"$f":"IF(OR(C38597=\"\",ISBLANK(C38597)),\"\",VLOOKUP(C38597,Sheet2!A:G,4,FALSE))","v":""},null,null,{"$f":"IF(OR(C38597=\"\",ISBLANK(C38597)),\"\",VLOOKUP(C38597,Sheet2!A:F,3,FALSE))","v":""},{"$f":"IF(OR(C38597=\"\",ISBLANK(C38597)),\"\",VLOOKUP(C38597,Sheet2!A:G,6,FALSE))","v":""},""]
[{"$f":"IF(OR(C38622=\"\",ISBLANK(C38622)),\"\",VLOOKUP(C38622,Sheet2!A:F,2,FALSE))","v":""},{"$f":"IF(OR(C38622=\"\",ISBLANK(C38622)),\"\",VLOOKUP(C38622,Sheet2!A:G,4,FALSE))","v":""},null,null,{"$f":"IF(OR(C38622=\"\",ISBLANK(C38622)),\"\",VLOOKUP(C38622,Sheet2!A:F,3,FALSE))","v":""},{"$f":"IF(OR(C38622=\"\",ISBLANK(C38622)),\"\",VLOOKUP(C38622,Sheet2!A:G,6,FALSE))","v":""},""]
[{"$f":"IF(OR(C38655=\"\",ISBLANK(C38655)),\"\",VLOOKUP(C38655,Sheet2!A:F,2,FALSE))","v":""},{"$f":"IF(OR(C38655=\"\",ISBLANK(C38655)),\"\",VLOOKUP(C38655,Sheet2!A:G,4,FALSE))","v":""},null,null,{"$f":"IF(OR(C38655=\"\",ISBLANK(C38655)),\"\",VLOOKUP(C38655,Sheet2!A:F,3,FALSE))","v":""},{"$f":"IF(OR(C38655=\"\",ISBLANK(C38655)),\"\",VLOOKUP(C38655,Sheet2!A:G,6,FALSE))","v":""},""]
[{"$f":"IF(OR(C38664=\"\",ISBLANK(C38664)),\"\",VLOOKUP(C38664,Sheet2!A:F,2,FALSE))","v":""},{"$f":"IF(OR(C38664=\"\",ISBLANK(C38664)),\"\",VLOOKUP(C38664,Sheet2!A:G,4,FALSE))","v":""},null,null,{"$f":"IF(OR(C38664=\"\",ISBLANK(C38664)),\"\",VLOOKUP(C38664,Sheet2!A:F,3,FALSE))","v":""},{"$f":"IF(OR(C38664=\"\",ISBLANK(C38664)),\"\",VLOOKUP(C38664,Sheet2!A:G,6,FALSE))","v":""},""]
[{"$f":"IF(OR(C38689=\"\",ISBLANK(C38689)),\"\",VLOOKUP(C38689,Sheet2!A:F,2,FALSE))","v":""},{"$f":"IF(OR(C38689=\"\",ISBLANK(C38689)),\"\",VLOOKUP(C38689,Sheet2!A:G,4,FALSE))","v":""},null,null,{"$f":"IF(OR(C38689=\"\",ISBLANK(C38689)),\"\",VLOOKUP(C38689,Sheet2!A:F,3,FALSE))","v":""},{"$f":"IF(OR(C38689=\"\",ISBLANK(C38689)),\"\",VLOOKUP(C38689,Sheet2!A:G,6,FALSE))","v":""},""]
[{"$f":"IF(OR(C38722=\"\",ISBLANK(C38722)),\"\",VLOOKUP(C38722,Sheet2!A:F,2,FALSE))","v":""},{"$f":"IF(OR(C38722=\"\",ISBLANK(C38722)),\"\",VLOOKUP(C38722,Sheet2!A:G,4,FALSE))","v":""},null,null,{"$f":"IF(OR(C38722=\"\",ISBLANK(C38722)),\"\",VLOOKUP(C38722,Sheet2!A:F,3,FALSE))","v":""},{"$f":"IF(OR(C38722=\"\",ISBLANK(C38722)),\"\",VLOOKUP(C38722,Sheet2!A:G,6,FALSE))","v":""},""]
[{"$f":"IF(OR(C38747=\"\",ISBLANK(C38747)),\"\",VLOOKUP(C38747,Sheet2!A:F,2,FALSE))","v":""},{"$f":"IF(OR(C38747=\"\",ISBLANK(C38747)),\"\",VLOOKUP(C38747,Sheet2!A:G,4,FALSE))","v":""},null,null,{"$f":"IF(OR(C38747=\"\",ISBLANK(C38747)),\"\",VLOOKUP(C38747,Sheet2!A:F,3,FALSE))","v":""},{"$f":"IF(OR(C38747=\"\",ISBLANK(C38747)),\"\",VLOOKUP(C38747,Sheet2!A:G,6,FALSE))","v":""},""]
[{"$f":"IF(OR(C38768=\"\",ISBLANK(C38768)),\"\",VLOOKUP(C38768,Sheet2!A:F,2,FALSE))","v":""},{"$f":"IF(OR(C38768=\"\",ISBLANK(C38768)),\"\",VLOOKUP(C38768,Sheet2!A:G,4,FALSE))","v":""},null,null,{"$f":"IF(OR(C38768=\"\",ISBLANK(C38768)),\"\",VLOOKUP(C38768,Sheet2!A:F,3,FALSE))","v":""},{"$f":"IF(OR(C38768=\"\",ISBLANK(C38768)),\"\",VLOOKUP(C38768,Sheet2!A:G,6,FALSE))","v":""},""]
[{"$f":"IF(OR(C38788=\"\",ISBLANK(C38788)),\"\",VLOOKUP(C38788,Sheet2!A:F,2,FALSE))","v":""},{"$f":"IF(OR(C38788=\"\",ISBLANK(C38788)),\"\",VLOOKUP(C38788,Sheet2!A:G,4,FALSE))","v":""},null,null,{"$f":"IF(OR(C38788=\"\",ISBLANK(C38788)),\"\",VLOOKUP(C38788,Sheet2!A:F,3,FALSE))","v":""},{"$f":"IF(OR(C38788=\"\",ISBLANK(C38788)),\"\",VLOOKUP(C38788,Sheet2!A:G,6,FALSE))","v":""},""]
[{"$f":"IF(OR(C38813=\"\",ISBLANK(C38813)),\"\",VLOOKUP(C38813,Sheet2!A:F,2,FALSE))","v":""},{"$f":"IF(OR(C38813=\"\",ISBLANK(C38813)),\"\",VLOOKUP(C38813,Sheet2!A:G,4,FALSE))","v":""},null,null,{"$f":"IF(OR(C38813=\"\",ISBLANK(C38813)),\"\",VLOOKUP(C38813,Sheet2!A:F,3,FALSE))","v":""},{"$f":"IF(OR(C38813=\"\",ISBLANK(C38813)),\"\",VLOOKUP(C38813,Sheet2!A:G,6,FALSE))","v":""},""]
[{"$f":"IF(OR(C38846=\"\",ISBLANK(C38846)),\"\",VLOOKUP(C38846,Sheet2!A:F,2,FALSE))","v":""},{"$f":"IF(OR(C38846=\"\",ISBLANK(C38846)),\"\",VLOOKUP(C38846,Sheet2!A:G,4,FALSE))","v":""},null,null,{"$f":"IF(OR(C38846=\"\",ISBLANK(C38846)),\"\",VLOOKUP(C38846,Sheet2!A:F,3,FALSE))","v":""},{"$f":"IF(OR(C38846=\"\",ISBLANK(C38846)),\"\",VLOOKUP(C38846,Sheet2!A:G,6,FALSE))","v":""},""]
[{"$f":"IF(OR(C38855=\"\",ISBLANK(C38855)),\"\",VLOOKUP(C38855,Sheet2!A:F,2,FALSE))","v":""},{"$f":"IF(OR(C38855=\"\",ISBLANK(C38855)),\"\",VLOOKUP(C38855,Sheet2!A:G,4,FALSE))","v":""},null,null,{"$f":"IF(OR(C38855=\"\",ISBLANK(C38855)),\"\",VLOOKUP(C38855,Sheet2!A:F,3,FALSE))","v":""},{"$f":"IF(OR(C38855=\"\",ISBLANK(C38855)),\"\",VLOOKUP(C38855,Sheet2!A:G,6,FALSE))","v":""},""]
[{"$f":"IF(OR(C38880=\"\",ISBLANK(C38880)),\"\",VLOOKUP(C38880,Sheet2!A:F,2,FALSE))","v":""},{"$f":"IF(OR(C38880=\"\",ISBLANK(C38880)),\"\",VLOOKUP(C38880,Sheet2!A:G,4,FALSE))","v":""},null,null,{"$f":"IF(OR(C38880=\"\",ISBLANK(C38880)),\"\",VLOOKUP(C38880,Sheet2!A:F,3,FALSE))","v":""},{"$f":"IF(OR(C38880=\"\",ISBLANK(C38880)),\"\",VLOOKUP(C38880,Sheet2!A:G,6,FALSE))","v":""},""]
[{"$f":"IF(OR(C38913=\"\",ISBLANK(C38913)),\"\",VLOOKUP(C38913,Sheet2!A:F,2,FALSE))","v":""},{"$f":"IF(OR(C38913=\"\",ISBLANK(C38913)),\"\",VLOOKUP(C38913,Sheet2!A:G,4,FALSE))","v":""},null,null,{"$f":"IF(OR(C38913=\"\",ISBLANK(C38913)),\"\",VLOOKUP(C38913,Sheet2!A:F,3,FALSE))","v":""},{"$f":"IF(OR(C38913=\"\",ISBLANK(C38913)),\"\",VLOOKUP(C38913,Sheet2!A:G,6,FALSE))","v":""},""]
[{"$f":"IF(OR(C38938=\"\",ISBLANK(C38938)),\"\",VLOOKUP(C38938,Sheet2!A:F,2,FALSE))","v":""},{"$f":"IF(OR(C38938=\"\",ISBLANK(C38938)),\"\",VLOOKUP(C38938,Sheet2!A:G,4,FALSE))","v":""},null,null,{"$f":"IF(OR(C38938=\"\",ISBLANK(C38938)),\"\",VLOOKUP(C38938,Sheet2!A:F,3,FALSE))","v":""},{"$f":"IF(OR(C38938=\"\",ISBLANK(C38938)),\"\",VLOOKUP(C38938,Sheet2!A:G,6,FALSE))","v":""},""]
[{"$f":"IF(OR(C38947=\"\",ISBLANK(C38947)),\"\",VLOOKUP(C38947,Sheet2!A:F,2,FALSE))","v":""},{"$f":"IF(OR(C38947=\"\",ISBLANK(C38947)),\"\",VLOOKUP(C38947,Sheet2!A:G,4,FALSE))","v":""},null,null,{"$f":"IF(OR(C38947=\"\",ISBLANK(C38947)),\"\",VLOOKUP(C38947,Sheet2!A:F,3,FALSE))","v":""},{"$f":"IF(OR(C38947=\"\",ISBLANK(C38947)),\"\",VLOOKUP(C38947,Sheet2!A:G,6,FALSE))","v":""},""]
[{"$f":"IF(OR(C38980=\"\",ISBLANK(C38980)),\"\",VLOOKUP(C38980,Sheet2!A:F,2,FALSE))","v":""},{"$f":"IF(OR(C38980=\"\",ISBLANK(C38980)),\"\",VLOOKUP(C38980,Sheet2!A:G,4,FALSE))","v":""},null,null,{"$f":"IF(OR(C38980=\"\",ISBLANK(C38980)),\"\",VLOOKUP(C38980,Sheet2!A:F,3,FALSE))","v":""},{"$f":"IF(OR(C38980=\"\",ISBLANK(C38980)),\"\",VLOOKUP(C38980,Sheet2!A:G,6,FALSE))","v":""},""]
[{"$f":"IF(OR(C38999=\"\",ISBLANK(C38999)),\"\",VLOOKUP(C38999,Sheet2!A:F,2,FALSE))","v":""},{"$f":"IF(OR(C38999=\"\",ISBLANK(C38999)),\"\",VLOOKUP(C38999,Sheet2!A:G,4,FALSE))","v":""},null,null,{"$f":"IF(OR(C38999=\"\",ISBLANK(C38999)),\"\",VLOOKUP(C38999,Sheet2!A:F,3,FALSE))","v":""},{"$f":"IF(OR(C38999=\"\",ISBLANK(C38999)),\"\",VLOOKUP(C38999,Sheet2!A:G,6,FALSE))","v":""},""]
[{"$f":"IF(OR(C39037=\"\",ISBLANK(C39037)),\"\",VLOOKUP(C39037,Sheet2!A:F,2,FALSE))","v":""},{"$f":"IF(OR(C39037=\"\",ISBLANK(C39037)),\"\",VLOOKUP(C39037,Sheet2!A:G,4,FALSE))","v":""},null,null,{"$f":"IF(OR(C39037=\"\",ISBLANK(C39037)),\"\",VLOOKUP(C39037,Sheet2!A:F,3,FALSE))","v":""},{"$f":"IF(OR(C39037=\"\",ISBLANK(C39037)),\"\",VLOOKUP(C39037,Sheet2!A:G,6,FALSE))","v":""},""]
[{"$f":"IF(OR(C39062=\"\",ISBLANK(C39062)),\"\",VLOOKUP(C39062,Sheet2!A:F,2,FALSE))","v":""},{"$f":"IF(OR(C39062=\"\",ISBLANK(C39062)),\"\",VLOOKUP(C39062,Sheet2!A:G,4,FALSE))","v":""},null,null,{"$f":"IF(OR(C39062=\"\",ISBLANK(C39062)),\"\",VLOOKUP(C39062,Sheet2!A:F,3,FALSE))","v":""},{"$f":"IF(OR(C39062=\"\",ISBLANK(C39062)),\"\",VLOOKUP(C39062,Sheet2!A:G,6,FALSE))","v":""},""]
[{"$f":"IF(OR(C39071=\"\",ISBLANK(C39071)),\"\",VLOOKUP(C39071,Sheet2!A:F,2,FALSE))","v":""},{"$f":"IF(OR(C39071=\"\",ISBLANK(C39071)),\"\",VLOOKUP(C39071,Sheet2!A:G,4,FALSE))","v":""},null,null,{"$f":"IF(OR(C39071=\"\",ISBLANK(C39071)),\"\",VLOOKUP(C39071,Sheet2!A:F,3,FALSE))","v":""},{"$f":"IF(OR(C39071=\"\",ISBLANK(C39071)),\"\",VLOOKUP(C39071,Sheet2!A:G,6,FALSE))","v":""},""]
[{"$f":"IF(OR(C39104=\"\",ISBLANK(C39104)),\"\",VLOOKUP(C39104,Sheet2!A:F,2,FALSE))","v":""},{"$f":"IF(OR(C39104=\"\",ISBLANK(C39104)),\"\",VLOOKUP(C39104,Sheet2!A:G,4,FALSE))","v":""},null,null,{"$f":"IF(OR(C39104=\"\",ISBLANK(C39104)),\"\",VLOOKUP(C39104,Sheet2!A:F,3,FALSE))","v":""},{"$f":"IF(OR(C39104=\"\",ISBLANK(C39104)),\"\",VLOOKUP(C39104,Sheet2!A:G,6,FALSE))","v":""},""]
[{"$f":"IF(OR(C39129=\"\",ISBLANK(C39129)),\"\",VLOOKUP(C39129,Sheet2!A:F,2,FALSE))","v":""},{"$f":"IF(OR(C39129=\"\",ISBLANK(C39129)),\"\",VLOOKUP(C39129,Sheet2!A:G,4,FALSE))","v":""},null,null,{"$f":"IF(OR(C39129=\"\",ISBLANK(C39129)),\"\",VLOOKUP(C39129,Sheet2!A:F,3,FALSE))","v":""},{"$f":"IF(OR(C39129=\"\",ISBLANK(C39129)),\"\",VLOOKUP(C39129,Sheet2!A:G,6,FALSE))","v":""},""]
[{"$f":"IF(OR(C39138=\"\",ISBLANK(C39138)),\"\",VLOOKUP(C39138,Sheet2!A:F,2,FALSE))","v":""},{"$f":"IF(OR(C39138=\"\",ISBLANK(C39138)),\"\",VLOOKUP(C39138,Sheet2!A:G,4,FALSE))","v":""},null,null,{"$f":"IF(OR(C39138=\"\",ISBLANK(C39138)),\"\",VLOOKUP(C39138,Sheet2!A:F,3,FALSE))","v":""},{"$f":"IF(OR(C39138=\"\",ISBLANK(C39138)),\"\",VLOOKUP(C39138,Sheet2!A:G,6,FALSE))","v":""},""]
[{"$f":"IF(OR(C39171=\"\",ISBLANK(C39171)),\"\",VLOOKUP(C39171,Sheet2!A:F,2,FALSE))","v":""},{"$f":"IF(OR(C39171=\"\",ISBLANK(C39171)),\"\",VLOOKUP(C39171,Sheet2!A:G,4,FALSE))","v":""},null,null,{"$f":"IF(OR(C39171=\"\",ISBLANK(C39171)),\"\",VLOOKUP(C39171,Sheet2!A:F,3,FALSE))","v":""},{"$f":"IF(OR(C39171=\"\",ISBLANK(C39171)),\"\",VLOOKUP(C39171,Sheet2!A:G,6,FALSE))","v":""},{"$f":"IF(F39171=0,\"\",F39171)","v":""}]
[{"$f":"IF(OR(C39196=\"\",ISBLANK(C39196)),\"\",VLOOKUP(C39196,Sheet2!A:F,2,FALSE))","v":""},{"$f":"IF(OR(C39196=\"\",ISBLANK(C39196)),\"\",VLOOKUP(C39196,Sheet2!A:G,4,FALSE))","v":""},null,null,{"$f":"IF(OR(C39196=\"\",ISBLANK(C39196)),\"\",VLOOKUP(C39196,Sheet2!A:F,3,FALSE))","v":""},{"$f":"IF(OR(C39196=\"\",ISBLANK(C39196)),\"\",VLOOKUP(C39196,Sheet2!A:G,6,FALSE))","v":""},""]
[{"$f":"IF(OR(C39218=\"\",ISBLANK(C39218)),\"\",VLOOKUP(C39218,Sheet2!A:F,2,FALSE))","v":""},{"$f":"IF(OR(C39218=\"\",ISBLANK(C39218)),\"\",VLOOKUP(C39218,Sheet2!A:G,4,FALSE))","v":""},null,null,{"$f":"IF(OR(C39218=\"\",ISBLANK(C39218)),\"\",VLOOKUP(C39218,Sheet2!A:F,3,FALSE))","v":""},{"$f":"IF(OR(C39218=\"\",ISBLANK(C39218)),\"\",VLOOKUP(C39218,Sheet2!A:G,6,FALSE))","v":""},""]
[{"$f":"IF(OR(C39253=\"\",ISBLANK(C39253)),\"\",VLOOKUP(C39253,Sheet2!A:F,2,FALSE))","v":""},{"$f":"IF(OR(C39253=\"\",ISBLANK(C39253)),\"\",VLOOKUP(C39253,Sheet2!A:G,4,FALSE))","v":""},null,null,{"$f":"IF(OR(C39253=\"\",ISBLANK(C39253)),\"\",VLOOKUP(C39253,Sheet2!A:F,3,FALSE))","v":""},{"$f":"IF(OR(C39253=\"\",ISBLANK(C39253)),\"\",VLOOKUP(C39253,Sheet2!A:G,6,FALSE))","v":""},""]
[{"$f":"IF(OR(C39262=\"\",ISBLANK(C39262)),\"\",VLOOKUP(C39262,Sheet2!A:F,2,FALSE))","v":""},{"$f":"IF(OR(C39262=\"\",ISBLANK(C39262)),\"\",VLOOKUP(C39262,Sheet2!A:G,4,FALSE))","v":""},null,null,{"$f":"IF(OR(C39262=\"\",ISBLANK(C39262)),\"\",VLOOKUP(C39262,Sheet2!A:F,3,FALSE))","v":""},{"$f":"IF(OR(C39262=\"\",ISBLANK(C39262)),\"\",VLOOKUP(C39262,Sheet2!A:G,6,FALSE))","v":""},""]
[{"$f":"IF(OR(C39295=\"\",ISBLANK(C39295)),\"\",VLOOKUP(C39295,Sheet2!A:F,2,FALSE))","v":""},{"$f":"IF(OR(C39295=\"\",ISBLANK(C39295)),\"\",VLOOKUP(C39295,Sheet2!A:G,4,FALSE))","v":""},null,null,{"$f":"IF(OR(C39295=\"\",ISBLANK(C39295)),\"\",VLOOKUP(C39295,Sheet2!A:F,3,FALSE))","v":""},{"$f":"IF(OR(C39295=\"\",ISBLANK(C39295)),\"\",VLOOKUP(C39295,Sheet2!A:G,6,FALSE))","v":""},""]
[{"$f":"IF(OR(C39320=\"\",ISBLANK(C39320)),\"\",VLOOKUP(C39320,Sheet2!A:F,2,FALSE))","v":""},{"$f":"IF(OR(C39320=\"\",ISBLANK(C39320)),\"\",VLOOKUP(C39320,Sheet2!A:G,4,FALSE))","v":""},null,null,{"$f":"IF(OR(C39320=\"\",ISBLANK(C39320)),\"\",VLOOKUP(C39320,Sheet2!A:F,3,FALSE))","v":""},{"$f":"IF(OR(C39320=\"\",ISBLANK(C39320)),\"\",VLOOKUP(C39320,Sheet2!A:G,6,FALSE))","v":""},""]
[{"$f":"IF(OR(C39329=\"\",ISBLANK(C39329)),\"\",VLOOKUP(C39329,Sheet2!A:F,2,FALSE))","v":""},{"$f":"IF(OR(C39329=\"\",ISBLANK(C39329)),\"\",VLOOKUP(C39329,Sheet2!A:G,4,FALSE))","v":""},null,null,{"$f":"IF(OR(C39329=\"\",ISBLANK(C39329)),\"\",VLOOKUP(C39329,Sheet2!A:F,3,FALSE))","v":""},{"$f":"IF(OR(C39329=\"\",ISBLANK(C39329)),\"\",VLOOKUP(C39329,Sheet2!A:G,6,FALSE))","v":""},""]
[{"$f":"IF(OR(C39354=\"\",ISBLANK(C39354)),\"\",VLOOKUP(C39354,Sheet2!A:F,2,FALSE))","v":""},{"$f":"IF(OR(C39354=\"\",ISBLANK(C39354)),\"\",VLOOKUP(C39354,Sheet2!A:G,4,FALSE))","v":""},null,null,{"$f":"IF(OR(C39354=\"\",ISBLANK(C39354)),\"\",VLOOKUP(C39354,Sheet2!A:F,3,FALSE))","v":""},{"$f":"IF(OR(C39354=\"\",ISBLANK(C39354)),\"\",VLOOKUP(C39354,Sheet2!A:G,6,FALSE))","v":""},""]
[{"$f":"IF(OR(C39387=\"\",ISBLANK(C39387)),\"\",VLOOKUP(C39387,Sheet2!A:F,2,FALSE))","v":""},{"$f":"IF(OR(C39387=\"\",ISBLANK(C39387)),\"\",VLOOKUP(C39387,Sheet2!A:G,4,FALSE))","v":""},null,null,{"$f":"IF(OR(C39387=\"\",ISBLANK(C39387)),\"\",VLOOKUP(C39387,Sheet2!A:F,3,FALSE))","v":""},{"$f":"IF(OR(C39387=\"\",ISBLANK(C39387)),\"\",VLOOKUP(C39387,Sheet2!A:G,6,FALSE))","v":""},""]
[{"$f":"IF(OR(C39420=\"\",ISBLANK(C39420)),\"\",VLOOKUP(C39420,Sheet2!A:F,2,FALSE))","v":""},{"$f":"IF(OR(C39420=\"\",ISBLANK(C39420)),\"\",VLOOKUP(C39420,Sheet2!A:G,4,FALSE))","v":""},null,null,{"$f":"IF(OR(C39420=\"\",ISBLANK(C39420)),\"\",VLOOKUP(C39420,Sheet2!A:F,3,FALSE))","v":""},{"$f":"IF(OR(C39420=\"\",ISBLANK(C39420)),\"\",VLOOKUP(C39420,Sheet2!A:G,6,FALSE))","v":""},""]
[{"$f":"IF(OR(C39445=\"\",ISBLANK(C39445)),\"\",VLOOKUP(C39445,Sheet2!A:F,2,FALSE))","v":""},{"$f":"IF(OR(C39445=\"\",ISBLANK(C39445)),\"\",VLOOKUP(C39445,Sheet2!A:G,4,FALSE))","v":""},null,null,{"$f":"IF(OR(C39445=\"\",ISBLANK(C39445)),\"\",VLOOKUP(C39445,Sheet2!A:F,3,FALSE))","v":""},{"$f":"IF(OR(C39445=\"\",ISBLANK(C39445)),\"\",VLOOKUP(C39445,Sheet2!A:G,6,FALSE))","v":""},""]
[{"$f":"IF(OR(C39449=\"\",ISBLANK(C39449)),\"\",VLOOKUP(C39449,Sheet2!A:F,2,FALSE))","v":""},{"$f":"IF(OR(C39449=\"\",ISBLANK(C39449)),\"\",VLOOKUP(C39449,Sheet2!A:G,4,FALSE))","v":""},null,null,{"$f":"IF(OR(C39449=\"\",ISBLANK(C39449)),\"\",VLOOKUP(C39449,Sheet2!A:F,3,FALSE))","v":""},{"$f":"IF(OR(C39449=\"\",ISBLANK(C39449)),\"\",VLOOKUP(C39449,Sheet2!A:G,6,FALSE))","v":""},""]
[{"$f":"IF(OR(C39486=\"\",ISBLANK(C39486)),\"\",VLOOKUP(C39486,Sheet2!A:F,2,FALSE))","v":""},{"$f":"IF(OR(C39486=\"\",ISBLANK(C39486)),\"\",VLOOKUP(C39486,Sheet2!A:G,4,FALSE))","v":""},null,null,{"$f":"IF(OR(C39486=\"\",ISBLANK(C39486)),\"\",VLOOKUP(C39486,Sheet2!A:F,3,FALSE))","v":""},{"$f":"IF(OR(C39486=\"\",ISBLANK(C39486)),\"\",VLOOKUP(C39486,Sheet2!A:G,6,FALSE))","v":""},""]
[{"$f":"IF(OR(C39511=\"\",ISBLANK(C39511)),\"\",VLOOKUP(C39511,Sheet2!A:F,2,FALSE))","v":""},{"$f":"IF(OR(C39511=\"\",ISBLANK(C39511)),\"\",VLOOKUP(C39511,Sheet2!A:G,4,FALSE))","v":""},null,null,{"$f":"IF(OR(C39511=\"\",ISBLANK(C39511)),\"\",VLOOKUP(C39511,Sheet2!A:F,3,FALSE))","v":""},{"$f":"IF(OR(C39511=\"\",ISBLANK(C39511)),\"\",VLOOKUP(C39511,Sheet2!A:G,6,FALSE))","v":""},""]
[{"$f":"IF(OR(C39520=\"\",ISBLANK(C39520)),\"\",VLOOKUP(C39520,Sheet2!A:F,2,FALSE))","v":""},{"$f":"IF(OR(C39520=\"\",ISBLANK(C39520)),\"\",VLOOKUP(C39520,Sheet2!A:G,4,FALSE))","v":""},null,null,{"$f":"IF(OR(C39520=\"\",ISBLANK(C39520)),\"\",VLOOKUP(C39520,Sheet2!A:F,3,FALSE))","v":""},{"$f":"IF(OR(C39520=\"\",ISBLANK(C39520)),\"\",VLOOKUP(C39520,Sheet2!A:G,6,FALSE))","v":""},""]
[{"$f":"IF(OR(C39545=\"\",ISBLANK(C39545)),\"\",VLOOKUP(C39545,Sheet2!A:F,2,FALSE))","v":""},{"$f":"IF(OR(C39545=\"\",ISBLANK(C39545)),\"\",VLOOKUP(C39545,Sheet2!A:G,4,FALSE))","v":""},null,null,{"$f":"IF(OR(C39545=\"\",ISBLANK(C39545)),\"\",VLOOKUP(C39545,Sheet2!A:F,3,FALSE))","v":""},{"$f":"IF(OR(C39545=\"\",ISBLANK(C39545)),\"\",VLOOKUP(C39545,Sheet2!A:G,6,FALSE))","v":""},""]
[{"$f":"IF(OR(C39578=\"\",ISBLANK(C39578)),\"\",VLOOKUP(C39578,Sheet2!A:F,2,FALSE))","v":""},{"$f":"IF(OR(C39578=\"\",ISBLANK(C39578)),\"\",VLOOKUP(C39578,Sheet2!A:G,4,FALSE))","v":""},null,null,{"$f":"IF(OR(C39578=\"\",ISBLANK(C39578)),\"\",VLOOKUP(C39578,Sheet2!A:F,3,FALSE))","v":""},{"$f":"IF(OR(C39578=\"\",ISBLANK(C39578)),\"\",VLOOKUP(C39578,Sheet2!A:G,6,FALSE))","v":""},""]
[{"$f":"IF(OR(C39611=\"\",ISBLANK(C39611)),\"\",VLOOKUP(C39611,Sheet2!A:F,2,FALSE))","v":""},{"$f":"IF(OR(C39611=\"\",ISBLANK(C39611)),\"\",VLOOKUP(C39611,Sheet2!A:G,4,FALSE))","v":""},null,null,{"$f":"IF(OR(C39611=\"\",ISBLANK(C39611)),\"\",VLOOKUP(C39611,Sheet2!A:F,3,FALSE))","v":""},{"$f":"IF(OR(C39611=\"\",ISBLANK(C39611)),\"\",VLOOKUP(C39611,Sheet2!A:G,6,FALSE))","v":""},""]
[{"$f":"IF(OR(C39636=\"\",ISBLANK(C39636)),\"\",VLOOKUP(C39636,Sheet2!A:F,2,FALSE))","v":""},{"$f":"IF(OR(C39636=\"\",ISBLANK(C39636)),\"\",VLOOKUP(C39636,Sheet2!A:G,4,FALSE))","v":""},null,null,{"$f":"IF(OR(C39636=\"\",ISBLANK(C39636)),\"\",VLOOKUP(C39636,Sheet2!A:F,3,FALSE))","v":""},{"$f":"IF(OR(C39636=\"\",ISBLANK(C39636)),\"\",VLOOKUP(C39636,Sheet2!A:G,6,FALSE))","v":""},""]
[{"$f":"IF(OR(C39645=\"\",ISBLANK(C39645)),\"\",VLOOKUP(C39645,Sheet2!A:F,2,FALSE))","v":""},{"$f":"IF(OR(C39645=\"\",ISBLANK(C39645)),\"\",VLOOKUP(C39645,Sheet2!A:G,4,FALSE))","v":""},null,null,{"$f":"IF(OR(C39645=\"\",ISBLANK(C39645)),\"\",VLOOKUP(C39645,Sheet2!A:F,3,FALSE))","v":""},{"$f":"IF(OR(C39645=\"\",ISBLANK(C39645)),\"\",VLOOKUP(C39645,Sheet2!A:G,6,FALSE))","v":""},""]
[{"$f":"IF(OR(C39668=\"\",ISBLANK(C39668)),\"\",VLOOKUP(C39668,Sheet2!A:F,2,FALSE))","v":""},{"$f":"IF(OR(C39668=\"\",ISBLANK(C39668)),\"\",VLOOKUP(C39668,Sheet2!A:G,4,FALSE))","v":""},null,null,{"$f":"IF(OR(C39668=\"\",ISBLANK(C39668)),\"\",VLOOKUP(C39668,Sheet2!A:F,3,FALSE))","v":""},{"$f":"IF(OR(C39668=\"\",ISBLANK(C39668)),\"\",VLOOKUP(C39668,Sheet2!A:G,6,FALSE))","v":""},""]
[{"$f":"IF(OR(C39702=\"\",ISBLANK(C39702)),\"\",VLOOKUP(C39702,Sheet2!A:F,2,FALSE))","v":""},{"$f":"IF(OR(C39702=\"\",ISBLANK(C39702)),\"\",VLOOKUP(C39702,Sheet2!A:G,4,FALSE))","v":""},null,null,{"$f":"IF(OR(C39702=\"\",ISBLANK(C39702)),\"\",VLOOKUP(C39702,Sheet2!A:F,3,FALSE))","v":""},{"$f":"IF(OR(C39702=\"\",ISBLANK(C39702)),\"\",VLOOKUP(C39702,Sheet2!A:G,6,FALSE))","v":""},""]
[{"$f":"IF(OR(C39711=\"\",ISBLANK(C39711)),\"\",VLOOKUP(C39711,Sheet2!A:F,2,FALSE))","v":""},{"$f":"IF(OR(C39711=\"\",ISBLANK(C39711)),\"\",VLOOKUP(C39711,Sheet2!A:G,4,FALSE))","v":""},null,null,{"$f":"IF(OR(C39711=\"\",ISBLANK(C39711)),\"\",VLOOKUP(C39711,Sheet2!A:F,3,FALSE))","v":""},{"$f":"IF(OR(C39711=\"\",ISBLANK(C39711)),\"\",VLOOKUP(C39711,Sheet2!A:G,6,FALSE))","v":""},""]
[{"$f":"IF(OR(C39736=\"\",ISBLANK(C39736)),\"\",VLOOKUP(C39736,Sheet2!A:F,2,FALSE))","v":""},{"$f":"IF(OR(C39736=\"\",ISBLANK(C39736)),\"\",VLOOKUP(C39736,Sheet2!A:G,4,FALSE))","v":""},null,null,{"$f":"IF(OR(C39736=\"\",ISBLANK(C39736)),\"\",VLOOKUP(C39736,Sheet2!A:F,3,FALSE))","v":""},{"$f":"IF(OR(C39736=\"\",ISBLANK(C39736)),\"\",VLOOKUP(C39736,Sheet2!A:G,6,FALSE))","v":""},""]
[{"$f":"IF(OR(C39769=\"\",ISBLANK(C39769)),\"\",VLOOKUP(C39769,Sheet2!A:F,2,FALSE))","v":""},{"$f":"IF(OR(C39769=\"\",ISBLANK(C39769)),\"\",VLOOKUP(C39769,Sheet2!A:G,4,FALSE))","v":""},null,null,{"$f":"IF(OR(C39769=\"\",ISBLANK(C39769)),\"\",VLOOKUP(C39769,Sheet2!A:F,3,FALSE))","v":""},{"$f":"IF(OR(C39769=\"\",ISBLANK(C39769)),\"\",VLOOKUP(C39769,Sheet2!A:G,6,FALSE))","v":""},""]
[{"$f":"IF(OR(C39802=\"\",ISBLANK(C39802)),\"\",VLOOKUP(C39802,Sheet2!A:F,2,FALSE))","v":""},{"$f":"IF(OR(C39802=\"\",ISBLANK(C39802)),\"\",VLOOKUP(C39802,Sheet2!A:G,4,FALSE))","v":""},null,null,{"$f":"IF(OR(C39802=\"\",ISBLANK(C39802)),\"\",VLOOKUP(C39802,Sheet2!A:F,3,FALSE))","v":""},{"$f":"IF(OR(C39802=\"\",ISBLANK(C39802)),\"\",VLOOKUP(C39802,Sheet2!A:G,6,FALSE))","v":""},""]
[{"$f":"IF(OR(C39827=\"\",ISBLANK(C39827)),\"\",VLOOKUP(C39827,Sheet2!A:F,2,FALSE))","v":""},{"$f":"IF(OR(C39827=\"\",ISBLANK(C39827)),\"\",VLOOKUP(C39827,Sheet2!A:G,4,FALSE))","v":""},null,null,{"$f":"IF(OR(C39827=\"\",ISBLANK(C39827)),\"\",VLOOKUP(C39827,Sheet2!A:F,3,FALSE))","v":""},{"$f":"IF(OR(C39827=\"\",ISBLANK(C39827)),\"\",VLOOKUP(C39827,Sheet2!A:G,6,FALSE))","v":""},""]
[{"$f":"IF(OR(C39836=\"\",ISBLANK(C39836)),\"\",VLOOKUP(C39836,Sheet2!A:F,2,FALSE))","v":""},{"$f":"IF(OR(C39836=\"\",ISBLANK(C39836)),\"\",VLOOKUP(C39836,Sheet2!A:G,4,FALSE))","v":""},null,null,{"$f":"IF(OR(C39836=\"\",ISBLANK(C39836)),\"\",VLOOKUP(C39836,Sheet2!A:F,3,FALSE))","v":""},{"$f":"IF(OR(C39836=\"\",ISBLANK(C39836)),\"\",VLOOKUP(C39836,Sheet2!A:G,6,FALSE))","v":""},""]
[{"$f":"IF(OR(C39861=\"\",ISBLANK(C39861)),\"\",VLOOKUP(C39861,Sheet2!A:F,2,FALSE))","v":""},{"$f":"IF(OR(C39861=\"\",ISBLANK(C39861)),\"\",VLOOKUP(C39861,Sheet2!A:G,4,FALSE))","v":""},null,null,{"$f":"IF(OR(C39861=\"\",ISBLANK(C39861)),\"\",VLOOKUP(C39861,Sheet2!A:F,3,FALSE))","v":""},{"$f":"IF(OR(C39861=\"\",ISBLANK(C39861)),\"\",VLOOKUP(C39861,Sheet2!A:G,6,FALSE))","v":""},""]
[{"$f":"IF(OR(C39894=\"\",ISBLANK(C39894)),\"\",VLOOKUP(C39894,Sheet2!A:F,2,FALSE))","v":""},{"$f":"IF(OR(C39894=\"\",ISBLANK(C39894)),\"\",VLOOKUP(C39894,Sheet2!A:G,4,FALSE))","v":""},null,null,{"$f":"IF(OR(C39894=\"\",ISBLANK(C39894)),\"\",VLOOKUP(C39894,Sheet2!A:F,3,FALSE))","v":""},{"$f":"IF(OR(C39894=\"\",ISBLANK(C39894)),\"\",VLOOKUP(C39894,Sheet2!A:G,6,FALSE))","v":""},""]
[{"$f":"IF(OR(C39922=\"\",ISBLANK(C39922)),\"\",VLOOKUP(C39922,Sheet2!A:F,2,FALSE))","v":""},{"$f":"IF(OR(C39922=\"\",ISBLANK(C39922)),\"\",VLOOKUP(C39922,Sheet2!A:G,4,FALSE))","v":""},null,null,{"$f":"IF(OR(C39922=\"\",ISBLANK(C39922)),\"\",VLOOKUP(C39922,Sheet2!A:F,3,FALSE))","v":""},{"$f":"IF(OR(C39922=\"\",ISBLANK(C39922)),\"\",VLOOKUP(C39922,Sheet2!A:G,6,FALSE))","v":""},""]
[{"$f":"IF(OR(C39927=\"\",ISBLANK(C39927)),\"\",VLOOKUP(C39927,Sheet2!A:F,2,FALSE))","v":""},{"$f":"IF(OR(C39927=\"\",ISBLANK(C39927)),\"\",VLOOKUP(C39927,Sheet2!A:G,4,FALSE))","v":""},null,null,{"$f":"IF(OR(C39927=\"\",ISBLANK(C39927)),\"\",VLOOKUP(C39927,Sheet2!A:F,3,FALSE))","v":""},{"$f":"IF(OR(C39927=\"\",ISBLANK(C39927)),\"\",VLOOKUP(C39927,Sheet2!A:G,6,FALSE))","v":""},""]
[{"$f":"IF(OR(C39960=\"\",ISBLANK(C39960)),\"\",VLOOKUP(C39960,Sheet2!A:F,2,FALSE))","v":""},{"$f":"IF(OR(C39960=\"\",ISBLANK(C39960)),\"\",VLOOKUP(C39960,Sheet2!A:G,4,FALSE))","v":""},null,null,{"$f":"IF(OR(C39960=\"\",ISBLANK(C39960)),\"\",VLOOKUP(C39960,Sheet2!A:F,3,FALSE))","v":""},{"$f":"IF(OR(C39960=\"\",ISBLANK(C39960)),\"\",VLOOKUP(C39960,Sheet2!A:G,6,FALSE))","v":""},""]
[{"$f":"IF(OR(C39993=\"\",ISBLANK(C39993)),\"\",VLOOKUP(C39993,Sheet2!A:F,2,FALSE))","v":""},{"$f":"IF(OR(C39993=\"\",ISBLANK(C39993)),\"\",VLOOKUP(C39993,Sheet2!A:G,4,FALSE))","v":""},null,null,{"$f":"IF(OR(C39993=\"\",ISBLANK(C39993)),\"\",VLOOKUP(C39993,Sheet2!A:F,3,FALSE))","v":""},{"$f":"IF(OR(C39993=\"\",ISBLANK(C39993)),\"\",VLOOKUP(C39993,Sheet2!A:G,6,FALSE))","v":""},""]
[{"$f":"IF(OR(C40018=\"\",ISBLANK(C40018)),\"\",VLOOKUP(C40018,Sheet2!A:F,2,FALSE))","v":""},{"$f":"IF(OR(C40018=\"\",ISBLANK(C40018)),\"\",VLOOKUP(C40018,Sheet2!A:G,4,FALSE))","v":""},null,null,{"$f":"IF(OR(C40018=\"\",ISBLANK(C40018)),\"\",VLOOKUP(C40018,Sheet2!A:F,3,FALSE))","v":""},{"$f":"IF(OR(C40018=\"\",ISBLANK(C40018)),\"\",VLOOKUP(C40018,Sheet2!A:G,6,FALSE))","v":""},""]
[{"$f":"IF(OR(C40027=\"\",ISBLANK(C40027)),\"\",VLOOKUP(C40027,Sheet2!A:F,2,FALSE))","v":""},{"$f":"IF(OR(C40027=\"\",ISBLANK(C40027)),\"\",VLOOKUP(C40027,Sheet2!A:G,4,FALSE))","v":""},null,null,{"$f":"IF(OR(C40027=\"\",ISBLANK(C40027)),\"\",VLOOKUP(C40027,Sheet2!A:F,3,FALSE))","v":""},{"$f":"IF(OR(C40027=\"\",ISBLANK(C40027)),\"\",VLOOKUP(C40027,Sheet2!A:G,6,FALSE))","v":""},""]
[{"$f":"IF(OR(C40052=\"\",ISBLANK(C40052)),\"\",VLOOKUP(C40052,Sheet2!A:F,2,FALSE))","v":""},{"$f":"IF(OR(C40052=\"\",ISBLANK(C40052)),\"\",VLOOKUP(C40052,Sheet2!A:G,4,FALSE))","v":""},null,null,{"$f":"IF(OR(C40052=\"\",ISBLANK(C40052)),\"\",VLOOKUP(C40052,Sheet2!A:F,3,FALSE))","v":""},{"$f":"IF(OR(C40052=\"\",ISBLANK(C40052)),\"\",VLOOKUP(C40052,Sheet2!A:G,6,FALSE))","v":""},""]
[{"$f":"IF(OR(C40085=\"\",ISBLANK(C40085)),\"\",VLOOKUP(C40085,Sheet2!A:F,2,FALSE))","v":""},{"$f":"IF(OR(C40085=\"\",ISBLANK(C40085)),\"\",VLOOKUP(C40085,Sheet2!A:G,4,FALSE))","v":""},null,null,{"$f":"IF(OR(C40085=\"\",ISBLANK(C40085)),\"\",VLOOKUP(C40085,Sheet2!A:F,3,FALSE))","v":""},{"$f":"IF(OR(C40085=\"\",ISBLANK(C40085)),\"\",VLOOKUP(C40085,Sheet2!A:G,6,FALSE))","v":""},""]
[{"$f":"IF(OR(C40094=\"\",ISBLANK(C40094)),\"\",VLOOKUP(C40094,Sheet2!A:F,2,FALSE))","v":""},{"$f":"IF(OR(C40094=\"\",ISBLANK(C40094)),\"\",VLOOKUP(C40094,Sheet2!A:G,4,FALSE))","v":""},null,null,{"$f":"IF(OR(C40094=\"\",ISBLANK(C40094)),\"\",VLOOKUP(C40094,Sheet2!A:F,3,FALSE))","v":""},{"$f":"IF(OR(C40094=\"\",ISBLANK(C40094)),\"\",VLOOKUP(C40094,Sheet2!A:G,6,FALSE))","v":""},""]
[{"$f":"IF(OR(C40119=\"\",ISBLANK(C40119)),\"\",VLOOKUP(C40119,Sheet2!A:F,2,FALSE))","v":""},{"$f":"IF(OR(C40119=\"\",ISBLANK(C40119)),\"\",VLOOKUP(C40119,Sheet2!A:G,4,FALSE))","v":""},null,null,{"$f":"IF(OR(C40119=\"\",ISBLANK(C40119)),\"\",VLOOKUP(C40119,Sheet2!A:F,3,FALSE))","v":""},{"$f":"IF(OR(C40119=\"\",ISBLANK(C40119)),\"\",VLOOKUP(C40119,Sheet2!A:G,6,FALSE))","v":""},""]
[{"$f":"IF(OR(C40153=\"\",ISBLANK(C40153)),\"\",VLOOKUP(C40153,Sheet2!A:F,2,FALSE))","v":""},{"$f":"IF(OR(C40153=\"\",ISBLANK(C40153)),\"\",VLOOKUP(C40153,Sheet2!A:G,4,FALSE))","v":""},null,null,{"$f":"IF(OR(C40153=\"\",ISBLANK(C40153)),\"\",VLOOKUP(C40153,Sheet2!A:F,3,FALSE))","v":""},{"$f":"IF(OR(C40153=\"\",ISBLANK(C40153)),\"\",VLOOKUP(C40153,Sheet2!A:G,6,FALSE))","v":""},""]
[{"$f":"IF(OR(C40184=\"\",ISBLANK(C40184)),\"\",VLOOKUP(C40184,Sheet2!A:F,2,FALSE))","v":""},{"$f":"IF(OR(C40184=\"\",ISBLANK(C40184)),\"\",VLOOKUP(C40184,Sheet2!A:G,4,FALSE))","v":""},null,null,{"$f":"IF(OR(C40184=\"\",ISBLANK(C40184)),\"\",VLOOKUP(C40184,Sheet2!A:F,3,FALSE))","v":""},{"$f":"IF(OR(C40184=\"\",ISBLANK(C40184)),\"\",VLOOKUP(C40184,Sheet2!A:G,6,FALSE))","v":""},""]
[{"$f":"IF(OR(C40209=\"\",ISBLANK(C40209)),\"\",VLOOKUP(C40209,Sheet2!A:F,2,FALSE))","v":""},{"$f":"IF(OR(C40209=\"\",ISBLANK(C40209)),\"\",VLOOKUP(C40209,Sheet2!A:G,4,FALSE))","v":""},null,null,{"$f":"IF(OR(C40209=\"\",ISBLANK(C40209)),\"\",VLOOKUP(C40209,Sheet2!A:F,3,FALSE))","v":""},{"$f":"IF(OR(C40209=\"\",ISBLANK(C40209)),\"\",VLOOKUP(C40209,Sheet2!A:G,6,FALSE))","v":""},""]
[{"$f":"IF(OR(C40218=\"\",ISBLANK(C40218)),\"\",VLOOKUP(C40218,Sheet2!A:F,2,FALSE))","v":""},{"$f":"IF(OR(C40218=\"\",ISBLANK(C40218)),\"\",VLOOKUP(C40218,Sheet2!A:G,4,FALSE))","v":""},null,null,{"$f":"IF(OR(C40218=\"\",ISBLANK(C40218)),\"\",VLOOKUP(C40218,Sheet2!A:F,3,FALSE))","v":""},{"$f":"IF(OR(C40218=\"\",ISBLANK(C40218)),\"\",VLOOKUP(C40218,Sheet2!A:G,6,FALSE))","v":""},""]
[{"$f":"IF(OR(C40243=\"\",ISBLANK(C40243)),\"\",VLOOKUP(C40243,Sheet2!A:F,2,FALSE))","v":""},{"$f":"IF(OR(C40243=\"\",ISBLANK(C40243)),\"\",VLOOKUP(C40243,Sheet2!A:G,4,FALSE))","v":""},null,null,{"$f":"IF(OR(C40243=\"\",ISBLANK(C40243)),\"\",VLOOKUP(C40243,Sheet2!A:F,3,FALSE))","v":""},{"$f":"IF(OR(C40243=\"\",ISBLANK(C40243)),\"\",VLOOKUP(C40243,Sheet2!A:G,6,FALSE))","v":""},""]
[{"$f":"IF(OR(C40276=\"\",ISBLANK(C40276)),\"\",VLOOKUP(C40276,Sheet2!A:F,2,FALSE))","v":""},{"$f":"IF(OR(C40276=\"\",ISBLANK(C40276)),\"\",VLOOKUP(C40276,Sheet2!A:G,4,FALSE))","v":""},null,null,{"$f":"IF(OR(C40276=\"\",ISBLANK(C40276)),\"\",VLOOKUP(C40276,Sheet2!A:F,3,FALSE))","v":""},{"$f":"IF(OR(C40276=\"\",ISBLANK(C40276)),\"\",VLOOKUP(C40276,Sheet2!A:G,6,FALSE))","v":""},""]
[{"$f":"IF(OR(C40285=\"\",ISBLANK(C40285)),\"\",VLOOKUP(C40285,Sheet2!A:F,2,FALSE))","v":""},{"$f":"IF(OR(C40285=\"\",ISBLANK(C40285)),\"\",VLOOKUP(C40285,Sheet2!A:G,4,FALSE))","v":""},null,null,{"$f":"IF(OR(C40285=\"\",ISBLANK(C40285)),\"\",VLOOKUP(C40285,Sheet2!A:F,3,FALSE))","v":""},{"$f":"IF(OR(C40285=\"\",ISBLANK(C40285)),\"\",VLOOKUP(C40285,Sheet2!A:G,6,FALSE))","v":""},""]
[{"$f":"IF(OR(C40310=\"\",ISBLANK(C40310)),\"\",VLOOKUP(C40310,Sheet2!A:F,2,FALSE))","v":""},{"$f":"IF(OR(C40310=\"\",ISBLANK(C40310)),\"\",VLOOKUP(C40310,Sheet2!A:G,4,FALSE))","v":""},null,null,{"$f":"IF(OR(C40310=\"\",ISBLANK(C40310)),\"\",VLOOKUP(C40310,Sheet2!A:F,3,FALSE))","v":""},{"$f":"IF(OR(C40310=\"\",ISBLANK(C40310)),\"\",VLOOKUP(C40310,Sheet2!A:G,6,FALSE))","v":""},""]
[{"$f":"IF(OR(C40343=\"\",ISBLANK(C40343)),\"\",VLOOKUP(C40343,Sheet2!A:F,2,FALSE))","v":""},{"$f":"IF(OR(C40343=\"\",ISBLANK(C40343)),\"\",VLOOKUP(C40343,Sheet2!A:G,4,FALSE))","v":""},null,null,{"$f":"IF(OR(C40343=\"\",ISBLANK(C40343)),\"\",VLOOKUP(C40343,Sheet2!A:F,3,FALSE))","v":""},{"$f":"IF(OR(C40343=\"\",ISBLANK(C40343)),\"\",VLOOKUP(C40343,Sheet2!A:G,6,FALSE))","v":""},""]
[{"$f":"IF(OR(C40361=\"\",ISBLANK(C40361)),\"\",VLOOKUP(C40361,Sheet2!A:F,2,FALSE))","v":""},{"$f":"IF(OR(C40361=\"\",ISBLANK(C40361)),\"\",VLOOKUP(C40361,Sheet2!A:G,4,FALSE))","v":""},null,null,{"$f":"IF(OR(C40361=\"\",ISBLANK(C40361)),\"\",VLOOKUP(C40361,Sheet2!A:F,3,FALSE))","v":""},{"$f":"IF(OR(C40361=\"\",ISBLANK(C40361)),\"\",VLOOKUP(C40361,Sheet2!A:G,6,FALSE))","v":""},""]
[{"$f":"IF(OR(C40400=\"\",ISBLANK(C40400)),\"\",VLOOKUP(C40400,Sheet2!A:F,2,FALSE))","v":""},{"$f":"IF(OR(C40400=\"\",ISBLANK(C40400)),\"\",VLOOKUP(C40400,Sheet2!A:G,4,FALSE))","v":""},null,null,{"$f":"IF(OR(C40400=\"\",ISBLANK(C40400)),\"\",VLOOKUP(C40400,Sheet2!A:F,3,FALSE))","v":""},{"$f":"IF(OR(C40400=\"\",ISBLANK(C40400)),\"\",VLOOKUP(C40400,Sheet2!A:G,6,FALSE))","v":""},""]
[{"$f":"IF(OR(C40409=\"\",ISBLANK(C40409)),\"\",VLOOKUP(C40409,Sheet2!A:F,2,FALSE))","v":""},{"$f":"IF(OR(C40409=\"\",ISBLANK(C40409)),\"\",VLOOKUP(C40409,Sheet2!A:G,4,FALSE))","v":""},null,null,{"$f":"IF(OR(C40409=\"\",ISBLANK(C40409)),\"\",VLOOKUP(C40409,Sheet2!A:F,3,FALSE))","v":""},{"$f":"IF(OR(C40409=\"\",ISBLANK(C40409)),\"\",VLOOKUP(C40409,Sheet2!A:G,6,FALSE))","v":""},""]
[{"$f":"IF(OR(C40434=\"\",ISBLANK(C40434)),\"\",VLOOKUP(C40434,Sheet2!A:F,2,FALSE))","v":""},{"$f":"IF(OR(C40434=\"\",ISBLANK(C40434)),\"\",VLOOKUP(C40434,Sheet2!A:G,4,FALSE))","v":""},null,null,{"$f":"IF(OR(C40434=\"\",ISBLANK(C40434)),\"\",VLOOKUP(C40434,Sheet2!A:F,3,FALSE))","v":""},{"$f":"IF(OR(C40434=\"\",ISBLANK(C40434)),\"\",VLOOKUP(C40434,Sheet2!A:G,6,FALSE))","v":""},""]
[{"$f":"IF(OR(C40467=\"\",ISBLANK(C40467)),\"\",VLOOKUP(C40467,Sheet2!A:F,2,FALSE))","v":""},{"$f":"IF(OR(C40467=\"\",ISBLANK(C40467)),\"\",VLOOKUP(C40467,Sheet2!A:G,4,FALSE))","v":""},null,null,{"$f":"IF(OR(C40467=\"\",ISBLANK(C40467)),\"\",VLOOKUP(C40467,Sheet2!A:F,3,FALSE))","v":""},{"$f":"IF(OR(C40467=\"\",ISBLANK(C40467)),\"\",VLOOKUP(C40467,Sheet2!A:G,6,FALSE))","v":""},""]
[{"$f":"IF(OR(C40476=\"\",ISBLANK(C40476)),\"\",VLOOKUP(C40476,Sheet2!A:F,2,FALSE))","v":""},{"$f":"IF(OR(C40476=\"\",ISBLANK(C40476)),\"\",VLOOKUP(C40476,Sheet2!A:G,4,FALSE))","v":""},null,null,{"$f":"IF(OR(C40476=\"\",ISBLANK(C40476)),\"\",VLOOKUP(C40476,Sheet2!A:F,3,FALSE))","v":""},{"$f":"IF(OR(C40476=\"\",ISBLANK(C40476)),\"\",VLOOKUP(C40476,Sheet2!A:G,6,FALSE))","v":""},""]
[{"$f":"IF(OR(C40501=\"\",ISBLANK(C40501)),\"\",VLOOKUP(C40501,Sheet2!A:F,2,FALSE))","v":""},{"$f":"IF(OR(C40501=\"\",ISBLANK(C40501)),\"\",VLOOKUP(C40501,Sheet2!A:G,4,FALSE))","v":""},null,null,{"$f":"IF(OR(C40501=\"\",ISBLANK(C40501)),\"\",VLOOKUP(C40501,Sheet2!A:F,3,FALSE))","v":""},{"$f":"IF(OR(C40501=\"\",ISBLANK(C40501)),\"\",VLOOKUP(C40501,Sheet2!A:G,6,FALSE))","v":""},""]
[{"$f":"IF(OR(C40534=\"\",ISBLANK(C40534)),\"\",VLOOKUP(C40534,Sheet2!A:F,2,FALSE))","v":""},{"$f":"IF(OR(C40534=\"\",ISBLANK(C40534)),\"\",VLOOKUP(C40534,Sheet2!A:G,4,FALSE))","v":""},null,null,{"$f":"IF(OR(C40534=\"\",ISBLANK(C40534)),\"\",VLOOKUP(C40534,Sheet2!A:F,3,FALSE))","v":""},{"$f":"IF(OR(C40534=\"\",ISBLANK(C40534)),\"\",VLOOKUP(C40534,Sheet2!A:G,6,FALSE))","v":""},""]
[{"$f":"IF(OR(C40559=\"\",ISBLANK(C40559)),\"\",VLOOKUP(C40559,Sheet2!A:F,2,FALSE))","v":""},{"$f":"IF(OR(C40559=\"\",ISBLANK(C40559)),\"\",VLOOKUP(C40559,Sheet2!A:G,4,FALSE))","v":""},null,null,{"$f":"IF(OR(C40559=\"\",ISBLANK(C40559)),\"\",VLOOKUP(C40559,Sheet2!A:F,3,FALSE))","v":""},{"$f":"IF(OR(C40559=\"\",ISBLANK(C40559)),\"\",VLOOKUP(C40559,Sheet2!A:G,6,FALSE))","v":""},""]
[{"$f":"IF(OR(C40592=\"\",ISBLANK(C40592)),\"\",VLOOKUP(C40592,Sheet2!A:F,2,FALSE))","v":""},{"$f":"IF(OR(C40592=\"\",ISBLANK(C40592)),\"\",VLOOKUP(C40592,Sheet2!A:G,4,FALSE))","v":""},null,null,{"$f":"IF(OR(C40592=\"\",ISBLANK(C40592)),\"\",VLOOKUP(C40592,Sheet2!A:F,3,FALSE))","v":""},{"$f":"IF(OR(C40592=\"\",ISBLANK(C40592)),\"\",VLOOKUP(C40592,Sheet2!A:G,6,FALSE))","v":""},""]
[{"$f":"IF(OR(C40603=\"\",ISBLANK(C40603)),\"\",VLOOKUP(C40603,Sheet2!A:F,2,FALSE))","v":""},{"$f":"IF(OR(C40603=\"\",ISBLANK(C40603)),\"\",VLOOKUP(C40603,Sheet2!A:G,4,FALSE))","v":""},null,null,{"$f":"IF(OR(C40603=\"\",ISBLANK(C40603)),\"\",VLOOKUP(C40603,Sheet2!A:F,3,FALSE))","v":""},{"$f":"IF(OR(C40603=\"\",ISBLANK(C40603)),\"\",VLOOKUP(C40603,Sheet2!A:G,6,FALSE))","v":""},""]
[{"$f":"IF(OR(C40625=\"\",ISBLANK(C40625)),\"\",VLOOKUP(C40625,Sheet2!A:F,2,FALSE))","v":""},{"$f":"IF(OR(C40625=\"\",ISBLANK(C40625)),\"\",VLOOKUP(C40625,Sheet2!A:G,4,FALSE))","v":""},null,null,{"$f":"IF(OR(C40625=\"\",ISBLANK(C40625)),\"\",VLOOKUP(C40625,Sheet2!A:F,3,FALSE))","v":""},{"$f":"IF(OR(C40625=\"\",ISBLANK(C40625)),\"\",VLOOKUP(C40625,Sheet2!A:G,6,FALSE))","v":""},""]
[{"$f":"IF(OR(C40658=\"\",ISBLANK(C40658)),\"\",VLOOKUP(C40658,Sheet2!A:F,2,FALSE))","v":""},{"$f":"IF(OR(C40658=\"\",ISBLANK(C40658)),\"\",VLOOKUP(C40658,Sheet2!A:G,4,FALSE))","v":""},null,null,{"$f":"IF(OR(C40658=\"\",ISBLANK(C40658)),\"\",VLOOKUP(C40658,Sheet2!A:F,3,FALSE))","v":""},{"$f":"IF(OR(C40658=\"\",ISBLANK(C40658)),\"\",VLOOKUP(C40658,Sheet2!A:G,6,FALSE))","v":""},""]
[{"$f":"IF(OR(C40683=\"\",ISBLANK(C40683)),\"\",VLOOKUP(C40683,Sheet2!A:F,2,FALSE))","v":""},{"$f":"IF(OR(C40683=\"\",ISBLANK(C40683)),\"\",VLOOKUP(C40683,Sheet2!A:G,4,FALSE))","v":""},null,null,{"$f":"IF(OR(C40683=\"\",ISBLANK(C40683)),\"\",VLOOKUP(C40683,Sheet2!A:F,3,FALSE))","v":""},{"$f":"IF(OR(C40683=\"\",ISBLANK(C40683)),\"\",VLOOKUP(C40683,Sheet2!A:G,6,FALSE))","v":""},""]
[{"$f":"IF(OR(C40692=\"\",ISBLANK(C40692)),\"\",VLOOKUP(C40692,Sheet2!A:F,2,FALSE))","v":""},{"$f":"IF(OR(C40692=\"\",ISBLANK(C40692)),\"\",VLOOKUP(C40692,Sheet2!A:G,4,FALSE))","v":""},null,null,{"$f":"IF(OR(C40692=\"\",ISBLANK(C40692)),\"\",VLOOKUP(C40692,Sheet2!A:F,3,FALSE))","v":""},{"$f":"IF(OR(C40692=\"\",ISBLANK(C40692)),\"\",VLOOKUP(C40692,Sheet2!A:G,6,FALSE))","v":""},""]
[{"$f":"IF(OR(C40725=\"\",ISBLANK(C40725)),\"\",VLOOKUP(C40725,Sheet2!A:F,2,FALSE))","v":""},{"$f":"IF(OR(C40725=\"\",ISBLANK(C40725)),\"\",VLOOKUP(C40725,Sheet2!A:G,4,FALSE))","v":""},null,null,{"$f":"IF(OR(C40725=\"\",ISBLANK(C40725)),\"\",VLOOKUP(C40725,Sheet2!A:F,3,FALSE))","v":""},{"$f":"IF(OR(C40725=\"\",ISBLANK(C40725)),\"\",VLOOKUP(C40725,Sheet2!A:G,6,FALSE))","v":""},""]
[{"$f":"IF(OR(C40750=\"\",ISBLANK(C40750)),\"\",VLOOKUP(C40750,Sheet2!A:F,2,FALSE))","v":""},{"$f":"IF(OR(C40750=\"\",ISBLANK(C40750)),\"\",VLOOKUP(C40750,Sheet2!A:G,4,FALSE))","v":""},null,null,{"$f":"IF(OR(C40750=\"\",ISBLANK(C40750)),\"\",VLOOKUP(C40750,Sheet2!A:F,3,FALSE))","v":""},{"$f":"IF(OR(C40750=\"\",ISBLANK(C40750)),\"\",VLOOKUP(C40750,Sheet2!A:G,6,FALSE))","v":""},""]
[{"$f":"IF(OR(C40783=\"\",ISBLANK(C40783)),\"\",VLOOKUP(C40783,Sheet2!A:F,2,FALSE))","v":""},{"$f":"IF(OR(C40783=\"\",ISBLANK(C40783)),\"\",VLOOKUP(C40783,Sheet2!A:G,4,FALSE))","v":""},null,null,{"$f":"IF(OR(C40783=\"\",ISBLANK(C40783)),\"\",VLOOKUP(C40783,Sheet2!A:F,3,FALSE))","v":""},{"$f":"IF(OR(C40783=\"\",ISBLANK(C40783)),\"\",VLOOKUP(C40783,Sheet2!A:G,6,FALSE))","v":""},""]
[{"$f":"IF(OR(C40792=\"\",ISBLANK(C40792)),\"\",VLOOKUP(C40792,Sheet2!A:F,2,FALSE))","v":""},{"$f":"IF(OR(C40792=\"\",ISBLANK(C40792)),\"\",VLOOKUP(C40792,Sheet2!A:G,4,FALSE))","v":""},null,null,{"$f":"IF(OR(C40792=\"\",ISBLANK(C40792)),\"\",VLOOKUP(C40792,Sheet2!A:F,3,FALSE))","v":""},{"$f":"IF(OR(C40792=\"\",ISBLANK(C40792)),\"\",VLOOKUP(C40792,Sheet2!A:G,6,FALSE))","v":""},""]
[{"$f":"IF(OR(C40817=\"\",ISBLANK(C40817)),\"\",VLOOKUP(C40817,Sheet2!A:F,2,FALSE))","v":""},{"$f":"IF(OR(C40817=\"\",ISBLANK(C40817)),\"\",VLOOKUP(C40817,Sheet2!A:G,4,FALSE))","v":""},null,null,{"$f":"IF(OR(C40817=\"\",ISBLANK(C40817)),\"\",VLOOKUP(C40817,Sheet2!A:F,3,FALSE))","v":""},{"$f":"IF(OR(C40817=\"\",ISBLANK(C40817)),\"\",VLOOKUP(C40817,Sheet2!A:G,6,FALSE))","v":""},""]
[{"$f":"IF(OR(C40834=\"\",ISBLANK(C40834)),\"\",VLOOKUP(C40834,Sheet2!A:F,2,FALSE))","v":""},{"$f":"IF(OR(C40834=\"\",ISBLANK(C40834)),\"\",VLOOKUP(C40834,Sheet2!A:G,4,FALSE))","v":""},null,null,{"$f":"IF(OR(C40834=\"\",ISBLANK(C40834)),\"\",VLOOKUP(C40834,Sheet2!A:F,3,FALSE))","v":""},{"$f":"IF(OR(C40834=\"\",ISBLANK(C40834)),\"\",VLOOKUP(C40834,Sheet2!A:G,6,FALSE))","v":""},""]
[{"$f":"IF(OR(C40874=\"\",ISBLANK(C40874)),\"\",VLOOKUP(C40874,Sheet2!A:F,2,FALSE))","v":""},{"$f":"IF(OR(C40874=\"\",ISBLANK(C40874)),\"\",VLOOKUP(C40874,Sheet2!A:G,4,FALSE))","v":""},null,null,{"$f":"IF(OR(C40874=\"\",ISBLANK(C40874)),\"\",VLOOKUP(C40874,Sheet2!A:F,3,FALSE))","v":""},{"$f":"IF(OR(C40874=\"\",ISBLANK(C40874)),\"\",VLOOKUP(C40874,Sheet2!A:G,6,FALSE))","v":""},""]
[{"$f":"IF(OR(C40883=\"\",ISBLANK(C40883)),\"\",VLOOKUP(C40883,Sheet2!A:F,2,FALSE))","v":""},{"$f":"IF(OR(C40883=\"\",ISBLANK(C40883)),\"\",VLOOKUP(C40883,Sheet2!A:G,4,FALSE))","v":""},null,null,{"$f":"IF(OR(C40883=\"\",ISBLANK(C40883)),\"\",VLOOKUP(C40883,Sheet2!A:F,3,FALSE))","v":""},{"$f":"IF(OR(C40883=\"\",ISBLANK(C40883)),\"\",VLOOKUP(C40883,Sheet2!A:G,6,FALSE))","v":""},""]
[{"$f":"IF(OR(C40916=\"\",ISBLANK(C40916)),\"\",VLOOKUP(C40916,Sheet2!A:F,2,FALSE))","v":""},{"$f":"IF(OR(C40916=\"\",ISBLANK(C40916)),\"\",VLOOKUP(C40916,Sheet2!A:G,4,FALSE))","v":""},null,null,{"$f":"IF(OR(C40916=\"\",ISBLANK(C40916)),\"\",VLOOKUP(C40916,Sheet2!A:F,3,FALSE))","v":""},{"$f":"IF(OR(C40916=\"\",ISBLANK(C40916)),\"\",VLOOKUP(C40916,Sheet2!A:G,6,FALSE))","v":""},""]
[{"$f":"IF(OR(C40941=\"\",ISBLANK(C40941)),\"\",VLOOKUP(C40941,Sheet2!A:F,2,FALSE))","v":""},{"$f":"IF(OR(C40941=\"\",ISBLANK(C40941)),\"\",VLOOKUP(C40941,Sheet2!A:G,4,FALSE))","v":""},null,null,{"$f":"IF(OR(C40941=\"\",ISBLANK(C40941)),\"\",VLOOKUP(C40941,Sheet2!A:F,3,FALSE))","v":""},{"$f":"IF(OR(C40941=\"\",ISBLANK(C40941)),\"\",VLOOKUP(C40941,Sheet2!A:G,6,FALSE))","v":""},""]
[{"$f":"IF(OR(C40974=\"\",ISBLANK(C40974)),\"\",VLOOKUP(C40974,Sheet2!A:F,2,FALSE))","v":""},{"$f":"IF(OR(C40974=\"\",ISBLANK(C40974)),\"\",VLOOKUP(C40974,Sheet2!A:G,4,FALSE))","v":""},null,null,{"$f":"IF(OR(C40974=\"\",ISBLANK(C40974)),\"\",VLOOKUP(C40974,Sheet2!A:F,3,FALSE))","v":""},{"$f":"IF(OR(C40974=\"\",ISBLANK(C40974)),\"\",VLOOKUP(C40974,Sheet2!A:G,6,FALSE))","v":""},""]
[{"$f":"IF(OR(C40983=\"\",ISBLANK(C40983)),\"\",VLOOKUP(C40983,Sheet2!A:F,2,FALSE))","v":""},{"$f":"IF(OR(C40983=\"\",ISBLANK(C40983)),\"\",VLOOKUP(C40983,Sheet2!A:G,4,FALSE))","v":""},null,null,{"$f":"IF(OR(C40983=\"\",ISBLANK(C40983)),\"\",VLOOKUP(C40983,Sheet2!A:F,3,FALSE))","v":""},{"$f":"IF(OR(C40983=\"\",ISBLANK(C40983)),\"\",VLOOKUP(C40983,Sheet2!A:G,6,FALSE))","v":""},""]
[{"$f":"IF(OR(C41008=\"\",ISBLANK(C41008)),\"\",VLOOKUP(C41008,Sheet2!A:F,2,FALSE))","v":""},{"$f":"IF(OR(C41008=\"\",ISBLANK(C41008)),\"\",VLOOKUP(C41008,Sheet2!A:G,4,FALSE))","v":""},null,null,{"$f":"IF(OR(C41008=\"\",ISBLANK(C41008)),\"\",VLOOKUP(C41008,Sheet2!A:F,3,FALSE))","v":""},{"$f":"IF(OR(C41008=\"\",ISBLANK(C41008)),\"\",VLOOKUP(C41008,Sheet2!A:G,6,FALSE))","v":""},""]
[{"$f":"IF(OR(C41041=\"\",ISBLANK(C41041)),\"\",VLOOKUP(C41041,Sheet2!A:F,2,FALSE))","v":""},{"$f":"IF(OR(C41041=\"\",ISBLANK(C41041)),\"\",VLOOKUP(C41041,Sheet2!A:G,4,FALSE))","v":""},null,null,{"$f":"IF(OR(C41041=\"\",ISBLANK(C41041)),\"\",VLOOKUP(C41041,Sheet2!A:F,3,FALSE))","v":""},{"$f":"IF(OR(C41041=\"\",ISBLANK(C41041)),\"\",VLOOKUP(C41041,Sheet2!A:G,6,FALSE))","v":""},""]
[{"$f":"IF(OR(C41065=\"\",ISBLANK(C41065)),\"\",VLOOKUP(C41065,Sheet2!A:F,2,FALSE))","v":""},{"$f":"IF(OR(C41065=\"\",ISBLANK(C41065)),\"\",VLOOKUP(C41065,Sheet2!A:G,4,FALSE))","v":""},null,null,{"$f":"IF(OR(C41065=\"\",ISBLANK(C41065)),\"\",VLOOKUP(C41065,Sheet2!A:F,3,FALSE))","v":""},{"$f":"IF(OR(C41065=\"\",ISBLANK(C41065)),\"\",VLOOKUP(C41065,Sheet2!A:G,6,FALSE))","v":""},""]
[{"$f":"IF(OR(C41074=\"\",ISBLANK(C41074)),\"\",VLOOKUP(C41074,Sheet2!A:F,2,FALSE))","v":""},{"$f":"IF(OR(C41074=\"\",ISBLANK(C41074)),\"\",VLOOKUP(C41074,Sheet2!A:G,4,FALSE))","v":""},null,null,{"$f":"IF(OR(C41074=\"\",ISBLANK(C41074)),\"\",VLOOKUP(C41074,Sheet2!A:F,3,FALSE))","v":""},{"$f":"IF(OR(C41074=\"\",ISBLANK(C41074)),\"\",VLOOKUP(C41074,Sheet2!A:G,6,FALSE))","v":""},""]
[{"$f":"IF(OR(C41107=\"\",ISBLANK(C41107)),\"\",VLOOKUP(C41107,Sheet2!A:F,2,FALSE))","v":""},{"$f":"IF(OR(C41107=\"\",ISBLANK(C41107)),\"\",VLOOKUP(C41107,Sheet2!A:G,4,FALSE))","v":""},null,null,{"$f":"IF(OR(C41107=\"\",ISBLANK(C41107)),\"\",VLOOKUP(C41107,Sheet2!A:F,3,FALSE))","v":""},{"$f":"IF(OR(C41107=\"\",ISBLANK(C41107)),\"\",VLOOKUP(C41107,Sheet2!A:G,6,FALSE))","v":""},""]
[{"$f":"IF(OR(C41132=\"\",ISBLANK(C41132)),\"\",VLOOKUP(C41132,Sheet2!A:F,2,FALSE))","v":""},{"$f":"IF(OR(C41132=\"\",ISBLANK(C41132)),\"\",VLOOKUP(C41132,Sheet2!A:G,4,FALSE))","v":""},null,null,{"$f":"IF(OR(C41132=\"\",ISBLANK(C41132)),\"\",VLOOKUP(C41132,Sheet2!A:F,3,FALSE))","v":""},{"$f":"IF(OR(C41132=\"\",ISBLANK(C41132)),\"\",VLOOKUP(C41132,Sheet2!A:G,6,FALSE))","v":""},""]
[{"$f":"IF(OR(C41165=\"\",ISBLANK(C41165)),\"\",VLOOKUP(C41165,Sheet2!A:F,2,FALSE))","v":""},{"$f":"IF(OR(C41165=\"\",ISBLANK(C41165)),\"\",VLOOKUP(C41165,Sheet2!A:G,4,FALSE))","v":""},null,null,{"$f":"IF(OR(C41165=\"\",ISBLANK(C41165)),\"\",VLOOKUP(C41165,Sheet2!A:F,3,FALSE))","v":""},{"$f":"IF(OR(C41165=\"\",ISBLANK(C41165)),\"\",VLOOKUP(C41165,Sheet2!A:G,6,FALSE))","v":""},""]
[{"$f":"IF(OR(C41166=\"\",ISBLANK(C41166)),\"\",VLOOKUP(C41166,Sheet2!A:F,2,FALSE))","v":""},{"$f":"IF(OR(C41166=\"\",ISBLANK(C41166)),\"\",VLOOKUP(C41166,Sheet2!A:G,4,FALSE))","v":""},null,null,{"$f":"IF(OR(C41166=\"\",ISBLANK(C41166)),\"\",VLOOKUP(C41166,Sheet2!A:F,3,FALSE))","v":""},{"$f":"IF(OR(C41166=\"\",ISBLANK(C41166)),\"\",VLOOKUP(C41166,Sheet2!A:G,6,FALSE))","v":""},""]
[{"$f":"IF(OR(C41199=\"\",ISBLANK(C41199)),\"\",VLOOKUP(C41199,Sheet2!A:F,2,FALSE))","v":""},{"$f":"IF(OR(C41199=\"\",ISBLANK(C41199)),\"\",VLOOKUP(C41199,Sheet2!A:G,4,FALSE))","v":""},null,null,{"$f":"IF(OR(C41199=\"\",ISBLANK(C41199)),\"\",VLOOKUP(C41199,Sheet2!A:F,3,FALSE))","v":""},{"$f":"IF(OR(C41199=\"\",ISBLANK(C41199)),\"\",VLOOKUP(C41199,Sheet2!A:G,6,FALSE))","v":""},""]
[{"$f":"IF(OR(C41232=\"\",ISBLANK(C41232)),\"\",VLOOKUP(C41232,Sheet2!A:F,2,FALSE))","v":""},{"$f":"IF(OR(C41232=\"\",ISBLANK(C41232)),\"\",VLOOKUP(C41232,Sheet2!A:G,4,FALSE))","v":""},null,null,{"$f":"IF(OR(C41232=\"\",ISBLANK(C41232)),\"\",VLOOKUP(C41232,Sheet2!A:F,3,FALSE))","v":""},{"$f":"IF(OR(C41232=\"\",ISBLANK(C41232)),\"\",VLOOKUP(C41232,Sheet2!A:G,6,FALSE))","v":""},""]
[{"$f":"IF(OR(C41257=\"\",ISBLANK(C41257)),\"\",VLOOKUP(C41257,Sheet2!A:F,2,FALSE))","v":""},{"$f":"IF(OR(C41257=\"\",ISBLANK(C41257)),\"\",VLOOKUP(C41257,Sheet2!A:G,4,FALSE))","v":""},null,null,{"$f":"IF(OR(C41257=\"\",ISBLANK(C41257)),\"\",VLOOKUP(C41257,Sheet2!A:F,3,FALSE))","v":""},{"$f":"IF(OR(C41257=\"\",ISBLANK(C41257)),\"\",VLOOKUP(C41257,Sheet2!A:G,6,FALSE))","v":""},""]
[{"$f":"IF(OR(C41266=\"\",ISBLANK(C41266)),\"\",VLOOKUP(C41266,Sheet2!A:F,2,FALSE))","v":""},{"$f":"IF(OR(C41266=\"\",ISBLANK(C41266)),\"\",VLOOKUP(C41266,Sheet2!A:G,4,FALSE))","v":""},null,null,{"$f":"IF(OR(C41266=\"\",ISBLANK(C41266)),\"\",VLOOKUP(C41266,Sheet2!A:F,3,FALSE))","v":""},{"$f":"IF(OR(C41266=\"\",ISBLANK(C41266)),\"\",VLOOKUP(C41266,Sheet2!A:G,6,FALSE))","v":""},""]
[{"$f":"IF(OR(C41307=\"\",ISBLANK(C41307)),\"\",VLOOKUP(C41307,Sheet2!A:F,2,FALSE))","v":""},{"$f":"IF(OR(C41307=\"\",ISBLANK(C41307)),\"\",VLOOKUP(C41307,Sheet2!A:G,4,FALSE))","v":""},null,null,{"$f":"IF(OR(C41307=\"\",ISBLANK(C41307)),\"\",VLOOKUP(C41307,Sheet2!A:F,3,FALSE))","v":""},{"$f":"IF(OR(C41307=\"\",ISBLANK(C41307)),\"\",VLOOKUP(C41307,Sheet2!A:G,6,FALSE))","v":""},""]
[{"$f":"IF(OR(C41323=\"\",ISBLANK(C41323)),\"\",VLOOKUP(C41323,Sheet2!A:F,2,FALSE))","v":""},{"$f":"IF(OR(C41323=\"\",ISBLANK(C41323)),\"\",VLOOKUP(C41323,Sheet2!A:G,4,FALSE))","v":""},null,null,{"$f":"IF(OR(C41323=\"\",ISBLANK(C41323)),\"\",VLOOKUP(C41323,Sheet2!A:F,3,FALSE))","v":""},{"$f":"IF(OR(C41323=\"\",ISBLANK(C41323)),\"\",VLOOKUP(C41323,Sheet2!A:G,6,FALSE))","v":""},""]
[{"$f":"IF(OR(C41356=\"\",ISBLANK(C41356)),\"\",VLOOKUP(C41356,Sheet2!A:F,2,FALSE))","v":""},{"$f":"IF(OR(C41356=\"\",ISBLANK(C41356)),\"\",VLOOKUP(C41356,Sheet2!A:G,4,FALSE))","v":""},null,null,{"$f":"IF(OR(C41356=\"\",ISBLANK(C41356)),\"\",VLOOKUP(C41356,Sheet2!A:F,3,FALSE))","v":""},{"$f":"IF(OR(C41356=\"\",ISBLANK(C41356)),\"\",VLOOKUP(C41356,Sheet2!A:G,6,FALSE))","v":""},""]
[{"$f":"IF(OR(C41357=\"\",ISBLANK(C41357)),\"\",VLOOKUP(C41357,Sheet2!A:F,2,FALSE))","v":""},{"$f":"IF(OR(C41357=\"\",ISBLANK(C41357)),\"\",VLOOKUP(C41357,Sheet2!A:G,4,FALSE))","v":""},null,null,{"$f":"IF(OR(C41357=\"\",ISBLANK(C41357)),\"\",VLOOKUP(C41357,Sheet2!A:F,3,FALSE))","v":""},{"$f":"IF(OR(C41357=\"\",ISBLANK(C41357)),\"\",VLOOKUP(C41357,Sheet2!A:G,6,FALSE))","v":""},""]
[{"$f":"IF(OR(C41390=\"\",ISBLANK(C41390)),\"\",VLOOKUP(C41390,Sheet2!A:F,2,FALSE))","v":""},{"$f":"IF(OR(C41390=\"\",ISBLANK(C41390)),\"\",VLOOKUP(C41390,Sheet2!A:G,4,FALSE))","v":""},null,null,{"$f":"IF(OR(C41390=\"\",ISBLANK(C41390)),\"\",VLOOKUP(C41390,Sheet2!A:F,3,FALSE))","v":""},{"$f":"IF(OR(C41390=\"\",ISBLANK(C41390)),\"\",VLOOKUP(C41390,Sheet2!A:G,6,FALSE))","v":""},""]
[{"$f":"IF(OR(C41423=\"\",ISBLANK(C41423)),\"\",VLOOKUP(C41423,Sheet2!A:F,2,FALSE))","v":""},{"$f":"IF(OR(C41423=\"\",ISBLANK(C41423)),\"\",VLOOKUP(C41423,Sheet2!A:G,4,FALSE))","v":""},null,null,{"$f":"IF(OR(C41423=\"\",ISBLANK(C41423)),\"\",VLOOKUP(C41423,Sheet2!A:F,3,FALSE))","v":""},{"$f":"IF(OR(C41423=\"\",ISBLANK(C41423)),\"\",VLOOKUP(C41423,Sheet2!A:G,6,FALSE))","v":""},""]
[{"$f":"IF(OR(C41448=\"\",ISBLANK(C41448)),\"\",VLOOKUP(C41448,Sheet2!A:F,2,FALSE))","v":""},{"$f":"IF(OR(C41448=\"\",ISBLANK(C41448)),\"\",VLOOKUP(C41448,Sheet2!A:G,4,FALSE))","v":""},null,null,{"$f":"IF(OR(C41448=\"\",ISBLANK(C41448)),\"\",VLOOKUP(C41448,Sheet2!A:F,3,FALSE))","v":""},{"$f":"IF(OR(C41448=\"\",ISBLANK(C41448)),\"\",VLOOKUP(C41448,Sheet2!A:G,6,FALSE))","v":""},""]
[{"$f":"IF(OR(C41457=\"\",ISBLANK(C41457)),\"\",VLOOKUP(C41457,Sheet2!A:F,2,FALSE))","v":""},{"$f":"IF(OR(C41457=\"\",ISBLANK(C41457)),\"\",VLOOKUP(C41457,Sheet2!A:G,4,FALSE))","v":""},null,null,{"$f":"IF(OR(C41457=\"\",ISBLANK(C41457)),\"\",VLOOKUP(C41457,Sheet2!A:F,3,FALSE))","v":""},{"$f":"IF(OR(C41457=\"\",ISBLANK(C41457)),\"\",VLOOKUP(C41457,Sheet2!A:G,6,FALSE))","v":""},""]
[{"$f":"IF(OR(C41482=\"\",ISBLANK(C41482)),\"\",VLOOKUP(C41482,Sheet2!A:F,2,FALSE))","v":""},{"$f":"IF(OR(C41482=\"\",ISBLANK(C41482)),\"\",VLOOKUP(C41482,Sheet2!A:G,4,FALSE))","v":""},null,null,{"$f":"IF(OR(C41482=\"\",ISBLANK(C41482)),\"\",VLOOKUP(C41482,Sheet2!A:F,3,FALSE))","v":""},{"$f":"IF(OR(C41482=\"\",ISBLANK(C41482)),\"\",VLOOKUP(C41482,Sheet2!A:G,6,FALSE))","v":""},""]
[{"$f":"IF(OR(C41515=\"\",ISBLANK(C41515)),\"\",VLOOKUP(C41515,Sheet2!A:F,2,FALSE))","v":""},{"$f":"IF(OR(C41515=\"\",ISBLANK(C41515)),\"\",VLOOKUP(C41515,Sheet2!A:G,4,FALSE))","v":""},null,null,{"$f":"IF(OR(C41515=\"\",ISBLANK(C41515)),\"\",VLOOKUP(C41515,Sheet2!A:F,3,FALSE))","v":""},{"$f":"IF(OR(C41515=\"\",ISBLANK(C41515)),\"\",VLOOKUP(C41515,Sheet2!A:G,6,FALSE))","v":""},""]
[{"$f":"IF(OR(C41547=\"\",ISBLANK(C41547)),\"\",VLOOKUP(C41547,Sheet2!A:F,2,FALSE))","v":""},{"$f":"IF(OR(C41547=\"\",ISBLANK(C41547)),\"\",VLOOKUP(C41547,Sheet2!A:G,4,FALSE))","v":""},null,null,{"$f":"IF(OR(C41547=\"\",ISBLANK(C41547)),\"\",VLOOKUP(C41547,Sheet2!A:F,3,FALSE))","v":""},{"$f":"IF(OR(C41547=\"\",ISBLANK(C41547)),\"\",VLOOKUP(C41547,Sheet2!A:G,6,FALSE))","v":""},""]
[{"$f":"IF(OR(C41548=\"\",ISBLANK(C41548)),\"\",VLOOKUP(C41548,Sheet2!A:F,2,FALSE))","v":""},{"$f":"IF(OR(C41548=\"\",ISBLANK(C41548)),\"\",VLOOKUP(C41548,Sheet2!A:G,4,FALSE))","v":""},null,null,{"$f":"IF(OR(C41548=\"\",ISBLANK(C41548)),\"\",VLOOKUP(C41548,Sheet2!A:F,3,FALSE))","v":""},{"$f":"IF(OR(C41548=\"\",ISBLANK(C41548)),\"\",VLOOKUP(C41548,Sheet2!A:G,6,FALSE))","v":""},""]
[{"$f":"IF(OR(C41581=\"\",ISBLANK(C41581)),\"\",VLOOKUP(C41581,Sheet2!A:F,2,FALSE))","v":""},{"$f":"IF(OR(C41581=\"\",ISBLANK(C41581)),\"\",VLOOKUP(C41581,Sheet2!A:G,4,FALSE))","v":""},null,null,{"$f":"IF(OR(C41581=\"\",ISBLANK(C41581)),\"\",VLOOKUP(C41581,Sheet2!A:F,3,FALSE))","v":""},{"$f":"IF(OR(C41581=\"\",ISBLANK(C41581)),\"\",VLOOKUP(C41581,Sheet2!A:G,6,FALSE))","v":""},""]
[{"$f":"IF(OR(C41614=\"\",ISBLANK(C41614)),\"\",VLOOKUP(C41614,Sheet2!A:F,2,FALSE))","v":""},{"$f":"IF(OR(C41614=\"\",ISBLANK(C41614)),\"\",VLOOKUP(C41614,Sheet2!A:G,4,FALSE))","v":""},null,null,{"$f":"IF(OR(C41614=\"\",ISBLANK(C41614)),\"\",VLOOKUP(C41614,Sheet2!A:F,3,FALSE))","v":""},{"$f":"IF(OR(C41614=\"\",ISBLANK(C41614)),\"\",VLOOKUP(C41614,Sheet2!A:G,6,FALSE))","v":""},""]
[{"$f":"IF(OR(C41639=\"\",ISBLANK(C41639)),\"\",VLOOKUP(C41639,Sheet2!A:F,2,FALSE))","v":""},{"$f":"IF(OR(C41639=\"\",ISBLANK(C41639)),\"\",VLOOKUP(C41639,Sheet2!A:G,4,FALSE))","v":""},null,null,{"$f":"IF(OR(C41639=\"\",ISBLANK(C41639)),\"\",VLOOKUP(C41639,Sheet2!A:F,3,FALSE))","v":""},{"$f":"IF(OR(C41639=\"\",ISBLANK(C41639)),\"\",VLOOKUP(C41639,Sheet2!A:G,6,FALSE))","v":""},""]
[{"$f":"IF(OR(C41648=\"\",ISBLANK(C41648)),\"\",VLOOKUP(C41648,Sheet2!A:F,2,FALSE))","v":""},{"$f":"IF(OR(C41648=\"\",ISBLANK(C41648)),\"\",VLOOKUP(C41648,Sheet2!A:G,4,FALSE))","v":""},null,null,{"$f":"IF(OR(C41648=\"\",ISBLANK(C41648)),\"\",VLOOKUP(C41648,Sheet2!A:F,3,FALSE))","v":""},{"$f":"IF(OR(C41648=\"\",ISBLANK(C41648)),\"\",VLOOKUP(C41648,Sheet2!A:G,6,FALSE))","v":""},""]
[{"$f":"IF(OR(C41673=\"\",ISBLANK(C41673)),\"\",VLOOKUP(C41673,Sheet2!A:F,2,FALSE))","v":""},{"$f":"IF(OR(C41673=\"\",ISBLANK(C41673)),\"\",VLOOKUP(C41673,Sheet2!A:G,4,FALSE))","v":""},null,null,{"$f":"IF(OR(C41673=\"\",ISBLANK(C41673)),\"\",VLOOKUP(C41673,Sheet2!A:F,3,FALSE))","v":""},{"$f":"IF(OR(C41673=\"\",ISBLANK(C41673)),\"\",VLOOKUP(C41673,Sheet2!A:G,6,FALSE))","v":""},""]
[{"$f":"IF(OR(C41706=\"\",ISBLANK(C41706)),\"\",VLOOKUP(C41706,Sheet2!A:F,2,FALSE))","v":""},{"$f":"IF(OR(C41706=\"\",ISBLANK(C41706)),\"\",VLOOKUP(C41706,Sheet2!A:G,4,FALSE))","v":""},null,null,{"$f":"IF(OR(C41706=\"\",ISBLANK(C41706)),\"\",VLOOKUP(C41706,Sheet2!A:F,3,FALSE))","v":""},{"$f":"IF(OR(C41706=\"\",ISBLANK(C41706)),\"\",VLOOKUP(C41706,Sheet2!A:G,6,FALSE))","v":""},""]
[{"$f":"IF(OR(C41739=\"\",ISBLANK(C41739)),\"\",VLOOKUP(C41739,Sheet2!A:F,2,FALSE))","v":""},{"$f":"IF(OR(C41739=\"\",ISBLANK(C41739)),\"\",VLOOKUP(C41739,Sheet2!A:G,4,FALSE))","v":""},null,null,{"$f":"IF(OR(C41739=\"\",ISBLANK(C41739)),\"\",VLOOKUP(C41739,Sheet2!A:F,3,FALSE))","v":""},{"$f":"IF(OR(C41739=\"\",ISBLANK(C41739)),\"\",VLOOKUP(C41739,Sheet2!A:G,6,FALSE))","v":""},""]
[{"$f":"IF(OR(C41746=\"\",ISBLANK(C41746)),\"\",VLOOKUP(C41746,Sheet2!A:F,2,FALSE))","v":""},{"$f":"IF(OR(C41746=\"\",ISBLANK(C41746)),\"\",VLOOKUP(C41746,Sheet2!A:G,4,FALSE))","v":""},null,null,{"$f":"IF(OR(C41746=\"\",ISBLANK(C41746)),\"\",VLOOKUP(C41746,Sheet2!A:F,3,FALSE))","v":""},{"$f":"IF(OR(C41746=\"\",ISBLANK(C41746)),\"\",VLOOKUP(C41746,Sheet2!A:G,6,FALSE))","v":""},""]
[{"$f":"IF(OR(C41772=\"\",ISBLANK(C41772)),\"\",VLOOKUP(C41772,Sheet2!A:F,2,FALSE))","v":""},{"$f":"IF(OR(C41772=\"\",ISBLANK(C41772)),\"\",VLOOKUP(C41772,Sheet2!A:G,4,FALSE))","v":""},null,null,{"$f":"IF(OR(C41772=\"\",ISBLANK(C41772)),\"\",VLOOKUP(C41772,Sheet2!A:F,3,FALSE))","v":""},{"$f":"IF(OR(C41772=\"\",ISBLANK(C41772)),\"\",VLOOKUP(C41772,Sheet2!A:G,6,FALSE))","v":""},""]
[{"$f":"IF(OR(C41805=\"\",ISBLANK(C41805)),\"\",VLOOKUP(C41805,Sheet2!A:F,2,FALSE))","v":""},{"$f":"IF(OR(C41805=\"\",ISBLANK(C41805)),\"\",VLOOKUP(C41805,Sheet2!A:G,4,FALSE))","v":""},null,null,{"$f":"IF(OR(C41805=\"\",ISBLANK(C41805)),\"\",VLOOKUP(C41805,Sheet2!A:F,3,FALSE))","v":""},{"$f":"IF(OR(C41805=\"\",ISBLANK(C41805)),\"\",VLOOKUP(C41805,Sheet2!A:G,6,FALSE))","v":""},""]
[{"$f":"IF(OR(C41830=\"\",ISBLANK(C41830)),\"\",VLOOKUP(C41830,Sheet2!A:F,2,FALSE))","v":""},{"$f":"IF(OR(C41830=\"\",ISBLANK(C41830)),\"\",VLOOKUP(C41830,Sheet2!A:G,4,FALSE))","v":""},null,null,{"$f":"IF(OR(C41830=\"\",ISBLANK(C41830)),\"\",VLOOKUP(C41830,Sheet2!A:F,3,FALSE))","v":""},{"$f":"IF(OR(C41830=\"\",ISBLANK(C41830)),\"\",VLOOKUP(C41830,Sheet2!A:G,6,FALSE))","v":""},""]
[{"$f":"IF(OR(C41839=\"\",ISBLANK(C41839)),\"\",VLOOKUP(C41839,Sheet2!A:F,2,FALSE))","v":""},{"$f":"IF(OR(C41839=\"\",ISBLANK(C41839)),\"\",VLOOKUP(C41839,Sheet2!A:G,4,FALSE))","v":""},null,null,{"$f":"IF(OR(C41839=\"\",ISBLANK(C41839)),\"\",VLOOKUP(C41839,Sheet2!A:F,3,FALSE))","v":""},{"$f":"IF(OR(C41839=\"\",ISBLANK(C41839)),\"\",VLOOKUP(C41839,Sheet2!A:G,6,FALSE))","v":""},""]
[{"$f":"IF(OR(C41864=\"\",ISBLANK(C41864)),\"\",VLOOKUP(C41864,Sheet2!A:F,2,FALSE))","v":""},{"$f":"IF(OR(C41864=\"\",ISBLANK(C41864)),\"\",VLOOKUP(C41864,Sheet2!A:G,4,FALSE))","v":""},null,null,{"$f":"IF(OR(C41864=\"\",ISBLANK(C41864)),\"\",VLOOKUP(C41864,Sheet2!A:F,3,FALSE))","v":""},{"$f":"IF(OR(C41864=\"\",ISBLANK(C41864)),\"\",VLOOKUP(C41864,Sheet2!A:G,6,FALSE))","v":""},""]
[{"$f":"IF(OR(C41897=\"\",ISBLANK(C41897)),\"\",VLOOKUP(C41897,Sheet2!A:F,2,FALSE))","v":""},{"$f":"IF(OR(C41897=\"\",ISBLANK(C41897)),\"\",VLOOKUP(C41897,Sheet2!A:G,4,FALSE))","v":""},null,null,{"$f":"IF(OR(C41897=\"\",ISBLANK(C41897)),\"\",VLOOKUP(C41897,Sheet2!A:F,3,FALSE))","v":""},{"$f":"IF(OR(C41897=\"\",ISBLANK(C41897)),\"\",VLOOKUP(C41897,Sheet2!A:G,6,FALSE))","v":""},""]
[{"$f":"IF(OR(C41930=\"\",ISBLANK(C41930)),\"\",VLOOKUP(C41930,Sheet2!A:F,2,FALSE))","v":""},{"$f":"IF(OR(C41930=\"\",ISBLANK(C41930)),\"\",VLOOKUP(C41930,Sheet2!A:G,4,FALSE))","v":""},null,null,{"$f":"IF(OR(C41930=\"\",ISBLANK(C41930)),\"\",VLOOKUP(C41930,Sheet2!A:F,3,FALSE))","v":""},{"$f":"IF(OR(C41930=\"\",ISBLANK(C41930)),\"\",VLOOKUP(C41930,Sheet2!A:G,6,FALSE))","v":""},""]
[{"$f":"IF(OR(C41931=\"\",ISBLANK(C41931)),\"\",VLOOKUP(C41931,Sheet2!A:F,2,FALSE))","v":""},{"$f":"IF(OR(C41931=\"\",ISBLANK(C41931)),\"\",VLOOKUP(C41931,Sheet2!A:G,4,FALSE))","v":""},null,null,{"$f":"IF(OR(C41931=\"\",ISBLANK(C41931)),\"\",VLOOKUP(C41931,Sheet2!A:F,3,FALSE))","v":""},{"$f":"IF(OR(C41931=\"\",ISBLANK(C41931)),\"\",VLOOKUP(C41931,Sheet2!A:G,6,FALSE))","v":""},""]
[{"$f":"IF(OR(C41964=\"\",ISBLANK(C41964)),\"\",VLOOKUP(C41964,Sheet2!A:F,2,FALSE))","v":""},{"$f":"IF(OR(C41964=\"\",ISBLANK(C41964)),\"\",VLOOKUP(C41964,Sheet2!A:G,4,FALSE))","v":""},null,null,{"$f":"IF(OR(C41964=\"\",ISBLANK(C41964)),\"\",VLOOKUP(C41964,Sheet2!A:F,3,FALSE))","v":""},{"$f":"IF(OR(C41964=\"\",ISBLANK(C41964)),\"\",VLOOKUP(C41964,Sheet2!A:G,6,FALSE))","v":""},""]
[{"$f":"IF(OR(C42000=\"\",ISBLANK(C42000)),\"\",VLOOKUP(C42000,Sheet2!A:F,2,FALSE))","v":""},{"$f":"IF(OR(C42000=\"\",ISBLANK(C42000)),\"\",VLOOKUP(C42000,Sheet2!A:G,4,FALSE))","v":""},null,null,{"$f":"IF(OR(C42000=\"\",ISBLANK(C42000)),\"\",VLOOKUP(C42000,Sheet2!A:F,3,FALSE))","v":""},{"$f":"IF(OR(C42000=\"\",ISBLANK(C42000)),\"\",VLOOKUP(C42000,Sheet2!A:G,6,FALSE))","v":""},""]
[{"$f":"IF(OR(C42021=\"\",ISBLANK(C42021)),\"\",VLOOKUP(C42021,Sheet2!A:F,2,FALSE))","v":""},{"$f":"IF(OR(C42021=\"\",ISBLANK(C42021)),\"\",VLOOKUP(C42021,Sheet2!A:G,4,FALSE))","v":""},null,null,{"$f":"IF(OR(C42021=\"\",ISBLANK(C42021)),\"\",VLOOKUP(C42021,Sheet2!A:F,3,FALSE))","v":""},{"$f":"IF(OR(C42021=\"\",ISBLANK(C42021)),\"\",VLOOKUP(C42021,Sheet2!A:G,6,FALSE))","v":""},""]
[{"$f":"IF(OR(C42030=\"\",ISBLANK(C42030)),\"\",VLOOKUP(C42030,Sheet2!A:F,2,FALSE))","v":""},{"$f":"IF(OR(C42030=\"\",ISBLANK(C42030)),\"\",VLOOKUP(C42030,Sheet2!A:G,4,FALSE))","v":""},null,null,{"$f":"IF(OR(C42030=\"\",ISBLANK(C42030)),\"\",VLOOKUP(C42030,Sheet2!A:F,3,FALSE))","v":""},{"$f":"IF(OR(C42030=\"\",ISBLANK(C42030)),\"\",VLOOKUP(C42030,Sheet2!A:G,6,FALSE))","v":""},""]
[{"$f":"IF(OR(C42055=\"\",ISBLANK(C42055)),\"\",VLOOKUP(C42055,Sheet2!A:F,2,FALSE))","v":""},{"$f":"IF(OR(C42055=\"\",ISBLANK(C42055)),\"\",VLOOKUP(C42055,Sheet2!A:G,4,FALSE))","v":""},null,null,{"$f":"IF(OR(C42055=\"\",ISBLANK(C42055)),\"\",VLOOKUP(C42055,Sheet2!A:F,3,FALSE))","v":""},{"$f":"IF(OR(C42055=\"\",ISBLANK(C42055)),\"\",VLOOKUP(C42055,Sheet2!A:G,6,FALSE))","v":""},""]
[{"$f":"IF(OR(C42088=\"\",ISBLANK(C42088)),\"\",VLOOKUP(C42088,Sheet2!A:F,2,FALSE))","v":""},{"$f":"IF(OR(C42088=\"\",ISBLANK(C42088)),\"\",VLOOKUP(C42088,Sheet2!A:G,4,FALSE))","v":""},null,null,{"$f":"IF(OR(C42088=\"\",ISBLANK(C42088)),\"\",VLOOKUP(C42088,Sheet2!A:F,3,FALSE))","v":""},{"$f":"IF(OR(C42088=\"\",ISBLANK(C42088)),\"\",VLOOKUP(C42088,Sheet2!A:G,6,FALSE))","v":""},""]
[{"$f":"IF(OR(C42121=\"\",ISBLANK(C42121)),\"\",VLOOKUP(C42121,Sheet2!A:F,2,FALSE))","v":""},{"$f":"IF(OR(C42121=\"\",ISBLANK(C42121)),\"\",VLOOKUP(C42121,Sheet2!A:G,4,FALSE))","v":""},null,null,{"$f":"IF(OR(C42121=\"\",ISBLANK(C42121)),\"\",VLOOKUP(C42121,Sheet2!A:F,3,FALSE))","v":""},{"$f":"IF(OR(C42121=\"\",ISBLANK(C42121)),\"\",VLOOKUP(C42121,Sheet2!A:G,6,FALSE))","v":""},""]
[{"$f":"IF(OR(C42122=\"\",ISBLANK(C42122)),\"\",VLOOKUP(C42122,Sheet2!A:F,2,FALSE))","v":""},{"$f":"IF(OR(C42122=\"\",ISBLANK(C42122)),\"\",VLOOKUP(C42122,Sheet2!A:G,4,FALSE))","v":""},null,null,{"$f":"IF(OR(C42122=\"\",ISBLANK(C42122)),\"\",VLOOKUP(C42122,Sheet2!A:F,3,FALSE))","v":""},{"$f":"IF(OR(C42122=\"\",ISBLANK(C42122)),\"\",VLOOKUP(C42122,Sheet2!A:G,6,FALSE))","v":""},""]
[{"$f":"IF(OR(C42155=\"\",ISBLANK(C42155)),\"\",VLOOKUP(C42155,Sheet2!A:F,2,FALSE))","v":""},{"$f":"IF(OR(C42155=\"\",ISBLANK(C42155)),\"\",VLOOKUP(C42155,Sheet2!A:G,4,FALSE))","v":""},null,null,{"$f":"IF(OR(C42155=\"\",ISBLANK(C42155)),\"\",VLOOKUP(C42155,Sheet2!A:F,3,FALSE))","v":""},{"$f":"IF(OR(C42155=\"\",ISBLANK(C42155)),\"\",VLOOKUP(C42155,Sheet2!A:G,6,FALSE))","v":""},""]
[{"$f":"IF(OR(C42180=\"\",ISBLANK(C42180)),\"\",VLOOKUP(C42180,Sheet2!A:F,2,FALSE))","v":""},{"$f":"IF(OR(C42180=\"\",ISBLANK(C42180)),\"\",VLOOKUP(C42180,Sheet2!A:G,4,FALSE))","v":""},null,null,{"$f":"IF(OR(C42180=\"\",ISBLANK(C42180)),\"\",VLOOKUP(C42180,Sheet2!A:F,3,FALSE))","v":""},{"$f":"IF(OR(C42180=\"\",ISBLANK(C42180)),\"\",VLOOKUP(C42180,Sheet2!A:G,6,FALSE))","v":""},""]
[{"$f":"IF(OR(C42196=\"\",ISBLANK(C42196)),\"\",VLOOKUP(C42196,Sheet2!A:F,2,FALSE))","v":""},{"$f":"IF(OR(C42196=\"\",ISBLANK(C42196)),\"\",VLOOKUP(C42196,Sheet2!A:G,4,FALSE))","v":""},null,null,{"$f":"IF(OR(C42196=\"\",ISBLANK(C42196)),\"\",VLOOKUP(C42196,Sheet2!A:F,3,FALSE))","v":""},{"$f":"IF(OR(C42196=\"\",ISBLANK(C42196)),\"\",VLOOKUP(C42196,Sheet2!A:G,6,FALSE))","v":""},""]
[{"$f":"IF(OR(C42221=\"\",ISBLANK(C42221)),\"\",VLOOKUP(C42221,Sheet2!A:F,2,FALSE))","v":""},{"$f":"IF(OR(C42221=\"\",ISBLANK(C42221)),\"\",VLOOKUP(C42221,Sheet2!A:G,4,FALSE))","v":""},null,null,{"$f":"IF(OR(C42221=\"\",ISBLANK(C42221)),\"\",VLOOKUP(C42221,Sheet2!A:F,3,FALSE))","v":""},{"$f":"IF(OR(C42221=\"\",ISBLANK(C42221)),\"\",VLOOKUP(C42221,Sheet2!A:G,6,FALSE))","v":""},""]
[{"$f":"IF(OR(C42246=\"\",ISBLANK(C42246)),\"\",VLOOKUP(C42246,Sheet2!A:F,2,FALSE))","v":""},{"$f":"IF(OR(C42246=\"\",ISBLANK(C42246)),\"\",VLOOKUP(C42246,Sheet2!A:G,4,FALSE))","v":""},null,null,{"$f":"IF(OR(C42246=\"\",ISBLANK(C42246)),\"\",VLOOKUP(C42246,Sheet2!A:F,3,FALSE))","v":""},{"$f":"IF(OR(C42246=\"\",ISBLANK(C42246)),\"\",VLOOKUP(C42246,Sheet2!A:G,6,FALSE))","v":""},""]
[{"$f":"IF(OR(C42279=\"\",ISBLANK(C42279)),\"\",VLOOKUP(C42279,Sheet2!A:F,2,FALSE))","v":""},{"$f":"IF(OR(C42279=\"\",ISBLANK(C42279)),\"\",VLOOKUP(C42279,Sheet2!A:G,4,FALSE))","v":""},null,null,{"$f":"IF(OR(C42279=\"\",ISBLANK(C42279)),\"\",VLOOKUP(C42279,Sheet2!A:F,3,FALSE))","v":""},{"$f":"IF(OR(C42279=\"\",ISBLANK(C42279)),\"\",VLOOKUP(C42279,Sheet2!A:G,6,FALSE))","v":""},""]
[{"$f":"IF(OR(C42312=\"\",ISBLANK(C42312)),\"\",VLOOKUP(C42312,Sheet2!A:F,2,FALSE))","v":""},{"$f":"IF(OR(C42312=\"\",ISBLANK(C42312)),\"\",VLOOKUP(C42312,Sheet2!A:G,4,FALSE))","v":""},null,null,{"$f":"IF(OR(C42312=\"\",ISBLANK(C42312)),\"\",VLOOKUP(C42312,Sheet2!A:F,3,FALSE))","v":""},{"$f":"IF(OR(C42312=\"\",ISBLANK(C42312)),\"\",VLOOKUP(C42312,Sheet2!A:G,6,FALSE))","v":""},""]
[{"$f":"IF(OR(C42313=\"\",ISBLANK(C42313)),\"\",VLOOKUP(C42313,Sheet2!A:F,2,FALSE))","v":""},{"$f":"IF(OR(C42313=\"\",ISBLANK(C42313)),\"\",VLOOKUP(C42313,Sheet2!A:G,4,FALSE))","v":""},null,null,{"$f":"IF(OR(C42313=\"\",ISBLANK(C42313)),\"\",VLOOKUP(C42313,Sheet2!A:F,3,FALSE))","v":""},{"$f":"IF(OR(C42313=\"\",ISBLANK(C42313)),\"\",VLOOKUP(C42313,Sheet2!A:G,6,FALSE))","v":""},""]
[{"$f":"IF(OR(C42346=\"\",ISBLANK(C42346)),\"\",VLOOKUP(C42346,Sheet2!A:F,2,FALSE))","v":""},{"$f":"IF(OR(C42346=\"\",ISBLANK(C42346)),\"\",VLOOKUP(C42346,Sheet2!A:G,4,FALSE))","v":""},null,null,{"$f":"IF(OR(C42346=\"\",ISBLANK(C42346)),\"\",VLOOKUP(C42346,Sheet2!A:F,3,FALSE))","v":""},{"$f":"IF(OR(C42346=\"\",ISBLANK(C42346)),\"\",VLOOKUP(C42346,Sheet2!A:G,6,FALSE))","v":""},""]
[{"$f":"IF(OR(C42371=\"\",ISBLANK(C42371)),\"\",VLOOKUP(C42371,Sheet2!A:F,2,FALSE))","v":""},{"$f":"IF(OR(C42371=\"\",ISBLANK(C42371)),\"\",VLOOKUP(C42371,Sheet2!A:G,4,FALSE))","v":""},null,null,{"$f":"IF(OR(C42371=\"\",ISBLANK(C42371)),\"\",VLOOKUP(C42371,Sheet2!A:F,3,FALSE))","v":""},{"$f":"IF(OR(C42371=\"\",ISBLANK(C42371)),\"\",VLOOKUP(C42371,Sheet2!A:G,6,FALSE))","v":""},{"$f":"IF(F42371=0,\"\",F42371)","v":""}]
[{"$f":"IF(OR(C42404=\"\",ISBLANK(C42404)),\"\",VLOOKUP(C42404,Sheet2!A:F,2,FALSE))","v":""},{"$f":"IF(OR(C42404=\"\",ISBLANK(C42404)),\"\",VLOOKUP(C42404,Sheet2!A:G,4,FALSE))","v":""},null,null,{"$f":"IF(OR(C42404=\"\",ISBLANK(C42404)),\"\",VLOOKUP(C42404,Sheet2!A:F,3,FALSE))","v":""},{"$f":"IF(OR(C42404=\"\",ISBLANK(C42404)),\"\",VLOOKUP(C42404,Sheet2!A:G,6,FALSE))","v":""},""]
[{"$f":"IF(OR(C42413=\"\",ISBLANK(C42413)),\"\",VLOOKUP(C42413,Sheet2!A:F,2,FALSE))","v":""},{"$f":"IF(OR(C42413=\"\",ISBLANK(C42413)),\"\",VLOOKUP(C42413,Sheet2!A:G,4,FALSE))","v":""},null,null,{"$f":"IF(OR(C42413=\"\",ISBLANK(C42413)),\"\",VLOOKUP(C42413,Sheet2!A:F,3,FALSE))","v":""},{"$f":"IF(OR(C42413=\"\",ISBLANK(C42413)),\"\",VLOOKUP(C42413,Sheet2!A:G,6,FALSE))","v":""},""]
[{"$f":"IF(OR(C42450=\"\",ISBLANK(C42450)),\"\",VLOOKUP(C42450,Sheet2!A:F,2,FALSE))","v":""},{"$f":"IF(OR(C42450=\"\",ISBLANK(C42450)),\"\",VLOOKUP(C42450,Sheet2!A:G,4,FALSE))","v":""},null,null,{"$f":"IF(OR(C42450=\"\",ISBLANK(C42450)),\"\",VLOOKUP(C42450,Sheet2!A:F,3,FALSE))","v":""},{"$f":"IF(OR(C42450=\"\",ISBLANK(C42450)),\"\",VLOOKUP(C42450,Sheet2!A:G,6,FALSE))","v":""},""]
[{"$f":"IF(OR(C42470=\"\",ISBLANK(C42470)),\"\",VLOOKUP(C42470,Sheet2!A:F,2,FALSE))","v":""},{"$f":"IF(OR(C42470=\"\",ISBLANK(C42470)),\"\",VLOOKUP(C42470,Sheet2!A:G,4,FALSE))","v":""},null,null,{"$f":"IF(OR(C42470=\"\",ISBLANK(C42470)),\"\",VLOOKUP(C42470,Sheet2!A:F,3,FALSE))","v":""},{"$f":"IF(OR(C42470=\"\",ISBLANK(C42470)),\"\",VLOOKUP(C42470,Sheet2!A:G,6,FALSE))","v":""},""]
[{"$f":"IF(OR(C42495=\"\",ISBLANK(C42495)),\"\",VLOOKUP(C42495,Sheet2!A:F,2,FALSE))","v":""},{"$f":"IF(OR(C42495=\"\",ISBLANK(C42495)),\"\",VLOOKUP(C42495,Sheet2!A:G,4,FALSE))","v":""},null,null,{"$f":"IF(OR(C42495=\"\",ISBLANK(C42495)),\"\",VLOOKUP(C42495,Sheet2!A:F,3,FALSE))","v":""},{"$f":"IF(OR(C42495=\"\",ISBLANK(C42495)),\"\",VLOOKUP(C42495,Sheet2!A:G,6,FALSE))","v":""},""]
[{"$f":"IF(OR(C42504=\"\",ISBLANK(C42504)),\"\",VLOOKUP(C42504,Sheet2!A:F,2,FALSE))","v":""},{"$f":"IF(OR(C42504=\"\",ISBLANK(C42504)),\"\",VLOOKUP(C42504,Sheet2!A:G,4,FALSE))","v":""},null,null,{"$f":"IF(OR(C42504=\"\",ISBLANK(C42504)),\"\",VLOOKUP(C42504,Sheet2!A:F,3,FALSE))","v":""},{"$f":"IF(OR(C42504=\"\",ISBLANK(C42504)),\"\",VLOOKUP(C42504,Sheet2!A:G,6,FALSE))","v":""},""]
[{"$f":"IF(OR(C42537=\"\",ISBLANK(C42537)),\"\",VLOOKUP(C42537,Sheet2!A:F,2,FALSE))","v":""},{"$f":"IF(OR(C42537=\"\",ISBLANK(C42537)),\"\",VLOOKUP(C42537,Sheet2!A:G,4,FALSE))","v":""},null,null,{"$f":"IF(OR(C42537=\"\",ISBLANK(C42537)),\"\",VLOOKUP(C42537,Sheet2!A:F,3,FALSE))","v":""},{"$f":"IF(OR(C42537=\"\",ISBLANK(C42537)),\"\",VLOOKUP(C42537,Sheet2!A:G,6,FALSE))","v":""},""]
[{"$f":"IF(OR(C42562=\"\",ISBLANK(C42562)),\"\",VLOOKUP(C42562,Sheet2!A:F,2,FALSE))","v":""},{"$f":"IF(OR(C42562=\"\",ISBLANK(C42562)),\"\",VLOOKUP(C42562,Sheet2!A:G,4,FALSE))","v":""},null,null,{"$f":"IF(OR(C42562=\"\",ISBLANK(C42562)),\"\",VLOOKUP(C42562,Sheet2!A:F,3,FALSE))","v":""},{"$f":"IF(OR(C42562=\"\",ISBLANK(C42562)),\"\",VLOOKUP(C42562,Sheet2!A:G,6,FALSE))","v":""},""]
[{"$f":"IF(OR(C42595=\"\",ISBLANK(C42595)),\"\",VLOOKUP(C42595,Sheet2!A:F,2,FALSE))","v":""},{"$f":"IF(OR(C42595=\"\",ISBLANK(C42595)),\"\",VLOOKUP(C42595,Sheet2!A:G,4,FALSE))","v":""},null,null,{"$f":"IF(OR(C42595=\"\",ISBLANK(C42595)),\"\",VLOOKUP(C42595,Sheet2!A:F,3,FALSE))","v":""},{"$f":"IF(OR(C42595=\"\",ISBLANK(C42595)),\"\",VLOOKUP(C42595,Sheet2!A:G,6,FALSE))","v":""},""]
[{"$f":"IF(OR(C42604=\"\",ISBLANK(C42604)),\"\",VLOOKUP(C42604,Sheet2!A:F,2,FALSE))","v":""},{"$f":"IF(OR(C42604=\"\",ISBLANK(C42604)),\"\",VLOOKUP(C42604,Sheet2!A:G,4,FALSE))","v":""},null,null,{"$f":"IF(OR(C42604=\"\",ISBLANK(C42604)),\"\",VLOOKUP(C42604,Sheet2!A:F,3,FALSE))","v":""},{"$f":"IF(OR(C42604=\"\",ISBLANK(C42604)),\"\",VLOOKUP(C42604,Sheet2!A:G,6,FALSE))","v":""},""]
[{"$f":"IF(OR(C42629=\"\",ISBLANK(C42629)),\"\",VLOOKUP(C42629,Sheet2!A:F,2,FALSE))","v":""},{"$f":"IF(OR(C42629=\"\",ISBLANK(C42629)),\"\",VLOOKUP(C42629,Sheet2!A:G,4,FALSE))","v":""},null,null,{"$f":"IF(OR(C42629=\"\",ISBLANK(C42629)),\"\",VLOOKUP(C42629,Sheet2!A:F,3,FALSE))","v":""},{"$f":"IF(OR(C42629=\"\",ISBLANK(C42629)),\"\",VLOOKUP(C42629,Sheet2!A:G,6,FALSE))","v":""},""]
[{"$f":"IF(OR(C42669=\"\",ISBLANK(C42669)),\"\",VLOOKUP(C42669,Sheet2!A:F,2,FALSE))","v":""},{"$f":"IF(OR(C42669=\"\",ISBLANK(C42669)),\"\",VLOOKUP(C42669,Sheet2!A:G,4,FALSE))","v":""},null,null,{"$f":"IF(OR(C42669=\"\",ISBLANK(C42669)),\"\",VLOOKUP(C42669,Sheet2!A:F,3,FALSE))","v":""},{"$f":"IF(OR(C42669=\"\",ISBLANK(C42669)),\"\",VLOOKUP(C42669,Sheet2!A:G,6,FALSE))","v":""},""]
[{"$f":"IF(OR(C42686=\"\",ISBLANK(C42686)),\"\",VLOOKUP(C42686,Sheet2!A:F,2,FALSE))","v":""},{"$f":"IF(OR(C42686=\"\",ISBLANK(C42686)),\"\",VLOOKUP(C42686,Sheet2!A:G,4,FALSE))","v":""},null,null,{"$f":"IF(OR(C42686=\"\",ISBLANK(C42686)),\"\",VLOOKUP(C42686,Sheet2!A:F,3,FALSE))","v":""},{"$f":"IF(OR(C42686=\"\",ISBLANK(C42686)),\"\",VLOOKUP(C42686,Sheet2!A:G,6,FALSE))","v":""},""]
[{"$f":"IF(OR(C42695=\"\",ISBLANK(C42695)),\"\",VLOOKUP(C42695,Sheet2!A:F,2,FALSE))","v":""},{"$f":"IF(OR(C42695=\"\",ISBLANK(C42695)),\"\",VLOOKUP(C42695,Sheet2!A:G,4,FALSE))","v":""},null,null,{"$f":"IF(OR(C42695=\"\",ISBLANK(C42695)),\"\",VLOOKUP(C42695,Sheet2!A:F,3,FALSE))","v":""},{"$f":"IF(OR(C42695=\"\",ISBLANK(C42695)),\"\",VLOOKUP(C42695,Sheet2!A:G,6,FALSE))","v":""},""]
[{"$f":"IF(OR(C42728=\"\",ISBLANK(C42728)),\"\",VLOOKUP(C42728,Sheet2!A:F,2,FALSE))","v":""},{"$f":"IF(OR(C42728=\"\",ISBLANK(C42728)),\"\",VLOOKUP(C42728,Sheet2!A:G,4,FALSE))","v":""},null,null,{"$f":"IF(OR(C42728=\"\",ISBLANK(C42728)),\"\",VLOOKUP(C42728,Sheet2!A:F,3,FALSE))","v":""},{"$f":"IF(OR(C42728=\"\",ISBLANK(C42728)),\"\",VLOOKUP(C42728,Sheet2!A:G,6,FALSE))","v":""},""]
[{"$f":"IF(OR(C42753=\"\",ISBLANK(C42753)),\"\",VLOOKUP(C42753,Sheet2!A:F,2,FALSE))","v":""},{"$f":"IF(OR(C42753=\"\",ISBLANK(C42753)),\"\",VLOOKUP(C42753,Sheet2!A:G,4,FALSE))","v":""},null,null,{"$f":"IF(OR(C42753=\"\",ISBLANK(C42753)),\"\",VLOOKUP(C42753,Sheet2!A:F,3,FALSE))","v":""},{"$f":"IF(OR(C42753=\"\",ISBLANK(C42753)),\"\",VLOOKUP(C42753,Sheet2!A:G,6,FALSE))","v":""},""]
[{"$f":"IF(OR(C42786=\"\",ISBLANK(C42786)),\"\",VLOOKUP(C42786,Sheet2!A:F,2,FALSE))","v":""},{"$f":"IF(OR(C42786=\"\",ISBLANK(C42786)),\"\",VLOOKUP(C42786,Sheet2!A:G,4,FALSE))","v":""},null,null,{"$f":"IF(OR(C42786=\"\",ISBLANK(C42786)),\"\",VLOOKUP(C42786,Sheet2!A:F,3,FALSE))","v":""},{"$f":"IF(OR(C42786=\"\",ISBLANK(C42786)),\"\",VLOOKUP(C42786,Sheet2!A:G,6,FALSE))","v":""},""]
[{"$f":"IF(OR(C42811=\"\",ISBLANK(C42811)),\"\",VLOOKUP(C42811,Sheet2!A:F,2,FALSE))","v":""},{"$f":"IF(OR(C42811=\"\",ISBLANK(C42811)),\"\",VLOOKUP(C42811,Sheet2!A:G,4,FALSE))","v":""},null,null,{"$f":"IF(OR(C42811=\"\",ISBLANK(C42811)),\"\",VLOOKUP(C42811,Sheet2!A:F,3,FALSE))","v":""},{"$f":"IF(OR(C42811=\"\",ISBLANK(C42811)),\"\",VLOOKUP(C42811,Sheet2!A:G,6,FALSE))","v":""},""]
[{"$f":"IF(OR(C42820=\"\",ISBLANK(C42820)),\"\",VLOOKUP(C42820,Sheet2!A:F,2,FALSE))","v":""},{"$f":"IF(OR(C42820=\"\",ISBLANK(C42820)),\"\",VLOOKUP(C42820,Sheet2!A:G,4,FALSE))","v":""},null,null,{"$f":"IF(OR(C42820=\"\",ISBLANK(C42820)),\"\",VLOOKUP(C42820,Sheet2!A:F,3,FALSE))","v":""},{"$f":"IF(OR(C42820=\"\",ISBLANK(C42820)),\"\",VLOOKUP(C42820,Sheet2!A:G,6,FALSE))","v":""},""]
[{"$f":"IF(OR(C42853=\"\",ISBLANK(C42853)),\"\",VLOOKUP(C42853,Sheet2!A:F,2,FALSE))","v":""},{"$f":"IF(OR(C42853=\"\",ISBLANK(C42853)),\"\",VLOOKUP(C42853,Sheet2!A:G,4,FALSE))","v":""},null,null,{"$f":"IF(OR(C42853=\"\",ISBLANK(C42853)),\"\",VLOOKUP(C42853,Sheet2!A:F,3,FALSE))","v":""},{"$f":"IF(OR(C42853=\"\",ISBLANK(C42853)),\"\",VLOOKUP(C42853,Sheet2!A:G,6,FALSE))","v":""},""]
[{"$f":"IF(OR(C42878=\"\",ISBLANK(C42878)),\"\",VLOOKUP(C42878,Sheet2!A:F,2,FALSE))","v":""},{"$f":"IF(OR(C42878=\"\",ISBLANK(C42878)),\"\",VLOOKUP(C42878,Sheet2!A:G,4,FALSE))","v":""},null,null,{"$f":"IF(OR(C42878=\"\",ISBLANK(C42878)),\"\",VLOOKUP(C42878,Sheet2!A:F,3,FALSE))","v":""},{"$f":"IF(OR(C42878=\"\",ISBLANK(C42878)),\"\",VLOOKUP(C42878,Sheet2!A:G,6,FALSE))","v":""},""]
[{"$f":"IF(OR(C42900=\"\",ISBLANK(C42900)),\"\",VLOOKUP(C42900,Sheet2!A:F,2,FALSE))","v":""},{"$f":"IF(OR(C42900=\"\",ISBLANK(C42900)),\"\",VLOOKUP(C42900,Sheet2!A:G,4,FALSE))","v":""},null,null,{"$f":"IF(OR(C42900=\"\",ISBLANK(C42900)),\"\",VLOOKUP(C42900,Sheet2!A:F,3,FALSE))","v":""},{"$f":"IF(OR(C42900=\"\",ISBLANK(C42900)),\"\",VLOOKUP(C42900,Sheet2!A:G,6,FALSE))","v":""},""]
[{"$f":"IF(OR(C42919=\"\",ISBLANK(C42919)),\"\",VLOOKUP(C42919,Sheet2!A:F,2,FALSE))","v":""},{"$f":"IF(OR(C42919=\"\",ISBLANK(C42919)),\"\",VLOOKUP(C42919,Sheet2!A:G,4,FALSE))","v":""},null,null,{"$f":"IF(OR(C42919=\"\",ISBLANK(C42919)),\"\",VLOOKUP(C42919,Sheet2!A:F,3,FALSE))","v":""},{"$f":"IF(OR(C42919=\"\",ISBLANK(C42919)),\"\",VLOOKUP(C42919,Sheet2!A:G,6,FALSE))","v":""},""]
[{"$f":"IF(OR(C42944=\"\",ISBLANK(C42944)),\"\",VLOOKUP(C42944,Sheet2!A:F,2,FALSE))","v":""},{"$f":"IF(OR(C42944=\"\",ISBLANK(C42944)),\"\",VLOOKUP(C42944,Sheet2!A:G,4,FALSE))","v":""},null,null,{"$f":"IF(OR(C42944=\"\",ISBLANK(C42944)),\"\",VLOOKUP(C42944,Sheet2!A:F,3,FALSE))","v":""},{"$f":"IF(OR(C42944=\"\",ISBLANK(C42944)),\"\",VLOOKUP(C42944,Sheet2!A:G,6,FALSE))","v":""},""]
[{"$f":"IF(OR(C42977=\"\",ISBLANK(C42977)),\"\",VLOOKUP(C42977,Sheet2!A:F,2,FALSE))","v":""},{"$f":"IF(OR(C42977=\"\",ISBLANK(C42977)),\"\",VLOOKUP(C42977,Sheet2!A:G,4,FALSE))","v":""},null,null,{"$f":"IF(OR(C42977=\"\",ISBLANK(C42977)),\"\",VLOOKUP(C42977,Sheet2!A:F,3,FALSE))","v":""},{"$f":"IF(OR(C42977=\"\",ISBLANK(C42977)),\"\",VLOOKUP(C42977,Sheet2!A:G,6,FALSE))","v":""},""]
[{"$f":"IF(OR(C43002=\"\",ISBLANK(C43002)),\"\",VLOOKUP(C43002,Sheet2!A:F,2,FALSE))","v":""},{"$f":"IF(OR(C43002=\"\",ISBLANK(C43002)),\"\",VLOOKUP(C43002,Sheet2!A:G,4,FALSE))","v":""},null,null,{"$f":"IF(OR(C43002=\"\",ISBLANK(C43002)),\"\",VLOOKUP(C43002,Sheet2!A:F,3,FALSE))","v":""},{"$f":"IF(OR(C43002=\"\",ISBLANK(C43002)),\"\",VLOOKUP(C43002,Sheet2!A:G,6,FALSE))","v":""},""]
[{"$f":"IF(OR(C43011=\"\",ISBLANK(C43011)),\"\",VLOOKUP(C43011,Sheet2!A:F,2,FALSE))","v":""},{"$f":"IF(OR(C43011=\"\",ISBLANK(C43011)),\"\",VLOOKUP(C43011,Sheet2!A:G,4,FALSE))","v":""},null,null,{"$f":"IF(OR(C43011=\"\",ISBLANK(C43011)),\"\",VLOOKUP(C43011,Sheet2!A:F,3,FALSE))","v":""},{"$f":"IF(OR(C43011=\"\",ISBLANK(C43011)),\"\",VLOOKUP(C43011,Sheet2!A:G,6,FALSE))","v":""},{"$f":"IF(F43011=0,\"\",F43011)","v":""}]
[{"$f":"IF(OR(C43044=\"\",ISBLANK(C43044)),\"\",VLOOKUP(C43044,Sheet2!A:F,2,FALSE))","v":""},{"$f":"IF(OR(C43044=\"\",ISBLANK(C43044)),\"\",VLOOKUP(C43044,Sheet2!A:G,4,FALSE))","v":""},null,null,{"$f":"IF(OR(C43044=\"\",ISBLANK(C43044)),\"\",VLOOKUP(C43044,Sheet2!A:F,3,FALSE))","v":""},{"$f":"IF(OR(C43044=\"\",ISBLANK(C43044)),\"\",VLOOKUP(C43044,Sheet2!A:G,6,FALSE))","v":""},""]
[{"$f":"IF(OR(C43069=\"\",ISBLANK(C43069)),\"\",VLOOKUP(C43069,Sheet2!A:F,2,FALSE))","v":""},{"$f":"IF(OR(C43069=\"\",ISBLANK(C43069)),\"\",VLOOKUP(C43069,Sheet2!A:G,4,FALSE))","v":""},null,null,{"$f":"IF(OR(C43069=\"\",ISBLANK(C43069)),\"\",VLOOKUP(C43069,Sheet2!A:F,3,FALSE))","v":""},{"$f":"IF(OR(C43069=\"\",ISBLANK(C43069)),\"\",VLOOKUP(C43069,Sheet2!A:G,6,FALSE))","v":""},""]
[{"$f":"IF(OR(C43078=\"\",ISBLANK(C43078)),\"\",VLOOKUP(C43078,Sheet2!A:F,2,FALSE))","v":""},{"$f":"IF(OR(C43078=\"\",ISBLANK(C43078)),\"\",VLOOKUP(C43078,Sheet2!A:G,4,FALSE))","v":""},null,null,{"$f":"IF(OR(C43078=\"\",ISBLANK(C43078)),\"\",VLOOKUP(C43078,Sheet2!A:F,3,FALSE))","v":""},{"$f":"IF(OR(C43078=\"\",ISBLANK(C43078)),\"\",VLOOKUP(C43078,Sheet2!A:G,6,FALSE))","v":""},""]
[{"$f":"IF(OR(C43111=\"\",ISBLANK(C43111)),\"\",VLOOKUP(C43111,Sheet2!A:F,2,FALSE))","v":""},{"$f":"IF(OR(C43111=\"\",ISBLANK(C43111)),\"\",VLOOKUP(C43111,Sheet2!A:G,4,FALSE))","v":""},null,null,{"$f":"IF(OR(C43111=\"\",ISBLANK(C43111)),\"\",VLOOKUP(C43111,Sheet2!A:F,3,FALSE))","v":""},{"$f":"IF(OR(C43111=\"\",ISBLANK(C43111)),\"\",VLOOKUP(C43111,Sheet2!A:G,6,FALSE))","v":""},""]
[{"$f":"IF(OR(C43131=\"\",ISBLANK(C43131)),\"\",VLOOKUP(C43131,Sheet2!A:F,2,FALSE))","v":""},{"$f":"IF(OR(C43131=\"\",ISBLANK(C43131)),\"\",VLOOKUP(C43131,Sheet2!A:G,4,FALSE))","v":""},null,null,{"$f":"IF(OR(C43131=\"\",ISBLANK(C43131)),\"\",VLOOKUP(C43131,Sheet2!A:F,3,FALSE))","v":""},{"$f":"IF(OR(C43131=\"\",ISBLANK(C43131)),\"\",VLOOKUP(C43131,Sheet2!A:G,6,FALSE))","v":""},""]
[{"$f":"IF(OR(C43168=\"\",ISBLANK(C43168)),\"\",VLOOKUP(C43168,Sheet2!A:F,2,FALSE))","v":""},{"$f":"IF(OR(C43168=\"\",ISBLANK(C43168)),\"\",VLOOKUP(C43168,Sheet2!A:G,4,FALSE))","v":""},null,null,{"$f":"IF(OR(C43168=\"\",ISBLANK(C43168)),\"\",VLOOKUP(C43168,Sheet2!A:F,3,FALSE))","v":""},{"$f":"IF(OR(C43168=\"\",ISBLANK(C43168)),\"\",VLOOKUP(C43168,Sheet2!A:G,6,FALSE))","v":""},""]
[{"$f":"IF(OR(C43193=\"\",ISBLANK(C43193)),\"\",VLOOKUP(C43193,Sheet2!A:F,2,FALSE))","v":""},{"$f":"IF(OR(C43193=\"\",ISBLANK(C43193)),\"\",VLOOKUP(C43193,Sheet2!A:G,4,FALSE))","v":""},null,null,{"$f":"IF(OR(C43193=\"\",ISBLANK(C43193)),\"\",VLOOKUP(C43193,Sheet2!A:F,3,FALSE))","v":""},{"$f":"IF(OR(C43193=\"\",ISBLANK(C43193)),\"\",VLOOKUP(C43193,Sheet2!A:G,6,FALSE))","v":""},""]
[{"$f":"IF(OR(C43202=\"\",ISBLANK(C43202)),\"\",VLOOKUP(C43202,Sheet2!A:F,2,FALSE))","v":""},{"$f":"IF(OR(C43202=\"\",ISBLANK(C43202)),\"\",VLOOKUP(C43202,Sheet2!A:G,4,FALSE))","v":""},null,null,{"$f":"IF(OR(C43202=\"\",ISBLANK(C43202)),\"\",VLOOKUP(C43202,Sheet2!A:F,3,FALSE))","v":""},{"$f":"IF(OR(C43202=\"\",ISBLANK(C43202)),\"\",VLOOKUP(C43202,Sheet2!A:G,6,FALSE))","v":""},""]
[{"$f":"IF(OR(C43235=\"\",ISBLANK(C43235)),\"\",VLOOKUP(C43235,Sheet2!A:F,2,FALSE))","v":""},{"$f":"IF(OR(C43235=\"\",ISBLANK(C43235)),\"\",VLOOKUP(C43235,Sheet2!A:G,4,FALSE))","v":""},null,null,{"$f":"IF(OR(C43235=\"\",ISBLANK(C43235)),\"\",VLOOKUP(C43235,Sheet2!A:F,3,FALSE))","v":""},{"$f":"IF(OR(C43235=\"\",ISBLANK(C43235)),\"\",VLOOKUP(C43235,Sheet2!A:G,6,FALSE))","v":""},""]
[{"$f":"IF(OR(C43260=\"\",ISBLANK(C43260)),\"\",VLOOKUP(C43260,Sheet2!A:F,2,FALSE))","v":""},{"$f":"IF(OR(C43260=\"\",ISBLANK(C43260)),\"\",VLOOKUP(C43260,Sheet2!A:G,4,FALSE))","v":""},null,null,{"$f":"IF(OR(C43260=\"\",ISBLANK(C43260)),\"\",VLOOKUP(C43260,Sheet2!A:F,3,FALSE))","v":""},{"$f":"IF(OR(C43260=\"\",ISBLANK(C43260)),\"\",VLOOKUP(C43260,Sheet2!A:G,6,FALSE))","v":""},""]
[{"$f":"IF(OR(C43269=\"\",ISBLANK(C43269)),\"\",VLOOKUP(C43269,Sheet2!A:F,2,FALSE))","v":""},{"$f":"IF(OR(C43269=\"\",ISBLANK(C43269)),\"\",VLOOKUP(C43269,Sheet2!A:G,4,FALSE))","v":""},null,null,{"$f":"IF(OR(C43269=\"\",ISBLANK(C43269)),\"\",VLOOKUP(C43269,Sheet2!A:F,3,FALSE))","v":""},{"$f":"IF(OR(C43269=\"\",ISBLANK(C43269)),\"\",VLOOKUP(C43269,Sheet2!A:G,6,FALSE))","v":""},""]
[{"$f":"IF(OR(C43294=\"\",ISBLANK(C43294)),\"\",VLOOKUP(C43294,Sheet2!A:F,2,FALSE))","v":""},{"$f":"IF(OR(C43294=\"\",ISBLANK(C43294)),\"\",VLOOKUP(C43294,Sheet2!A:G,4,FALSE))","v":""},null,null,{"$f":"IF(OR(C43294=\"\",ISBLANK(C43294)),\"\",VLOOKUP(C43294,Sheet2!A:F,3,FALSE))","v":""},{"$f":"IF(OR(C43294=\"\",ISBLANK(C43294)),\"\",VLOOKUP(C43294,Sheet2!A:G,6,FALSE))","v":""},""]
[{"$f":"IF(OR(C43327=\"\",ISBLANK(C43327)),\"\",VLOOKUP(C43327,Sheet2!A:F,2,FALSE))","v":""},{"$f":"IF(OR(C43327=\"\",ISBLANK(C43327)),\"\",VLOOKUP(C43327,Sheet2!A:G,4,FALSE))","v":""},null,null,{"$f":"IF(OR(C43327=\"\",ISBLANK(C43327)),\"\",VLOOKUP(C43327,Sheet2!A:F,3,FALSE))","v":""},{"$f":"IF(OR(C43327=\"\",ISBLANK(C43327)),\"\",VLOOKUP(C43327,Sheet2!A:G,6,FALSE))","v":""},""]
[{"$f":"IF(OR(C43350=\"\",ISBLANK(C43350)),\"\",VLOOKUP(C43350,Sheet2!A:F,2,FALSE))","v":""},{"$f":"IF(OR(C43350=\"\",ISBLANK(C43350)),\"\",VLOOKUP(C43350,Sheet2!A:G,4,FALSE))","v":""},null,null,{"$f":"IF(OR(C43350=\"\",ISBLANK(C43350)),\"\",VLOOKUP(C43350,Sheet2!A:F,3,FALSE))","v":""},{"$f":"IF(OR(C43350=\"\",ISBLANK(C43350)),\"\",VLOOKUP(C43350,Sheet2!A:G,6,FALSE))","v":""},""]
[{"$f":"IF(OR(C43384=\"\",ISBLANK(C43384)),\"\",VLOOKUP(C43384,Sheet2!A:F,2,FALSE))","v":""},{"$f":"IF(OR(C43384=\"\",ISBLANK(C43384)),\"\",VLOOKUP(C43384,Sheet2!A:G,4,FALSE))","v":""},null,null,{"$f":"IF(OR(C43384=\"\",ISBLANK(C43384)),\"\",VLOOKUP(C43384,Sheet2!A:F,3,FALSE))","v":""},{"$f":"IF(OR(C43384=\"\",ISBLANK(C43384)),\"\",VLOOKUP(C43384,Sheet2!A:G,6,FALSE))","v":""},""]
[{"$f":"IF(OR(C43393=\"\",ISBLANK(C43393)),\"\",VLOOKUP(C43393,Sheet2!A:F,2,FALSE))","v":""},{"$f":"IF(OR(C43393=\"\",ISBLANK(C43393)),\"\",VLOOKUP(C43393,Sheet2!A:G,4,FALSE))","v":""},null,null,{"$f":"IF(OR(C43393=\"\",ISBLANK(C43393)),\"\",VLOOKUP(C43393,Sheet2!A:F,3,FALSE))","v":""},{"$f":"IF(OR(C43393=\"\",ISBLANK(C43393)),\"\",VLOOKUP(C43393,Sheet2!A:G,6,FALSE))","v":""},""]
[{"$f":"IF(OR(C43426=\"\",ISBLANK(C43426)),\"\",VLOOKUP(C43426,Sheet2!A:F,2,FALSE))","v":""},{"$f":"IF(OR(C43426=\"\",ISBLANK(C43426)),\"\",VLOOKUP(C43426,Sheet2!A:G,4,FALSE))","v":""},null,null,{"$f":"IF(OR(C43426=\"\",ISBLANK(C43426)),\"\",VLOOKUP(C43426,Sheet2!A:F,3,FALSE))","v":""},{"$f":"IF(OR(C43426=\"\",ISBLANK(C43426)),\"\",VLOOKUP(C43426,Sheet2!A:G,6,FALSE))","v":""},""]
[{"$f":"IF(OR(C43451=\"\",ISBLANK(C43451)),\"\",VLOOKUP(C43451,Sheet2!A:F,2,FALSE))","v":""},{"$f":"IF(OR(C43451=\"\",ISBLANK(C43451)),\"\",VLOOKUP(C43451,Sheet2!A:G,4,FALSE))","v":""},null,null,{"$f":"IF(OR(C43451=\"\",ISBLANK(C43451)),\"\",VLOOKUP(C43451,Sheet2!A:F,3,FALSE))","v":""},{"$f":"IF(OR(C43451=\"\",ISBLANK(C43451)),\"\",VLOOKUP(C43451,Sheet2!A:G,6,FALSE))","v":""},""]
[{"$f":"IF(OR(C43460=\"\",ISBLANK(C43460)),\"\",VLOOKUP(C43460,Sheet2!A:F,2,FALSE))","v":""},{"$f":"IF(OR(C43460=\"\",ISBLANK(C43460)),\"\",VLOOKUP(C43460,Sheet2!A:G,4,FALSE))","v":""},null,null,{"$f":"IF(OR(C43460=\"\",ISBLANK(C43460)),\"\",VLOOKUP(C43460,Sheet2!A:F,3,FALSE))","v":""},{"$f":"IF(OR(C43460=\"\",ISBLANK(C43460)),\"\",VLOOKUP(C43460,Sheet2!A:G,6,FALSE))","v":""},""]
[{"$f":"IF(OR(C43485=\"\",ISBLANK(C43485)),\"\",VLOOKUP(C43485,Sheet2!A:F,2,FALSE))","v":""},{"$f":"IF(OR(C43485=\"\",ISBLANK(C43485)),\"\",VLOOKUP(C43485,Sheet2!A:G,4,FALSE))","v":""},null,null,{"$f":"IF(OR(C43485=\"\",ISBLANK(C43485)),\"\",VLOOKUP(C43485,Sheet2!A:F,3,FALSE))","v":""},{"$f":"IF(OR(C43485=\"\",ISBLANK(C43485)),\"\",VLOOKUP(C43485,Sheet2!A:G,6,FALSE))","v":""},""]
[{"$f":"IF(OR(C43518=\"\",ISBLANK(C43518)),\"\",VLOOKUP(C43518,Sheet2!A:F,2,FALSE))","v":""},{"$f":"IF(OR(C43518=\"\",ISBLANK(C43518)),\"\",VLOOKUP(C43518,Sheet2!A:G,4,FALSE))","v":""},null,null,{"$f":"IF(OR(C43518=\"\",ISBLANK(C43518)),\"\",VLOOKUP(C43518,Sheet2!A:F,3,FALSE))","v":""},{"$f":"IF(OR(C43518=\"\",ISBLANK(C43518)),\"\",VLOOKUP(C43518,Sheet2!A:G,6,FALSE))","v":""},""]
[{"$f":"IF(OR(C43551=\"\",ISBLANK(C43551)),\"\",VLOOKUP(C43551,Sheet2!A:F,2,FALSE))","v":""},{"$f":"IF(OR(C43551=\"\",ISBLANK(C43551)),\"\",VLOOKUP(C43551,Sheet2!A:G,4,FALSE))","v":""},null,null,{"$f":"IF(OR(C43551=\"\",ISBLANK(C43551)),\"\",VLOOKUP(C43551,Sheet2!A:F,3,FALSE))","v":""},{"$f":"IF(OR(C43551=\"\",ISBLANK(C43551)),\"\",VLOOKUP(C43551,Sheet2!A:G,6,FALSE))","v":""},""]
[{"$f":"IF(OR(C43576=\"\",ISBLANK(C43576)),\"\",VLOOKUP(C43576,Sheet2!A:F,2,FALSE))","v":""},{"$f":"IF(OR(C43576=\"\",ISBLANK(C43576)),\"\",VLOOKUP(C43576,Sheet2!A:G,4,FALSE))","v":""},null,null,{"$f":"IF(OR(C43576=\"\",ISBLANK(C43576)),\"\",VLOOKUP(C43576,Sheet2!A:F,3,FALSE))","v":""},{"$f":"IF(OR(C43576=\"\",ISBLANK(C43576)),\"\",VLOOKUP(C43576,Sheet2!A:G,6,FALSE))","v":""},""]
[{"$f":"IF(OR(C43581=\"\",ISBLANK(C43581)),\"\",VLOOKUP(C43581,Sheet2!A:F,2,FALSE))","v":""},{"$f":"IF(OR(C43581=\"\",ISBLANK(C43581)),\"\",VLOOKUP(C43581,Sheet2!A:G,4,FALSE))","v":""},null,null,{"$f":"IF(OR(C43581=\"\",ISBLANK(C43581)),\"\",VLOOKUP(C43581,Sheet2!A:F,3,FALSE))","v":""},{"$f":"IF(OR(C43581=\"\",ISBLANK(C43581)),\"\",VLOOKUP(C43581,Sheet2!A:G,6,FALSE))","v":""},""]
[{"$f":"IF(OR(C43609=\"\",ISBLANK(C43609)),\"\",VLOOKUP(C43609,Sheet2!A:F,2,FALSE))","v":""},{"$f":"IF(OR(C43609=\"\",ISBLANK(C43609)),\"\",VLOOKUP(C43609,Sheet2!A:G,4,FALSE))","v":""},null,null,{"$f":"IF(OR(C43609=\"\",ISBLANK(C43609)),\"\",VLOOKUP(C43609,Sheet2!A:F,3,FALSE))","v":""},{"$f":"IF(OR(C43609=\"\",ISBLANK(C43609)),\"\",VLOOKUP(C43609,Sheet2!A:G,6,FALSE))","v":""},""]
[{"$f":"IF(OR(C43642=\"\",ISBLANK(C43642)),\"\",VLOOKUP(C43642,Sheet2!A:F,2,FALSE))","v":""},{"$f":"IF(OR(C43642=\"\",ISBLANK(C43642)),\"\",VLOOKUP(C43642,Sheet2!A:G,4,FALSE))","v":""},null,null,{"$f":"IF(OR(C43642=\"\",ISBLANK(C43642)),\"\",VLOOKUP(C43642,Sheet2!A:F,3,FALSE))","v":""},{"$f":"IF(OR(C43642=\"\",ISBLANK(C43642)),\"\",VLOOKUP(C43642,Sheet2!A:G,6,FALSE))","v":""},""]
[{"$f":"IF(OR(C43651=\"\",ISBLANK(C43651)),\"\",VLOOKUP(C43651,Sheet2!A:F,2,FALSE))","v":""},{"$f":"IF(OR(C43651=\"\",ISBLANK(C43651)),\"\",VLOOKUP(C43651,Sheet2!A:G,4,FALSE))","v":""},null,null,{"$f":"IF(OR(C43651=\"\",ISBLANK(C43651)),\"\",VLOOKUP(C43651,Sheet2!A:F,3,FALSE))","v":""},{"$f":"IF(OR(C43651=\"\",ISBLANK(C43651)),\"\",VLOOKUP(C43651,Sheet2!A:G,6,FALSE))","v":""},{"$f":"IF(F43651=0,\"\",F43651)","v":""}]
[{"$f":"IF(OR(C43676=\"\",ISBLANK(C43676)),\"\",VLOOKUP(C43676,Sheet2!A:F,2,FALSE))","v":""},{"$f":"IF(OR(C43676=\"\",ISBLANK(C43676)),\"\",VLOOKUP(C43676,Sheet2!A:G,4,FALSE))","v":""},null,null,{"$f":"IF(OR(C43676=\"\",ISBLANK(C43676)),\"\",VLOOKUP(C43676,Sheet2!A:F,3,FALSE))","v":""},{"$f":"IF(OR(C43676=\"\",ISBLANK(C43676)),\"\",VLOOKUP(C43676,Sheet2!A:G,6,FALSE))","v":""},""]
[{"$f":"IF(OR(C43709=\"\",ISBLANK(C43709)),\"\",VLOOKUP(C43709,Sheet2!A:F,2,FALSE))","v":""},{"$f":"IF(OR(C43709=\"\",ISBLANK(C43709)),\"\",VLOOKUP(C43709,Sheet2!A:G,4,FALSE))","v":""},null,null,{"$f":"IF(OR(C43709=\"\",ISBLANK(C43709)),\"\",VLOOKUP(C43709,Sheet2!A:F,3,FALSE))","v":""},{"$f":"IF(OR(C43709=\"\",ISBLANK(C43709)),\"\",VLOOKUP(C43709,Sheet2!A:G,6,FALSE))","v":""},""]
[{"$f":"IF(OR(C43742=\"\",ISBLANK(C43742)),\"\",VLOOKUP(C43742,Sheet2!A:F,2,FALSE))","v":""},{"$f":"IF(OR(C43742=\"\",ISBLANK(C43742)),\"\",VLOOKUP(C43742,Sheet2!A:G,4,FALSE))","v":""},null,null,{"$f":"IF(OR(C43742=\"\",ISBLANK(C43742)),\"\",VLOOKUP(C43742,Sheet2!A:F,3,FALSE))","v":""},{"$f":"IF(OR(C43742=\"\",ISBLANK(C43742)),\"\",VLOOKUP(C43742,Sheet2!A:G,6,FALSE))","v":""},""]
[{"$f":"IF(OR(C43767=\"\",ISBLANK(C43767)),\"\",VLOOKUP(C43767,Sheet2!A:F,2,FALSE))","v":""},{"$f":"IF(OR(C43767=\"\",ISBLANK(C43767)),\"\",VLOOKUP(C43767,Sheet2!A:G,4,FALSE))","v":""},null,null,{"$f":"IF(OR(C43767=\"\",ISBLANK(C43767)),\"\",VLOOKUP(C43767,Sheet2!A:F,3,FALSE))","v":""},{"$f":"IF(OR(C43767=\"\",ISBLANK(C43767)),\"\",VLOOKUP(C43767,Sheet2!A:G,6,FALSE))","v":""},""]
[{"$f":"IF(OR(C43776=\"\",ISBLANK(C43776)),\"\",VLOOKUP(C43776,Sheet2!A:F,2,FALSE))","v":""},{"$f":"IF(OR(C43776=\"\",ISBLANK(C43776)),\"\",VLOOKUP(C43776,Sheet2!A:G,4,FALSE))","v":""},null,null,{"$f":"IF(OR(C43776=\"\",ISBLANK(C43776)),\"\",VLOOKUP(C43776,Sheet2!A:F,3,FALSE))","v":""},{"$f":"IF(OR(C43776=\"\",ISBLANK(C43776)),\"\",VLOOKUP(C43776,Sheet2!A:G,6,FALSE))","v":""},""]
[{"$f":"IF(OR(C43801=\"\",ISBLANK(C43801)),\"\",VLOOKUP(C43801,Sheet2!A:F,2,FALSE))","v":""},{"$f":"IF(OR(C43801=\"\",ISBLANK(C43801)),\"\",VLOOKUP(C43801,Sheet2!A:G,4,FALSE))","v":""},null,null,{"$f":"IF(OR(C43801=\"\",ISBLANK(C43801)),\"\",VLOOKUP(C43801,Sheet2!A:F,3,FALSE))","v":""},{"$f":"IF(OR(C43801=\"\",ISBLANK(C43801)),\"\",VLOOKUP(C43801,Sheet2!A:G,6,FALSE))","v":""},""]
[{"$f":"IF(OR(C43835=\"\",ISBLANK(C43835)),\"\",VLOOKUP(C43835,Sheet2!A:F,2,FALSE))","v":""},{"$f":"IF(OR(C43835=\"\",ISBLANK(C43835)),\"\",VLOOKUP(C43835,Sheet2!A:G,4,FALSE))","v":""},null,null,{"$f":"IF(OR(C43835=\"\",ISBLANK(C43835)),\"\",VLOOKUP(C43835,Sheet2!A:F,3,FALSE))","v":""},{"$f":"IF(OR(C43835=\"\",ISBLANK(C43835)),\"\",VLOOKUP(C43835,Sheet2!A:G,6,FALSE))","v":""},""]
[{"$f":"IF(OR(C43842=\"\",ISBLANK(C43842)),\"\",VLOOKUP(C43842,Sheet2!A:F,2,FALSE))","v":""},{"$f":"IF(OR(C43842=\"\",ISBLANK(C43842)),\"\",VLOOKUP(C43842,Sheet2!A:G,4,FALSE))","v":""},null,null,{"$f":"IF(OR(C43842=\"\",ISBLANK(C43842)),\"\",VLOOKUP(C43842,Sheet2!A:F,3,FALSE))","v":""},{"$f":"IF(OR(C43842=\"\",ISBLANK(C43842)),\"\",VLOOKUP(C43842,Sheet2!A:G,6,FALSE))","v":""},""]
[{"$f":"IF(OR(C43867=\"\",ISBLANK(C43867)),\"\",VLOOKUP(C43867,Sheet2!A:F,2,FALSE))","v":""},{"$f":"IF(OR(C43867=\"\",ISBLANK(C43867)),\"\",VLOOKUP(C43867,Sheet2!A:G,4,FALSE))","v":""},null,null,{"$f":"IF(OR(C43867=\"\",ISBLANK(C43867)),\"\",VLOOKUP(C43867,Sheet2!A:F,3,FALSE))","v":""},{"$f":"IF(OR(C43867=\"\",ISBLANK(C43867)),\"\",VLOOKUP(C43867,Sheet2!A:G,6,FALSE))","v":""},""]
[{"$f":"IF(OR(C43900=\"\",ISBLANK(C43900)),\"\",VLOOKUP(C43900,Sheet2!A:F,2,FALSE))","v":""},{"$f":"IF(OR(C43900=\"\",ISBLANK(C43900)),\"\",VLOOKUP(C43900,Sheet2!A:G,4,FALSE))","v":""},null,null,{"$f":"IF(OR(C43900=\"\",ISBLANK(C43900)),\"\",VLOOKUP(C43900,Sheet2!A:F,3,FALSE))","v":""},{"$f":"IF(OR(C43900=\"\",ISBLANK(C43900)),\"\",VLOOKUP(C43900,Sheet2!A:G,6,FALSE))","v":""},""]
[{"$f":"IF(OR(C43933=\"\",ISBLANK(C43933)),\"\",VLOOKUP(C43933,Sheet2!A:F,2,FALSE))","v":""},{"$f":"IF(OR(C43933=\"\",ISBLANK(C43933)),\"\",VLOOKUP(C43933,Sheet2!A:G,4,FALSE))","v":""},null,null,{"$f":"IF(OR(C43933=\"\",ISBLANK(C43933)),\"\",VLOOKUP(C43933,Sheet2!A:F,3,FALSE))","v":""},{"$f":"IF(OR(C43933=\"\",ISBLANK(C43933)),\"\",VLOOKUP(C43933,Sheet2!A:G,6,FALSE))","v":""},""]
[{"$f":"IF(OR(C43958=\"\",ISBLANK(C43958)),\"\",VLOOKUP(C43958,Sheet2!A:F,2,FALSE))","v":""},{"$f":"IF(OR(C43958=\"\",ISBLANK(C43958)),\"\",VLOOKUP(C43958,Sheet2!A:G,4,FALSE))","v":""},null,null,{"$f":"IF(OR(C43958=\"\",ISBLANK(C43958)),\"\",VLOOKUP(C43958,Sheet2!A:F,3,FALSE))","v":""},{"$f":"IF(OR(C43958=\"\",ISBLANK(C43958)),\"\",VLOOKUP(C43958,Sheet2!A:G,6,FALSE))","v":""},""]
[{"$f":"IF(OR(C43967=\"\",ISBLANK(C43967)),\"\",VLOOKUP(C43967,Sheet2!A:F,2,FALSE))","v":""},{"$f":"IF(OR(C43967=\"\",ISBLANK(C43967)),\"\",VLOOKUP(C43967,Sheet2!A:G,4,FALSE))","v":""},null,null,{"$f":"IF(OR(C43967=\"\",ISBLANK(C43967)),\"\",VLOOKUP(C43967,Sheet2!A:F,3,FALSE))","v":""},{"$f":"IF(OR(C43967=\"\",ISBLANK(C43967)),\"\",VLOOKUP(C43967,Sheet2!A:G,6,FALSE))","v":""},""]
[{"$f":"IF(OR(C43992=\"\",ISBLANK(C43992)),\"\",VLOOKUP(C43992,Sheet2!A:F,2,FALSE))","v":""},{"$f":"IF(OR(C43992=\"\",ISBLANK(C43992)),\"\",VLOOKUP(C43992,Sheet2!A:G,4,FALSE))","v":""},null,null,{"$f":"IF(OR(C43992=\"\",ISBLANK(C43992)),\"\",VLOOKUP(C43992,Sheet2!A:F,3,FALSE))","v":""},{"$f":"IF(OR(C43992=\"\",ISBLANK(C43992)),\"\",VLOOKUP(C43992,Sheet2!A:G,6,FALSE))","v":""},""]
[{"$f":"IF(OR(C44025=\"\",ISBLANK(C44025)),\"\",VLOOKUP(C44025,Sheet2!A:F,2,FALSE))","v":""},{"$f":"IF(OR(C44025=\"\",ISBLANK(C44025)),\"\",VLOOKUP(C44025,Sheet2!A:G,4,FALSE))","v":""},null,null,{"$f":"IF(OR(C44025=\"\",ISBLANK(C44025)),\"\",VLOOKUP(C44025,Sheet2!A:F,3,FALSE))","v":""},{"$f":"IF(OR(C44025=\"\",ISBLANK(C44025)),\"\",VLOOKUP(C44025,Sheet2!A:G,6,FALSE))","v":""},""]
[{"$f":"IF(OR(C44054=\"\",ISBLANK(C44054)),\"\",VLOOKUP(C44054,Sheet2!A:F,2,FALSE))","v":""},{"$f":"IF(OR(C44054=\"\",ISBLANK(C44054)),\"\",VLOOKUP(C44054,Sheet2!A:G,4,FALSE))","v":""},null,null,{"$f":"IF(OR(C44054=\"\",ISBLANK(C44054)),\"\",VLOOKUP(C44054,Sheet2!A:F,3,FALSE))","v":""},{"$f":"IF(OR(C44054=\"\",ISBLANK(C44054)),\"\",VLOOKUP(C44054,Sheet2!A:G,6,FALSE))","v":""},""]
[{"$f":"IF(OR(C44058=\"\",ISBLANK(C44058)),\"\",VLOOKUP(C44058,Sheet2!A:F,2,FALSE))","v":""},{"$f":"IF(OR(C44058=\"\",ISBLANK(C44058)),\"\",VLOOKUP(C44058,Sheet2!A:G,4,FALSE))","v":""},null,null,{"$f":"IF(OR(C44058=\"\",ISBLANK(C44058)),\"\",VLOOKUP(C44058,Sheet2!A:F,3,FALSE))","v":""},{"$f":"IF(OR(C44058=\"\",ISBLANK(C44058)),\"\",VLOOKUP(C44058,Sheet2!A:G,6,FALSE))","v":""},""]
[{"$f":"IF(OR(C44091=\"\",ISBLANK(C44091)),\"\",VLOOKUP(C44091,Sheet2!A:F,2,FALSE))","v":""},{"$f":"IF(OR(C44091=\"\",ISBLANK(C44091)),\"\",VLOOKUP(C44091,Sheet2!A:G,4,FALSE))","v":""},null,null,{"$f":"IF(OR(C44091=\"\",ISBLANK(C44091)),\"\",VLOOKUP(C44091,Sheet2!A:F,3,FALSE))","v":""},{"$f":"IF(OR(C44091=\"\",ISBLANK(C44091)),\"\",VLOOKUP(C44091,Sheet2!A:G,6,FALSE))","v":""},""]
[{"$f":"IF(OR(C44116=\"\",ISBLANK(C44116)),\"\",VLOOKUP(C44116,Sheet2!A:F,2,FALSE))","v":""},{"$f":"IF(OR(C44116=\"\",ISBLANK(C44116)),\"\",VLOOKUP(C44116,Sheet2!A:G,4,FALSE))","v":""},null,null,{"$f":"IF(OR(C44116=\"\",ISBLANK(C44116)),\"\",VLOOKUP(C44116,Sheet2!A:F,3,FALSE))","v":""},{"$f":"IF(OR(C44116=\"\",ISBLANK(C44116)),\"\",VLOOKUP(C44116,Sheet2!A:G,6,FALSE))","v":""},""]
[{"$f":"IF(OR(C44149=\"\",ISBLANK(C44149)),\"\",VLOOKUP(C44149,Sheet2!A:F,2,FALSE))","v":""},{"$f":"IF(OR(C44149=\"\",ISBLANK(C44149)),\"\",VLOOKUP(C44149,Sheet2!A:G,4,FALSE))","v":""},null,null,{"$f":"IF(OR(C44149=\"\",ISBLANK(C44149)),\"\",VLOOKUP(C44149,Sheet2!A:F,3,FALSE))","v":""},{"$f":"IF(OR(C44149=\"\",ISBLANK(C44149)),\"\",VLOOKUP(C44149,Sheet2!A:G,6,FALSE))","v":""},""]
[{"$f":"IF(OR(C44158=\"\",ISBLANK(C44158)),\"\",VLOOKUP(C44158,Sheet2!A:F,2,FALSE))","v":""},{"$f":"IF(OR(C44158=\"\",ISBLANK(C44158)),\"\",VLOOKUP(C44158,Sheet2!A:G,4,FALSE))","v":""},null,null,{"$f":"IF(OR(C44158=\"\",ISBLANK(C44158)),\"\",VLOOKUP(C44158,Sheet2!A:F,3,FALSE))","v":""},{"$f":"IF(OR(C44158=\"\",ISBLANK(C44158)),\"\",VLOOKUP(C44158,Sheet2!A:G,6,FALSE))","v":""},""]
[{"$f":"IF(OR(C44183=\"\",ISBLANK(C44183)),\"\",VLOOKUP(C44183,Sheet2!A:F,2,FALSE))","v":""},{"$f":"IF(OR(C44183=\"\",ISBLANK(C44183)),\"\",VLOOKUP(C44183,Sheet2!A:G,4,FALSE))","v":""},null,null,{"$f":"IF(OR(C44183=\"\",ISBLANK(C44183)),\"\",VLOOKUP(C44183,Sheet2!A:F,3,FALSE))","v":""},{"$f":"IF(OR(C44183=\"\",ISBLANK(C44183)),\"\",VLOOKUP(C44183,Sheet2!A:G,6,FALSE))","v":""},""]
[{"$f":"IF(OR(C44216=\"\",ISBLANK(C44216)),\"\",VLOOKUP(C44216,Sheet2!A:F,2,FALSE))","v":""},{"$f":"IF(OR(C44216=\"\",ISBLANK(C44216)),\"\",VLOOKUP(C44216,Sheet2!A:G,4,FALSE))","v":""},null,null,{"$f":"IF(OR(C44216=\"\",ISBLANK(C44216)),\"\",VLOOKUP(C44216,Sheet2!A:F,3,FALSE))","v":""},{"$f":"IF(OR(C44216=\"\",ISBLANK(C44216)),\"\",VLOOKUP(C44216,Sheet2!A:G,6,FALSE))","v":""},""]
[{"$f":"IF(OR(C44225=\"\",ISBLANK(C44225)),\"\",VLOOKUP(C44225,Sheet2!A:F,2,FALSE))","v":""},{"$f":"IF(OR(C44225=\"\",ISBLANK(C44225)),\"\",VLOOKUP(C44225,Sheet2!A:G,4,FALSE))","v":""},null,null,{"$f":"IF(OR(C44225=\"\",ISBLANK(C44225)),\"\",VLOOKUP(C44225,Sheet2!A:F,3,FALSE))","v":""},{"$f":"IF(OR(C44225=\"\",ISBLANK(C44225)),\"\",VLOOKUP(C44225,Sheet2!A:G,6,FALSE))","v":""},""]
[{"$f":"IF(OR(C44250=\"\",ISBLANK(C44250)),\"\",VLOOKUP(C44250,Sheet2!A:F,2,FALSE))","v":""},{"$f":"IF(OR(C44250=\"\",ISBLANK(C44250)),\"\",VLOOKUP(C44250,Sheet2!A:G,4,FALSE))","v":""},null,null,{"$f":"IF(OR(C44250=\"\",ISBLANK(C44250)),\"\",VLOOKUP(C44250,Sheet2!A:F,3,FALSE))","v":""},{"$f":"IF(OR(C44250=\"\",ISBLANK(C44250)),\"\",VLOOKUP(C44250,Sheet2!A:G,6,FALSE))","v":""},""]
[{"$f":"IF(OR(C44285=\"\",ISBLANK(C44285)),\"\",VLOOKUP(C44285,Sheet2!A:F,2,FALSE))","v":""},{"$f":"IF(OR(C44285=\"\",ISBLANK(C44285)),\"\",VLOOKUP(C44285,Sheet2!A:G,4,FALSE))","v":""},null,null,{"$f":"IF(OR(C44285=\"\",ISBLANK(C44285)),\"\",VLOOKUP(C44285,Sheet2!A:F,3,FALSE))","v":""},{"$f":"IF(OR(C44285=\"\",ISBLANK(C44285)),\"\",VLOOKUP(C44285,Sheet2!A:G,6,FALSE))","v":""},""]
[{"$f":"IF(OR(C44307=\"\",ISBLANK(C44307)),\"\",VLOOKUP(C44307,Sheet2!A:F,2,FALSE))","v":""},{"$f":"IF(OR(C44307=\"\",ISBLANK(C44307)),\"\",VLOOKUP(C44307,Sheet2!A:G,4,FALSE))","v":""},null,null,{"$f":"IF(OR(C44307=\"\",ISBLANK(C44307)),\"\",VLOOKUP(C44307,Sheet2!A:F,3,FALSE))","v":""},{"$f":"IF(OR(C44307=\"\",ISBLANK(C44307)),\"\",VLOOKUP(C44307,Sheet2!A:G,6,FALSE))","v":""},""]
[{"$f":"IF(OR(C44340=\"\",ISBLANK(C44340)),\"\",VLOOKUP(C44340,Sheet2!A:F,2,FALSE))","v":""},{"$f":"IF(OR(C44340=\"\",ISBLANK(C44340)),\"\",VLOOKUP(C44340,Sheet2!A:G,4,FALSE))","v":""},null,null,{"$f":"IF(OR(C44340=\"\",ISBLANK(C44340)),\"\",VLOOKUP(C44340,Sheet2!A:F,3,FALSE))","v":""},{"$f":"IF(OR(C44340=\"\",ISBLANK(C44340)),\"\",VLOOKUP(C44340,Sheet2!A:G,6,FALSE))","v":""},""]
[{"$f":"IF(OR(C44349=\"\",ISBLANK(C44349)),\"\",VLOOKUP(C44349,Sheet2!A:F,2,FALSE))","v":""},{"$f":"IF(OR(C44349=\"\",ISBLANK(C44349)),\"\",VLOOKUP(C44349,Sheet2!A:G,4,FALSE))","v":""},null,null,{"$f":"IF(OR(C44349=\"\",ISBLANK(C44349)),\"\",VLOOKUP(C44349,Sheet2!A:F,3,FALSE))","v":""},{"$f":"IF(OR(C44349=\"\",ISBLANK(C44349)),\"\",VLOOKUP(C44349,Sheet2!A:G,6,FALSE))","v":""},""]
[{"$f":"IF(OR(C44374=\"\",ISBLANK(C44374)),\"\",VLOOKUP(C44374,Sheet2!A:F,2,FALSE))","v":""},{"$f":"IF(OR(C44374=\"\",ISBLANK(C44374)),\"\",VLOOKUP(C44374,Sheet2!A:G,4,FALSE))","v":""},null,null,{"$f":"IF(OR(C44374=\"\",ISBLANK(C44374)),\"\",VLOOKUP(C44374,Sheet2!A:F,3,FALSE))","v":""},{"$f":"IF(OR(C44374=\"\",ISBLANK(C44374)),\"\",VLOOKUP(C44374,Sheet2!A:G,6,FALSE))","v":""},""]
[{"$f":"IF(OR(C44407=\"\",ISBLANK(C44407)),\"\",VLOOKUP(C44407,Sheet2!A:F,2,FALSE))","v":""},{"$f":"IF(OR(C44407=\"\",ISBLANK(C44407)),\"\",VLOOKUP(C44407,Sheet2!A:G,4,FALSE))","v":""},null,null,{"$f":"IF(OR(C44407=\"\",ISBLANK(C44407)),\"\",VLOOKUP(C44407,Sheet2!A:F,3,FALSE))","v":""},{"$f":"IF(OR(C44407=\"\",ISBLANK(C44407)),\"\",VLOOKUP(C44407,Sheet2!A:G,6,FALSE))","v":""},""]
[{"$f":"IF(OR(C44416=\"\",ISBLANK(C44416)),\"\",VLOOKUP(C44416,Sheet2!A:F,2,FALSE))","v":""},{"$f":"IF(OR(C44416=\"\",ISBLANK(C44416)),\"\",VLOOKUP(C44416,Sheet2!A:G,4,FALSE))","v":""},null,null,{"$f":"IF(OR(C44416=\"\",ISBLANK(C44416)),\"\",VLOOKUP(C44416,Sheet2!A:F,3,FALSE))","v":""},{"$f":"IF(OR(C44416=\"\",ISBLANK(C44416)),\"\",VLOOKUP(C44416,Sheet2!A:G,6,FALSE))","v":""},""]
[{"$f":"IF(OR(C44441=\"\",ISBLANK(C44441)),\"\",VLOOKUP(C44441,Sheet2!A:F,2,FALSE))","v":""},{"$f":"IF(OR(C44441=\"\",ISBLANK(C44441)),\"\",VLOOKUP(C44441,Sheet2!A:G,4,FALSE))","v":""},null,null,{"$f":"IF(OR(C44441=\"\",ISBLANK(C44441)),\"\",VLOOKUP(C44441,Sheet2!A:F,3,FALSE))","v":""},{"$f":"IF(OR(C44441=\"\",ISBLANK(C44441)),\"\",VLOOKUP(C44441,Sheet2!A:G,6,FALSE))","v":""},""]
[{"$f":"IF(OR(C44474=\"\",ISBLANK(C44474)),\"\",VLOOKUP(C44474,Sheet2!A:F,2,FALSE))","v":""},{"$f":"IF(OR(C44474=\"\",ISBLANK(C44474)),\"\",VLOOKUP(C44474,Sheet2!A:G,4,FALSE))","v":""},null,null,{"$f":"IF(OR(C44474=\"\",ISBLANK(C44474)),\"\",VLOOKUP(C44474,Sheet2!A:F,3,FALSE))","v":""},{"$f":"IF(OR(C44474=\"\",ISBLANK(C44474)),\"\",VLOOKUP(C44474,Sheet2!A:G,6,FALSE))","v":""},""]
[{"$f":"IF(OR(C44493=\"\",ISBLANK(C44493)),\"\",VLOOKUP(C44493,Sheet2!A:F,2,FALSE))","v":""},{"$f":"IF(OR(C44493=\"\",ISBLANK(C44493)),\"\",VLOOKUP(C44493,Sheet2!A:G,4,FALSE))","v":""},null,null,{"$f":"IF(OR(C44493=\"\",ISBLANK(C44493)),\"\",VLOOKUP(C44493,Sheet2!A:F,3,FALSE))","v":""},{"$f":"IF(OR(C44493=\"\",ISBLANK(C44493)),\"\",VLOOKUP(C44493,Sheet2!A:G,6,FALSE))","v":""},""]
[{"$f":"IF(OR(C44531=\"\",ISBLANK(C44531)),\"\",VLOOKUP(C44531,Sheet2!A:F,2,FALSE))","v":""},{"$f":"IF(OR(C44531=\"\",ISBLANK(C44531)),\"\",VLOOKUP(C44531,Sheet2!A:G,4,FALSE))","v":""},null,null,{"$f":"IF(OR(C44531=\"\",ISBLANK(C44531)),\"\",VLOOKUP(C44531,Sheet2!A:F,3,FALSE))","v":""},{"$f":"IF(OR(C44531=\"\",ISBLANK(C44531)),\"\",VLOOKUP(C44531,Sheet2!A:G,6,FALSE))","v":""},""]
[{"$f":"IF(OR(C44540=\"\",ISBLANK(C44540)),\"\",VLOOKUP(C44540,Sheet2!A:F,2,FALSE))","v":""},{"$f":"IF(OR(C44540=\"\",ISBLANK(C44540)),\"\",VLOOKUP(C44540,Sheet2!A:G,4,FALSE))","v":""},null,null,{"$f":"IF(OR(C44540=\"\",ISBLANK(C44540)),\"\",VLOOKUP(C44540,Sheet2!A:F,3,FALSE))","v":""},{"$f":"IF(OR(C44540=\"\",ISBLANK(C44540)),\"\",VLOOKUP(C44540,Sheet2!A:G,6,FALSE))","v":""},""]
[{"$f":"IF(OR(C44565=\"\",ISBLANK(C44565)),\"\",VLOOKUP(C44565,Sheet2!A:F,2,FALSE))","v":""},{"$f":"IF(OR(C44565=\"\",ISBLANK(C44565)),\"\",VLOOKUP(C44565,Sheet2!A:G,4,FALSE))","v":""},null,null,{"$f":"IF(OR(C44565=\"\",ISBLANK(C44565)),\"\",VLOOKUP(C44565,Sheet2!A:F,3,FALSE))","v":""},{"$f":"IF(OR(C44565=\"\",ISBLANK(C44565)),\"\",VLOOKUP(C44565,Sheet2!A:G,6,FALSE))","v":""},""]
[{"$f":"IF(OR(C44598=\"\",ISBLANK(C44598)),\"\",VLOOKUP(C44598,Sheet2!A:F,2,FALSE))","v":""},{"$f":"IF(OR(C44598=\"\",ISBLANK(C44598)),\"\",VLOOKUP(C44598,Sheet2!A:G,4,FALSE))","v":""},null,null,{"$f":"IF(OR(C44598=\"\",ISBLANK(C44598)),\"\",VLOOKUP(C44598,Sheet2!A:F,3,FALSE))","v":""},{"$f":"IF(OR(C44598=\"\",ISBLANK(C44598)),\"\",VLOOKUP(C44598,Sheet2!A:G,6,FALSE))","v":""},""]
[{"$f":"IF(OR(C44623=\"\",ISBLANK(C44623)),\"\",VLOOKUP(C44623,Sheet2!A:F,2,FALSE))","v":""},{"$f":"IF(OR(C44623=\"\",ISBLANK(C44623)),\"\",VLOOKUP(C44623,Sheet2!A:G,4,FALSE))","v":""},null,null,{"$f":"IF(OR(C44623=\"\",ISBLANK(C44623)),\"\",VLOOKUP(C44623,Sheet2!A:F,3,FALSE))","v":""},{"$f":"IF(OR(C44623=\"\",ISBLANK(C44623)),\"\",VLOOKUP(C44623,Sheet2!A:G,6,FALSE))","v":""},""]
[{"$f":"IF(OR(C44632=\"\",ISBLANK(C44632)),\"\",VLOOKUP(C44632,Sheet2!A:F,2,FALSE))","v":""},{"$f":"IF(OR(C44632=\"\",ISBLANK(C44632)),\"\",VLOOKUP(C44632,Sheet2!A:G,4,FALSE))","v":""},null,null,{"$f":"IF(OR(C44632=\"\",ISBLANK(C44632)),\"\",VLOOKUP(C44632,Sheet2!A:F,3,FALSE))","v":""},{"$f":"IF(OR(C44632=\"\",ISBLANK(C44632)),\"\",VLOOKUP(C44632,Sheet2!A:G,6,FALSE))","v":""},""]
[{"$f":"IF(OR(C44665=\"\",ISBLANK(C44665)),\"\",VLOOKUP(C44665,Sheet2!A:F,2,FALSE))","v":""},{"$f":"IF(OR(C44665=\"\",ISBLANK(C44665)),\"\",VLOOKUP(C44665,Sheet2!A:G,4,FALSE))","v":""},null,null,{"$f":"IF(OR(C44665=\"\",ISBLANK(C44665)),\"\",VLOOKUP(C44665,Sheet2!A:F,3,FALSE))","v":""},{"$f":"IF(OR(C44665=\"\",ISBLANK(C44665)),\"\",VLOOKUP(C44665,Sheet2!A:G,6,FALSE))","v":""},""]
[{"$f":"IF(OR(C44690=\"\",ISBLANK(C44690)),\"\",VLOOKUP(C44690,Sheet2!A:F,2,FALSE))","v":""},{"$f":"IF(OR(C44690=\"\",ISBLANK(C44690)),\"\",VLOOKUP(C44690,Sheet2!A:G,4,FALSE))","v":""},null,null,{"$f":"IF(OR(C44690=\"\",ISBLANK(C44690)),\"\",VLOOKUP(C44690,Sheet2!A:F,3,FALSE))","v":""},{"$f":"IF(OR(C44690=\"\",ISBLANK(C44690)),\"\",VLOOKUP(C44690,Sheet2!A:G,6,FALSE))","v":""},""]
[{"$f":"IF(OR(C44723=\"\",ISBLANK(C44723)),\"\",VLOOKUP(C44723,Sheet2!A:F,2,FALSE))","v":""},{"$f":"IF(OR(C44723=\"\",ISBLANK(C44723)),\"\",VLOOKUP(C44723,Sheet2!A:G,4,FALSE))","v":""},null,null,{"$f":"IF(OR(C44723=\"\",ISBLANK(C44723)),\"\",VLOOKUP(C44723,Sheet2!A:F,3,FALSE))","v":""},{"$f":"IF(OR(C44723=\"\",ISBLANK(C44723)),\"\",VLOOKUP(C44723,Sheet2!A:G,6,FALSE))","v":""},""]
[{"$f":"IF(OR(C44735=\"\",ISBLANK(C44735)),\"\",VLOOKUP(C44735,Sheet2!A:F,2,FALSE))","v":""},{"$f":"IF(OR(C44735=\"\",ISBLANK(C44735)),\"\",VLOOKUP(C44735,Sheet2!A:G,4,FALSE))","v":""},null,null,{"$f":"IF(OR(C44735=\"\",ISBLANK(C44735)),\"\",VLOOKUP(C44735,Sheet2!A:F,3,FALSE))","v":""},{"$f":"IF(OR(C44735=\"\",ISBLANK(C44735)),\"\",VLOOKUP(C44735,Sheet2!A:G,6,FALSE))","v":""},""]
[{"$f":"IF(OR(C44756=\"\",ISBLANK(C44756)),\"\",VLOOKUP(C44756,Sheet2!A:F,2,FALSE))","v":""},{"$f":"IF(OR(C44756=\"\",ISBLANK(C44756)),\"\",VLOOKUP(C44756,Sheet2!A:G,4,FALSE))","v":""},null,null,{"$f":"IF(OR(C44756=\"\",ISBLANK(C44756)),\"\",VLOOKUP(C44756,Sheet2!A:F,3,FALSE))","v":""},{"$f":"IF(OR(C44756=\"\",ISBLANK(C44756)),\"\",VLOOKUP(C44756,Sheet2!A:G,6,FALSE))","v":""},""]
[{"$f":"IF(OR(C44789=\"\",ISBLANK(C44789)),\"\",VLOOKUP(C44789,Sheet2!A:F,2,FALSE))","v":""},{"$f":"IF(OR(C44789=\"\",ISBLANK(C44789)),\"\",VLOOKUP(C44789,Sheet2!A:G,4,FALSE))","v":""},null,null,{"$f":"IF(OR(C44789=\"\",ISBLANK(C44789)),\"\",VLOOKUP(C44789,Sheet2!A:F,3,FALSE))","v":""},{"$f":"IF(OR(C44789=\"\",ISBLANK(C44789)),\"\",VLOOKUP(C44789,Sheet2!A:G,6,FALSE))","v":""},""]
[{"$f":"IF(OR(C44814=\"\",ISBLANK(C44814)),\"\",VLOOKUP(C44814,Sheet2!A:F,2,FALSE))","v":""},{"$f":"IF(OR(C44814=\"\",ISBLANK(C44814)),\"\",VLOOKUP(C44814,Sheet2!A:G,4,FALSE))","v":""},null,null,{"$f":"IF(OR(C44814=\"\",ISBLANK(C44814)),\"\",VLOOKUP(C44814,Sheet2!A:F,3,FALSE))","v":""},{"$f":"IF(OR(C44814=\"\",ISBLANK(C44814)),\"\",VLOOKUP(C44814,Sheet2!A:G,6,FALSE))","v":""},""]
[{"$f":"IF(OR(C44823=\"\",ISBLANK(C44823)),\"\",VLOOKUP(C44823,Sheet2!A:F,2,FALSE))","v":""},{"$f":"IF(OR(C44823=\"\",ISBLANK(C44823)),\"\",VLOOKUP(C44823,Sheet2!A:G,4,FALSE))","v":""},null,null,{"$f":"IF(OR(C44823=\"\",ISBLANK(C44823)),\"\",VLOOKUP(C44823,Sheet2!A:F,3,FALSE))","v":""},{"$f":"IF(OR(C44823=\"\",ISBLANK(C44823)),\"\",VLOOKUP(C44823,Sheet2!A:G,6,FALSE))","v":""},""]
[{"$f":"IF(OR(C44856=\"\",ISBLANK(C44856)),\"\",VLOOKUP(C44856,Sheet2!A:F,2,FALSE))","v":""},{"$f":"IF(OR(C44856=\"\",ISBLANK(C44856)),\"\",VLOOKUP(C44856,Sheet2!A:G,4,FALSE))","v":""},null,null,{"$f":"IF(OR(C44856=\"\",ISBLANK(C44856)),\"\",VLOOKUP(C44856,Sheet2!A:F,3,FALSE))","v":""},{"$f":"IF(OR(C44856=\"\",ISBLANK(C44856)),\"\",VLOOKUP(C44856,Sheet2!A:G,6,FALSE))","v":""},""]
[{"$f":"IF(OR(C44881=\"\",ISBLANK(C44881)),\"\",VLOOKUP(C44881,Sheet2!A:F,2,FALSE))","v":""},{"$f":"IF(OR(C44881=\"\",ISBLANK(C44881)),\"\",VLOOKUP(C44881,Sheet2!A:G,4,FALSE))","v":""},null,null,{"$f":"IF(OR(C44881=\"\",ISBLANK(C44881)),\"\",VLOOKUP(C44881,Sheet2!A:F,3,FALSE))","v":""},{"$f":"IF(OR(C44881=\"\",ISBLANK(C44881)),\"\",VLOOKUP(C44881,Sheet2!A:G,6,FALSE))","v":""},""]
[{"$f":"IF(OR(C44914=\"\",ISBLANK(C44914)),\"\",VLOOKUP(C44914,Sheet2!A:F,2,FALSE))","v":""},{"$f":"IF(OR(C44914=\"\",ISBLANK(C44914)),\"\",VLOOKUP(C44914,Sheet2!A:G,4,FALSE))","v":""},null,null,{"$f":"IF(OR(C44914=\"\",ISBLANK(C44914)),\"\",VLOOKUP(C44914,Sheet2!A:F,3,FALSE))","v":""},{"$f":"IF(OR(C44914=\"\",ISBLANK(C44914)),\"\",VLOOKUP(C44914,Sheet2!A:G,6,FALSE))","v":""},""]
[{"$f":"IF(OR(C44939=\"\",ISBLANK(C44939)),\"\",VLOOKUP(C44939,Sheet2!A:F,2,FALSE))","v":""},{"$f":"IF(OR(C44939=\"\",ISBLANK(C44939)),\"\",VLOOKUP(C44939,Sheet2!A:G,4,FALSE))","v":""},null,null,{"$f":"IF(OR(C44939=\"\",ISBLANK(C44939)),\"\",VLOOKUP(C44939,Sheet2!A:F,3,FALSE))","v":""},{"$f":"IF(OR(C44939=\"\",ISBLANK(C44939)),\"\",VLOOKUP(C44939,Sheet2!A:G,6,FALSE))","v":""},""]
[{"$f":"IF(OR(C44948=\"\",ISBLANK(C44948)),\"\",VLOOKUP(C44948,Sheet2!A:F,2,FALSE))","v":""},{"$f":"IF(OR(C44948=\"\",ISBLANK(C44948)),\"\",VLOOKUP(C44948,Sheet2!A:G,4,FALSE))","v":""},null,null,{"$f":"IF(OR(C44948=\"\",ISBLANK(C44948)),\"\",VLOOKUP(C44948,Sheet2!A:F,3,FALSE))","v":""},{"$f":"IF(OR(C44948=\"\",ISBLANK(C44948)),\"\",VLOOKUP(C44948,Sheet2!A:G,6,FALSE))","v":""},""]
[{"$f":"IF(OR(C44966=\"\",ISBLANK(C44966)),\"\",VLOOKUP(C44966,Sheet2!A:F,2,FALSE))","v":""},{"$f":"IF(OR(C44966=\"\",ISBLANK(C44966)),\"\",VLOOKUP(C44966,Sheet2!A:G,4,FALSE))","v":""},null,null,{"$f":"IF(OR(C44966=\"\",ISBLANK(C44966)),\"\",VLOOKUP(C44966,Sheet2!A:F,3,FALSE))","v":""},{"$f":"IF(OR(C44966=\"\",ISBLANK(C44966)),\"\",VLOOKUP(C44966,Sheet2!A:G,6,FALSE))","v":""},""]
[{"$f":"IF(OR(C45005=\"\",ISBLANK(C45005)),\"\",VLOOKUP(C45005,Sheet2!A:F,2,FALSE))","v":""},{"$f":"IF(OR(C45005=\"\",ISBLANK(C45005)),\"\",VLOOKUP(C45005,Sheet2!A:G,4,FALSE))","v":""},null,null,{"$f":"IF(OR(C45005=\"\",ISBLANK(C45005)),\"\",VLOOKUP(C45005,Sheet2!A:F,3,FALSE))","v":""},{"$f":"IF(OR(C45005=\"\",ISBLANK(C45005)),\"\",VLOOKUP(C45005,Sheet2!A:G,6,FALSE))","v":""},""]
[{"$f":"IF(OR(C45014=\"\",ISBLANK(C45014)),\"\",VLOOKUP(C45014,Sheet2!A:F,2,FALSE))","v":""},{"$f":"IF(OR(C45014=\"\",ISBLANK(C45014)),\"\",VLOOKUP(C45014,Sheet2!A:G,4,FALSE))","v":""},null,null,{"$f":"IF(OR(C45014=\"\",ISBLANK(C45014)),\"\",VLOOKUP(C45014,Sheet2!A:F,3,FALSE))","v":""},{"$f":"IF(OR(C45014=\"\",ISBLANK(C45014)),\"\",VLOOKUP(C45014,Sheet2!A:G,6,FALSE))","v":""},""]
[{"$f":"IF(OR(C45047=\"\",ISBLANK(C45047)),\"\",VLOOKUP(C45047,Sheet2!A:F,2,FALSE))","v":""},{"$f":"IF(OR(C45047=\"\",ISBLANK(C45047)),\"\",VLOOKUP(C45047,Sheet2!A:G,4,FALSE))","v":""},null,null,{"$f":"IF(OR(C45047=\"\",ISBLANK(C45047)),\"\",VLOOKUP(C45047,Sheet2!A:F,3,FALSE))","v":""},{"$f":"IF(OR(C45047=\"\",ISBLANK(C45047)),\"\",VLOOKUP(C45047,Sheet2!A:G,6,FALSE))","v":""},""]
[{"$f":"IF(OR(C45072=\"\",ISBLANK(C45072)),\"\",VLOOKUP(C45072,Sheet2!A:F,2,FALSE))","v":""},{"$f":"IF(OR(C45072=\"\",ISBLANK(C45072)),\"\",VLOOKUP(C45072,Sheet2!A:G,4,FALSE))","v":""},null,null,{"$f":"IF(OR(C45072=\"\",ISBLANK(C45072)),\"\",VLOOKUP(C45072,Sheet2!A:F,3,FALSE))","v":""},{"$f":"IF(OR(C45072=\"\",ISBLANK(C45072)),\"\",VLOOKUP(C45072,Sheet2!A:G,6,FALSE))","v":""},""]
[{"$f":"IF(OR(C45105=\"\",ISBLANK(C45105)),\"\",VLOOKUP(C45105,Sheet2!A:F,2,FALSE))","v":""},{"$f":"IF(OR(C45105=\"\",ISBLANK(C45105)),\"\",VLOOKUP(C45105,Sheet2!A:G,4,FALSE))","v":""},null,null,{"$f":"IF(OR(C45105=\"\",ISBLANK(C45105)),\"\",VLOOKUP(C45105,Sheet2!A:F,3,FALSE))","v":""},{"$f":"IF(OR(C45105=\"\",ISBLANK(C45105)),\"\",VLOOKUP(C45105,Sheet2!A:G,6,FALSE))","v":""},""]
[{"$f":"IF(OR(C45130=\"\",ISBLANK(C45130)),\"\",VLOOKUP(C45130,Sheet2!A:F,2,FALSE))","v":""},{"$f":"IF(OR(C45130=\"\",ISBLANK(C45130)),\"\",VLOOKUP(C45130,Sheet2!A:G,4,FALSE))","v":""},null,null,{"$f":"IF(OR(C45130=\"\",ISBLANK(C45130)),\"\",VLOOKUP(C45130,Sheet2!A:F,3,FALSE))","v":""},{"$f":"IF(OR(C45130=\"\",ISBLANK(C45130)),\"\",VLOOKUP(C45130,Sheet2!A:G,6,FALSE))","v":""},""]
[{"$f":"IF(OR(C45139=\"\",ISBLANK(C45139)),\"\",VLOOKUP(C45139,Sheet2!A:F,2,FALSE))","v":""},{"$f":"IF(OR(C45139=\"\",ISBLANK(C45139)),\"\",VLOOKUP(C45139,Sheet2!A:G,4,FALSE))","v":""},null,null,{"$f":"IF(OR(C45139=\"\",ISBLANK(C45139)),\"\",VLOOKUP(C45139,Sheet2!A:F,3,FALSE))","v":""},{"$f":"IF(OR(C45139=\"\",ISBLANK(C45139)),\"\",VLOOKUP(C45139,Sheet2!A:G,6,FALSE))","v":""},""]
[{"$f":"IF(OR(C45172=\"\",ISBLANK(C45172)),\"\",VLOOKUP(C45172,Sheet2!A:F,2,FALSE))","v":""},{"$f":"IF(OR(C45172=\"\",ISBLANK(C45172)),\"\",VLOOKUP(C45172,Sheet2!A:G,4,FALSE))","v":""},null,null,{"$f":"IF(OR(C45172=\"\",ISBLANK(C45172)),\"\",VLOOKUP(C45172,Sheet2!A:F,3,FALSE))","v":""},{"$f":"IF(OR(C45172=\"\",ISBLANK(C45172)),\"\",VLOOKUP(C45172,Sheet2!A:G,6,FALSE))","v":""},""]
[{"$f":"IF(OR(C45197=\"\",ISBLANK(C45197)),\"\",VLOOKUP(C45197,Sheet2!A:F,2,FALSE))","v":""},{"$f":"IF(OR(C45197=\"\",ISBLANK(C45197)),\"\",VLOOKUP(C45197,Sheet2!A:G,4,FALSE))","v":""},null,null,{"$f":"IF(OR(C45197=\"\",ISBLANK(C45197)),\"\",VLOOKUP(C45197,Sheet2!A:F,3,FALSE))","v":""},{"$f":"IF(OR(C45197=\"\",ISBLANK(C45197)),\"\",VLOOKUP(C45197,Sheet2!A:G,6,FALSE))","v":""},""]
[{"$f":"IF(OR(C45205=\"\",ISBLANK(C45205)),\"\",VLOOKUP(C45205,Sheet2!A:F,2,FALSE))","v":""},{"$f":"IF(OR(C45205=\"\",ISBLANK(C45205)),\"\",VLOOKUP(C45205,Sheet2!A:G,4,FALSE))","v":""},null,null,{"$f":"IF(OR(C45205=\"\",ISBLANK(C45205)),\"\",VLOOKUP(C45205,Sheet2!A:F,3,FALSE))","v":""},{"$f":"IF(OR(C45205=\"\",ISBLANK(C45205)),\"\",VLOOKUP(C45205,Sheet2!A:G,6,FALSE))","v":""},""]
[{"$f":"IF(OR(C45238=\"\",ISBLANK(C45238)),\"\",VLOOKUP(C45238,Sheet2!A:F,2,FALSE))","v":""},{"$f":"IF(OR(C45238=\"\",ISBLANK(C45238)),\"\",VLOOKUP(C45238,Sheet2!A:G,4,FALSE))","v":""},null,null,{"$f":"IF(OR(C45238=\"\",ISBLANK(C45238)),\"\",VLOOKUP(C45238,Sheet2!A:F,3,FALSE))","v":""},{"$f":"IF(OR(C45238=\"\",ISBLANK(C45238)),\"\",VLOOKUP(C45238,Sheet2!A:G,6,FALSE))","v":""},""]
[{"$f":"IF(OR(C45263=\"\",ISBLANK(C45263)),\"\",VLOOKUP(C45263,Sheet2!A:F,2,FALSE))","v":""},{"$f":"IF(OR(C45263=\"\",ISBLANK(C45263)),\"\",VLOOKUP(C45263,Sheet2!A:G,4,FALSE))","v":""},null,null,{"$f":"IF(OR(C45263=\"\",ISBLANK(C45263)),\"\",VLOOKUP(C45263,Sheet2!A:F,3,FALSE))","v":""},{"$f":"IF(OR(C45263=\"\",ISBLANK(C45263)),\"\",VLOOKUP(C45263,Sheet2!A:G,6,FALSE))","v":""},""]
[{"$f":"IF(OR(C45296=\"\",ISBLANK(C45296)),\"\",VLOOKUP(C45296,Sheet2!A:F,2,FALSE))","v":""},{"$f":"IF(OR(C45296=\"\",ISBLANK(C45296)),\"\",VLOOKUP(C45296,Sheet2!A:G,4,FALSE))","v":""},null,null,{"$f":"IF(OR(C45296=\"\",ISBLANK(C45296)),\"\",VLOOKUP(C45296,Sheet2!A:F,3,FALSE))","v":""},{"$f":"IF(OR(C45296=\"\",ISBLANK(C45296)),\"\",VLOOKUP(C45296,Sheet2!A:G,6,FALSE))","v":""},""]
[{"$f":"IF(OR(C45321=\"\",ISBLANK(C45321)),\"\",VLOOKUP(C45321,Sheet2!A:F,2,FALSE))","v":""},{"$f":"IF(OR(C45321=\"\",ISBLANK(C45321)),\"\",VLOOKUP(C45321,Sheet2!A:G,4,FALSE))","v":""},null,null,{"$f":"IF(OR(C45321=\"\",ISBLANK(C45321)),\"\",VLOOKUP(C45321,Sheet2!A:F,3,FALSE))","v":""},{"$f":"IF(OR(C45321=\"\",ISBLANK(C45321)),\"\",VLOOKUP(C45321,Sheet2!A:G,6,FALSE))","v":""},""]
[{"$f":"IF(OR(C45330=\"\",ISBLANK(C45330)),\"\",VLOOKUP(C45330,Sheet2!A:F,2,FALSE))","v":""},{"$f":"IF(OR(C45330=\"\",ISBLANK(C45330)),\"\",VLOOKUP(C45330,Sheet2!A:G,4,FALSE))","v":""},null,null,{"$f":"IF(OR(C45330=\"\",ISBLANK(C45330)),\"\",VLOOKUP(C45330,Sheet2!A:F,3,FALSE))","v":""},{"$f":"IF(OR(C45330=\"\",ISBLANK(C45330)),\"\",VLOOKUP(C45330,Sheet2!A:G,6,FALSE))","v":""},""]
[{"$f":"IF(OR(C45363=\"\",ISBLANK(C45363)),\"\",VLOOKUP(C45363,Sheet2!A:F,2,FALSE))","v":""},{"$f":"IF(OR(C45363=\"\",ISBLANK(C45363)),\"\",VLOOKUP(C45363,Sheet2!A:G,4,FALSE))","v":""},null,null,{"$f":"IF(OR(C45363=\"\",ISBLANK(C45363)),\"\",VLOOKUP(C45363,Sheet2!A:F,3,FALSE))","v":""},{"$f":"IF(OR(C45363=\"\",ISBLANK(C45363)),\"\",VLOOKUP(C45363,Sheet2!A:G,6,FALSE))","v":""},""]
[{"$f":"IF(OR(C45388=\"\",ISBLANK(C45388)),\"\",VLOOKUP(C45388,Sheet2!A:F,2,FALSE))","v":""},{"$f":"IF(OR(C45388=\"\",ISBLANK(C45388)),\"\",VLOOKUP(C45388,Sheet2!A:G,4,FALSE))","v":""},null,null,{"$f":"IF(OR(C45388=\"\",ISBLANK(C45388)),\"\",VLOOKUP(C45388,Sheet2!A:F,3,FALSE))","v":""},{"$f":"IF(OR(C45388=\"\",ISBLANK(C45388)),\"\",VLOOKUP(C45388,Sheet2!A:G,6,FALSE))","v":""},""]
[{"$f":"IF(OR(C45397=\"\",ISBLANK(C45397)),\"\",VLOOKUP(C45397,Sheet2!A:F,2,FALSE))","v":""},{"$f":"IF(OR(C45397=\"\",ISBLANK(C45397)),\"\",VLOOKUP(C45397,Sheet2!A:G,4,FALSE))","v":""},null,null,{"$f":"IF(OR(C45397=\"\",ISBLANK(C45397)),\"\",VLOOKUP(C45397,Sheet2!A:F,3,FALSE))","v":""},{"$f":"IF(OR(C45397=\"\",ISBLANK(C45397)),\"\",VLOOKUP(C45397,Sheet2!A:G,6,FALSE))","v":""},""]
[{"$f":"IF(OR(C45428=\"\",ISBLANK(C45428)),\"\",VLOOKUP(C45428,Sheet2!A:F,2,FALSE))","v":""},{"$f":"IF(OR(C45428=\"\",ISBLANK(C45428)),\"\",VLOOKUP(C45428,Sheet2!A:G,4,FALSE))","v":""},null,null,{"$f":"IF(OR(C45428=\"\",ISBLANK(C45428)),\"\",VLOOKUP(C45428,Sheet2!A:F,3,FALSE))","v":""},{"$f":"IF(OR(C45428=\"\",ISBLANK(C45428)),\"\",VLOOKUP(C45428,Sheet2!A:G,6,FALSE))","v":""},""]
[{"$f":"IF(OR(C45454=\"\",ISBLANK(C45454)),\"\",VLOOKUP(C45454,Sheet2!A:F,2,FALSE))","v":""},{"$f":"IF(OR(C45454=\"\",ISBLANK(C45454)),\"\",VLOOKUP(C45454,Sheet2!A:G,4,FALSE))","v":""},null,null,{"$f":"IF(OR(C45454=\"\",ISBLANK(C45454)),\"\",VLOOKUP(C45454,Sheet2!A:F,3,FALSE))","v":""},{"$f":"IF(OR(C45454=\"\",ISBLANK(C45454)),\"\",VLOOKUP(C45454,Sheet2!A:G,6,FALSE))","v":""},""]
[{"$f":"IF(OR(C45487=\"\",ISBLANK(C45487)),\"\",VLOOKUP(C45487,Sheet2!A:F,2,FALSE))","v":""},{"$f":"IF(OR(C45487=\"\",ISBLANK(C45487)),\"\",VLOOKUP(C45487,Sheet2!A:G,4,FALSE))","v":""},null,null,{"$f":"IF(OR(C45487=\"\",ISBLANK(C45487)),\"\",VLOOKUP(C45487,Sheet2!A:F,3,FALSE))","v":""},{"$f":"IF(OR(C45487=\"\",ISBLANK(C45487)),\"\",VLOOKUP(C45487,Sheet2!A:G,6,FALSE))","v":""},""]
[{"$f":"IF(OR(C45512=\"\",ISBLANK(C45512)),\"\",VLOOKUP(C45512,Sheet2!A:F,2,FALSE))","v":""},{"$f":"IF(OR(C45512=\"\",ISBLANK(C45512)),\"\",VLOOKUP(C45512,Sheet2!A:G,4,FALSE))","v":""},null,null,{"$f":"IF(OR(C45512=\"\",ISBLANK(C45512)),\"\",VLOOKUP(C45512,Sheet2!A:F,3,FALSE))","v":""},{"$f":"IF(OR(C45512=\"\",ISBLANK(C45512)),\"\",VLOOKUP(C45512,Sheet2!A:G,6,FALSE))","v":""},""]
[{"$f":"IF(OR(C45521=\"\",ISBLANK(C45521)),\"\",VLOOKUP(C45521,Sheet2!A:F,2,FALSE))","v":""},{"$f":"IF(OR(C45521=\"\",ISBLANK(C45521)),\"\",VLOOKUP(C45521,Sheet2!A:G,4,FALSE))","v":""},null,null,{"$f":"IF(OR(C45521=\"\",ISBLANK(C45521)),\"\",VLOOKUP(C45521,Sheet2!A:F,3,FALSE))","v":""},{"$f":"IF(OR(C45521=\"\",ISBLANK(C45521)),\"\",VLOOKUP(C45521,Sheet2!A:G,6,FALSE))","v":""},""]
[{"$f":"IF(OR(C45554=\"\",ISBLANK(C45554)),\"\",VLOOKUP(C45554,Sheet2!A:F,2,FALSE))","v":""},{"$f":"IF(OR(C45554=\"\",ISBLANK(C45554)),\"\",VLOOKUP(C45554,Sheet2!A:G,4,FALSE))","v":""},null,null,{"$f":"IF(OR(C45554=\"\",ISBLANK(C45554)),\"\",VLOOKUP(C45554,Sheet2!A:F,3,FALSE))","v":""},{"$f":"IF(OR(C45554=\"\",ISBLANK(C45554)),\"\",VLOOKUP(C45554,Sheet2!A:G,6,FALSE))","v":""},""]
[{"$f":"IF(OR(C45579=\"\",ISBLANK(C45579)),\"\",VLOOKUP(C45579,Sheet2!A:F,2,FALSE))","v":""},{"$f":"IF(OR(C45579=\"\",ISBLANK(C45579)),\"\",VLOOKUP(C45579,Sheet2!A:G,4,FALSE))","v":""},null,null,{"$f":"IF(OR(C45579=\"\",ISBLANK(C45579)),\"\",VLOOKUP(C45579,Sheet2!A:F,3,FALSE))","v":""},{"$f":"IF(OR(C45579=\"\",ISBLANK(C45579)),\"\",VLOOKUP(C45579,Sheet2!A:G,6,FALSE))","v":""},""]
[{"$f":"IF(OR(C45588=\"\",ISBLANK(C45588)),\"\",VLOOKUP(C45588,Sheet2!A:F,2,FALSE))","v":""},{"$f":"IF(OR(C45588=\"\",ISBLANK(C45588)),\"\",VLOOKUP(C45588,Sheet2!A:G,4,FALSE))","v":""},null,null,{"$f":"IF(OR(C45588=\"\",ISBLANK(C45588)),\"\",VLOOKUP(C45588,Sheet2!A:F,3,FALSE))","v":""},{"$f":"IF(OR(C45588=\"\",ISBLANK(C45588)),\"\",VLOOKUP(C45588,Sheet2!A:G,6,FALSE))","v":""},""]
[{"$f":"IF(OR(C45613=\"\",ISBLANK(C45613)),\"\",VLOOKUP(C45613,Sheet2!A:F,2,FALSE))","v":""},{"$f":"IF(OR(C45613=\"\",ISBLANK(C45613)),\"\",VLOOKUP(C45613,Sheet2!A:G,4,FALSE))","v":""},null,null,{"$f":"IF(OR(C45613=\"\",ISBLANK(C45613)),\"\",VLOOKUP(C45613,Sheet2!A:F,3,FALSE))","v":""},{"$f":"IF(OR(C45613=\"\",ISBLANK(C45613)),\"\",VLOOKUP(C45613,Sheet2!A:G,6,FALSE))","v":""},""]
[{"$f":"IF(OR(C45647=\"\",ISBLANK(C45647)),\"\",VLOOKUP(C45647,Sheet2!A:F,2,FALSE))","v":""},{"$f":"IF(OR(C45647=\"\",ISBLANK(C45647)),\"\",VLOOKUP(C45647,Sheet2!A:G,4,FALSE))","v":""},null,null,{"$f":"IF(OR(C45647=\"\",ISBLANK(C45647)),\"\",VLOOKUP(C45647,Sheet2!A:F,3,FALSE))","v":""},{"$f":"IF(OR(C45647=\"\",ISBLANK(C45647)),\"\",VLOOKUP(C45647,Sheet2!A:G,6,FALSE))","v":""},""]
[{"$f":"IF(OR(C45678=\"\",ISBLANK(C45678)),\"\",VLOOKUP(C45678,Sheet2!A:F,2,FALSE))","v":""},{"$f":"IF(OR(C45678=\"\",ISBLANK(C45678)),\"\",VLOOKUP(C45678,Sheet2!A:G,4,FALSE))","v":""},null,null,{"$f":"IF(OR(C45678=\"\",ISBLANK(C45678)),\"\",VLOOKUP(C45678,Sheet2!A:F,3,FALSE))","v":""},{"$f":"IF(OR(C45678=\"\",ISBLANK(C45678)),\"\",VLOOKUP(C45678,Sheet2!A:G,6,FALSE))","v":""},""]
[{"$f":"IF(OR(C45703=\"\",ISBLANK(C45703)),\"\",VLOOKUP(C45703,Sheet2!A:F,2,FALSE))","v":""},{"$f":"IF(OR(C45703=\"\",ISBLANK(C45703)),\"\",VLOOKUP(C45703,Sheet2!A:G,4,FALSE))","v":""},null,null,{"$f":"IF(OR(C45703=\"\",ISBLANK(C45703)),\"\",VLOOKUP(C45703,Sheet2!A:F,3,FALSE))","v":""},{"$f":"IF(OR(C45703=\"\",ISBLANK(C45703)),\"\",VLOOKUP(C45703,Sheet2!A:G,6,FALSE))","v":""},""]
[{"$f":"IF(OR(C45712=\"\",ISBLANK(C45712)),\"\",VLOOKUP(C45712,Sheet2!A:F,2,FALSE))","v":""},{"$f":"IF(OR(C45712=\"\",ISBLANK(C45712)),\"\",VLOOKUP(C45712,Sheet2!A:G,4,FALSE))","v":""},null,null,{"$f":"IF(OR(C45712=\"\",ISBLANK(C45712)),\"\",VLOOKUP(C45712,Sheet2!A:F,3,FALSE))","v":""},{"$f":"IF(OR(C45712=\"\",ISBLANK(C45712)),\"\",VLOOKUP(C45712,Sheet2!A:G,6,FALSE))","v":""},""]
[{"$f":"IF(OR(C45745=\"\",ISBLANK(C45745)),\"\",VLOOKUP(C45745,Sheet2!A:F,2,FALSE))","v":""},{"$f":"IF(OR(C45745=\"\",ISBLANK(C45745)),\"\",VLOOKUP(C45745,Sheet2!A:G,4,FALSE))","v":""},null,null,{"$f":"IF(OR(C45745=\"\",ISBLANK(C45745)),\"\",VLOOKUP(C45745,Sheet2!A:F,3,FALSE))","v":""},{"$f":"IF(OR(C45745=\"\",ISBLANK(C45745)),\"\",VLOOKUP(C45745,Sheet2!A:G,6,FALSE))","v":""},""]
[{"$f":"IF(OR(C45770=\"\",ISBLANK(C45770)),\"\",VLOOKUP(C45770,Sheet2!A:F,2,FALSE))","v":""},{"$f":"IF(OR(C45770=\"\",ISBLANK(C45770)),\"\",VLOOKUP(C45770,Sheet2!A:G,4,FALSE))","v":""},null,null,{"$f":"IF(OR(C45770=\"\",ISBLANK(C45770)),\"\",VLOOKUP(C45770,Sheet2!A:F,3,FALSE))","v":""},{"$f":"IF(OR(C45770=\"\",ISBLANK(C45770)),\"\",VLOOKUP(C45770,Sheet2!A:G,6,FALSE))","v":""},""]
[{"$f":"IF(OR(C45779=\"\",ISBLANK(C45779)),\"\",VLOOKUP(C45779,Sheet2!A:F,2,FALSE))","v":""},{"$f":"IF(OR(C45779=\"\",ISBLANK(C45779)),\"\",VLOOKUP(C45779,Sheet2!A:G,4,FALSE))","v":""},null,null,{"$f":"IF(OR(C45779=\"\",ISBLANK(C45779)),\"\",VLOOKUP(C45779,Sheet2!A:F,3,FALSE))","v":""},{"$f":"IF(OR(C45779=\"\",ISBLANK(C45779)),\"\",VLOOKUP(C45779,Sheet2!A:G,6,FALSE))","v":""},""]
[{"$f":"IF(OR(C45804=\"\",ISBLANK(C45804)),\"\",VLOOKUP(C45804,Sheet2!A:F,2,FALSE))","v":""},{"$f":"IF(OR(C45804=\"\",ISBLANK(C45804)),\"\",VLOOKUP(C45804,Sheet2!A:G,4,FALSE))","v":""},null,null,{"$f":"IF(OR(C45804=\"\",ISBLANK(C45804)),\"\",VLOOKUP(C45804,Sheet2!A:F,3,FALSE))","v":""},{"$f":"IF(OR(C45804=\"\",ISBLANK(C45804)),\"\",VLOOKUP(C45804,Sheet2!A:G,6,FALSE))","v":""},""]
[{"$f":"IF(OR(C45837=\"\",ISBLANK(C45837)),\"\",VLOOKUP(C45837,Sheet2!A:F,2,FALSE))","v":""},{"$f":"IF(OR(C45837=\"\",ISBLANK(C45837)),\"\",VLOOKUP(C45837,Sheet2!A:G,4,FALSE))","v":""},null,null,{"$f":"IF(OR(C45837=\"\",ISBLANK(C45837)),\"\",VLOOKUP(C45837,Sheet2!A:F,3,FALSE))","v":""},{"$f":"IF(OR(C45837=\"\",ISBLANK(C45837)),\"\",VLOOKUP(C45837,Sheet2!A:G,6,FALSE))","v":""},""]
[{"$f":"IF(OR(C45870=\"\",ISBLANK(C45870)),\"\",VLOOKUP(C45870,Sheet2!A:F,2,FALSE))","v":""},{"$f":"IF(OR(C45870=\"\",ISBLANK(C45870)),\"\",VLOOKUP(C45870,Sheet2!A:G,4,FALSE))","v":""},null,null,{"$f":"IF(OR(C45870=\"\",ISBLANK(C45870)),\"\",VLOOKUP(C45870,Sheet2!A:F,3,FALSE))","v":""},{"$f":"IF(OR(C45870=\"\",ISBLANK(C45870)),\"\",VLOOKUP(C45870,Sheet2!A:G,6,FALSE))","v":""},""]
[{"$f":"IF(OR(C45878=\"\",ISBLANK(C45878)),\"\",VLOOKUP(C45878,Sheet2!A:F,2,FALSE))","v":""},{"$f":"IF(OR(C45878=\"\",ISBLANK(C45878)),\"\",VLOOKUP(C45878,Sheet2!A:G,4,FALSE))","v":""},null,null,{"$f":"IF(OR(C45878=\"\",ISBLANK(C45878)),\"\",VLOOKUP(C45878,Sheet2!A:F,3,FALSE))","v":""},{"$f":"IF(OR(C45878=\"\",ISBLANK(C45878)),\"\",VLOOKUP(C45878,Sheet2!A:G,6,FALSE))","v":""},""]
[{"$f":"IF(OR(C45903=\"\",ISBLANK(C45903)),\"\",VLOOKUP(C45903,Sheet2!A:F,2,FALSE))","v":""},{"$f":"IF(OR(C45903=\"\",ISBLANK(C45903)),\"\",VLOOKUP(C45903,Sheet2!A:G,4,FALSE))","v":""},null,null,{"$f":"IF(OR(C45903=\"\",ISBLANK(C45903)),\"\",VLOOKUP(C45903,Sheet2!A:F,3,FALSE))","v":""},{"$f":"IF(OR(C45903=\"\",ISBLANK(C45903)),\"\",VLOOKUP(C45903,Sheet2!A:G,6,FALSE))","v":""},""]
[{"$f":"IF(OR(C45928=\"\",ISBLANK(C45928)),\"\",VLOOKUP(C45928,Sheet2!A:F,2,FALSE))","v":""},{"$f":"IF(OR(C45928=\"\",ISBLANK(C45928)),\"\",VLOOKUP(C45928,Sheet2!A:G,4,FALSE))","v":""},null,null,{"$f":"IF(OR(C45928=\"\",ISBLANK(C45928)),\"\",VLOOKUP(C45928,Sheet2!A:F,3,FALSE))","v":""},{"$f":"IF(OR(C45928=\"\",ISBLANK(C45928)),\"\",VLOOKUP(C45928,Sheet2!A:G,6,FALSE))","v":""},""]
[{"$f":"IF(OR(C45961=\"\",ISBLANK(C45961)),\"\",VLOOKUP(C45961,Sheet2!A:F,2,FALSE))","v":""},{"$f":"IF(OR(C45961=\"\",ISBLANK(C45961)),\"\",VLOOKUP(C45961,Sheet2!A:G,4,FALSE))","v":""},null,null,{"$f":"IF(OR(C45961=\"\",ISBLANK(C45961)),\"\",VLOOKUP(C45961,Sheet2!A:F,3,FALSE))","v":""},{"$f":"IF(OR(C45961=\"\",ISBLANK(C45961)),\"\",VLOOKUP(C45961,Sheet2!A:G,6,FALSE))","v":""},""]
[{"$f":"IF(OR(C45970=\"\",ISBLANK(C45970)),\"\",VLOOKUP(C45970,Sheet2!A:F,2,FALSE))","v":""},{"$f":"IF(OR(C45970=\"\",ISBLANK(C45970)),\"\",VLOOKUP(C45970,Sheet2!A:G,4,FALSE))","v":""},null,null,{"$f":"IF(OR(C45970=\"\",ISBLANK(C45970)),\"\",VLOOKUP(C45970,Sheet2!A:F,3,FALSE))","v":""},{"$f":"IF(OR(C45970=\"\",ISBLANK(C45970)),\"\",VLOOKUP(C45970,Sheet2!A:G,6,FALSE))","v":""},""]
[{"$f":"IF(OR(C45995=\"\",ISBLANK(C45995)),\"\",VLOOKUP(C45995,Sheet2!A:F,2,FALSE))","v":""},{"$f":"IF(OR(C45995=\"\",ISBLANK(C45995)),\"\",VLOOKUP(C45995,Sheet2!A:G,4,FALSE))","v":""},null,null,{"$f":"IF(OR(C45995=\"\",ISBLANK(C45995)),\"\",VLOOKUP(C45995,Sheet2!A:F,3,FALSE))","v":""},{"$f":"IF(OR(C45995=\"\",ISBLANK(C45995)),\"\",VLOOKUP(C45995,Sheet2!A:G,6,FALSE))","v":""},""]
[{"$f":"IF(OR(C46028=\"\",ISBLANK(C46028)),\"\",VLOOKUP(C46028,Sheet2!A:F,2,FALSE))","v":""},{"$f":"IF(OR(C46028=\"\",ISBLANK(C46028)),\"\",VLOOKUP(C46028,Sheet2!A:G,4,FALSE))","v":""},null,null,{"$f":"IF(OR(C46028=\"\",ISBLANK(C46028)),\"\",VLOOKUP(C46028,Sheet2!A:F,3,FALSE))","v":""},{"$f":"IF(OR(C46028=\"\",ISBLANK(C46028)),\"\",VLOOKUP(C46028,Sheet2!A:G,6,FALSE))","v":""},""]
[{"$f":"IF(OR(C46061=\"\",ISBLANK(C46061)),\"\",VLOOKUP(C46061,Sheet2!A:F,2,FALSE))","v":""},{"$f":"IF(OR(C46061=\"\",ISBLANK(C46061)),\"\",VLOOKUP(C46061,Sheet2!A:G,4,FALSE))","v":""},null,null,{"$f":"IF(OR(C46061=\"\",ISBLANK(C46061)),\"\",VLOOKUP(C46061,Sheet2!A:F,3,FALSE))","v":""},{"$f":"IF(OR(C46061=\"\",ISBLANK(C46061)),\"\",VLOOKUP(C46061,Sheet2!A:G,6,FALSE))","v":""},""]
[{"$f":"IF(OR(C46086=\"\",ISBLANK(C46086)),\"\",VLOOKUP(C46086,Sheet2!A:F,2,FALSE))","v":""},{"$f":"IF(OR(C46086=\"\",ISBLANK(C46086)),\"\",VLOOKUP(C46086,Sheet2!A:G,4,FALSE))","v":""},null,null,{"$f":"IF(OR(C46086=\"\",ISBLANK(C46086)),\"\",VLOOKUP(C46086,Sheet2!A:F,3,FALSE))","v":""},{"$f":"IF(OR(C46086=\"\",ISBLANK(C46086)),\"\",VLOOKUP(C46086,Sheet2!A:G,6,FALSE))","v":""},""]
[{"$f":"IF(OR(C46095=\"\",ISBLANK(C46095)),\"\",VLOOKUP(C46095,Sheet2!A:F,2,FALSE))","v":""},{"$f":"IF(OR(C46095=\"\",ISBLANK(C46095)),\"\",VLOOKUP(C46095,Sheet2!A:G,4,FALSE))","v":""},null,null,{"$f":"IF(OR(C46095=\"\",ISBLANK(C46095)),\"\",VLOOKUP(C46095,Sheet2!A:F,3,FALSE))","v":""},{"$f":"IF(OR(C46095=\"\",ISBLANK(C46095)),\"\",VLOOKUP(C46095,Sheet2!A:G,6,FALSE))","v":""},""]
[{"$f":"IF(OR(C46132=\"\",ISBLANK(C46132)),\"\",VLOOKUP(C46132,Sheet2!A:F,2,FALSE))","v":""},{"$f":"IF(OR(C46132=\"\",ISBLANK(C46132)),\"\",VLOOKUP(C46132,Sheet2!A:G,4,FALSE))","v":""},null,null,{"$f":"IF(OR(C46132=\"\",ISBLANK(C46132)),\"\",VLOOKUP(C46132,Sheet2!A:F,3,FALSE))","v":""},{"$f":"IF(OR(C46132=\"\",ISBLANK(C46132)),\"\",VLOOKUP(C46132,Sheet2!A:G,6,FALSE))","v":""},""]
[{"$f":"IF(OR(C46152=\"\",ISBLANK(C46152)),\"\",VLOOKUP(C46152,Sheet2!A:F,2,FALSE))","v":""},{"$f":"IF(OR(C46152=\"\",ISBLANK(C46152)),\"\",VLOOKUP(C46152,Sheet2!A:G,4,FALSE))","v":""},null,null,{"$f":"IF(OR(C46152=\"\",ISBLANK(C46152)),\"\",VLOOKUP(C46152,Sheet2!A:F,3,FALSE))","v":""},{"$f":"IF(OR(C46152=\"\",ISBLANK(C46152)),\"\",VLOOKUP(C46152,Sheet2!A:G,6,FALSE))","v":""},""]
[{"$f":"IF(OR(C46161=\"\",ISBLANK(C46161)),\"\",VLOOKUP(C46161,Sheet2!A:F,2,FALSE))","v":""},{"$f":"IF(OR(C46161=\"\",ISBLANK(C46161)),\"\",VLOOKUP(C46161,Sheet2!A:G,4,FALSE))","v":""},null,null,{"$f":"IF(OR(C46161=\"\",ISBLANK(C46161)),\"\",VLOOKUP(C46161,Sheet2!A:F,3,FALSE))","v":""},{"$f":"IF(OR(C46161=\"\",ISBLANK(C46161)),\"\",VLOOKUP(C46161,Sheet2!A:G,6,FALSE))","v":""},""]
[{"$f":"IF(OR(C46186=\"\",ISBLANK(C46186)),\"\",VLOOKUP(C46186,Sheet2!A:F,2,FALSE))","v":""},{"$f":"IF(OR(C46186=\"\",ISBLANK(C46186)),\"\",VLOOKUP(C46186,Sheet2!A:G,4,FALSE))","v":""},null,null,{"$f":"IF(OR(C46186=\"\",ISBLANK(C46186)),\"\",VLOOKUP(C46186,Sheet2!A:F,3,FALSE))","v":""},{"$f":"IF(OR(C46186=\"\",ISBLANK(C46186)),\"\",VLOOKUP(C46186,Sheet2!A:G,6,FALSE))","v":""},""]
[{"$f":"IF(OR(C46219=\"\",ISBLANK(C46219)),\"\",VLOOKUP(C46219,Sheet2!A:F,2,FALSE))","v":""},{"$f":"IF(OR(C46219=\"\",ISBLANK(C46219)),\"\",VLOOKUP(C46219,Sheet2!A:G,4,FALSE))","v":""},null,null,{"$f":"IF(OR(C46219=\"\",ISBLANK(C46219)),\"\",VLOOKUP(C46219,Sheet2!A:F,3,FALSE))","v":""},{"$f":"IF(OR(C46219=\"\",ISBLANK(C46219)),\"\",VLOOKUP(C46219,Sheet2!A:G,6,FALSE))","v":""},""]
[{"$f":"IF(OR(C46244=\"\",ISBLANK(C46244)),\"\",VLOOKUP(C46244,Sheet2!A:F,2,FALSE))","v":""},{"$f":"IF(OR(C46244=\"\",ISBLANK(C46244)),\"\",VLOOKUP(C46244,Sheet2!A:G,4,FALSE))","v":""},null,null,{"$f":"IF(OR(C46244=\"\",ISBLANK(C46244)),\"\",VLOOKUP(C46244,Sheet2!A:F,3,FALSE))","v":""},{"$f":"IF(OR(C46244=\"\",ISBLANK(C46244)),\"\",VLOOKUP(C46244,Sheet2!A:G,6,FALSE))","v":""},""]
[{"$f":"IF(OR(C46277=\"\",ISBLANK(C46277)),\"\",VLOOKUP(C46277,Sheet2!A:F,2,FALSE))","v":""},{"$f":"IF(OR(C46277=\"\",ISBLANK(C46277)),\"\",VLOOKUP(C46277,Sheet2!A:G,4,FALSE))","v":""},null,null,{"$f":"IF(OR(C46277=\"\",ISBLANK(C46277)),\"\",VLOOKUP(C46277,Sheet2!A:F,3,FALSE))","v":""},{"$f":"IF(OR(C46277=\"\",ISBLANK(C46277)),\"\",VLOOKUP(C46277,Sheet2!A:G,6,FALSE))","v":""},""]
[{"$f":"IF(OR(C46286=\"\",ISBLANK(C46286)),\"\",VLOOKUP(C46286,Sheet2!A:F,2,FALSE))","v":""},{"$f":"IF(OR(C46286=\"\",ISBLANK(C46286)),\"\",VLOOKUP(C46286,Sheet2!A:G,4,FALSE))","v":""},null,null,{"$f":"IF(OR(C46286=\"\",ISBLANK(C46286)),\"\",VLOOKUP(C46286,Sheet2!A:F,3,FALSE))","v":""},{"$f":"IF(OR(C46286=\"\",ISBLANK(C46286)),\"\",VLOOKUP(C46286,Sheet2!A:G,6,FALSE))","v":""},""]
[{"$f":"IF(OR(C46311=\"\",ISBLANK(C46311)),\"\",VLOOKUP(C46311,Sheet2!A:F,2,FALSE))","v":""},{"$f":"IF(OR(C46311=\"\",ISBLANK(C46311)),\"\",VLOOKUP(C46311,Sheet2!A:G,4,FALSE))","v":""},null,null,{"$f":"IF(OR(C46311=\"\",ISBLANK(C46311)),\"\",VLOOKUP(C46311,Sheet2!A:F,3,FALSE))","v":""},{"$f":"IF(OR(C46311=\"\",ISBLANK(C46311)),\"\",VLOOKUP(C46311,Sheet2!A:G,6,FALSE))","v":""},""]
[{"$f":"IF(OR(C46328=\"\",ISBLANK(C46328)),\"\",VLOOKUP(C46328,Sheet2!A:F,2,FALSE))","v":""},{"$f":"IF(OR(C46328=\"\",ISBLANK(C46328)),\"\",VLOOKUP(C46328,Sheet2!A:G,4,FALSE))","v":""},null,null,{"$f":"IF(OR(C46328=\"\",ISBLANK(C46328)),\"\",VLOOKUP(C46328,Sheet2!A:F,3,FALSE))","v":""},{"$f":"IF(OR(C46328=\"\",ISBLANK(C46328)),\"\",VLOOKUP(C46328,Sheet2!A:G,6,FALSE))","v":""},""]
[{"$f":"IF(OR(C46352=\"\",ISBLANK(C46352)),\"\",VLOOKUP(C46352,Sheet2!A:F,2,FALSE))","v":""},{"$f":"IF(OR(C46352=\"\",ISBLANK(C46352)),\"\",VLOOKUP(C46352,Sheet2!A:G,4,FALSE))","v":""},null,null,{"$f":"IF(OR(C46352=\"\",ISBLANK(C46352)),\"\",VLOOKUP(C46352,Sheet2!A:F,3,FALSE))","v":""},{"$f":"IF(OR(C46352=\"\",ISBLANK(C46352)),\"\",VLOOKUP(C46352,Sheet2!A:G,6,FALSE))","v":""},""]
[{"$f":"IF(OR(C46377=\"\",ISBLANK(C46377)),\"\",VLOOKUP(C46377,Sheet2!A:F,2,FALSE))","v":""},{"$f":"IF(OR(C46377=\"\",ISBLANK(C46377)),\"\",VLOOKUP(C46377,Sheet2!A:G,4,FALSE))","v":""},null,null,{"$f":"IF(OR(C46377=\"\",ISBLANK(C46377)),\"\",VLOOKUP(C46377,Sheet2!A:F,3,FALSE))","v":""},{"$f":"IF(OR(C46377=\"\",ISBLANK(C46377)),\"\",VLOOKUP(C46377,Sheet2!A:G,6,FALSE))","v":""},""]
[{"$f":"IF(OR(C46410=\"\",ISBLANK(C46410)),\"\",VLOOKUP(C46410,Sheet2!A:F,2,FALSE))","v":""},{"$f":"IF(OR(C46410=\"\",ISBLANK(C46410)),\"\",VLOOKUP(C46410,Sheet2!A:G,4,FALSE))","v":""},null,null,{"$f":"IF(OR(C46410=\"\",ISBLANK(C46410)),\"\",VLOOKUP(C46410,Sheet2!A:F,3,FALSE))","v":""},{"$f":"IF(OR(C46410=\"\",ISBLANK(C46410)),\"\",VLOOKUP(C46410,Sheet2!A:G,6,FALSE))","v":""},""]
[{"$f":"IF(OR(C46435=\"\",ISBLANK(C46435)),\"\",VLOOKUP(C46435,Sheet2!A:F,2,FALSE))","v":""},{"$f":"IF(OR(C46435=\"\",ISBLANK(C46435)),\"\",VLOOKUP(C46435,Sheet2!A:G,4,FALSE))","v":""},null,null,{"$f":"IF(OR(C46435=\"\",ISBLANK(C46435)),\"\",VLOOKUP(C46435,Sheet2!A:F,3,FALSE))","v":""},{"$f":"IF(OR(C46435=\"\",ISBLANK(C46435)),\"\",VLOOKUP(C46435,Sheet2!A:G,6,FALSE))","v":""},""]
[{"$f":"IF(OR(C46468=\"\",ISBLANK(C46468)),\"\",VLOOKUP(C46468,Sheet2!A:F,2,FALSE))","v":""},{"$f":"IF(OR(C46468=\"\",ISBLANK(C46468)),\"\",VLOOKUP(C46468,Sheet2!A:G,4,FALSE))","v":""},null,null,{"$f":"IF(OR(C46468=\"\",ISBLANK(C46468)),\"\",VLOOKUP(C46468,Sheet2!A:F,3,FALSE))","v":""},{"$f":"IF(OR(C46468=\"\",ISBLANK(C46468)),\"\",VLOOKUP(C46468,Sheet2!A:G,6,FALSE))","v":""},""]
[{"$f":"IF(OR(C46477=\"\",ISBLANK(C46477)),\"\",VLOOKUP(C46477,Sheet2!A:F,2,FALSE))","v":""},{"$f":"IF(OR(C46477=\"\",ISBLANK(C46477)),\"\",VLOOKUP(C46477,Sheet2!A:G,4,FALSE))","v":""},null,null,{"$f":"IF(OR(C46477=\"\",ISBLANK(C46477)),\"\",VLOOKUP(C46477,Sheet2!A:F,3,FALSE))","v":""},{"$f":"IF(OR(C46477=\"\",ISBLANK(C46477)),\"\",VLOOKUP(C46477,Sheet2!A:G,6,FALSE))","v":""},""]
[{"$f":"IF(OR(C46502=\"\",ISBLANK(C46502)),\"\",VLOOKUP(C46502,Sheet2!A:F,2,FALSE))","v":""},{"$f":"IF(OR(C46502=\"\",ISBLANK(C46502)),\"\",VLOOKUP(C46502,Sheet2!A:G,4,FALSE))","v":""},null,null,{"$f":"IF(OR(C46502=\"\",ISBLANK(C46502)),\"\",VLOOKUP(C46502,Sheet2!A:F,3,FALSE))","v":""},{"$f":"IF(OR(C46502=\"\",ISBLANK(C46502)),\"\",VLOOKUP(C46502,Sheet2!A:G,6,FALSE))","v":""},""]
[{"$f":"IF(OR(C46535=\"\",ISBLANK(C46535)),\"\",VLOOKUP(C46535,Sheet2!A:F,2,FALSE))","v":""},{"$f":"IF(OR(C46535=\"\",ISBLANK(C46535)),\"\",VLOOKUP(C46535,Sheet2!A:G,4,FALSE))","v":""},null,null,{"$f":"IF(OR(C46535=\"\",ISBLANK(C46535)),\"\",VLOOKUP(C46535,Sheet2!A:F,3,FALSE))","v":""},{"$f":"IF(OR(C46535=\"\",ISBLANK(C46535)),\"\",VLOOKUP(C46535,Sheet2!A:G,6,FALSE))","v":""},""]
[{"$f":"IF(OR(C46544=\"\",ISBLANK(C46544)),\"\",VLOOKUP(C46544,Sheet2!A:F,2,FALSE))","v":""},{"$f":"IF(OR(C46544=\"\",ISBLANK(C46544)),\"\",VLOOKUP(C46544,Sheet2!A:G,4,FALSE))","v":""},null,null,{"$f":"IF(OR(C46544=\"\",ISBLANK(C46544)),\"\",VLOOKUP(C46544,Sheet2!A:F,3,FALSE))","v":""},{"$f":"IF(OR(C46544=\"\",ISBLANK(C46544)),\"\",VLOOKUP(C46544,Sheet2!A:G,6,FALSE))","v":""},""]
[{"$f":"IF(OR(C46582=\"\",ISBLANK(C46582)),\"\",VLOOKUP(C46582,Sheet2!A:F,2,FALSE))","v":""},{"$f":"IF(OR(C46582=\"\",ISBLANK(C46582)),\"\",VLOOKUP(C46582,Sheet2!A:G,4,FALSE))","v":""},null,null,{"$f":"IF(OR(C46582=\"\",ISBLANK(C46582)),\"\",VLOOKUP(C46582,Sheet2!A:F,3,FALSE))","v":""},{"$f":"IF(OR(C46582=\"\",ISBLANK(C46582)),\"\",VLOOKUP(C46582,Sheet2!A:G,6,FALSE))","v":""},""]
[{"$f":"IF(OR(C46601=\"\",ISBLANK(C46601)),\"\",VLOOKUP(C46601,Sheet2!A:F,2,FALSE))","v":""},{"$f":"IF(OR(C46601=\"\",ISBLANK(C46601)),\"\",VLOOKUP(C46601,Sheet2!A:G,4,FALSE))","v":""},null,null,{"$f":"IF(OR(C46601=\"\",ISBLANK(C46601)),\"\",VLOOKUP(C46601,Sheet2!A:F,3,FALSE))","v":""},{"$f":"IF(OR(C46601=\"\",ISBLANK(C46601)),\"\",VLOOKUP(C46601,Sheet2!A:G,6,FALSE))","v":""},""]
[{"$f":"IF(OR(C46626=\"\",ISBLANK(C46626)),\"\",VLOOKUP(C46626,Sheet2!A:F,2,FALSE))","v":""},{"$f":"IF(OR(C46626=\"\",ISBLANK(C46626)),\"\",VLOOKUP(C46626,Sheet2!A:G,4,FALSE))","v":""},null,null,{"$f":"IF(OR(C46626=\"\",ISBLANK(C46626)),\"\",VLOOKUP(C46626,Sheet2!A:F,3,FALSE))","v":""},{"$f":"IF(OR(C46626=\"\",ISBLANK(C46626)),\"\",VLOOKUP(C46626,Sheet2!A:G,6,FALSE))","v":""},""]
[{"$f":"IF(OR(C46659=\"\",ISBLANK(C46659)),\"\",VLOOKUP(C46659,Sheet2!A:F,2,FALSE))","v":""},{"$f":"IF(OR(C46659=\"\",ISBLANK(C46659)),\"\",VLOOKUP(C46659,Sheet2!A:G,4,FALSE))","v":""},null,null,{"$f":"IF(OR(C46659=\"\",ISBLANK(C46659)),\"\",VLOOKUP(C46659,Sheet2!A:F,3,FALSE))","v":""},{"$f":"IF(OR(C46659=\"\",ISBLANK(C46659)),\"\",VLOOKUP(C46659,Sheet2!A:G,6,FALSE))","v":""},{"$f":"IF(F46659=0,\"\",F46659)","v":""}]
[{"$f":"IF(OR(C46668=\"\",ISBLANK(C46668)),\"\",VLOOKUP(C46668,Sheet2!A:F,2,FALSE))","v":""},{"$f":"IF(OR(C46668=\"\",ISBLANK(C46668)),\"\",VLOOKUP(C46668,Sheet2!A:G,4,FALSE))","v":""},null,null,{"$f":"IF(OR(C46668=\"\",ISBLANK(C46668)),\"\",VLOOKUP(C46668,Sheet2!A:F,3,FALSE))","v":""},{"$f":"IF(OR(C46668=\"\",ISBLANK(C46668)),\"\",VLOOKUP(C46668,Sheet2!A:G,6,FALSE))","v":""},""]
[{"$f":"IF(OR(C46693=\"\",ISBLANK(C46693)),\"\",VLOOKUP(C46693,Sheet2!A:F,2,FALSE))","v":""},{"$f":"IF(OR(C46693=\"\",ISBLANK(C46693)),\"\",VLOOKUP(C46693,Sheet2!A:G,4,FALSE))","v":""},null,null,{"$f":"IF(OR(C46693=\"\",ISBLANK(C46693)),\"\",VLOOKUP(C46693,Sheet2!A:F,3,FALSE))","v":""},{"$f":"IF(OR(C46693=\"\",ISBLANK(C46693)),\"\",VLOOKUP(C46693,Sheet2!A:G,6,FALSE))","v":""},""]
[{"$f":"IF(OR(C46726=\"\",ISBLANK(C46726)),\"\",VLOOKUP(C46726,Sheet2!A:F,2,FALSE))","v":""},{"$f":"IF(OR(C46726=\"\",ISBLANK(C46726)),\"\",VLOOKUP(C46726,Sheet2!A:G,4,FALSE))","v":""},null,null,{"$f":"IF(OR(C46726=\"\",ISBLANK(C46726)),\"\",VLOOKUP(C46726,Sheet2!A:F,3,FALSE))","v":""},{"$f":"IF(OR(C46726=\"\",ISBLANK(C46726)),\"\",VLOOKUP(C46726,Sheet2!A:G,6,FALSE))","v":""},""]
[{"$f":"IF(OR(C46751=\"\",ISBLANK(C46751)),\"\",VLOOKUP(C46751,Sheet2!A:F,2,FALSE))","v":""},{"$f":"IF(OR(C46751=\"\",ISBLANK(C46751)),\"\",VLOOKUP(C46751,Sheet2!A:G,4,FALSE))","v":""},null,null,{"$f":"IF(OR(C46751=\"\",ISBLANK(C46751)),\"\",VLOOKUP(C46751,Sheet2!A:F,3,FALSE))","v":""},{"$f":"IF(OR(C46751=\"\",ISBLANK(C46751)),\"\",VLOOKUP(C46751,Sheet2!A:G,6,FALSE))","v":""},""]
[{"$f":"IF(OR(C46760=\"\",ISBLANK(C46760)),\"\",VLOOKUP(C46760,Sheet2!A:F,2,FALSE))","v":""},{"$f":"IF(OR(C46760=\"\",ISBLANK(C46760)),\"\",VLOOKUP(C46760,Sheet2!A:G,4,FALSE))","v":""},null,null,{"$f":"IF(OR(C46760=\"\",ISBLANK(C46760)),\"\",VLOOKUP(C46760,Sheet2!A:F,3,FALSE))","v":""},{"$f":"IF(OR(C46760=\"\",ISBLANK(C46760)),\"\",VLOOKUP(C46760,Sheet2!A:G,6,FALSE))","v":""},""]
[{"$f":"IF(OR(C46793=\"\",ISBLANK(C46793)),\"\",VLOOKUP(C46793,Sheet2!A:F,2,FALSE))","v":""},{"$f":"IF(OR(C46793=\"\",ISBLANK(C46793)),\"\",VLOOKUP(C46793,Sheet2!A:G,4,FALSE))","v":""},null,null,{"$f":"IF(OR(C46793=\"\",ISBLANK(C46793)),\"\",VLOOKUP(C46793,Sheet2!A:F,3,FALSE))","v":""},{"$f":"IF(OR(C46793=\"\",ISBLANK(C46793)),\"\",VLOOKUP(C46793,Sheet2!A:G,6,FALSE))","v":""},""]
[{"$f":"IF(OR(C46813=\"\",ISBLANK(C46813)),\"\",VLOOKUP(C46813,Sheet2!A:F,2,FALSE))","v":""},{"$f":"IF(OR(C46813=\"\",ISBLANK(C46813)),\"\",VLOOKUP(C46813,Sheet2!A:G,4,FALSE))","v":""},null,null,{"$f":"IF(OR(C46813=\"\",ISBLANK(C46813)),\"\",VLOOKUP(C46813,Sheet2!A:F,3,FALSE))","v":""},{"$f":"IF(OR(C46813=\"\",ISBLANK(C46813)),\"\",VLOOKUP(C46813,Sheet2!A:G,6,FALSE))","v":""},""]
[{"$f":"IF(OR(C46850=\"\",ISBLANK(C46850)),\"\",VLOOKUP(C46850,Sheet2!A:F,2,FALSE))","v":""},{"$f":"IF(OR(C46850=\"\",ISBLANK(C46850)),\"\",VLOOKUP(C46850,Sheet2!A:G,4,FALSE))","v":""},null,null,{"$f":"IF(OR(C46850=\"\",ISBLANK(C46850)),\"\",VLOOKUP(C46850,Sheet2!A:F,3,FALSE))","v":""},{"$f":"IF(OR(C46850=\"\",ISBLANK(C46850)),\"\",VLOOKUP(C46850,Sheet2!A:G,6,FALSE))","v":""},""]
[{"$f":"IF(OR(C46859=\"\",ISBLANK(C46859)),\"\",VLOOKUP(C46859,Sheet2!A:F,2,FALSE))","v":""},{"$f":"IF(OR(C46859=\"\",ISBLANK(C46859)),\"\",VLOOKUP(C46859,Sheet2!A:G,4,FALSE))","v":""},null,null,{"$f":"IF(OR(C46859=\"\",ISBLANK(C46859)),\"\",VLOOKUP(C46859,Sheet2!A:F,3,FALSE))","v":""},{"$f":"IF(OR(C46859=\"\",ISBLANK(C46859)),\"\",VLOOKUP(C46859,Sheet2!A:G,6,FALSE))","v":""},""]
[{"$f":"IF(OR(C46884=\"\",ISBLANK(C46884)),\"\",VLOOKUP(C46884,Sheet2!A:F,2,FALSE))","v":""},{"$f":"IF(OR(C46884=\"\",ISBLANK(C46884)),\"\",VLOOKUP(C46884,Sheet2!A:G,4,FALSE))","v":""},null,null,{"$f":"IF(OR(C46884=\"\",ISBLANK(C46884)),\"\",VLOOKUP(C46884,Sheet2!A:F,3,FALSE))","v":""},{"$f":"IF(OR(C46884=\"\",ISBLANK(C46884)),\"\",VLOOKUP(C46884,Sheet2!A:G,6,FALSE))","v":""},""]
[{"$f":"IF(OR(C46917=\"\",ISBLANK(C46917)),\"\",VLOOKUP(C46917,Sheet2!A:F,2,FALSE))","v":""},{"$f":"IF(OR(C46917=\"\",ISBLANK(C46917)),\"\",VLOOKUP(C46917,Sheet2!A:G,4,FALSE))","v":""},null,null,{"$f":"IF(OR(C46917=\"\",ISBLANK(C46917)),\"\",VLOOKUP(C46917,Sheet2!A:F,3,FALSE))","v":""},{"$f":"IF(OR(C46917=\"\",ISBLANK(C46917)),\"\",VLOOKUP(C46917,Sheet2!A:G,6,FALSE))","v":""},""]
[{"$f":"IF(OR(C46942=\"\",ISBLANK(C46942)),\"\",VLOOKUP(C46942,Sheet2!A:F,2,FALSE))","v":""},{"$f":"IF(OR(C46942=\"\",ISBLANK(C46942)),\"\",VLOOKUP(C46942,Sheet2!A:G,4,FALSE))","v":""},null,null,{"$f":"IF(OR(C46942=\"\",ISBLANK(C46942)),\"\",VLOOKUP(C46942,Sheet2!A:F,3,FALSE))","v":""},{"$f":"IF(OR(C46942=\"\",ISBLANK(C46942)),\"\",VLOOKUP(C46942,Sheet2!A:G,6,FALSE))","v":""},""]
[{"$f":"IF(OR(C46951=\"\",ISBLANK(C46951)),\"\",VLOOKUP(C46951,Sheet2!A:F,2,FALSE))","v":""},{"$f":"IF(OR(C46951=\"\",ISBLANK(C46951)),\"\",VLOOKUP(C46951,Sheet2!A:G,4,FALSE))","v":""},null,null,{"$f":"IF(OR(C46951=\"\",ISBLANK(C46951)),\"\",VLOOKUP(C46951,Sheet2!A:F,3,FALSE))","v":""},{"$f":"IF(OR(C46951=\"\",ISBLANK(C46951)),\"\",VLOOKUP(C46951,Sheet2!A:G,6,FALSE))","v":""},""]
[{"$f":"IF(OR(C46984=\"\",ISBLANK(C46984)),\"\",VLOOKUP(C46984,Sheet2!A:F,2,FALSE))","v":""},{"$f":"IF(OR(C46984=\"\",ISBLANK(C46984)),\"\",VLOOKUP(C46984,Sheet2!A:G,4,FALSE))","v":""},null,null,{"$f":"IF(OR(C46984=\"\",ISBLANK(C46984)),\"\",VLOOKUP(C46984,Sheet2!A:F,3,FALSE))","v":""},{"$f":"IF(OR(C46984=\"\",ISBLANK(C46984)),\"\",VLOOKUP(C46984,Sheet2!A:G,6,FALSE))","v":""},""]
[{"$f":"IF(OR(C47009=\"\",ISBLANK(C47009)),\"\",VLOOKUP(C47009,Sheet2!A:F,2,FALSE))","v":""},{"$f":"IF(OR(C47009=\"\",ISBLANK(C47009)),\"\",VLOOKUP(C47009,Sheet2!A:G,4,FALSE))","v":""},null,null,{"$f":"IF(OR(C47009=\"\",ISBLANK(C47009)),\"\",VLOOKUP(C47009,Sheet2!A:F,3,FALSE))","v":""},{"$f":"IF(OR(C47009=\"\",ISBLANK(C47009)),\"\",VLOOKUP(C47009,Sheet2!A:G,6,FALSE))","v":""},""]
[{"$f":"IF(OR(C47032=\"\",ISBLANK(C47032)),\"\",VLOOKUP(C47032,Sheet2!A:F,2,FALSE))","v":""},{"$f":"IF(OR(C47032=\"\",ISBLANK(C47032)),\"\",VLOOKUP(C47032,Sheet2!A:G,4,FALSE))","v":""},null,null,{"$f":"IF(OR(C47032=\"\",ISBLANK(C47032)),\"\",VLOOKUP(C47032,Sheet2!A:F,3,FALSE))","v":""},{"$f":"IF(OR(C47032=\"\",ISBLANK(C47032)),\"\",VLOOKUP(C47032,Sheet2!A:G,6,FALSE))","v":""},""]
[{"$f":"IF(OR(C47066=\"\",ISBLANK(C47066)),\"\",VLOOKUP(C47066,Sheet2!A:F,2,FALSE))","v":""},{"$f":"IF(OR(C47066=\"\",ISBLANK(C47066)),\"\",VLOOKUP(C47066,Sheet2!A:G,4,FALSE))","v":""},null,null,{"$f":"IF(OR(C47066=\"\",ISBLANK(C47066)),\"\",VLOOKUP(C47066,Sheet2!A:F,3,FALSE))","v":""},{"$f":"IF(OR(C47066=\"\",ISBLANK(C47066)),\"\",VLOOKUP(C47066,Sheet2!A:G,6,FALSE))","v":""},""]
[{"$f":"IF(OR(C47075=\"\",ISBLANK(C47075)),\"\",VLOOKUP(C47075,Sheet2!A:F,2,FALSE))","v":""},{"$f":"IF(OR(C47075=\"\",ISBLANK(C47075)),\"\",VLOOKUP(C47075,Sheet2!A:G,4,FALSE))","v":""},null,null,{"$f":"IF(OR(C47075=\"\",ISBLANK(C47075)),\"\",VLOOKUP(C47075,Sheet2!A:F,3,FALSE))","v":""},{"$f":"IF(OR(C47075=\"\",ISBLANK(C47075)),\"\",VLOOKUP(C47075,Sheet2!A:G,6,FALSE))","v":""},""]
[{"$f":"IF(OR(C47108=\"\",ISBLANK(C47108)),\"\",VLOOKUP(C47108,Sheet2!A:F,2,FALSE))","v":""},{"$f":"IF(OR(C47108=\"\",ISBLANK(C47108)),\"\",VLOOKUP(C47108,Sheet2!A:G,4,FALSE))","v":""},null,null,{"$f":"IF(OR(C47108=\"\",ISBLANK(C47108)),\"\",VLOOKUP(C47108,Sheet2!A:F,3,FALSE))","v":""},{"$f":"IF(OR(C47108=\"\",ISBLANK(C47108)),\"\",VLOOKUP(C47108,Sheet2!A:G,6,FALSE))","v":""},""]
[{"$f":"IF(OR(C47133=\"\",ISBLANK(C47133)),\"\",VLOOKUP(C47133,Sheet2!A:F,2,FALSE))","v":""},{"$f":"IF(OR(C47133=\"\",ISBLANK(C47133)),\"\",VLOOKUP(C47133,Sheet2!A:G,4,FALSE))","v":""},null,null,{"$f":"IF(OR(C47133=\"\",ISBLANK(C47133)),\"\",VLOOKUP(C47133,Sheet2!A:F,3,FALSE))","v":""},{"$f":"IF(OR(C47133=\"\",ISBLANK(C47133)),\"\",VLOOKUP(C47133,Sheet2!A:G,6,FALSE))","v":""},""]
[{"$f":"IF(OR(C47142=\"\",ISBLANK(C47142)),\"\",VLOOKUP(C47142,Sheet2!A:F,2,FALSE))","v":""},{"$f":"IF(OR(C47142=\"\",ISBLANK(C47142)),\"\",VLOOKUP(C47142,Sheet2!A:G,4,FALSE))","v":""},null,null,{"$f":"IF(OR(C47142=\"\",ISBLANK(C47142)),\"\",VLOOKUP(C47142,Sheet2!A:F,3,FALSE))","v":""},{"$f":"IF(OR(C47142=\"\",ISBLANK(C47142)),\"\",VLOOKUP(C47142,Sheet2!A:G,6,FALSE))","v":""},""]
[{"$f":"IF(OR(C47175=\"\",ISBLANK(C47175)),\"\",VLOOKUP(C47175,Sheet2!A:F,2,FALSE))","v":""},{"$f":"IF(OR(C47175=\"\",ISBLANK(C47175)),\"\",VLOOKUP(C47175,Sheet2!A:G,4,FALSE))","v":""},null,null,{"$f":"IF(OR(C47175=\"\",ISBLANK(C47175)),\"\",VLOOKUP(C47175,Sheet2!A:F,3,FALSE))","v":""},{"$f":"IF(OR(C47175=\"\",ISBLANK(C47175)),\"\",VLOOKUP(C47175,Sheet2!A:G,6,FALSE))","v":""},""]
[{"$f":"IF(OR(C47200=\"\",ISBLANK(C47200)),\"\",VLOOKUP(C47200,Sheet2!A:F,2,FALSE))","v":""},{"$f":"IF(OR(C47200=\"\",ISBLANK(C47200)),\"\",VLOOKUP(C47200,Sheet2!A:G,4,FALSE))","v":""},null,null,{"$f":"IF(OR(C47200=\"\",ISBLANK(C47200)),\"\",VLOOKUP(C47200,Sheet2!A:F,3,FALSE))","v":""},{"$f":"IF(OR(C47200=\"\",ISBLANK(C47200)),\"\",VLOOKUP(C47200,Sheet2!A:G,6,FALSE))","v":""},""]
[{"$f":"IF(OR(C47233=\"\",ISBLANK(C47233)),\"\",VLOOKUP(C47233,Sheet2!A:F,2,FALSE))","v":""},{"$f":"IF(OR(C47233=\"\",ISBLANK(C47233)),\"\",VLOOKUP(C47233,Sheet2!A:G,4,FALSE))","v":""},null,null,{"$f":"IF(OR(C47233=\"\",ISBLANK(C47233)),\"\",VLOOKUP(C47233,Sheet2!A:F,3,FALSE))","v":""},{"$f":"IF(OR(C47233=\"\",ISBLANK(C47233)),\"\",VLOOKUP(C47233,Sheet2!A:G,6,FALSE))","v":""},""]
[{"$f":"IF(OR(C47258=\"\",ISBLANK(C47258)),\"\",VLOOKUP(C47258,Sheet2!A:F,2,FALSE))","v":""},{"$f":"IF(OR(C47258=\"\",ISBLANK(C47258)),\"\",VLOOKUP(C47258,Sheet2!A:G,4,FALSE))","v":""},null,null,{"$f":"IF(OR(C47258=\"\",ISBLANK(C47258)),\"\",VLOOKUP(C47258,Sheet2!A:F,3,FALSE))","v":""},{"$f":"IF(OR(C47258=\"\",ISBLANK(C47258)),\"\",VLOOKUP(C47258,Sheet2!A:G,6,FALSE))","v":""},""]
[{"$f":"IF(OR(C47263=\"\",ISBLANK(C47263)),\"\",VLOOKUP(C47263,Sheet2!A:F,2,FALSE))","v":""},{"$f":"IF(OR(C47263=\"\",ISBLANK(C47263)),\"\",VLOOKUP(C47263,Sheet2!A:G,4,FALSE))","v":""},null,null,{"$f":"IF(OR(C47263=\"\",ISBLANK(C47263)),\"\",VLOOKUP(C47263,Sheet2!A:F,3,FALSE))","v":""},{"$f":"IF(OR(C47263=\"\",ISBLANK(C47263)),\"\",VLOOKUP(C47263,Sheet2!A:G,6,FALSE))","v":""},""]
[{"$f":"IF(OR(C47299=\"\",ISBLANK(C47299)),\"\",VLOOKUP(C47299,Sheet2!A:F,2,FALSE))","v":""},{"$f":"IF(OR(C47299=\"\",ISBLANK(C47299)),\"\",VLOOKUP(C47299,Sheet2!A:G,4,FALSE))","v":""},null,null,{"$f":"IF(OR(C47299=\"\",ISBLANK(C47299)),\"\",VLOOKUP(C47299,Sheet2!A:F,3,FALSE))","v":""},{"$f":"IF(OR(C47299=\"\",ISBLANK(C47299)),\"\",VLOOKUP(C47299,Sheet2!A:G,6,FALSE))","v":""},{"$f":"IF(F47299=0,\"\",F47299)","v":""}]
[{"$f":"IF(OR(C47324=\"\",ISBLANK(C47324)),\"\",VLOOKUP(C47324,Sheet2!A:F,2,FALSE))","v":""},{"$f":"IF(OR(C47324=\"\",ISBLANK(C47324)),\"\",VLOOKUP(C47324,Sheet2!A:G,4,FALSE))","v":""},null,null,{"$f":"IF(OR(C47324=\"\",ISBLANK(C47324)),\"\",VLOOKUP(C47324,Sheet2!A:F,3,FALSE))","v":""},{"$f":"IF(OR(C47324=\"\",ISBLANK(C47324)),\"\",VLOOKUP(C47324,Sheet2!A:G,6,FALSE))","v":""},""]
[{"$f":"IF(OR(C47333=\"\",ISBLANK(C47333)),\"\",VLOOKUP(C47333,Sheet2!A:F,2,FALSE))","v":""},{"$f":"IF(OR(C47333=\"\",ISBLANK(C47333)),\"\",VLOOKUP(C47333,Sheet2!A:G,4,FALSE))","v":""},null,null,{"$f":"IF(OR(C47333=\"\",ISBLANK(C47333)),\"\",VLOOKUP(C47333,Sheet2!A:F,3,FALSE))","v":""},{"$f":"IF(OR(C47333=\"\",ISBLANK(C47333)),\"\",VLOOKUP(C47333,Sheet2!A:G,6,FALSE))","v":""},""]
[{"$f":"IF(OR(C47366=\"\",ISBLANK(C47366)),\"\",VLOOKUP(C47366,Sheet2!A:F,2,FALSE))","v":""},{"$f":"IF(OR(C47366=\"\",ISBLANK(C47366)),\"\",VLOOKUP(C47366,Sheet2!A:G,4,FALSE))","v":""},null,null,{"$f":"IF(OR(C47366=\"\",ISBLANK(C47366)),\"\",VLOOKUP(C47366,Sheet2!A:F,3,FALSE))","v":""},{"$f":"IF(OR(C47366=\"\",ISBLANK(C47366)),\"\",VLOOKUP(C47366,Sheet2!A:G,6,FALSE))","v":""},""]
[{"$f":"IF(OR(C47391=\"\",ISBLANK(C47391)),\"\",VLOOKUP(C47391,Sheet2!A:F,2,FALSE))","v":""},{"$f":"IF(OR(C47391=\"\",ISBLANK(C47391)),\"\",VLOOKUP(C47391,Sheet2!A:G,4,FALSE))","v":""},null,null,{"$f":"IF(OR(C47391=\"\",ISBLANK(C47391)),\"\",VLOOKUP(C47391,Sheet2!A:F,3,FALSE))","v":""},{"$f":"IF(OR(C47391=\"\",ISBLANK(C47391)),\"\",VLOOKUP(C47391,Sheet2!A:G,6,FALSE))","v":""},""]
[{"$f":"IF(OR(C47424=\"\",ISBLANK(C47424)),\"\",VLOOKUP(C47424,Sheet2!A:F,2,FALSE))","v":""},{"$f":"IF(OR(C47424=\"\",ISBLANK(C47424)),\"\",VLOOKUP(C47424,Sheet2!A:G,4,FALSE))","v":""},null,null,{"$f":"IF(OR(C47424=\"\",ISBLANK(C47424)),\"\",VLOOKUP(C47424,Sheet2!A:F,3,FALSE))","v":""},{"$f":"IF(OR(C47424=\"\",ISBLANK(C47424)),\"\",VLOOKUP(C47424,Sheet2!A:G,6,FALSE))","v":""},""]
[{"$f":"IF(OR(C47449=\"\",ISBLANK(C47449)),\"\",VLOOKUP(C47449,Sheet2!A:F,2,FALSE))","v":""},{"$f":"IF(OR(C47449=\"\",ISBLANK(C47449)),\"\",VLOOKUP(C47449,Sheet2!A:G,4,FALSE))","v":""},null,null,{"$f":"IF(OR(C47449=\"\",ISBLANK(C47449)),\"\",VLOOKUP(C47449,Sheet2!A:F,3,FALSE))","v":""},{"$f":"IF(OR(C47449=\"\",ISBLANK(C47449)),\"\",VLOOKUP(C47449,Sheet2!A:G,6,FALSE))","v":""},""]
[{"$f":"IF(OR(C47458=\"\",ISBLANK(C47458)),\"\",VLOOKUP(C47458,Sheet2!A:F,2,FALSE))","v":""},{"$f":"IF(OR(C47458=\"\",ISBLANK(C47458)),\"\",VLOOKUP(C47458,Sheet2!A:G,4,FALSE))","v":""},null,null,{"$f":"IF(OR(C47458=\"\",ISBLANK(C47458)),\"\",VLOOKUP(C47458,Sheet2!A:F,3,FALSE))","v":""},{"$f":"IF(OR(C47458=\"\",ISBLANK(C47458)),\"\",VLOOKUP(C47458,Sheet2!A:G,6,FALSE))","v":""},""]
[{"$f":"IF(OR(C47482=\"\",ISBLANK(C47482)),\"\",VLOOKUP(C47482,Sheet2!A:F,2,FALSE))","v":""},{"$f":"IF(OR(C47482=\"\",ISBLANK(C47482)),\"\",VLOOKUP(C47482,Sheet2!A:G,4,FALSE))","v":""},null,null,{"$f":"IF(OR(C47482=\"\",ISBLANK(C47482)),\"\",VLOOKUP(C47482,Sheet2!A:F,3,FALSE))","v":""},{"$f":"IF(OR(C47482=\"\",ISBLANK(C47482)),\"\",VLOOKUP(C47482,Sheet2!A:G,6,FALSE))","v":""},""]
[{"$f":"IF(OR(C47515=\"\",ISBLANK(C47515)),\"\",VLOOKUP(C47515,Sheet2!A:F,2,FALSE))","v":""},{"$f":"IF(OR(C47515=\"\",ISBLANK(C47515)),\"\",VLOOKUP(C47515,Sheet2!A:G,4,FALSE))","v":""},null,null,{"$f":"IF(OR(C47515=\"\",ISBLANK(C47515)),\"\",VLOOKUP(C47515,Sheet2!A:F,3,FALSE))","v":""},{"$f":"IF(OR(C47515=\"\",ISBLANK(C47515)),\"\",VLOOKUP(C47515,Sheet2!A:G,6,FALSE))","v":""},""]
[{"$f":"IF(OR(C47524=\"\",ISBLANK(C47524)),\"\",VLOOKUP(C47524,Sheet2!A:F,2,FALSE))","v":""},{"$f":"IF(OR(C47524=\"\",ISBLANK(C47524)),\"\",VLOOKUP(C47524,Sheet2!A:G,4,FALSE))","v":""},null,null,{"$f":"IF(OR(C47524=\"\",ISBLANK(C47524)),\"\",VLOOKUP(C47524,Sheet2!A:F,3,FALSE))","v":""},{"$f":"IF(OR(C47524=\"\",ISBLANK(C47524)),\"\",VLOOKUP(C47524,Sheet2!A:G,6,FALSE))","v":""},""]
[{"$f":"IF(OR(C47549=\"\",ISBLANK(C47549)),\"\",VLOOKUP(C47549,Sheet2!A:F,2,FALSE))","v":""},{"$f":"IF(OR(C47549=\"\",ISBLANK(C47549)),\"\",VLOOKUP(C47549,Sheet2!A:G,4,FALSE))","v":""},null,null,{"$f":"IF(OR(C47549=\"\",ISBLANK(C47549)),\"\",VLOOKUP(C47549,Sheet2!A:F,3,FALSE))","v":""},{"$f":"IF(OR(C47549=\"\",ISBLANK(C47549)),\"\",VLOOKUP(C47549,Sheet2!A:G,6,FALSE))","v":""},""]
[{"$f":"IF(OR(C47582=\"\",ISBLANK(C47582)),\"\",VLOOKUP(C47582,Sheet2!A:F,2,FALSE))","v":""},{"$f":"IF(OR(C47582=\"\",ISBLANK(C47582)),\"\",VLOOKUP(C47582,Sheet2!A:G,4,FALSE))","v":""},null,null,{"$f":"IF(OR(C47582=\"\",ISBLANK(C47582)),\"\",VLOOKUP(C47582,Sheet2!A:F,3,FALSE))","v":""},{"$f":"IF(OR(C47582=\"\",ISBLANK(C47582)),\"\",VLOOKUP(C47582,Sheet2!A:G,6,FALSE))","v":""},""]
[{"$f":"IF(OR(C47615=\"\",ISBLANK(C47615)),\"\",VLOOKUP(C47615,Sheet2!A:F,2,FALSE))","v":""},{"$f":"IF(OR(C47615=\"\",ISBLANK(C47615)),\"\",VLOOKUP(C47615,Sheet2!A:G,4,FALSE))","v":""},null,null,{"$f":"IF(OR(C47615=\"\",ISBLANK(C47615)),\"\",VLOOKUP(C47615,Sheet2!A:F,3,FALSE))","v":""},{"$f":"IF(OR(C47615=\"\",ISBLANK(C47615)),\"\",VLOOKUP(C47615,Sheet2!A:G,6,FALSE))","v":""},""]
[{"$f":"IF(OR(C47640=\"\",ISBLANK(C47640)),\"\",VLOOKUP(C47640,Sheet2!A:F,2,FALSE))","v":""},{"$f":"IF(OR(C47640=\"\",ISBLANK(C47640)),\"\",VLOOKUP(C47640,Sheet2!A:G,4,FALSE))","v":""},null,null,{"$f":"IF(OR(C47640=\"\",ISBLANK(C47640)),\"\",VLOOKUP(C47640,Sheet2!A:F,3,FALSE))","v":""},{"$f":"IF(OR(C47640=\"\",ISBLANK(C47640)),\"\",VLOOKUP(C47640,Sheet2!A:G,6,FALSE))","v":""},""]
[{"$f":"IF(OR(C47649=\"\",ISBLANK(C47649)),\"\",VLOOKUP(C47649,Sheet2!A:F,2,FALSE))","v":""},{"$f":"IF(OR(C47649=\"\",ISBLANK(C47649)),\"\",VLOOKUP(C47649,Sheet2!A:G,4,FALSE))","v":""},null,null,{"$f":"IF(OR(C47649=\"\",ISBLANK(C47649)),\"\",VLOOKUP(C47649,Sheet2!A:F,3,FALSE))","v":""},{"$f":"IF(OR(C47649=\"\",ISBLANK(C47649)),\"\",VLOOKUP(C47649,Sheet2!A:G,6,FALSE))","v":""},""]
[{"$f":"IF(OR(C47682=\"\",ISBLANK(C47682)),\"\",VLOOKUP(C47682,Sheet2!A:F,2,FALSE))","v":""},{"$f":"IF(OR(C47682=\"\",ISBLANK(C47682)),\"\",VLOOKUP(C47682,Sheet2!A:G,4,FALSE))","v":""},null,null,{"$f":"IF(OR(C47682=\"\",ISBLANK(C47682)),\"\",VLOOKUP(C47682,Sheet2!A:F,3,FALSE))","v":""},{"$f":"IF(OR(C47682=\"\",ISBLANK(C47682)),\"\",VLOOKUP(C47682,Sheet2!A:G,6,FALSE))","v":""},""]
[{"$f":"IF(OR(C47707=\"\",ISBLANK(C47707)),\"\",VLOOKUP(C47707,Sheet2!A:F,2,FALSE))","v":""},{"$f":"IF(OR(C47707=\"\",ISBLANK(C47707)),\"\",VLOOKUP(C47707,Sheet2!A:G,4,FALSE))","v":""},null,null,{"$f":"IF(OR(C47707=\"\",ISBLANK(C47707)),\"\",VLOOKUP(C47707,Sheet2!A:F,3,FALSE))","v":""},{"$f":"IF(OR(C47707=\"\",ISBLANK(C47707)),\"\",VLOOKUP(C47707,Sheet2!A:G,6,FALSE))","v":""},""]
[{"$f":"IF(OR(C47736=\"\",ISBLANK(C47736)),\"\",VLOOKUP(C47736,Sheet2!A:F,2,FALSE))","v":""},{"$f":"IF(OR(C47736=\"\",ISBLANK(C47736)),\"\",VLOOKUP(C47736,Sheet2!A:G,4,FALSE))","v":""},null,null,{"$f":"IF(OR(C47736=\"\",ISBLANK(C47736)),\"\",VLOOKUP(C47736,Sheet2!A:F,3,FALSE))","v":""},{"$f":"IF(OR(C47736=\"\",ISBLANK(C47736)),\"\",VLOOKUP(C47736,Sheet2!A:G,6,FALSE))","v":""},""]
[{"$f":"IF(OR(C47740=\"\",ISBLANK(C47740)),\"\",VLOOKUP(C47740,Sheet2!A:F,2,FALSE))","v":""},{"$f":"IF(OR(C47740=\"\",ISBLANK(C47740)),\"\",VLOOKUP(C47740,Sheet2!A:G,4,FALSE))","v":""},null,null,{"$f":"IF(OR(C47740=\"\",ISBLANK(C47740)),\"\",VLOOKUP(C47740,Sheet2!A:F,3,FALSE))","v":""},{"$f":"IF(OR(C47740=\"\",ISBLANK(C47740)),\"\",VLOOKUP(C47740,Sheet2!A:G,6,FALSE))","v":""},""]
[{"$f":"IF(OR(C47773=\"\",ISBLANK(C47773)),\"\",VLOOKUP(C47773,Sheet2!A:F,2,FALSE))","v":""},{"$f":"IF(OR(C47773=\"\",ISBLANK(C47773)),\"\",VLOOKUP(C47773,Sheet2!A:G,4,FALSE))","v":""},null,null,{"$f":"IF(OR(C47773=\"\",ISBLANK(C47773)),\"\",VLOOKUP(C47773,Sheet2!A:F,3,FALSE))","v":""},{"$f":"IF(OR(C47773=\"\",ISBLANK(C47773)),\"\",VLOOKUP(C47773,Sheet2!A:G,6,FALSE))","v":""},""]
[{"$f":"IF(OR(C47806=\"\",ISBLANK(C47806)),\"\",VLOOKUP(C47806,Sheet2!A:F,2,FALSE))","v":""},{"$f":"IF(OR(C47806=\"\",ISBLANK(C47806)),\"\",VLOOKUP(C47806,Sheet2!A:G,4,FALSE))","v":""},null,null,{"$f":"IF(OR(C47806=\"\",ISBLANK(C47806)),\"\",VLOOKUP(C47806,Sheet2!A:F,3,FALSE))","v":""},{"$f":"IF(OR(C47806=\"\",ISBLANK(C47806)),\"\",VLOOKUP(C47806,Sheet2!A:G,6,FALSE))","v":""},""]
[{"$f":"IF(OR(C47831=\"\",ISBLANK(C47831)),\"\",VLOOKUP(C47831,Sheet2!A:F,2,FALSE))","v":""},{"$f":"IF(OR(C47831=\"\",ISBLANK(C47831)),\"\",VLOOKUP(C47831,Sheet2!A:G,4,FALSE))","v":""},null,null,{"$f":"IF(OR(C47831=\"\",ISBLANK(C47831)),\"\",VLOOKUP(C47831,Sheet2!A:F,3,FALSE))","v":""},{"$f":"IF(OR(C47831=\"\",ISBLANK(C47831)),\"\",VLOOKUP(C47831,Sheet2!A:G,6,FALSE))","v":""},""]
[{"$f":"IF(OR(C47840=\"\",ISBLANK(C47840)),\"\",VLOOKUP(C47840,Sheet2!A:F,2,FALSE))","v":""},{"$f":"IF(OR(C47840=\"\",ISBLANK(C47840)),\"\",VLOOKUP(C47840,Sheet2!A:G,4,FALSE))","v":""},null,null,{"$f":"IF(OR(C47840=\"\",ISBLANK(C47840)),\"\",VLOOKUP(C47840,Sheet2!A:F,3,FALSE))","v":""},{"$f":"IF(OR(C47840=\"\",ISBLANK(C47840)),\"\",VLOOKUP(C47840,Sheet2!A:G,6,FALSE))","v":""},""]
[{"$f":"IF(OR(C47873=\"\",ISBLANK(C47873)),\"\",VLOOKUP(C47873,Sheet2!A:F,2,FALSE))","v":""},{"$f":"IF(OR(C47873=\"\",ISBLANK(C47873)),\"\",VLOOKUP(C47873,Sheet2!A:G,4,FALSE))","v":""},null,null,{"$f":"IF(OR(C47873=\"\",ISBLANK(C47873)),\"\",VLOOKUP(C47873,Sheet2!A:F,3,FALSE))","v":""},{"$f":"IF(OR(C47873=\"\",ISBLANK(C47873)),\"\",VLOOKUP(C47873,Sheet2!A:G,6,FALSE))","v":""},""]
[{"$f":"IF(OR(C47898=\"\",ISBLANK(C47898)),\"\",VLOOKUP(C47898,Sheet2!A:F,2,FALSE))","v":""},{"$f":"IF(OR(C47898=\"\",ISBLANK(C47898)),\"\",VLOOKUP(C47898,Sheet2!A:G,4,FALSE))","v":""},null,null,{"$f":"IF(OR(C47898=\"\",ISBLANK(C47898)),\"\",VLOOKUP(C47898,Sheet2!A:F,3,FALSE))","v":""},{"$f":"IF(OR(C47898=\"\",ISBLANK(C47898)),\"\",VLOOKUP(C47898,Sheet2!A:G,6,FALSE))","v":""},""]
[{"$f":"IF(OR(C47907=\"\",ISBLANK(C47907)),\"\",VLOOKUP(C47907,Sheet2!A:F,2,FALSE))","v":""},{"$f":"IF(OR(C47907=\"\",ISBLANK(C47907)),\"\",VLOOKUP(C47907,Sheet2!A:G,4,FALSE))","v":""},null,null,{"$f":"IF(OR(C47907=\"\",ISBLANK(C47907)),\"\",VLOOKUP(C47907,Sheet2!A:F,3,FALSE))","v":""},{"$f":"IF(OR(C47907=\"\",ISBLANK(C47907)),\"\",VLOOKUP(C47907,Sheet2!A:G,6,FALSE))","v":""},""]
[{"$f":"IF(OR(C47932=\"\",ISBLANK(C47932)),\"\",VLOOKUP(C47932,Sheet2!A:F,2,FALSE))","v":""},{"$f":"IF(OR(C47932=\"\",ISBLANK(C47932)),\"\",VLOOKUP(C47932,Sheet2!A:G,4,FALSE))","v":""},null,null,{"$f":"IF(OR(C47932=\"\",ISBLANK(C47932)),\"\",VLOOKUP(C47932,Sheet2!A:F,3,FALSE))","v":""},{"$f":"IF(OR(C47932=\"\",ISBLANK(C47932)),\"\",VLOOKUP(C47932,Sheet2!A:G,6,FALSE))","v":""},""]
[{"$f":"IF(OR(C47967=\"\",ISBLANK(C47967)),\"\",VLOOKUP(C47967,Sheet2!A:F,2,FALSE))","v":""},{"$f":"IF(OR(C47967=\"\",ISBLANK(C47967)),\"\",VLOOKUP(C47967,Sheet2!A:G,4,FALSE))","v":""},null,null,{"$f":"IF(OR(C47967=\"\",ISBLANK(C47967)),\"\",VLOOKUP(C47967,Sheet2!A:F,3,FALSE))","v":""},{"$f":"IF(OR(C47967=\"\",ISBLANK(C47967)),\"\",VLOOKUP(C47967,Sheet2!A:G,6,FALSE))","v":""},""]
[{"$f":"IF(OR(C47997=\"\",ISBLANK(C47997)),\"\",VLOOKUP(C47997,Sheet2!A:F,2,FALSE))","v":""},{"$f":"IF(OR(C47997=\"\",ISBLANK(C47997)),\"\",VLOOKUP(C47997,Sheet2!A:G,4,FALSE))","v":""},null,null,{"$f":"IF(OR(C47997=\"\",ISBLANK(C47997)),\"\",VLOOKUP(C47997,Sheet2!A:F,3,FALSE))","v":""},{"$f":"IF(OR(C47997=\"\",ISBLANK(C47997)),\"\",VLOOKUP(C47997,Sheet2!A:G,6,FALSE))","v":""},""]
[{"$f":"IF(OR(C48022=\"\",ISBLANK(C48022)),\"\",VLOOKUP(C48022,Sheet2!A:F,2,FALSE))","v":""},{"$f":"IF(OR(C48022=\"\",ISBLANK(C48022)),\"\",VLOOKUP(C48022,Sheet2!A:G,4,FALSE))","v":""},null,null,{"$f":"IF(OR(C48022=\"\",ISBLANK(C48022)),\"\",VLOOKUP(C48022,Sheet2!A:F,3,FALSE))","v":""},{"$f":"IF(OR(C48022=\"\",ISBLANK(C48022)),\"\",VLOOKUP(C48022,Sheet2!A:G,6,FALSE))","v":""},""]
[{"$f":"IF(OR(C48031=\"\",ISBLANK(C48031)),\"\",VLOOKUP(C48031,Sheet2!A:F,2,FALSE))","v":""},{"$f":"IF(OR(C48031=\"\",ISBLANK(C48031)),\"\",VLOOKUP(C48031,Sheet2!A:G,4,FALSE))","v":""},null,null,{"$f":"IF(OR(C48031=\"\",ISBLANK(C48031)),\"\",VLOOKUP(C48031,Sheet2!A:F,3,FALSE))","v":""},{"$f":"IF(OR(C48031=\"\",ISBLANK(C48031)),\"\",VLOOKUP(C48031,Sheet2!A:G,6,FALSE))","v":""},""]
[{"$f":"IF(OR(C48056=\"\",ISBLANK(C48056)),\"\",VLOOKUP(C48056,Sheet2!A:F,2,FALSE))","v":""},{"$f":"IF(OR(C48056=\"\",ISBLANK(C48056)),\"\",VLOOKUP(C48056,Sheet2!A:G,4,FALSE))","v":""},null,null,{"$f":"IF(OR(C48056=\"\",ISBLANK(C48056)),\"\",VLOOKUP(C48056,Sheet2!A:F,3,FALSE))","v":""},{"$f":"IF(OR(C48056=\"\",ISBLANK(C48056)),\"\",VLOOKUP(C48056,Sheet2!A:G,6,FALSE))","v":""},""]
[{"$f":"IF(OR(C48089=\"\",ISBLANK(C48089)),\"\",VLOOKUP(C48089,Sheet2!A:F,2,FALSE))","v":""},{"$f":"IF(OR(C48089=\"\",ISBLANK(C48089)),\"\",VLOOKUP(C48089,Sheet2!A:G,4,FALSE))","v":""},null,null,{"$f":"IF(OR(C48089=\"\",ISBLANK(C48089)),\"\",VLOOKUP(C48089,Sheet2!A:F,3,FALSE))","v":""},{"$f":"IF(OR(C48089=\"\",ISBLANK(C48089)),\"\",VLOOKUP(C48089,Sheet2!A:G,6,FALSE))","v":""},""]
[{"$f":"IF(OR(C48098=\"\",ISBLANK(C48098)),\"\",VLOOKUP(C48098,Sheet2!A:F,2,FALSE))","v":""},{"$f":"IF(OR(C48098=\"\",ISBLANK(C48098)),\"\",VLOOKUP(C48098,Sheet2!A:G,4,FALSE))","v":""},null,null,{"$f":"IF(OR(C48098=\"\",ISBLANK(C48098)),\"\",VLOOKUP(C48098,Sheet2!A:F,3,FALSE))","v":""},{"$f":"IF(OR(C48098=\"\",ISBLANK(C48098)),\"\",VLOOKUP(C48098,Sheet2!A:G,6,FALSE))","v":""},""]
[{"$f":"IF(OR(C48123=\"\",ISBLANK(C48123)),\"\",VLOOKUP(C48123,Sheet2!A:F,2,FALSE))","v":""},{"$f":"IF(OR(C48123=\"\",ISBLANK(C48123)),\"\",VLOOKUP(C48123,Sheet2!A:G,4,FALSE))","v":""},null,null,{"$f":"IF(OR(C48123=\"\",ISBLANK(C48123)),\"\",VLOOKUP(C48123,Sheet2!A:F,3,FALSE))","v":""},{"$f":"IF(OR(C48123=\"\",ISBLANK(C48123)),\"\",VLOOKUP(C48123,Sheet2!A:G,6,FALSE))","v":""},""]
[{"$f":"IF(OR(C48156=\"\",ISBLANK(C48156)),\"\",VLOOKUP(C48156,Sheet2!A:F,2,FALSE))","v":""},{"$f":"IF(OR(C48156=\"\",ISBLANK(C48156)),\"\",VLOOKUP(C48156,Sheet2!A:G,4,FALSE))","v":""},null,null,{"$f":"IF(OR(C48156=\"\",ISBLANK(C48156)),\"\",VLOOKUP(C48156,Sheet2!A:F,3,FALSE))","v":""},{"$f":"IF(OR(C48156=\"\",ISBLANK(C48156)),\"\",VLOOKUP(C48156,Sheet2!A:G,6,FALSE))","v":""},""]
[{"$f":"IF(OR(C48186=\"\",ISBLANK(C48186)),\"\",VLOOKUP(C48186,Sheet2!A:F,2,FALSE))","v":""},{"$f":"IF(OR(C48186=\"\",ISBLANK(C48186)),\"\",VLOOKUP(C48186,Sheet2!A:G,4,FALSE))","v":""},null,null,{"$f":"IF(OR(C48186=\"\",ISBLANK(C48186)),\"\",VLOOKUP(C48186,Sheet2!A:F,3,FALSE))","v":""},{"$f":"IF(OR(C48186=\"\",ISBLANK(C48186)),\"\",VLOOKUP(C48186,Sheet2!A:G,6,FALSE))","v":""},""]
[{"$f":"IF(OR(C48213=\"\",ISBLANK(C48213)),\"\",VLOOKUP(C48213,Sheet2!A:F,2,FALSE))","v":""},{"$f":"IF(OR(C48213=\"\",ISBLANK(C48213)),\"\",VLOOKUP(C48213,Sheet2!A:G,4,FALSE))","v":""},null,null,{"$f":"IF(OR(C48213=\"\",ISBLANK(C48213)),\"\",VLOOKUP(C48213,Sheet2!A:F,3,FALSE))","v":""},{"$f":"IF(OR(C48213=\"\",ISBLANK(C48213)),\"\",VLOOKUP(C48213,Sheet2!A:G,6,FALSE))","v":""},""]
[{"$f":"IF(OR(C48222=\"\",ISBLANK(C48222)),\"\",VLOOKUP(C48222,Sheet2!A:F,2,FALSE))","v":""},{"$f":"IF(OR(C48222=\"\",ISBLANK(C48222)),\"\",VLOOKUP(C48222,Sheet2!A:G,4,FALSE))","v":""},null,null,{"$f":"IF(OR(C48222=\"\",ISBLANK(C48222)),\"\",VLOOKUP(C48222,Sheet2!A:F,3,FALSE))","v":""},{"$f":"IF(OR(C48222=\"\",ISBLANK(C48222)),\"\",VLOOKUP(C48222,Sheet2!A:G,6,FALSE))","v":""},""]
[{"$f":"IF(OR(C48247=\"\",ISBLANK(C48247)),\"\",VLOOKUP(C48247,Sheet2!A:F,2,FALSE))","v":""},{"$f":"IF(OR(C48247=\"\",ISBLANK(C48247)),\"\",VLOOKUP(C48247,Sheet2!A:G,4,FALSE))","v":""},null,null,{"$f":"IF(OR(C48247=\"\",ISBLANK(C48247)),\"\",VLOOKUP(C48247,Sheet2!A:F,3,FALSE))","v":""},{"$f":"IF(OR(C48247=\"\",ISBLANK(C48247)),\"\",VLOOKUP(C48247,Sheet2!A:G,6,FALSE))","v":""},""]
[{"$f":"IF(OR(C48280=\"\",ISBLANK(C48280)),\"\",VLOOKUP(C48280,Sheet2!A:F,2,FALSE))","v":""},{"$f":"IF(OR(C48280=\"\",ISBLANK(C48280)),\"\",VLOOKUP(C48280,Sheet2!A:G,4,FALSE))","v":""},null,null,{"$f":"IF(OR(C48280=\"\",ISBLANK(C48280)),\"\",VLOOKUP(C48280,Sheet2!A:F,3,FALSE))","v":""},{"$f":"IF(OR(C48280=\"\",ISBLANK(C48280)),\"\",VLOOKUP(C48280,Sheet2!A:G,6,FALSE))","v":""},""]
[{"$f":"IF(OR(C48289=\"\",ISBLANK(C48289)),\"\",VLOOKUP(C48289,Sheet2!A:F,2,FALSE))","v":""},{"$f":"IF(OR(C48289=\"\",ISBLANK(C48289)),\"\",VLOOKUP(C48289,Sheet2!A:G,4,FALSE))","v":""},null,null,{"$f":"IF(OR(C48289=\"\",ISBLANK(C48289)),\"\",VLOOKUP(C48289,Sheet2!A:F,3,FALSE))","v":""},{"$f":"IF(OR(C48289=\"\",ISBLANK(C48289)),\"\",VLOOKUP(C48289,Sheet2!A:G,6,FALSE))","v":""},""]
[{"$f":"IF(OR(C48314=\"\",ISBLANK(C48314)),\"\",VLOOKUP(C48314,Sheet2!A:F,2,FALSE))","v":""},{"$f":"IF(OR(C48314=\"\",ISBLANK(C48314)),\"\",VLOOKUP(C48314,Sheet2!A:G,4,FALSE))","v":""},null,null,{"$f":"IF(OR(C48314=\"\",ISBLANK(C48314)),\"\",VLOOKUP(C48314,Sheet2!A:F,3,FALSE))","v":""},{"$f":"IF(OR(C48314=\"\",ISBLANK(C48314)),\"\",VLOOKUP(C48314,Sheet2!A:G,6,FALSE))","v":""},""]
[{"$f":"IF(OR(C48347=\"\",ISBLANK(C48347)),\"\",VLOOKUP(C48347,Sheet2!A:F,2,FALSE))","v":""},{"$f":"IF(OR(C48347=\"\",ISBLANK(C48347)),\"\",VLOOKUP(C48347,Sheet2!A:G,4,FALSE))","v":""},null,null,{"$f":"IF(OR(C48347=\"\",ISBLANK(C48347)),\"\",VLOOKUP(C48347,Sheet2!A:F,3,FALSE))","v":""},{"$f":"IF(OR(C48347=\"\",ISBLANK(C48347)),\"\",VLOOKUP(C48347,Sheet2!A:G,6,FALSE))","v":""},""]
[{"$f":"IF(OR(C48372=\"\",ISBLANK(C48372)),\"\",VLOOKUP(C48372,Sheet2!A:F,2,FALSE))","v":""},{"$f":"IF(OR(C48372=\"\",ISBLANK(C48372)),\"\",VLOOKUP(C48372,Sheet2!A:G,4,FALSE))","v":""},null,null,{"$f":"IF(OR(C48372=\"\",ISBLANK(C48372)),\"\",VLOOKUP(C48372,Sheet2!A:F,3,FALSE))","v":""},{"$f":"IF(OR(C48372=\"\",ISBLANK(C48372)),\"\",VLOOKUP(C48372,Sheet2!A:G,6,FALSE))","v":""},""]
[{"$f":"IF(OR(C48405=\"\",ISBLANK(C48405)),\"\",VLOOKUP(C48405,Sheet2!A:F,2,FALSE))","v":""},{"$f":"IF(OR(C48405=\"\",ISBLANK(C48405)),\"\",VLOOKUP(C48405,Sheet2!A:G,4,FALSE))","v":""},null,null,{"$f":"IF(OR(C48405=\"\",ISBLANK(C48405)),\"\",VLOOKUP(C48405,Sheet2!A:F,3,FALSE))","v":""},{"$f":"IF(OR(C48405=\"\",ISBLANK(C48405)),\"\",VLOOKUP(C48405,Sheet2!A:G,6,FALSE))","v":""},""]
[{"$f":"IF(OR(C48417=\"\",ISBLANK(C48417)),\"\",VLOOKUP(C48417,Sheet2!A:F,2,FALSE))","v":""},{"$f":"IF(OR(C48417=\"\",ISBLANK(C48417)),\"\",VLOOKUP(C48417,Sheet2!A:G,4,FALSE))","v":""},null,null,{"$f":"IF(OR(C48417=\"\",ISBLANK(C48417)),\"\",VLOOKUP(C48417,Sheet2!A:F,3,FALSE))","v":""},{"$f":"IF(OR(C48417=\"\",ISBLANK(C48417)),\"\",VLOOKUP(C48417,Sheet2!A:G,6,FALSE))","v":""},""]
[{"$f":"IF(OR(C48438=\"\",ISBLANK(C48438)),\"\",VLOOKUP(C48438,Sheet2!A:F,2,FALSE))","v":""},{"$f":"IF(OR(C48438=\"\",ISBLANK(C48438)),\"\",VLOOKUP(C48438,Sheet2!A:G,4,FALSE))","v":""},null,null,{"$f":"IF(OR(C48438=\"\",ISBLANK(C48438)),\"\",VLOOKUP(C48438,Sheet2!A:F,3,FALSE))","v":""},{"$f":"IF(OR(C48438=\"\",ISBLANK(C48438)),\"\",VLOOKUP(C48438,Sheet2!A:G,6,FALSE))","v":""},""]
[{"$f":"IF(OR(C48471=\"\",ISBLANK(C48471)),\"\",VLOOKUP(C48471,Sheet2!A:F,2,FALSE))","v":""},{"$f":"IF(OR(C48471=\"\",ISBLANK(C48471)),\"\",VLOOKUP(C48471,Sheet2!A:G,4,FALSE))","v":""},null,null,{"$f":"IF(OR(C48471=\"\",ISBLANK(C48471)),\"\",VLOOKUP(C48471,Sheet2!A:F,3,FALSE))","v":""},{"$f":"IF(OR(C48471=\"\",ISBLANK(C48471)),\"\",VLOOKUP(C48471,Sheet2!A:G,6,FALSE))","v":""},""]
[{"$f":"IF(OR(C48480=\"\",ISBLANK(C48480)),\"\",VLOOKUP(C48480,Sheet2!A:F,2,FALSE))","v":""},{"$f":"IF(OR(C48480=\"\",ISBLANK(C48480)),\"\",VLOOKUP(C48480,Sheet2!A:G,4,FALSE))","v":""},null,null,{"$f":"IF(OR(C48480=\"\",ISBLANK(C48480)),\"\",VLOOKUP(C48480,Sheet2!A:F,3,FALSE))","v":""},{"$f":"IF(OR(C48480=\"\",ISBLANK(C48480)),\"\",VLOOKUP(C48480,Sheet2!A:G,6,FALSE))","v":""},""]
[{"$f":"IF(OR(C48505=\"\",ISBLANK(C48505)),\"\",VLOOKUP(C48505,Sheet2!A:F,2,FALSE))","v":""},{"$f":"IF(OR(C48505=\"\",ISBLANK(C48505)),\"\",VLOOKUP(C48505,Sheet2!A:G,4,FALSE))","v":""},null,null,{"$f":"IF(OR(C48505=\"\",ISBLANK(C48505)),\"\",VLOOKUP(C48505,Sheet2!A:F,3,FALSE))","v":""},{"$f":"IF(OR(C48505=\"\",ISBLANK(C48505)),\"\",VLOOKUP(C48505,Sheet2!A:G,6,FALSE))","v":""},""]
[{"$f":"IF(OR(C48538=\"\",ISBLANK(C48538)),\"\",VLOOKUP(C48538,Sheet2!A:F,2,FALSE))","v":""},{"$f":"IF(OR(C48538=\"\",ISBLANK(C48538)),\"\",VLOOKUP(C48538,Sheet2!A:G,4,FALSE))","v":""},null,null,{"$f":"IF(OR(C48538=\"\",ISBLANK(C48538)),\"\",VLOOKUP(C48538,Sheet2!A:F,3,FALSE))","v":""},{"$f":"IF(OR(C48538=\"\",ISBLANK(C48538)),\"\",VLOOKUP(C48538,Sheet2!A:G,6,FALSE))","v":""},""]
[{"$f":"IF(OR(C48563=\"\",ISBLANK(C48563)),\"\",VLOOKUP(C48563,Sheet2!A:F,2,FALSE))","v":""},{"$f":"IF(OR(C48563=\"\",ISBLANK(C48563)),\"\",VLOOKUP(C48563,Sheet2!A:G,4,FALSE))","v":""},null,null,{"$f":"IF(OR(C48563=\"\",ISBLANK(C48563)),\"\",VLOOKUP(C48563,Sheet2!A:F,3,FALSE))","v":""},{"$f":"IF(OR(C48563=\"\",ISBLANK(C48563)),\"\",VLOOKUP(C48563,Sheet2!A:G,6,FALSE))","v":""},""]
[{"$f":"IF(OR(C48596=\"\",ISBLANK(C48596)),\"\",VLOOKUP(C48596,Sheet2!A:F,2,FALSE))","v":""},{"$f":"IF(OR(C48596=\"\",ISBLANK(C48596)),\"\",VLOOKUP(C48596,Sheet2!A:G,4,FALSE))","v":""},null,null,{"$f":"IF(OR(C48596=\"\",ISBLANK(C48596)),\"\",VLOOKUP(C48596,Sheet2!A:F,3,FALSE))","v":""},{"$f":"IF(OR(C48596=\"\",ISBLANK(C48596)),\"\",VLOOKUP(C48596,Sheet2!A:G,6,FALSE))","v":""},""]
[{"$f":"IF(OR(C48605=\"\",ISBLANK(C48605)),\"\",VLOOKUP(C48605,Sheet2!A:F,2,FALSE))","v":""},{"$f":"IF(OR(C48605=\"\",ISBLANK(C48605)),\"\",VLOOKUP(C48605,Sheet2!A:G,4,FALSE))","v":""},null,null,{"$f":"IF(OR(C48605=\"\",ISBLANK(C48605)),\"\",VLOOKUP(C48605,Sheet2!A:F,3,FALSE))","v":""},{"$f":"IF(OR(C48605=\"\",ISBLANK(C48605)),\"\",VLOOKUP(C48605,Sheet2!A:G,6,FALSE))","v":""},""]
[{"$f":"IF(OR(C48625=\"\",ISBLANK(C48625)),\"\",VLOOKUP(C48625,Sheet2!A:F,2,FALSE))","v":""},{"$f":"IF(OR(C48625=\"\",ISBLANK(C48625)),\"\",VLOOKUP(C48625,Sheet2!A:G,4,FALSE))","v":""},null,null,{"$f":"IF(OR(C48625=\"\",ISBLANK(C48625)),\"\",VLOOKUP(C48625,Sheet2!A:F,3,FALSE))","v":""},{"$f":"IF(OR(C48625=\"\",ISBLANK(C48625)),\"\",VLOOKUP(C48625,Sheet2!A:G,6,FALSE))","v":""},""]
[{"$f":"IF(OR(C48662=\"\",ISBLANK(C48662)),\"\",VLOOKUP(C48662,Sheet2!A:F,2,FALSE))","v":""},{"$f":"IF(OR(C48662=\"\",ISBLANK(C48662)),\"\",VLOOKUP(C48662,Sheet2!A:G,4,FALSE))","v":""},null,null,{"$f":"IF(OR(C48662=\"\",ISBLANK(C48662)),\"\",VLOOKUP(C48662,Sheet2!A:F,3,FALSE))","v":""},{"$f":"IF(OR(C48662=\"\",ISBLANK(C48662)),\"\",VLOOKUP(C48662,Sheet2!A:G,6,FALSE))","v":""},""]
[{"$f":"IF(OR(C48671=\"\",ISBLANK(C48671)),\"\",VLOOKUP(C48671,Sheet2!A:F,2,FALSE))","v":""},{"$f":"IF(OR(C48671=\"\",ISBLANK(C48671)),\"\",VLOOKUP(C48671,Sheet2!A:G,4,FALSE))","v":""},null,null,{"$f":"IF(OR(C48671=\"\",ISBLANK(C48671)),\"\",VLOOKUP(C48671,Sheet2!A:F,3,FALSE))","v":""},{"$f":"IF(OR(C48671=\"\",ISBLANK(C48671)),\"\",VLOOKUP(C48671,Sheet2!A:G,6,FALSE))","v":""},""]
[{"$f":"IF(OR(C48696=\"\",ISBLANK(C48696)),\"\",VLOOKUP(C48696,Sheet2!A:F,2,FALSE))","v":""},{"$f":"IF(OR(C48696=\"\",ISBLANK(C48696)),\"\",VLOOKUP(C48696,Sheet2!A:G,4,FALSE))","v":""},null,null,{"$f":"IF(OR(C48696=\"\",ISBLANK(C48696)),\"\",VLOOKUP(C48696,Sheet2!A:F,3,FALSE))","v":""},{"$f":"IF(OR(C48696=\"\",ISBLANK(C48696)),\"\",VLOOKUP(C48696,Sheet2!A:G,6,FALSE))","v":""},""]
[{"$f":"IF(OR(C48729=\"\",ISBLANK(C48729)),\"\",VLOOKUP(C48729,Sheet2!A:F,2,FALSE))","v":""},{"$f":"IF(OR(C48729=\"\",ISBLANK(C48729)),\"\",VLOOKUP(C48729,Sheet2!A:G,4,FALSE))","v":""},null,null,{"$f":"IF(OR(C48729=\"\",ISBLANK(C48729)),\"\",VLOOKUP(C48729,Sheet2!A:F,3,FALSE))","v":""},{"$f":"IF(OR(C48729=\"\",ISBLANK(C48729)),\"\",VLOOKUP(C48729,Sheet2!A:G,6,FALSE))","v":""},""]
[{"$f":"IF(OR(C48754=\"\",ISBLANK(C48754)),\"\",VLOOKUP(C48754,Sheet2!A:F,2,FALSE))","v":""},{"$f":"IF(OR(C48754=\"\",ISBLANK(C48754)),\"\",VLOOKUP(C48754,Sheet2!A:G,4,FALSE))","v":""},null,null,{"$f":"IF(OR(C48754=\"\",ISBLANK(C48754)),\"\",VLOOKUP(C48754,Sheet2!A:F,3,FALSE))","v":""},{"$f":"IF(OR(C48754=\"\",ISBLANK(C48754)),\"\",VLOOKUP(C48754,Sheet2!A:G,6,FALSE))","v":""},""]
[{"$f":"IF(OR(C48787=\"\",ISBLANK(C48787)),\"\",VLOOKUP(C48787,Sheet2!A:F,2,FALSE))","v":""},{"$f":"IF(OR(C48787=\"\",ISBLANK(C48787)),\"\",VLOOKUP(C48787,Sheet2!A:G,4,FALSE))","v":""},null,null,{"$f":"IF(OR(C48787=\"\",ISBLANK(C48787)),\"\",VLOOKUP(C48787,Sheet2!A:F,3,FALSE))","v":""},{"$f":"IF(OR(C48787=\"\",ISBLANK(C48787)),\"\",VLOOKUP(C48787,Sheet2!A:G,6,FALSE))","v":""},""]
[{"$f":"IF(OR(C48796=\"\",ISBLANK(C48796)),\"\",VLOOKUP(C48796,Sheet2!A:F,2,FALSE))","v":""},{"$f":"IF(OR(C48796=\"\",ISBLANK(C48796)),\"\",VLOOKUP(C48796,Sheet2!A:G,4,FALSE))","v":""},null,null,{"$f":"IF(OR(C48796=\"\",ISBLANK(C48796)),\"\",VLOOKUP(C48796,Sheet2!A:F,3,FALSE))","v":""},{"$f":"IF(OR(C48796=\"\",ISBLANK(C48796)),\"\",VLOOKUP(C48796,Sheet2!A:G,6,FALSE))","v":""},""]
[{"$f":"IF(OR(C48821=\"\",ISBLANK(C48821)),\"\",VLOOKUP(C48821,Sheet2!A:F,2,FALSE))","v":""},{"$f":"IF(OR(C48821=\"\",ISBLANK(C48821)),\"\",VLOOKUP(C48821,Sheet2!A:G,4,FALSE))","v":""},null,null,{"$f":"IF(OR(C48821=\"\",ISBLANK(C48821)),\"\",VLOOKUP(C48821,Sheet2!A:F,3,FALSE))","v":""},{"$f":"IF(OR(C48821=\"\",ISBLANK(C48821)),\"\",VLOOKUP(C48821,Sheet2!A:G,6,FALSE))","v":""},""]
[{"$f":"IF(OR(C48854=\"\",ISBLANK(C48854)),\"\",VLOOKUP(C48854,Sheet2!A:F,2,FALSE))","v":""},{"$f":"IF(OR(C48854=\"\",ISBLANK(C48854)),\"\",VLOOKUP(C48854,Sheet2!A:G,4,FALSE))","v":""},null,null,{"$f":"IF(OR(C48854=\"\",ISBLANK(C48854)),\"\",VLOOKUP(C48854,Sheet2!A:F,3,FALSE))","v":""},{"$f":"IF(OR(C48854=\"\",ISBLANK(C48854)),\"\",VLOOKUP(C48854,Sheet2!A:G,6,FALSE))","v":""},""]
[{"$f":"IF(OR(C48879=\"\",ISBLANK(C48879)),\"\",VLOOKUP(C48879,Sheet2!A:F,2,FALSE))","v":""},{"$f":"IF(OR(C48879=\"\",ISBLANK(C48879)),\"\",VLOOKUP(C48879,Sheet2!A:G,4,FALSE))","v":""},null,null,{"$f":"IF(OR(C48879=\"\",ISBLANK(C48879)),\"\",VLOOKUP(C48879,Sheet2!A:F,3,FALSE))","v":""},{"$f":"IF(OR(C48879=\"\",ISBLANK(C48879)),\"\",VLOOKUP(C48879,Sheet2!A:G,6,FALSE))","v":""},""]
[{"$f":"IF(OR(C48887=\"\",ISBLANK(C48887)),\"\",VLOOKUP(C48887,Sheet2!A:F,2,FALSE))","v":""},{"$f":"IF(OR(C48887=\"\",ISBLANK(C48887)),\"\",VLOOKUP(C48887,Sheet2!A:G,4,FALSE))","v":""},null,null,{"$f":"IF(OR(C48887=\"\",ISBLANK(C48887)),\"\",VLOOKUP(C48887,Sheet2!A:F,3,FALSE))","v":""},{"$f":"IF(OR(C48887=\"\",ISBLANK(C48887)),\"\",VLOOKUP(C48887,Sheet2!A:G,6,FALSE))","v":""},""]
[{"$f":"IF(OR(C48920=\"\",ISBLANK(C48920)),\"\",VLOOKUP(C48920,Sheet2!A:F,2,FALSE))","v":""},{"$f":"IF(OR(C48920=\"\",ISBLANK(C48920)),\"\",VLOOKUP(C48920,Sheet2!A:G,4,FALSE))","v":""},null,null,{"$f":"IF(OR(C48920=\"\",ISBLANK(C48920)),\"\",VLOOKUP(C48920,Sheet2!A:F,3,FALSE))","v":""},{"$f":"IF(OR(C48920=\"\",ISBLANK(C48920)),\"\",VLOOKUP(C48920,Sheet2!A:G,6,FALSE))","v":""},""]
[{"$f":"IF(OR(C48945=\"\",ISBLANK(C48945)),\"\",VLOOKUP(C48945,Sheet2!A:F,2,FALSE))","v":""},{"$f":"IF(OR(C48945=\"\",ISBLANK(C48945)),\"\",VLOOKUP(C48945,Sheet2!A:G,4,FALSE))","v":""},null,null,{"$f":"IF(OR(C48945=\"\",ISBLANK(C48945)),\"\",VLOOKUP(C48945,Sheet2!A:F,3,FALSE))","v":""},{"$f":"IF(OR(C48945=\"\",ISBLANK(C48945)),\"\",VLOOKUP(C48945,Sheet2!A:G,6,FALSE))","v":""},""]
[{"$f":"IF(OR(C48978=\"\",ISBLANK(C48978)),\"\",VLOOKUP(C48978,Sheet2!A:F,2,FALSE))","v":""},{"$f":"IF(OR(C48978=\"\",ISBLANK(C48978)),\"\",VLOOKUP(C48978,Sheet2!A:G,4,FALSE))","v":""},null,null,{"$f":"IF(OR(C48978=\"\",ISBLANK(C48978)),\"\",VLOOKUP(C48978,Sheet2!A:F,3,FALSE))","v":""},{"$f":"IF(OR(C48978=\"\",ISBLANK(C48978)),\"\",VLOOKUP(C48978,Sheet2!A:G,6,FALSE))","v":""},""]
[{"$f":"IF(OR(C48987=\"\",ISBLANK(C48987)),\"\",VLOOKUP(C48987,Sheet2!A:F,2,FALSE))","v":""},{"$f":"IF(OR(C48987=\"\",ISBLANK(C48987)),\"\",VLOOKUP(C48987,Sheet2!A:G,4,FALSE))","v":""},null,null,{"$f":"IF(OR(C48987=\"\",ISBLANK(C48987)),\"\",VLOOKUP(C48987,Sheet2!A:F,3,FALSE))","v":""},{"$f":"IF(OR(C48987=\"\",ISBLANK(C48987)),\"\",VLOOKUP(C48987,Sheet2!A:G,6,FALSE))","v":""},""]
[{"$f":"IF(OR(C49012=\"\",ISBLANK(C49012)),\"\",VLOOKUP(C49012,Sheet2!A:F,2,FALSE))","v":""},{"$f":"IF(OR(C49012=\"\",ISBLANK(C49012)),\"\",VLOOKUP(C49012,Sheet2!A:G,4,FALSE))","v":""},null,null,{"$f":"IF(OR(C49012=\"\",ISBLANK(C49012)),\"\",VLOOKUP(C49012,Sheet2!A:F,3,FALSE))","v":""},{"$f":"IF(OR(C49012=\"\",ISBLANK(C49012)),\"\",VLOOKUP(C49012,Sheet2!A:G,6,FALSE))","v":""},""]
[{"$f":"IF(OR(C49045=\"\",ISBLANK(C49045)),\"\",VLOOKUP(C49045,Sheet2!A:F,2,FALSE))","v":""},{"$f":"IF(OR(C49045=\"\",ISBLANK(C49045)),\"\",VLOOKUP(C49045,Sheet2!A:G,4,FALSE))","v":""},null,null,{"$f":"IF(OR(C49045=\"\",ISBLANK(C49045)),\"\",VLOOKUP(C49045,Sheet2!A:F,3,FALSE))","v":""},{"$f":"IF(OR(C49045=\"\",ISBLANK(C49045)),\"\",VLOOKUP(C49045,Sheet2!A:G,6,FALSE))","v":""},""]
[{"$f":"IF(OR(C49070=\"\",ISBLANK(C49070)),\"\",VLOOKUP(C49070,Sheet2!A:F,2,FALSE))","v":""},{"$f":"IF(OR(C49070=\"\",ISBLANK(C49070)),\"\",VLOOKUP(C49070,Sheet2!A:G,4,FALSE))","v":""},null,null,{"$f":"IF(OR(C49070=\"\",ISBLANK(C49070)),\"\",VLOOKUP(C49070,Sheet2!A:F,3,FALSE))","v":""},{"$f":"IF(OR(C49070=\"\",ISBLANK(C49070)),\"\",VLOOKUP(C49070,Sheet2!A:G,6,FALSE))","v":""},""]
[{"$f":"IF(OR(C49079=\"\",ISBLANK(C49079)),\"\",VLOOKUP(C49079,Sheet2!A:F,2,FALSE))","v":""},{"$f":"IF(OR(C49079=\"\",ISBLANK(C49079)),\"\",VLOOKUP(C49079,Sheet2!A:G,4,FALSE))","v":""},null,null,{"$f":"IF(OR(C49079=\"\",ISBLANK(C49079)),\"\",VLOOKUP(C49079,Sheet2!A:F,3,FALSE))","v":""},{"$f":"IF(OR(C49079=\"\",ISBLANK(C49079)),\"\",VLOOKUP(C49079,Sheet2!A:G,6,FALSE))","v":""},""]
[{"$f":"IF(OR(C49121=\"\",ISBLANK(C49121)),\"\",VLOOKUP(C49121,Sheet2!A:F,2,FALSE))","v":""},{"$f":"IF(OR(C49121=\"\",ISBLANK(C49121)),\"\",VLOOKUP(C49121,Sheet2!A:G,4,FALSE))","v":""},null,null,{"$f":"IF(OR(C49121=\"\",ISBLANK(C49121)),\"\",VLOOKUP(C49121,Sheet2!A:F,3,FALSE))","v":""},{"$f":"IF(OR(C49121=\"\",ISBLANK(C49121)),\"\",VLOOKUP(C49121,Sheet2!A:G,6,FALSE))","v":""},""]
[{"$f":"IF(OR(C49136=\"\",ISBLANK(C49136)),\"\",VLOOKUP(C49136,Sheet2!A:F,2,FALSE))","v":""},{"$f":"IF(OR(C49136=\"\",ISBLANK(C49136)),\"\",VLOOKUP(C49136,Sheet2!A:G,4,FALSE))","v":""},null,null,{"$f":"IF(OR(C49136=\"\",ISBLANK(C49136)),\"\",VLOOKUP(C49136,Sheet2!A:F,3,FALSE))","v":""},{"$f":"IF(OR(C49136=\"\",ISBLANK(C49136)),\"\",VLOOKUP(C49136,Sheet2!A:G,6,FALSE))","v":""},""]
[{"$f":"IF(OR(C49169=\"\",ISBLANK(C49169)),\"\",VLOOKUP(C49169,Sheet2!A:F,2,FALSE))","v":""},{"$f":"IF(OR(C49169=\"\",ISBLANK(C49169)),\"\",VLOOKUP(C49169,Sheet2!A:G,4,FALSE))","v":""},null,null,{"$f":"IF(OR(C49169=\"\",ISBLANK(C49169)),\"\",VLOOKUP(C49169,Sheet2!A:F,3,FALSE))","v":""},{"$f":"IF(OR(C49169=\"\",ISBLANK(C49169)),\"\",VLOOKUP(C49169,Sheet2!A:G,6,FALSE))","v":""},""]
[{"$f":"IF(OR(C49194=\"\",ISBLANK(C49194)),\"\",VLOOKUP(C49194,Sheet2!A:F,2,FALSE))","v":""},{"$f":"IF(OR(C49194=\"\",ISBLANK(C49194)),\"\",VLOOKUP(C49194,Sheet2!A:G,4,FALSE))","v":""},null,null,{"$f":"IF(OR(C49194=\"\",ISBLANK(C49194)),\"\",VLOOKUP(C49194,Sheet2!A:F,3,FALSE))","v":""},{"$f":"IF(OR(C49194=\"\",ISBLANK(C49194)),\"\",VLOOKUP(C49194,Sheet2!A:G,6,FALSE))","v":""},""]
[{"$f":"IF(OR(C49203=\"\",ISBLANK(C49203)),\"\",VLOOKUP(C49203,Sheet2!A:F,2,FALSE))","v":""},{"$f":"IF(OR(C49203=\"\",ISBLANK(C49203)),\"\",VLOOKUP(C49203,Sheet2!A:G,4,FALSE))","v":""},null,null,{"$f":"IF(OR(C49203=\"\",ISBLANK(C49203)),\"\",VLOOKUP(C49203,Sheet2!A:F,3,FALSE))","v":""},{"$f":"IF(OR(C49203=\"\",ISBLANK(C49203)),\"\",VLOOKUP(C49203,Sheet2!A:G,6,FALSE))","v":""},""]
[{"$f":"IF(OR(C49236=\"\",ISBLANK(C49236)),\"\",VLOOKUP(C49236,Sheet2!A:F,2,FALSE))","v":""},{"$f":"IF(OR(C49236=\"\",ISBLANK(C49236)),\"\",VLOOKUP(C49236,Sheet2!A:G,4,FALSE))","v":""},null,null,{"$f":"IF(OR(C49236=\"\",ISBLANK(C49236)),\"\",VLOOKUP(C49236,Sheet2!A:F,3,FALSE))","v":""},{"$f":"IF(OR(C49236=\"\",ISBLANK(C49236)),\"\",VLOOKUP(C49236,Sheet2!A:G,6,FALSE))","v":""},""]
[{"$f":"IF(OR(C49261=\"\",ISBLANK(C49261)),\"\",VLOOKUP(C49261,Sheet2!A:F,2,FALSE))","v":""},{"$f":"IF(OR(C49261=\"\",ISBLANK(C49261)),\"\",VLOOKUP(C49261,Sheet2!A:G,4,FALSE))","v":""},null,null,{"$f":"IF(OR(C49261=\"\",ISBLANK(C49261)),\"\",VLOOKUP(C49261,Sheet2!A:F,3,FALSE))","v":""},{"$f":"IF(OR(C49261=\"\",ISBLANK(C49261)),\"\",VLOOKUP(C49261,Sheet2!A:G,6,FALSE))","v":""},""]
[{"$f":"IF(OR(C49270=\"\",ISBLANK(C49270)),\"\",VLOOKUP(C49270,Sheet2!A:F,2,FALSE))","v":""},{"$f":"IF(OR(C49270=\"\",ISBLANK(C49270)),\"\",VLOOKUP(C49270,Sheet2!A:G,4,FALSE))","v":""},null,null,{"$f":"IF(OR(C49270=\"\",ISBLANK(C49270)),\"\",VLOOKUP(C49270,Sheet2!A:F,3,FALSE))","v":""},{"$f":"IF(OR(C49270=\"\",ISBLANK(C49270)),\"\",VLOOKUP(C49270,Sheet2!A:G,6,FALSE))","v":""},""]
[{"$f":"IF(OR(C49303=\"\",ISBLANK(C49303)),\"\",VLOOKUP(C49303,Sheet2!A:F,2,FALSE))","v":""},{"$f":"IF(OR(C49303=\"\",ISBLANK(C49303)),\"\",VLOOKUP(C49303,Sheet2!A:G,4,FALSE))","v":""},null,null,{"$f":"IF(OR(C49303=\"\",ISBLANK(C49303)),\"\",VLOOKUP(C49303,Sheet2!A:F,3,FALSE))","v":""},{"$f":"IF(OR(C49303=\"\",ISBLANK(C49303)),\"\",VLOOKUP(C49303,Sheet2!A:G,6,FALSE))","v":""},""]
[{"$f":"IF(OR(C49329=\"\",ISBLANK(C49329)),\"\",VLOOKUP(C49329,Sheet2!A:F,2,FALSE))","v":""},{"$f":"IF(OR(C49329=\"\",ISBLANK(C49329)),\"\",VLOOKUP(C49329,Sheet2!A:G,4,FALSE))","v":""},null,null,{"$f":"IF(OR(C49329=\"\",ISBLANK(C49329)),\"\",VLOOKUP(C49329,Sheet2!A:F,3,FALSE))","v":""},{"$f":"IF(OR(C49329=\"\",ISBLANK(C49329)),\"\",VLOOKUP(C49329,Sheet2!A:G,6,FALSE))","v":""},""]
[{"$f":"IF(OR(C49360=\"\",ISBLANK(C49360)),\"\",VLOOKUP(C49360,Sheet2!A:F,2,FALSE))","v":""},{"$f":"IF(OR(C49360=\"\",ISBLANK(C49360)),\"\",VLOOKUP(C49360,Sheet2!A:G,4,FALSE))","v":""},null,null,{"$f":"IF(OR(C49360=\"\",ISBLANK(C49360)),\"\",VLOOKUP(C49360,Sheet2!A:F,3,FALSE))","v":""},{"$f":"IF(OR(C49360=\"\",ISBLANK(C49360)),\"\",VLOOKUP(C49360,Sheet2!A:G,6,FALSE))","v":""},""]
[{"$f":"IF(OR(C49385=\"\",ISBLANK(C49385)),\"\",VLOOKUP(C49385,Sheet2!A:F,2,FALSE))","v":""},{"$f":"IF(OR(C49385=\"\",ISBLANK(C49385)),\"\",VLOOKUP(C49385,Sheet2!A:G,4,FALSE))","v":""},null,null,{"$f":"IF(OR(C49385=\"\",ISBLANK(C49385)),\"\",VLOOKUP(C49385,Sheet2!A:F,3,FALSE))","v":""},{"$f":"IF(OR(C49385=\"\",ISBLANK(C49385)),\"\",VLOOKUP(C49385,Sheet2!A:G,6,FALSE))","v":""},""]
[{"$f":"IF(OR(C49394=\"\",ISBLANK(C49394)),\"\",VLOOKUP(C49394,Sheet2!A:F,2,FALSE))","v":""},{"$f":"IF(OR(C49394=\"\",ISBLANK(C49394)),\"\",VLOOKUP(C49394,Sheet2!A:G,4,FALSE))","v":""},null,null,{"$f":"IF(OR(C49394=\"\",ISBLANK(C49394)),\"\",VLOOKUP(C49394,Sheet2!A:F,3,FALSE))","v":""},{"$f":"IF(OR(C49394=\"\",ISBLANK(C49394)),\"\",VLOOKUP(C49394,Sheet2!A:G,6,FALSE))","v":""},""]
[{"$f":"IF(OR(C49427=\"\",ISBLANK(C49427)),\"\",VLOOKUP(C49427,Sheet2!A:F,2,FALSE))","v":""},{"$f":"IF(OR(C49427=\"\",ISBLANK(C49427)),\"\",VLOOKUP(C49427,Sheet2!A:G,4,FALSE))","v":""},null,null,{"$f":"IF(OR(C49427=\"\",ISBLANK(C49427)),\"\",VLOOKUP(C49427,Sheet2!A:F,3,FALSE))","v":""},{"$f":"IF(OR(C49427=\"\",ISBLANK(C49427)),\"\",VLOOKUP(C49427,Sheet2!A:G,6,FALSE))","v":""},""]
[{"$f":"IF(OR(C49452=\"\",ISBLANK(C49452)),\"\",VLOOKUP(C49452,Sheet2!A:F,2,FALSE))","v":""},{"$f":"IF(OR(C49452=\"\",ISBLANK(C49452)),\"\",VLOOKUP(C49452,Sheet2!A:G,4,FALSE))","v":""},null,null,{"$f":"IF(OR(C49452=\"\",ISBLANK(C49452)),\"\",VLOOKUP(C49452,Sheet2!A:F,3,FALSE))","v":""},{"$f":"IF(OR(C49452=\"\",ISBLANK(C49452)),\"\",VLOOKUP(C49452,Sheet2!A:G,6,FALSE))","v":""},""]
[{"$f":"IF(OR(C49461=\"\",ISBLANK(C49461)),\"\",VLOOKUP(C49461,Sheet2!A:F,2,FALSE))","v":""},{"$f":"IF(OR(C49461=\"\",ISBLANK(C49461)),\"\",VLOOKUP(C49461,Sheet2!A:G,4,FALSE))","v":""},null,null,{"$f":"IF(OR(C49461=\"\",ISBLANK(C49461)),\"\",VLOOKUP(C49461,Sheet2!A:F,3,FALSE))","v":""},{"$f":"IF(OR(C49461=\"\",ISBLANK(C49461)),\"\",VLOOKUP(C49461,Sheet2!A:G,6,FALSE))","v":""},""]
[{"$f":"IF(OR(C49494=\"\",ISBLANK(C49494)),\"\",VLOOKUP(C49494,Sheet2!A:F,2,FALSE))","v":""},{"$f":"IF(OR(C49494=\"\",ISBLANK(C49494)),\"\",VLOOKUP(C49494,Sheet2!A:G,4,FALSE))","v":""},null,null,{"$f":"IF(OR(C49494=\"\",ISBLANK(C49494)),\"\",VLOOKUP(C49494,Sheet2!A:F,3,FALSE))","v":""},{"$f":"IF(OR(C49494=\"\",ISBLANK(C49494)),\"\",VLOOKUP(C49494,Sheet2!A:G,6,FALSE))","v":""},""]
[{"$f":"IF(OR(C49519=\"\",ISBLANK(C49519)),\"\",VLOOKUP(C49519,Sheet2!A:F,2,FALSE))","v":""},{"$f":"IF(OR(C49519=\"\",ISBLANK(C49519)),\"\",VLOOKUP(C49519,Sheet2!A:G,4,FALSE))","v":""},null,null,{"$f":"IF(OR(C49519=\"\",ISBLANK(C49519)),\"\",VLOOKUP(C49519,Sheet2!A:F,3,FALSE))","v":""},{"$f":"IF(OR(C49519=\"\",ISBLANK(C49519)),\"\",VLOOKUP(C49519,Sheet2!A:G,6,FALSE))","v":""},""]
[{"$f":"IF(OR(C49552=\"\",ISBLANK(C49552)),\"\",VLOOKUP(C49552,Sheet2!A:F,2,FALSE))","v":""},{"$f":"IF(OR(C49552=\"\",ISBLANK(C49552)),\"\",VLOOKUP(C49552,Sheet2!A:G,4,FALSE))","v":""},null,null,{"$f":"IF(OR(C49552=\"\",ISBLANK(C49552)),\"\",VLOOKUP(C49552,Sheet2!A:F,3,FALSE))","v":""},{"$f":"IF(OR(C49552=\"\",ISBLANK(C49552)),\"\",VLOOKUP(C49552,Sheet2!A:G,6,FALSE))","v":""},""]
[{"$f":"IF(OR(C49560=\"\",ISBLANK(C49560)),\"\",VLOOKUP(C49560,Sheet2!A:F,2,FALSE))","v":""},{"$f":"IF(OR(C49560=\"\",ISBLANK(C49560)),\"\",VLOOKUP(C49560,Sheet2!A:G,4,FALSE))","v":""},null,null,{"$f":"IF(OR(C49560=\"\",ISBLANK(C49560)),\"\",VLOOKUP(C49560,Sheet2!A:F,3,FALSE))","v":""},{"$f":"IF(OR(C49560=\"\",ISBLANK(C49560)),\"\",VLOOKUP(C49560,Sheet2!A:G,6,FALSE))","v":""},""]
[{"$f":"IF(OR(C49585=\"\",ISBLANK(C49585)),\"\",VLOOKUP(C49585,Sheet2!A:F,2,FALSE))","v":""},{"$f":"IF(OR(C49585=\"\",ISBLANK(C49585)),\"\",VLOOKUP(C49585,Sheet2!A:G,4,FALSE))","v":""},null,null,{"$f":"IF(OR(C49585=\"\",ISBLANK(C49585)),\"\",VLOOKUP(C49585,Sheet2!A:F,3,FALSE))","v":""},{"$f":"IF(OR(C49585=\"\",ISBLANK(C49585)),\"\",VLOOKUP(C49585,Sheet2!A:G,6,FALSE))","v":""},""]
[{"$f":"IF(OR(C49618=\"\",ISBLANK(C49618)),\"\",VLOOKUP(C49618,Sheet2!A:F,2,FALSE))","v":""},{"$f":"IF(OR(C49618=\"\",ISBLANK(C49618)),\"\",VLOOKUP(C49618,Sheet2!A:G,4,FALSE))","v":""},null,null,{"$f":"IF(OR(C49618=\"\",ISBLANK(C49618)),\"\",VLOOKUP(C49618,Sheet2!A:F,3,FALSE))","v":""},{"$f":"IF(OR(C49618=\"\",ISBLANK(C49618)),\"\",VLOOKUP(C49618,Sheet2!A:G,6,FALSE))","v":""},""]
[{"$f":"IF(OR(C49643=\"\",ISBLANK(C49643)),\"\",VLOOKUP(C49643,Sheet2!A:F,2,FALSE))","v":""},{"$f":"IF(OR(C49643=\"\",ISBLANK(C49643)),\"\",VLOOKUP(C49643,Sheet2!A:G,4,FALSE))","v":""},null,null,{"$f":"IF(OR(C49643=\"\",ISBLANK(C49643)),\"\",VLOOKUP(C49643,Sheet2!A:F,3,FALSE))","v":""},{"$f":"IF(OR(C49643=\"\",ISBLANK(C49643)),\"\",VLOOKUP(C49643,Sheet2!A:G,6,FALSE))","v":""},""]
[{"$f":"IF(OR(C49652=\"\",ISBLANK(C49652)),\"\",VLOOKUP(C49652,Sheet2!A:F,2,FALSE))","v":""},{"$f":"IF(OR(C49652=\"\",ISBLANK(C49652)),\"\",VLOOKUP(C49652,Sheet2!A:G,4,FALSE))","v":""},null,null,{"$f":"IF(OR(C49652=\"\",ISBLANK(C49652)),\"\",VLOOKUP(C49652,Sheet2!A:F,3,FALSE))","v":""},{"$f":"IF(OR(C49652=\"\",ISBLANK(C49652)),\"\",VLOOKUP(C49652,Sheet2!A:G,6,FALSE))","v":""},""]
[{"$f":"IF(OR(C49677=\"\",ISBLANK(C49677)),\"\",VLOOKUP(C49677,Sheet2!A:F,2,FALSE))","v":""},{"$f":"IF(OR(C49677=\"\",ISBLANK(C49677)),\"\",VLOOKUP(C49677,Sheet2!A:G,4,FALSE))","v":""},null,null,{"$f":"IF(OR(C49677=\"\",ISBLANK(C49677)),\"\",VLOOKUP(C49677,Sheet2!A:F,3,FALSE))","v":""},{"$f":"IF(OR(C49677=\"\",ISBLANK(C49677)),\"\",VLOOKUP(C49677,Sheet2!A:G,6,FALSE))","v":""},""]
[{"$f":"IF(OR(C49710=\"\",ISBLANK(C49710)),\"\",VLOOKUP(C49710,Sheet2!A:F,2,FALSE))","v":""},{"$f":"IF(OR(C49710=\"\",ISBLANK(C49710)),\"\",VLOOKUP(C49710,Sheet2!A:G,4,FALSE))","v":""},null,null,{"$f":"IF(OR(C49710=\"\",ISBLANK(C49710)),\"\",VLOOKUP(C49710,Sheet2!A:F,3,FALSE))","v":""},{"$f":"IF(OR(C49710=\"\",ISBLANK(C49710)),\"\",VLOOKUP(C49710,Sheet2!A:G,6,FALSE))","v":""},""]
[{"$f":"IF(OR(C49743=\"\",ISBLANK(C49743)),\"\",VLOOKUP(C49743,Sheet2!A:F,2,FALSE))","v":""},{"$f":"IF(OR(C49743=\"\",ISBLANK(C49743)),\"\",VLOOKUP(C49743,Sheet2!A:G,4,FALSE))","v":""},null,null,{"$f":"IF(OR(C49743=\"\",ISBLANK(C49743)),\"\",VLOOKUP(C49743,Sheet2!A:F,3,FALSE))","v":""},{"$f":"IF(OR(C49743=\"\",ISBLANK(C49743)),\"\",VLOOKUP(C49743,Sheet2!A:G,6,FALSE))","v":""},""]
[{"$f":"IF(OR(C49768=\"\",ISBLANK(C49768)),\"\",VLOOKUP(C49768,Sheet2!A:F,2,FALSE))","v":""},{"$f":"IF(OR(C49768=\"\",ISBLANK(C49768)),\"\",VLOOKUP(C49768,Sheet2!A:G,4,FALSE))","v":""},null,null,{"$f":"IF(OR(C49768=\"\",ISBLANK(C49768)),\"\",VLOOKUP(C49768,Sheet2!A:F,3,FALSE))","v":""},{"$f":"IF(OR(C49768=\"\",ISBLANK(C49768)),\"\",VLOOKUP(C49768,Sheet2!A:G,6,FALSE))","v":""},""]
[{"$f":"IF(OR(C49777=\"\",ISBLANK(C49777)),\"\",VLOOKUP(C49777,Sheet2!A:F,2,FALSE))","v":""},{"$f":"IF(OR(C49777=\"\",ISBLANK(C49777)),\"\",VLOOKUP(C49777,Sheet2!A:G,4,FALSE))","v":""},null,null,{"$f":"IF(OR(C49777=\"\",ISBLANK(C49777)),\"\",VLOOKUP(C49777,Sheet2!A:F,3,FALSE))","v":""},{"$f":"IF(OR(C49777=\"\",ISBLANK(C49777)),\"\",VLOOKUP(C49777,Sheet2!A:G,6,FALSE))","v":""},""]
[{"$f":"IF(OR(C49793=\"\",ISBLANK(C49793)),\"\",VLOOKUP(C49793,Sheet2!A:F,2,FALSE))","v":""},{"$f":"IF(OR(C49793=\"\",ISBLANK(C49793)),\"\",VLOOKUP(C49793,Sheet2!A:G,4,FALSE))","v":""},null,null,{"$f":"IF(OR(C49793=\"\",ISBLANK(C49793)),\"\",VLOOKUP(C49793,Sheet2!A:F,3,FALSE))","v":""},{"$f":"IF(OR(C49793=\"\",ISBLANK(C49793)),\"\",VLOOKUP(C49793,Sheet2!A:G,6,FALSE))","v":""},""]
[{"$f":"IF(OR(C49794=\"\",ISBLANK(C49794)),\"\",VLOOKUP(C49794,Sheet2!A:F,2,FALSE))","v":""},{"$f":"IF(OR(C49794=\"\",ISBLANK(C49794)),\"\",VLOOKUP(C49794,Sheet2!A:G,4,FALSE))","v":""},null,null,{"$f":"IF(OR(C49794=\"\",ISBLANK(C49794)),\"\",VLOOKUP(C49794,Sheet2!A:F,3,FALSE))","v":""},{"$f":"IF(OR(C49794=\"\",ISBLANK(C49794)),\"\",VLOOKUP(C49794,Sheet2!A:G,6,FALSE))","v":""},""]
[{"$f":"IF(OR(C49795=\"\",ISBLANK(C49795)),\"\",VLOOKUP(C49795,Sheet2!A:F,2,FALSE))","v":""},{"$f":"IF(OR(C49795=\"\",ISBLANK(C49795)),\"\",VLOOKUP(C49795,Sheet2!A:G,4,FALSE))","v":""},null,null,{"$f":"IF(OR(C49795=\"\",ISBLANK(C49795)),\"\",VLOOKUP(C49795,Sheet2!A:F,3,FALSE))","v":""},{"$f":"IF(OR(C49795=\"\",ISBLANK(C49795)),\"\",VLOOKUP(C49795,Sheet2!A:G,6,FALSE))","v":""},{"$f":"IF(F49795=0,\"\",F49795)","v":""}]
[{"$f":"IF(OR(C49796=\"\",ISBLANK(C49796)),\"\",VLOOKUP(C49796,Sheet2!A:F,2,FALSE))","v":""},{"$f":"IF(OR(C49796=\"\",ISBLANK(C49796)),\"\",VLOOKUP(C49796,Sheet2!A:G,4,FALSE))","v":""},null,null,{"$f":"IF(OR(C49796=\"\",ISBLANK(C49796)),\"\",VLOOKUP(C49796,Sheet2!A:F,3,FALSE))","v":""},{"$f":"IF(OR(C49796=\"\",ISBLANK(C49796)),\"\",VLOOKUP(C49796,Sheet2!A:G,6,FALSE))","v":""},""]
[{"$f":"IF(OR(C49797=\"\",ISBLANK(C49797)),\"\",VLOOKUP(C49797,Sheet2!A:F,2,FALSE))","v":""},{"$f":"IF(OR(C49797=\"\",ISBLANK(C49797)),\"\",VLOOKUP(C49797,Sheet2!A:G,4,FALSE))","v":""},null,null,{"$f":"IF(OR(C49797=\"\",ISBLANK(C49797)),\"\",VLOOKUP(C49797,Sheet2!A:F,3,FALSE))","v":""},{"$f":"IF(OR(C49797=\"\",ISBLANK(C49797)),\"\",VLOOKUP(C49797,Sheet2!A:G,6,FALSE))","v":""},""]
[{"$f":"IF(OR(C49798=\"\",ISBLANK(C49798)),\"\",VLOOKUP(C49798,Sheet2!A:F,2,FALSE))","v":""},{"$f":"IF(OR(C49798=\"\",ISBLANK(C49798)),\"\",VLOOKUP(C49798,Sheet2!A:G,4,FALSE))","v":""},null,null,{"$f":"IF(OR(C49798=\"\",ISBLANK(C49798)),\"\",VLOOKUP(C49798,Sheet2!A:F,3,FALSE))","v":""},{"$f":"IF(OR(C49798=\"\",ISBLANK(C49798)),\"\",VLOOKUP(C49798,Sheet2!A:G,6,FALSE))","v":""},""]
[{"$f":"IF(OR(C49799=\"\",ISBLANK(C49799)),\"\",VLOOKUP(C49799,Sheet2!A:F,2,FALSE))","v":""},{"$f":"IF(OR(C49799=\"\",ISBLANK(C49799)),\"\",VLOOKUP(C49799,Sheet2!A:G,4,FALSE))","v":""},null,null,{"$f":"IF(OR(C49799=\"\",ISBLANK(C49799)),\"\",VLOOKUP(C49799,Sheet2!A:F,3,FALSE))","v":""},{"$f":"IF(OR(C49799=\"\",ISBLANK(C49799)),\"\",VLOOKUP(C49799,Sheet2!A:G,6,FALSE))","v":""},""]
[{"$f":"IF(OR(C49800=\"\",ISBLANK(C49800)),\"\",VLOOKUP(C49800,Sheet2!A:F,2,FALSE))","v":""},{"$f":"IF(OR(C49800=\"\",ISBLANK(C49800)),\"\",VLOOKUP(C49800,Sheet2!A:G,4,FALSE))","v":""},null,null,{"$f":"IF(OR(C49800=\"\",ISBLANK(C49800)),\"\",VLOOKUP(C49800,Sheet2!A:F,3,FALSE))","v":""},{"$f":"IF(OR(C49800=\"\",ISBLANK(C49800)),\"\",VLOOKUP(C49800,Sheet2!A:G,6,FALSE))","v":""},""]
[{"$f":"IF(OR(C49801=\"\",ISBLANK(C49801)),\"\",VLOOKUP(C49801,Sheet2!A:F,2,FALSE))","v":""},{"$f":"IF(OR(C49801=\"\",ISBLANK(C49801)),\"\",VLOOKUP(C49801,Sheet2!A:G,4,FALSE))","v":""},null,null,{"$f":"IF(OR(C49801=\"\",ISBLANK(C49801)),\"\",VLOOKUP(C49801,Sheet2!A:F,3,FALSE))","v":""},{"$f":"IF(OR(C49801=\"\",ISBLANK(C49801)),\"\",VLOOKUP(C49801,Sheet2!A:G,6,FALSE))","v":""},""]
[{"$f":"IF(OR(C49802=\"\",ISBLANK(C49802)),\"\",VLOOKUP(C49802,Sheet2!A:F,2,FALSE))","v":""},{"$f":"IF(OR(C49802=\"\",ISBLANK(C49802)),\"\",VLOOKUP(C49802,Sheet2!A:G,4,FALSE))","v":""},null,null,{"$f":"IF(OR(C49802=\"\",ISBLANK(C49802)),\"\",VLOOKUP(C49802,Sheet2!A:F,3,FALSE))","v":""},{"$f":"IF(OR(C49802=\"\",ISBLANK(C49802)),\"\",VLOOKUP(C49802,Sheet2!A:G,6,FALSE))","v":""},""]
[{"$f":"IF(OR(C49803=\"\",ISBLANK(C49803)),\"\",VLOOKUP(C49803,Sheet2!A:F,2,FALSE))","v":""},{"$f":"IF(OR(C49803=\"\",ISBLANK(C49803)),\"\",VLOOKUP(C49803,Sheet2!A:G,4,FALSE))","v":""},null,null,{"$f":"IF(OR(C49803=\"\",ISBLANK(C49803)),\"\",VLOOKUP(C49803,Sheet2!A:F,3,FALSE))","v":""},{"$f":"IF(OR(C49803=\"\",ISBLANK(C49803)),\"\",VLOOKUP(C49803,Sheet2!A:G,6,FALSE))","v":""},""]
[{"$f":"IF(OR(C49804=\"\",ISBLANK(C49804)),\"\",VLOOKUP(C49804,Sheet2!A:F,2,FALSE))","v":""},{"$f":"IF(OR(C49804=\"\",ISBLANK(C49804)),\"\",VLOOKUP(C49804,Sheet2!A:G,4,FALSE))","v":""},null,null,{"$f":"IF(OR(C49804=\"\",ISBLANK(C49804)),\"\",VLOOKUP(C49804,Sheet2!A:F,3,FALSE))","v":""},{"$f":"IF(OR(C49804=\"\",ISBLANK(C49804)),\"\",VLOOKUP(C49804,Sheet2!A:G,6,FALSE))","v":""},""]
[{"$f":"IF(OR(C49805=\"\",ISBLANK(C49805)),\"\",VLOOKUP(C49805,Sheet2!A:F,2,FALSE))","v":""},{"$f":"IF(OR(C49805=\"\",ISBLANK(C49805)),\"\",VLOOKUP(C49805,Sheet2!A:G,4,FALSE))","v":""},null,null,{"$f":"IF(OR(C49805=\"\",ISBLANK(C49805)),\"\",VLOOKUP(C49805,Sheet2!A:F,3,FALSE))","v":""},{"$f":"IF(OR(C49805=\"\",ISBLANK(C49805)),\"\",VLOOKUP(C49805,Sheet2!A:G,6,FALSE))","v":""},""]
[{"$f":"IF(OR(C49806=\"\",ISBLANK(C49806)),\"\",VLOOKUP(C49806,Sheet2!A:F,2,FALSE))","v":""},{"$f":"IF(OR(C49806=\"\",ISBLANK(C49806)),\"\",VLOOKUP(C49806,Sheet2!A:G,4,FALSE))","v":""},null,null,{"$f":"IF(OR(C49806=\"\",ISBLANK(C49806)),\"\",VLOOKUP(C49806,Sheet2!A:F,3,FALSE))","v":""},{"$f":"IF(OR(C49806=\"\",ISBLANK(C49806)),\"\",VLOOKUP(C49806,Sheet2!A:G,6,FALSE))","v":""},""]
[{"$f":"IF(OR(C49807=\"\",ISBLANK(C49807)),\"\",VLOOKUP(C49807,Sheet2!A:F,2,FALSE))","v":""},{"$f":"IF(OR(C49807=\"\",ISBLANK(C49807)),\"\",VLOOKUP(C49807,Sheet2!A:G,4,FALSE))","v":""},null,null,{"$f":"IF(OR(C49807=\"\",ISBLANK(C49807)),\"\",VLOOKUP(C49807,Sheet2!A:F,3,FALSE))","v":""},{"$f":"IF(OR(C49807=\"\",ISBLANK(C49807)),\"\",VLOOKUP(C49807,Sheet2!A:G,6,FALSE))","v":""},""]
[{"$f":"IF(OR(C49808=\"\",ISBLANK(C49808)),\"\",VLOOKUP(C49808,Sheet2!A:F,2,FALSE))","v":""},{"$f":"IF(OR(C49808=\"\",ISBLANK(C49808)),\"\",VLOOKUP(C49808,Sheet2!A:G,4,FALSE))","v":""},null,null,{"$f":"IF(OR(C49808=\"\",ISBLANK(C49808)),\"\",VLOOKUP(C49808,Sheet2!A:F,3,FALSE))","v":""},{"$f":"IF(OR(C49808=\"\",ISBLANK(C49808)),\"\",VLOOKUP(C49808,Sheet2!A:G,6,FALSE))","v":""},""]
[{"$f":"IF(OR(C49809=\"\",ISBLANK(C49809)),\"\",VLOOKUP(C49809,Sheet2!A:F,2,FALSE))","v":""},{"$f":"IF(OR(C49809=\"\",ISBLANK(C49809)),\"\",VLOOKUP(C49809,Sheet2!A:G,4,FALSE))","v":""},null,null,{"$f":"IF(OR(C49809=\"\",ISBLANK(C49809)),\"\",VLOOKUP(C49809,Sheet2!A:F,3,FALSE))","v":""},{"$f":"IF(OR(C49809=\"\",ISBLANK(C49809)),\"\",VLOOKUP(C49809,Sheet2!A:G,6,FALSE))","v":""},""]
[{"$f":"IF(OR(C49810=\"\",ISBLANK(C49810)),\"\",VLOOKUP(C49810,Sheet2!A:F,2,FALSE))","v":""},{"$f":"IF(OR(C49810=\"\",ISBLANK(C49810)),\"\",VLOOKUP(C49810,Sheet2!A:G,4,FALSE))","v":""},null,null,{"$f":"IF(OR(C49810=\"\",ISBLANK(C49810)),\"\",VLOOKUP(C49810,Sheet2!A:F,3,FALSE))","v":""},{"$f":"IF(OR(C49810=\"\",ISBLANK(C49810)),\"\",VLOOKUP(C49810,Sheet2!A:G,6,FALSE))","v":""},""]
[{"$f":"IF(OR(C49811=\"\",ISBLANK(C49811)),\"\",VLOOKUP(C49811,Sheet2!A:F,2,FALSE))","v":""},{"$f":"IF(OR(C49811=\"\",ISBLANK(C49811)),\"\",VLOOKUP(C49811,Sheet2!A:G,4,FALSE))","v":""},null,null,{"$f":"IF(OR(C49811=\"\",ISBLANK(C49811)),\"\",VLOOKUP(C49811,Sheet2!A:F,3,FALSE))","v":""},{"$f":"IF(OR(C49811=\"\",ISBLANK(C49811)),\"\",VLOOKUP(C49811,Sheet2!A:G,6,FALSE))","v":""},""]
[{"$f":"IF(OR(C49812=\"\",ISBLANK(C49812)),\"\",VLOOKUP(C49812,Sheet2!A:F,2,FALSE))","v":""},{"$f":"IF(OR(C49812=\"\",ISBLANK(C49812)),\"\",VLOOKUP(C49812,Sheet2!A:G,4,FALSE))","v":""},null,null,{"$f":"IF(OR(C49812=\"\",ISBLANK(C49812)),\"\",VLOOKUP(C49812,Sheet2!A:F,3,FALSE))","v":""},{"$f":"IF(OR(C49812=\"\",ISBLANK(C49812)),\"\",VLOOKUP(C49812,Sheet2!A:G,6,FALSE))","v":""},""]
[{"$f":"IF(OR(C49813=\"\",ISBLANK(C49813)),\"\",VLOOKUP(C49813,Sheet2!A:F,2,FALSE))","v":""},{"$f":"IF(OR(C49813=\"\",ISBLANK(C49813)),\"\",VLOOKUP(C49813,Sheet2!A:G,4,FALSE))","v":""},null,null,{"$f":"IF(OR(C49813=\"\",ISBLANK(C49813)),\"\",VLOOKUP(C49813,Sheet2!A:F,3,FALSE))","v":""},{"$f":"IF(OR(C49813=\"\",ISBLANK(C49813)),\"\",VLOOKUP(C49813,Sheet2!A:G,6,FALSE))","v":""},""]
[{"$f":"IF(OR(C49814=\"\",ISBLANK(C49814)),\"\",VLOOKUP(C49814,Sheet2!A:F,2,FALSE))","v":""},{"$f":"IF(OR(C49814=\"\",ISBLANK(C49814)),\"\",VLOOKUP(C49814,Sheet2!A:G,4,FALSE))","v":""},null,null,{"$f":"IF(OR(C49814=\"\",ISBLANK(C49814)),\"\",VLOOKUP(C49814,Sheet2!A:F,3,FALSE))","v":""},{"$f":"IF(OR(C49814=\"\",ISBLANK(C49814)),\"\",VLOOKUP(C49814,Sheet2!A:G,6,FALSE))","v":""},""]
[{"$f":"IF(OR(C49815=\"\",ISBLANK(C49815)),\"\",VLOOKUP(C49815,Sheet2!A:F,2,FALSE))","v":""},{"$f":"IF(OR(C49815=\"\",ISBLANK(C49815)),\"\",VLOOKUP(C49815,Sheet2!A:G,4,FALSE))","v":""},null,null,{"$f":"IF(OR(C49815=\"\",ISBLANK(C49815)),\"\",VLOOKUP(C49815,Sheet2!A:F,3,FALSE))","v":""},{"$f":"IF(OR(C49815=\"\",ISBLANK(C49815)),\"\",VLOOKUP(C49815,Sheet2!A:G,6,FALSE))","v":""},""]
[{"$f":"IF(OR(C49816=\"\",ISBLANK(C49816)),\"\",VLOOKUP(C49816,Sheet2!A:F,2,FALSE))","v":""},{"$f":"IF(OR(C49816=\"\",ISBLANK(C49816)),\"\",VLOOKUP(C49816,Sheet2!A:G,4,FALSE))","v":""},null,null,{"$f":"IF(OR(C49816=\"\",ISBLANK(C49816)),\"\",VLOOKUP(C49816,Sheet2!A:F,3,FALSE))","v":""},{"$f":"IF(OR(C49816=\"\",ISBLANK(C49816)),\"\",VLOOKUP(C49816,Sheet2!A:G,6,FALSE))","v":""},""]
[{"$f":"IF(OR(C49817=\"\",ISBLANK(C49817)),\"\",VLOOKUP(C49817,Sheet2!A:F,2,FALSE))","v":""},{"$f":"IF(OR(C49817=\"\",ISBLANK(C49817)),\"\",VLOOKUP(C49817,Sheet2!A:G,4,FALSE))","v":""},null,null,{"$f":"IF(OR(C49817=\"\",ISBLANK(C49817)),\"\",VLOOKUP(C49817,Sheet2!A:F,3,FALSE))","v":""},{"$f":"IF(OR(C49817=\"\",ISBLANK(C49817)),\"\",VLOOKUP(C49817,Sheet2!A:G,6,FALSE))","v":""},""]
[{"$f":"IF(OR(C49818=\"\",ISBLANK(C49818)),\"\",VLOOKUP(C49818,Sheet2!A:F,2,FALSE))","v":""},{"$f":"IF(OR(C49818=\"\",ISBLANK(C49818)),\"\",VLOOKUP(C49818,Sheet2!A:G,4,FALSE))","v":""},null,null,{"$f":"IF(OR(C49818=\"\",ISBLANK(C49818)),\"\",VLOOKUP(C49818,Sheet2!A:F,3,FALSE))","v":""},{"$f":"IF(OR(C49818=\"\",ISBLANK(C49818)),\"\",VLOOKUP(C49818,Sheet2!A:G,6,FALSE))","v":""},""]
[{"$f":"IF(OR(C49819=\"\",ISBLANK(C49819)),\"\",VLOOKUP(C49819,Sheet2!A:F,2,FALSE))","v":""},{"$f":"IF(OR(C49819=\"\",ISBLANK(C49819)),\"\",VLOOKUP(C49819,Sheet2!A:G,4,FALSE))","v":""},null,null,{"$f":"IF(OR(C49819=\"\",ISBLANK(C49819)),\"\",VLOOKUP(C49819,Sheet2!A:F,3,FALSE))","v":""},{"$f":"IF(OR(C49819=\"\",ISBLANK(C49819)),\"\",VLOOKUP(C49819,Sheet2!A:G,6,FALSE))","v":""},""]
[{"$f":"IF(OR(C49820=\"\",ISBLANK(C49820)),\"\",VLOOKUP(C49820,Sheet2!A:F,2,FALSE))","v":""},{"$f":"IF(OR(C49820=\"\",ISBLANK(C49820)),\"\",VLOOKUP(C49820,Sheet2!A:G,4,FALSE))","v":""},null,null,{"$f":"IF(OR(C49820=\"\",ISBLANK(C49820)),\"\",VLOOKUP(C49820,Sheet2!A:F,3,FALSE))","v":""},{"$f":"IF(OR(C49820=\"\",ISBLANK(C49820)),\"\",VLOOKUP(C49820,Sheet2!A:G,6,FALSE))","v":""},""]
[{"$f":"IF(OR(C49821=\"\",ISBLANK(C49821)),\"\",VLOOKUP(C49821,Sheet2!A:F,2,FALSE))","v":""},{"$f":"IF(OR(C49821=\"\",ISBLANK(C49821)),\"\",VLOOKUP(C49821,Sheet2!A:G,4,FALSE))","v":""},null,null,{"$f":"IF(OR(C49821=\"\",ISBLANK(C49821)),\"\",VLOOKUP(C49821,Sheet2!A:F,3,FALSE))","v":""},{"$f":"IF(OR(C49821=\"\",ISBLANK(C49821)),\"\",VLOOKUP(C49821,Sheet2!A:G,6,FALSE))","v":""},""]
[{"$f":"IF(OR(C49822=\"\",ISBLANK(C49822)),\"\",VLOOKUP(C49822,Sheet2!A:F,2,FALSE))","v":""},{"$f":"IF(OR(C49822=\"\",ISBLANK(C49822)),\"\",VLOOKUP(C49822,Sheet2!A:G,4,FALSE))","v":""},null,null,{"$f":"IF(OR(C49822=\"\",ISBLANK(C49822)),\"\",VLOOKUP(C49822,Sheet2!A:F,3,FALSE))","v":""},{"$f":"IF(OR(C49822=\"\",ISBLANK(C49822)),\"\",VLOOKUP(C49822,Sheet2!A:G,6,FALSE))","v":""},""]
[{"$f":"IF(OR(C49823=\"\",ISBLANK(C49823)),\"\",VLOOKUP(C49823,Sheet2!A:F,2,FALSE))","v":""},{"$f":"IF(OR(C49823=\"\",ISBLANK(C49823)),\"\",VLOOKUP(C49823,Sheet2!A:G,4,FALSE))","v":""},null,null,{"$f":"IF(OR(C49823=\"\",ISBLANK(C49823)),\"\",VLOOKUP(C49823,Sheet2!A:F,3,FALSE))","v":""},{"$f":"IF(OR(C49823=\"\",ISBLANK(C49823)),\"\",VLOOKUP(C49823,Sheet2!A:G,6,FALSE))","v":""},""]
[{"$f":"IF(OR(C49824=\"\",ISBLANK(C49824)),\"\",VLOOKUP(C49824,Sheet2!A:F,2,FALSE))","v":""},{"$f":"IF(OR(C49824=\"\",ISBLANK(C49824)),\"\",VLOOKUP(C49824,Sheet2!A:G,4,FALSE))","v":""},null,null,{"$f":"IF(OR(C49824=\"\",ISBLANK(C49824)),\"\",VLOOKUP(C49824,Sheet2!A:F,3,FALSE))","v":""},{"$f":"IF(OR(C49824=\"\",ISBLANK(C49824)),\"\",VLOOKUP(C49824,Sheet2!A:G,6,FALSE))","v":""},""]
[{"$f":"IF(OR(C49825=\"\",ISBLANK(C49825)),\"\",VLOOKUP(C49825,Sheet2!A:F,2,FALSE))","v":""},{"$f":"IF(OR(C49825=\"\",ISBLANK(C49825)),\"\",VLOOKUP(C49825,Sheet2!A:G,4,FALSE))","v":""},null,null,{"$f":"IF(OR(C49825=\"\",ISBLANK(C49825)),\"\",VLOOKUP(C49825,Sheet2!A:F,3,FALSE))","v":""},{"$f":"IF(OR(C49825=\"\",ISBLANK(C49825)),\"\",VLOOKUP(C49825,Sheet2!A:G,6,FALSE))","v":""},""]
[{"$f":"IF(OR(C49826=\"\",ISBLANK(C49826)),\"\",VLOOKUP(C49826,Sheet2!A:F,2,FALSE))","v":""},{"$f":"IF(OR(C49826=\"\",ISBLANK(C49826)),\"\",VLOOKUP(C49826,Sheet2!A:G,4,FALSE))","v":""},null,null,{"$f":"IF(OR(C49826=\"\",ISBLANK(C49826)),\"\",VLOOKUP(C49826,Sheet2!A:F,3,FALSE))","v":""},{"$f":"IF(OR(C49826=\"\",ISBLANK(C49826)),\"\",VLOOKUP(C49826,Sheet2!A:G,6,FALSE))","v":""},""]
[{"$f":"IF(OR(C49827=\"\",ISBLANK(C49827)),\"\",VLOOKUP(C49827,Sheet2!A:F,2,FALSE))","v":""},{"$f":"IF(OR(C49827=\"\",ISBLANK(C49827)),\"\",VLOOKUP(C49827,Sheet2!A:G,4,FALSE))","v":""},null,null,{"$f":"IF(OR(C49827=\"\",ISBLANK(C49827)),\"\",VLOOKUP(C49827,Sheet2!A:F,3,FALSE))","v":""},{"$f":"IF(OR(C49827=\"\",ISBLANK(C49827)),\"\",VLOOKUP(C49827,Sheet2!A:G,6,FALSE))","v":""},""]
[{"$f":"IF(OR(C49828=\"\",ISBLANK(C49828)),\"\",VLOOKUP(C49828,Sheet2!A:F,2,FALSE))","v":""},{"$f":"IF(OR(C49828=\"\",ISBLANK(C49828)),\"\",VLOOKUP(C49828,Sheet2!A:G,4,FALSE))","v":""},null,null,{"$f":"IF(OR(C49828=\"\",ISBLANK(C49828)),\"\",VLOOKUP(C49828,Sheet2!A:F,3,FALSE))","v":""},{"$f":"IF(OR(C49828=\"\",ISBLANK(C49828)),\"\",VLOOKUP(C49828,Sheet2!A:G,6,FALSE))","v":""},""]
[{"$f":"IF(OR(C49829=\"\",ISBLANK(C49829)),\"\",VLOOKUP(C49829,Sheet2!A:F,2,FALSE))","v":""},{"$f":"IF(OR(C49829=\"\",ISBLANK(C49829)),\"\",VLOOKUP(C49829,Sheet2!A:G,4,FALSE))","v":""},null,null,{"$f":"IF(OR(C49829=\"\",ISBLANK(C49829)),\"\",VLOOKUP(C49829,Sheet2!A:F,3,FALSE))","v":""},{"$f":"IF(OR(C49829=\"\",ISBLANK(C49829)),\"\",VLOOKUP(C49829,Sheet2!A:G,6,FALSE))","v":""},""]
[{"$f":"IF(OR(C49830=\"\",ISBLANK(C49830)),\"\",VLOOKUP(C49830,Sheet2!A:F,2,FALSE))","v":""},{"$f":"IF(OR(C49830=\"\",ISBLANK(C49830)),\"\",VLOOKUP(C49830,Sheet2!A:G,4,FALSE))","v":""},null,null,{"$f":"IF(OR(C49830=\"\",ISBLANK(C49830)),\"\",VLOOKUP(C49830,Sheet2!A:F,3,FALSE))","v":""},{"$f":"IF(OR(C49830=\"\",ISBLANK(C49830)),\"\",VLOOKUP(C49830,Sheet2!A:G,6,FALSE))","v":""},""]
[{"$f":"IF(OR(C49831=\"\",ISBLANK(C49831)),\"\",VLOOKUP(C49831,Sheet2!A:F,2,FALSE))","v":""},{"$f":"IF(OR(C49831=\"\",ISBLANK(C49831)),\"\",VLOOKUP(C49831,Sheet2!A:G,4,FALSE))","v":""},null,null,{"$f":"IF(OR(C49831=\"\",ISBLANK(C49831)),\"\",VLOOKUP(C49831,Sheet2!A:F,3,FALSE))","v":""},{"$f":"IF(OR(C49831=\"\",ISBLANK(C49831)),\"\",VLOOKUP(C49831,Sheet2!A:G,6,FALSE))","v":""},""]
[{"$f":"IF(OR(C49832=\"\",ISBLANK(C49832)),\"\",VLOOKUP(C49832,Sheet2!A:F,2,FALSE))","v":""},{"$f":"IF(OR(C49832=\"\",ISBLANK(C49832)),\"\",VLOOKUP(C49832,Sheet2!A:G,4,FALSE))","v":""},null,null,{"$f":"IF(OR(C49832=\"\",ISBLANK(C49832)),\"\",VLOOKUP(C49832,Sheet2!A:F,3,FALSE))","v":""},{"$f":"IF(OR(C49832=\"\",ISBLANK(C49832)),\"\",VLOOKUP(C49832,Sheet2!A:G,6,FALSE))","v":""},""]
[{"$f":"IF(OR(C49833=\"\",ISBLANK(C49833)),\"\",VLOOKUP(C49833,Sheet2!A:F,2,FALSE))","v":""},{"$f":"IF(OR(C49833=\"\",ISBLANK(C49833)),\"\",VLOOKUP(C49833,Sheet2!A:G,4,FALSE))","v":""},null,null,{"$f":"IF(OR(C49833=\"\",ISBLANK(C49833)),\"\",VLOOKUP(C49833,Sheet2!A:F,3,FALSE))","v":""},{"$f":"IF(OR(C49833=\"\",ISBLANK(C49833)),\"\",VLOOKUP(C49833,Sheet2!A:G,6,FALSE))","v":""},""]
[{"$f":"IF(OR(C49834=\"\",ISBLANK(C49834)),\"\",VLOOKUP(C49834,Sheet2!A:F,2,FALSE))","v":""},{"$f":"IF(OR(C49834=\"\",ISBLANK(C49834)),\"\",VLOOKUP(C49834,Sheet2!A:G,4,FALSE))","v":""},null,null,{"$f":"IF(OR(C49834=\"\",ISBLANK(C49834)),\"\",VLOOKUP(C49834,Sheet2!A:F,3,FALSE))","v":""},{"$f":"IF(OR(C49834=\"\",ISBLANK(C49834)),\"\",VLOOKUP(C49834,Sheet2!A:G,6,FALSE))","v":""},""]
[{"$f":"IF(OR(C49835=\"\",ISBLANK(C49835)),\"\",VLOOKUP(C49835,Sheet2!A:F,2,FALSE))","v":""},{"$f":"IF(OR(C49835=\"\",ISBLANK(C49835)),\"\",VLOOKUP(C49835,Sheet2!A:G,4,FALSE))","v":""},null,null,{"$f":"IF(OR(C49835=\"\",ISBLANK(C49835)),\"\",VLOOKUP(C49835,Sheet2!A:F,3,FALSE))","v":""},{"$f":"IF(OR(C49835=\"\",ISBLANK(C49835)),\"\",VLOOKUP(C49835,Sheet2!A:G,6,FALSE))","v":""},""]
[{"$f":"IF(OR(C49836=\"\",ISBLANK(C49836)),\"\",VLOOKUP(C49836,Sheet2!A:F,2,FALSE))","v":""},{"$f":"IF(OR(C49836=\"\",ISBLANK(C49836)),\"\",VLOOKUP(C49836,Sheet2!A:G,4,FALSE))","v":""},null,null,{"$f":"IF(OR(C49836=\"\",ISBLANK(C49836)),\"\",VLOOKUP(C49836,Sheet2!A:F,3,FALSE))","v":""},{"$f":"IF(OR(C49836=\"\",ISBLANK(C49836)),\"\",VLOOKUP(C49836,Sheet2!A:G,6,FALSE))","v":""},""]
[{"$f":"IF(OR(C49837=\"\",ISBLANK(C49837)),\"\",VLOOKUP(C49837,Sheet2!A:F,2,FALSE))","v":""},{"$f":"IF(OR(C49837=\"\",ISBLANK(C49837)),\"\",VLOOKUP(C49837,Sheet2!A:G,4,FALSE))","v":""},null,null,{"$f":"IF(OR(C49837=\"\",ISBLANK(C49837)),\"\",VLOOKUP(C49837,Sheet2!A:F,3,FALSE))","v":""},{"$f":"IF(OR(C49837=\"\",ISBLANK(C49837)),\"\",VLOOKUP(C49837,Sheet2!A:G,6,FALSE))","v":""},""]
[{"$f":"IF(OR(C49838=\"\",ISBLANK(C49838)),\"\",VLOOKUP(C49838,Sheet2!A:F,2,FALSE))","v":""},{"$f":"IF(OR(C49838=\"\",ISBLANK(C49838)),\"\",VLOOKUP(C49838,Sheet2!A:G,4,FALSE))","v":""},null,null,{"$f":"IF(OR(C49838=\"\",ISBLANK(C49838)),\"\",VLOOKUP(C49838,Sheet2!A:F,3,FALSE))","v":""},{"$f":"IF(OR(C49838=\"\",ISBLANK(C49838)),\"\",VLOOKUP(C49838,Sheet2!A:G,6,FALSE))","v":""},""]
[{"$f":"IF(OR(C49839=\"\",ISBLANK(C49839)),\"\",VLOOKUP(C49839,Sheet2!A:F,2,FALSE))","v":""},{"$f":"IF(OR(C49839=\"\",ISBLANK(C49839)),\"\",VLOOKUP(C49839,Sheet2!A:G,4,FALSE))","v":""},null,null,{"$f":"IF(OR(C49839=\"\",ISBLANK(C49839)),\"\",VLOOKUP(C49839,Sheet2!A:F,3,FALSE))","v":""},{"$f":"IF(OR(C49839=\"\",ISBLANK(C49839)),\"\",VLOOKUP(C49839,Sheet2!A:G,6,FALSE))","v":""},""]
[{"$f":"IF(OR(C49840=\"\",ISBLANK(C49840)),\"\",VLOOKUP(C49840,Sheet2!A:F,2,FALSE))","v":""},{"$f":"IF(OR(C49840=\"\",ISBLANK(C49840)),\"\",VLOOKUP(C49840,Sheet2!A:G,4,FALSE))","v":""},null,null,{"$f":"IF(OR(C49840=\"\",ISBLANK(C49840)),\"\",VLOOKUP(C49840,Sheet2!A:F,3,FALSE))","v":""},{"$f":"IF(OR(C49840=\"\",ISBLANK(C49840)),\"\",VLOOKUP(C49840,Sheet2!A:G,6,FALSE))","v":""},""]
[{"$f":"IF(OR(C49841=\"\",ISBLANK(C49841)),\"\",VLOOKUP(C49841,Sheet2!A:F,2,FALSE))","v":""},{"$f":"IF(OR(C49841=\"\",ISBLANK(C49841)),\"\",VLOOKUP(C49841,Sheet2!A:G,4,FALSE))","v":""},null,null,{"$f":"IF(OR(C49841=\"\",ISBLANK(C49841)),\"\",VLOOKUP(C49841,Sheet2!A:F,3,FALSE))","v":""},{"$f":"IF(OR(C49841=\"\",ISBLANK(C49841)),\"\",VLOOKUP(C49841,Sheet2!A:G,6,FALSE))","v":""},""]
[{"$f":"IF(OR(C49842=\"\",ISBLANK(C49842)),\"\",VLOOKUP(C49842,Sheet2!A:F,2,FALSE))","v":""},{"$f":"IF(OR(C49842=\"\",ISBLANK(C49842)),\"\",VLOOKUP(C49842,Sheet2!A:G,4,FALSE))","v":""},null,null,{"$f":"IF(OR(C49842=\"\",ISBLANK(C49842)),\"\",VLOOKUP(C49842,Sheet2!A:F,3,FALSE))","v":""},{"$f":"IF(OR(C49842=\"\",ISBLANK(C49842)),\"\",VLOOKUP(C49842,Sheet2!A:G,6,FALSE))","v":""},""]
[{"$f":"IF(OR(C49843=\"\",ISBLANK(C49843)),\"\",VLOOKUP(C49843,Sheet2!A:F,2,FALSE))","v":""},{"$f":"IF(OR(C49843=\"\",ISBLANK(C49843)),\"\",VLOOKUP(C49843,Sheet2!A:G,4,FALSE))","v":""},null,null,{"$f":"IF(OR(C49843=\"\",ISBLANK(C49843)),\"\",VLOOKUP(C49843,Sheet2!A:F,3,FALSE))","v":""},{"$f":"IF(OR(C49843=\"\",ISBLANK(C49843)),\"\",VLOOKUP(C49843,Sheet2!A:G,6,FALSE))","v":""},""]
[{"$f":"IF(OR(C49844=\"\",ISBLANK(C49844)),\"\",VLOOKUP(C49844,Sheet2!A:F,2,FALSE))","v":""},{"$f":"IF(OR(C49844=\"\",ISBLANK(C49844)),\"\",VLOOKUP(C49844,Sheet2!A:G,4,FALSE))","v":""},null,null,{"$f":"IF(OR(C49844=\"\",ISBLANK(C49844)),\"\",VLOOKUP(C49844,Sheet2!A:F,3,FALSE))","v":""},{"$f":"IF(OR(C49844=\"\",ISBLANK(C49844)),\"\",VLOOKUP(C49844,Sheet2!A:G,6,FALSE))","v":""},""]
[{"$f":"IF(OR(C49845=\"\",ISBLANK(C49845)),\"\",VLOOKUP(C49845,Sheet2!A:F,2,FALSE))","v":""},{"$f":"IF(OR(C49845=\"\",ISBLANK(C49845)),\"\",VLOOKUP(C49845,Sheet2!A:G,4,FALSE))","v":""},null,null,{"$f":"IF(OR(C49845=\"\",ISBLANK(C49845)),\"\",VLOOKUP(C49845,Sheet2!A:F,3,FALSE))","v":""},{"$f":"IF(OR(C49845=\"\",ISBLANK(C49845)),\"\",VLOOKUP(C49845,Sheet2!A:G,6,FALSE))","v":""},""]
[{"$f":"IF(OR(C49846=\"\",ISBLANK(C49846)),\"\",VLOOKUP(C49846,Sheet2!A:F,2,FALSE))","v":""},{"$f":"IF(OR(C49846=\"\",ISBLANK(C49846)),\"\",VLOOKUP(C49846,Sheet2!A:G,4,FALSE))","v":""},null,null,{"$f":"IF(OR(C49846=\"\",ISBLANK(C49846)),\"\",VLOOKUP(C49846,Sheet2!A:F,3,FALSE))","v":""},{"$f":"IF(OR(C49846=\"\",ISBLANK(C49846)),\"\",VLOOKUP(C49846,Sheet2!A:G,6,FALSE))","v":""},""]
[{"$f":"IF(OR(C49847=\"\",ISBLANK(C49847)),\"\",VLOOKUP(C49847,Sheet2!A:F,2,FALSE))","v":""},{"$f":"IF(OR(C49847=\"\",ISBLANK(C49847)),\"\",VLOOKUP(C49847,Sheet2!A:G,4,FALSE))","v":""},null,null,{"$f":"IF(OR(C49847=\"\",ISBLANK(C49847)),\"\",VLOOKUP(C49847,Sheet2!A:F,3,FALSE))","v":""},{"$f":"IF(OR(C49847=\"\",ISBLANK(C49847)),\"\",VLOOKUP(C49847,Sheet2!A:G,6,FALSE))","v":""},""]
[{"$f":"IF(OR(C49848=\"\",ISBLANK(C49848)),\"\",VLOOKUP(C49848,Sheet2!A:F,2,FALSE))","v":""},{"$f":"IF(OR(C49848=\"\",ISBLANK(C49848)),\"\",VLOOKUP(C49848,Sheet2!A:G,4,FALSE))","v":""},null,null,{"$f":"IF(OR(C49848=\"\",ISBLANK(C49848)),\"\",VLOOKUP(C49848,Sheet2!A:F,3,FALSE))","v":""},{"$f":"IF(OR(C49848=\"\",ISBLANK(C49848)),\"\",VLOOKUP(C49848,Sheet2!A:G,6,FALSE))","v":""},""]
[{"$f":"IF(OR(C49849=\"\",ISBLANK(C49849)),\"\",VLOOKUP(C49849,Sheet2!A:F,2,FALSE))","v":""},{"$f":"IF(OR(C49849=\"\",ISBLANK(C49849)),\"\",VLOOKUP(C49849,Sheet2!A:G,4,FALSE))","v":""},null,null,{"$f":"IF(OR(C49849=\"\",ISBLANK(C49849)),\"\",VLOOKUP(C49849,Sheet2!A:F,3,FALSE))","v":""},{"$f":"IF(OR(C49849=\"\",ISBLANK(C49849)),\"\",VLOOKUP(C49849,Sheet2!A:G,6,FALSE))","v":""},""]
[{"$f":"IF(OR(C49850=\"\",ISBLANK(C49850)),\"\",VLOOKUP(C49850,Sheet2!A:F,2,FALSE))","v":""},{"$f":"IF(OR(C49850=\"\",ISBLANK(C49850)),\"\",VLOOKUP(C49850,Sheet2!A:G,4,FALSE))","v":""},null,null,{"$f":"IF(OR(C49850=\"\",ISBLANK(C49850)),\"\",VLOOKUP(C49850,Sheet2!A:F,3,FALSE))","v":""},{"$f":"IF(OR(C49850=\"\",ISBLANK(C49850)),\"\",VLOOKUP(C49850,Sheet2!A:G,6,FALSE))","v":""},""]
[{"$f":"IF(OR(C49851=\"\",ISBLANK(C49851)),\"\",VLOOKUP(C49851,Sheet2!A:F,2,FALSE))","v":""},{"$f":"IF(OR(C49851=\"\",ISBLANK(C49851)),\"\",VLOOKUP(C49851,Sheet2!A:G,4,FALSE))","v":""},null,null,{"$f":"IF(OR(C49851=\"\",ISBLANK(C49851)),\"\",VLOOKUP(C49851,Sheet2!A:F,3,FALSE))","v":""},{"$f":"IF(OR(C49851=\"\",ISBLANK(C49851)),\"\",VLOOKUP(C49851,Sheet2!A:G,6,FALSE))","v":""},""]
[{"$f":"IF(OR(C49852=\"\",ISBLANK(C49852)),\"\",VLOOKUP(C49852,Sheet2!A:F,2,FALSE))","v":""},{"$f":"IF(OR(C49852=\"\",ISBLANK(C49852)),\"\",VLOOKUP(C49852,Sheet2!A:G,4,FALSE))","v":""},null,null,{"$f":"IF(OR(C49852=\"\",ISBLANK(C49852)),\"\",VLOOKUP(C49852,Sheet2!A:F,3,FALSE))","v":""},{"$f":"IF(OR(C49852=\"\",ISBLANK(C49852)),\"\",VLOOKUP(C49852,Sheet2!A:G,6,FALSE))","v":""},""]
[{"$f":"IF(OR(C49853=\"\",ISBLANK(C49853)),\"\",VLOOKUP(C49853,Sheet2!A:F,2,FALSE))","v":""},{"$f":"IF(OR(C49853=\"\",ISBLANK(C49853)),\"\",VLOOKUP(C49853,Sheet2!A:G,4,FALSE))","v":""},null,null,{"$f":"IF(OR(C49853=\"\",ISBLANK(C49853)),\"\",VLOOKUP(C49853,Sheet2!A:F,3,FALSE))","v":""},{"$f":"IF(OR(C49853=\"\",ISBLANK(C49853)),\"\",VLOOKUP(C49853,Sheet2!A:G,6,FALSE))","v":""},""]
[{"$f":"IF(OR(C49854=\"\",ISBLANK(C49854)),\"\",VLOOKUP(C49854,Sheet2!A:F,2,FALSE))","v":""},{"$f":"IF(OR(C49854=\"\",ISBLANK(C49854)),\"\",VLOOKUP(C49854,Sheet2!A:G,4,FALSE))","v":""},null,null,{"$f":"IF(OR(C49854=\"\",ISBLANK(C49854)),\"\",VLOOKUP(C49854,Sheet2!A:F,3,FALSE))","v":""},{"$f":"IF(OR(C49854=\"\",ISBLANK(C49854)),\"\",VLOOKUP(C49854,Sheet2!A:G,6,FALSE))","v":""},""]
[{"$f":"IF(OR(C49855=\"\",ISBLANK(C49855)),\"\",VLOOKUP(C49855,Sheet2!A:F,2,FALSE))","v":""},{"$f":"IF(OR(C49855=\"\",ISBLANK(C49855)),\"\",VLOOKUP(C49855,Sheet2!A:G,4,FALSE))","v":""},null,null,{"$f":"IF(OR(C49855=\"\",ISBLANK(C49855)),\"\",VLOOKUP(C49855,Sheet2!A:F,3,FALSE))","v":""},{"$f":"IF(OR(C49855=\"\",ISBLANK(C49855)),\"\",VLOOKUP(C49855,Sheet2!A:G,6,FALSE))","v":""},""]
[{"$f":"IF(OR(C49856=\"\",ISBLANK(C49856)),\"\",VLOOKUP(C49856,Sheet2!A:F,2,FALSE))","v":""},{"$f":"IF(OR(C49856=\"\",ISBLANK(C49856)),\"\",VLOOKUP(C49856,Sheet2!A:G,4,FALSE))","v":""},null,null,{"$f":"IF(OR(C49856=\"\",ISBLANK(C49856)),\"\",VLOOKUP(C49856,Sheet2!A:F,3,FALSE))","v":""},{"$f":"IF(OR(C49856=\"\",ISBLANK(C49856)),\"\",VLOOKUP(C49856,Sheet2!A:G,6,FALSE))","v":""},""]
[{"$f":"IF(OR(C49857=\"\",ISBLANK(C49857)),\"\",VLOOKUP(C49857,Sheet2!A:F,2,FALSE))","v":""},{"$f":"IF(OR(C49857=\"\",ISBLANK(C49857)),\"\",VLOOKUP(C49857,Sheet2!A:G,4,FALSE))","v":""},null,null,{"$f":"IF(OR(C49857=\"\",ISBLANK(C49857)),\"\",VLOOKUP(C49857,Sheet2!A:F,3,FALSE))","v":""},{"$f":"IF(OR(C49857=\"\",ISBLANK(C49857)),\"\",VLOOKUP(C49857,Sheet2!A:G,6,FALSE))","v":""},""]
[{"$f":"IF(OR(C49858=\"\",ISBLANK(C49858)),\"\",VLOOKUP(C49858,Sheet2!A:F,2,FALSE))","v":""},{"$f":"IF(OR(C49858=\"\",ISBLANK(C49858)),\"\",VLOOKUP(C49858,Sheet2!A:G,4,FALSE))","v":""},null,null,{"$f":"IF(OR(C49858=\"\",ISBLANK(C49858)),\"\",VLOOKUP(C49858,Sheet2!A:F,3,FALSE))","v":""},{"$f":"IF(OR(C49858=\"\",ISBLANK(C49858)),\"\",VLOOKUP(C49858,Sheet2!A:G,6,FALSE))","v":""},""]
[{"$f":"IF(OR(C49859=\"\",ISBLANK(C49859)),\"\",VLOOKUP(C49859,Sheet2!A:F,2,FALSE))","v":""},{"$f":"IF(OR(C49859=\"\",ISBLANK(C49859)),\"\",VLOOKUP(C49859,Sheet2!A:G,4,FALSE))","v":""},null,null,{"$f":"IF(OR(C49859=\"\",ISBLANK(C49859)),\"\",VLOOKUP(C49859,Sheet2!A:F,3,FALSE))","v":""},{"$f":"IF(OR(C49859=\"\",ISBLANK(C49859)),\"\",VLOOKUP(C49859,Sheet2!A:G,6,FALSE))","v":""},{"$f":"IF(F49859=0,\"\",F49859)","v":""}]
[{"$f":"IF(OR(C49860=\"\",ISBLANK(C49860)),\"\",VLOOKUP(C49860,Sheet2!A:F,2,FALSE))","v":""},{"$f":"IF(OR(C49860=\"\",ISBLANK(C49860)),\"\",VLOOKUP(C49860,Sheet2!A:G,4,FALSE))","v":""},null,null,{"$f":"IF(OR(C49860=\"\",ISBLANK(C49860)),\"\",VLOOKUP(C49860,Sheet2!A:F,3,FALSE))","v":""},{"$f":"IF(OR(C49860=\"\",ISBLANK(C49860)),\"\",VLOOKUP(C49860,Sheet2!A:G,6,FALSE))","v":""},""]
[{"$f":"IF(OR(C49861=\"\",ISBLANK(C49861)),\"\",VLOOKUP(C49861,Sheet2!A:F,2,FALSE))","v":""},{"$f":"IF(OR(C49861=\"\",ISBLANK(C49861)),\"\",VLOOKUP(C49861,Sheet2!A:G,4,FALSE))","v":""},null,null,{"$f":"IF(OR(C49861=\"\",ISBLANK(C49861)),\"\",VLOOKUP(C49861,Sheet2!A:F,3,FALSE))","v":""},{"$f":"IF(OR(C49861=\"\",ISBLANK(C49861)),\"\",VLOOKUP(C49861,Sheet2!A:G,6,FALSE))","v":""},""]
[{"$f":"IF(OR(C49862=\"\",ISBLANK(C49862)),\"\",VLOOKUP(C49862,Sheet2!A:F,2,FALSE))","v":""},{"$f":"IF(OR(C49862=\"\",ISBLANK(C49862)),\"\",VLOOKUP(C49862,Sheet2!A:G,4,FALSE))","v":""},null,null,{"$f":"IF(OR(C49862=\"\",ISBLANK(C49862)),\"\",VLOOKUP(C49862,Sheet2!A:F,3,FALSE))","v":""},{"$f":"IF(OR(C49862=\"\",ISBLANK(C49862)),\"\",VLOOKUP(C49862,Sheet2!A:G,6,FALSE))","v":""},""]
[{"$f":"IF(OR(C49863=\"\",ISBLANK(C49863)),\"\",VLOOKUP(C49863,Sheet2!A:F,2,FALSE))","v":""},{"$f":"IF(OR(C49863=\"\",ISBLANK(C49863)),\"\",VLOOKUP(C49863,Sheet2!A:G,4,FALSE))","v":""},null,null,{"$f":"IF(OR(C49863=\"\",ISBLANK(C49863)),\"\",VLOOKUP(C49863,Sheet2!A:F,3,FALSE))","v":""},{"$f":"IF(OR(C49863=\"\",ISBLANK(C49863)),\"\",VLOOKUP(C49863,Sheet2!A:G,6,FALSE))","v":""},""]
[{"$f":"IF(OR(C49864=\"\",ISBLANK(C49864)),\"\",VLOOKUP(C49864,Sheet2!A:F,2,FALSE))","v":""},{"$f":"IF(OR(C49864=\"\",ISBLANK(C49864)),\"\",VLOOKUP(C49864,Sheet2!A:G,4,FALSE))","v":""},null,null,{"$f":"IF(OR(C49864=\"\",ISBLANK(C49864)),\"\",VLOOKUP(C49864,Sheet2!A:F,3,FALSE))","v":""},{"$f":"IF(OR(C49864=\"\",ISBLANK(C49864)),\"\",VLOOKUP(C49864,Sheet2!A:G,6,FALSE))","v":""},""]
[{"$f":"IF(OR(C49865=\"\",ISBLANK(C49865)),\"\",VLOOKUP(C49865,Sheet2!A:F,2,FALSE))","v":""},{"$f":"IF(OR(C49865=\"\",ISBLANK(C49865)),\"\",VLOOKUP(C49865,Sheet2!A:G,4,FALSE))","v":""},null,null,{"$f":"IF(OR(C49865=\"\",ISBLANK(C49865)),\"\",VLOOKUP(C49865,Sheet2!A:F,3,FALSE))","v":""},{"$f":"IF(OR(C49865=\"\",ISBLANK(C49865)),\"\",VLOOKUP(C49865,Sheet2!A:G,6,FALSE))","v":""},""]
[{"$f":"IF(OR(C49866=\"\",ISBLANK(C49866)),\"\",VLOOKUP(C49866,Sheet2!A:F,2,FALSE))","v":""},{"$f":"IF(OR(C49866=\"\",ISBLANK(C49866)),\"\",VLOOKUP(C49866,Sheet2!A:G,4,FALSE))","v":""},null,null,{"$f":"IF(OR(C49866=\"\",ISBLANK(C49866)),\"\",VLOOKUP(C49866,Sheet2!A:F,3,FALSE))","v":""},{"$f":"IF(OR(C49866=\"\",ISBLANK(C49866)),\"\",VLOOKUP(C49866,Sheet2!A:G,6,FALSE))","v":""},""]
[{"$f":"IF(OR(C49867=\"\",ISBLANK(C49867)),\"\",VLOOKUP(C49867,Sheet2!A:F,2,FALSE))","v":""},{"$f":"IF(OR(C49867=\"\",ISBLANK(C49867)),\"\",VLOOKUP(C49867,Sheet2!A:G,4,FALSE))","v":""},null,null,{"$f":"IF(OR(C49867=\"\",ISBLANK(C49867)),\"\",VLOOKUP(C49867,Sheet2!A:F,3,FALSE))","v":""},{"$f":"IF(OR(C49867=\"\",ISBLANK(C49867)),\"\",VLOOKUP(C49867,Sheet2!A:G,6,FALSE))","v":""},""]
[{"$f":"IF(OR(C49868=\"\",ISBLANK(C49868)),\"\",VLOOKUP(C49868,Sheet2!A:F,2,FALSE))","v":""},{"$f":"IF(OR(C49868=\"\",ISBLANK(C49868)),\"\",VLOOKUP(C49868,Sheet2!A:G,4,FALSE))","v":""},null,null,{"$f":"IF(OR(C49868=\"\",ISBLANK(C49868)),\"\",VLOOKUP(C49868,Sheet2!A:F,3,FALSE))","v":""},{"$f":"IF(OR(C49868=\"\",ISBLANK(C49868)),\"\",VLOOKUP(C49868,Sheet2!A:G,6,FALSE))","v":""},""]
[{"$f":"IF(OR(C49869=\"\",ISBLANK(C49869)),\"\",VLOOKUP(C49869,Sheet2!A:F,2,FALSE))","v":""},{"$f":"IF(OR(C49869=\"\",ISBLANK(C49869)),\"\",VLOOKUP(C49869,Sheet2!A:G,4,FALSE))","v":""},null,null,{"$f":"IF(OR(C49869=\"\",ISBLANK(C49869)),\"\",VLOOKUP(C49869,Sheet2!A:F,3,FALSE))","v":""},{"$f":"IF(OR(C49869=\"\",ISBLANK(C49869)),\"\",VLOOKUP(C49869,Sheet2!A:G,6,FALSE))","v":""},""]
[{"$f":"IF(OR(C49870=\"\",ISBLANK(C49870)),\"\",VLOOKUP(C49870,Sheet2!A:F,2,FALSE))","v":""},{"$f":"IF(OR(C49870=\"\",ISBLANK(C49870)),\"\",VLOOKUP(C49870,Sheet2!A:G,4,FALSE))","v":""},null,null,{"$f":"IF(OR(C49870=\"\",ISBLANK(C49870)),\"\",VLOOKUP(C49870,Sheet2!A:F,3,FALSE))","v":""},{"$f":"IF(OR(C49870=\"\",ISBLANK(C49870)),\"\",VLOOKUP(C49870,Sheet2!A:G,6,FALSE))","v":""},""]
[{"$f":"IF(OR(C49871=\"\",ISBLANK(C49871)),\"\",VLOOKUP(C49871,Sheet2!A:F,2,FALSE))","v":""},{"$f":"IF(OR(C49871=\"\",ISBLANK(C49871)),\"\",VLOOKUP(C49871,Sheet2!A:G,4,FALSE))","v":""},null,null,{"$f":"IF(OR(C49871=\"\",ISBLANK(C49871)),\"\",VLOOKUP(C49871,Sheet2!A:F,3,FALSE))","v":""},{"$f":"IF(OR(C49871=\"\",ISBLANK(C49871)),\"\",VLOOKUP(C49871,Sheet2!A:G,6,FALSE))","v":""},""]
[{"$f":"IF(OR(C49872=\"\",ISBLANK(C49872)),\"\",VLOOKUP(C49872,Sheet2!A:F,2,FALSE))","v":""},{"$f":"IF(OR(C49872=\"\",ISBLANK(C49872)),\"\",VLOOKUP(C49872,Sheet2!A:G,4,FALSE))","v":""},null,null,{"$f":"IF(OR(C49872=\"\",ISBLANK(C49872)),\"\",VLOOKUP(C49872,Sheet2!A:F,3,FALSE))","v":""},{"$f":"IF(OR(C49872=\"\",ISBLANK(C49872)),\"\",VLOOKUP(C49872,Sheet2!A:G,6,FALSE))","v":""},""]
[{"$f":"IF(OR(C49873=\"\",ISBLANK(C49873)),\"\",VLOOKUP(C49873,Sheet2!A:F,2,FALSE))","v":""},{"$f":"IF(OR(C49873=\"\",ISBLANK(C49873)),\"\",VLOOKUP(C49873,Sheet2!A:G,4,FALSE))","v":""},null,null,{"$f":"IF(OR(C49873=\"\",ISBLANK(C49873)),\"\",VLOOKUP(C49873,Sheet2!A:F,3,FALSE))","v":""},{"$f":"IF(OR(C49873=\"\",ISBLANK(C49873)),\"\",VLOOKUP(C49873,Sheet2!A:G,6,FALSE))","v":""},""]
[{"$f":"IF(OR(C49874=\"\",ISBLANK(C49874)),\"\",VLOOKUP(C49874,Sheet2!A:F,2,FALSE))","v":""},{"$f":"IF(OR(C49874=\"\",ISBLANK(C49874)),\"\",VLOOKUP(C49874,Sheet2!A:G,4,FALSE))","v":""},null,null,{"$f":"IF(OR(C49874=\"\",ISBLANK(C49874)),\"\",VLOOKUP(C49874,Sheet2!A:F,3,FALSE))","v":""},{"$f":"IF(OR(C49874=\"\",ISBLANK(C49874)),\"\",VLOOKUP(C49874,Sheet2!A:G,6,FALSE))","v":""},""]
[{"$f":"IF(OR(C49875=\"\",ISBLANK(C49875)),\"\",VLOOKUP(C49875,Sheet2!A:F,2,FALSE))","v":""},{"$f":"IF(OR(C49875=\"\",ISBLANK(C49875)),\"\",VLOOKUP(C49875,Sheet2!A:G,4,FALSE))","v":""},null,null,{"$f":"IF(OR(C49875=\"\",ISBLANK(C49875)),\"\",VLOOKUP(C49875,Sheet2!A:F,3,FALSE))","v":""},{"$f":"IF(OR(C49875=\"\",ISBLANK(C49875)),\"\",VLOOKUP(C49875,Sheet2!A:G,6,FALSE))","v":""},""]
[{"$f":"IF(OR(C49876=\"\",ISBLANK(C49876)),\"\",VLOOKUP(C49876,Sheet2!A:F,2,FALSE))","v":""},{"$f":"IF(OR(C49876=\"\",ISBLANK(C49876)),\"\",VLOOKUP(C49876,Sheet2!A:G,4,FALSE))","v":""},null,null,{"$f":"IF(OR(C49876=\"\",ISBLANK(C49876)),\"\",VLOOKUP(C49876,Sheet2!A:F,3,FALSE))","v":""},{"$f":"IF(OR(C49876=\"\",ISBLANK(C49876)),\"\",VLOOKUP(C49876,Sheet2!A:G,6,FALSE))","v":""},""]
[{"$f":"IF(OR(C49877=\"\",ISBLANK(C49877)),\"\",VLOOKUP(C49877,Sheet2!A:F,2,FALSE))","v":""},{"$f":"IF(OR(C49877=\"\",ISBLANK(C49877)),\"\",VLOOKUP(C49877,Sheet2!A:G,4,FALSE))","v":""},null,null,{"$f":"IF(OR(C49877=\"\",ISBLANK(C49877)),\"\",VLOOKUP(C49877,Sheet2!A:F,3,FALSE))","v":""},{"$f":"IF(OR(C49877=\"\",ISBLANK(C49877)),\"\",VLOOKUP(C49877,Sheet2!A:G,6,FALSE))","v":""},""]
[{"$f":"IF(OR(C49878=\"\",ISBLANK(C49878)),\"\",VLOOKUP(C49878,Sheet2!A:F,2,FALSE))","v":""},{"$f":"IF(OR(C49878=\"\",ISBLANK(C49878)),\"\",VLOOKUP(C49878,Sheet2!A:G,4,FALSE))","v":""},null,null,{"$f":"IF(OR(C49878=\"\",ISBLANK(C49878)),\"\",VLOOKUP(C49878,Sheet2!A:F,3,FALSE))","v":""},{"$f":"IF(OR(C49878=\"\",ISBLANK(C49878)),\"\",VLOOKUP(C49878,Sheet2!A:G,6,FALSE))","v":""},""]
[{"$f":"IF(OR(C49879=\"\",ISBLANK(C49879)),\"\",VLOOKUP(C49879,Sheet2!A:F,2,FALSE))","v":""},{"$f":"IF(OR(C49879=\"\",ISBLANK(C49879)),\"\",VLOOKUP(C49879,Sheet2!A:G,4,FALSE))","v":""},null,null,{"$f":"IF(OR(C49879=\"\",ISBLANK(C49879)),\"\",VLOOKUP(C49879,Sheet2!A:F,3,FALSE))","v":""},{"$f":"IF(OR(C49879=\"\",ISBLANK(C49879)),\"\",VLOOKUP(C49879,Sheet2!A:G,6,FALSE))","v":""},""]
[{"$f":"IF(OR(C49880=\"\",ISBLANK(C49880)),\"\",VLOOKUP(C49880,Sheet2!A:F,2,FALSE))","v":""},{"$f":"IF(OR(C49880=\"\",ISBLANK(C49880)),\"\",VLOOKUP(C49880,Sheet2!A:G,4,FALSE))","v":""},null,null,{"$f":"IF(OR(C49880=\"\",ISBLANK(C49880)),\"\",VLOOKUP(C49880,Sheet2!A:F,3,FALSE))","v":""},{"$f":"IF(OR(C49880=\"\",ISBLANK(C49880)),\"\",VLOOKUP(C49880,Sheet2!A:G,6,FALSE))","v":""},""]
[{"$f":"IF(OR(C49881=\"\",ISBLANK(C49881)),\"\",VLOOKUP(C49881,Sheet2!A:F,2,FALSE))","v":""},{"$f":"IF(OR(C49881=\"\",ISBLANK(C49881)),\"\",VLOOKUP(C49881,Sheet2!A:G,4,FALSE))","v":""},null,null,{"$f":"IF(OR(C49881=\"\",ISBLANK(C49881)),\"\",VLOOKUP(C49881,Sheet2!A:F,3,FALSE))","v":""},{"$f":"IF(OR(C49881=\"\",ISBLANK(C49881)),\"\",VLOOKUP(C49881,Sheet2!A:G,6,FALSE))","v":""},""]
[{"$f":"IF(OR(C49882=\"\",ISBLANK(C49882)),\"\",VLOOKUP(C49882,Sheet2!A:F,2,FALSE))","v":""},{"$f":"IF(OR(C49882=\"\",ISBLANK(C49882)),\"\",VLOOKUP(C49882,Sheet2!A:G,4,FALSE))","v":""},null,null,{"$f":"IF(OR(C49882=\"\",ISBLANK(C49882)),\"\",VLOOKUP(C49882,Sheet2!A:F,3,FALSE))","v":""},{"$f":"IF(OR(C49882=\"\",ISBLANK(C49882)),\"\",VLOOKUP(C49882,Sheet2!A:G,6,FALSE))","v":""},""]
[{"$f":"IF(OR(C49883=\"\",ISBLANK(C49883)),\"\",VLOOKUP(C49883,Sheet2!A:F,2,FALSE))","v":""},{"$f":"IF(OR(C49883=\"\",ISBLANK(C49883)),\"\",VLOOKUP(C49883,Sheet2!A:G,4,FALSE))","v":""},null,null,{"$f":"IF(OR(C49883=\"\",ISBLANK(C49883)),\"\",VLOOKUP(C49883,Sheet2!A:F,3,FALSE))","v":""},{"$f":"IF(OR(C49883=\"\",ISBLANK(C49883)),\"\",VLOOKUP(C49883,Sheet2!A:G,6,FALSE))","v":""},""]
[{"$f":"IF(OR(C49884=\"\",ISBLANK(C49884)),\"\",VLOOKUP(C49884,Sheet2!A:F,2,FALSE))","v":""},{"$f":"IF(OR(C49884=\"\",ISBLANK(C49884)),\"\",VLOOKUP(C49884,Sheet2!A:G,4,FALSE))","v":""},null,null,{"$f":"IF(OR(C49884=\"\",ISBLANK(C49884)),\"\",VLOOKUP(C49884,Sheet2!A:F,3,FALSE))","v":""},{"$f":"IF(OR(C49884=\"\",ISBLANK(C49884)),\"\",VLOOKUP(C49884,Sheet2!A:G,6,FALSE))","v":""},""]
[{"$f":"IF(OR(C49885=\"\",ISBLANK(C49885)),\"\",VLOOKUP(C49885,Sheet2!A:F,2,FALSE))","v":""},{"$f":"IF(OR(C49885=\"\",ISBLANK(C49885)),\"\",VLOOKUP(C49885,Sheet2!A:G,4,FALSE))","v":""},null,null,{"$f":"IF(OR(C49885=\"\",ISBLANK(C49885)),\"\",VLOOKUP(C49885,Sheet2!A:F,3,FALSE))","v":""},{"$f":"IF(OR(C49885=\"\",ISBLANK(C49885)),\"\",VLOOKUP(C49885,Sheet2!A:G,6,FALSE))","v":""},""]
[{"$f":"IF(OR(C49886=\"\",ISBLANK(C49886)),\"\",VLOOKUP(C49886,Sheet2!A:F,2,FALSE))","v":""},{"$f":"IF(OR(C49886=\"\",ISBLANK(C49886)),\"\",VLOOKUP(C49886,Sheet2!A:G,4,FALSE))","v":""},null,null,{"$f":"IF(OR(C49886=\"\",ISBLANK(C49886)),\"\",VLOOKUP(C49886,Sheet2!A:F,3,FALSE))","v":""},{"$f":"IF(OR(C49886=\"\",ISBLANK(C49886)),\"\",VLOOKUP(C49886,Sheet2!A:G,6,FALSE))","v":""},""]
[{"$f":"IF(OR(C49887=\"\",ISBLANK(C49887)),\"\",VLOOKUP(C49887,Sheet2!A:F,2,FALSE))","v":""},{"$f":"IF(OR(C49887=\"\",ISBLANK(C49887)),\"\",VLOOKUP(C49887,Sheet2!A:G,4,FALSE))","v":""},null,null,{"$f":"IF(OR(C49887=\"\",ISBLANK(C49887)),\"\",VLOOKUP(C49887,Sheet2!A:F,3,FALSE))","v":""},{"$f":"IF(OR(C49887=\"\",ISBLANK(C49887)),\"\",VLOOKUP(C49887,Sheet2!A:G,6,FALSE))","v":""},""]
[{"$f":"IF(OR(C49888=\"\",ISBLANK(C49888)),\"\",VLOOKUP(C49888,Sheet2!A:F,2,FALSE))","v":""},{"$f":"IF(OR(C49888=\"\",ISBLANK(C49888)),\"\",VLOOKUP(C49888,Sheet2!A:G,4,FALSE))","v":""},null,null,{"$f":"IF(OR(C49888=\"\",ISBLANK(C49888)),\"\",VLOOKUP(C49888,Sheet2!A:F,3,FALSE))","v":""},{"$f":"IF(OR(C49888=\"\",ISBLANK(C49888)),\"\",VLOOKUP(C49888,Sheet2!A:G,6,FALSE))","v":""},""]
[{"$f":"IF(OR(C49889=\"\",ISBLANK(C49889)),\"\",VLOOKUP(C49889,Sheet2!A:F,2,FALSE))","v":""},{"$f":"IF(OR(C49889=\"\",ISBLANK(C49889)),\"\",VLOOKUP(C49889,Sheet2!A:G,4,FALSE))","v":""},null,null,{"$f":"IF(OR(C49889=\"\",ISBLANK(C49889)),\"\",VLOOKUP(C49889,Sheet2!A:F,3,FALSE))","v":""},{"$f":"IF(OR(C49889=\"\",ISBLANK(C49889)),\"\",VLOOKUP(C49889,Sheet2!A:G,6,FALSE))","v":""},""]
[{"$f":"IF(OR(C49890=\"\",ISBLANK(C49890)),\"\",VLOOKUP(C49890,Sheet2!A:F,2,FALSE))","v":""},{"$f":"IF(OR(C49890=\"\",ISBLANK(C49890)),\"\",VLOOKUP(C49890,Sheet2!A:G,4,FALSE))","v":""},null,null,{"$f":"IF(OR(C49890=\"\",ISBLANK(C49890)),\"\",VLOOKUP(C49890,Sheet2!A:F,3,FALSE))","v":""},{"$f":"IF(OR(C49890=\"\",ISBLANK(C49890)),\"\",VLOOKUP(C49890,Sheet2!A:G,6,FALSE))","v":""},""]
[{"$f":"IF(OR(C49891=\"\",ISBLANK(C49891)),\"\",VLOOKUP(C49891,Sheet2!A:F,2,FALSE))","v":""},{"$f":"IF(OR(C49891=\"\",ISBLANK(C49891)),\"\",VLOOKUP(C49891,Sheet2!A:G,4,FALSE))","v":""},null,null,{"$f":"IF(OR(C49891=\"\",ISBLANK(C49891)),\"\",VLOOKUP(C49891,Sheet2!A:F,3,FALSE))","v":""},{"$f":"IF(OR(C49891=\"\",ISBLANK(C49891)),\"\",VLOOKUP(C49891,Sheet2!A:G,6,FALSE))","v":""},""]
[{"$f":"IF(OR(C49892=\"\",ISBLANK(C49892)),\"\",VLOOKUP(C49892,Sheet2!A:F,2,FALSE))","v":""},{"$f":"IF(OR(C49892=\"\",ISBLANK(C49892)),\"\",VLOOKUP(C49892,Sheet2!A:G,4,FALSE))","v":""},null,null,{"$f":"IF(OR(C49892=\"\",ISBLANK(C49892)),\"\",VLOOKUP(C49892,Sheet2!A:F,3,FALSE))","v":""},{"$f":"IF(OR(C49892=\"\",ISBLANK(C49892)),\"\",VLOOKUP(C49892,Sheet2!A:G,6,FALSE))","v":""},""]
[{"$f":"IF(OR(C49893=\"\",ISBLANK(C49893)),\"\",VLOOKUP(C49893,Sheet2!A:F,2,FALSE))","v":""},{"$f":"IF(OR(C49893=\"\",ISBLANK(C49893)),\"\",VLOOKUP(C49893,Sheet2!A:G,4,FALSE))","v":""},null,null,{"$f":"IF(OR(C49893=\"\",ISBLANK(C49893)),\"\",VLOOKUP(C49893,Sheet2!A:F,3,FALSE))","v":""},{"$f":"IF(OR(C49893=\"\",ISBLANK(C49893)),\"\",VLOOKUP(C49893,Sheet2!A:G,6,FALSE))","v":""},""]
[{"$f":"IF(OR(C49894=\"\",ISBLANK(C49894)),\"\",VLOOKUP(C49894,Sheet2!A:F,2,FALSE))","v":""},{"$f":"IF(OR(C49894=\"\",ISBLANK(C49894)),\"\",VLOOKUP(C49894,Sheet2!A:G,4,FALSE))","v":""},null,null,{"$f":"IF(OR(C49894=\"\",ISBLANK(C49894)),\"\",VLOOKUP(C49894,Sheet2!A:F,3,FALSE))","v":""},{"$f":"IF(OR(C49894=\"\",ISBLANK(C49894)),\"\",VLOOKUP(C49894,Sheet2!A:G,6,FALSE))","v":""},""]
[{"$f":"IF(OR(C49895=\"\",ISBLANK(C49895)),\"\",VLOOKUP(C49895,Sheet2!A:F,2,FALSE))","v":""},{"$f":"IF(OR(C49895=\"\",ISBLANK(C49895)),\"\",VLOOKUP(C49895,Sheet2!A:G,4,FALSE))","v":""},null,null,{"$f":"IF(OR(C49895=\"\",ISBLANK(C49895)),\"\",VLOOKUP(C49895,Sheet2!A:F,3,FALSE))","v":""},{"$f":"IF(OR(C49895=\"\",ISBLANK(C49895)),\"\",VLOOKUP(C49895,Sheet2!A:G,6,FALSE))","v":""},""]
[{"$f":"IF(OR(C49896=\"\",ISBLANK(C49896)),\"\",VLOOKUP(C49896,Sheet2!A:F,2,FALSE))","v":""},{"$f":"IF(OR(C49896=\"\",ISBLANK(C49896)),\"\",VLOOKUP(C49896,Sheet2!A:G,4,FALSE))","v":""},null,null,{"$f":"IF(OR(C49896=\"\",ISBLANK(C49896)),\"\",VLOOKUP(C49896,Sheet2!A:F,3,FALSE))","v":""},{"$f":"IF(OR(C49896=\"\",ISBLANK(C49896)),\"\",VLOOKUP(C49896,Sheet2!A:G,6,FALSE))","v":""},""]
[{"$f":"IF(OR(C49897=\"\",ISBLANK(C49897)),\"\",VLOOKUP(C49897,Sheet2!A:F,2,FALSE))","v":""},{"$f":"IF(OR(C49897=\"\",ISBLANK(C49897)),\"\",VLOOKUP(C49897,Sheet2!A:G,4,FALSE))","v":""},null,null,{"$f":"IF(OR(C49897=\"\",ISBLANK(C49897)),\"\",VLOOKUP(C49897,Sheet2!A:F,3,FALSE))","v":""},{"$f":"IF(OR(C49897=\"\",ISBLANK(C49897)),\"\",VLOOKUP(C49897,Sheet2!A:G,6,FALSE))","v":""},""]
[{"$f":"IF(OR(C49898=\"\",ISBLANK(C49898)),\"\",VLOOKUP(C49898,Sheet2!A:F,2,FALSE))","v":""},{"$f":"IF(OR(C49898=\"\",ISBLANK(C49898)),\"\",VLOOKUP(C49898,Sheet2!A:G,4,FALSE))","v":""},null,null,{"$f":"IF(OR(C49898=\"\",ISBLANK(C49898)),\"\",VLOOKUP(C49898,Sheet2!A:F,3,FALSE))","v":""},{"$f":"IF(OR(C49898=\"\",ISBLANK(C49898)),\"\",VLOOKUP(C49898,Sheet2!A:G,6,FALSE))","v":""},""]
[{"$f":"IF(OR(C49899=\"\",ISBLANK(C49899)),\"\",VLOOKUP(C49899,Sheet2!A:F,2,FALSE))","v":""},{"$f":"IF(OR(C49899=\"\",ISBLANK(C49899)),\"\",VLOOKUP(C49899,Sheet2!A:G,4,FALSE))","v":""},null,null,{"$f":"IF(OR(C49899=\"\",ISBLANK(C49899)),\"\",VLOOKUP(C49899,Sheet2!A:F,3,FALSE))","v":""},{"$f":"IF(OR(C49899=\"\",ISBLANK(C49899)),\"\",VLOOKUP(C49899,Sheet2!A:G,6,FALSE))","v":""},""]
[{"$f":"IF(OR(C49900=\"\",ISBLANK(C49900)),\"\",VLOOKUP(C49900,Sheet2!A:F,2,FALSE))","v":""},{"$f":"IF(OR(C49900=\"\",ISBLANK(C49900)),\"\",VLOOKUP(C49900,Sheet2!A:G,4,FALSE))","v":""},null,null,{"$f":"IF(OR(C49900=\"\",ISBLANK(C49900)),\"\",VLOOKUP(C49900,Sheet2!A:F,3,FALSE))","v":""},{"$f":"IF(OR(C49900=\"\",ISBLANK(C49900)),\"\",VLOOKUP(C49900,Sheet2!A:G,6,FALSE))","v":""},""]
[{"$f":"IF(OR(C49901=\"\",ISBLANK(C49901)),\"\",VLOOKUP(C49901,Sheet2!A:F,2,FALSE))","v":""},{"$f":"IF(OR(C49901=\"\",ISBLANK(C49901)),\"\",VLOOKUP(C49901,Sheet2!A:G,4,FALSE))","v":""},null,null,{"$f":"IF(OR(C49901=\"\",ISBLANK(C49901)),\"\",VLOOKUP(C49901,Sheet2!A:F,3,FALSE))","v":""},{"$f":"IF(OR(C49901=\"\",ISBLANK(C49901)),\"\",VLOOKUP(C49901,Sheet2!A:G,6,FALSE))","v":""},""]
[{"$f":"IF(OR(C49902=\"\",ISBLANK(C49902)),\"\",VLOOKUP(C49902,Sheet2!A:F,2,FALSE))","v":""},{"$f":"IF(OR(C49902=\"\",ISBLANK(C49902)),\"\",VLOOKUP(C49902,Sheet2!A:G,4,FALSE))","v":""},null,null,{"$f":"IF(OR(C49902=\"\",ISBLANK(C49902)),\"\",VLOOKUP(C49902,Sheet2!A:F,3,FALSE))","v":""},{"$f":"IF(OR(C49902=\"\",ISBLANK(C49902)),\"\",VLOOKUP(C49902,Sheet2!A:G,6,FALSE))","v":""},""]
[{"$f":"IF(OR(C49903=\"\",ISBLANK(C49903)),\"\",VLOOKUP(C49903,Sheet2!A:F,2,FALSE))","v":""},{"$f":"IF(OR(C49903=\"\",ISBLANK(C49903)),\"\",VLOOKUP(C49903,Sheet2!A:G,4,FALSE))","v":""},null,null,{"$f":"IF(OR(C49903=\"\",ISBLANK(C49903)),\"\",VLOOKUP(C49903,Sheet2!A:F,3,FALSE))","v":""},{"$f":"IF(OR(C49903=\"\",ISBLANK(C49903)),\"\",VLOOKUP(C49903,Sheet2!A:G,6,FALSE))","v":""},""]
[{"$f":"IF(OR(C49904=\"\",ISBLANK(C49904)),\"\",VLOOKUP(C49904,Sheet2!A:F,2,FALSE))","v":""},{"$f":"IF(OR(C49904=\"\",ISBLANK(C49904)),\"\",VLOOKUP(C49904,Sheet2!A:G,4,FALSE))","v":""},null,null,{"$f":"IF(OR(C49904=\"\",ISBLANK(C49904)),\"\",VLOOKUP(C49904,Sheet2!A:F,3,FALSE))","v":""},{"$f":"IF(OR(C49904=\"\",ISBLANK(C49904)),\"\",VLOOKUP(C49904,Sheet2!A:G,6,FALSE))","v":""},""]
[{"$f":"IF(OR(C49905=\"\",ISBLANK(C49905)),\"\",VLOOKUP(C49905,Sheet2!A:F,2,FALSE))","v":""},{"$f":"IF(OR(C49905=\"\",ISBLANK(C49905)),\"\",VLOOKUP(C49905,Sheet2!A:G,4,FALSE))","v":""},null,null,{"$f":"IF(OR(C49905=\"\",ISBLANK(C49905)),\"\",VLOOKUP(C49905,Sheet2!A:F,3,FALSE))","v":""},{"$f":"IF(OR(C49905=\"\",ISBLANK(C49905)),\"\",VLOOKUP(C49905,Sheet2!A:G,6,FALSE))","v":""},""]
[{"$f":"IF(OR(C49906=\"\",ISBLANK(C49906)),\"\",VLOOKUP(C49906,Sheet2!A:F,2,FALSE))","v":""},{"$f":"IF(OR(C49906=\"\",ISBLANK(C49906)),\"\",VLOOKUP(C49906,Sheet2!A:G,4,FALSE))","v":""},null,null,{"$f":"IF(OR(C49906=\"\",ISBLANK(C49906)),\"\",VLOOKUP(C49906,Sheet2!A:F,3,FALSE))","v":""},{"$f":"IF(OR(C49906=\"\",ISBLANK(C49906)),\"\",VLOOKUP(C49906,Sheet2!A:G,6,FALSE))","v":""},""]
[{"$f":"IF(OR(C49907=\"\",ISBLANK(C49907)),\"\",VLOOKUP(C49907,Sheet2!A:F,2,FALSE))","v":""},{"$f":"IF(OR(C49907=\"\",ISBLANK(C49907)),\"\",VLOOKUP(C49907,Sheet2!A:G,4,FALSE))","v":""},null,null,{"$f":"IF(OR(C49907=\"\",ISBLANK(C49907)),\"\",VLOOKUP(C49907,Sheet2!A:F,3,FALSE))","v":""},{"$f":"IF(OR(C49907=\"\",ISBLANK(C49907)),\"\",VLOOKUP(C49907,Sheet2!A:G,6,FALSE))","v":""},""]
[{"$f":"IF(OR(C49908=\"\",ISBLANK(C49908)),\"\",VLOOKUP(C49908,Sheet2!A:F,2,FALSE))","v":""},{"$f":"IF(OR(C49908=\"\",ISBLANK(C49908)),\"\",VLOOKUP(C49908,Sheet2!A:G,4,FALSE))","v":""},null,null,{"$f":"IF(OR(C49908=\"\",ISBLANK(C49908)),\"\",VLOOKUP(C49908,Sheet2!A:F,3,FALSE))","v":""},{"$f":"IF(OR(C49908=\"\",ISBLANK(C49908)),\"\",VLOOKUP(C49908,Sheet2!A:G,6,FALSE))","v":""},""]
[{"$f":"IF(OR(C49909=\"\",ISBLANK(C49909)),\"\",VLOOKUP(C49909,Sheet2!A:F,2,FALSE))","v":""},{"$f":"IF(OR(C49909=\"\",ISBLANK(C49909)),\"\",VLOOKUP(C49909,Sheet2!A:G,4,FALSE))","v":""},null,null,{"$f":"IF(OR(C49909=\"\",ISBLANK(C49909)),\"\",VLOOKUP(C49909,Sheet2!A:F,3,FALSE))","v":""},{"$f":"IF(OR(C49909=\"\",ISBLANK(C49909)),\"\",VLOOKUP(C49909,Sheet2!A:G,6,FALSE))","v":""},""]
[{"$f":"IF(OR(C49910=\"\",ISBLANK(C49910)),\"\",VLOOKUP(C49910,Sheet2!A:F,2,FALSE))","v":""},{"$f":"IF(OR(C49910=\"\",ISBLANK(C49910)),\"\",VLOOKUP(C49910,Sheet2!A:G,4,FALSE))","v":""},null,null,{"$f":"IF(OR(C49910=\"\",ISBLANK(C49910)),\"\",VLOOKUP(C49910,Sheet2!A:F,3,FALSE))","v":""},{"$f":"IF(OR(C49910=\"\",ISBLANK(C49910)),\"\",VLOOKUP(C49910,Sheet2!A:G,6,FALSE))","v":""},""]
[{"$f":"IF(OR(C49911=\"\",ISBLANK(C49911)),\"\",VLOOKUP(C49911,Sheet2!A:F,2,FALSE))","v":""},{"$f":"IF(OR(C49911=\"\",ISBLANK(C49911)),\"\",VLOOKUP(C49911,Sheet2!A:G,4,FALSE))","v":""},null,null,{"$f":"IF(OR(C49911=\"\",ISBLANK(C49911)),\"\",VLOOKUP(C49911,Sheet2!A:F,3,FALSE))","v":""},{"$f":"IF(OR(C49911=\"\",ISBLANK(C49911)),\"\",VLOOKUP(C49911,Sheet2!A:G,6,FALSE))","v":""},""]
[{"$f":"IF(OR(C49912=\"\",ISBLANK(C49912)),\"\",VLOOKUP(C49912,Sheet2!A:F,2,FALSE))","v":""},{"$f":"IF(OR(C49912=\"\",ISBLANK(C49912)),\"\",VLOOKUP(C49912,Sheet2!A:G,4,FALSE))","v":""},null,null,{"$f":"IF(OR(C49912=\"\",ISBLANK(C49912)),\"\",VLOOKUP(C49912,Sheet2!A:F,3,FALSE))","v":""},{"$f":"IF(OR(C49912=\"\",ISBLANK(C49912)),\"\",VLOOKUP(C49912,Sheet2!A:G,6,FALSE))","v":""},""]
[{"$f":"IF(OR(C49913=\"\",ISBLANK(C49913)),\"\",VLOOKUP(C49913,Sheet2!A:F,2,FALSE))","v":""},{"$f":"IF(OR(C49913=\"\",ISBLANK(C49913)),\"\",VLOOKUP(C49913,Sheet2!A:G,4,FALSE))","v":""},null,null,{"$f":"IF(OR(C49913=\"\",ISBLANK(C49913)),\"\",VLOOKUP(C49913,Sheet2!A:F,3,FALSE))","v":""},{"$f":"IF(OR(C49913=\"\",ISBLANK(C49913)),\"\",VLOOKUP(C49913,Sheet2!A:G,6,FALSE))","v":""},""]
[{"$f":"IF(OR(C49914=\"\",ISBLANK(C49914)),\"\",VLOOKUP(C49914,Sheet2!A:F,2,FALSE))","v":""},{"$f":"IF(OR(C49914=\"\",ISBLANK(C49914)),\"\",VLOOKUP(C49914,Sheet2!A:G,4,FALSE))","v":""},null,null,{"$f":"IF(OR(C49914=\"\",ISBLANK(C49914)),\"\",VLOOKUP(C49914,Sheet2!A:F,3,FALSE))","v":""},{"$f":"IF(OR(C49914=\"\",ISBLANK(C49914)),\"\",VLOOKUP(C49914,Sheet2!A:G,6,FALSE))","v":""},""]
[{"$f":"IF(OR(C49915=\"\",ISBLANK(C49915)),\"\",VLOOKUP(C49915,Sheet2!A:F,2,FALSE))","v":""},{"$f":"IF(OR(C49915=\"\",ISBLANK(C49915)),\"\",VLOOKUP(C49915,Sheet2!A:G,4,FALSE))","v":""},null,null,{"$f":"IF(OR(C49915=\"\",ISBLANK(C49915)),\"\",VLOOKUP(C49915,Sheet2!A:F,3,FALSE))","v":""},{"$f":"IF(OR(C49915=\"\",ISBLANK(C49915)),\"\",VLOOKUP(C49915,Sheet2!A:G,6,FALSE))","v":""},""]
[{"$f":"IF(OR(C49916=\"\",ISBLANK(C49916)),\"\",VLOOKUP(C49916,Sheet2!A:F,2,FALSE))","v":""},{"$f":"IF(OR(C49916=\"\",ISBLANK(C49916)),\"\",VLOOKUP(C49916,Sheet2!A:G,4,FALSE))","v":""},null,null,{"$f":"IF(OR(C49916=\"\",ISBLANK(C49916)),\"\",VLOOKUP(C49916,Sheet2!A:F,3,FALSE))","v":""},{"$f":"IF(OR(C49916=\"\",ISBLANK(C49916)),\"\",VLOOKUP(C49916,Sheet2!A:G,6,FALSE))","v":""},""]
[{"$f":"IF(OR(C49917=\"\",ISBLANK(C49917)),\"\",VLOOKUP(C49917,Sheet2!A:F,2,FALSE))","v":""},{"$f":"IF(OR(C49917=\"\",ISBLANK(C49917)),\"\",VLOOKUP(C49917,Sheet2!A:G,4,FALSE))","v":""},null,null,{"$f":"IF(OR(C49917=\"\",ISBLANK(C49917)),\"\",VLOOKUP(C49917,Sheet2!A:F,3,FALSE))","v":""},{"$f":"IF(OR(C49917=\"\",ISBLANK(C49917)),\"\",VLOOKUP(C49917,Sheet2!A:G,6,FALSE))","v":""},""]
[{"$f":"IF(OR(C49918=\"\",ISBLANK(C49918)),\"\",VLOOKUP(C49918,Sheet2!A:F,2,FALSE))","v":""},{"$f":"IF(OR(C49918=\"\",ISBLANK(C49918)),\"\",VLOOKUP(C49918,Sheet2!A:G,4,FALSE))","v":""},null,null,{"$f":"IF(OR(C49918=\"\",ISBLANK(C49918)),\"\",VLOOKUP(C49918,Sheet2!A:F,3,FALSE))","v":""},{"$f":"IF(OR(C49918=\"\",ISBLANK(C49918)),\"\",VLOOKUP(C49918,Sheet2!A:G,6,FALSE))","v":""},""]
[{"$f":"IF(OR(C49919=\"\",ISBLANK(C49919)),\"\",VLOOKUP(C49919,Sheet2!A:F,2,FALSE))","v":""},{"$f":"IF(OR(C49919=\"\",ISBLANK(C49919)),\"\",VLOOKUP(C49919,Sheet2!A:G,4,FALSE))","v":""},null,null,{"$f":"IF(OR(C49919=\"\",ISBLANK(C49919)),\"\",VLOOKUP(C49919,Sheet2!A:F,3,FALSE))","v":""},{"$f":"IF(OR(C49919=\"\",ISBLANK(C49919)),\"\",VLOOKUP(C49919,Sheet2!A:G,6,FALSE))","v":""},""]
[{"$f":"IF(OR(C49920=\"\",ISBLANK(C49920)),\"\",VLOOKUP(C49920,Sheet2!A:F,2,FALSE))","v":""},{"$f":"IF(OR(C49920=\"\",ISBLANK(C49920)),\"\",VLOOKUP(C49920,Sheet2!A:G,4,FALSE))","v":""},null,null,{"$f":"IF(OR(C49920=\"\",ISBLANK(C49920)),\"\",VLOOKUP(C49920,Sheet2!A:F,3,FALSE))","v":""},{"$f":"IF(OR(C49920=\"\",ISBLANK(C49920)),\"\",VLOOKUP(C49920,Sheet2!A:G,6,FALSE))","v":""},""]
[{"$f":"IF(OR(C49921=\"\",ISBLANK(C49921)),\"\",VLOOKUP(C49921,Sheet2!A:F,2,FALSE))","v":""},{"$f":"IF(OR(C49921=\"\",ISBLANK(C49921)),\"\",VLOOKUP(C49921,Sheet2!A:G,4,FALSE))","v":""},null,null,{"$f":"IF(OR(C49921=\"\",ISBLANK(C49921)),\"\",VLOOKUP(C49921,Sheet2!A:F,3,FALSE))","v":""},{"$f":"IF(OR(C49921=\"\",ISBLANK(C49921)),\"\",VLOOKUP(C49921,Sheet2!A:G,6,FALSE))","v":""},""]
[{"$f":"IF(OR(C49922=\"\",ISBLANK(C49922)),\"\",VLOOKUP(C49922,Sheet2!A:F,2,FALSE))","v":""},{"$f":"IF(OR(C49922=\"\",ISBLANK(C49922)),\"\",VLOOKUP(C49922,Sheet2!A:G,4,FALSE))","v":""},null,null,{"$f":"IF(OR(C49922=\"\",ISBLANK(C49922)),\"\",VLOOKUP(C49922,Sheet2!A:F,3,FALSE))","v":""},{"$f":"IF(OR(C49922=\"\",ISBLANK(C49922)),\"\",VLOOKUP(C49922,Sheet2!A:G,6,FALSE))","v":""},""]
[{"$f":"IF(OR(C49923=\"\",ISBLANK(C49923)),\"\",VLOOKUP(C49923,Sheet2!A:F,2,FALSE))","v":""},{"$f":"IF(OR(C49923=\"\",ISBLANK(C49923)),\"\",VLOOKUP(C49923,Sheet2!A:G,4,FALSE))","v":""},null,null,{"$f":"IF(OR(C49923=\"\",ISBLANK(C49923)),\"\",VLOOKUP(C49923,Sheet2!A:F,3,FALSE))","v":""},{"$f":"IF(OR(C49923=\"\",ISBLANK(C49923)),\"\",VLOOKUP(C49923,Sheet2!A:G,6,FALSE))","v":""},{"$f":"IF(F49923=0,\"\",F49923)","v":""}]
[{"$f":"IF(OR(C49924=\"\",ISBLANK(C49924)),\"\",VLOOKUP(C49924,Sheet2!A:F,2,FALSE))","v":""},{"$f":"IF(OR(C49924=\"\",ISBLANK(C49924)),\"\",VLOOKUP(C49924,Sheet2!A:G,4,FALSE))","v":""},null,null,{"$f":"IF(OR(C49924=\"\",ISBLANK(C49924)),\"\",VLOOKUP(C49924,Sheet2!A:F,3,FALSE))","v":""},{"$f":"IF(OR(C49924=\"\",ISBLANK(C49924)),\"\",VLOOKUP(C49924,Sheet2!A:G,6,FALSE))","v":""},""]
[{"$f":"IF(OR(C49925=\"\",ISBLANK(C49925)),\"\",VLOOKUP(C49925,Sheet2!A:F,2,FALSE))","v":""},{"$f":"IF(OR(C49925=\"\",ISBLANK(C49925)),\"\",VLOOKUP(C49925,Sheet2!A:G,4,FALSE))","v":""},null,null,{"$f":"IF(OR(C49925=\"\",ISBLANK(C49925)),\"\",VLOOKUP(C49925,Sheet2!A:F,3,FALSE))","v":""},{"$f":"IF(OR(C49925=\"\",ISBLANK(C49925)),\"\",VLOOKUP(C49925,Sheet2!A:G,6,FALSE))","v":""},""]
[{"$f":"IF(OR(C49926=\"\",ISBLANK(C49926)),\"\",VLOOKUP(C49926,Sheet2!A:F,2,FALSE))","v":""},{"$f":"IF(OR(C49926=\"\",ISBLANK(C49926)),\"\",VLOOKUP(C49926,Sheet2!A:G,4,FALSE))","v":""},null,null,{"$f":"IF(OR(C49926=\"\",ISBLANK(C49926)),\"\",VLOOKUP(C49926,Sheet2!A:F,3,FALSE))","v":""},{"$f":"IF(OR(C49926=\"\",ISBLANK(C49926)),\"\",VLOOKUP(C49926,Sheet2!A:G,6,FALSE))","v":""},""]
[{"$f":"IF(OR(C49927=\"\",ISBLANK(C49927)),\"\",VLOOKUP(C49927,Sheet2!A:F,2,FALSE))","v":""},{"$f":"IF(OR(C49927=\"\",ISBLANK(C49927)),\"\",VLOOKUP(C49927,Sheet2!A:G,4,FALSE))","v":""},null,null,{"$f":"IF(OR(C49927=\"\",ISBLANK(C49927)),\"\",VLOOKUP(C49927,Sheet2!A:F,3,FALSE))","v":""},{"$f":"IF(OR(C49927=\"\",ISBLANK(C49927)),\"\",VLOOKUP(C49927,Sheet2!A:G,6,FALSE))","v":""},""]
[{"$f":"IF(OR(C49928=\"\",ISBLANK(C49928)),\"\",VLOOKUP(C49928,Sheet2!A:F,2,FALSE))","v":""},{"$f":"IF(OR(C49928=\"\",ISBLANK(C49928)),\"\",VLOOKUP(C49928,Sheet2!A:G,4,FALSE))","v":""},null,null,{"$f":"IF(OR(C49928=\"\",ISBLANK(C49928)),\"\",VLOOKUP(C49928,Sheet2!A:F,3,FALSE))","v":""},{"$f":"IF(OR(C49928=\"\",ISBLANK(C49928)),\"\",VLOOKUP(C49928,Sheet2!A:G,6,FALSE))","v":""},""]
[{"$f":"IF(OR(C49929=\"\",ISBLANK(C49929)),\"\",VLOOKUP(C49929,Sheet2!A:F,2,FALSE))","v":""},{"$f":"IF(OR(C49929=\"\",ISBLANK(C49929)),\"\",VLOOKUP(C49929,Sheet2!A:G,4,FALSE))","v":""},null,null,{"$f":"IF(OR(C49929=\"\",ISBLANK(C49929)),\"\",VLOOKUP(C49929,Sheet2!A:F,3,FALSE))","v":""},{"$f":"IF(OR(C49929=\"\",ISBLANK(C49929)),\"\",VLOOKUP(C49929,Sheet2!A:G,6,FALSE))","v":""},""]
[{"$f":"IF(OR(C49930=\"\",ISBLANK(C49930)),\"\",VLOOKUP(C49930,Sheet2!A:F,2,FALSE))","v":""},{"$f":"IF(OR(C49930=\"\",ISBLANK(C49930)),\"\",VLOOKUP(C49930,Sheet2!A:G,4,FALSE))","v":""},null,null,{"$f":"IF(OR(C49930=\"\",ISBLANK(C49930)),\"\",VLOOKUP(C49930,Sheet2!A:F,3,FALSE))","v":""},{"$f":"IF(OR(C49930=\"\",ISBLANK(C49930)),\"\",VLOOKUP(C49930,Sheet2!A:G,6,FALSE))","v":""},""]
[{"$f":"IF(OR(C49931=\"\",ISBLANK(C49931)),\"\",VLOOKUP(C49931,Sheet2!A:F,2,FALSE))","v":""},{"$f":"IF(OR(C49931=\"\",ISBLANK(C49931)),\"\",VLOOKUP(C49931,Sheet2!A:G,4,FALSE))","v":""},null,null,{"$f":"IF(OR(C49931=\"\",ISBLANK(C49931)),\"\",VLOOKUP(C49931,Sheet2!A:F,3,FALSE))","v":""},{"$f":"IF(OR(C49931=\"\",ISBLANK(C49931)),\"\",VLOOKUP(C49931,Sheet2!A:G,6,FALSE))","v":""},""]
[{"$f":"IF(OR(C49932=\"\",ISBLANK(C49932)),\"\",VLOOKUP(C49932,Sheet2!A:F,2,FALSE))","v":""},{"$f":"IF(OR(C49932=\"\",ISBLANK(C49932)),\"\",VLOOKUP(C49932,Sheet2!A:G,4,FALSE))","v":""},null,null,{"$f":"IF(OR(C49932=\"\",ISBLANK(C49932)),\"\",VLOOKUP(C49932,Sheet2!A:F,3,FALSE))","v":""},{"$f":"IF(OR(C49932=\"\",ISBLANK(C49932)),\"\",VLOOKUP(C49932,Sheet2!A:G,6,FALSE))","v":""},""]
[{"$f":"IF(OR(C49933=\"\",ISBLANK(C49933)),\"\",VLOOKUP(C49933,Sheet2!A:F,2,FALSE))","v":""},{"$f":"IF(OR(C49933=\"\",ISBLANK(C49933)),\"\",VLOOKUP(C49933,Sheet2!A:G,4,FALSE))","v":""},null,null,{"$f":"IF(OR(C49933=\"\",ISBLANK(C49933)),\"\",VLOOKUP(C49933,Sheet2!A:F,3,FALSE))","v":""},{"$f":"IF(OR(C49933=\"\",ISBLANK(C49933)),\"\",VLOOKUP(C49933,Sheet2!A:G,6,FALSE))","v":""},""]
[{"$f":"IF(OR(C49934=\"\",ISBLANK(C49934)),\"\",VLOOKUP(C49934,Sheet2!A:F,2,FALSE))","v":""},{"$f":"IF(OR(C49934=\"\",ISBLANK(C49934)),\"\",VLOOKUP(C49934,Sheet2!A:G,4,FALSE))","v":""},null,null,{"$f":"IF(OR(C49934=\"\",ISBLANK(C49934)),\"\",VLOOKUP(C49934,Sheet2!A:F,3,FALSE))","v":""},{"$f":"IF(OR(C49934=\"\",ISBLANK(C49934)),\"\",VLOOKUP(C49934,Sheet2!A:G,6,FALSE))","v":""},""]
[{"$f":"IF(OR(C49935=\"\",ISBLANK(C49935)),\"\",VLOOKUP(C49935,Sheet2!A:F,2,FALSE))","v":""},{"$f":"IF(OR(C49935=\"\",ISBLANK(C49935)),\"\",VLOOKUP(C49935,Sheet2!A:G,4,FALSE))","v":""},null,null,{"$f":"IF(OR(C49935=\"\",ISBLANK(C49935)),\"\",VLOOKUP(C49935,Sheet2!A:F,3,FALSE))","v":""},{"$f":"IF(OR(C49935=\"\",ISBLANK(C49935)),\"\",VLOOKUP(C49935,Sheet2!A:G,6,FALSE))","v":""},""]
[{"$f":"IF(OR(C49936=\"\",ISBLANK(C49936)),\"\",VLOOKUP(C49936,Sheet2!A:F,2,FALSE))","v":""},{"$f":"IF(OR(C49936=\"\",ISBLANK(C49936)),\"\",VLOOKUP(C49936,Sheet2!A:G,4,FALSE))","v":""},null,null,{"$f":"IF(OR(C49936=\"\",ISBLANK(C49936)),\"\",VLOOKUP(C49936,Sheet2!A:F,3,FALSE))","v":""},{"$f":"IF(OR(C49936=\"\",ISBLANK(C49936)),\"\",VLOOKUP(C49936,Sheet2!A:G,6,FALSE))","v":""},""]
[{"$f":"IF(OR(C49937=\"\",ISBLANK(C49937)),\"\",VLOOKUP(C49937,Sheet2!A:F,2,FALSE))","v":""},{"$f":"IF(OR(C49937=\"\",ISBLANK(C49937)),\"\",VLOOKUP(C49937,Sheet2!A:G,4,FALSE))","v":""},null,null,{"$f":"IF(OR(C49937=\"\",ISBLANK(C49937)),\"\",VLOOKUP(C49937,Sheet2!A:F,3,FALSE))","v":""},{"$f":"IF(OR(C49937=\"\",ISBLANK(C49937)),\"\",VLOOKUP(C49937,Sheet2!A:G,6,FALSE))","v":""},""]
[{"$f":"IF(OR(C49938=\"\",ISBLANK(C49938)),\"\",VLOOKUP(C49938,Sheet2!A:F,2,FALSE))","v":""},{"$f":"IF(OR(C49938=\"\",ISBLANK(C49938)),\"\",VLOOKUP(C49938,Sheet2!A:G,4,FALSE))","v":""},null,null,{"$f":"IF(OR(C49938=\"\",ISBLANK(C49938)),\"\",VLOOKUP(C49938,Sheet2!A:F,3,FALSE))","v":""},{"$f":"IF(OR(C49938=\"\",ISBLANK(C49938)),\"\",VLOOKUP(C49938,Sheet2!A:G,6,FALSE))","v":""},""]
[{"$f":"IF(OR(C49939=\"\",ISBLANK(C49939)),\"\",VLOOKUP(C49939,Sheet2!A:F,2,FALSE))","v":""},{"$f":"IF(OR(C49939=\"\",ISBLANK(C49939)),\"\",VLOOKUP(C49939,Sheet2!A:G,4,FALSE))","v":""},null,null,{"$f":"IF(OR(C49939=\"\",ISBLANK(C49939)),\"\",VLOOKUP(C49939,Sheet2!A:F,3,FALSE))","v":""},{"$f":"IF(OR(C49939=\"\",ISBLANK(C49939)),\"\",VLOOKUP(C49939,Sheet2!A:G,6,FALSE))","v":""},""]
[{"$f":"IF(OR(C49940=\"\",ISBLANK(C49940)),\"\",VLOOKUP(C49940,Sheet2!A:F,2,FALSE))","v":""},{"$f":"IF(OR(C49940=\"\",ISBLANK(C49940)),\"\",VLOOKUP(C49940,Sheet2!A:G,4,FALSE))","v":""},null,null,{"$f":"IF(OR(C49940=\"\",ISBLANK(C49940)),\"\",VLOOKUP(C49940,Sheet2!A:F,3,FALSE))","v":""},{"$f":"IF(OR(C49940=\"\",ISBLANK(C49940)),\"\",VLOOKUP(C49940,Sheet2!A:G,6,FALSE))","v":""},""]
[{"$f":"IF(OR(C49941=\"\",ISBLANK(C49941)),\"\",VLOOKUP(C49941,Sheet2!A:F,2,FALSE))","v":""},{"$f":"IF(OR(C49941=\"\",ISBLANK(C49941)),\"\",VLOOKUP(C49941,Sheet2!A:G,4,FALSE))","v":""},null,null,{"$f":"IF(OR(C49941=\"\",ISBLANK(C49941)),\"\",VLOOKUP(C49941,Sheet2!A:F,3,FALSE))","v":""},{"$f":"IF(OR(C49941=\"\",ISBLANK(C49941)),\"\",VLOOKUP(C49941,Sheet2!A:G,6,FALSE))","v":""},""]
[{"$f":"IF(OR(C49942=\"\",ISBLANK(C49942)),\"\",VLOOKUP(C49942,Sheet2!A:F,2,FALSE))","v":""},{"$f":"IF(OR(C49942=\"\",ISBLANK(C49942)),\"\",VLOOKUP(C49942,Sheet2!A:G,4,FALSE))","v":""},null,null,{"$f":"IF(OR(C49942=\"\",ISBLANK(C49942)),\"\",VLOOKUP(C49942,Sheet2!A:F,3,FALSE))","v":""},{"$f":"IF(OR(C49942=\"\",ISBLANK(C49942)),\"\",VLOOKUP(C49942,Sheet2!A:G,6,FALSE))","v":""},""]
[{"$f":"IF(OR(C49943=\"\",ISBLANK(C49943)),\"\",VLOOKUP(C49943,Sheet2!A:F,2,FALSE))","v":""},{"$f":"IF(OR(C49943=\"\",ISBLANK(C49943)),\"\",VLOOKUP(C49943,Sheet2!A:G,4,FALSE))","v":""},null,null,{"$f":"IF(OR(C49943=\"\",ISBLANK(C49943)),\"\",VLOOKUP(C49943,Sheet2!A:F,3,FALSE))","v":""},{"$f":"IF(OR(C49943=\"\",ISBLANK(C49943)),\"\",VLOOKUP(C49943,Sheet2!A:G,6,FALSE))","v":""},""]
[{"$f":"IF(OR(C49944=\"\",ISBLANK(C49944)),\"\",VLOOKUP(C49944,Sheet2!A:F,2,FALSE))","v":""},{"$f":"IF(OR(C49944=\"\",ISBLANK(C49944)),\"\",VLOOKUP(C49944,Sheet2!A:G,4,FALSE))","v":""},null,null,{"$f":"IF(OR(C49944=\"\",ISBLANK(C49944)),\"\",VLOOKUP(C49944,Sheet2!A:F,3,FALSE))","v":""},{"$f":"IF(OR(C49944=\"\",ISBLANK(C49944)),\"\",VLOOKUP(C49944,Sheet2!A:G,6,FALSE))","v":""},""]
[{"$f":"IF(OR(C49945=\"\",ISBLANK(C49945)),\"\",VLOOKUP(C49945,Sheet2!A:F,2,FALSE))","v":""},{"$f":"IF(OR(C49945=\"\",ISBLANK(C49945)),\"\",VLOOKUP(C49945,Sheet2!A:G,4,FALSE))","v":""},null,null,{"$f":"IF(OR(C49945=\"\",ISBLANK(C49945)),\"\",VLOOKUP(C49945,Sheet2!A:F,3,FALSE))","v":""},{"$f":"IF(OR(C49945=\"\",ISBLANK(C49945)),\"\",VLOOKUP(C49945,Sheet2!A:G,6,FALSE))","v":""},""]
[{"$f":"IF(OR(C49946=\"\",ISBLANK(C49946)),\"\",VLOOKUP(C49946,Sheet2!A:F,2,FALSE))","v":""},{"$f":"IF(OR(C49946=\"\",ISBLANK(C49946)),\"\",VLOOKUP(C49946,Sheet2!A:G,4,FALSE))","v":""},null,null,{"$f":"IF(OR(C49946=\"\",ISBLANK(C49946)),\"\",VLOOKUP(C49946,Sheet2!A:F,3,FALSE))","v":""},{"$f":"IF(OR(C49946=\"\",ISBLANK(C49946)),\"\",VLOOKUP(C49946,Sheet2!A:G,6,FALSE))","v":""},""]
[{"$f":"IF(OR(C49947=\"\",ISBLANK(C49947)),\"\",VLOOKUP(C49947,Sheet2!A:F,2,FALSE))","v":""},{"$f":"IF(OR(C49947=\"\",ISBLANK(C49947)),\"\",VLOOKUP(C49947,Sheet2!A:G,4,FALSE))","v":""},null,null,{"$f":"IF(OR(C49947=\"\",ISBLANK(C49947)),\"\",VLOOKUP(C49947,Sheet2!A:F,3,FALSE))","v":""},{"$f":"IF(OR(C49947=\"\",ISBLANK(C49947)),\"\",VLOOKUP(C49947,Sheet2!A:G,6,FALSE))","v":""},""]
[{"$f":"IF(OR(C49948=\"\",ISBLANK(C49948)),\"\",VLOOKUP(C49948,Sheet2!A:F,2,FALSE))","v":""},{"$f":"IF(OR(C49948=\"\",ISBLANK(C49948)),\"\",VLOOKUP(C49948,Sheet2!A:G,4,FALSE))","v":""},null,null,{"$f":"IF(OR(C49948=\"\",ISBLANK(C49948)),\"\",VLOOKUP(C49948,Sheet2!A:F,3,FALSE))","v":""},{"$f":"IF(OR(C49948=\"\",ISBLANK(C49948)),\"\",VLOOKUP(C49948,Sheet2!A:G,6,FALSE))","v":""},""]
[{"$f":"IF(OR(C49949=\"\",ISBLANK(C49949)),\"\",VLOOKUP(C49949,Sheet2!A:F,2,FALSE))","v":""},{"$f":"IF(OR(C49949=\"\",ISBLANK(C49949)),\"\",VLOOKUP(C49949,Sheet2!A:G,4,FALSE))","v":""},null,null,{"$f":"IF(OR(C49949=\"\",ISBLANK(C49949)),\"\",VLOOKUP(C49949,Sheet2!A:F,3,FALSE))","v":""},{"$f":"IF(OR(C49949=\"\",ISBLANK(C49949)),\"\",VLOOKUP(C49949,Sheet2!A:G,6,FALSE))","v":""},""]
[{"$f":"IF(OR(C49950=\"\",ISBLANK(C49950)),\"\",VLOOKUP(C49950,Sheet2!A:F,2,FALSE))","v":""},{"$f":"IF(OR(C49950=\"\",ISBLANK(C49950)),\"\",VLOOKUP(C49950,Sheet2!A:G,4,FALSE))","v":""},null,null,{"$f":"IF(OR(C49950=\"\",ISBLANK(C49950)),\"\",VLOOKUP(C49950,Sheet2!A:F,3,FALSE))","v":""},{"$f":"IF(OR(C49950=\"\",ISBLANK(C49950)),\"\",VLOOKUP(C49950,Sheet2!A:G,6,FALSE))","v":""},""]
[{"$f":"IF(OR(C49951=\"\",ISBLANK(C49951)),\"\",VLOOKUP(C49951,Sheet2!A:F,2,FALSE))","v":""},{"$f":"IF(OR(C49951=\"\",ISBLANK(C49951)),\"\",VLOOKUP(C49951,Sheet2!A:G,4,FALSE))","v":""},null,null,{"$f":"IF(OR(C49951=\"\",ISBLANK(C49951)),\"\",VLOOKUP(C49951,Sheet2!A:F,3,FALSE))","v":""},{"$f":"IF(OR(C49951=\"\",ISBLANK(C49951)),\"\",VLOOKUP(C49951,Sheet2!A:G,6,FALSE))","v":""},""]
[{"$f":"IF(OR(C49952=\"\",ISBLANK(C49952)),\"\",VLOOKUP(C49952,Sheet2!A:F,2,FALSE))","v":""},{"$f":"IF(OR(C49952=\"\",ISBLANK(C49952)),\"\",VLOOKUP(C49952,Sheet2!A:G,4,FALSE))","v":""},null,null,{"$f":"IF(OR(C49952=\"\",ISBLANK(C49952)),\"\",VLOOKUP(C49952,Sheet2!A:F,3,FALSE))","v":""},{"$f":"IF(OR(C49952=\"\",ISBLANK(C49952)),\"\",VLOOKUP(C49952,Sheet2!A:G,6,FALSE))","v":""},""]
[{"$f":"IF(OR(C49953=\"\",ISBLANK(C49953)),\"\",VLOOKUP(C49953,Sheet2!A:F,2,FALSE))","v":""},{"$f":"IF(OR(C49953=\"\",ISBLANK(C49953)),\"\",VLOOKUP(C49953,Sheet2!A:G,4,FALSE))","v":""},null,null,{"$f":"IF(OR(C49953=\"\",ISBLANK(C49953)),\"\",VLOOKUP(C49953,Sheet2!A:F,3,FALSE))","v":""},{"$f":"IF(OR(C49953=\"\",ISBLANK(C49953)),\"\",VLOOKUP(C49953,Sheet2!A:G,6,FALSE))","v":""},""]
[{"$f":"IF(OR(C49954=\"\",ISBLANK(C49954)),\"\",VLOOKUP(C49954,Sheet2!A:F,2,FALSE))","v":""},{"$f":"IF(OR(C49954=\"\",ISBLANK(C49954)),\"\",VLOOKUP(C49954,Sheet2!A:G,4,FALSE))","v":""},null,null,{"$f":"IF(OR(C49954=\"\",ISBLANK(C49954)),\"\",VLOOKUP(C49954,Sheet2!A:F,3,FALSE))","v":""},{"$f":"IF(OR(C49954=\"\",ISBLANK(C49954)),\"\",VLOOKUP(C49954,Sheet2!A:G,6,FALSE))","v":""},""]
[{"$f":"IF(OR(C49955=\"\",ISBLANK(C49955)),\"\",VLOOKUP(C49955,Sheet2!A:F,2,FALSE))","v":""},{"$f":"IF(OR(C49955=\"\",ISBLANK(C49955)),\"\",VLOOKUP(C49955,Sheet2!A:G,4,FALSE))","v":""},null,null,{"$f":"IF(OR(C49955=\"\",ISBLANK(C49955)),\"\",VLOOKUP(C49955,Sheet2!A:F,3,FALSE))","v":""},{"$f":"IF(OR(C49955=\"\",ISBLANK(C49955)),\"\",VLOOKUP(C49955,Sheet2!A:G,6,FALSE))","v":""},""]
[{"$f":"IF(OR(C49956=\"\",ISBLANK(C49956)),\"\",VLOOKUP(C49956,Sheet2!A:F,2,FALSE))","v":""},{"$f":"IF(OR(C49956=\"\",ISBLANK(C49956)),\"\",VLOOKUP(C49956,Sheet2!A:G,4,FALSE))","v":""},null,null,{"$f":"IF(OR(C49956=\"\",ISBLANK(C49956)),\"\",VLOOKUP(C49956,Sheet2!A:F,3,FALSE))","v":""},{"$f":"IF(OR(C49956=\"\",ISBLANK(C49956)),\"\",VLOOKUP(C49956,Sheet2!A:G,6,FALSE))","v":""},""]
[{"$f":"IF(OR(C49957=\"\",ISBLANK(C49957)),\"\",VLOOKUP(C49957,Sheet2!A:F,2,FALSE))","v":""},{"$f":"IF(OR(C49957=\"\",ISBLANK(C49957)),\"\",VLOOKUP(C49957,Sheet2!A:G,4,FALSE))","v":""},null,null,{"$f":"IF(OR(C49957=\"\",ISBLANK(C49957)),\"\",VLOOKUP(C49957,Sheet2!A:F,3,FALSE))","v":""},{"$f":"IF(OR(C49957=\"\",ISBLANK(C49957)),\"\",VLOOKUP(C49957,Sheet2!A:G,6,FALSE))","v":""},""]
[{"$f":"IF(OR(C49958=\"\",ISBLANK(C49958)),\"\",VLOOKUP(C49958,Sheet2!A:F,2,FALSE))","v":""},{"$f":"IF(OR(C49958=\"\",ISBLANK(C49958)),\"\",VLOOKUP(C49958,Sheet2!A:G,4,FALSE))","v":""},null,null,{"$f":"IF(OR(C49958=\"\",ISBLANK(C49958)),\"\",VLOOKUP(C49958,Sheet2!A:F,3,FALSE))","v":""},{"$f":"IF(OR(C49958=\"\",ISBLANK(C49958)),\"\",VLOOKUP(C49958,Sheet2!A:G,6,FALSE))","v":""},""]
[{"$f":"IF(OR(C49959=\"\",ISBLANK(C49959)),\"\",VLOOKUP(C49959,Sheet2!A:F,2,FALSE))","v":""},{"$f":"IF(OR(C49959=\"\",ISBLANK(C49959)),\"\",VLOOKUP(C49959,Sheet2!A:G,4,FALSE))","v":""},null,null,{"$f":"IF(OR(C49959=\"\",ISBLANK(C49959)),\"\",VLOOKUP(C49959,Sheet2!A:F,3,FALSE))","v":""},{"$f":"IF(OR(C49959=\"\",ISBLANK(C49959)),\"\",VLOOKUP(C49959,Sheet2!A:G,6,FALSE))","v":""},""]
[{"$f":"IF(OR(C49960=\"\",ISBLANK(C49960)),\"\",VLOOKUP(C49960,Sheet2!A:F,2,FALSE))","v":""},{"$f":"IF(OR(C49960=\"\",ISBLANK(C49960)),\"\",VLOOKUP(C49960,Sheet2!A:G,4,FALSE))","v":""},null,null,{"$f":"IF(OR(C49960=\"\",ISBLANK(C49960)),\"\",VLOOKUP(C49960,Sheet2!A:F,3,FALSE))","v":""},{"$f":"IF(OR(C49960=\"\",ISBLANK(C49960)),\"\",VLOOKUP(C49960,Sheet2!A:G,6,FALSE))","v":""},""]
[{"$f":"IF(OR(C49961=\"\",ISBLANK(C49961)),\"\",VLOOKUP(C49961,Sheet2!A:F,2,FALSE))","v":""},{"$f":"IF(OR(C49961=\"\",ISBLANK(C49961)),\"\",VLOOKUP(C49961,Sheet2!A:G,4,FALSE))","v":""},null,null,{"$f":"IF(OR(C49961=\"\",ISBLANK(C49961)),\"\",VLOOKUP(C49961,Sheet2!A:F,3,FALSE))","v":""},{"$f":"IF(OR(C49961=\"\",ISBLANK(C49961)),\"\",VLOOKUP(C49961,Sheet2!A:G,6,FALSE))","v":""},""]
[{"$f":"IF(OR(C49962=\"\",ISBLANK(C49962)),\"\",VLOOKUP(C49962,Sheet2!A:F,2,FALSE))","v":""},{"$f":"IF(OR(C49962=\"\",ISBLANK(C49962)),\"\",VLOOKUP(C49962,Sheet2!A:G,4,FALSE))","v":""},null,null,{"$f":"IF(OR(C49962=\"\",ISBLANK(C49962)),\"\",VLOOKUP(C49962,Sheet2!A:F,3,FALSE))","v":""},{"$f":"IF(OR(C49962=\"\",ISBLANK(C49962)),\"\",VLOOKUP(C49962,Sheet2!A:G,6,FALSE))","v":""},""]
[{"$f":"IF(OR(C49963=\"\",ISBLANK(C49963)),\"\",VLOOKUP(C49963,Sheet2!A:F,2,FALSE))","v":""},{"$f":"IF(OR(C49963=\"\",ISBLANK(C49963)),\"\",VLOOKUP(C49963,Sheet2!A:G,4,FALSE))","v":""},null,null,{"$f":"IF(OR(C49963=\"\",ISBLANK(C49963)),\"\",VLOOKUP(C49963,Sheet2!A:F,3,FALSE))","v":""},{"$f":"IF(OR(C49963=\"\",ISBLANK(C49963)),\"\",VLOOKUP(C49963,Sheet2!A:G,6,FALSE))","v":""},""]
[{"$f":"IF(OR(C49964=\"\",ISBLANK(C49964)),\"\",VLOOKUP(C49964,Sheet2!A:F,2,FALSE))","v":""},{"$f":"IF(OR(C49964=\"\",ISBLANK(C49964)),\"\",VLOOKUP(C49964,Sheet2!A:G,4,FALSE))","v":""},null,null,{"$f":"IF(OR(C49964=\"\",ISBLANK(C49964)),\"\",VLOOKUP(C49964,Sheet2!A:F,3,FALSE))","v":""},{"$f":"IF(OR(C49964=\"\",ISBLANK(C49964)),\"\",VLOOKUP(C49964,Sheet2!A:G,6,FALSE))","v":""},""]
[{"$f":"IF(OR(C49965=\"\",ISBLANK(C49965)),\"\",VLOOKUP(C49965,Sheet2!A:F,2,FALSE))","v":""},{"$f":"IF(OR(C49965=\"\",ISBLANK(C49965)),\"\",VLOOKUP(C49965,Sheet2!A:G,4,FALSE))","v":""},null,null,{"$f":"IF(OR(C49965=\"\",ISBLANK(C49965)),\"\",VLOOKUP(C49965,Sheet2!A:F,3,FALSE))","v":""},{"$f":"IF(OR(C49965=\"\",ISBLANK(C49965)),\"\",VLOOKUP(C49965,Sheet2!A:G,6,FALSE))","v":""},""]
[{"$f":"IF(OR(C49966=\"\",ISBLANK(C49966)),\"\",VLOOKUP(C49966,Sheet2!A:F,2,FALSE))","v":""},{"$f":"IF(OR(C49966=\"\",ISBLANK(C49966)),\"\",VLOOKUP(C49966,Sheet2!A:G,4,FALSE))","v":""},null,null,{"$f":"IF(OR(C49966=\"\",ISBLANK(C49966)),\"\",VLOOKUP(C49966,Sheet2!A:F,3,FALSE))","v":""},{"$f":"IF(OR(C49966=\"\",ISBLANK(C49966)),\"\",VLOOKUP(C49966,Sheet2!A:G,6,FALSE))","v":""},""]
[{"$f":"IF(OR(C49967=\"\",ISBLANK(C49967)),\"\",VLOOKUP(C49967,Sheet2!A:F,2,FALSE))","v":""},{"$f":"IF(OR(C49967=\"\",ISBLANK(C49967)),\"\",VLOOKUP(C49967,Sheet2!A:G,4,FALSE))","v":""},null,null,{"$f":"IF(OR(C49967=\"\",ISBLANK(C49967)),\"\",VLOOKUP(C49967,Sheet2!A:F,3,FALSE))","v":""},{"$f":"IF(OR(C49967=\"\",ISBLANK(C49967)),\"\",VLOOKUP(C49967,Sheet2!A:G,6,FALSE))","v":""},""]
[{"$f":"IF(OR(C49968=\"\",ISBLANK(C49968)),\"\",VLOOKUP(C49968,Sheet2!A:F,2,FALSE))","v":""},{"$f":"IF(OR(C49968=\"\",ISBLANK(C49968)),\"\",VLOOKUP(C49968,Sheet2!A:G,4,FALSE))","v":""},null,null,{"$f":"IF(OR(C49968=\"\",ISBLANK(C49968)),\"\",VLOOKUP(C49968,Sheet2!A:F,3,FALSE))","v":""},{"$f":"IF(OR(C49968=\"\",ISBLANK(C49968)),\"\",VLOOKUP(C49968,Sheet2!A:G,6,FALSE))","v":""},""]
[{"$f":"IF(OR(C49969=\"\",ISBLANK(C49969)),\"\",VLOOKUP(C49969,Sheet2!A:F,2,FALSE))","v":""},{"$f":"IF(OR(C49969=\"\",ISBLANK(C49969)),\"\",VLOOKUP(C49969,Sheet2!A:G,4,FALSE))","v":""},null,null,{"$f":"IF(OR(C49969=\"\",ISBLANK(C49969)),\"\",VLOOKUP(C49969,Sheet2!A:F,3,FALSE))","v":""},{"$f":"IF(OR(C49969=\"\",ISBLANK(C49969)),\"\",VLOOKUP(C49969,Sheet2!A:G,6,FALSE))","v":""},""]
[{"$f":"IF(OR(C49970=\"\",ISBLANK(C49970)),\"\",VLOOKUP(C49970,Sheet2!A:F,2,FALSE))","v":""},{"$f":"IF(OR(C49970=\"\",ISBLANK(C49970)),\"\",VLOOKUP(C49970,Sheet2!A:G,4,FALSE))","v":""},null,null,{"$f":"IF(OR(C49970=\"\",ISBLANK(C49970)),\"\",VLOOKUP(C49970,Sheet2!A:F,3,FALSE))","v":""},{"$f":"IF(OR(C49970=\"\",ISBLANK(C49970)),\"\",VLOOKUP(C49970,Sheet2!A:G,6,FALSE))","v":""},""]
[{"$f":"IF(OR(C49971=\"\",ISBLANK(C49971)),\"\",VLOOKUP(C49971,Sheet2!A:F,2,FALSE))","v":""},{"$f":"IF(OR(C49971=\"\",ISBLANK(C49971)),\"\",VLOOKUP(C49971,Sheet2!A:G,4,FALSE))","v":""},null,null,{"$f":"IF(OR(C49971=\"\",ISBLANK(C49971)),\"\",VLOOKUP(C49971,Sheet2!A:F,3,FALSE))","v":""},{"$f":"IF(OR(C49971=\"\",ISBLANK(C49971)),\"\",VLOOKUP(C49971,Sheet2!A:G,6,FALSE))","v":""},""]
[{"$f":"IF(OR(C49972=\"\",ISBLANK(C49972)),\"\",VLOOKUP(C49972,Sheet2!A:F,2,FALSE))","v":""},{"$f":"IF(OR(C49972=\"\",ISBLANK(C49972)),\"\",VLOOKUP(C49972,Sheet2!A:G,4,FALSE))","v":""},null,null,{"$f":"IF(OR(C49972=\"\",ISBLANK(C49972)),\"\",VLOOKUP(C49972,Sheet2!A:F,3,FALSE))","v":""},{"$f":"IF(OR(C49972=\"\",ISBLANK(C49972)),\"\",VLOOKUP(C49972,Sheet2!A:G,6,FALSE))","v":""},""]
[{"$f":"IF(OR(C49973=\"\",ISBLANK(C49973)),\"\",VLOOKUP(C49973,Sheet2!A:F,2,FALSE))","v":""},{"$f":"IF(OR(C49973=\"\",ISBLANK(C49973)),\"\",VLOOKUP(C49973,Sheet2!A:G,4,FALSE))","v":""},null,null,{"$f":"IF(OR(C49973=\"\",ISBLANK(C49973)),\"\",VLOOKUP(C49973,Sheet2!A:F,3,FALSE))","v":""},{"$f":"IF(OR(C49973=\"\",ISBLANK(C49973)),\"\",VLOOKUP(C49973,Sheet2!A:G,6,FALSE))","v":""},""]
[{"$f":"IF(OR(C49974=\"\",ISBLANK(C49974)),\"\",VLOOKUP(C49974,Sheet2!A:F,2,FALSE))","v":""},{"$f":"IF(OR(C49974=\"\",ISBLANK(C49974)),\"\",VLOOKUP(C49974,Sheet2!A:G,4,FALSE))","v":""},null,null,{"$f":"IF(OR(C49974=\"\",ISBLANK(C49974)),\"\",VLOOKUP(C49974,Sheet2!A:F,3,FALSE))","v":""},{"$f":"IF(OR(C49974=\"\",ISBLANK(C49974)),\"\",VLOOKUP(C49974,Sheet2!A:G,6,FALSE))","v":""},""]
[{"$f":"IF(OR(C49975=\"\",ISBLANK(C49975)),\"\",VLOOKUP(C49975,Sheet2!A:F,2,FALSE))","v":""},{"$f":"IF(OR(C49975=\"\",ISBLANK(C49975)),\"\",VLOOKUP(C49975,Sheet2!A:G,4,FALSE))","v":""},null,null,{"$f":"IF(OR(C49975=\"\",ISBLANK(C49975)),\"\",VLOOKUP(C49975,Sheet2!A:F,3,FALSE))","v":""},{"$f":"IF(OR(C49975=\"\",ISBLANK(C49975)),\"\",VLOOKUP(C49975,Sheet2!A:G,6,FALSE))","v":""},""]
[{"$f":"IF(OR(C49976=\"\",ISBLANK(C49976)),\"\",VLOOKUP(C49976,Sheet2!A:F,2,FALSE))","v":""},{"$f":"IF(OR(C49976=\"\",ISBLANK(C49976)),\"\",VLOOKUP(C49976,Sheet2!A:G,4,FALSE))","v":""},null,null,{"$f":"IF(OR(C49976=\"\",ISBLANK(C49976)),\"\",VLOOKUP(C49976,Sheet2!A:F,3,FALSE))","v":""},{"$f":"IF(OR(C49976=\"\",ISBLANK(C49976)),\"\",VLOOKUP(C49976,Sheet2!A:G,6,FALSE))","v":""},""]
[{"$f":"IF(OR(C49977=\"\",ISBLANK(C49977)),\"\",VLOOKUP(C49977,Sheet2!A:F,2,FALSE))","v":""},{"$f":"IF(OR(C49977=\"\",ISBLANK(C49977)),\"\",VLOOKUP(C49977,Sheet2!A:G,4,FALSE))","v":""},null,null,{"$f":"IF(OR(C49977=\"\",ISBLANK(C49977)),\"\",VLOOKUP(C49977,Sheet2!A:F,3,FALSE))","v":""},{"$f":"IF(OR(C49977=\"\",ISBLANK(C49977)),\"\",VLOOKUP(C49977,Sheet2!A:G,6,FALSE))","v":""},""]
[{"$f":"IF(OR(C49978=\"\",ISBLANK(C49978)),\"\",VLOOKUP(C49978,Sheet2!A:F,2,FALSE))","v":""},{"$f":"IF(OR(C49978=\"\",ISBLANK(C49978)),\"\",VLOOKUP(C49978,Sheet2!A:G,4,FALSE))","v":""},null,null,{"$f":"IF(OR(C49978=\"\",ISBLANK(C49978)),\"\",VLOOKUP(C49978,Sheet2!A:F,3,FALSE))","v":""},{"$f":"IF(OR(C49978=\"\",ISBLANK(C49978)),\"\",VLOOKUP(C49978,Sheet2!A:G,6,FALSE))","v":""},""]
[{"$f":"IF(OR(C49979=\"\",ISBLANK(C49979)),\"\",VLOOKUP(C49979,Sheet2!A:F,2,FALSE))","v":""},{"$f":"IF(OR(C49979=\"\",ISBLANK(C49979)),\"\",VLOOKUP(C49979,Sheet2!A:G,4,FALSE))","v":""},null,null,{"$f":"IF(OR(C49979=\"\",ISBLANK(C49979)),\"\",VLOOKUP(C49979,Sheet2!A:F,3,FALSE))","v":""},{"$f":"IF(OR(C49979=\"\",ISBLANK(C49979)),\"\",VLOOKUP(C49979,Sheet2!A:G,6,FALSE))","v":""},""]
[{"$f":"IF(OR(C49980=\"\",ISBLANK(C49980)),\"\",VLOOKUP(C49980,Sheet2!A:F,2,FALSE))","v":""},{"$f":"IF(OR(C49980=\"\",ISBLANK(C49980)),\"\",VLOOKUP(C49980,Sheet2!A:G,4,FALSE))","v":""},null,null,{"$f":"IF(OR(C49980=\"\",ISBLANK(C49980)),\"\",VLOOKUP(C49980,Sheet2!A:F,3,FALSE))","v":""},{"$f":"IF(OR(C49980=\"\",ISBLANK(C49980)),\"\",VLOOKUP(C49980,Sheet2!A:G,6,FALSE))","v":""},""]
[{"$f":"IF(OR(C49981=\"\",ISBLANK(C49981)),\"\",VLOOKUP(C49981,Sheet2!A:F,2,FALSE))","v":""},{"$f":"IF(OR(C49981=\"\",ISBLANK(C49981)),\"\",VLOOKUP(C49981,Sheet2!A:G,4,FALSE))","v":""},null,null,{"$f":"IF(OR(C49981=\"\",ISBLANK(C49981)),\"\",VLOOKUP(C49981,Sheet2!A:F,3,FALSE))","v":""},{"$f":"IF(OR(C49981=\"\",ISBLANK(C49981)),\"\",VLOOKUP(C49981,Sheet2!A:G,6,FALSE))","v":""},""]
[{"$f":"IF(OR(C49982=\"\",ISBLANK(C49982)),\"\",VLOOKUP(C49982,Sheet2!A:F,2,FALSE))","v":""},{"$f":"IF(OR(C49982=\"\",ISBLANK(C49982)),\"\",VLOOKUP(C49982,Sheet2!A:G,4,FALSE))","v":""},null,null,{"$f":"IF(OR(C49982=\"\",ISBLANK(C49982)),\"\",VLOOKUP(C49982,Sheet2!A:F,3,FALSE))","v":""},{"$f":"IF(OR(C49982=\"\",ISBLANK(C49982)),\"\",VLOOKUP(C49982,Sheet2!A:G,6,FALSE))","v":""},""]
[{"$f":"IF(OR(C49983=\"\",ISBLANK(C49983)),\"\",VLOOKUP(C49983,Sheet2!A:F,2,FALSE))","v":""},{"$f":"IF(OR(C49983=\"\",ISBLANK(C49983)),\"\",VLOOKUP(C49983,Sheet2!A:G,4,FALSE))","v":""},null,null,{"$f":"IF(OR(C49983=\"\",ISBLANK(C49983)),\"\",VLOOKUP(C49983,Sheet2!A:F,3,FALSE))","v":""},{"$f":"IF(OR(C49983=\"\",ISBLANK(C49983)),\"\",VLOOKUP(C49983,Sheet2!A:G,6,FALSE))","v":""},""]
[{"$f":"IF(OR(C49984=\"\",ISBLANK(C49984)),\"\",VLOOKUP(C49984,Sheet2!A:F,2,FALSE))","v":""},{"$f":"IF(OR(C49984=\"\",ISBLANK(C49984)),\"\",VLOOKUP(C49984,Sheet2!A:G,4,FALSE))","v":""},null,null,{"$f":"IF(OR(C49984=\"\",ISBLANK(C49984)),\"\",VLOOKUP(C49984,Sheet2!A:F,3,FALSE))","v":""},{"$f":"IF(OR(C49984=\"\",ISBLANK(C49984)),\"\",VLOOKUP(C49984,Sheet2!A:G,6,FALSE))","v":""},""]
[{"$f":"IF(OR(C49985=\"\",ISBLANK(C49985)),\"\",VLOOKUP(C49985,Sheet2!A:F,2,FALSE))","v":""},{"$f":"IF(OR(C49985=\"\",ISBLANK(C49985)),\"\",VLOOKUP(C49985,Sheet2!A:G,4,FALSE))","v":""},null,null,{"$f":"IF(OR(C49985=\"\",ISBLANK(C49985)),\"\",VLOOKUP(C49985,Sheet2!A:F,3,FALSE))","v":""},{"$f":"IF(OR(C49985=\"\",ISBLANK(C49985)),\"\",VLOOKUP(C49985,Sheet2!A:G,6,FALSE))","v":""},""]
[{"$f":"IF(OR(C49986=\"\",ISBLANK(C49986)),\"\",VLOOKUP(C49986,Sheet2!A:F,2,FALSE))","v":""},{"$f":"IF(OR(C49986=\"\",ISBLANK(C49986)),\"\",VLOOKUP(C49986,Sheet2!A:G,4,FALSE))","v":""},null,null,{"$f":"IF(OR(C49986=\"\",ISBLANK(C49986)),\"\",VLOOKUP(C49986,Sheet2!A:F,3,FALSE))","v":""},{"$f":"IF(OR(C49986=\"\",ISBLANK(C49986)),\"\",VLOOKUP(C49986,Sheet2!A:G,6,FALSE))","v":""},""]
[{"$f":"IF(OR(C49987=\"\",ISBLANK(C49987)),\"\",VLOOKUP(C49987,Sheet2!A:F,2,FALSE))","v":""},{"$f":"IF(OR(C49987=\"\",ISBLANK(C49987)),\"\",VLOOKUP(C49987,Sheet2!A:G,4,FALSE))","v":""},null,null,{"$f":"IF(OR(C49987=\"\",ISBLANK(C49987)),\"\",VLOOKUP(C49987,Sheet2!A:F,3,FALSE))","v":""},{"$f":"IF(OR(C49987=\"\",ISBLANK(C49987)),\"\",VLOOKUP(C49987,Sheet2!A:G,6,FALSE))","v":""},{"$f":"IF(F49987=0,\"\",F49987)","v":""}]
[{"$f":"IF(OR(C49988=\"\",ISBLANK(C49988)),\"\",VLOOKUP(C49988,Sheet2!A:F,2,FALSE))","v":""},{"$f":"IF(OR(C49988=\"\",ISBLANK(C49988)),\"\",VLOOKUP(C49988,Sheet2!A:G,4,FALSE))","v":""},null,null,{"$f":"IF(OR(C49988=\"\",ISBLANK(C49988)),\"\",VLOOKUP(C49988,Sheet2!A:F,3,FALSE))","v":""},{"$f":"IF(OR(C49988=\"\",ISBLANK(C49988)),\"\",VLOOKUP(C49988,Sheet2!A:G,6,FALSE))","v":""},""]
[{"$f":"IF(OR(C49989=\"\",ISBLANK(C49989)),\"\",VLOOKUP(C49989,Sheet2!A:F,2,FALSE))","v":""},{"$f":"IF(OR(C49989=\"\",ISBLANK(C49989)),\"\",VLOOKUP(C49989,Sheet2!A:G,4,FALSE))","v":""},null,null,{"$f":"IF(OR(C49989=\"\",ISBLANK(C49989)),\"\",VLOOKUP(C49989,Sheet2!A:F,3,FALSE))","v":""},{"$f":"IF(OR(C49989=\"\",ISBLANK(C49989)),\"\",VLOOKUP(C49989,Sheet2!A:G,6,FALSE))","v":""},""]
[{"$f":"IF(OR(C49990=\"\",ISBLANK(C49990)),\"\",VLOOKUP(C49990,Sheet2!A:F,2,FALSE))","v":""},{"$f":"IF(OR(C49990=\"\",ISBLANK(C49990)),\"\",VLOOKUP(C49990,Sheet2!A:G,4,FALSE))","v":""},null,null,{"$f":"IF(OR(C49990=\"\",ISBLANK(C49990)),\"\",VLOOKUP(C49990,Sheet2!A:F,3,FALSE))","v":""},{"$f":"IF(OR(C49990=\"\",ISBLANK(C49990)),\"\",VLOOKUP(C49990,Sheet2!A:G,6,FALSE))","v":""},""]
[{"$f":"IF(OR(C49991=\"\",ISBLANK(C49991)),\"\",VLOOKUP(C49991,Sheet2!A:F,2,FALSE))","v":""},{"$f":"IF(OR(C49991=\"\",ISBLANK(C49991)),\"\",VLOOKUP(C49991,Sheet2!A:G,4,FALSE))","v":""},null,null,{"$f":"IF(OR(C49991=\"\",ISBLANK(C49991)),\"\",VLOOKUP(C49991,Sheet2!A:F,3,FALSE))","v":""},{"$f":"IF(OR(C49991=\"\",ISBLANK(C49991)),\"\",VLOOKUP(C49991,Sheet2!A:G,6,FALSE))","v":""},""]
[{"$f":"IF(OR(C49992=\"\",ISBLANK(C49992)),\"\",VLOOKUP(C49992,Sheet2!A:F,2,FALSE))","v":""},{"$f":"IF(OR(C49992=\"\",ISBLANK(C49992)),\"\",VLOOKUP(C49992,Sheet2!A:G,4,FALSE))","v":""},null,null,{"$f":"IF(OR(C49992=\"\",ISBLANK(C49992)),\"\",VLOOKUP(C49992,Sheet2!A:F,3,FALSE))","v":""},{"$f":"IF(OR(C49992=\"\",ISBLANK(C49992)),\"\",VLOOKUP(C49992,Sheet2!A:G,6,FALSE))","v":""},""]
[{"$f":"IF(OR(C49993=\"\",ISBLANK(C49993)),\"\",VLOOKUP(C49993,Sheet2!A:F,2,FALSE))","v":""},{"$f":"IF(OR(C49993=\"\",ISBLANK(C49993)),\"\",VLOOKUP(C49993,Sheet2!A:G,4,FALSE))","v":""},null,null,{"$f":"IF(OR(C49993=\"\",ISBLANK(C49993)),\"\",VLOOKUP(C49993,Sheet2!A:F,3,FALSE))","v":""},{"$f":"IF(OR(C49993=\"\",ISBLANK(C49993)),\"\",VLOOKUP(C49993,Sheet2!A:G,6,FALSE))","v":""},""]
[{"$f":"IF(OR(C49994=\"\",ISBLANK(C49994)),\"\",VLOOKUP(C49994,Sheet2!A:F,2,FALSE))","v":""},{"$f":"IF(OR(C49994=\"\",ISBLANK(C49994)),\"\",VLOOKUP(C49994,Sheet2!A:G,4,FALSE))","v":""},null,null,{"$f":"IF(OR(C49994=\"\",ISBLANK(C49994)),\"\",VLOOKUP(C49994,Sheet2!A:F,3,FALSE))","v":""},{"$f":"IF(OR(C49994=\"\",ISBLANK(C49994)),\"\",VLOOKUP(C49994,Sheet2!A:G,6,FALSE))","v":""},""]
[{"$f":"IF(OR(C49995=\"\",ISBLANK(C49995)),\"\",VLOOKUP(C49995,Sheet2!A:F,2,FALSE))","v":""},{"$f":"IF(OR(C49995=\"\",ISBLANK(C49995)),\"\",VLOOKUP(C49995,Sheet2!A:G,4,FALSE))","v":""},null,null,{"$f":"IF(OR(C49995=\"\",ISBLANK(C49995)),\"\",VLOOKUP(C49995,Sheet2!A:F,3,FALSE))","v":""},{"$f":"IF(OR(C49995=\"\",ISBLANK(C49995)),\"\",VLOOKUP(C49995,Sheet2!A:G,6,FALSE))","v":""},""]
[{"$f":"IF(OR(C49996=\"\",ISBLANK(C49996)),\"\",VLOOKUP(C49996,Sheet2!A:F,2,FALSE))","v":""},{"$f":"IF(OR(C49996=\"\",ISBLANK(C49996)),\"\",VLOOKUP(C49996,Sheet2!A:G,4,FALSE))","v":""},null,null,{"$f":"IF(OR(C49996=\"\",ISBLANK(C49996)),\"\",VLOOKUP(C49996,Sheet2!A:F,3,FALSE))","v":""},{"$f":"IF(OR(C49996=\"\",ISBLANK(C49996)),\"\",VLOOKUP(C49996,Sheet2!A:G,6,FALSE))","v":""},""]
[{"$f":"IF(OR(C49997=\"\",ISBLANK(C49997)),\"\",VLOOKUP(C49997,Sheet2!A:F,2,FALSE))","v":""},{"$f":"IF(OR(C49997=\"\",ISBLANK(C49997)),\"\",VLOOKUP(C49997,Sheet2!A:G,4,FALSE))","v":""},null,null,{"$f":"IF(OR(C49997=\"\",ISBLANK(C49997)),\"\",VLOOKUP(C49997,Sheet2!A:F,3,FALSE))","v":""},{"$f":"IF(OR(C49997=\"\",ISBLANK(C49997)),\"\",VLOOKUP(C49997,Sheet2!A:G,6,FALSE))","v":""},""]
[{"$f":"IF(OR(C49998=\"\",ISBLANK(C49998)),\"\",VLOOKUP(C49998,Sheet2!A:F,2,FALSE))","v":""},{"$f":"IF(OR(C49998=\"\",ISBLANK(C49998)),\"\",VLOOKUP(C49998,Sheet2!A:G,4,FALSE))","v":""},null,null,{"$f":"IF(OR(C49998=\"\",ISBLANK(C49998)),\"\",VLOOKUP(C49998,Sheet2!A:F,3,FALSE))","v":""},{"$f":"IF(OR(C49998=\"\",ISBLANK(C49998)),\"\",VLOOKUP(C49998,Sheet2!A:G,6,FALSE))","v":""},""]
[{"$f":"IF(OR(C49999=\"\",ISBLANK(C49999)),\"\",VLOOKUP(C49999,Sheet2!A:F,2,FALSE))","v":""},{"$f":"IF(OR(C49999=\"\",ISBLANK(C49999)),\"\",VLOOKUP(C49999,Sheet2!A:G,4,FALSE))","v":""},null,null,{"$f":"IF(OR(C49999=\"\",ISBLANK(C49999)),\"\",VLOOKUP(C49999,Sheet2!A:F,3,FALSE))","v":""},{"$f":"IF(OR(C49999=\"\",ISBLANK(C49999)),\"\",VLOOKUP(C49999,Sheet2!A:G,6,FALSE))","v":""},""]
[{"$f":"IF(OR(C50000=\"\",ISBLANK(C50000)),\"\",VLOOKUP(C50000,Sheet2!A:F,2,FALSE))","v":""},{"$f":"IF(OR(C50000=\"\",ISBLANK(C50000)),\"\",VLOOKUP(C50000,Sheet2!A:G,4,FALSE))","v":""},null,null,{"$f":"IF(OR(C50000=\"\",ISBLANK(C50000)),\"\",VLOOKUP(C50000,Sheet2!A:F,3,FALSE))","v":""},{"$f":"IF(OR(C50000=\"\",ISBLANK(C50000)),\"\",VLOOKUP(C50000,Sheet2!A:G,6,FALSE))","v":""},""]
[{"$f":"IF(OR(C50001=\"\",ISBLANK(C50001)),\"\",VLOOKUP(C50001,Sheet2!A:F,2,FALSE))","v":""},{"$f":"IF(OR(C50001=\"\",ISBLANK(C50001)),\"\",VLOOKUP(C50001,Sheet2!A:G,4,FALSE))","v":""},null,null,{"$f":"IF(OR(C50001=\"\",ISBLANK(C50001)),\"\",VLOOKUP(C50001,Sheet2!A:F,3,FALSE))","v":""},{"$f":"IF(OR(C50001=\"\",ISBLANK(C50001)),\"\",VLOOKUP(C50001,Sheet2!A:G,6,FALSE))","v":""},""]
[{"$f":"IF(OR(C50002=\"\",ISBLANK(C50002)),\"\",VLOOKUP(C50002,Sheet2!A:F,2,FALSE))","v":""},{"$f":"IF(OR(C50002=\"\",ISBLANK(C50002)),\"\",VLOOKUP(C50002,Sheet2!A:G,4,FALSE))","v":""},null,null,{"$f":"IF(OR(C50002=\"\",ISBLANK(C50002)),\"\",VLOOKUP(C50002,Sheet2!A:F,3,FALSE))","v":""},{"$f":"IF(OR(C50002=\"\",ISBLANK(C50002)),\"\",VLOOKUP(C50002,Sheet2!A:G,6,FALSE))","v":""},""]
[{"$f":"IF(OR(C50003=\"\",ISBLANK(C50003)),\"\",VLOOKUP(C50003,Sheet2!A:F,2,FALSE))","v":""},{"$f":"IF(OR(C50003=\"\",ISBLANK(C50003)),\"\",VLOOKUP(C50003,Sheet2!A:G,4,FALSE))","v":""},null,null,{"$f":"IF(OR(C50003=\"\",ISBLANK(C50003)),\"\",VLOOKUP(C50003,Sheet2!A:F,3,FALSE))","v":""},{"$f":"IF(OR(C50003=\"\",ISBLANK(C50003)),\"\",VLOOKUP(C50003,Sheet2!A:G,6,FALSE))","v":""},""]
[{"$f":"IF(OR(C50004=\"\",ISBLANK(C50004)),\"\",VLOOKUP(C50004,Sheet2!A:F,2,FALSE))","v":""},{"$f":"IF(OR(C50004=\"\",ISBLANK(C50004)),\"\",VLOOKUP(C50004,Sheet2!A:G,4,FALSE))","v":""},null,null,{"$f":"IF(OR(C50004=\"\",ISBLANK(C50004)),\"\",VLOOKUP(C50004,Sheet2!A:F,3,FALSE))","v":""},{"$f":"IF(OR(C50004=\"\",ISBLANK(C50004)),\"\",VLOOKUP(C50004,Sheet2!A:G,6,FALSE))","v":""},""]
[{"$f":"IF(OR(C50005=\"\",ISBLANK(C50005)),\"\",VLOOKUP(C50005,Sheet2!A:F,2,FALSE))","v":""},{"$f":"IF(OR(C50005=\"\",ISBLANK(C50005)),\"\",VLOOKUP(C50005,Sheet2!A:G,4,FALSE))","v":""},null,null,{"$f":"IF(OR(C50005=\"\",ISBLANK(C50005)),\"\",VLOOKUP(C50005,Sheet2!A:F,3,FALSE))","v":""},{"$f":"IF(OR(C50005=\"\",ISBLANK(C50005)),\"\",VLOOKUP(C50005,Sheet2!A:G,6,FALSE))","v":""},""]
[{"$f":"IF(OR(C50006=\"\",ISBLANK(C50006)),\"\",VLOOKUP(C50006,Sheet2!A:F,2,FALSE))","v":""},{"$f":"IF(OR(C50006=\"\",ISBLANK(C50006)),\"\",VLOOKUP(C50006,Sheet2!A:G,4,FALSE))","v":""},null,null,{"$f":"IF(OR(C50006=\"\",ISBLANK(C50006)),\"\",VLOOKUP(C50006,Sheet2!A:F,3,FALSE))","v":""},{"$f":"IF(OR(C50006=\"\",ISBLANK(C50006)),\"\",VLOOKUP(C50006,Sheet2!A:G,6,FALSE))","v":""},""]
[{"$f":"IF(OR(C50007=\"\",ISBLANK(C50007)),\"\",VLOOKUP(C50007,Sheet2!A:F,2,FALSE))","v":""},{"$f":"IF(OR(C50007=\"\",ISBLANK(C50007)),\"\",VLOOKUP(C50007,Sheet2!A:G,4,FALSE))","v":""},null,null,{"$f":"IF(OR(C50007=\"\",ISBLANK(C50007)),\"\",VLOOKUP(C50007,Sheet2!A:F,3,FALSE))","v":""},{"$f":"IF(OR(C50007=\"\",ISBLANK(C50007)),\"\",VLOOKUP(C50007,Sheet2!A:G,6,FALSE))","v":""},""]
[{"$f":"IF(OR(C50008=\"\",ISBLANK(C50008)),\"\",VLOOKUP(C50008,Sheet2!A:F,2,FALSE))","v":""},{"$f":"IF(OR(C50008=\"\",ISBLANK(C50008)),\"\",VLOOKUP(C50008,Sheet2!A:G,4,FALSE))","v":""},null,null,{"$f":"IF(OR(C50008=\"\",ISBLANK(C50008)),\"\",VLOOKUP(C50008,Sheet2!A:F,3,FALSE))","v":""},{"$f":"IF(OR(C50008=\"\",ISBLANK(C50008)),\"\",VLOOKUP(C50008,Sheet2!A:G,6,FALSE))","v":""},""]
[{"$f":"IF(OR(C50009=\"\",ISBLANK(C50009)),\"\",VLOOKUP(C50009,Sheet2!A:F,2,FALSE))","v":""},{"$f":"IF(OR(C50009=\"\",ISBLANK(C50009)),\"\",VLOOKUP(C50009,Sheet2!A:G,4,FALSE))","v":""},null,null,{"$f":"IF(OR(C50009=\"\",ISBLANK(C50009)),\"\",VLOOKUP(C50009,Sheet2!A:F,3,FALSE))","v":""},{"$f":"IF(OR(C50009=\"\",ISBLANK(C50009)),\"\",VLOOKUP(C50009,Sheet2!A:G,6,FALSE))","v":""},""]
[{"$f":"IF(OR(C50010=\"\",ISBLANK(C50010)),\"\",VLOOKUP(C50010,Sheet2!A:F,2,FALSE))","v":""},{"$f":"IF(OR(C50010=\"\",ISBLANK(C50010)),\"\",VLOOKUP(C50010,Sheet2!A:G,4,FALSE))","v":""},null,null,{"$f":"IF(OR(C50010=\"\",ISBLANK(C50010)),\"\",VLOOKUP(C50010,Sheet2!A:F,3,FALSE))","v":""},{"$f":"IF(OR(C50010=\"\",ISBLANK(C50010)),\"\",VLOOKUP(C50010,Sheet2!A:G,6,FALSE))","v":""},""]
[{"$f":"IF(OR(C50011=\"\",ISBLANK(C50011)),\"\",VLOOKUP(C50011,Sheet2!A:F,2,FALSE))","v":""},{"$f":"IF(OR(C50011=\"\",ISBLANK(C50011)),\"\",VLOOKUP(C50011,Sheet2!A:G,4,FALSE))","v":""},null,null,{"$f":"IF(OR(C50011=\"\",ISBLANK(C50011)),\"\",VLOOKUP(C50011,Sheet2!A:F,3,FALSE))","v":""},{"$f":"IF(OR(C50011=\"\",ISBLANK(C50011)),\"\",VLOOKUP(C50011,Sheet2!A:G,6,FALSE))","v":""},""]
[{"$f":"IF(OR(C50012=\"\",ISBLANK(C50012)),\"\",VLOOKUP(C50012,Sheet2!A:F,2,FALSE))","v":""},{"$f":"IF(OR(C50012=\"\",ISBLANK(C50012)),\"\",VLOOKUP(C50012,Sheet2!A:G,4,FALSE))","v":""},null,null,{"$f":"IF(OR(C50012=\"\",ISBLANK(C50012)),\"\",VLOOKUP(C50012,Sheet2!A:F,3,FALSE))","v":""},{"$f":"IF(OR(C50012=\"\",ISBLANK(C50012)),\"\",VLOOKUP(C50012,Sheet2!A:G,6,FALSE))","v":""},""]
[{"$f":"IF(OR(C50013=\"\",ISBLANK(C50013)),\"\",VLOOKUP(C50013,Sheet2!A:F,2,FALSE))","v":""},{"$f":"IF(OR(C50013=\"\",ISBLANK(C50013)),\"\",VLOOKUP(C50013,Sheet2!A:G,4,FALSE))","v":""},null,null,{"$f":"IF(OR(C50013=\"\",ISBLANK(C50013)),\"\",VLOOKUP(C50013,Sheet2!A:F,3,FALSE))","v":""},{"$f":"IF(OR(C50013=\"\",ISBLANK(C50013)),\"\",VLOOKUP(C50013,Sheet2!A:G,6,FALSE))","v":""},""]
[{"$f":"IF(OR(C50014=\"\",ISBLANK(C50014)),\"\",VLOOKUP(C50014,Sheet2!A:F,2,FALSE))","v":""},{"$f":"IF(OR(C50014=\"\",ISBLANK(C50014)),\"\",VLOOKUP(C50014,Sheet2!A:G,4,FALSE))","v":""},null,null,{"$f":"IF(OR(C50014=\"\",ISBLANK(C50014)),\"\",VLOOKUP(C50014,Sheet2!A:F,3,FALSE))","v":""},{"$f":"IF(OR(C50014=\"\",ISBLANK(C50014)),\"\",VLOOKUP(C50014,Sheet2!A:G,6,FALSE))","v":""},""]
[{"$f":"IF(OR(C50015=\"\",ISBLANK(C50015)),\"\",VLOOKUP(C50015,Sheet2!A:F,2,FALSE))","v":""},{"$f":"IF(OR(C50015=\"\",ISBLANK(C50015)),\"\",VLOOKUP(C50015,Sheet2!A:G,4,FALSE))","v":""},null,null,{"$f":"IF(OR(C50015=\"\",ISBLANK(C50015)),\"\",VLOOKUP(C50015,Sheet2!A:F,3,FALSE))","v":""},{"$f":"IF(OR(C50015=\"\",ISBLANK(C50015)),\"\",VLOOKUP(C50015,Sheet2!A:G,6,FALSE))","v":""},""]
[{"$f":"IF(OR(C50016=\"\",ISBLANK(C50016)),\"\",VLOOKUP(C50016,Sheet2!A:F,2,FALSE))","v":""},{"$f":"IF(OR(C50016=\"\",ISBLANK(C50016)),\"\",VLOOKUP(C50016,Sheet2!A:G,4,FALSE))","v":""},null,null,{"$f":"IF(OR(C50016=\"\",ISBLANK(C50016)),\"\",VLOOKUP(C50016,Sheet2!A:F,3,FALSE))","v":""},{"$f":"IF(OR(C50016=\"\",ISBLANK(C50016)),\"\",VLOOKUP(C50016,Sheet2!A:G,6,FALSE))","v":""},""]
[{"$f":"IF(OR(C50017=\"\",ISBLANK(C50017)),\"\",VLOOKUP(C50017,Sheet2!A:F,2,FALSE))","v":""},{"$f":"IF(OR(C50017=\"\",ISBLANK(C50017)),\"\",VLOOKUP(C50017,Sheet2!A:G,4,FALSE))","v":""},null,null,{"$f":"IF(OR(C50017=\"\",ISBLANK(C50017)),\"\",VLOOKUP(C50017,Sheet2!A:F,3,FALSE))","v":""},{"$f":"IF(OR(C50017=\"\",ISBLANK(C50017)),\"\",VLOOKUP(C50017,Sheet2!A:G,6,FALSE))","v":""},""]
[{"$f":"IF(OR(C50018=\"\",ISBLANK(C50018)),\"\",VLOOKUP(C50018,Sheet2!A:F,2,FALSE))","v":""},{"$f":"IF(OR(C50018=\"\",ISBLANK(C50018)),\"\",VLOOKUP(C50018,Sheet2!A:G,4,FALSE))","v":""},null,null,{"$f":"IF(OR(C50018=\"\",ISBLANK(C50018)),\"\",VLOOKUP(C50018,Sheet2!A:F,3,FALSE))","v":""},{"$f":"IF(OR(C50018=\"\",ISBLANK(C50018)),\"\",VLOOKUP(C50018,Sheet2!A:G,6,FALSE))","v":""},""]
[{"$f":"IF(OR(C50019=\"\",ISBLANK(C50019)),\"\",VLOOKUP(C50019,Sheet2!A:F,2,FALSE))","v":""},{"$f":"IF(OR(C50019=\"\",ISBLANK(C50019)),\"\",VLOOKUP(C50019,Sheet2!A:G,4,FALSE))","v":""},null,null,{"$f":"IF(OR(C50019=\"\",ISBLANK(C50019)),\"\",VLOOKUP(C50019,Sheet2!A:F,3,FALSE))","v":""},{"$f":"IF(OR(C50019=\"\",ISBLANK(C50019)),\"\",VLOOKUP(C50019,Sheet2!A:G,6,FALSE))","v":""},""]
[{"$f":"IF(OR(C50020=\"\",ISBLANK(C50020)),\"\",VLOOKUP(C50020,Sheet2!A:F,2,FALSE))","v":""},{"$f":"IF(OR(C50020=\"\",ISBLANK(C50020)),\"\",VLOOKUP(C50020,Sheet2!A:G,4,FALSE))","v":""},null,null,{"$f":"IF(OR(C50020=\"\",ISBLANK(C50020)),\"\",VLOOKUP(C50020,Sheet2!A:F,3,FALSE))","v":""},{"$f":"IF(OR(C50020=\"\",ISBLANK(C50020)),\"\",VLOOKUP(C50020,Sheet2!A:G,6,FALSE))","v":""},""]
[{"$f":"IF(OR(C50021=\"\",ISBLANK(C50021)),\"\",VLOOKUP(C50021,Sheet2!A:F,2,FALSE))","v":""},{"$f":"IF(OR(C50021=\"\",ISBLANK(C50021)),\"\",VLOOKUP(C50021,Sheet2!A:G,4,FALSE))","v":""},null,null,{"$f":"IF(OR(C50021=\"\",ISBLANK(C50021)),\"\",VLOOKUP(C50021,Sheet2!A:F,3,FALSE))","v":""},{"$f":"IF(OR(C50021=\"\",ISBLANK(C50021)),\"\",VLOOKUP(C50021,Sheet2!A:G,6,FALSE))","v":""},""]
[{"$f":"IF(OR(C50022=\"\",ISBLANK(C50022)),\"\",VLOOKUP(C50022,Sheet2!A:F,2,FALSE))","v":""},{"$f":"IF(OR(C50022=\"\",ISBLANK(C50022)),\"\",VLOOKUP(C50022,Sheet2!A:G,4,FALSE))","v":""},null,null,{"$f":"IF(OR(C50022=\"\",ISBLANK(C50022)),\"\",VLOOKUP(C50022,Sheet2!A:F,3,FALSE))","v":""},{"$f":"IF(OR(C50022=\"\",ISBLANK(C50022)),\"\",VLOOKUP(C50022,Sheet2!A:G,6,FALSE))","v":""},""]
[{"$f":"IF(OR(C50023=\"\",ISBLANK(C50023)),\"\",VLOOKUP(C50023,Sheet2!A:F,2,FALSE))","v":""},{"$f":"IF(OR(C50023=\"\",ISBLANK(C50023)),\"\",VLOOKUP(C50023,Sheet2!A:G,4,FALSE))","v":""},null,null,{"$f":"IF(OR(C50023=\"\",ISBLANK(C50023)),\"\",VLOOKUP(C50023,Sheet2!A:F,3,FALSE))","v":""},{"$f":"IF(OR(C50023=\"\",ISBLANK(C50023)),\"\",VLOOKUP(C50023,Sheet2!A:G,6,FALSE))","v":""},""]
[{"$f":"IF(OR(C50024=\"\",ISBLANK(C50024)),\"\",VLOOKUP(C50024,Sheet2!A:F,2,FALSE))","v":""},{"$f":"IF(OR(C50024=\"\",ISBLANK(C50024)),\"\",VLOOKUP(C50024,Sheet2!A:G,4,FALSE))","v":""},null,null,{"$f":"IF(OR(C50024=\"\",ISBLANK(C50024)),\"\",VLOOKUP(C50024,Sheet2!A:F,3,FALSE))","v":""},{"$f":"IF(OR(C50024=\"\",ISBLANK(C50024)),\"\",VLOOKUP(C50024,Sheet2!A:G,6,FALSE))","v":""},""]
[{"$f":"IF(OR(C50025=\"\",ISBLANK(C50025)),\"\",VLOOKUP(C50025,Sheet2!A:F,2,FALSE))","v":""},{"$f":"IF(OR(C50025=\"\",ISBLANK(C50025)),\"\",VLOOKUP(C50025,Sheet2!A:G,4,FALSE))","v":""},null,null,{"$f":"IF(OR(C50025=\"\",ISBLANK(C50025)),\"\",VLOOKUP(C50025,Sheet2!A:F,3,FALSE))","v":""},{"$f":"IF(OR(C50025=\"\",ISBLANK(C50025)),\"\",VLOOKUP(C50025,Sheet2!A:G,6,FALSE))","v":""},""]
[{"$f":"IF(OR(C50026=\"\",ISBLANK(C50026)),\"\",VLOOKUP(C50026,Sheet2!A:F,2,FALSE))","v":""},{"$f":"IF(OR(C50026=\"\",ISBLANK(C50026)),\"\",VLOOKUP(C50026,Sheet2!A:G,4,FALSE))","v":""},null,null,{"$f":"IF(OR(C50026=\"\",ISBLANK(C50026)),\"\",VLOOKUP(C50026,Sheet2!A:F,3,FALSE))","v":""},{"$f":"IF(OR(C50026=\"\",ISBLANK(C50026)),\"\",VLOOKUP(C50026,Sheet2!A:G,6,FALSE))","v":""},""]
[{"$f":"IF(OR(C50027=\"\",ISBLANK(C50027)),\"\",VLOOKUP(C50027,Sheet2!A:F,2,FALSE))","v":""},{"$f":"IF(OR(C50027=\"\",ISBLANK(C50027)),\"\",VLOOKUP(C50027,Sheet2!A:G,4,FALSE))","v":""},null,null,{"$f":"IF(OR(C50027=\"\",ISBLANK(C50027)),\"\",VLOOKUP(C50027,Sheet2!A:F,3,FALSE))","v":""},{"$f":"IF(OR(C50027=\"\",ISBLANK(C50027)),\"\",VLOOKUP(C50027,Sheet2!A:G,6,FALSE))","v":""},""]
[{"$f":"IF(OR(C50028=\"\",ISBLANK(C50028)),\"\",VLOOKUP(C50028,Sheet2!A:F,2,FALSE))","v":""},{"$f":"IF(OR(C50028=\"\",ISBLANK(C50028)),\"\",VLOOKUP(C50028,Sheet2!A:G,4,FALSE))","v":""},null,null,{"$f":"IF(OR(C50028=\"\",ISBLANK(C50028)),\"\",VLOOKUP(C50028,Sheet2!A:F,3,FALSE))","v":""},{"$f":"IF(OR(C50028=\"\",ISBLANK(C50028)),\"\",VLOOKUP(C50028,Sheet2!A:G,6,FALSE))","v":""},""]
[{"$f":"IF(OR(C50029=\"\",ISBLANK(C50029)),\"\",VLOOKUP(C50029,Sheet2!A:F,2,FALSE))","v":""},{"$f":"IF(OR(C50029=\"\",ISBLANK(C50029)),\"\",VLOOKUP(C50029,Sheet2!A:G,4,FALSE))","v":""},null,null,{"$f":"IF(OR(C50029=\"\",ISBLANK(C50029)),\"\",VLOOKUP(C50029,Sheet2!A:F,3,FALSE))","v":""},{"$f":"IF(OR(C50029=\"\",ISBLANK(C50029)),\"\",VLOOKUP(C50029,Sheet2!A:G,6,FALSE))","v":""},""]
[{"$f":"IF(OR(C50030=\"\",ISBLANK(C50030)),\"\",VLOOKUP(C50030,Sheet2!A:F,2,FALSE))","v":""},{"$f":"IF(OR(C50030=\"\",ISBLANK(C50030)),\"\",VLOOKUP(C50030,Sheet2!A:G,4,FALSE))","v":""},null,null,{"$f":"IF(OR(C50030=\"\",ISBLANK(C50030)),\"\",VLOOKUP(C50030,Sheet2!A:F,3,FALSE))","v":""},{"$f":"IF(OR(C50030=\"\",ISBLANK(C50030)),\"\",VLOOKUP(C50030,Sheet2!A:G,6,FALSE))","v":""},""]
[{"$f":"IF(OR(C50031=\"\",ISBLANK(C50031)),\"\",VLOOKUP(C50031,Sheet2!A:F,2,FALSE))","v":""},{"$f":"IF(OR(C50031=\"\",ISBLANK(C50031)),\"\",VLOOKUP(C50031,Sheet2!A:G,4,FALSE))","v":""},null,null,{"$f":"IF(OR(C50031=\"\",ISBLANK(C50031)),\"\",VLOOKUP(C50031,Sheet2!A:F,3,FALSE))","v":""},{"$f":"IF(OR(C50031=\"\",ISBLANK(C50031)),\"\",VLOOKUP(C50031,Sheet2!A:G,6,FALSE))","v":""},""]
[{"$f":"IF(OR(C50032=\"\",ISBLANK(C50032)),\"\",VLOOKUP(C50032,Sheet2!A:F,2,FALSE))","v":""},{"$f":"IF(OR(C50032=\"\",ISBLANK(C50032)),\"\",VLOOKUP(C50032,Sheet2!A:G,4,FALSE))","v":""},null,null,{"$f":"IF(OR(C50032=\"\",ISBLANK(C50032)),\"\",VLOOKUP(C50032,Sheet2!A:F,3,FALSE))","v":""},{"$f":"IF(OR(C50032=\"\",ISBLANK(C50032)),\"\",VLOOKUP(C50032,Sheet2!A:G,6,FALSE))","v":""},""]
[{"$f":"IF(OR(C50033=\"\",ISBLANK(C50033)),\"\",VLOOKUP(C50033,Sheet2!A:F,2,FALSE))","v":""},{"$f":"IF(OR(C50033=\"\",ISBLANK(C50033)),\"\",VLOOKUP(C50033,Sheet2!A:G,4,FALSE))","v":""},null,null,{"$f":"IF(OR(C50033=\"\",ISBLANK(C50033)),\"\",VLOOKUP(C50033,Sheet2!A:F,3,FALSE))","v":""},{"$f":"IF(OR(C50033=\"\",ISBLANK(C50033)),\"\",VLOOKUP(C50033,Sheet2!A:G,6,FALSE))","v":""},""]
[{"$f":"IF(OR(C50034=\"\",ISBLANK(C50034)),\"\",VLOOKUP(C50034,Sheet2!A:F,2,FALSE))","v":""},{"$f":"IF(OR(C50034=\"\",ISBLANK(C50034)),\"\",VLOOKUP(C50034,Sheet2!A:G,4,FALSE))","v":""},null,null,{"$f":"IF(OR(C50034=\"\",ISBLANK(C50034)),\"\",VLOOKUP(C50034,Sheet2!A:F,3,FALSE))","v":""},{"$f":"IF(OR(C50034=\"\",ISBLANK(C50034)),\"\",VLOOKUP(C50034,Sheet2!A:G,6,FALSE))","v":""},""]
[{"$f":"IF(OR(C50035=\"\",ISBLANK(C50035)),\"\",VLOOKUP(C50035,Sheet2!A:F,2,FALSE))","v":""},{"$f":"IF(OR(C50035=\"\",ISBLANK(C50035)),\"\",VLOOKUP(C50035,Sheet2!A:G,4,FALSE))","v":""},null,null,{"$f":"IF(OR(C50035=\"\",ISBLANK(C50035)),\"\",VLOOKUP(C50035,Sheet2!A:F,3,FALSE))","v":""},{"$f":"IF(OR(C50035=\"\",ISBLANK(C50035)),\"\",VLOOKUP(C50035,Sheet2!A:G,6,FALSE))","v":""},""]
[{"$f":"IF(OR(C50036=\"\",ISBLANK(C50036)),\"\",VLOOKUP(C50036,Sheet2!A:F,2,FALSE))","v":""},{"$f":"IF(OR(C50036=\"\",ISBLANK(C50036)),\"\",VLOOKUP(C50036,Sheet2!A:G,4,FALSE))","v":""},null,null,{"$f":"IF(OR(C50036=\"\",ISBLANK(C50036)),\"\",VLOOKUP(C50036,Sheet2!A:F,3,FALSE))","v":""},{"$f":"IF(OR(C50036=\"\",ISBLANK(C50036)),\"\",VLOOKUP(C50036,Sheet2!A:G,6,FALSE))","v":""},""]
[{"$f":"IF(OR(C50037=\"\",ISBLANK(C50037)),\"\",VLOOKUP(C50037,Sheet2!A:F,2,FALSE))","v":""},{"$f":"IF(OR(C50037=\"\",ISBLANK(C50037)),\"\",VLOOKUP(C50037,Sheet2!A:G,4,FALSE))","v":""},null,null,{"$f":"IF(OR(C50037=\"\",ISBLANK(C50037)),\"\",VLOOKUP(C50037,Sheet2!A:F,3,FALSE))","v":""},{"$f":"IF(OR(C50037=\"\",ISBLANK(C50037)),\"\",VLOOKUP(C50037,Sheet2!A:G,6,FALSE))","v":""},""]
[{"$f":"IF(OR(C50038=\"\",ISBLANK(C50038)),\"\",VLOOKUP(C50038,Sheet2!A:F,2,FALSE))","v":""},{"$f":"IF(OR(C50038=\"\",ISBLANK(C50038)),\"\",VLOOKUP(C50038,Sheet2!A:G,4,FALSE))","v":""},null,null,{"$f":"IF(OR(C50038=\"\",ISBLANK(C50038)),\"\",VLOOKUP(C50038,Sheet2!A:F,3,FALSE))","v":""},{"$f":"IF(OR(C50038=\"\",ISBLANK(C50038)),\"\",VLOOKUP(C50038,Sheet2!A:G,6,FALSE))","v":""},""]
[{"$f":"IF(OR(C50039=\"\",ISBLANK(C50039)),\"\",VLOOKUP(C50039,Sheet2!A:F,2,FALSE))","v":""},{"$f":"IF(OR(C50039=\"\",ISBLANK(C50039)),\"\",VLOOKUP(C50039,Sheet2!A:G,4,FALSE))","v":""},null,null,{"$f":"IF(OR(C50039=\"\",ISBLANK(C50039)),\"\",VLOOKUP(C50039,Sheet2!A:F,3,FALSE))","v":""},{"$f":"IF(OR(C50039=\"\",ISBLANK(C50039)),\"\",VLOOKUP(C50039,Sheet2!A:G,6,FALSE))","v":""},""]
[{"$f":"IF(OR(C50040=\"\",ISBLANK(C50040)),\"\",VLOOKUP(C50040,Sheet2!A:F,2,FALSE))","v":""},{"$f":"IF(OR(C50040=\"\",ISBLANK(C50040)),\"\",VLOOKUP(C50040,Sheet2!A:G,4,FALSE))","v":""},null,null,{"$f":"IF(OR(C50040=\"\",ISBLANK(C50040)),\"\",VLOOKUP(C50040,Sheet2!A:F,3,FALSE))","v":""},{"$f":"IF(OR(C50040=\"\",ISBLANK(C50040)),\"\",VLOOKUP(C50040,Sheet2!A:G,6,FALSE))","v":""},""]
[{"$f":"IF(OR(C50041=\"\",ISBLANK(C50041)),\"\",VLOOKUP(C50041,Sheet2!A:F,2,FALSE))","v":""},{"$f":"IF(OR(C50041=\"\",ISBLANK(C50041)),\"\",VLOOKUP(C50041,Sheet2!A:G,4,FALSE))","v":""},null,null,{"$f":"IF(OR(C50041=\"\",ISBLANK(C50041)),\"\",VLOOKUP(C50041,Sheet2!A:F,3,FALSE))","v":""},{"$f":"IF(OR(C50041=\"\",ISBLANK(C50041)),\"\",VLOOKUP(C50041,Sheet2!A:G,6,FALSE))","v":""},""]
[{"$f":"IF(OR(C50042=\"\",ISBLANK(C50042)),\"\",VLOOKUP(C50042,Sheet2!A:F,2,FALSE))","v":""},{"$f":"IF(OR(C50042=\"\",ISBLANK(C50042)),\"\",VLOOKUP(C50042,Sheet2!A:G,4,FALSE))","v":""},null,null,{"$f":"IF(OR(C50042=\"\",ISBLANK(C50042)),\"\",VLOOKUP(C50042,Sheet2!A:F,3,FALSE))","v":""},{"$f":"IF(OR(C50042=\"\",ISBLANK(C50042)),\"\",VLOOKUP(C50042,Sheet2!A:G,6,FALSE))","v":""},""]
[{"$f":"IF(OR(C50043=\"\",ISBLANK(C50043)),\"\",VLOOKUP(C50043,Sheet2!A:F,2,FALSE))","v":""},{"$f":"IF(OR(C50043=\"\",ISBLANK(C50043)),\"\",VLOOKUP(C50043,Sheet2!A:G,4,FALSE))","v":""},null,null,{"$f":"IF(OR(C50043=\"\",ISBLANK(C50043)),\"\",VLOOKUP(C50043,Sheet2!A:F,3,FALSE))","v":""},{"$f":"IF(OR(C50043=\"\",ISBLANK(C50043)),\"\",VLOOKUP(C50043,Sheet2!A:G,6,FALSE))","v":""},""]
[{"$f":"IF(OR(C50044=\"\",ISBLANK(C50044)),\"\",VLOOKUP(C50044,Sheet2!A:F,2,FALSE))","v":""},{"$f":"IF(OR(C50044=\"\",ISBLANK(C50044)),\"\",VLOOKUP(C50044,Sheet2!A:G,4,FALSE))","v":""},null,null,{"$f":"IF(OR(C50044=\"\",ISBLANK(C50044)),\"\",VLOOKUP(C50044,Sheet2!A:F,3,FALSE))","v":""},{"$f":"IF(OR(C50044=\"\",ISBLANK(C50044)),\"\",VLOOKUP(C50044,Sheet2!A:G,6,FALSE))","v":""},""]
[{"$f":"IF(OR(C50045=\"\",ISBLANK(C50045)),\"\",VLOOKUP(C50045,Sheet2!A:F,2,FALSE))","v":""},{"$f":"IF(OR(C50045=\"\",ISBLANK(C50045)),\"\",VLOOKUP(C50045,Sheet2!A:G,4,FALSE))","v":""},null,null,{"$f":"IF(OR(C50045=\"\",ISBLANK(C50045)),\"\",VLOOKUP(C50045,Sheet2!A:F,3,FALSE))","v":""},{"$f":"IF(OR(C50045=\"\",ISBLANK(C50045)),\"\",VLOOKUP(C50045,Sheet2!A:G,6,FALSE))","v":""},""]
[{"$f":"IF(OR(C50046=\"\",ISBLANK(C50046)),\"\",VLOOKUP(C50046,Sheet2!A:F,2,FALSE))","v":""},{"$f":"IF(OR(C50046=\"\",ISBLANK(C50046)),\"\",VLOOKUP(C50046,Sheet2!A:G,4,FALSE))","v":""},null,null,{"$f":"IF(OR(C50046=\"\",ISBLANK(C50046)),\"\",VLOOKUP(C50046,Sheet2!A:F,3,FALSE))","v":""},{"$f":"IF(OR(C50046=\"\",ISBLANK(C50046)),\"\",VLOOKUP(C50046,Sheet2!A:G,6,FALSE))","v":""},""]
[{"$f":"IF(OR(C50047=\"\",ISBLANK(C50047)),\"\",VLOOKUP(C50047,Sheet2!A:F,2,FALSE))","v":""},{"$f":"IF(OR(C50047=\"\",ISBLANK(C50047)),\"\",VLOOKUP(C50047,Sheet2!A:G,4,FALSE))","v":""},null,null,{"$f":"IF(OR(C50047=\"\",ISBLANK(C50047)),\"\",VLOOKUP(C50047,Sheet2!A:F,3,FALSE))","v":""},{"$f":"IF(OR(C50047=\"\",ISBLANK(C50047)),\"\",VLOOKUP(C50047,Sheet2!A:G,6,FALSE))","v":""},""]
[{"$f":"IF(OR(C50048=\"\",ISBLANK(C50048)),\"\",VLOOKUP(C50048,Sheet2!A:F,2,FALSE))","v":""},{"$f":"IF(OR(C50048=\"\",ISBLANK(C50048)),\"\",VLOOKUP(C50048,Sheet2!A:G,4,FALSE))","v":""},null,null,{"$f":"IF(OR(C50048=\"\",ISBLANK(C50048)),\"\",VLOOKUP(C50048,Sheet2!A:F,3,FALSE))","v":""},{"$f":"IF(OR(C50048=\"\",ISBLANK(C50048)),\"\",VLOOKUP(C50048,Sheet2!A:G,6,FALSE))","v":""},""]
[{"$f":"IF(OR(C50049=\"\",ISBLANK(C50049)),\"\",VLOOKUP(C50049,Sheet2!A:F,2,FALSE))","v":""},{"$f":"IF(OR(C50049=\"\",ISBLANK(C50049)),\"\",VLOOKUP(C50049,Sheet2!A:G,4,FALSE))","v":""},null,null,{"$f":"IF(OR(C50049=\"\",ISBLANK(C50049)),\"\",VLOOKUP(C50049,Sheet2!A:F,3,FALSE))","v":""},{"$f":"IF(OR(C50049=\"\",ISBLANK(C50049)),\"\",VLOOKUP(C50049,Sheet2!A:G,6,FALSE))","v":""},""]
[{"$f":"IF(OR(C50050=\"\",ISBLANK(C50050)),\"\",VLOOKUP(C50050,Sheet2!A:F,2,FALSE))","v":""},{"$f":"IF(OR(C50050=\"\",ISBLANK(C50050)),\"\",VLOOKUP(C50050,Sheet2!A:G,4,FALSE))","v":""},null,null,{"$f":"IF(OR(C50050=\"\",ISBLANK(C50050)),\"\",VLOOKUP(C50050,Sheet2!A:F,3,FALSE))","v":""},{"$f":"IF(OR(C50050=\"\",ISBLANK(C50050)),\"\",VLOOKUP(C50050,Sheet2!A:G,6,FALSE))","v":""},""]
[{"$f":"IF(OR(C50051=\"\",ISBLANK(C50051)),\"\",VLOOKUP(C50051,Sheet2!A:F,2,FALSE))","v":""},{"$f":"IF(OR(C50051=\"\",ISBLANK(C50051)),\"\",VLOOKUP(C50051,Sheet2!A:G,4,FALSE))","v":""},null,null,{"$f":"IF(OR(C50051=\"\",ISBLANK(C50051)),\"\",VLOOKUP(C50051,Sheet2!A:F,3,FALSE))","v":""},{"$f":"IF(OR(C50051=\"\",ISBLANK(C50051)),\"\",VLOOKUP(C50051,Sheet2!A:G,6,FALSE))","v":""},{"$f":"IF(F50051=0,\"\",F50051)","v":""}]
[{"$f":"IF(OR(C50052=\"\",ISBLANK(C50052)),\"\",VLOOKUP(C50052,Sheet2!A:F,2,FALSE))","v":""},{"$f":"IF(OR(C50052=\"\",ISBLANK(C50052)),\"\",VLOOKUP(C50052,Sheet2!A:G,4,FALSE))","v":""},null,null,{"$f":"IF(OR(C50052=\"\",ISBLANK(C50052)),\"\",VLOOKUP(C50052,Sheet2!A:F,3,FALSE))","v":""},{"$f":"IF(OR(C50052=\"\",ISBLANK(C50052)),\"\",VLOOKUP(C50052,Sheet2!A:G,6,FALSE))","v":""},""]
[{"$f":"IF(OR(C50053=\"\",ISBLANK(C50053)),\"\",VLOOKUP(C50053,Sheet2!A:F,2,FALSE))","v":""},{"$f":"IF(OR(C50053=\"\",ISBLANK(C50053)),\"\",VLOOKUP(C50053,Sheet2!A:G,4,FALSE))","v":""},null,null,{"$f":"IF(OR(C50053=\"\",ISBLANK(C50053)),\"\",VLOOKUP(C50053,Sheet2!A:F,3,FALSE))","v":""},{"$f":"IF(OR(C50053=\"\",ISBLANK(C50053)),\"\",VLOOKUP(C50053,Sheet2!A:G,6,FALSE))","v":""},""]
[{"$f":"IF(OR(C50054=\"\",ISBLANK(C50054)),\"\",VLOOKUP(C50054,Sheet2!A:F,2,FALSE))","v":""},{"$f":"IF(OR(C50054=\"\",ISBLANK(C50054)),\"\",VLOOKUP(C50054,Sheet2!A:G,4,FALSE))","v":""},null,null,{"$f":"IF(OR(C50054=\"\",ISBLANK(C50054)),\"\",VLOOKUP(C50054,Sheet2!A:F,3,FALSE))","v":""},{"$f":"IF(OR(C50054=\"\",ISBLANK(C50054)),\"\",VLOOKUP(C50054,Sheet2!A:G,6,FALSE))","v":""},""]
[{"$f":"IF(OR(C50055=\"\",ISBLANK(C50055)),\"\",VLOOKUP(C50055,Sheet2!A:F,2,FALSE))","v":""},{"$f":"IF(OR(C50055=\"\",ISBLANK(C50055)),\"\",VLOOKUP(C50055,Sheet2!A:G,4,FALSE))","v":""},null,null,{"$f":"IF(OR(C50055=\"\",ISBLANK(C50055)),\"\",VLOOKUP(C50055,Sheet2!A:F,3,FALSE))","v":""},{"$f":"IF(OR(C50055=\"\",ISBLANK(C50055)),\"\",VLOOKUP(C50055,Sheet2!A:G,6,FALSE))","v":""},""]
[{"$f":"IF(OR(C50056=\"\",ISBLANK(C50056)),\"\",VLOOKUP(C50056,Sheet2!A:F,2,FALSE))","v":""},{"$f":"IF(OR(C50056=\"\",ISBLANK(C50056)),\"\",VLOOKUP(C50056,Sheet2!A:G,4,FALSE))","v":""},null,null,{"$f":"IF(OR(C50056=\"\",ISBLANK(C50056)),\"\",VLOOKUP(C50056,Sheet2!A:F,3,FALSE))","v":""},{"$f":"IF(OR(C50056=\"\",ISBLANK(C50056)),\"\",VLOOKUP(C50056,Sheet2!A:G,6,FALSE))","v":""},""]
[{"$f":"IF(OR(C50057=\"\",ISBLANK(C50057)),\"\",VLOOKUP(C50057,Sheet2!A:F,2,FALSE))","v":""},{"$f":"IF(OR(C50057=\"\",ISBLANK(C50057)),\"\",VLOOKUP(C50057,Sheet2!A:G,4,FALSE))","v":""},null,null,{"$f":"IF(OR(C50057=\"\",ISBLANK(C50057)),\"\",VLOOKUP(C50057,Sheet2!A:F,3,FALSE))","v":""},{"$f":"IF(OR(C50057=\"\",ISBLANK(C50057)),\"\",VLOOKUP(C50057,Sheet2!A:G,6,FALSE))","v":""},""]
[{"$f":"IF(OR(C50058=\"\",ISBLANK(C50058)),\"\",VLOOKUP(C50058,Sheet2!A:F,2,FALSE))","v":""},{"$f":"IF(OR(C50058=\"\",ISBLANK(C50058)),\"\",VLOOKUP(C50058,Sheet2!A:G,4,FALSE))","v":""},null,null,{"$f":"IF(OR(C50058=\"\",ISBLANK(C50058)),\"\",VLOOKUP(C50058,Sheet2!A:F,3,FALSE))","v":""},{"$f":"IF(OR(C50058=\"\",ISBLANK(C50058)),\"\",VLOOKUP(C50058,Sheet2!A:G,6,FALSE))","v":""},""]
[{"$f":"IF(OR(C50059=\"\",ISBLANK(C50059)),\"\",VLOOKUP(C50059,Sheet2!A:F,2,FALSE))","v":""},{"$f":"IF(OR(C50059=\"\",ISBLANK(C50059)),\"\",VLOOKUP(C50059,Sheet2!A:G,4,FALSE))","v":""},null,null,{"$f":"IF(OR(C50059=\"\",ISBLANK(C50059)),\"\",VLOOKUP(C50059,Sheet2!A:F,3,FALSE))","v":""},{"$f":"IF(OR(C50059=\"\",ISBLANK(C50059)),\"\",VLOOKUP(C50059,Sheet2!A:G,6,FALSE))","v":""},""]
[{"$f":"IF(OR(C50060=\"\",ISBLANK(C50060)),\"\",VLOOKUP(C50060,Sheet2!A:F,2,FALSE))","v":""},{"$f":"IF(OR(C50060=\"\",ISBLANK(C50060)),\"\",VLOOKUP(C50060,Sheet2!A:G,4,FALSE))","v":""},null,null,{"$f":"IF(OR(C50060=\"\",ISBLANK(C50060)),\"\",VLOOKUP(C50060,Sheet2!A:F,3,FALSE))","v":""},{"$f":"IF(OR(C50060=\"\",ISBLANK(C50060)),\"\",VLOOKUP(C50060,Sheet2!A:G,6,FALSE))","v":""},""]
[{"$f":"IF(OR(C50061=\"\",ISBLANK(C50061)),\"\",VLOOKUP(C50061,Sheet2!A:F,2,FALSE))","v":""},{"$f":"IF(OR(C50061=\"\",ISBLANK(C50061)),\"\",VLOOKUP(C50061,Sheet2!A:G,4,FALSE))","v":""},null,null,{"$f":"IF(OR(C50061=\"\",ISBLANK(C50061)),\"\",VLOOKUP(C50061,Sheet2!A:F,3,FALSE))","v":""},{"$f":"IF(OR(C50061=\"\",ISBLANK(C50061)),\"\",VLOOKUP(C50061,Sheet2!A:G,6,FALSE))","v":""},""]
[{"$f":"IF(OR(C50062=\"\",ISBLANK(C50062)),\"\",VLOOKUP(C50062,Sheet2!A:F,2,FALSE))","v":""},{"$f":"IF(OR(C50062=\"\",ISBLANK(C50062)),\"\",VLOOKUP(C50062,Sheet2!A:G,4,FALSE))","v":""},null,null,{"$f":"IF(OR(C50062=\"\",ISBLANK(C50062)),\"\",VLOOKUP(C50062,Sheet2!A:F,3,FALSE))","v":""},{"$f":"IF(OR(C50062=\"\",ISBLANK(C50062)),\"\",VLOOKUP(C50062,Sheet2!A:G,6,FALSE))","v":""},""]
[{"$f":"IF(OR(C50063=\"\",ISBLANK(C50063)),\"\",VLOOKUP(C50063,Sheet2!A:F,2,FALSE))","v":""},{"$f":"IF(OR(C50063=\"\",ISBLANK(C50063)),\"\",VLOOKUP(C50063,Sheet2!A:G,4,FALSE))","v":""},null,null,{"$f":"IF(OR(C50063=\"\",ISBLANK(C50063)),\"\",VLOOKUP(C50063,Sheet2!A:F,3,FALSE))","v":""},{"$f":"IF(OR(C50063=\"\",ISBLANK(C50063)),\"\",VLOOKUP(C50063,Sheet2!A:G,6,FALSE))","v":""},""]
[{"$f":"IF(OR(C50064=\"\",ISBLANK(C50064)),\"\",VLOOKUP(C50064,Sheet2!A:F,2,FALSE))","v":""},{"$f":"IF(OR(C50064=\"\",ISBLANK(C50064)),\"\",VLOOKUP(C50064,Sheet2!A:G,4,FALSE))","v":""},null,null,{"$f":"IF(OR(C50064=\"\",ISBLANK(C50064)),\"\",VLOOKUP(C50064,Sheet2!A:F,3,FALSE))","v":""},{"$f":"IF(OR(C50064=\"\",ISBLANK(C50064)),\"\",VLOOKUP(C50064,Sheet2!A:G,6,FALSE))","v":""},""]
[{"$f":"IF(OR(C50065=\"\",ISBLANK(C50065)),\"\",VLOOKUP(C50065,Sheet2!A:F,2,FALSE))","v":""},{"$f":"IF(OR(C50065=\"\",ISBLANK(C50065)),\"\",VLOOKUP(C50065,Sheet2!A:G,4,FALSE))","v":""},null,null,{"$f":"IF(OR(C50065=\"\",ISBLANK(C50065)),\"\",VLOOKUP(C50065,Sheet2!A:F,3,FALSE))","v":""},{"$f":"IF(OR(C50065=\"\",ISBLANK(C50065)),\"\",VLOOKUP(C50065,Sheet2!A:G,6,FALSE))","v":""},""]
[{"$f":"IF(OR(C50066=\"\",ISBLANK(C50066)),\"\",VLOOKUP(C50066,Sheet2!A:F,2,FALSE))","v":""},{"$f":"IF(OR(C50066=\"\",ISBLANK(C50066)),\"\",VLOOKUP(C50066,Sheet2!A:G,4,FALSE))","v":""},null,null,{"$f":"IF(OR(C50066=\"\",ISBLANK(C50066)),\"\",VLOOKUP(C50066,Sheet2!A:F,3,FALSE))","v":""},{"$f":"IF(OR(C50066=\"\",ISBLANK(C50066)),\"\",VLOOKUP(C50066,Sheet2!A:G,6,FALSE))","v":""},""]
[{"$f":"IF(OR(C50067=\"\",ISBLANK(C50067)),\"\",VLOOKUP(C50067,Sheet2!A:F,2,FALSE))","v":""},{"$f":"IF(OR(C50067=\"\",ISBLANK(C50067)),\"\",VLOOKUP(C50067,Sheet2!A:G,4,FALSE))","v":""},null,null,{"$f":"IF(OR(C50067=\"\",ISBLANK(C50067)),\"\",VLOOKUP(C50067,Sheet2!A:F,3,FALSE))","v":""},{"$f":"IF(OR(C50067=\"\",ISBLANK(C50067)),\"\",VLOOKUP(C50067,Sheet2!A:G,6,FALSE))","v":""},""]
[{"$f":"IF(OR(C50068=\"\",ISBLANK(C50068)),\"\",VLOOKUP(C50068,Sheet2!A:F,2,FALSE))","v":""},{"$f":"IF(OR(C50068=\"\",ISBLANK(C50068)),\"\",VLOOKUP(C50068,Sheet2!A:G,4,FALSE))","v":""},null,null,{"$f":"IF(OR(C50068=\"\",ISBLANK(C50068)),\"\",VLOOKUP(C50068,Sheet2!A:F,3,FALSE))","v":""},{"$f":"IF(OR(C50068=\"\",ISBLANK(C50068)),\"\",VLOOKUP(C50068,Sheet2!A:G,6,FALSE))","v":""},""]
[{"$f":"IF(OR(C50069=\"\",ISBLANK(C50069)),\"\",VLOOKUP(C50069,Sheet2!A:F,2,FALSE))","v":""},{"$f":"IF(OR(C50069=\"\",ISBLANK(C50069)),\"\",VLOOKUP(C50069,Sheet2!A:G,4,FALSE))","v":""},null,null,{"$f":"IF(OR(C50069=\"\",ISBLANK(C50069)),\"\",VLOOKUP(C50069,Sheet2!A:F,3,FALSE))","v":""},{"$f":"IF(OR(C50069=\"\",ISBLANK(C50069)),\"\",VLOOKUP(C50069,Sheet2!A:G,6,FALSE))","v":""},""]
[{"$f":"IF(OR(C50070=\"\",ISBLANK(C50070)),\"\",VLOOKUP(C50070,Sheet2!A:F,2,FALSE))","v":""},{"$f":"IF(OR(C50070=\"\",ISBLANK(C50070)),\"\",VLOOKUP(C50070,Sheet2!A:G,4,FALSE))","v":""},null,null,{"$f":"IF(OR(C50070=\"\",ISBLANK(C50070)),\"\",VLOOKUP(C50070,Sheet2!A:F,3,FALSE))","v":""},{"$f":"IF(OR(C50070=\"\",ISBLANK(C50070)),\"\",VLOOKUP(C50070,Sheet2!A:G,6,FALSE))","v":""},""]
[{"$f":"IF(OR(C50071=\"\",ISBLANK(C50071)),\"\",VLOOKUP(C50071,Sheet2!A:F,2,FALSE))","v":""},{"$f":"IF(OR(C50071=\"\",ISBLANK(C50071)),\"\",VLOOKUP(C50071,Sheet2!A:G,4,FALSE))","v":""},null,null,{"$f":"IF(OR(C50071=\"\",ISBLANK(C50071)),\"\",VLOOKUP(C50071,Sheet2!A:F,3,FALSE))","v":""},{"$f":"IF(OR(C50071=\"\",ISBLANK(C50071)),\"\",VLOOKUP(C50071,Sheet2!A:G,6,FALSE))","v":""},""]
[{"$f":"IF(OR(C50072=\"\",ISBLANK(C50072)),\"\",VLOOKUP(C50072,Sheet2!A:F,2,FALSE))","v":""},{"$f":"IF(OR(C50072=\"\",ISBLANK(C50072)),\"\",VLOOKUP(C50072,Sheet2!A:G,4,FALSE))","v":""},null,null,{"$f":"IF(OR(C50072=\"\",ISBLANK(C50072)),\"\",VLOOKUP(C50072,Sheet2!A:F,3,FALSE))","v":""},{"$f":"IF(OR(C50072=\"\",ISBLANK(C50072)),\"\",VLOOKUP(C50072,Sheet2!A:G,6,FALSE))","v":""},""]
[{"$f":"IF(OR(C50073=\"\",ISBLANK(C50073)),\"\",VLOOKUP(C50073,Sheet2!A:F,2,FALSE))","v":""},{"$f":"IF(OR(C50073=\"\",ISBLANK(C50073)),\"\",VLOOKUP(C50073,Sheet2!A:G,4,FALSE))","v":""},null,null,{"$f":"IF(OR(C50073=\"\",ISBLANK(C50073)),\"\",VLOOKUP(C50073,Sheet2!A:F,3,FALSE))","v":""},{"$f":"IF(OR(C50073=\"\",ISBLANK(C50073)),\"\",VLOOKUP(C50073,Sheet2!A:G,6,FALSE))","v":""},""]
[{"$f":"IF(OR(C50074=\"\",ISBLANK(C50074)),\"\",VLOOKUP(C50074,Sheet2!A:F,2,FALSE))","v":""},{"$f":"IF(OR(C50074=\"\",ISBLANK(C50074)),\"\",VLOOKUP(C50074,Sheet2!A:G,4,FALSE))","v":""},null,null,{"$f":"IF(OR(C50074=\"\",ISBLANK(C50074)),\"\",VLOOKUP(C50074,Sheet2!A:F,3,FALSE))","v":""},{"$f":"IF(OR(C50074=\"\",ISBLANK(C50074)),\"\",VLOOKUP(C50074,Sheet2!A:G,6,FALSE))","v":""},""]
[{"$f":"IF(OR(C50075=\"\",ISBLANK(C50075)),\"\",VLOOKUP(C50075,Sheet2!A:F,2,FALSE))","v":""},{"$f":"IF(OR(C50075=\"\",ISBLANK(C50075)),\"\",VLOOKUP(C50075,Sheet2!A:G,4,FALSE))","v":""},null,null,{"$f":"IF(OR(C50075=\"\",ISBLANK(C50075)),\"\",VLOOKUP(C50075,Sheet2!A:F,3,FALSE))","v":""},{"$f":"IF(OR(C50075=\"\",ISBLANK(C50075)),\"\",VLOOKUP(C50075,Sheet2!A:G,6,FALSE))","v":""},""]
[{"$f":"IF(OR(C50076=\"\",ISBLANK(C50076)),\"\",VLOOKUP(C50076,Sheet2!A:F,2,FALSE))","v":""},{"$f":"IF(OR(C50076=\"\",ISBLANK(C50076)),\"\",VLOOKUP(C50076,Sheet2!A:G,4,FALSE))","v":""},null,null,{"$f":"IF(OR(C50076=\"\",ISBLANK(C50076)),\"\",VLOOKUP(C50076,Sheet2!A:F,3,FALSE))","v":""},{"$f":"IF(OR(C50076=\"\",ISBLANK(C50076)),\"\",VLOOKUP(C50076,Sheet2!A:G,6,FALSE))","v":""},""]
[{"$f":"IF(OR(C50077=\"\",ISBLANK(C50077)),\"\",VLOOKUP(C50077,Sheet2!A:F,2,FALSE))","v":""},{"$f":"IF(OR(C50077=\"\",ISBLANK(C50077)),\"\",VLOOKUP(C50077,Sheet2!A:G,4,FALSE))","v":""},null,null,{"$f":"IF(OR(C50077=\"\",ISBLANK(C50077)),\"\",VLOOKUP(C50077,Sheet2!A:F,3,FALSE))","v":""},{"$f":"IF(OR(C50077=\"\",ISBLANK(C50077)),\"\",VLOOKUP(C50077,Sheet2!A:G,6,FALSE))","v":""},""]
[{"$f":"IF(OR(C50078=\"\",ISBLANK(C50078)),\"\",VLOOKUP(C50078,Sheet2!A:F,2,FALSE))","v":""},{"$f":"IF(OR(C50078=\"\",ISBLANK(C50078)),\"\",VLOOKUP(C50078,Sheet2!A:G,4,FALSE))","v":""},null,null,{"$f":"IF(OR(C50078=\"\",ISBLANK(C50078)),\"\",VLOOKUP(C50078,Sheet2!A:F,3,FALSE))","v":""},{"$f":"IF(OR(C50078=\"\",ISBLANK(C50078)),\"\",VLOOKUP(C50078,Sheet2!A:G,6,FALSE))","v":""},""]
[{"$f":"IF(OR(C50079=\"\",ISBLANK(C50079)),\"\",VLOOKUP(C50079,Sheet2!A:F,2,FALSE))","v":""},{"$f":"IF(OR(C50079=\"\",ISBLANK(C50079)),\"\",VLOOKUP(C50079,Sheet2!A:G,4,FALSE))","v":""},null,null,{"$f":"IF(OR(C50079=\"\",ISBLANK(C50079)),\"\",VLOOKUP(C50079,Sheet2!A:F,3,FALSE))","v":""},{"$f":"IF(OR(C50079=\"\",ISBLANK(C50079)),\"\",VLOOKUP(C50079,Sheet2!A:G,6,FALSE))","v":""},""]
[{"$f":"IF(OR(C50080=\"\",ISBLANK(C50080)),\"\",VLOOKUP(C50080,Sheet2!A:F,2,FALSE))","v":""},{"$f":"IF(OR(C50080=\"\",ISBLANK(C50080)),\"\",VLOOKUP(C50080,Sheet2!A:G,4,FALSE))","v":""},null,null,{"$f":"IF(OR(C50080=\"\",ISBLANK(C50080)),\"\",VLOOKUP(C50080,Sheet2!A:F,3,FALSE))","v":""},{"$f":"IF(OR(C50080=\"\",ISBLANK(C50080)),\"\",VLOOKUP(C50080,Sheet2!A:G,6,FALSE))","v":""},""]
[{"$f":"IF(OR(C50081=\"\",ISBLANK(C50081)),\"\",VLOOKUP(C50081,Sheet2!A:F,2,FALSE))","v":""},{"$f":"IF(OR(C50081=\"\",ISBLANK(C50081)),\"\",VLOOKUP(C50081,Sheet2!A:G,4,FALSE))","v":""},null,null,{"$f":"IF(OR(C50081=\"\",ISBLANK(C50081)),\"\",VLOOKUP(C50081,Sheet2!A:F,3,FALSE))","v":""},{"$f":"IF(OR(C50081=\"\",ISBLANK(C50081)),\"\",VLOOKUP(C50081,Sheet2!A:G,6,FALSE))","v":""},""]
[{"$f":"IF(OR(C50082=\"\",ISBLANK(C50082)),\"\",VLOOKUP(C50082,Sheet2!A:F,2,FALSE))","v":""},{"$f":"IF(OR(C50082=\"\",ISBLANK(C50082)),\"\",VLOOKUP(C50082,Sheet2!A:G,4,FALSE))","v":""},null,null,{"$f":"IF(OR(C50082=\"\",ISBLANK(C50082)),\"\",VLOOKUP(C50082,Sheet2!A:F,3,FALSE))","v":""},{"$f":"IF(OR(C50082=\"\",ISBLANK(C50082)),\"\",VLOOKUP(C50082,Sheet2!A:G,6,FALSE))","v":""},""]
[{"$f":"IF(OR(C50083=\"\",ISBLANK(C50083)),\"\",VLOOKUP(C50083,Sheet2!A:F,2,FALSE))","v":""},{"$f":"IF(OR(C50083=\"\",ISBLANK(C50083)),\"\",VLOOKUP(C50083,Sheet2!A:G,4,FALSE))","v":""},null,null,{"$f":"IF(OR(C50083=\"\",ISBLANK(C50083)),\"\",VLOOKUP(C50083,Sheet2!A:F,3,FALSE))","v":""},{"$f":"IF(OR(C50083=\"\",ISBLANK(C50083)),\"\",VLOOKUP(C50083,Sheet2!A:G,6,FALSE))","v":""},""]
[{"$f":"IF(OR(C50084=\"\",ISBLANK(C50084)),\"\",VLOOKUP(C50084,Sheet2!A:F,2,FALSE))","v":""},{"$f":"IF(OR(C50084=\"\",ISBLANK(C50084)),\"\",VLOOKUP(C50084,Sheet2!A:G,4,FALSE))","v":""},null,null,{"$f":"IF(OR(C50084=\"\",ISBLANK(C50084)),\"\",VLOOKUP(C50084,Sheet2!A:F,3,FALSE))","v":""},{"$f":"IF(OR(C50084=\"\",ISBLANK(C50084)),\"\",VLOOKUP(C50084,Sheet2!A:G,6,FALSE))","v":""},""]
[{"$f":"IF(OR(C50085=\"\",ISBLANK(C50085)),\"\",VLOOKUP(C50085,Sheet2!A:F,2,FALSE))","v":""},{"$f":"IF(OR(C50085=\"\",ISBLANK(C50085)),\"\",VLOOKUP(C50085,Sheet2!A:G,4,FALSE))","v":""},null,null,{"$f":"IF(OR(C50085=\"\",ISBLANK(C50085)),\"\",VLOOKUP(C50085,Sheet2!A:F,3,FALSE))","v":""},{"$f":"IF(OR(C50085=\"\",ISBLANK(C50085)),\"\",VLOOKUP(C50085,Sheet2!A:G,6,FALSE))","v":""},""]
[{"$f":"IF(OR(C50086=\"\",ISBLANK(C50086)),\"\",VLOOKUP(C50086,Sheet2!A:F,2,FALSE))","v":""},{"$f":"IF(OR(C50086=\"\",ISBLANK(C50086)),\"\",VLOOKUP(C50086,Sheet2!A:G,4,FALSE))","v":""},null,null,{"$f":"IF(OR(C50086=\"\",ISBLANK(C50086)),\"\",VLOOKUP(C50086,Sheet2!A:F,3,FALSE))","v":""},{"$f":"IF(OR(C50086=\"\",ISBLANK(C50086)),\"\",VLOOKUP(C50086,Sheet2!A:G,6,FALSE))","v":""},""]
[{"$f":"IF(OR(C50087=\"\",ISBLANK(C50087)),\"\",VLOOKUP(C50087,Sheet2!A:F,2,FALSE))","v":""},{"$f":"IF(OR(C50087=\"\",ISBLANK(C50087)),\"\",VLOOKUP(C50087,Sheet2!A:G,4,FALSE))","v":""},null,null,{"$f":"IF(OR(C50087=\"\",ISBLANK(C50087)),\"\",VLOOKUP(C50087,Sheet2!A:F,3,FALSE))","v":""},{"$f":"IF(OR(C50087=\"\",ISBLANK(C50087)),\"\",VLOOKUP(C50087,Sheet2!A:G,6,FALSE))","v":""},""]
[{"$f":"IF(OR(C50088=\"\",ISBLANK(C50088)),\"\",VLOOKUP(C50088,Sheet2!A:F,2,FALSE))","v":""},{"$f":"IF(OR(C50088=\"\",ISBLANK(C50088)),\"\",VLOOKUP(C50088,Sheet2!A:G,4,FALSE))","v":""},null,null,{"$f":"IF(OR(C50088=\"\",ISBLANK(C50088)),\"\",VLOOKUP(C50088,Sheet2!A:F,3,FALSE))","v":""},{"$f":"IF(OR(C50088=\"\",ISBLANK(C50088)),\"\",VLOOKUP(C50088,Sheet2!A:G,6,FALSE))","v":""},""]
[{"$f":"IF(OR(C50089=\"\",ISBLANK(C50089)),\"\",VLOOKUP(C50089,Sheet2!A:F,2,FALSE))","v":""},{"$f":"IF(OR(C50089=\"\",ISBLANK(C50089)),\"\",VLOOKUP(C50089,Sheet2!A:G,4,FALSE))","v":""},null,null,{"$f":"IF(OR(C50089=\"\",ISBLANK(C50089)),\"\",VLOOKUP(C50089,Sheet2!A:F,3,FALSE))","v":""},{"$f":"IF(OR(C50089=\"\",ISBLANK(C50089)),\"\",VLOOKUP(C50089,Sheet2!A:G,6,FALSE))","v":""},""]
[{"$f":"IF(OR(C50090=\"\",ISBLANK(C50090)),\"\",VLOOKUP(C50090,Sheet2!A:F,2,FALSE))","v":""},{"$f":"IF(OR(C50090=\"\",ISBLANK(C50090)),\"\",VLOOKUP(C50090,Sheet2!A:G,4,FALSE))","v":""},null,null,{"$f":"IF(OR(C50090=\"\",ISBLANK(C50090)),\"\",VLOOKUP(C50090,Sheet2!A:F,3,FALSE))","v":""},{"$f":"IF(OR(C50090=\"\",ISBLANK(C50090)),\"\",VLOOKUP(C50090,Sheet2!A:G,6,FALSE))","v":""},""]
[{"$f":"IF(OR(C50091=\"\",ISBLANK(C50091)),\"\",VLOOKUP(C50091,Sheet2!A:F,2,FALSE))","v":""},{"$f":"IF(OR(C50091=\"\",ISBLANK(C50091)),\"\",VLOOKUP(C50091,Sheet2!A:G,4,FALSE))","v":""},null,null,{"$f":"IF(OR(C50091=\"\",ISBLANK(C50091)),\"\",VLOOKUP(C50091,Sheet2!A:F,3,FALSE))","v":""},{"$f":"IF(OR(C50091=\"\",ISBLANK(C50091)),\"\",VLOOKUP(C50091,Sheet2!A:G,6,FALSE))","v":""},""]
[{"$f":"IF(OR(C50092=\"\",ISBLANK(C50092)),\"\",VLOOKUP(C50092,Sheet2!A:F,2,FALSE))","v":""},{"$f":"IF(OR(C50092=\"\",ISBLANK(C50092)),\"\",VLOOKUP(C50092,Sheet2!A:G,4,FALSE))","v":""},null,null,{"$f":"IF(OR(C50092=\"\",ISBLANK(C50092)),\"\",VLOOKUP(C50092,Sheet2!A:F,3,FALSE))","v":""},{"$f":"IF(OR(C50092=\"\",ISBLANK(C50092)),\"\",VLOOKUP(C50092,Sheet2!A:G,6,FALSE))","v":""},""]
[{"$f":"IF(OR(C50093=\"\",ISBLANK(C50093)),\"\",VLOOKUP(C50093,Sheet2!A:F,2,FALSE))","v":""},{"$f":"IF(OR(C50093=\"\",ISBLANK(C50093)),\"\",VLOOKUP(C50093,Sheet2!A:G,4,FALSE))","v":""},null,null,{"$f":"IF(OR(C50093=\"\",ISBLANK(C50093)),\"\",VLOOKUP(C50093,Sheet2!A:F,3,FALSE))","v":""},{"$f":"IF(OR(C50093=\"\",ISBLANK(C50093)),\"\",VLOOKUP(C50093,Sheet2!A:G,6,FALSE))","v":""},""]
[{"$f":"IF(OR(C50094=\"\",ISBLANK(C50094)),\"\",VLOOKUP(C50094,Sheet2!A:F,2,FALSE))","v":""},{"$f":"IF(OR(C50094=\"\",ISBLANK(C50094)),\"\",VLOOKUP(C50094,Sheet2!A:G,4,FALSE))","v":""},null,null,{"$f":"IF(OR(C50094=\"\",ISBLANK(C50094)),\"\",VLOOKUP(C50094,Sheet2!A:F,3,FALSE))","v":""},{"$f":"IF(OR(C50094=\"\",ISBLANK(C50094)),\"\",VLOOKUP(C50094,Sheet2!A:G,6,FALSE))","v":""},""]
[{"$f":"IF(OR(C50095=\"\",ISBLANK(C50095)),\"\",VLOOKUP(C50095,Sheet2!A:F,2,FALSE))","v":""},{"$f":"IF(OR(C50095=\"\",ISBLANK(C50095)),\"\",VLOOKUP(C50095,Sheet2!A:G,4,FALSE))","v":""},null,null,{"$f":"IF(OR(C50095=\"\",ISBLANK(C50095)),\"\",VLOOKUP(C50095,Sheet2!A:F,3,FALSE))","v":""},{"$f":"IF(OR(C50095=\"\",ISBLANK(C50095)),\"\",VLOOKUP(C50095,Sheet2!A:G,6,FALSE))","v":""},""]
[{"$f":"IF(OR(C50096=\"\",ISBLANK(C50096)),\"\",VLOOKUP(C50096,Sheet2!A:F,2,FALSE))","v":""},{"$f":"IF(OR(C50096=\"\",ISBLANK(C50096)),\"\",VLOOKUP(C50096,Sheet2!A:G,4,FALSE))","v":""},null,null,{"$f":"IF(OR(C50096=\"\",ISBLANK(C50096)),\"\",VLOOKUP(C50096,Sheet2!A:F,3,FALSE))","v":""},{"$f":"IF(OR(C50096=\"\",ISBLANK(C50096)),\"\",VLOOKUP(C50096,Sheet2!A:G,6,FALSE))","v":""},""]
[{"$f":"IF(OR(C50097=\"\",ISBLANK(C50097)),\"\",VLOOKUP(C50097,Sheet2!A:F,2,FALSE))","v":""},{"$f":"IF(OR(C50097=\"\",ISBLANK(C50097)),\"\",VLOOKUP(C50097,Sheet2!A:G,4,FALSE))","v":""},null,null,{"$f":"IF(OR(C50097=\"\",ISBLANK(C50097)),\"\",VLOOKUP(C50097,Sheet2!A:F,3,FALSE))","v":""},{"$f":"IF(OR(C50097=\"\",ISBLANK(C50097)),\"\",VLOOKUP(C50097,Sheet2!A:G,6,FALSE))","v":""},""]
[{"$f":"IF(OR(C50098=\"\",ISBLANK(C50098)),\"\",VLOOKUP(C50098,Sheet2!A:F,2,FALSE))","v":""},{"$f":"IF(OR(C50098=\"\",ISBLANK(C50098)),\"\",VLOOKUP(C50098,Sheet2!A:G,4,FALSE))","v":""},null,null,{"$f":"IF(OR(C50098=\"\",ISBLANK(C50098)),\"\",VLOOKUP(C50098,Sheet2!A:F,3,FALSE))","v":""},{"$f":"IF(OR(C50098=\"\",ISBLANK(C50098)),\"\",VLOOKUP(C50098,Sheet2!A:G,6,FALSE))","v":""},""]
[{"$f":"IF(OR(C50099=\"\",ISBLANK(C50099)),\"\",VLOOKUP(C50099,Sheet2!A:F,2,FALSE))","v":""},{"$f":"IF(OR(C50099=\"\",ISBLANK(C50099)),\"\",VLOOKUP(C50099,Sheet2!A:G,4,FALSE))","v":""},null,null,{"$f":"IF(OR(C50099=\"\",ISBLANK(C50099)),\"\",VLOOKUP(C50099,Sheet2!A:F,3,FALSE))","v":""},{"$f":"IF(OR(C50099=\"\",ISBLANK(C50099)),\"\",VLOOKUP(C50099,Sheet2!A:G,6,FALSE))","v":""},""]
[{"$f":"IF(OR(C50100=\"\",ISBLANK(C50100)),\"\",VLOOKUP(C50100,Sheet2!A:F,2,FALSE))","v":""},{"$f":"IF(OR(C50100=\"\",ISBLANK(C50100)),\"\",VLOOKUP(C50100,Sheet2!A:G,4,FALSE))","v":""},null,null,{"$f":"IF(OR(C50100=\"\",ISBLANK(C50100)),\"\",VLOOKUP(C50100,Sheet2!A:F,3,FALSE))","v":""},{"$f":"IF(OR(C50100=\"\",ISBLANK(C50100)),\"\",VLOOKUP(C50100,Sheet2!A:G,6,FALSE))","v":""},""]
[{"$f":"IF(OR(C50101=\"\",ISBLANK(C50101)),\"\",VLOOKUP(C50101,Sheet2!A:F,2,FALSE))","v":""},{"$f":"IF(OR(C50101=\"\",ISBLANK(C50101)),\"\",VLOOKUP(C50101,Sheet2!A:G,4,FALSE))","v":""},null,null,{"$f":"IF(OR(C50101=\"\",ISBLANK(C50101)),\"\",VLOOKUP(C50101,Sheet2!A:F,3,FALSE))","v":""},{"$f":"IF(OR(C50101=\"\",ISBLANK(C50101)),\"\",VLOOKUP(C50101,Sheet2!A:G,6,FALSE))","v":""},""]
[{"$f":"IF(OR(C50102=\"\",ISBLANK(C50102)),\"\",VLOOKUP(C50102,Sheet2!A:F,2,FALSE))","v":""},{"$f":"IF(OR(C50102=\"\",ISBLANK(C50102)),\"\",VLOOKUP(C50102,Sheet2!A:G,4,FALSE))","v":""},null,null,{"$f":"IF(OR(C50102=\"\",ISBLANK(C50102)),\"\",VLOOKUP(C50102,Sheet2!A:F,3,FALSE))","v":""},{"$f":"IF(OR(C50102=\"\",ISBLANK(C50102)),\"\",VLOOKUP(C50102,Sheet2!A:G,6,FALSE))","v":""},""]
[{"$f":"IF(OR(C50103=\"\",ISBLANK(C50103)),\"\",VLOOKUP(C50103,Sheet2!A:F,2,FALSE))","v":""},{"$f":"IF(OR(C50103=\"\",ISBLANK(C50103)),\"\",VLOOKUP(C50103,Sheet2!A:G,4,FALSE))","v":""},null,null,{"$f":"IF(OR(C50103=\"\",ISBLANK(C50103)),\"\",VLOOKUP(C50103,Sheet2!A:F,3,FALSE))","v":""},{"$f":"IF(OR(C50103=\"\",ISBLANK(C50103)),\"\",VLOOKUP(C50103,Sheet2!A:G,6,FALSE))","v":""},""]
[{"$f":"IF(OR(C50104=\"\",ISBLANK(C50104)),\"\",VLOOKUP(C50104,Sheet2!A:F,2,FALSE))","v":""},{"$f":"IF(OR(C50104=\"\",ISBLANK(C50104)),\"\",VLOOKUP(C50104,Sheet2!A:G,4,FALSE))","v":""},null,null,{"$f":"IF(OR(C50104=\"\",ISBLANK(C50104)),\"\",VLOOKUP(C50104,Sheet2!A:F,3,FALSE))","v":""},{"$f":"IF(OR(C50104=\"\",ISBLANK(C50104)),\"\",VLOOKUP(C50104,Sheet2!A:G,6,FALSE))","v":""},""]
[{"$f":"IF(OR(C50105=\"\",ISBLANK(C50105)),\"\",VLOOKUP(C50105,Sheet2!A:F,2,FALSE))","v":""},{"$f":"IF(OR(C50105=\"\",ISBLANK(C50105)),\"\",VLOOKUP(C50105,Sheet2!A:G,4,FALSE))","v":""},null,null,{"$f":"IF(OR(C50105=\"\",ISBLANK(C50105)),\"\",VLOOKUP(C50105,Sheet2!A:F,3,FALSE))","v":""},{"$f":"IF(OR(C50105=\"\",ISBLANK(C50105)),\"\",VLOOKUP(C50105,Sheet2!A:G,6,FALSE))","v":""},""]
[{"$f":"IF(OR(C50106=\"\",ISBLANK(C50106)),\"\",VLOOKUP(C50106,Sheet2!A:F,2,FALSE))","v":""},{"$f":"IF(OR(C50106=\"\",ISBLANK(C50106)),\"\",VLOOKUP(C50106,Sheet2!A:G,4,FALSE))","v":""},null,null,{"$f":"IF(OR(C50106=\"\",ISBLANK(C50106)),\"\",VLOOKUP(C50106,Sheet2!A:F,3,FALSE))","v":""},{"$f":"IF(OR(C50106=\"\",ISBLANK(C50106)),\"\",VLOOKUP(C50106,Sheet2!A:G,6,FALSE))","v":""},""]
[{"$f":"IF(OR(C50107=\"\",ISBLANK(C50107)),\"\",VLOOKUP(C50107,Sheet2!A:F,2,FALSE))","v":""},{"$f":"IF(OR(C50107=\"\",ISBLANK(C50107)),\"\",VLOOKUP(C50107,Sheet2!A:G,4,FALSE))","v":""},null,null,{"$f":"IF(OR(C50107=\"\",ISBLANK(C50107)),\"\",VLOOKUP(C50107,Sheet2!A:F,3,FALSE))","v":""},{"$f":"IF(OR(C50107=\"\",ISBLANK(C50107)),\"\",VLOOKUP(C50107,Sheet2!A:G,6,FALSE))","v":""},""]
[{"$f":"IF(OR(C50108=\"\",ISBLANK(C50108)),\"\",VLOOKUP(C50108,Sheet2!A:F,2,FALSE))","v":""},{"$f":"IF(OR(C50108=\"\",ISBLANK(C50108)),\"\",VLOOKUP(C50108,Sheet2!A:G,4,FALSE))","v":""},null,null,{"$f":"IF(OR(C50108=\"\",ISBLANK(C50108)),\"\",VLOOKUP(C50108,Sheet2!A:F,3,FALSE))","v":""},{"$f":"IF(OR(C50108=\"\",ISBLANK(C50108)),\"\",VLOOKUP(C50108,Sheet2!A:G,6,FALSE))","v":""},""]
[{"$f":"IF(OR(C50109=\"\",ISBLANK(C50109)),\"\",VLOOKUP(C50109,Sheet2!A:F,2,FALSE))","v":""},{"$f":"IF(OR(C50109=\"\",ISBLANK(C50109)),\"\",VLOOKUP(C50109,Sheet2!A:G,4,FALSE))","v":""},null,null,{"$f":"IF(OR(C50109=\"\",ISBLANK(C50109)),\"\",VLOOKUP(C50109,Sheet2!A:F,3,FALSE))","v":""},{"$f":"IF(OR(C50109=\"\",ISBLANK(C50109)),\"\",VLOOKUP(C50109,Sheet2!A:G,6,FALSE))","v":""},""]
[{"$f":"IF(OR(C50110=\"\",ISBLANK(C50110)),\"\",VLOOKUP(C50110,Sheet2!A:F,2,FALSE))","v":""},{"$f":"IF(OR(C50110=\"\",ISBLANK(C50110)),\"\",VLOOKUP(C50110,Sheet2!A:G,4,FALSE))","v":""},null,null,{"$f":"IF(OR(C50110=\"\",ISBLANK(C50110)),\"\",VLOOKUP(C50110,Sheet2!A:F,3,FALSE))","v":""},{"$f":"IF(OR(C50110=\"\",ISBLANK(C50110)),\"\",VLOOKUP(C50110,Sheet2!A:G,6,FALSE))","v":""},""]
[{"$f":"IF(OR(C50111=\"\",ISBLANK(C50111)),\"\",VLOOKUP(C50111,Sheet2!A:F,2,FALSE))","v":""},{"$f":"IF(OR(C50111=\"\",ISBLANK(C50111)),\"\",VLOOKUP(C50111,Sheet2!A:G,4,FALSE))","v":""},null,null,{"$f":"IF(OR(C50111=\"\",ISBLANK(C50111)),\"\",VLOOKUP(C50111,Sheet2!A:F,3,FALSE))","v":""},{"$f":"IF(OR(C50111=\"\",ISBLANK(C50111)),\"\",VLOOKUP(C50111,Sheet2!A:G,6,FALSE))","v":""},""]
[{"$f":"IF(OR(C50112=\"\",ISBLANK(C50112)),\"\",VLOOKUP(C50112,Sheet2!A:F,2,FALSE))","v":""},{"$f":"IF(OR(C50112=\"\",ISBLANK(C50112)),\"\",VLOOKUP(C50112,Sheet2!A:G,4,FALSE))","v":""},null,null,{"$f":"IF(OR(C50112=\"\",ISBLANK(C50112)),\"\",VLOOKUP(C50112,Sheet2!A:F,3,FALSE))","v":""},{"$f":"IF(OR(C50112=\"\",ISBLANK(C50112)),\"\",VLOOKUP(C50112,Sheet2!A:G,6,FALSE))","v":""},""]
[{"$f":"IF(OR(C50113=\"\",ISBLANK(C50113)),\"\",VLOOKUP(C50113,Sheet2!A:F,2,FALSE))","v":""},{"$f":"IF(OR(C50113=\"\",ISBLANK(C50113)),\"\",VLOOKUP(C50113,Sheet2!A:G,4,FALSE))","v":""},null,null,{"$f":"IF(OR(C50113=\"\",ISBLANK(C50113)),\"\",VLOOKUP(C50113,Sheet2!A:F,3,FALSE))","v":""},{"$f":"IF(OR(C50113=\"\",ISBLANK(C50113)),\"\",VLOOKUP(C50113,Sheet2!A:G,6,FALSE))","v":""},""]
[{"$f":"IF(OR(C50114=\"\",ISBLANK(C50114)),\"\",VLOOKUP(C50114,Sheet2!A:F,2,FALSE))","v":""},{"$f":"IF(OR(C50114=\"\",ISBLANK(C50114)),\"\",VLOOKUP(C50114,Sheet2!A:G,4,FALSE))","v":""},null,null,{"$f":"IF(OR(C50114=\"\",ISBLANK(C50114)),\"\",VLOOKUP(C50114,Sheet2!A:F,3,FALSE))","v":""},{"$f":"IF(OR(C50114=\"\",ISBLANK(C50114)),\"\",VLOOKUP(C50114,Sheet2!A:G,6,FALSE))","v":""},""]
[{"$f":"IF(OR(C50115=\"\",ISBLANK(C50115)),\"\",VLOOKUP(C50115,Sheet2!A:F,2,FALSE))","v":""},{"$f":"IF(OR(C50115=\"\",ISBLANK(C50115)),\"\",VLOOKUP(C50115,Sheet2!A:G,4,FALSE))","v":""},null,null,{"$f":"IF(OR(C50115=\"\",ISBLANK(C50115)),\"\",VLOOKUP(C50115,Sheet2!A:F,3,FALSE))","v":""},{"$f":"IF(OR(C50115=\"\",ISBLANK(C50115)),\"\",VLOOKUP(C50115,Sheet2!A:G,6,FALSE))","v":""},{"$f":"IF(F50115=0,\"\",F50115)","v":""}]
[{"$f":"IF(OR(C50116=\"\",ISBLANK(C50116)),\"\",VLOOKUP(C50116,Sheet2!A:F,2,FALSE))","v":""},{"$f":"IF(OR(C50116=\"\",ISBLANK(C50116)),\"\",VLOOKUP(C50116,Sheet2!A:G,4,FALSE))","v":""},null,null,{"$f":"IF(OR(C50116=\"\",ISBLANK(C50116)),\"\",VLOOKUP(C50116,Sheet2!A:F,3,FALSE))","v":""},{"$f":"IF(OR(C50116=\"\",ISBLANK(C50116)),\"\",VLOOKUP(C50116,Sheet2!A:G,6,FALSE))","v":""},""]
[{"$f":"IF(OR(C50117=\"\",ISBLANK(C50117)),\"\",VLOOKUP(C50117,Sheet2!A:F,2,FALSE))","v":""},{"$f":"IF(OR(C50117=\"\",ISBLANK(C50117)),\"\",VLOOKUP(C50117,Sheet2!A:G,4,FALSE))","v":""},null,null,{"$f":"IF(OR(C50117=\"\",ISBLANK(C50117)),\"\",VLOOKUP(C50117,Sheet2!A:F,3,FALSE))","v":""},{"$f":"IF(OR(C50117=\"\",ISBLANK(C50117)),\"\",VLOOKUP(C50117,Sheet2!A:G,6,FALSE))","v":""},""]
[{"$f":"IF(OR(C50118=\"\",ISBLANK(C50118)),\"\",VLOOKUP(C50118,Sheet2!A:F,2,FALSE))","v":""},{"$f":"IF(OR(C50118=\"\",ISBLANK(C50118)),\"\",VLOOKUP(C50118,Sheet2!A:G,4,FALSE))","v":""},null,null,{"$f":"IF(OR(C50118=\"\",ISBLANK(C50118)),\"\",VLOOKUP(C50118,Sheet2!A:F,3,FALSE))","v":""},{"$f":"IF(OR(C50118=\"\",ISBLANK(C50118)),\"\",VLOOKUP(C50118,Sheet2!A:G,6,FALSE))","v":""},""]
[{"$f":"IF(OR(C50119=\"\",ISBLANK(C50119)),\"\",VLOOKUP(C50119,Sheet2!A:F,2,FALSE))","v":""},{"$f":"IF(OR(C50119=\"\",ISBLANK(C50119)),\"\",VLOOKUP(C50119,Sheet2!A:G,4,FALSE))","v":""},null,null,{"$f":"IF(OR(C50119=\"\",ISBLANK(C50119)),\"\",VLOOKUP(C50119,Sheet2!A:F,3,FALSE))","v":""},{"$f":"IF(OR(C50119=\"\",ISBLANK(C50119)),\"\",VLOOKUP(C50119,Sheet2!A:G,6,FALSE))","v":""},""]
[{"$f":"IF(OR(C50120=\"\",ISBLANK(C50120)),\"\",VLOOKUP(C50120,Sheet2!A:F,2,FALSE))","v":""},{"$f":"IF(OR(C50120=\"\",ISBLANK(C50120)),\"\",VLOOKUP(C50120,Sheet2!A:G,4,FALSE))","v":""},null,null,{"$f":"IF(OR(C50120=\"\",ISBLANK(C50120)),\"\",VLOOKUP(C50120,Sheet2!A:F,3,FALSE))","v":""},{"$f":"IF(OR(C50120=\"\",ISBLANK(C50120)),\"\",VLOOKUP(C50120,Sheet2!A:G,6,FALSE))","v":""},""]
[{"$f":"IF(OR(C50121=\"\",ISBLANK(C50121)),\"\",VLOOKUP(C50121,Sheet2!A:F,2,FALSE))","v":""},{"$f":"IF(OR(C50121=\"\",ISBLANK(C50121)),\"\",VLOOKUP(C50121,Sheet2!A:G,4,FALSE))","v":""},null,null,{"$f":"IF(OR(C50121=\"\",ISBLANK(C50121)),\"\",VLOOKUP(C50121,Sheet2!A:F,3,FALSE))","v":""},{"$f":"IF(OR(C50121=\"\",ISBLANK(C50121)),\"\",VLOOKUP(C50121,Sheet2!A:G,6,FALSE))","v":""},""]
[{"$f":"IF(OR(C50122=\"\",ISBLANK(C50122)),\"\",VLOOKUP(C50122,Sheet2!A:F,2,FALSE))","v":""},{"$f":"IF(OR(C50122=\"\",ISBLANK(C50122)),\"\",VLOOKUP(C50122,Sheet2!A:G,4,FALSE))","v":""},null,null,{"$f":"IF(OR(C50122=\"\",ISBLANK(C50122)),\"\",VLOOKUP(C50122,Sheet2!A:F,3,FALSE))","v":""},{"$f":"IF(OR(C50122=\"\",ISBLANK(C50122)),\"\",VLOOKUP(C50122,Sheet2!A:G,6,FALSE))","v":""},""]
[{"$f":"IF(OR(C50123=\"\",ISBLANK(C50123)),\"\",VLOOKUP(C50123,Sheet2!A:F,2,FALSE))","v":""},{"$f":"IF(OR(C50123=\"\",ISBLANK(C50123)),\"\",VLOOKUP(C50123,Sheet2!A:G,4,FALSE))","v":""},null,null,{"$f":"IF(OR(C50123=\"\",ISBLANK(C50123)),\"\",VLOOKUP(C50123,Sheet2!A:F,3,FALSE))","v":""},{"$f":"IF(OR(C50123=\"\",ISBLANK(C50123)),\"\",VLOOKUP(C50123,Sheet2!A:G,6,FALSE))","v":""},""]
[{"$f":"IF(OR(C50124=\"\",ISBLANK(C50124)),\"\",VLOOKUP(C50124,Sheet2!A:F,2,FALSE))","v":""},{"$f":"IF(OR(C50124=\"\",ISBLANK(C50124)),\"\",VLOOKUP(C50124,Sheet2!A:G,4,FALSE))","v":""},null,null,{"$f":"IF(OR(C50124=\"\",ISBLANK(C50124)),\"\",VLOOKUP(C50124,Sheet2!A:F,3,FALSE))","v":""},{"$f":"IF(OR(C50124=\"\",ISBLANK(C50124)),\"\",VLOOKUP(C50124,Sheet2!A:G,6,FALSE))","v":""},""]
[{"$f":"IF(OR(C50125=\"\",ISBLANK(C50125)),\"\",VLOOKUP(C50125,Sheet2!A:F,2,FALSE))","v":""},{"$f":"IF(OR(C50125=\"\",ISBLANK(C50125)),\"\",VLOOKUP(C50125,Sheet2!A:G,4,FALSE))","v":""},null,null,{"$f":"IF(OR(C50125=\"\",ISBLANK(C50125)),\"\",VLOOKUP(C50125,Sheet2!A:F,3,FALSE))","v":""},{"$f":"IF(OR(C50125=\"\",ISBLANK(C50125)),\"\",VLOOKUP(C50125,Sheet2!A:G,6,FALSE))","v":""},""]
[{"$f":"IF(OR(C50126=\"\",ISBLANK(C50126)),\"\",VLOOKUP(C50126,Sheet2!A:F,2,FALSE))","v":""},{"$f":"IF(OR(C50126=\"\",ISBLANK(C50126)),\"\",VLOOKUP(C50126,Sheet2!A:G,4,FALSE))","v":""},null,null,{"$f":"IF(OR(C50126=\"\",ISBLANK(C50126)),\"\",VLOOKUP(C50126,Sheet2!A:F,3,FALSE))","v":""},{"$f":"IF(OR(C50126=\"\",ISBLANK(C50126)),\"\",VLOOKUP(C50126,Sheet2!A:G,6,FALSE))","v":""},""]
[{"$f":"IF(OR(C50127=\"\",ISBLANK(C50127)),\"\",VLOOKUP(C50127,Sheet2!A:F,2,FALSE))","v":""},{"$f":"IF(OR(C50127=\"\",ISBLANK(C50127)),\"\",VLOOKUP(C50127,Sheet2!A:G,4,FALSE))","v":""},null,null,{"$f":"IF(OR(C50127=\"\",ISBLANK(C50127)),\"\",VLOOKUP(C50127,Sheet2!A:F,3,FALSE))","v":""},{"$f":"IF(OR(C50127=\"\",ISBLANK(C50127)),\"\",VLOOKUP(C50127,Sheet2!A:G,6,FALSE))","v":""},""]
[{"$f":"IF(OR(C50128=\"\",ISBLANK(C50128)),\"\",VLOOKUP(C50128,Sheet2!A:F,2,FALSE))","v":""},{"$f":"IF(OR(C50128=\"\",ISBLANK(C50128)),\"\",VLOOKUP(C50128,Sheet2!A:G,4,FALSE))","v":""},null,null,{"$f":"IF(OR(C50128=\"\",ISBLANK(C50128)),\"\",VLOOKUP(C50128,Sheet2!A:F,3,FALSE))","v":""},{"$f":"IF(OR(C50128=\"\",ISBLANK(C50128)),\"\",VLOOKUP(C50128,Sheet2!A:G,6,FALSE))","v":""},""]
[{"$f":"IF(OR(C50129=\"\",ISBLANK(C50129)),\"\",VLOOKUP(C50129,Sheet2!A:F,2,FALSE))","v":""},{"$f":"IF(OR(C50129=\"\",ISBLANK(C50129)),\"\",VLOOKUP(C50129,Sheet2!A:G,4,FALSE))","v":""},null,null,{"$f":"IF(OR(C50129=\"\",ISBLANK(C50129)),\"\",VLOOKUP(C50129,Sheet2!A:F,3,FALSE))","v":""},{"$f":"IF(OR(C50129=\"\",ISBLANK(C50129)),\"\",VLOOKUP(C50129,Sheet2!A:G,6,FALSE))","v":""},""]
[{"$f":"IF(OR(C50130=\"\",ISBLANK(C50130)),\"\",VLOOKUP(C50130,Sheet2!A:F,2,FALSE))","v":""},{"$f":"IF(OR(C50130=\"\",ISBLANK(C50130)),\"\",VLOOKUP(C50130,Sheet2!A:G,4,FALSE))","v":""},null,null,{"$f":"IF(OR(C50130=\"\",ISBLANK(C50130)),\"\",VLOOKUP(C50130,Sheet2!A:F,3,FALSE))","v":""},{"$f":"IF(OR(C50130=\"\",ISBLANK(C50130)),\"\",VLOOKUP(C50130,Sheet2!A:G,6,FALSE))","v":""},""]
[{"$f":"IF(OR(C50131=\"\",ISBLANK(C50131)),\"\",VLOOKUP(C50131,Sheet2!A:F,2,FALSE))","v":""},{"$f":"IF(OR(C50131=\"\",ISBLANK(C50131)),\"\",VLOOKUP(C50131,Sheet2!A:G,4,FALSE))","v":""},null,null,{"$f":"IF(OR(C50131=\"\",ISBLANK(C50131)),\"\",VLOOKUP(C50131,Sheet2!A:F,3,FALSE))","v":""},{"$f":"IF(OR(C50131=\"\",ISBLANK(C50131)),\"\",VLOOKUP(C50131,Sheet2!A:G,6,FALSE))","v":""},""]
[{"$f":"IF(OR(C50132=\"\",ISBLANK(C50132)),\"\",VLOOKUP(C50132,Sheet2!A:F,2,FALSE))","v":""},{"$f":"IF(OR(C50132=\"\",ISBLANK(C50132)),\"\",VLOOKUP(C50132,Sheet2!A:G,4,FALSE))","v":""},null,null,{"$f":"IF(OR(C50132=\"\",ISBLANK(C50132)),\"\",VLOOKUP(C50132,Sheet2!A:F,3,FALSE))","v":""},{"$f":"IF(OR(C50132=\"\",ISBLANK(C50132)),\"\",VLOOKUP(C50132,Sheet2!A:G,6,FALSE))","v":""},""]
[{"$f":"IF(OR(C50133=\"\",ISBLANK(C50133)),\"\",VLOOKUP(C50133,Sheet2!A:F,2,FALSE))","v":""},{"$f":"IF(OR(C50133=\"\",ISBLANK(C50133)),\"\",VLOOKUP(C50133,Sheet2!A:G,4,FALSE))","v":""},null,null,{"$f":"IF(OR(C50133=\"\",ISBLANK(C50133)),\"\",VLOOKUP(C50133,Sheet2!A:F,3,FALSE))","v":""},{"$f":"IF(OR(C50133=\"\",ISBLANK(C50133)),\"\",VLOOKUP(C50133,Sheet2!A:G,6,FALSE))","v":""},""]
[{"$f":"IF(OR(C50134=\"\",ISBLANK(C50134)),\"\",VLOOKUP(C50134,Sheet2!A:F,2,FALSE))","v":""},{"$f":"IF(OR(C50134=\"\",ISBLANK(C50134)),\"\",VLOOKUP(C50134,Sheet2!A:G,4,FALSE))","v":""},null,null,{"$f":"IF(OR(C50134=\"\",ISBLANK(C50134)),\"\",VLOOKUP(C50134,Sheet2!A:F,3,FALSE))","v":""},{"$f":"IF(OR(C50134=\"\",ISBLANK(C50134)),\"\",VLOOKUP(C50134,Sheet2!A:G,6,FALSE))","v":""},""]
[{"$f":"IF(OR(C50135=\"\",ISBLANK(C50135)),\"\",VLOOKUP(C50135,Sheet2!A:F,2,FALSE))","v":""},{"$f":"IF(OR(C50135=\"\",ISBLANK(C50135)),\"\",VLOOKUP(C50135,Sheet2!A:G,4,FALSE))","v":""},null,null,{"$f":"IF(OR(C50135=\"\",ISBLANK(C50135)),\"\",VLOOKUP(C50135,Sheet2!A:F,3,FALSE))","v":""},{"$f":"IF(OR(C50135=\"\",ISBLANK(C50135)),\"\",VLOOKUP(C50135,Sheet2!A:G,6,FALSE))","v":""},""]
[{"$f":"IF(OR(C50136=\"\",ISBLANK(C50136)),\"\",VLOOKUP(C50136,Sheet2!A:F,2,FALSE))","v":""},{"$f":"IF(OR(C50136=\"\",ISBLANK(C50136)),\"\",VLOOKUP(C50136,Sheet2!A:G,4,FALSE))","v":""},null,null,{"$f":"IF(OR(C50136=\"\",ISBLANK(C50136)),\"\",VLOOKUP(C50136,Sheet2!A:F,3,FALSE))","v":""},{"$f":"IF(OR(C50136=\"\",ISBLANK(C50136)),\"\",VLOOKUP(C50136,Sheet2!A:G,6,FALSE))","v":""},""]
[{"$f":"IF(OR(C50137=\"\",ISBLANK(C50137)),\"\",VLOOKUP(C50137,Sheet2!A:F,2,FALSE))","v":""},{"$f":"IF(OR(C50137=\"\",ISBLANK(C50137)),\"\",VLOOKUP(C50137,Sheet2!A:G,4,FALSE))","v":""},null,null,{"$f":"IF(OR(C50137=\"\",ISBLANK(C50137)),\"\",VLOOKUP(C50137,Sheet2!A:F,3,FALSE))","v":""},{"$f":"IF(OR(C50137=\"\",ISBLANK(C50137)),\"\",VLOOKUP(C50137,Sheet2!A:G,6,FALSE))","v":""},""]
[{"$f":"IF(OR(C50138=\"\",ISBLANK(C50138)),\"\",VLOOKUP(C50138,Sheet2!A:F,2,FALSE))","v":""},{"$f":"IF(OR(C50138=\"\",ISBLANK(C50138)),\"\",VLOOKUP(C50138,Sheet2!A:G,4,FALSE))","v":""},null,null,{"$f":"IF(OR(C50138=\"\",ISBLANK(C50138)),\"\",VLOOKUP(C50138,Sheet2!A:F,3,FALSE))","v":""},{"$f":"IF(OR(C50138=\"\",ISBLANK(C50138)),\"\",VLOOKUP(C50138,Sheet2!A:G,6,FALSE))","v":""},""]
[{"$f":"IF(OR(C50139=\"\",ISBLANK(C50139)),\"\",VLOOKUP(C50139,Sheet2!A:F,2,FALSE))","v":""},{"$f":"IF(OR(C50139=\"\",ISBLANK(C50139)),\"\",VLOOKUP(C50139,Sheet2!A:G,4,FALSE))","v":""},null,null,{"$f":"IF(OR(C50139=\"\",ISBLANK(C50139)),\"\",VLOOKUP(C50139,Sheet2!A:F,3,FALSE))","v":""},{"$f":"IF(OR(C50139=\"\",ISBLANK(C50139)),\"\",VLOOKUP(C50139,Sheet2!A:G,6,FALSE))","v":""},""]
[{"$f":"IF(OR(C50140=\"\",ISBLANK(C50140)),\"\",VLOOKUP(C50140,Sheet2!A:F,2,FALSE))","v":""},{"$f":"IF(OR(C50140=\"\",ISBLANK(C50140)),\"\",VLOOKUP(C50140,Sheet2!A:G,4,FALSE))","v":""},null,null,{"$f":"IF(OR(C50140=\"\",ISBLANK(C50140)),\"\",VLOOKUP(C50140,Sheet2!A:F,3,FALSE))","v":""},{"$f":"IF(OR(C50140=\"\",ISBLANK(C50140)),\"\",VLOOKUP(C50140,Sheet2!A:G,6,FALSE))","v":""},""]
[{"$f":"IF(OR(C50141=\"\",ISBLANK(C50141)),\"\",VLOOKUP(C50141,Sheet2!A:F,2,FALSE))","v":""},{"$f":"IF(OR(C50141=\"\",ISBLANK(C50141)),\"\",VLOOKUP(C50141,Sheet2!A:G,4,FALSE))","v":""},null,null,{"$f":"IF(OR(C50141=\"\",ISBLANK(C50141)),\"\",VLOOKUP(C50141,Sheet2!A:F,3,FALSE))","v":""},{"$f":"IF(OR(C50141=\"\",ISBLANK(C50141)),\"\",VLOOKUP(C50141,Sheet2!A:G,6,FALSE))","v":""},""]
[{"$f":"IF(OR(C50142=\"\",ISBLANK(C50142)),\"\",VLOOKUP(C50142,Sheet2!A:F,2,FALSE))","v":""},{"$f":"IF(OR(C50142=\"\",ISBLANK(C50142)),\"\",VLOOKUP(C50142,Sheet2!A:G,4,FALSE))","v":""},null,null,{"$f":"IF(OR(C50142=\"\",ISBLANK(C50142)),\"\",VLOOKUP(C50142,Sheet2!A:F,3,FALSE))","v":""},{"$f":"IF(OR(C50142=\"\",ISBLANK(C50142)),\"\",VLOOKUP(C50142,Sheet2!A:G,6,FALSE))","v":""},""]
[{"$f":"IF(OR(C50143=\"\",ISBLANK(C50143)),\"\",VLOOKUP(C50143,Sheet2!A:F,2,FALSE))","v":""},{"$f":"IF(OR(C50143=\"\",ISBLANK(C50143)),\"\",VLOOKUP(C50143,Sheet2!A:G,4,FALSE))","v":""},null,null,{"$f":"IF(OR(C50143=\"\",ISBLANK(C50143)),\"\",VLOOKUP(C50143,Sheet2!A:F,3,FALSE))","v":""},{"$f":"IF(OR(C50143=\"\",ISBLANK(C50143)),\"\",VLOOKUP(C50143,Sheet2!A:G,6,FALSE))","v":""},""]
[{"$f":"IF(OR(C50144=\"\",ISBLANK(C50144)),\"\",VLOOKUP(C50144,Sheet2!A:F,2,FALSE))","v":""},{"$f":"IF(OR(C50144=\"\",ISBLANK(C50144)),\"\",VLOOKUP(C50144,Sheet2!A:G,4,FALSE))","v":""},null,null,{"$f":"IF(OR(C50144=\"\",ISBLANK(C50144)),\"\",VLOOKUP(C50144,Sheet2!A:F,3,FALSE))","v":""},{"$f":"IF(OR(C50144=\"\",ISBLANK(C50144)),\"\",VLOOKUP(C50144,Sheet2!A:G,6,FALSE))","v":""},""]
[{"$f":"IF(OR(C50145=\"\",ISBLANK(C50145)),\"\",VLOOKUP(C50145,Sheet2!A:F,2,FALSE))","v":""},{"$f":"IF(OR(C50145=\"\",ISBLANK(C50145)),\"\",VLOOKUP(C50145,Sheet2!A:G,4,FALSE))","v":""},null,null,{"$f":"IF(OR(C50145=\"\",ISBLANK(C50145)),\"\",VLOOKUP(C50145,Sheet2!A:F,3,FALSE))","v":""},{"$f":"IF(OR(C50145=\"\",ISBLANK(C50145)),\"\",VLOOKUP(C50145,Sheet2!A:G,6,FALSE))","v":""},""]
[{"$f":"IF(OR(C50146=\"\",ISBLANK(C50146)),\"\",VLOOKUP(C50146,Sheet2!A:F,2,FALSE))","v":""},{"$f":"IF(OR(C50146=\"\",ISBLANK(C50146)),\"\",VLOOKUP(C50146,Sheet2!A:G,4,FALSE))","v":""},null,null,{"$f":"IF(OR(C50146=\"\",ISBLANK(C50146)),\"\",VLOOKUP(C50146,Sheet2!A:F,3,FALSE))","v":""},{"$f":"IF(OR(C50146=\"\",ISBLANK(C50146)),\"\",VLOOKUP(C50146,Sheet2!A:G,6,FALSE))","v":""},""]
[{"$f":"IF(OR(C50147=\"\",ISBLANK(C50147)),\"\",VLOOKUP(C50147,Sheet2!A:F,2,FALSE))","v":""},{"$f":"IF(OR(C50147=\"\",ISBLANK(C50147)),\"\",VLOOKUP(C50147,Sheet2!A:G,4,FALSE))","v":""},null,null,{"$f":"IF(OR(C50147=\"\",ISBLANK(C50147)),\"\",VLOOKUP(C50147,Sheet2!A:F,3,FALSE))","v":""},{"$f":"IF(OR(C50147=\"\",ISBLANK(C50147)),\"\",VLOOKUP(C50147,Sheet2!A:G,6,FALSE))","v":""},""]
[{"$f":"IF(OR(C50148=\"\",ISBLANK(C50148)),\"\",VLOOKUP(C50148,Sheet2!A:F,2,FALSE))","v":""},{"$f":"IF(OR(C50148=\"\",ISBLANK(C50148)),\"\",VLOOKUP(C50148,Sheet2!A:G,4,FALSE))","v":""},null,null,{"$f":"IF(OR(C50148=\"\",ISBLANK(C50148)),\"\",VLOOKUP(C50148,Sheet2!A:F,3,FALSE))","v":""},{"$f":"IF(OR(C50148=\"\",ISBLANK(C50148)),\"\",VLOOKUP(C50148,Sheet2!A:G,6,FALSE))","v":""},""]
[{"$f":"IF(OR(C50149=\"\",ISBLANK(C50149)),\"\",VLOOKUP(C50149,Sheet2!A:F,2,FALSE))","v":""},{"$f":"IF(OR(C50149=\"\",ISBLANK(C50149)),\"\",VLOOKUP(C50149,Sheet2!A:G,4,FALSE))","v":""},null,null,{"$f":"IF(OR(C50149=\"\",ISBLANK(C50149)),\"\",VLOOKUP(C50149,Sheet2!A:F,3,FALSE))","v":""},{"$f":"IF(OR(C50149=\"\",ISBLANK(C50149)),\"\",VLOOKUP(C50149,Sheet2!A:G,6,FALSE))","v":""},""]
[{"$f":"IF(OR(C50150=\"\",ISBLANK(C50150)),\"\",VLOOKUP(C50150,Sheet2!A:F,2,FALSE))","v":""},{"$f":"IF(OR(C50150=\"\",ISBLANK(C50150)),\"\",VLOOKUP(C50150,Sheet2!A:G,4,FALSE))","v":""},null,null,{"$f":"IF(OR(C50150=\"\",ISBLANK(C50150)),\"\",VLOOKUP(C50150,Sheet2!A:F,3,FALSE))","v":""},{"$f":"IF(OR(C50150=\"\",ISBLANK(C50150)),\"\",VLOOKUP(C50150,Sheet2!A:G,6,FALSE))","v":""},""]
[{"$f":"IF(OR(C50151=\"\",ISBLANK(C50151)),\"\",VLOOKUP(C50151,Sheet2!A:F,2,FALSE))","v":""},{"$f":"IF(OR(C50151=\"\",ISBLANK(C50151)),\"\",VLOOKUP(C50151,Sheet2!A:G,4,FALSE))","v":""},null,null,{"$f":"IF(OR(C50151=\"\",ISBLANK(C50151)),\"\",VLOOKUP(C50151,Sheet2!A:F,3,FALSE))","v":""},{"$f":"IF(OR(C50151=\"\",ISBLANK(C50151)),\"\",VLOOKUP(C50151,Sheet2!A:G,6,FALSE))","v":""},""]
[{"$f":"IF(OR(C50152=\"\",ISBLANK(C50152)),\"\",VLOOKUP(C50152,Sheet2!A:F,2,FALSE))","v":""},{"$f":"IF(OR(C50152=\"\",ISBLANK(C50152)),\"\",VLOOKUP(C50152,Sheet2!A:G,4,FALSE))","v":""},null,null,{"$f":"IF(OR(C50152=\"\",ISBLANK(C50152)),\"\",VLOOKUP(C50152,Sheet2!A:F,3,FALSE))","v":""},{"$f":"IF(OR(C50152=\"\",ISBLANK(C50152)),\"\",VLOOKUP(C50152,Sheet2!A:G,6,FALSE))","v":""},""]
[{"$f":"IF(OR(C50153=\"\",ISBLANK(C50153)),\"\",VLOOKUP(C50153,Sheet2!A:F,2,FALSE))","v":""},{"$f":"IF(OR(C50153=\"\",ISBLANK(C50153)),\"\",VLOOKUP(C50153,Sheet2!A:G,4,FALSE))","v":""},null,null,{"$f":"IF(OR(C50153=\"\",ISBLANK(C50153)),\"\",VLOOKUP(C50153,Sheet2!A:F,3,FALSE))","v":""},{"$f":"IF(OR(C50153=\"\",ISBLANK(C50153)),\"\",VLOOKUP(C50153,Sheet2!A:G,6,FALSE))","v":""},""]
[{"$f":"IF(OR(C50154=\"\",ISBLANK(C50154)),\"\",VLOOKUP(C50154,Sheet2!A:F,2,FALSE))","v":""},{"$f":"IF(OR(C50154=\"\",ISBLANK(C50154)),\"\",VLOOKUP(C50154,Sheet2!A:G,4,FALSE))","v":""},null,null,{"$f":"IF(OR(C50154=\"\",ISBLANK(C50154)),\"\",VLOOKUP(C50154,Sheet2!A:F,3,FALSE))","v":""},{"$f":"IF(OR(C50154=\"\",ISBLANK(C50154)),\"\",VLOOKUP(C50154,Sheet2!A:G,6,FALSE))","v":""},""]
[{"$f":"IF(OR(C50155=\"\",ISBLANK(C50155)),\"\",VLOOKUP(C50155,Sheet2!A:F,2,FALSE))","v":""},{"$f":"IF(OR(C50155=\"\",ISBLANK(C50155)),\"\",VLOOKUP(C50155,Sheet2!A:G,4,FALSE))","v":""},null,null,{"$f":"IF(OR(C50155=\"\",ISBLANK(C50155)),\"\",VLOOKUP(C50155,Sheet2!A:F,3,FALSE))","v":""},{"$f":"IF(OR(C50155=\"\",ISBLANK(C50155)),\"\",VLOOKUP(C50155,Sheet2!A:G,6,FALSE))","v":""},""]
[{"$f":"IF(OR(C50156=\"\",ISBLANK(C50156)),\"\",VLOOKUP(C50156,Sheet2!A:F,2,FALSE))","v":""},{"$f":"IF(OR(C50156=\"\",ISBLANK(C50156)),\"\",VLOOKUP(C50156,Sheet2!A:G,4,FALSE))","v":""},null,null,{"$f":"IF(OR(C50156=\"\",ISBLANK(C50156)),\"\",VLOOKUP(C50156,Sheet2!A:F,3,FALSE))","v":""},{"$f":"IF(OR(C50156=\"\",ISBLANK(C50156)),\"\",VLOOKUP(C50156,Sheet2!A:G,6,FALSE))","v":""},""]
[{"$f":"IF(OR(C50157=\"\",ISBLANK(C50157)),\"\",VLOOKUP(C50157,Sheet2!A:F,2,FALSE))","v":""},{"$f":"IF(OR(C50157=\"\",ISBLANK(C50157)),\"\",VLOOKUP(C50157,Sheet2!A:G,4,FALSE))","v":""},null,null,{"$f":"IF(OR(C50157=\"\",ISBLANK(C50157)),\"\",VLOOKUP(C50157,Sheet2!A:F,3,FALSE))","v":""},{"$f":"IF(OR(C50157=\"\",ISBLANK(C50157)),\"\",VLOOKUP(C50157,Sheet2!A:G,6,FALSE))","v":""},""]
[{"$f":"IF(OR(C50158=\"\",ISBLANK(C50158)),\"\",VLOOKUP(C50158,Sheet2!A:F,2,FALSE))","v":""},{"$f":"IF(OR(C50158=\"\",ISBLANK(C50158)),\"\",VLOOKUP(C50158,Sheet2!A:G,4,FALSE))","v":""},null,null,{"$f":"IF(OR(C50158=\"\",ISBLANK(C50158)),\"\",VLOOKUP(C50158,Sheet2!A:F,3,FALSE))","v":""},{"$f":"IF(OR(C50158=\"\",ISBLANK(C50158)),\"\",VLOOKUP(C50158,Sheet2!A:G,6,FALSE))","v":""},""]
[{"$f":"IF(OR(C50159=\"\",ISBLANK(C50159)),\"\",VLOOKUP(C50159,Sheet2!A:F,2,FALSE))","v":""},{"$f":"IF(OR(C50159=\"\",ISBLANK(C50159)),\"\",VLOOKUP(C50159,Sheet2!A:G,4,FALSE))","v":""},null,null,{"$f":"IF(OR(C50159=\"\",ISBLANK(C50159)),\"\",VLOOKUP(C50159,Sheet2!A:F,3,FALSE))","v":""},{"$f":"IF(OR(C50159=\"\",ISBLANK(C50159)),\"\",VLOOKUP(C50159,Sheet2!A:G,6,FALSE))","v":""},""]
[{"$f":"IF(OR(C50160=\"\",ISBLANK(C50160)),\"\",VLOOKUP(C50160,Sheet2!A:F,2,FALSE))","v":""},{"$f":"IF(OR(C50160=\"\",ISBLANK(C50160)),\"\",VLOOKUP(C50160,Sheet2!A:G,4,FALSE))","v":""},null,null,{"$f":"IF(OR(C50160=\"\",ISBLANK(C50160)),\"\",VLOOKUP(C50160,Sheet2!A:F,3,FALSE))","v":""},{"$f":"IF(OR(C50160=\"\",ISBLANK(C50160)),\"\",VLOOKUP(C50160,Sheet2!A:G,6,FALSE))","v":""},""]
[{"$f":"IF(OR(C50161=\"\",ISBLANK(C50161)),\"\",VLOOKUP(C50161,Sheet2!A:F,2,FALSE))","v":""},{"$f":"IF(OR(C50161=\"\",ISBLANK(C50161)),\"\",VLOOKUP(C50161,Sheet2!A:G,4,FALSE))","v":""},null,null,{"$f":"IF(OR(C50161=\"\",ISBLANK(C50161)),\"\",VLOOKUP(C50161,Sheet2!A:F,3,FALSE))","v":""},{"$f":"IF(OR(C50161=\"\",ISBLANK(C50161)),\"\",VLOOKUP(C50161,Sheet2!A:G,6,FALSE))","v":""},""]
[{"$f":"IF(OR(C50162=\"\",ISBLANK(C50162)),\"\",VLOOKUP(C50162,Sheet2!A:F,2,FALSE))","v":""},{"$f":"IF(OR(C50162=\"\",ISBLANK(C50162)),\"\",VLOOKUP(C50162,Sheet2!A:G,4,FALSE))","v":""},null,null,{"$f":"IF(OR(C50162=\"\",ISBLANK(C50162)),\"\",VLOOKUP(C50162,Sheet2!A:F,3,FALSE))","v":""},{"$f":"IF(OR(C50162=\"\",ISBLANK(C50162)),\"\",VLOOKUP(C50162,Sheet2!A:G,6,FALSE))","v":""},""]
[{"$f":"IF(OR(C50163=\"\",ISBLANK(C50163)),\"\",VLOOKUP(C50163,Sheet2!A:F,2,FALSE))","v":""},{"$f":"IF(OR(C50163=\"\",ISBLANK(C50163)),\"\",VLOOKUP(C50163,Sheet2!A:G,4,FALSE))","v":""},null,null,{"$f":"IF(OR(C50163=\"\",ISBLANK(C50163)),\"\",VLOOKUP(C50163,Sheet2!A:F,3,FALSE))","v":""},{"$f":"IF(OR(C50163=\"\",ISBLANK(C50163)),\"\",VLOOKUP(C50163,Sheet2!A:G,6,FALSE))","v":""},""]
[{"$f":"IF(OR(C50164=\"\",ISBLANK(C50164)),\"\",VLOOKUP(C50164,Sheet2!A:F,2,FALSE))","v":""},{"$f":"IF(OR(C50164=\"\",ISBLANK(C50164)),\"\",VLOOKUP(C50164,Sheet2!A:G,4,FALSE))","v":""},null,null,{"$f":"IF(OR(C50164=\"\",ISBLANK(C50164)),\"\",VLOOKUP(C50164,Sheet2!A:F,3,FALSE))","v":""},{"$f":"IF(OR(C50164=\"\",ISBLANK(C50164)),\"\",VLOOKUP(C50164,Sheet2!A:G,6,FALSE))","v":""},""]
[{"$f":"IF(OR(C50165=\"\",ISBLANK(C50165)),\"\",VLOOKUP(C50165,Sheet2!A:F,2,FALSE))","v":""},{"$f":"IF(OR(C50165=\"\",ISBLANK(C50165)),\"\",VLOOKUP(C50165,Sheet2!A:G,4,FALSE))","v":""},null,null,{"$f":"IF(OR(C50165=\"\",ISBLANK(C50165)),\"\",VLOOKUP(C50165,Sheet2!A:F,3,FALSE))","v":""},{"$f":"IF(OR(C50165=\"\",ISBLANK(C50165)),\"\",VLOOKUP(C50165,Sheet2!A:G,6,FALSE))","v":""},""]
[{"$f":"IF(OR(C50166=\"\",ISBLANK(C50166)),\"\",VLOOKUP(C50166,Sheet2!A:F,2,FALSE))","v":""},{"$f":"IF(OR(C50166=\"\",ISBLANK(C50166)),\"\",VLOOKUP(C50166,Sheet2!A:G,4,FALSE))","v":""},null,null,{"$f":"IF(OR(C50166=\"\",ISBLANK(C50166)),\"\",VLOOKUP(C50166,Sheet2!A:F,3,FALSE))","v":""},{"$f":"IF(OR(C50166=\"\",ISBLANK(C50166)),\"\",VLOOKUP(C50166,Sheet2!A:G,6,FALSE))","v":""},""]
[{"$f":"IF(OR(C50167=\"\",ISBLANK(C50167)),\"\",VLOOKUP(C50167,Sheet2!A:F,2,FALSE))","v":""},{"$f":"IF(OR(C50167=\"\",ISBLANK(C50167)),\"\",VLOOKUP(C50167,Sheet2!A:G,4,FALSE))","v":""},null,null,{"$f":"IF(OR(C50167=\"\",ISBLANK(C50167)),\"\",VLOOKUP(C50167,Sheet2!A:F,3,FALSE))","v":""},{"$f":"IF(OR(C50167=\"\",ISBLANK(C50167)),\"\",VLOOKUP(C50167,Sheet2!A:G,6,FALSE))","v":""},""]
[{"$f":"IF(OR(C50168=\"\",ISBLANK(C50168)),\"\",VLOOKUP(C50168,Sheet2!A:F,2,FALSE))","v":""},{"$f":"IF(OR(C50168=\"\",ISBLANK(C50168)),\"\",VLOOKUP(C50168,Sheet2!A:G,4,FALSE))","v":""},null,null,{"$f":"IF(OR(C50168=\"\",ISBLANK(C50168)),\"\",VLOOKUP(C50168,Sheet2!A:F,3,FALSE))","v":""},{"$f":"IF(OR(C50168=\"\",ISBLANK(C50168)),\"\",VLOOKUP(C50168,Sheet2!A:G,6,FALSE))","v":""},""]
[{"$f":"IF(OR(C50169=\"\",ISBLANK(C50169)),\"\",VLOOKUP(C50169,Sheet2!A:F,2,FALSE))","v":""},{"$f":"IF(OR(C50169=\"\",ISBLANK(C50169)),\"\",VLOOKUP(C50169,Sheet2!A:G,4,FALSE))","v":""},null,null,{"$f":"IF(OR(C50169=\"\",ISBLANK(C50169)),\"\",VLOOKUP(C50169,Sheet2!A:F,3,FALSE))","v":""},{"$f":"IF(OR(C50169=\"\",ISBLANK(C50169)),\"\",VLOOKUP(C50169,Sheet2!A:G,6,FALSE))","v":""},""]
[{"$f":"IF(OR(C50170=\"\",ISBLANK(C50170)),\"\",VLOOKUP(C50170,Sheet2!A:F,2,FALSE))","v":""},{"$f":"IF(OR(C50170=\"\",ISBLANK(C50170)),\"\",VLOOKUP(C50170,Sheet2!A:G,4,FALSE))","v":""},null,null,{"$f":"IF(OR(C50170=\"\",ISBLANK(C50170)),\"\",VLOOKUP(C50170,Sheet2!A:F,3,FALSE))","v":""},{"$f":"IF(OR(C50170=\"\",ISBLANK(C50170)),\"\",VLOOKUP(C50170,Sheet2!A:G,6,FALSE))","v":""},""]
[{"$f":"IF(OR(C50171=\"\",ISBLANK(C50171)),\"\",VLOOKUP(C50171,Sheet2!A:F,2,FALSE))","v":""},{"$f":"IF(OR(C50171=\"\",ISBLANK(C50171)),\"\",VLOOKUP(C50171,Sheet2!A:G,4,FALSE))","v":""},null,null,{"$f":"IF(OR(C50171=\"\",ISBLANK(C50171)),\"\",VLOOKUP(C50171,Sheet2!A:F,3,FALSE))","v":""},{"$f":"IF(OR(C50171=\"\",ISBLANK(C50171)),\"\",VLOOKUP(C50171,Sheet2!A:G,6,FALSE))","v":""},""]
[{"$f":"IF(OR(C50172=\"\",ISBLANK(C50172)),\"\",VLOOKUP(C50172,Sheet2!A:F,2,FALSE))","v":""},{"$f":"IF(OR(C50172=\"\",ISBLANK(C50172)),\"\",VLOOKUP(C50172,Sheet2!A:G,4,FALSE))","v":""},null,null,{"$f":"IF(OR(C50172=\"\",ISBLANK(C50172)),\"\",VLOOKUP(C50172,Sheet2!A:F,3,FALSE))","v":""},{"$f":"IF(OR(C50172=\"\",ISBLANK(C50172)),\"\",VLOOKUP(C50172,Sheet2!A:G,6,FALSE))","v":""},""]
[{"$f":"IF(OR(C50173=\"\",ISBLANK(C50173)),\"\",VLOOKUP(C50173,Sheet2!A:F,2,FALSE))","v":""},{"$f":"IF(OR(C50173=\"\",ISBLANK(C50173)),\"\",VLOOKUP(C50173,Sheet2!A:G,4,FALSE))","v":""},null,null,{"$f":"IF(OR(C50173=\"\",ISBLANK(C50173)),\"\",VLOOKUP(C50173,Sheet2!A:F,3,FALSE))","v":""},{"$f":"IF(OR(C50173=\"\",ISBLANK(C50173)),\"\",VLOOKUP(C50173,Sheet2!A:G,6,FALSE))","v":""},""]
[{"$f":"IF(OR(C50174=\"\",ISBLANK(C50174)),\"\",VLOOKUP(C50174,Sheet2!A:F,2,FALSE))","v":""},{"$f":"IF(OR(C50174=\"\",ISBLANK(C50174)),\"\",VLOOKUP(C50174,Sheet2!A:G,4,FALSE))","v":""},null,null,{"$f":"IF(OR(C50174=\"\",ISBLANK(C50174)),\"\",VLOOKUP(C50174,Sheet2!A:F,3,FALSE))","v":""},{"$f":"IF(OR(C50174=\"\",ISBLANK(C50174)),\"\",VLOOKUP(C50174,Sheet2!A:G,6,FALSE))","v":""},""]
[{"$f":"IF(OR(C50175=\"\",ISBLANK(C50175)),\"\",VLOOKUP(C50175,Sheet2!A:F,2,FALSE))","v":""},{"$f":"IF(OR(C50175=\"\",ISBLANK(C50175)),\"\",VLOOKUP(C50175,Sheet2!A:G,4,FALSE))","v":""},null,null,{"$f":"IF(OR(C50175=\"\",ISBLANK(C50175)),\"\",VLOOKUP(C50175,Sheet2!A:F,3,FALSE))","v":""},{"$f":"IF(OR(C50175=\"\",ISBLANK(C50175)),\"\",VLOOKUP(C50175,Sheet2!A:G,6,FALSE))","v":""},""]
[{"$f":"IF(OR(C50176=\"\",ISBLANK(C50176)),\"\",VLOOKUP(C50176,Sheet2!A:F,2,FALSE))","v":""},{"$f":"IF(OR(C50176=\"\",ISBLANK(C50176)),\"\",VLOOKUP(C50176,Sheet2!A:G,4,FALSE))","v":""},null,null,{"$f":"IF(OR(C50176=\"\",ISBLANK(C50176)),\"\",VLOOKUP(C50176,Sheet2!A:F,3,FALSE))","v":""},{"$f":"IF(OR(C50176=\"\",ISBLANK(C50176)),\"\",VLOOKUP(C50176,Sheet2!A:G,6,FALSE))","v":""},""]
[{"$f":"IF(OR(C50177=\"\",ISBLANK(C50177)),\"\",VLOOKUP(C50177,Sheet2!A:F,2,FALSE))","v":""},{"$f":"IF(OR(C50177=\"\",ISBLANK(C50177)),\"\",VLOOKUP(C50177,Sheet2!A:G,4,FALSE))","v":""},null,null,{"$f":"IF(OR(C50177=\"\",ISBLANK(C50177)),\"\",VLOOKUP(C50177,Sheet2!A:F,3,FALSE))","v":""},{"$f":"IF(OR(C50177=\"\",ISBLANK(C50177)),\"\",VLOOKUP(C50177,Sheet2!A:G,6,FALSE))","v":""},""]
[{"$f":"IF(OR(C50178=\"\",ISBLANK(C50178)),\"\",VLOOKUP(C50178,Sheet2!A:F,2,FALSE))","v":""},{"$f":"IF(OR(C50178=\"\",ISBLANK(C50178)),\"\",VLOOKUP(C50178,Sheet2!A:G,4,FALSE))","v":""},null,null,{"$f":"IF(OR(C50178=\"\",ISBLANK(C50178)),\"\",VLOOKUP(C50178,Sheet2!A:F,3,FALSE))","v":""},{"$f":"IF(OR(C50178=\"\",ISBLANK(C50178)),\"\",VLOOKUP(C50178,Sheet2!A:G,6,FALSE))","v":""},""]
[{"$f":"IF(OR(C50179=\"\",ISBLANK(C50179)),\"\",VLOOKUP(C50179,Sheet2!A:F,2,FALSE))","v":""},{"$f":"IF(OR(C50179=\"\",ISBLANK(C50179)),\"\",VLOOKUP(C50179,Sheet2!A:G,4,FALSE))","v":""},null,null,{"$f":"IF(OR(C50179=\"\",ISBLANK(C50179)),\"\",VLOOKUP(C50179,Sheet2!A:F,3,FALSE))","v":""},{"$f":"IF(OR(C50179=\"\",ISBLANK(C50179)),\"\",VLOOKUP(C50179,Sheet2!A:G,6,FALSE))","v":""},{"$f":"IF(F50179=0,\"\",F50179)","v":""}]
[{"$f":"IF(OR(C50180=\"\",ISBLANK(C50180)),\"\",VLOOKUP(C50180,Sheet2!A:F,2,FALSE))","v":""},{"$f":"IF(OR(C50180=\"\",ISBLANK(C50180)),\"\",VLOOKUP(C50180,Sheet2!A:G,4,FALSE))","v":""},null,null,{"$f":"IF(OR(C50180=\"\",ISBLANK(C50180)),\"\",VLOOKUP(C50180,Sheet2!A:F,3,FALSE))","v":""},{"$f":"IF(OR(C50180=\"\",ISBLANK(C50180)),\"\",VLOOKUP(C50180,Sheet2!A:G,6,FALSE))","v":""},""]
[{"$f":"IF(OR(C50181=\"\",ISBLANK(C50181)),\"\",VLOOKUP(C50181,Sheet2!A:F,2,FALSE))","v":""},{"$f":"IF(OR(C50181=\"\",ISBLANK(C50181)),\"\",VLOOKUP(C50181,Sheet2!A:G,4,FALSE))","v":""},null,null,{"$f":"IF(OR(C50181=\"\",ISBLANK(C50181)),\"\",VLOOKUP(C50181,Sheet2!A:F,3,FALSE))","v":""},{"$f":"IF(OR(C50181=\"\",ISBLANK(C50181)),\"\",VLOOKUP(C50181,Sheet2!A:G,6,FALSE))","v":""},""]
[{"$f":"IF(OR(C50182=\"\",ISBLANK(C50182)),\"\",VLOOKUP(C50182,Sheet2!A:F,2,FALSE))","v":""},{"$f":"IF(OR(C50182=\"\",ISBLANK(C50182)),\"\",VLOOKUP(C50182,Sheet2!A:G,4,FALSE))","v":""},null,null,{"$f":"IF(OR(C50182=\"\",ISBLANK(C50182)),\"\",VLOOKUP(C50182,Sheet2!A:F,3,FALSE))","v":""},{"$f":"IF(OR(C50182=\"\",ISBLANK(C50182)),\"\",VLOOKUP(C50182,Sheet2!A:G,6,FALSE))","v":""},""]
[{"$f":"IF(OR(C50183=\"\",ISBLANK(C50183)),\"\",VLOOKUP(C50183,Sheet2!A:F,2,FALSE))","v":""},{"$f":"IF(OR(C50183=\"\",ISBLANK(C50183)),\"\",VLOOKUP(C50183,Sheet2!A:G,4,FALSE))","v":""},null,null,{"$f":"IF(OR(C50183=\"\",ISBLANK(C50183)),\"\",VLOOKUP(C50183,Sheet2!A:F,3,FALSE))","v":""},{"$f":"IF(OR(C50183=\"\",ISBLANK(C50183)),\"\",VLOOKUP(C50183,Sheet2!A:G,6,FALSE))","v":""},""]
[{"$f":"IF(OR(C50184=\"\",ISBLANK(C50184)),\"\",VLOOKUP(C50184,Sheet2!A:F,2,FALSE))","v":""},{"$f":"IF(OR(C50184=\"\",ISBLANK(C50184)),\"\",VLOOKUP(C50184,Sheet2!A:G,4,FALSE))","v":""},null,null,{"$f":"IF(OR(C50184=\"\",ISBLANK(C50184)),\"\",VLOOKUP(C50184,Sheet2!A:F,3,FALSE))","v":""},{"$f":"IF(OR(C50184=\"\",ISBLANK(C50184)),\"\",VLOOKUP(C50184,Sheet2!A:G,6,FALSE))","v":""},""]
[{"$f":"IF(OR(C50185=\"\",ISBLANK(C50185)),\"\",VLOOKUP(C50185,Sheet2!A:F,2,FALSE))","v":""},{"$f":"IF(OR(C50185=\"\",ISBLANK(C50185)),\"\",VLOOKUP(C50185,Sheet2!A:G,4,FALSE))","v":""},null,null,{"$f":"IF(OR(C50185=\"\",ISBLANK(C50185)),\"\",VLOOKUP(C50185,Sheet2!A:F,3,FALSE))","v":""},{"$f":"IF(OR(C50185=\"\",ISBLANK(C50185)),\"\",VLOOKUP(C50185,Sheet2!A:G,6,FALSE))","v":""},""]
[{"$f":"IF(OR(C50186=\"\",ISBLANK(C50186)),\"\",VLOOKUP(C50186,Sheet2!A:F,2,FALSE))","v":""},{"$f":"IF(OR(C50186=\"\",ISBLANK(C50186)),\"\",VLOOKUP(C50186,Sheet2!A:G,4,FALSE))","v":""},null,null,{"$f":"IF(OR(C50186=\"\",ISBLANK(C50186)),\"\",VLOOKUP(C50186,Sheet2!A:F,3,FALSE))","v":""},{"$f":"IF(OR(C50186=\"\",ISBLANK(C50186)),\"\",VLOOKUP(C50186,Sheet2!A:G,6,FALSE))","v":""},""]
[{"$f":"IF(OR(C50187=\"\",ISBLANK(C50187)),\"\",VLOOKUP(C50187,Sheet2!A:F,2,FALSE))","v":""},{"$f":"IF(OR(C50187=\"\",ISBLANK(C50187)),\"\",VLOOKUP(C50187,Sheet2!A:G,4,FALSE))","v":""},null,null,{"$f":"IF(OR(C50187=\"\",ISBLANK(C50187)),\"\",VLOOKUP(C50187,Sheet2!A:F,3,FALSE))","v":""},{"$f":"IF(OR(C50187=\"\",ISBLANK(C50187)),\"\",VLOOKUP(C50187,Sheet2!A:G,6,FALSE))","v":""},""]
[{"$f":"IF(OR(C50188=\"\",ISBLANK(C50188)),\"\",VLOOKUP(C50188,Sheet2!A:F,2,FALSE))","v":""},{"$f":"IF(OR(C50188=\"\",ISBLANK(C50188)),\"\",VLOOKUP(C50188,Sheet2!A:G,4,FALSE))","v":""},null,null,{"$f":"IF(OR(C50188=\"\",ISBLANK(C50188)),\"\",VLOOKUP(C50188,Sheet2!A:F,3,FALSE))","v":""},{"$f":"IF(OR(C50188=\"\",ISBLANK(C50188)),\"\",VLOOKUP(C50188,Sheet2!A:G,6,FALSE))","v":""},""]
[{"$f":"IF(OR(C50189=\"\",ISBLANK(C50189)),\"\",VLOOKUP(C50189,Sheet2!A:F,2,FALSE))","v":""},{"$f":"IF(OR(C50189=\"\",ISBLANK(C50189)),\"\",VLOOKUP(C50189,Sheet2!A:G,4,FALSE))","v":""},null,null,{"$f":"IF(OR(C50189=\"\",ISBLANK(C50189)),\"\",VLOOKUP(C50189,Sheet2!A:F,3,FALSE))","v":""},{"$f":"IF(OR(C50189=\"\",ISBLANK(C50189)),\"\",VLOOKUP(C50189,Sheet2!A:G,6,FALSE))","v":""},""]
[{"$f":"IF(OR(C50190=\"\",ISBLANK(C50190)),\"\",VLOOKUP(C50190,Sheet2!A:F,2,FALSE))","v":""},{"$f":"IF(OR(C50190=\"\",ISBLANK(C50190)),\"\",VLOOKUP(C50190,Sheet2!A:G,4,FALSE))","v":""},null,null,{"$f":"IF(OR(C50190=\"\",ISBLANK(C50190)),\"\",VLOOKUP(C50190,Sheet2!A:F,3,FALSE))","v":""},{"$f":"IF(OR(C50190=\"\",ISBLANK(C50190)),\"\",VLOOKUP(C50190,Sheet2!A:G,6,FALSE))","v":""},""]
[{"$f":"IF(OR(C50191=\"\",ISBLANK(C50191)),\"\",VLOOKUP(C50191,Sheet2!A:F,2,FALSE))","v":""},{"$f":"IF(OR(C50191=\"\",ISBLANK(C50191)),\"\",VLOOKUP(C50191,Sheet2!A:G,4,FALSE))","v":""},null,null,{"$f":"IF(OR(C50191=\"\",ISBLANK(C50191)),\"\",VLOOKUP(C50191,Sheet2!A:F,3,FALSE))","v":""},{"$f":"IF(OR(C50191=\"\",ISBLANK(C50191)),\"\",VLOOKUP(C50191,Sheet2!A:G,6,FALSE))","v":""},""]
[{"$f":"IF(OR(C50192=\"\",ISBLANK(C50192)),\"\",VLOOKUP(C50192,Sheet2!A:F,2,FALSE))","v":""},{"$f":"IF(OR(C50192=\"\",ISBLANK(C50192)),\"\",VLOOKUP(C50192,Sheet2!A:G,4,FALSE))","v":""},null,null,{"$f":"IF(OR(C50192=\"\",ISBLANK(C50192)),\"\",VLOOKUP(C50192,Sheet2!A:F,3,FALSE))","v":""},{"$f":"IF(OR(C50192=\"\",ISBLANK(C50192)),\"\",VLOOKUP(C50192,Sheet2!A:G,6,FALSE))","v":""},""]
[{"$f":"IF(OR(C50193=\"\",ISBLANK(C50193)),\"\",VLOOKUP(C50193,Sheet2!A:F,2,FALSE))","v":""},{"$f":"IF(OR(C50193=\"\",ISBLANK(C50193)),\"\",VLOOKUP(C50193,Sheet2!A:G,4,FALSE))","v":""},null,null,{"$f":"IF(OR(C50193=\"\",ISBLANK(C50193)),\"\",VLOOKUP(C50193,Sheet2!A:F,3,FALSE))","v":""},{"$f":"IF(OR(C50193=\"\",ISBLANK(C50193)),\"\",VLOOKUP(C50193,Sheet2!A:G,6,FALSE))","v":""},""]
[{"$f":"IF(OR(C50194=\"\",ISBLANK(C50194)),\"\",VLOOKUP(C50194,Sheet2!A:F,2,FALSE))","v":""},{"$f":"IF(OR(C50194=\"\",ISBLANK(C50194)),\"\",VLOOKUP(C50194,Sheet2!A:G,4,FALSE))","v":""},null,null,{"$f":"IF(OR(C50194=\"\",ISBLANK(C50194)),\"\",VLOOKUP(C50194,Sheet2!A:F,3,FALSE))","v":""},{"$f":"IF(OR(C50194=\"\",ISBLANK(C50194)),\"\",VLOOKUP(C50194,Sheet2!A:G,6,FALSE))","v":""},""]
[{"$f":"IF(OR(C50195=\"\",ISBLANK(C50195)),\"\",VLOOKUP(C50195,Sheet2!A:F,2,FALSE))","v":""},{"$f":"IF(OR(C50195=\"\",ISBLANK(C50195)),\"\",VLOOKUP(C50195,Sheet2!A:G,4,FALSE))","v":""},null,null,{"$f":"IF(OR(C50195=\"\",ISBLANK(C50195)),\"\",VLOOKUP(C50195,Sheet2!A:F,3,FALSE))","v":""},{"$f":"IF(OR(C50195=\"\",ISBLANK(C50195)),\"\",VLOOKUP(C50195,Sheet2!A:G,6,FALSE))","v":""},""]
[{"$f":"IF(OR(C50196=\"\",ISBLANK(C50196)),\"\",VLOOKUP(C50196,Sheet2!A:F,2,FALSE))","v":""},{"$f":"IF(OR(C50196=\"\",ISBLANK(C50196)),\"\",VLOOKUP(C50196,Sheet2!A:G,4,FALSE))","v":""},null,null,{"$f":"IF(OR(C50196=\"\",ISBLANK(C50196)),\"\",VLOOKUP(C50196,Sheet2!A:F,3,FALSE))","v":""},{"$f":"IF(OR(C50196=\"\",ISBLANK(C50196)),\"\",VLOOKUP(C50196,Sheet2!A:G,6,FALSE))","v":""},""]
[{"$f":"IF(OR(C50197=\"\",ISBLANK(C50197)),\"\",VLOOKUP(C50197,Sheet2!A:F,2,FALSE))","v":""},{"$f":"IF(OR(C50197=\"\",ISBLANK(C50197)),\"\",VLOOKUP(C50197,Sheet2!A:G,4,FALSE))","v":""},null,null,{"$f":"IF(OR(C50197=\"\",ISBLANK(C50197)),\"\",VLOOKUP(C50197,Sheet2!A:F,3,FALSE))","v":""},{"$f":"IF(OR(C50197=\"\",ISBLANK(C50197)),\"\",VLOOKUP(C50197,Sheet2!A:G,6,FALSE))","v":""},""]
[{"$f":"IF(OR(C50198=\"\",ISBLANK(C50198)),\"\",VLOOKUP(C50198,Sheet2!A:F,2,FALSE))","v":""},{"$f":"IF(OR(C50198=\"\",ISBLANK(C50198)),\"\",VLOOKUP(C50198,Sheet2!A:G,4,FALSE))","v":""},null,null,{"$f":"IF(OR(C50198=\"\",ISBLANK(C50198)),\"\",VLOOKUP(C50198,Sheet2!A:F,3,FALSE))","v":""},{"$f":"IF(OR(C50198=\"\",ISBLANK(C50198)),\"\",VLOOKUP(C50198,Sheet2!A:G,6,FALSE))","v":""},""]
[{"$f":"IF(OR(C50199=\"\",ISBLANK(C50199)),\"\",VLOOKUP(C50199,Sheet2!A:F,2,FALSE))","v":""},{"$f":"IF(OR(C50199=\"\",ISBLANK(C50199)),\"\",VLOOKUP(C50199,Sheet2!A:G,4,FALSE))","v":""},null,null,{"$f":"IF(OR(C50199=\"\",ISBLANK(C50199)),\"\",VLOOKUP(C50199,Sheet2!A:F,3,FALSE))","v":""},{"$f":"IF(OR(C50199=\"\",ISBLANK(C50199)),\"\",VLOOKUP(C50199,Sheet2!A:G,6,FALSE))","v":""},""]
[{"$f":"IF(OR(C50200=\"\",ISBLANK(C50200)),\"\",VLOOKUP(C50200,Sheet2!A:F,2,FALSE))","v":""},{"$f":"IF(OR(C50200=\"\",ISBLANK(C50200)),\"\",VLOOKUP(C50200,Sheet2!A:G,4,FALSE))","v":""},null,null,{"$f":"IF(OR(C50200=\"\",ISBLANK(C50200)),\"\",VLOOKUP(C50200,Sheet2!A:F,3,FALSE))","v":""},{"$f":"IF(OR(C50200=\"\",ISBLANK(C50200)),\"\",VLOOKUP(C50200,Sheet2!A:G,6,FALSE))","v":""},""]
[{"$f":"IF(OR(C50201=\"\",ISBLANK(C50201)),\"\",VLOOKUP(C50201,Sheet2!A:F,2,FALSE))","v":""},{"$f":"IF(OR(C50201=\"\",ISBLANK(C50201)),\"\",VLOOKUP(C50201,Sheet2!A:G,4,FALSE))","v":""},null,null,{"$f":"IF(OR(C50201=\"\",ISBLANK(C50201)),\"\",VLOOKUP(C50201,Sheet2!A:F,3,FALSE))","v":""},{"$f":"IF(OR(C50201=\"\",ISBLANK(C50201)),\"\",VLOOKUP(C50201,Sheet2!A:G,6,FALSE))","v":""},""]
[{"$f":"IF(OR(C50202=\"\",ISBLANK(C50202)),\"\",VLOOKUP(C50202,Sheet2!A:F,2,FALSE))","v":""},{"$f":"IF(OR(C50202=\"\",ISBLANK(C50202)),\"\",VLOOKUP(C50202,Sheet2!A:G,4,FALSE))","v":""},null,null,{"$f":"IF(OR(C50202=\"\",ISBLANK(C50202)),\"\",VLOOKUP(C50202,Sheet2!A:F,3,FALSE))","v":""},{"$f":"IF(OR(C50202=\"\",ISBLANK(C50202)),\"\",VLOOKUP(C50202,Sheet2!A:G,6,FALSE))","v":""},""]
[{"$f":"IF(OR(C50203=\"\",ISBLANK(C50203)),\"\",VLOOKUP(C50203,Sheet2!A:F,2,FALSE))","v":""},{"$f":"IF(OR(C50203=\"\",ISBLANK(C50203)),\"\",VLOOKUP(C50203,Sheet2!A:G,4,FALSE))","v":""},null,null,{"$f":"IF(OR(C50203=\"\",ISBLANK(C50203)),\"\",VLOOKUP(C50203,Sheet2!A:F,3,FALSE))","v":""},{"$f":"IF(OR(C50203=\"\",ISBLANK(C50203)),\"\",VLOOKUP(C50203,Sheet2!A:G,6,FALSE))","v":""},""]
[{"$f":"IF(OR(C50204=\"\",ISBLANK(C50204)),\"\",VLOOKUP(C50204,Sheet2!A:F,2,FALSE))","v":""},{"$f":"IF(OR(C50204=\"\",ISBLANK(C50204)),\"\",VLOOKUP(C50204,Sheet2!A:G,4,FALSE))","v":""},null,null,{"$f":"IF(OR(C50204=\"\",ISBLANK(C50204)),\"\",VLOOKUP(C50204,Sheet2!A:F,3,FALSE))","v":""},{"$f":"IF(OR(C50204=\"\",ISBLANK(C50204)),\"\",VLOOKUP(C50204,Sheet2!A:G,6,FALSE))","v":""},""]
[{"$f":"IF(OR(C50205=\"\",ISBLANK(C50205)),\"\",VLOOKUP(C50205,Sheet2!A:F,2,FALSE))","v":""},{"$f":"IF(OR(C50205=\"\",ISBLANK(C50205)),\"\",VLOOKUP(C50205,Sheet2!A:G,4,FALSE))","v":""},null,null,{"$f":"IF(OR(C50205=\"\",ISBLANK(C50205)),\"\",VLOOKUP(C50205,Sheet2!A:F,3,FALSE))","v":""},{"$f":"IF(OR(C50205=\"\",ISBLANK(C50205)),\"\",VLOOKUP(C50205,Sheet2!A:G,6,FALSE))","v":""},""]
[{"$f":"IF(OR(C50206=\"\",ISBLANK(C50206)),\"\",VLOOKUP(C50206,Sheet2!A:F,2,FALSE))","v":""},{"$f":"IF(OR(C50206=\"\",ISBLANK(C50206)),\"\",VLOOKUP(C50206,Sheet2!A:G,4,FALSE))","v":""},null,null,{"$f":"IF(OR(C50206=\"\",ISBLANK(C50206)),\"\",VLOOKUP(C50206,Sheet2!A:F,3,FALSE))","v":""},{"$f":"IF(OR(C50206=\"\",ISBLANK(C50206)),\"\",VLOOKUP(C50206,Sheet2!A:G,6,FALSE))","v":""},""]
[{"$f":"IF(OR(C50207=\"\",ISBLANK(C50207)),\"\",VLOOKUP(C50207,Sheet2!A:F,2,FALSE))","v":""},{"$f":"IF(OR(C50207=\"\",ISBLANK(C50207)),\"\",VLOOKUP(C50207,Sheet2!A:G,4,FALSE))","v":""},null,null,{"$f":"IF(OR(C50207=\"\",ISBLANK(C50207)),\"\",VLOOKUP(C50207,Sheet2!A:F,3,FALSE))","v":""},{"$f":"IF(OR(C50207=\"\",ISBLANK(C50207)),\"\",VLOOKUP(C50207,Sheet2!A:G,6,FALSE))","v":""},""]
[{"$f":"IF(OR(C50208=\"\",ISBLANK(C50208)),\"\",VLOOKUP(C50208,Sheet2!A:F,2,FALSE))","v":""},{"$f":"IF(OR(C50208=\"\",ISBLANK(C50208)),\"\",VLOOKUP(C50208,Sheet2!A:G,4,FALSE))","v":""},null,null,{"$f":"IF(OR(C50208=\"\",ISBLANK(C50208)),\"\",VLOOKUP(C50208,Sheet2!A:F,3,FALSE))","v":""},{"$f":"IF(OR(C50208=\"\",ISBLANK(C50208)),\"\",VLOOKUP(C50208,Sheet2!A:G,6,FALSE))","v":""},""]
[{"$f":"IF(OR(C50209=\"\",ISBLANK(C50209)),\"\",VLOOKUP(C50209,Sheet2!A:F,2,FALSE))","v":""},{"$f":"IF(OR(C50209=\"\",ISBLANK(C50209)),\"\",VLOOKUP(C50209,Sheet2!A:G,4,FALSE))","v":""},null,null,{"$f":"IF(OR(C50209=\"\",ISBLANK(C50209)),\"\",VLOOKUP(C50209,Sheet2!A:F,3,FALSE))","v":""},{"$f":"IF(OR(C50209=\"\",ISBLANK(C50209)),\"\",VLOOKUP(C50209,Sheet2!A:G,6,FALSE))","v":""},""]
[{"$f":"IF(OR(C50210=\"\",ISBLANK(C50210)),\"\",VLOOKUP(C50210,Sheet2!A:F,2,FALSE))","v":""},{"$f":"IF(OR(C50210=\"\",ISBLANK(C50210)),\"\",VLOOKUP(C50210,Sheet2!A:G,4,FALSE))","v":""},null,null,{"$f":"IF(OR(C50210=\"\",ISBLANK(C50210)),\"\",VLOOKUP(C50210,Sheet2!A:F,3,FALSE))","v":""},{"$f":"IF(OR(C50210=\"\",ISBLANK(C50210)),\"\",VLOOKUP(C50210,Sheet2!A:G,6,FALSE))","v":""},""]
[{"$f":"IF(OR(C50211=\"\",ISBLANK(C50211)),\"\",VLOOKUP(C50211,Sheet2!A:F,2,FALSE))","v":""},{"$f":"IF(OR(C50211=\"\",ISBLANK(C50211)),\"\",VLOOKUP(C50211,Sheet2!A:G,4,FALSE))","v":""},null,null,{"$f":"IF(OR(C50211=\"\",ISBLANK(C50211)),\"\",VLOOKUP(C50211,Sheet2!A:F,3,FALSE))","v":""},{"$f":"IF(OR(C50211=\"\",ISBLANK(C50211)),\"\",VLOOKUP(C50211,Sheet2!A:G,6,FALSE))","v":""},""]
[{"$f":"IF(OR(C50212=\"\",ISBLANK(C50212)),\"\",VLOOKUP(C50212,Sheet2!A:F,2,FALSE))","v":""},{"$f":"IF(OR(C50212=\"\",ISBLANK(C50212)),\"\",VLOOKUP(C50212,Sheet2!A:G,4,FALSE))","v":""},null,null,{"$f":"IF(OR(C50212=\"\",ISBLANK(C50212)),\"\",VLOOKUP(C50212,Sheet2!A:F,3,FALSE))","v":""},{"$f":"IF(OR(C50212=\"\",ISBLANK(C50212)),\"\",VLOOKUP(C50212,Sheet2!A:G,6,FALSE))","v":""},""]
[{"$f":"IF(OR(C50213=\"\",ISBLANK(C50213)),\"\",VLOOKUP(C50213,Sheet2!A:F,2,FALSE))","v":""},{"$f":"IF(OR(C50213=\"\",ISBLANK(C50213)),\"\",VLOOKUP(C50213,Sheet2!A:G,4,FALSE))","v":""},null,null,{"$f":"IF(OR(C50213=\"\",ISBLANK(C50213)),\"\",VLOOKUP(C50213,Sheet2!A:F,3,FALSE))","v":""},{"$f":"IF(OR(C50213=\"\",ISBLANK(C50213)),\"\",VLOOKUP(C50213,Sheet2!A:G,6,FALSE))","v":""},""]
[{"$f":"IF(OR(C50214=\"\",ISBLANK(C50214)),\"\",VLOOKUP(C50214,Sheet2!A:F,2,FALSE))","v":""},{"$f":"IF(OR(C50214=\"\",ISBLANK(C50214)),\"\",VLOOKUP(C50214,Sheet2!A:G,4,FALSE))","v":""},null,null,{"$f":"IF(OR(C50214=\"\",ISBLANK(C50214)),\"\",VLOOKUP(C50214,Sheet2!A:F,3,FALSE))","v":""},{"$f":"IF(OR(C50214=\"\",ISBLANK(C50214)),\"\",VLOOKUP(C50214,Sheet2!A:G,6,FALSE))","v":""},""]
[{"$f":"IF(OR(C50215=\"\",ISBLANK(C50215)),\"\",VLOOKUP(C50215,Sheet2!A:F,2,FALSE))","v":""},{"$f":"IF(OR(C50215=\"\",ISBLANK(C50215)),\"\",VLOOKUP(C50215,Sheet2!A:G,4,FALSE))","v":""},null,null,{"$f":"IF(OR(C50215=\"\",ISBLANK(C50215)),\"\",VLOOKUP(C50215,Sheet2!A:F,3,FALSE))","v":""},{"$f":"IF(OR(C50215=\"\",ISBLANK(C50215)),\"\",VLOOKUP(C50215,Sheet2!A:G,6,FALSE))","v":""},""]
[{"$f":"IF(OR(C50216=\"\",ISBLANK(C50216)),\"\",VLOOKUP(C50216,Sheet2!A:F,2,FALSE))","v":""},{"$f":"IF(OR(C50216=\"\",ISBLANK(C50216)),\"\",VLOOKUP(C50216,Sheet2!A:G,4,FALSE))","v":""},null,null,{"$f":"IF(OR(C50216=\"\",ISBLANK(C50216)),\"\",VLOOKUP(C50216,Sheet2!A:F,3,FALSE))","v":""},{"$f":"IF(OR(C50216=\"\",ISBLANK(C50216)),\"\",VLOOKUP(C50216,Sheet2!A:G,6,FALSE))","v":""},""]
[{"$f":"IF(OR(C50217=\"\",ISBLANK(C50217)),\"\",VLOOKUP(C50217,Sheet2!A:F,2,FALSE))","v":""},{"$f":"IF(OR(C50217=\"\",ISBLANK(C50217)),\"\",VLOOKUP(C50217,Sheet2!A:G,4,FALSE))","v":""},null,null,{"$f":"IF(OR(C50217=\"\",ISBLANK(C50217)),\"\",VLOOKUP(C50217,Sheet2!A:F,3,FALSE))","v":""},{"$f":"IF(OR(C50217=\"\",ISBLANK(C50217)),\"\",VLOOKUP(C50217,Sheet2!A:G,6,FALSE))","v":""},""]
[{"$f":"IF(OR(C50218=\"\",ISBLANK(C50218)),\"\",VLOOKUP(C50218,Sheet2!A:F,2,FALSE))","v":""},{"$f":"IF(OR(C50218=\"\",ISBLANK(C50218)),\"\",VLOOKUP(C50218,Sheet2!A:G,4,FALSE))","v":""},null,null,{"$f":"IF(OR(C50218=\"\",ISBLANK(C50218)),\"\",VLOOKUP(C50218,Sheet2!A:F,3,FALSE))","v":""},{"$f":"IF(OR(C50218=\"\",ISBLANK(C50218)),\"\",VLOOKUP(C50218,Sheet2!A:G,6,FALSE))","v":""},""]
[{"$f":"IF(OR(C50219=\"\",ISBLANK(C50219)),\"\",VLOOKUP(C50219,Sheet2!A:F,2,FALSE))","v":""},{"$f":"IF(OR(C50219=\"\",ISBLANK(C50219)),\"\",VLOOKUP(C50219,Sheet2!A:G,4,FALSE))","v":""},null,null,{"$f":"IF(OR(C50219=\"\",ISBLANK(C50219)),\"\",VLOOKUP(C50219,Sheet2!A:F,3,FALSE))","v":""},{"$f":"IF(OR(C50219=\"\",ISBLANK(C50219)),\"\",VLOOKUP(C50219,Sheet2!A:G,6,FALSE))","v":""},""]
[{"$f":"IF(OR(C50220=\"\",ISBLANK(C50220)),\"\",VLOOKUP(C50220,Sheet2!A:F,2,FALSE))","v":""},{"$f":"IF(OR(C50220=\"\",ISBLANK(C50220)),\"\",VLOOKUP(C50220,Sheet2!A:G,4,FALSE))","v":""},null,null,{"$f":"IF(OR(C50220=\"\",ISBLANK(C50220)),\"\",VLOOKUP(C50220,Sheet2!A:F,3,FALSE))","v":""},{"$f":"IF(OR(C50220=\"\",ISBLANK(C50220)),\"\",VLOOKUP(C50220,Sheet2!A:G,6,FALSE))","v":""},""]
[{"$f":"IF(OR(C50221=\"\",ISBLANK(C50221)),\"\",VLOOKUP(C50221,Sheet2!A:F,2,FALSE))","v":""},{"$f":"IF(OR(C50221=\"\",ISBLANK(C50221)),\"\",VLOOKUP(C50221,Sheet2!A:G,4,FALSE))","v":""},null,null,{"$f":"IF(OR(C50221=\"\",ISBLANK(C50221)),\"\",VLOOKUP(C50221,Sheet2!A:F,3,FALSE))","v":""},{"$f":"IF(OR(C50221=\"\",ISBLANK(C50221)),\"\",VLOOKUP(C50221,Sheet2!A:G,6,FALSE))","v":""},""]
[{"$f":"IF(OR(C50222=\"\",ISBLANK(C50222)),\"\",VLOOKUP(C50222,Sheet2!A:F,2,FALSE))","v":""},{"$f":"IF(OR(C50222=\"\",ISBLANK(C50222)),\"\",VLOOKUP(C50222,Sheet2!A:G,4,FALSE))","v":""},null,null,{"$f":"IF(OR(C50222=\"\",ISBLANK(C50222)),\"\",VLOOKUP(C50222,Sheet2!A:F,3,FALSE))","v":""},{"$f":"IF(OR(C50222=\"\",ISBLANK(C50222)),\"\",VLOOKUP(C50222,Sheet2!A:G,6,FALSE))","v":""},""]
[{"$f":"IF(OR(C50223=\"\",ISBLANK(C50223)),\"\",VLOOKUP(C50223,Sheet2!A:F,2,FALSE))","v":""},{"$f":"IF(OR(C50223=\"\",ISBLANK(C50223)),\"\",VLOOKUP(C50223,Sheet2!A:G,4,FALSE))","v":""},null,null,{"$f":"IF(OR(C50223=\"\",ISBLANK(C50223)),\"\",VLOOKUP(C50223,Sheet2!A:F,3,FALSE))","v":""},{"$f":"IF(OR(C50223=\"\",ISBLANK(C50223)),\"\",VLOOKUP(C50223,Sheet2!A:G,6,FALSE))","v":""},""]
[{"$f":"IF(OR(C50224=\"\",ISBLANK(C50224)),\"\",VLOOKUP(C50224,Sheet2!A:F,2,FALSE))","v":""},{"$f":"IF(OR(C50224=\"\",ISBLANK(C50224)),\"\",VLOOKUP(C50224,Sheet2!A:G,4,FALSE))","v":""},null,null,{"$f":"IF(OR(C50224=\"\",ISBLANK(C50224)),\"\",VLOOKUP(C50224,Sheet2!A:F,3,FALSE))","v":""},{"$f":"IF(OR(C50224=\"\",ISBLANK(C50224)),\"\",VLOOKUP(C50224,Sheet2!A:G,6,FALSE))","v":""},""]
[{"$f":"IF(OR(C50225=\"\",ISBLANK(C50225)),\"\",VLOOKUP(C50225,Sheet2!A:F,2,FALSE))","v":""},{"$f":"IF(OR(C50225=\"\",ISBLANK(C50225)),\"\",VLOOKUP(C50225,Sheet2!A:G,4,FALSE))","v":""},null,null,{"$f":"IF(OR(C50225=\"\",ISBLANK(C50225)),\"\",VLOOKUP(C50225,Sheet2!A:F,3,FALSE))","v":""},{"$f":"IF(OR(C50225=\"\",ISBLANK(C50225)),\"\",VLOOKUP(C50225,Sheet2!A:G,6,FALSE))","v":""},""]
[{"$f":"IF(OR(C50226=\"\",ISBLANK(C50226)),\"\",VLOOKUP(C50226,Sheet2!A:F,2,FALSE))","v":""},{"$f":"IF(OR(C50226=\"\",ISBLANK(C50226)),\"\",VLOOKUP(C50226,Sheet2!A:G,4,FALSE))","v":""},null,null,{"$f":"IF(OR(C50226=\"\",ISBLANK(C50226)),\"\",VLOOKUP(C50226,Sheet2!A:F,3,FALSE))","v":""},{"$f":"IF(OR(C50226=\"\",ISBLANK(C50226)),\"\",VLOOKUP(C50226,Sheet2!A:G,6,FALSE))","v":""},""]
[{"$f":"IF(OR(C50227=\"\",ISBLANK(C50227)),\"\",VLOOKUP(C50227,Sheet2!A:F,2,FALSE))","v":""},{"$f":"IF(OR(C50227=\"\",ISBLANK(C50227)),\"\",VLOOKUP(C50227,Sheet2!A:G,4,FALSE))","v":""},null,null,{"$f":"IF(OR(C50227=\"\",ISBLANK(C50227)),\"\",VLOOKUP(C50227,Sheet2!A:F,3,FALSE))","v":""},{"$f":"IF(OR(C50227=\"\",ISBLANK(C50227)),\"\",VLOOKUP(C50227,Sheet2!A:G,6,FALSE))","v":""},""]
[{"$f":"IF(OR(C50228=\"\",ISBLANK(C50228)),\"\",VLOOKUP(C50228,Sheet2!A:F,2,FALSE))","v":""},{"$f":"IF(OR(C50228=\"\",ISBLANK(C50228)),\"\",VLOOKUP(C50228,Sheet2!A:G,4,FALSE))","v":""},null,null,{"$f":"IF(OR(C50228=\"\",ISBLANK(C50228)),\"\",VLOOKUP(C50228,Sheet2!A:F,3,FALSE))","v":""},{"$f":"IF(OR(C50228=\"\",ISBLANK(C50228)),\"\",VLOOKUP(C50228,Sheet2!A:G,6,FALSE))","v":""},""]
[{"$f":"IF(OR(C50229=\"\",ISBLANK(C50229)),\"\",VLOOKUP(C50229,Sheet2!A:F,2,FALSE))","v":""},{"$f":"IF(OR(C50229=\"\",ISBLANK(C50229)),\"\",VLOOKUP(C50229,Sheet2!A:G,4,FALSE))","v":""},null,null,{"$f":"IF(OR(C50229=\"\",ISBLANK(C50229)),\"\",VLOOKUP(C50229,Sheet2!A:F,3,FALSE))","v":""},{"$f":"IF(OR(C50229=\"\",ISBLANK(C50229)),\"\",VLOOKUP(C50229,Sheet2!A:G,6,FALSE))","v":""},""]
[{"$f":"IF(OR(C50230=\"\",ISBLANK(C50230)),\"\",VLOOKUP(C50230,Sheet2!A:F,2,FALSE))","v":""},{"$f":"IF(OR(C50230=\"\",ISBLANK(C50230)),\"\",VLOOKUP(C50230,Sheet2!A:G,4,FALSE))","v":""},null,null,{"$f":"IF(OR(C50230=\"\",ISBLANK(C50230)),\"\",VLOOKUP(C50230,Sheet2!A:F,3,FALSE))","v":""},{"$f":"IF(OR(C50230=\"\",ISBLANK(C50230)),\"\",VLOOKUP(C50230,Sheet2!A:G,6,FALSE))","v":""},""]
[{"$f":"IF(OR(C50231=\"\",ISBLANK(C50231)),\"\",VLOOKUP(C50231,Sheet2!A:F,2,FALSE))","v":""},{"$f":"IF(OR(C50231=\"\",ISBLANK(C50231)),\"\",VLOOKUP(C50231,Sheet2!A:G,4,FALSE))","v":""},null,null,{"$f":"IF(OR(C50231=\"\",ISBLANK(C50231)),\"\",VLOOKUP(C50231,Sheet2!A:F,3,FALSE))","v":""},{"$f":"IF(OR(C50231=\"\",ISBLANK(C50231)),\"\",VLOOKUP(C50231,Sheet2!A:G,6,FALSE))","v":""},""]
[{"$f":"IF(OR(C50232=\"\",ISBLANK(C50232)),\"\",VLOOKUP(C50232,Sheet2!A:F,2,FALSE))","v":""},{"$f":"IF(OR(C50232=\"\",ISBLANK(C50232)),\"\",VLOOKUP(C50232,Sheet2!A:G,4,FALSE))","v":""},null,null,{"$f":"IF(OR(C50232=\"\",ISBLANK(C50232)),\"\",VLOOKUP(C50232,Sheet2!A:F,3,FALSE))","v":""},{"$f":"IF(OR(C50232=\"\",ISBLANK(C50232)),\"\",VLOOKUP(C50232,Sheet2!A:G,6,FALSE))","v":""},""]
[{"$f":"IF(OR(C50233=\"\",ISBLANK(C50233)),\"\",VLOOKUP(C50233,Sheet2!A:F,2,FALSE))","v":""},{"$f":"IF(OR(C50233=\"\",ISBLANK(C50233)),\"\",VLOOKUP(C50233,Sheet2!A:G,4,FALSE))","v":""},null,null,{"$f":"IF(OR(C50233=\"\",ISBLANK(C50233)),\"\",VLOOKUP(C50233,Sheet2!A:F,3,FALSE))","v":""},{"$f":"IF(OR(C50233=\"\",ISBLANK(C50233)),\"\",VLOOKUP(C50233,Sheet2!A:G,6,FALSE))","v":""},""]
[{"$f":"IF(OR(C50234=\"\",ISBLANK(C50234)),\"\",VLOOKUP(C50234,Sheet2!A:F,2,FALSE))","v":""},{"$f":"IF(OR(C50234=\"\",ISBLANK(C50234)),\"\",VLOOKUP(C50234,Sheet2!A:G,4,FALSE))","v":""},null,null,{"$f":"IF(OR(C50234=\"\",ISBLANK(C50234)),\"\",VLOOKUP(C50234,Sheet2!A:F,3,FALSE))","v":""},{"$f":"IF(OR(C50234=\"\",ISBLANK(C50234)),\"\",VLOOKUP(C50234,Sheet2!A:G,6,FALSE))","v":""},""]
[{"$f":"IF(OR(C50235=\"\",ISBLANK(C50235)),\"\",VLOOKUP(C50235,Sheet2!A:F,2,FALSE))","v":""},{"$f":"IF(OR(C50235=\"\",ISBLANK(C50235)),\"\",VLOOKUP(C50235,Sheet2!A:G,4,FALSE))","v":""},null,null,{"$f":"IF(OR(C50235=\"\",ISBLANK(C50235)),\"\",VLOOKUP(C50235,Sheet2!A:F,3,FALSE))","v":""},{"$f":"IF(OR(C50235=\"\",ISBLANK(C50235)),\"\",VLOOKUP(C50235,Sheet2!A:G,6,FALSE))","v":""},""]
[{"$f":"IF(OR(C50236=\"\",ISBLANK(C50236)),\"\",VLOOKUP(C50236,Sheet2!A:F,2,FALSE))","v":""},{"$f":"IF(OR(C50236=\"\",ISBLANK(C50236)),\"\",VLOOKUP(C50236,Sheet2!A:G,4,FALSE))","v":""},null,null,{"$f":"IF(OR(C50236=\"\",ISBLANK(C50236)),\"\",VLOOKUP(C50236,Sheet2!A:F,3,FALSE))","v":""},{"$f":"IF(OR(C50236=\"\",ISBLANK(C50236)),\"\",VLOOKUP(C50236,Sheet2!A:G,6,FALSE))","v":""},""]
[{"$f":"IF(OR(C50237=\"\",ISBLANK(C50237)),\"\",VLOOKUP(C50237,Sheet2!A:F,2,FALSE))","v":""},{"$f":"IF(OR(C50237=\"\",ISBLANK(C50237)),\"\",VLOOKUP(C50237,Sheet2!A:G,4,FALSE))","v":""},null,null,{"$f":"IF(OR(C50237=\"\",ISBLANK(C50237)),\"\",VLOOKUP(C50237,Sheet2!A:F,3,FALSE))","v":""},{"$f":"IF(OR(C50237=\"\",ISBLANK(C50237)),\"\",VLOOKUP(C50237,Sheet2!A:G,6,FALSE))","v":""},""]
[{"$f":"IF(OR(C50238=\"\",ISBLANK(C50238)),\"\",VLOOKUP(C50238,Sheet2!A:F,2,FALSE))","v":""},{"$f":"IF(OR(C50238=\"\",ISBLANK(C50238)),\"\",VLOOKUP(C50238,Sheet2!A:G,4,FALSE))","v":""},null,null,{"$f":"IF(OR(C50238=\"\",ISBLANK(C50238)),\"\",VLOOKUP(C50238,Sheet2!A:F,3,FALSE))","v":""},{"$f":"IF(OR(C50238=\"\",ISBLANK(C50238)),\"\",VLOOKUP(C50238,Sheet2!A:G,6,FALSE))","v":""},""]
[{"$f":"IF(OR(C50239=\"\",ISBLANK(C50239)),\"\",VLOOKUP(C50239,Sheet2!A:F,2,FALSE))","v":""},{"$f":"IF(OR(C50239=\"\",ISBLANK(C50239)),\"\",VLOOKUP(C50239,Sheet2!A:G,4,FALSE))","v":""},null,null,{"$f":"IF(OR(C50239=\"\",ISBLANK(C50239)),\"\",VLOOKUP(C50239,Sheet2!A:F,3,FALSE))","v":""},{"$f":"IF(OR(C50239=\"\",ISBLANK(C50239)),\"\",VLOOKUP(C50239,Sheet2!A:G,6,FALSE))","v":""},""]
[{"$f":"IF(OR(C50240=\"\",ISBLANK(C50240)),\"\",VLOOKUP(C50240,Sheet2!A:F,2,FALSE))","v":""},{"$f":"IF(OR(C50240=\"\",ISBLANK(C50240)),\"\",VLOOKUP(C50240,Sheet2!A:G,4,FALSE))","v":""},null,null,{"$f":"IF(OR(C50240=\"\",ISBLANK(C50240)),\"\",VLOOKUP(C50240,Sheet2!A:F,3,FALSE))","v":""},{"$f":"IF(OR(C50240=\"\",ISBLANK(C50240)),\"\",VLOOKUP(C50240,Sheet2!A:G,6,FALSE))","v":""},""]
[{"$f":"IF(OR(C50241=\"\",ISBLANK(C50241)),\"\",VLOOKUP(C50241,Sheet2!A:F,2,FALSE))","v":""},{"$f":"IF(OR(C50241=\"\",ISBLANK(C50241)),\"\",VLOOKUP(C50241,Sheet2!A:G,4,FALSE))","v":""},null,null,{"$f":"IF(OR(C50241=\"\",ISBLANK(C50241)),\"\",VLOOKUP(C50241,Sheet2!A:F,3,FALSE))","v":""},{"$f":"IF(OR(C50241=\"\",ISBLANK(C50241)),\"\",VLOOKUP(C50241,Sheet2!A:G,6,FALSE))","v":""},""]
[{"$f":"IF(OR(C50242=\"\",ISBLANK(C50242)),\"\",VLOOKUP(C50242,Sheet2!A:F,2,FALSE))","v":""},{"$f":"IF(OR(C50242=\"\",ISBLANK(C50242)),\"\",VLOOKUP(C50242,Sheet2!A:G,4,FALSE))","v":""},null,null,{"$f":"IF(OR(C50242=\"\",ISBLANK(C50242)),\"\",VLOOKUP(C50242,Sheet2!A:F,3,FALSE))","v":""},{"$f":"IF(OR(C50242=\"\",ISBLANK(C50242)),\"\",VLOOKUP(C50242,Sheet2!A:G,6,FALSE))","v":""},""]
[{"$f":"IF(OR(C50243=\"\",ISBLANK(C50243)),\"\",VLOOKUP(C50243,Sheet2!A:F,2,FALSE))","v":""},{"$f":"IF(OR(C50243=\"\",ISBLANK(C50243)),\"\",VLOOKUP(C50243,Sheet2!A:G,4,FALSE))","v":""},null,null,{"$f":"IF(OR(C50243=\"\",ISBLANK(C50243)),\"\",VLOOKUP(C50243,Sheet2!A:F,3,FALSE))","v":""},{"$f":"IF(OR(C50243=\"\",ISBLANK(C50243)),\"\",VLOOKUP(C50243,Sheet2!A:G,6,FALSE))","v":""},{"$f":"IF(F50243=0,\"\",F50243)","v":""}]
[{"$f":"IF(OR(C50244=\"\",ISBLANK(C50244)),\"\",VLOOKUP(C50244,Sheet2!A:F,2,FALSE))","v":""},{"$f":"IF(OR(C50244=\"\",ISBLANK(C50244)),\"\",VLOOKUP(C50244,Sheet2!A:G,4,FALSE))","v":""},null,null,{"$f":"IF(OR(C50244=\"\",ISBLANK(C50244)),\"\",VLOOKUP(C50244,Sheet2!A:F,3,FALSE))","v":""},{"$f":"IF(OR(C50244=\"\",ISBLANK(C50244)),\"\",VLOOKUP(C50244,Sheet2!A:G,6,FALSE))","v":""},""]
[{"$f":"IF(OR(C50245=\"\",ISBLANK(C50245)),\"\",VLOOKUP(C50245,Sheet2!A:F,2,FALSE))","v":""},{"$f":"IF(OR(C50245=\"\",ISBLANK(C50245)),\"\",VLOOKUP(C50245,Sheet2!A:G,4,FALSE))","v":""},null,null,{"$f":"IF(OR(C50245=\"\",ISBLANK(C50245)),\"\",VLOOKUP(C50245,Sheet2!A:F,3,FALSE))","v":""},{"$f":"IF(OR(C50245=\"\",ISBLANK(C50245)),\"\",VLOOKUP(C50245,Sheet2!A:G,6,FALSE))","v":""},""]
[{"$f":"IF(OR(C50246=\"\",ISBLANK(C50246)),\"\",VLOOKUP(C50246,Sheet2!A:F,2,FALSE))","v":""},{"$f":"IF(OR(C50246=\"\",ISBLANK(C50246)),\"\",VLOOKUP(C50246,Sheet2!A:G,4,FALSE))","v":""},null,null,{"$f":"IF(OR(C50246=\"\",ISBLANK(C50246)),\"\",VLOOKUP(C50246,Sheet2!A:F,3,FALSE))","v":""},{"$f":"IF(OR(C50246=\"\",ISBLANK(C50246)),\"\",VLOOKUP(C50246,Sheet2!A:G,6,FALSE))","v":""},""]
[{"$f":"IF(OR(C50247=\"\",ISBLANK(C50247)),\"\",VLOOKUP(C50247,Sheet2!A:F,2,FALSE))","v":""},{"$f":"IF(OR(C50247=\"\",ISBLANK(C50247)),\"\",VLOOKUP(C50247,Sheet2!A:G,4,FALSE))","v":""},null,null,{"$f":"IF(OR(C50247=\"\",ISBLANK(C50247)),\"\",VLOOKUP(C50247,Sheet2!A:F,3,FALSE))","v":""},{"$f":"IF(OR(C50247=\"\",ISBLANK(C50247)),\"\",VLOOKUP(C50247,Sheet2!A:G,6,FALSE))","v":""},""]
[{"$f":"IF(OR(C50248=\"\",ISBLANK(C50248)),\"\",VLOOKUP(C50248,Sheet2!A:F,2,FALSE))","v":""},{"$f":"IF(OR(C50248=\"\",ISBLANK(C50248)),\"\",VLOOKUP(C50248,Sheet2!A:G,4,FALSE))","v":""},null,null,{"$f":"IF(OR(C50248=\"\",ISBLANK(C50248)),\"\",VLOOKUP(C50248,Sheet2!A:F,3,FALSE))","v":""},{"$f":"IF(OR(C50248=\"\",ISBLANK(C50248)),\"\",VLOOKUP(C50248,Sheet2!A:G,6,FALSE))","v":""},""]
[{"$f":"IF(OR(C50249=\"\",ISBLANK(C50249)),\"\",VLOOKUP(C50249,Sheet2!A:F,2,FALSE))","v":""},{"$f":"IF(OR(C50249=\"\",ISBLANK(C50249)),\"\",VLOOKUP(C50249,Sheet2!A:G,4,FALSE))","v":""},null,null,{"$f":"IF(OR(C50249=\"\",ISBLANK(C50249)),\"\",VLOOKUP(C50249,Sheet2!A:F,3,FALSE))","v":""},{"$f":"IF(OR(C50249=\"\",ISBLANK(C50249)),\"\",VLOOKUP(C50249,Sheet2!A:G,6,FALSE))","v":""},""]
[{"$f":"IF(OR(C50250=\"\",ISBLANK(C50250)),\"\",VLOOKUP(C50250,Sheet2!A:F,2,FALSE))","v":""},{"$f":"IF(OR(C50250=\"\",ISBLANK(C50250)),\"\",VLOOKUP(C50250,Sheet2!A:G,4,FALSE))","v":""},null,null,{"$f":"IF(OR(C50250=\"\",ISBLANK(C50250)),\"\",VLOOKUP(C50250,Sheet2!A:F,3,FALSE))","v":""},{"$f":"IF(OR(C50250=\"\",ISBLANK(C50250)),\"\",VLOOKUP(C50250,Sheet2!A:G,6,FALSE))","v":""},""]
[{"$f":"IF(OR(C50251=\"\",ISBLANK(C50251)),\"\",VLOOKUP(C50251,Sheet2!A:F,2,FALSE))","v":""},{"$f":"IF(OR(C50251=\"\",ISBLANK(C50251)),\"\",VLOOKUP(C50251,Sheet2!A:G,4,FALSE))","v":""},null,null,{"$f":"IF(OR(C50251=\"\",ISBLANK(C50251)),\"\",VLOOKUP(C50251,Sheet2!A:F,3,FALSE))","v":""},{"$f":"IF(OR(C50251=\"\",ISBLANK(C50251)),\"\",VLOOKUP(C50251,Sheet2!A:G,6,FALSE))","v":""},""]
[{"$f":"IF(OR(C50252=\"\",ISBLANK(C50252)),\"\",VLOOKUP(C50252,Sheet2!A:F,2,FALSE))","v":""},{"$f":"IF(OR(C50252=\"\",ISBLANK(C50252)),\"\",VLOOKUP(C50252,Sheet2!A:G,4,FALSE))","v":""},null,null,{"$f":"IF(OR(C50252=\"\",ISBLANK(C50252)),\"\",VLOOKUP(C50252,Sheet2!A:F,3,FALSE))","v":""},{"$f":"IF(OR(C50252=\"\",ISBLANK(C50252)),\"\",VLOOKUP(C50252,Sheet2!A:G,6,FALSE))","v":""},""]
[{"$f":"IF(OR(C50253=\"\",ISBLANK(C50253)),\"\",VLOOKUP(C50253,Sheet2!A:F,2,FALSE))","v":""},{"$f":"IF(OR(C50253=\"\",ISBLANK(C50253)),\"\",VLOOKUP(C50253,Sheet2!A:G,4,FALSE))","v":""},null,null,{"$f":"IF(OR(C50253=\"\",ISBLANK(C50253)),\"\",VLOOKUP(C50253,Sheet2!A:F,3,FALSE))","v":""},{"$f":"IF(OR(C50253=\"\",ISBLANK(C50253)),\"\",VLOOKUP(C50253,Sheet2!A:G,6,FALSE))","v":""},""]
[{"$f":"IF(OR(C50254=\"\",ISBLANK(C50254)),\"\",VLOOKUP(C50254,Sheet2!A:F,2,FALSE))","v":""},{"$f":"IF(OR(C50254=\"\",ISBLANK(C50254)),\"\",VLOOKUP(C50254,Sheet2!A:G,4,FALSE))","v":""},null,null,{"$f":"IF(OR(C50254=\"\",ISBLANK(C50254)),\"\",VLOOKUP(C50254,Sheet2!A:F,3,FALSE))","v":""},{"$f":"IF(OR(C50254=\"\",ISBLANK(C50254)),\"\",VLOOKUP(C50254,Sheet2!A:G,6,FALSE))","v":""},""]
[{"$f":"IF(OR(C50255=\"\",ISBLANK(C50255)),\"\",VLOOKUP(C50255,Sheet2!A:F,2,FALSE))","v":""},{"$f":"IF(OR(C50255=\"\",ISBLANK(C50255)),\"\",VLOOKUP(C50255,Sheet2!A:G,4,FALSE))","v":""},null,null,{"$f":"IF(OR(C50255=\"\",ISBLANK(C50255)),\"\",VLOOKUP(C50255,Sheet2!A:F,3,FALSE))","v":""},{"$f":"IF(OR(C50255=\"\",ISBLANK(C50255)),\"\",VLOOKUP(C50255,Sheet2!A:G,6,FALSE))","v":""},""]
[{"$f":"IF(OR(C50256=\"\",ISBLANK(C50256)),\"\",VLOOKUP(C50256,Sheet2!A:F,2,FALSE))","v":""},{"$f":"IF(OR(C50256=\"\",ISBLANK(C50256)),\"\",VLOOKUP(C50256,Sheet2!A:G,4,FALSE))","v":""},null,null,{"$f":"IF(OR(C50256=\"\",ISBLANK(C50256)),\"\",VLOOKUP(C50256,Sheet2!A:F,3,FALSE))","v":""},{"$f":"IF(OR(C50256=\"\",ISBLANK(C50256)),\"\",VLOOKUP(C50256,Sheet2!A:G,6,FALSE))","v":""},""]
[{"$f":"IF(OR(C50257=\"\",ISBLANK(C50257)),\"\",VLOOKUP(C50257,Sheet2!A:F,2,FALSE))","v":""},{"$f":"IF(OR(C50257=\"\",ISBLANK(C50257)),\"\",VLOOKUP(C50257,Sheet2!A:G,4,FALSE))","v":""},null,null,{"$f":"IF(OR(C50257=\"\",ISBLANK(C50257)),\"\",VLOOKUP(C50257,Sheet2!A:F,3,FALSE))","v":""},{"$f":"IF(OR(C50257=\"\",ISBLANK(C50257)),\"\",VLOOKUP(C50257,Sheet2!A:G,6,FALSE))","v":""},""]
[{"$f":"IF(OR(C50258=\"\",ISBLANK(C50258)),\"\",VLOOKUP(C50258,Sheet2!A:F,2,FALSE))","v":""},{"$f":"IF(OR(C50258=\"\",ISBLANK(C50258)),\"\",VLOOKUP(C50258,Sheet2!A:G,4,FALSE))","v":""},null,null,{"$f":"IF(OR(C50258=\"\",ISBLANK(C50258)),\"\",VLOOKUP(C50258,Sheet2!A:F,3,FALSE))","v":""},{"$f":"IF(OR(C50258=\"\",ISBLANK(C50258)),\"\",VLOOKUP(C50258,Sheet2!A:G,6,FALSE))","v":""},""]
[{"$f":"IF(OR(C50259=\"\",ISBLANK(C50259)),\"\",VLOOKUP(C50259,Sheet2!A:F,2,FALSE))","v":""},{"$f":"IF(OR(C50259=\"\",ISBLANK(C50259)),\"\",VLOOKUP(C50259,Sheet2!A:G,4,FALSE))","v":""},null,null,{"$f":"IF(OR(C50259=\"\",ISBLANK(C50259)),\"\",VLOOKUP(C50259,Sheet2!A:F,3,FALSE))","v":""},{"$f":"IF(OR(C50259=\"\",ISBLANK(C50259)),\"\",VLOOKUP(C50259,Sheet2!A:G,6,FALSE))","v":""},""]
[{"$f":"IF(OR(C50260=\"\",ISBLANK(C50260)),\"\",VLOOKUP(C50260,Sheet2!A:F,2,FALSE))","v":""},{"$f":"IF(OR(C50260=\"\",ISBLANK(C50260)),\"\",VLOOKUP(C50260,Sheet2!A:G,4,FALSE))","v":""},null,null,{"$f":"IF(OR(C50260=\"\",ISBLANK(C50260)),\"\",VLOOKUP(C50260,Sheet2!A:F,3,FALSE))","v":""},{"$f":"IF(OR(C50260=\"\",ISBLANK(C50260)),\"\",VLOOKUP(C50260,Sheet2!A:G,6,FALSE))","v":""},""]
[{"$f":"IF(OR(C50261=\"\",ISBLANK(C50261)),\"\",VLOOKUP(C50261,Sheet2!A:F,2,FALSE))","v":""},{"$f":"IF(OR(C50261=\"\",ISBLANK(C50261)),\"\",VLOOKUP(C50261,Sheet2!A:G,4,FALSE))","v":""},null,null,{"$f":"IF(OR(C50261=\"\",ISBLANK(C50261)),\"\",VLOOKUP(C50261,Sheet2!A:F,3,FALSE))","v":""},{"$f":"IF(OR(C50261=\"\",ISBLANK(C50261)),\"\",VLOOKUP(C50261,Sheet2!A:G,6,FALSE))","v":""},""]
[{"$f":"IF(OR(C50262=\"\",ISBLANK(C50262)),\"\",VLOOKUP(C50262,Sheet2!A:F,2,FALSE))","v":""},{"$f":"IF(OR(C50262=\"\",ISBLANK(C50262)),\"\",VLOOKUP(C50262,Sheet2!A:G,4,FALSE))","v":""},null,null,{"$f":"IF(OR(C50262=\"\",ISBLANK(C50262)),\"\",VLOOKUP(C50262,Sheet2!A:F,3,FALSE))","v":""},{"$f":"IF(OR(C50262=\"\",ISBLANK(C50262)),\"\",VLOOKUP(C50262,Sheet2!A:G,6,FALSE))","v":""},""]
[{"$f":"IF(OR(C50263=\"\",ISBLANK(C50263)),\"\",VLOOKUP(C50263,Sheet2!A:F,2,FALSE))","v":""},{"$f":"IF(OR(C50263=\"\",ISBLANK(C50263)),\"\",VLOOKUP(C50263,Sheet2!A:G,4,FALSE))","v":""},null,null,{"$f":"IF(OR(C50263=\"\",ISBLANK(C50263)),\"\",VLOOKUP(C50263,Sheet2!A:F,3,FALSE))","v":""},{"$f":"IF(OR(C50263=\"\",ISBLANK(C50263)),\"\",VLOOKUP(C50263,Sheet2!A:G,6,FALSE))","v":""},""]
[{"$f":"IF(OR(C50264=\"\",ISBLANK(C50264)),\"\",VLOOKUP(C50264,Sheet2!A:F,2,FALSE))","v":""},{"$f":"IF(OR(C50264=\"\",ISBLANK(C50264)),\"\",VLOOKUP(C50264,Sheet2!A:G,4,FALSE))","v":""},null,null,{"$f":"IF(OR(C50264=\"\",ISBLANK(C50264)),\"\",VLOOKUP(C50264,Sheet2!A:F,3,FALSE))","v":""},{"$f":"IF(OR(C50264=\"\",ISBLANK(C50264)),\"\",VLOOKUP(C50264,Sheet2!A:G,6,FALSE))","v":""},""]
[{"$f":"IF(OR(C50265=\"\",ISBLANK(C50265)),\"\",VLOOKUP(C50265,Sheet2!A:F,2,FALSE))","v":""},{"$f":"IF(OR(C50265=\"\",ISBLANK(C50265)),\"\",VLOOKUP(C50265,Sheet2!A:G,4,FALSE))","v":""},null,null,{"$f":"IF(OR(C50265=\"\",ISBLANK(C50265)),\"\",VLOOKUP(C50265,Sheet2!A:F,3,FALSE))","v":""},{"$f":"IF(OR(C50265=\"\",ISBLANK(C50265)),\"\",VLOOKUP(C50265,Sheet2!A:G,6,FALSE))","v":""},""]
[{"$f":"IF(OR(C50266=\"\",ISBLANK(C50266)),\"\",VLOOKUP(C50266,Sheet2!A:F,2,FALSE))","v":""},{"$f":"IF(OR(C50266=\"\",ISBLANK(C50266)),\"\",VLOOKUP(C50266,Sheet2!A:G,4,FALSE))","v":""},null,null,{"$f":"IF(OR(C50266=\"\",ISBLANK(C50266)),\"\",VLOOKUP(C50266,Sheet2!A:F,3,FALSE))","v":""},{"$f":"IF(OR(C50266=\"\",ISBLANK(C50266)),\"\",VLOOKUP(C50266,Sheet2!A:G,6,FALSE))","v":""},""]
[{"$f":"IF(OR(C50267=\"\",ISBLANK(C50267)),\"\",VLOOKUP(C50267,Sheet2!A:F,2,FALSE))","v":""},{"$f":"IF(OR(C50267=\"\",ISBLANK(C50267)),\"\",VLOOKUP(C50267,Sheet2!A:G,4,FALSE))","v":""},null,null,{"$f":"IF(OR(C50267=\"\",ISBLANK(C50267)),\"\",VLOOKUP(C50267,Sheet2!A:F,3,FALSE))","v":""},{"$f":"IF(OR(C50267=\"\",ISBLANK(C50267)),\"\",VLOOKUP(C50267,Sheet2!A:G,6,FALSE))","v":""},""]
[{"$f":"IF(OR(C50268=\"\",ISBLANK(C50268)),\"\",VLOOKUP(C50268,Sheet2!A:F,2,FALSE))","v":""},{"$f":"IF(OR(C50268=\"\",ISBLANK(C50268)),\"\",VLOOKUP(C50268,Sheet2!A:G,4,FALSE))","v":""},null,null,{"$f":"IF(OR(C50268=\"\",ISBLANK(C50268)),\"\",VLOOKUP(C50268,Sheet2!A:F,3,FALSE))","v":""},{"$f":"IF(OR(C50268=\"\",ISBLANK(C50268)),\"\",VLOOKUP(C50268,Sheet2!A:G,6,FALSE))","v":""},""]
[{"$f":"IF(OR(C50269=\"\",ISBLANK(C50269)),\"\",VLOOKUP(C50269,Sheet2!A:F,2,FALSE))","v":""},{"$f":"IF(OR(C50269=\"\",ISBLANK(C50269)),\"\",VLOOKUP(C50269,Sheet2!A:G,4,FALSE))","v":""},null,null,{"$f":"IF(OR(C50269=\"\",ISBLANK(C50269)),\"\",VLOOKUP(C50269,Sheet2!A:F,3,FALSE))","v":""},{"$f":"IF(OR(C50269=\"\",ISBLANK(C50269)),\"\",VLOOKUP(C50269,Sheet2!A:G,6,FALSE))","v":""},""]
[{"$f":"IF(OR(C50270=\"\",ISBLANK(C50270)),\"\",VLOOKUP(C50270,Sheet2!A:F,2,FALSE))","v":""},{"$f":"IF(OR(C50270=\"\",ISBLANK(C50270)),\"\",VLOOKUP(C50270,Sheet2!A:G,4,FALSE))","v":""},null,null,{"$f":"IF(OR(C50270=\"\",ISBLANK(C50270)),\"\",VLOOKUP(C50270,Sheet2!A:F,3,FALSE))","v":""},{"$f":"IF(OR(C50270=\"\",ISBLANK(C50270)),\"\",VLOOKUP(C50270,Sheet2!A:G,6,FALSE))","v":""},""]
[{"$f":"IF(OR(C50271=\"\",ISBLANK(C50271)),\"\",VLOOKUP(C50271,Sheet2!A:F,2,FALSE))","v":""},{"$f":"IF(OR(C50271=\"\",ISBLANK(C50271)),\"\",VLOOKUP(C50271,Sheet2!A:G,4,FALSE))","v":""},null,null,{"$f":"IF(OR(C50271=\"\",ISBLANK(C50271)),\"\",VLOOKUP(C50271,Sheet2!A:F,3,FALSE))","v":""},{"$f":"IF(OR(C50271=\"\",ISBLANK(C50271)),\"\",VLOOKUP(C50271,Sheet2!A:G,6,FALSE))","v":""},""]
[{"$f":"IF(OR(C50272=\"\",ISBLANK(C50272)),\"\",VLOOKUP(C50272,Sheet2!A:F,2,FALSE))","v":""},{"$f":"IF(OR(C50272=\"\",ISBLANK(C50272)),\"\",VLOOKUP(C50272,Sheet2!A:G,4,FALSE))","v":""},null,null,{"$f":"IF(OR(C50272=\"\",ISBLANK(C50272)),\"\",VLOOKUP(C50272,Sheet2!A:F,3,FALSE))","v":""},{"$f":"IF(OR(C50272=\"\",ISBLANK(C50272)),\"\",VLOOKUP(C50272,Sheet2!A:G,6,FALSE))","v":""},""]
[{"$f":"IF(OR(C50273=\"\",ISBLANK(C50273)),\"\",VLOOKUP(C50273,Sheet2!A:F,2,FALSE))","v":""},{"$f":"IF(OR(C50273=\"\",ISBLANK(C50273)),\"\",VLOOKUP(C50273,Sheet2!A:G,4,FALSE))","v":""},null,null,{"$f":"IF(OR(C50273=\"\",ISBLANK(C50273)),\"\",VLOOKUP(C50273,Sheet2!A:F,3,FALSE))","v":""},{"$f":"IF(OR(C50273=\"\",ISBLANK(C50273)),\"\",VLOOKUP(C50273,Sheet2!A:G,6,FALSE))","v":""},""]
[{"$f":"IF(OR(C50274=\"\",ISBLANK(C50274)),\"\",VLOOKUP(C50274,Sheet2!A:F,2,FALSE))","v":""},{"$f":"IF(OR(C50274=\"\",ISBLANK(C50274)),\"\",VLOOKUP(C50274,Sheet2!A:G,4,FALSE))","v":""},null,null,{"$f":"IF(OR(C50274=\"\",ISBLANK(C50274)),\"\",VLOOKUP(C50274,Sheet2!A:F,3,FALSE))","v":""},{"$f":"IF(OR(C50274=\"\",ISBLANK(C50274)),\"\",VLOOKUP(C50274,Sheet2!A:G,6,FALSE))","v":""},""]
[{"$f":"IF(OR(C50275=\"\",ISBLANK(C50275)),\"\",VLOOKUP(C50275,Sheet2!A:F,2,FALSE))","v":""},{"$f":"IF(OR(C50275=\"\",ISBLANK(C50275)),\"\",VLOOKUP(C50275,Sheet2!A:G,4,FALSE))","v":""},null,null,{"$f":"IF(OR(C50275=\"\",ISBLANK(C50275)),\"\",VLOOKUP(C50275,Sheet2!A:F,3,FALSE))","v":""},{"$f":"IF(OR(C50275=\"\",ISBLANK(C50275)),\"\",VLOOKUP(C50275,Sheet2!A:G,6,FALSE))","v":""},""]
[{"$f":"IF(OR(C50276=\"\",ISBLANK(C50276)),\"\",VLOOKUP(C50276,Sheet2!A:F,2,FALSE))","v":""},{"$f":"IF(OR(C50276=\"\",ISBLANK(C50276)),\"\",VLOOKUP(C50276,Sheet2!A:G,4,FALSE))","v":""},null,null,{"$f":"IF(OR(C50276=\"\",ISBLANK(C50276)),\"\",VLOOKUP(C50276,Sheet2!A:F,3,FALSE))","v":""},{"$f":"IF(OR(C50276=\"\",ISBLANK(C50276)),\"\",VLOOKUP(C50276,Sheet2!A:G,6,FALSE))","v":""},""]
[{"$f":"IF(OR(C50277=\"\",ISBLANK(C50277)),\"\",VLOOKUP(C50277,Sheet2!A:F,2,FALSE))","v":""},{"$f":"IF(OR(C50277=\"\",ISBLANK(C50277)),\"\",VLOOKUP(C50277,Sheet2!A:G,4,FALSE))","v":""},null,null,{"$f":"IF(OR(C50277=\"\",ISBLANK(C50277)),\"\",VLOOKUP(C50277,Sheet2!A:F,3,FALSE))","v":""},{"$f":"IF(OR(C50277=\"\",ISBLANK(C50277)),\"\",VLOOKUP(C50277,Sheet2!A:G,6,FALSE))","v":""},""]
[{"$f":"IF(OR(C50278=\"\",ISBLANK(C50278)),\"\",VLOOKUP(C50278,Sheet2!A:F,2,FALSE))","v":""},{"$f":"IF(OR(C50278=\"\",ISBLANK(C50278)),\"\",VLOOKUP(C50278,Sheet2!A:G,4,FALSE))","v":""},null,null,{"$f":"IF(OR(C50278=\"\",ISBLANK(C50278)),\"\",VLOOKUP(C50278,Sheet2!A:F,3,FALSE))","v":""},{"$f":"IF(OR(C50278=\"\",ISBLANK(C50278)),\"\",VLOOKUP(C50278,Sheet2!A:G,6,FALSE))","v":""},""]
[{"$f":"IF(OR(C50279=\"\",ISBLANK(C50279)),\"\",VLOOKUP(C50279,Sheet2!A:F,2,FALSE))","v":""},{"$f":"IF(OR(C50279=\"\",ISBLANK(C50279)),\"\",VLOOKUP(C50279,Sheet2!A:G,4,FALSE))","v":""},null,null,{"$f":"IF(OR(C50279=\"\",ISBLANK(C50279)),\"\",VLOOKUP(C50279,Sheet2!A:F,3,FALSE))","v":""},{"$f":"IF(OR(C50279=\"\",ISBLANK(C50279)),\"\",VLOOKUP(C50279,Sheet2!A:G,6,FALSE))","v":""},""]
[{"$f":"IF(OR(C50280=\"\",ISBLANK(C50280)),\"\",VLOOKUP(C50280,Sheet2!A:F,2,FALSE))","v":""},{"$f":"IF(OR(C50280=\"\",ISBLANK(C50280)),\"\",VLOOKUP(C50280,Sheet2!A:G,4,FALSE))","v":""},null,null,{"$f":"IF(OR(C50280=\"\",ISBLANK(C50280)),\"\",VLOOKUP(C50280,Sheet2!A:F,3,FALSE))","v":""},{"$f":"IF(OR(C50280=\"\",ISBLANK(C50280)),\"\",VLOOKUP(C50280,Sheet2!A:G,6,FALSE))","v":""},""]
[{"$f":"IF(OR(C50281=\"\",ISBLANK(C50281)),\"\",VLOOKUP(C50281,Sheet2!A:F,2,FALSE))","v":""},{"$f":"IF(OR(C50281=\"\",ISBLANK(C50281)),\"\",VLOOKUP(C50281,Sheet2!A:G,4,FALSE))","v":""},null,null,{"$f":"IF(OR(C50281=\"\",ISBLANK(C50281)),\"\",VLOOKUP(C50281,Sheet2!A:F,3,FALSE))","v":""},{"$f":"IF(OR(C50281=\"\",ISBLANK(C50281)),\"\",VLOOKUP(C50281,Sheet2!A:G,6,FALSE))","v":""},""]
[{"$f":"IF(OR(C50282=\"\",ISBLANK(C50282)),\"\",VLOOKUP(C50282,Sheet2!A:F,2,FALSE))","v":""},{"$f":"IF(OR(C50282=\"\",ISBLANK(C50282)),\"\",VLOOKUP(C50282,Sheet2!A:G,4,FALSE))","v":""},null,null,{"$f":"IF(OR(C50282=\"\",ISBLANK(C50282)),\"\",VLOOKUP(C50282,Sheet2!A:F,3,FALSE))","v":""},{"$f":"IF(OR(C50282=\"\",ISBLANK(C50282)),\"\",VLOOKUP(C50282,Sheet2!A:G,6,FALSE))","v":""},""]
[{"$f":"IF(OR(C50283=\"\",ISBLANK(C50283)),\"\",VLOOKUP(C50283,Sheet2!A:F,2,FALSE))","v":""},{"$f":"IF(OR(C50283=\"\",ISBLANK(C50283)),\"\",VLOOKUP(C50283,Sheet2!A:G,4,FALSE))","v":""},null,null,{"$f":"IF(OR(C50283=\"\",ISBLANK(C50283)),\"\",VLOOKUP(C50283,Sheet2!A:F,3,FALSE))","v":""},{"$f":"IF(OR(C50283=\"\",ISBLANK(C50283)),\"\",VLOOKUP(C50283,Sheet2!A:G,6,FALSE))","v":""},""]
[{"$f":"IF(OR(C50284=\"\",ISBLANK(C50284)),\"\",VLOOKUP(C50284,Sheet2!A:F,2,FALSE))","v":""},{"$f":"IF(OR(C50284=\"\",ISBLANK(C50284)),\"\",VLOOKUP(C50284,Sheet2!A:G,4,FALSE))","v":""},null,null,{"$f":"IF(OR(C50284=\"\",ISBLANK(C50284)),\"\",VLOOKUP(C50284,Sheet2!A:F,3,FALSE))","v":""},{"$f":"IF(OR(C50284=\"\",ISBLANK(C50284)),\"\",VLOOKUP(C50284,Sheet2!A:G,6,FALSE))","v":""},""]
[{"$f":"IF(OR(C50285=\"\",ISBLANK(C50285)),\"\",VLOOKUP(C50285,Sheet2!A:F,2,FALSE))","v":""},{"$f":"IF(OR(C50285=\"\",ISBLANK(C50285)),\"\",VLOOKUP(C50285,Sheet2!A:G,4,FALSE))","v":""},null,null,{"$f":"IF(OR(C50285=\"\",ISBLANK(C50285)),\"\",VLOOKUP(C50285,Sheet2!A:F,3,FALSE))","v":""},{"$f":"IF(OR(C50285=\"\",ISBLANK(C50285)),\"\",VLOOKUP(C50285,Sheet2!A:G,6,FALSE))","v":""},""]
[{"$f":"IF(OR(C50286=\"\",ISBLANK(C50286)),\"\",VLOOKUP(C50286,Sheet2!A:F,2,FALSE))","v":""},{"$f":"IF(OR(C50286=\"\",ISBLANK(C50286)),\"\",VLOOKUP(C50286,Sheet2!A:G,4,FALSE))","v":""},null,null,{"$f":"IF(OR(C50286=\"\",ISBLANK(C50286)),\"\",VLOOKUP(C50286,Sheet2!A:F,3,FALSE))","v":""},{"$f":"IF(OR(C50286=\"\",ISBLANK(C50286)),\"\",VLOOKUP(C50286,Sheet2!A:G,6,FALSE))","v":""},""]
[{"$f":"IF(OR(C50287=\"\",ISBLANK(C50287)),\"\",VLOOKUP(C50287,Sheet2!A:F,2,FALSE))","v":""},{"$f":"IF(OR(C50287=\"\",ISBLANK(C50287)),\"\",VLOOKUP(C50287,Sheet2!A:G,4,FALSE))","v":""},null,null,{"$f":"IF(OR(C50287=\"\",ISBLANK(C50287)),\"\",VLOOKUP(C50287,Sheet2!A:F,3,FALSE))","v":""},{"$f":"IF(OR(C50287=\"\",ISBLANK(C50287)),\"\",VLOOKUP(C50287,Sheet2!A:G,6,FALSE))","v":""},""]
[{"$f":"IF(OR(C50288=\"\",ISBLANK(C50288)),\"\",VLOOKUP(C50288,Sheet2!A:F,2,FALSE))","v":""},{"$f":"IF(OR(C50288=\"\",ISBLANK(C50288)),\"\",VLOOKUP(C50288,Sheet2!A:G,4,FALSE))","v":""},null,null,{"$f":"IF(OR(C50288=\"\",ISBLANK(C50288)),\"\",VLOOKUP(C50288,Sheet2!A:F,3,FALSE))","v":""},{"$f":"IF(OR(C50288=\"\",ISBLANK(C50288)),\"\",VLOOKUP(C50288,Sheet2!A:G,6,FALSE))","v":""},""]
[{"$f":"IF(OR(C50289=\"\",ISBLANK(C50289)),\"\",VLOOKUP(C50289,Sheet2!A:F,2,FALSE))","v":""},{"$f":"IF(OR(C50289=\"\",ISBLANK(C50289)),\"\",VLOOKUP(C50289,Sheet2!A:G,4,FALSE))","v":""},null,null,{"$f":"IF(OR(C50289=\"\",ISBLANK(C50289)),\"\",VLOOKUP(C50289,Sheet2!A:F,3,FALSE))","v":""},{"$f":"IF(OR(C50289=\"\",ISBLANK(C50289)),\"\",VLOOKUP(C50289,Sheet2!A:G,6,FALSE))","v":""},""]
[{"$f":"IF(OR(C50290=\"\",ISBLANK(C50290)),\"\",VLOOKUP(C50290,Sheet2!A:F,2,FALSE))","v":""},{"$f":"IF(OR(C50290=\"\",ISBLANK(C50290)),\"\",VLOOKUP(C50290,Sheet2!A:G,4,FALSE))","v":""},null,null,{"$f":"IF(OR(C50290=\"\",ISBLANK(C50290)),\"\",VLOOKUP(C50290,Sheet2!A:F,3,FALSE))","v":""},{"$f":"IF(OR(C50290=\"\",ISBLANK(C50290)),\"\",VLOOKUP(C50290,Sheet2!A:G,6,FALSE))","v":""},""]
[{"$f":"IF(OR(C50291=\"\",ISBLANK(C50291)),\"\",VLOOKUP(C50291,Sheet2!A:F,2,FALSE))","v":""},{"$f":"IF(OR(C50291=\"\",ISBLANK(C50291)),\"\",VLOOKUP(C50291,Sheet2!A:G,4,FALSE))","v":""},null,null,{"$f":"IF(OR(C50291=\"\",ISBLANK(C50291)),\"\",VLOOKUP(C50291,Sheet2!A:F,3,FALSE))","v":""},{"$f":"IF(OR(C50291=\"\",ISBLANK(C50291)),\"\",VLOOKUP(C50291,Sheet2!A:G,6,FALSE))","v":""},""]
[{"$f":"IF(OR(C50292=\"\",ISBLANK(C50292)),\"\",VLOOKUP(C50292,Sheet2!A:F,2,FALSE))","v":""},{"$f":"IF(OR(C50292=\"\",ISBLANK(C50292)),\"\",VLOOKUP(C50292,Sheet2!A:G,4,FALSE))","v":""},null,null,{"$f":"IF(OR(C50292=\"\",ISBLANK(C50292)),\"\",VLOOKUP(C50292,Sheet2!A:F,3,FALSE))","v":""},{"$f":"IF(OR(C50292=\"\",ISBLANK(C50292)),\"\",VLOOKUP(C50292,Sheet2!A:G,6,FALSE))","v":""},""]

{"sheet":"FREE TEXT","index":2,"n_rows":1,"n_cols":16,"rows_kept":1,"cut":false,"hidden":false,"merged":[]}
["RES No","B&S","Common name","Taxon","Site","Gridref","VC","Recorder","Determiner","Date","Quantity","Method","Sex","Stage","Status","Comment"]

{"sheet":"Daily record summary","index":3,"n_rows":8,"n_cols":4,"rows_kept":8,"cut":false,"hidden":false,"merged":[[0,3,0,9],[3,2,3,6]]}
["Method","(All)",null,"Click on the triangle button to change the data presented in the summary below"]
["Site","(All)"]
["Stage","(All)"]
["Comment","(All)","Click on any cell in the table, right click and click on refresh"]
[]
["Sum of Quantity","Column Labels"]
["Row Labels","Grand Total"]
["Grand Total"]

{"sheet":"Monthly record summary","index":4,"n_rows":9,"n_cols":4,"rows_kept":9,"cut":false,"hidden":false,"merged":[[0,3,0,11],[3,2,3,8]]}
["Method","(All)",null,"Click on the triangle button to change the data presented in the summary below"]
["Site","(All)"]
["Stage","(All)"]
["Comment","(All)","Click on any cell in the table, right click and click on refresh"]
[]
["Sum of Quantity","Column Labels"]
[null,"Grand Total"]
["Row Labels"]
["Grand Total"]

{"sheet":"Earliest & latest date, peak No","index":5,"n_rows":2,"n_cols":6,"rows_kept":2,"cut":false,"hidden":false,"merged":[[1,5,1,11]]}
[null,"Earliest","Latest","Peak No"]
["Row Labels","Min of Date","Max of Date","Max of Quantity",null,"Click on any cell in the table, right click and click on refresh"]

{"sheet":"Sheet2","index":6,"n_rows":897,"n_cols":6,"rows_kept":897,"cut":false,"hidden":true,"merged":[]}
["Common name","RES no","Taxon","B&S",null,"ID GUIDE"]
["Accent Gem",73.006,"Ctenoplusia accentifera",2431,"macro","Not currently recorded in Kent, provide verification"]
["Alchymist",72.084999999999994,"Catephia alchymista",2464,"macro","Please check ID & provide verification"]
["Alder Kitten",71.006,"Furcula bicuspis",1996,"macro","Care is needed for ID, please be prepared to provide verification"]
["Alder Moth",73.036000000000001,"Acronicta alni",2281,"macro"]
["Angle Shades",73.113,"Phlogophora meticulosa",2306,"macro"]
["Angle-barred Pug",70.168999999999997,"Eupithecia innotata",1848,"macro","Care is needed for ID, please be prepared to provide verification"]
["Angle-striped Sallow",73.210999999999999,"Enargia paleacea",2313,"macro","Please check ID & provide verification"]
["Annulet",70.287000000000006,"Charissa obscurata",1964,"macro"]
["Anomalous",73.061000000000007,"Stilbia anomala",2394,"macro","Not currently recorded in Kent, provide verification"]
["Antirrhinum Brocade",73.06,"Calophasia platyptera",2224,"macro","Not currently recorded in Kent, provide verification"]
["Antler Moth",73.254000000000005,"Cerapteryx graminis",2176,"macro"]
["Archer's Dart",73.322000000000003,"Agrotis vestigialis",2085,"macro"]
["Argent & Sable",70.12,"Rheumaptera hastata",1787,"macro","Not currently recorded in Kent, provide verification"]
["Ashworth's Rustic",73.361999999999995,"Xestia ashworthii",2129,"macro","Not currently recorded in Kent, provide verification"]
["August Thorn",70.233000000000004,"Ennomos quercinaria",1912,"macro","Care is needed for ID, please be prepared to provide verification"]
["Autumn Green Carpet",70.096000000000004,"Chloroclysta miata",1761,"macro","Not currently recorded in Kent, provide verification"]
["Autumnal Moth",70.108999999999995,"Epirrita autumnata",1797,"macro","gen det or 1795x / 70.1071"]
["Autumnal Rustic",73.364999999999995,"Eugnorisma glareosa",2117,"macro"]
["Balsam Carpet",70.05,"Xanthorhoe biriviata",1721,"macro","Care is needed for ID, please be prepared to provide verification"]
["Banded Pine Carpet","70.248 ","Pungeleria capreolaria","1962b","macro"]
["Barberry Carpet",70.123999999999995,"Pareulype berberata",1785,"macro","Please check ID & provide verification"]
["Barred Carpet",70.138999999999996,"Martania taeniata",1801,"macro","Not currently recorded in Kent, provide verification"]
["Barred Chestnut",73.331000000000003,"Diarsia dahlii",2121,"macro","Not currently recorded in Kent, provide verification"]
["Barred Hook-tip",65.003,"Watsonalla cultraria",1647,"macro","Care is needed for ID, please be prepared to provide verification"]
["Barred Red",70.284000000000006,"Hylaea fasciaria",1962,"macro"]
["Barred Rivulet",70.134,"Perizoma bifaciata",1804,"macro","Care is needed for ID, please be prepared to provide verification"]
["Barred Sallow",73.180000000000007,"Tiliacea aurago",2272,"macro"]
["Barred Straw",70.093000000000004,"Gandaritis pyraliata",1758,"macro"]
["Barred Tooth-striped",70.200999999999993,"Trichopteryx polycommata",1880,"macro","Care is needed for ID, please be prepared to provide verification"]
["Barred Umber",70.222999999999999,"Plagodis pulveraria",1903,"macro"]
["Barred Yellow",70.084999999999994,"Cidaria fulvata",1765,"macro"]
["Barrett's Marbled Coronet",73.278000000000006,"Conisania andalusica",2169,"macro","Not currently recorded in Kent, provide verification"]
["Beaded Chestnut",73.186000000000007,"Agrochola lychnidis",2267,"macro","Care is needed for ID, please be prepared to provide verification"]
["Beautiful Arches",73.239999999999995,"Mniotype satura",2249,"macro","Not currently recorded in Kent, provide verification"]
["Beautiful Brocade",73.265000000000001,"Lacanobia contigua",2156,"macro","Care is needed for ID, please be prepared to provide verification"]
["Beautiful Carpet",70.067999999999998,"Mesoleuca albicillata",1748,"macro"]
["Beautiful Golden Y",73.016000000000005,"Autographa pulchrina",2442,"macro"]
["Beautiful Gothic",73.177999999999997,"Leucochlaena oditis",2226,"macro","Care is needed for ID, please be prepared to provide verification"]
["Beautiful Hook-tip",72.069000000000003,"Laspeyria flexula",2473,"macro"]
["Beautiful Marbled",72.073999999999998,"Eublemma purpurina","2407a","macro","Please check ID & provide verification"]
["Beautiful Snout",72.007000000000005,"Hypena crassalis",2476,"macro"]
["Beautiful Yellow Underwing",73.257000000000005,"Anarta myrtilli",2142,"macro","Please check ID & provide verification"]
["Bedrule Brocade",73.239000000000004,"Mniotype solieri","2250a","macro","Not currently recorded in Kent, provide verification"]
["Bedstraw Hawk-moth",69.013999999999996,"Hyles gallii",1987,"macro","Care is needed for ID, please be prepared to provide verification"]
["Beech-green Carpet",70.099000000000004,"Colostygia olivata",1774,"macro","Not currently recorded in Kent, provide verification"]
["Belted Beauty",70.25,"Lycia zonaria",1928,"macro","Not currently recorded in Kent, provide verification"]
["Berber",73.114999999999995,"Pseudenargia ulicis",2307,"macro","Not currently recorded in Kent, provide verification"]
["Bilberry Pug",70.144999999999996,"Pasiphila debiliata",1861,"macro","Care is needed for ID, please be prepared to provide verification"]
["Birch Mocha",70.031999999999996,"Cyclophora albipunctata",1677,"macro"]
["Bird's Wing",73.105000000000004,"Dypterygia scabriuscula",2301,"macro"]
["Black Arches",72.010000000000005,"Lymantria monacha",2033,"macro"]
["Black Collar",73.31,"Dichagyris flammatra",2101,"macro","Not currently recorded in Kent, provide verification"]
["Black Mountain Moth",70.289000000000001,"Glacies coracina",1965,"macro","Not currently recorded in Kent, provide verification"]
["Black Rustic",73.233000000000004,"Aporophyla nigra",2232,"macro"]
["Black V Moth",72.007999999999996,"Arctornis l-nigrum",2032,"macro","Please check ID & provide verification"]
["Black-banded",73.236000000000004,"Polymixis xanthomista",2253,"macro","Not currently recorded in Kent, provide verification"]
["Blackneck",72.063000000000002,"Lygephila pastinum",2466,"macro"]
["Black-spotted Chestnut",73.195999999999998,"Conistra rubiginosa","2259a","macro","Care is needed for ID, please be prepared to provide verification"]
["Black-veined Moth",70.290999999999997,"Siona lineata",1966,"macro"]
["Blair's Mocha",70.033000000000001,"Cyclophora puppillaria",1678,"macro","Care is needed for ID, please be prepared to provide verification"]
["Blair's Shoulder-knot",73.206000000000003,"Lithophane leautieri",2240,"macro"]
["Blair's Wainscot",73.135000000000005,"Sedina buettneri",2376,"macro","Care is needed for ID, please be prepared to provide verification"]
["Bleached Pug",70.180000000000007,"Eupithecia expallidata",1833,"macro","Please check ID & provide verification"]
["Blomer's Rivulet",70.116,"Venusia blomeri",1872,"macro","Not currently recorded in Kent, provide verification"]
["Blood-vein",70.028999999999996,"Timandra comae",1682,"macro"]
["Blossom Underwing",73.242999999999995,"Orthosia miniosa",2183,"macro","Care is needed for ID, please be prepared to provide verification"]
["Blotched Emerald",70.3,"Comibaena bajularia",1667,"macro"]
["Bloxworth Snout",72.006,"Hypena obsitalis",2478,"macro","Care is needed for ID, please be prepared to provide verification"]
["Blue-bordered Carpet",70.084000000000003,"Plemyria rubiginata",1766,"macro"]
["Bordered Beauty",70.227000000000004,"Epione repandaria",1907,"macro"]
["Bordered Gothic",73.277000000000001,"Sideridis reticulata",2153,"macro","Not currently recorded in Kent, provide verification"]
["Bordered Grey",70.262,"Selidosema brunnearia",1938,"macro","Not currently recorded in Kent, provide verification"]
["Bordered Pug",70.188000000000002,"Eupithecia succenturiata",1839,"macro","Care is needed for ID, please be prepared to provide verification"]
["Bordered Sallow",73.069999999999993,"Pyrrhia umbra",2399,"macro"]
["Bordered Straw",73.073999999999998,"Heliothis peltigera",2403,"macro"]
["Bordered White",70.275999999999996,"Bupalus piniaria",1954,"macro"]
["Brick",73.191999999999993,"Agrochola circellaris",2262,"macro","Care is needed for ID, please be prepared to provide verification"]
["Bright Wave",70.003,"Idaea ochrata",1696,"macro","Care is needed for ID, please be prepared to provide verification"]
["Bright-line Brown-eye",73.266999999999996,"Lacanobia oleracea",2160,"macro"]
["Brighton Wainscot",73.143000000000001,"Oria musculosa",2378,"macro","Not currently recorded in Kent, provide verification"]
["Brimstone Moth",70.225999999999999,"Opisthograptis luteolata",1906,"macro"]
["Brindled Beauty",70.248000000000005,"Lycia hirtaria",1927,"macro"]
["Brindled Green",73.224999999999994,"Dryobotodes eremita",2248,"macro"]
["Brindled Ochre",73.233999999999995,"Dasypolia templi",2229,"macro","Not currently recorded in Kent, provide verification"]
["Brindled Pug",70.156000000000006,"Eupithecia abbreviata",1852,"macro","Care is needed for ID, please be prepared to provide verification"]
["Brindled White-spot",70.272999999999996,"Parectropis similaria",1950,"macro","Care is needed for ID, please be prepared to provide verification"]
["Broad-barred White",73.278999999999996,"Hecatera bicolorata",2164,"macro"]
["Broad-bordered Bee Hawk-moth",69.009,"Hemaris fuciformis",1983,"macro","Care is needed for ID, please be prepared to provide verification"]
["Broad-bordered White Underwing",73.256,"Anarta melanopa",2144,"macro","Not currently recorded in Kent, provide verification"]
["Broad-bordered Yellow Underwing",73.343000000000004,"Noctua fimbriata",2110,"macro"]
["Broken-barred Carpet",70.085999999999999,"Electrophaes corylata",1773,"macro"]
["Broom Moth",73.271000000000001,"Ceramica pisi",2163,"macro"]
["Broom-tip",70.195999999999998,"Chesias rufata",1865,"macro"]
["Brown Rustic",73.102000000000004,"Rusina ferruginea",2302,"macro","Care is needed for ID, please be prepared to provide verification"]
["Brown Scallop",70.117999999999995,"Philereme vetulata",1791,"macro","Care is needed for ID, please be prepared to provide verification"]
["Brown Silver-line",70.221999999999994,"Petrophora chlorosata",1902,"macro"]
["Brown-line Bright-eye",73.290000000000006,"Mythimna conigera",2192,"macro"]
["Brown-spot Pinion",73.186999999999998,"Agrochola litura",2266,"macro","Care is needed for ID, please be prepared to provide verification"]
["Brown-tail",72.012,"Euproctis chrysorrhoea",2029,"macro"]
["Brown-veined Wainscot",73.141000000000005,"Archanara dissoluta",2371,"macro","Care is needed for ID, please be prepared to provide verification"]
["Brussels Lace",70.287999999999997,"Cleorodes lichenaria",1945,"macro","Please check ID & provide verification"]
["Buff Arches",65.009,"Habrosyne pyritoides",1653,"macro"]
["Buff Ermine",72.019000000000005,"Spilosoma lutea",2061,"macro"]
["Buff Footman",72.043000000000006,"Eilema depressa",2049,"macro","Care is needed for ID, please be prepared to provide verification"]
["Buff-tip",71.025000000000006,"Phalera bucephala",1994,"macro"]
["Bulrush Wainscot",73.135999999999996,"Nonagria typhae",2369,"macro"]
["Burnet Companion",72.082999999999998,"Euclidia glyphica",2463,"macro"]
["Burnished Brass",73.012,"Diachrysia chrysitis",2434,"macro"]
["Burren Green",73.116,"Calamia tridens",2366,"macro","Not currently recorded in Kent, provide verification"]
["Butterbur",73.123999999999995,"Hydraecia petasitis",2362,"macro","Not currently recorded in Kent, provide verification"]
["Buttoned Snout",72.004000000000005,"Hypena rostralis",2480,"macro"]
["Cabbage Moth",73.274000000000001,"Mamestra brassicae",2154,"macro"]
["Cameo",73.117000000000004,"Crypsedra gemmea","2252a","macro","Not currently recorded in Kent, provide verification"]
["Campanula Pug",70.185000000000002,"Eupithecia denotata",1836,"macro","Please check ID & provide verification"]
["Campion",73.275999999999996,"Sideridis rivularis",2166,"macro","Care is needed for ID, please be prepared to provide verification"]
["Canary-shouldered Thorn",70.233999999999995,"Ennomos alniaria",1913,"macro"]
["Centre-barred Sallow",73.218999999999994,"Atethmia centrago",2269,"macro"]
["Chalk Carpet",70.043000000000006,"Scotopteryx bipunctaria",1731,"macro"]
["Chamomile Shark",73.052999999999997,"Cucullia chamomillae",2214,"macro","Care is needed for ID, please be prepared to provide verification"]
["Channel Islands Pug",70.152000000000001,"Eupithecia ultimaria","1855a","macro","Care is needed for ID, please be prepared to provide verification"]
["Chestnut",73.194000000000003,"Conistra vaccinii",2258,"macro","Care is needed for ID, please be prepared to provide verification"]
["Chestnut-coloured Carpet",70.078000000000003,"Thera cognata",1770,"macro","Not currently recorded in Kent, provide verification"]
["Chevron",70.09,"Eulithis testata",1755,"macro"]
["Chimney Sweeper",70.13,"Odezia atrata",1870,"macro","Please check ID & provide verification"]
["Chinese Character",65.007000000000005,"Cilix glaucata",1651,"macro"]
["Chocolate-tip",71.027000000000001,"Clostera curtula",2019,"macro"]
["Cinnabar",72.031000000000006,"Tyria jacobaeae",2069,"macro"]
["Cistus Forester",54.003,"Adscita geryon",164,"macro","Not currently recorded in Kent, provide verification"]
["Clancy's Rustic",73.093000000000004,"Caradrina kadenii","2387a","macro","Care is needed for ID, please be prepared to provide verification"]
["Clay",73.298000000000002,"Mythimna ferrago",2193,"macro","Care is needed for ID, please be prepared to provide verification"]
["Clay Fan-foot",72.051000000000002,"Paracolax tristalis",2494,"macro"]
["Clay Triple-lines",70.037000000000006,"Cyclophora linearia",1681,"macro","Care is needed for ID, please be prepared to provide verification"]
["Clifden Nonpareil",72.075999999999993,"Catocala fraxini",2451,"macro"]
["Cloaked Carpet",70.063999999999993,"Euphyia biangulata",1793,"macro","Care is needed for ID, please be prepared to provide verification"]
["Cloaked Minor",73.171999999999997,"Mesoligia furuncula",2341,"macro"]
["Cloaked Pug",70.149000000000001,"Eupithecia abietaria",1815,"macro","Care is needed for ID, please be prepared to provide verification"]
["Clouded Border",70.206999999999994,"Lomaspilis marginata",1887,"macro"]
["Clouded Brindle",73.155000000000001,"Apamea epomidion",2327,"macro"]
["Clouded Buff",72.022999999999996,"Diacrisia sannio",2059,"macro"]
["Clouded Drab",73.242000000000004,"Orthosia incerta",2188,"macro"]
["Clouded Magpie",70.206000000000003,"Abraxas sylvata",1885,"macro"]
["Clouded Silver",70.28,"Lomographa temerata",1958,"macro"]
["Clouded-bordered Brindle",73.156000000000006,"Apamea crenata",2326,"macro"]
["Coast Dart",73.311000000000007,"Euxoa cursoria",2083,"macro","Care is needed for ID, please be prepared to provide verification"]
["Common Carpet",70.061000000000007,"Epirrhoe alternata",1738,"macro"]
["Common Emerald",70.305000000000007,"Hemithea aestivaria",1669,"macro"]
["Common Fan-foot",72.055999999999997,"Pechipogo strigilata",2488,"macro","Care is needed for ID, please be prepared to provide verification"]
["Common Footman",72.045000000000002,"Eilema lurideola",2050,"macro","Care is needed for ID, please be prepared to provide verification"]
["Common Forest Looper",70.290000000000006,"Pseudocoremia suavis","1965a","macro","Not currently recorded in Kent, provide verification"]
["Common Heath",70.275000000000006,"Ematurga atomaria",1952,"macro","Care is needed for ID, please be prepared to provide verification"]
["Common Lutestring",65.013000000000005,"Ochropacha duplaris",1657,"macro","Care is needed for ID, please be prepared to provide verification"]
["Common Marbled Carpet",70.096999999999994,"Dysstroma truncata",1764,"macro","Care is needed for ID, please be prepared to provide verification"]
["Common Pug",70.183000000000007,"Eupithecia vulgata",1834,"macro","Care is needed for ID, please be prepared to provide verification"]
["Common Quaker",73.244,"Orthosia cerasi",2187,"macro"]
["Common Rustic",73.168999999999997,"Mesapamea secalis",2343,"macro","gen det or 2343x / 73.1691"]
["Common Rustic agg.",73.1691,"Mesapamea secalis agg.","2343x","macro"]
["Common Swift",3.0019999999999998,"Korscheltellus lupulina",17,"macro"]
["Common Wainscot",73.290999999999997,"Mythimna pallens",2199,"macro","Care is needed for ID, please be prepared to provide verification"]
["Common Wave",70.278000000000006,"Cabera exanthemata",1956,"macro","Care is needed for ID, please be prepared to provide verification"]
["Common White Wave",70.277000000000001,"Cabera pusaria",1955,"macro","Care is needed for ID, please be prepared to provide verification"]
["Concolorous",73.149000000000001,"Photedes extrema",2347,"macro","Care is needed for ID, please be prepared to provide verification"]
["Conformist",73.203000000000003,"Lithophane furcifera",2238,"macro","Not currently recorded in Kent, provide verification"]
["Confused",73.165000000000006,"Apamea furva",2329,"macro","Care is needed for ID, please be prepared to provide verification"]
["Convolvulus Hawk-moth",69.004000000000005,"Agrius convolvuli",1972,"macro"]
["Copper Underwing",73.061999999999998,"Amphipyra pyramidea",2297,"macro","Please check ID & provide verification, otherwise 2297x 73.0631"]
["Copper Underwing agg.",73.063100000000006,"Amphipyra pyramidea agg.","2297x","macro"]
["Coronet",73.046999999999997,"Craniophora ligustri",2291,"macro"]
["Cosmopolitan",73.304000000000002,"Leucania loreyi",2208,"macro","Care is needed for ID, please be prepared to provide verification"]
["Cousin German",73.367000000000004,"Protolampra sobrina",2116,"macro","Not currently recorded in Kent, provide verification"]
["Coxcomb Prominent",71.021000000000001,"Ptilodon capucina",2008,"macro"]
["Cream Wave",70.027000000000001,"Scopula floslactata",1693,"macro","Care is needed for ID, please be prepared to provide verification"]
["Cream-bordered Green Pea",74.010999999999996,"Earias clorana",2418,"macro","Care is needed for ID, please be prepared to provide verification"]
["Cream-spot Tiger",72.027000000000001,"Arctia villica",2058,"macro"]
["Crescent",73.119,"Helotropha leucostigma",2368,"macro"]
["Crescent Dart",73.323999999999998,"Agrotis trux",2090,"macro","Please check ID & provide verification"]
["Crescent Striped",73.161000000000001,"Apamea oblonga",2325,"macro","Care is needed for ID, please be prepared to provide verification"]
["Crimson Speckled",72.034000000000006,"Utetheisa pulchella",2054,"macro","Please check ID & provide verification"]
["Crinan Ear",73.129000000000005,"Amphipoea crinanensis",2359,"macro","Not currently recorded in Kent, provide verification"]
["Cryptic Fern",70.127099999999999,"Horisme radicaria",null,"macro"]
["Cudweed",73.054000000000002,"Cucullia gnaphalii",2218,"macro","Not currently recorded in Kent, provide verification"]
["Currant Clearwing",52.012999999999998,"Synanthedon tipuliformis",373,"macro"]
["Currant Pug",70.182000000000002,"Eupithecia assimilata",1832,"macro","Care is needed for ID, please be prepared to provide verification"]
["Cypress Carpet",70.082999999999998,"Thera cupressata","1771a","macro"]
["Cypress Pug",70.159000000000006,"Eupithecia phoeniceata",1855,"macro"]
["Dark / Grey Dagger",73.0381,"Acronicta tridens/psi","2284x","macro"]
["Dark Arches",73.162000000000006,"Apamea monoglypha",2321,"macro"]
["Dark Bordered Beauty",70.227999999999994,"Epione vespertaria",1908,"macro","Not currently recorded in Kent, provide verification"]
["Dark Brocade",73.238,"Mniotype adusta",2250,"macro","Not currently recorded in Kent, provide verification"]
["Dark Chestnut",73.194999999999993,"Conistra ligula",2259,"macro","Care is needed for ID, please be prepared to provide verification"]
["Dark Crimson Underwing",72.081000000000003,"Catocala sponsa",2455,"macro","Care is needed for ID, please be prepared to provide verification"]
["Dark Dagger",73.037000000000006,"Acronicta tridens",2283,"macro","gen det or 2284x / 73.0381"]
["Dark Marbled Carpet",70.097999999999999,"Dysstroma citrata",1762,"macro","Care is needed for ID, please be prepared to provide verification"]
["Dark Mottled Willow",73.087999999999994,"Spodoptera cilium","2386c","macro","Not currently recorded in Kent, provide verification"]
["Dark Spectacle",73.001999999999995,"Abrostola triplasia",2449,"macro","Care is needed for ID, please be prepared to provide verification"]
["Dark Spinach",70.069000000000003,"Pelurga comitata",1749,"macro"]
["Dark Sword-grass",73.326999999999998,"Agrotis ipsilon",2091,"macro"]
["Dark Tussock",72.016000000000005,"Dicallomera fascelina",2027,"macro","Care is needed for ID, please be prepared to provide verification"]
["Dark Umber",70.119,"Philereme transversata",1792,"macro","Care is needed for ID, please be prepared to provide verification"]
["Dark-barred Twin-spot Carpet",70.052000000000007,"Xanthorhoe ferrugata",1725,"macro","Care is needed for ID, please be prepared to provide verification"]
["Death's-head Hawk-moth",69.004999999999995,"Acherontia atropos",1973,"macro"]
["December Moth",66.001000000000005,"Poecilocampa populi",1631,"macro"]
["Deep-brown Dart",73.230999999999995,"Aporophyla lutulenta",2231,"macro","Care is needed for ID, please be prepared to provide verification"]
["Delicate",73.295000000000002,"Mythimna vitellina",2195,"macro"]
["Dentated Pug",70.129000000000005,"Anticollix sparsata",1863,"macro","Not currently recorded in Kent, provide verification"]
["Devon Carpet",70.103999999999999,"Lampropteryx otregiata",1751,"macro","Not currently recorded in Kent, provide verification"]
["Devonshire Wainscot",73.302999999999997,"Leucania putrescens",2206,"macro","Not currently recorded in Kent, provide verification"]
["Dew Moth",72.05,"Setina irrorella",2036,"macro"]
["Dewick's Plusia",73.010000000000005,"Macdunnoughia confusa",2436,"macro","Please check ID & provide verification"]
["Dingy Footman",72.043999999999997,"Eilema griseola",2044,"macro","Care is needed for ID, please be prepared to provide verification"]
["Dingy Mocha",70.03,"Cyclophora pendularia",1675,"macro","Not currently recorded in Kent, provide verification"]
["Dingy Shears",73.221999999999994,"Apterogenum ypsillon",2314,"macro","Care is needed for ID, please be prepared to provide verification"]
["Dingy Shell",70.111999999999995,"Euchoeca nebulata",1874,"macro"]
["Dog's Tooth",73.266000000000005,"Lacanobia suasa",2159,"macro","Care is needed for ID, please be prepared to provide verification"]
["Dorset Cream Wave",70.209999999999994,"Stegania trimaculata","1888a","macro","Not currently recorded in Kent, provide verification"]
["Dot Moth",73.27,"Melanchra persicariae",2155,"macro"]
["Dotted Border",70.254999999999995,"Agriopis marginaria",1934,"macro"]
["Dotted Border Wave",70.010000000000005,"Idaea sylvestraria",1701,"macro","Care is needed for ID, please be prepared to provide verification"]
["Dotted Carpet",70.266000000000005,"Alcis jubata",1942,"macro","Not currently recorded in Kent, provide verification"]
["Dotted Chestnut",73.197000000000003,"Conistra rubiginea",2260,"macro"]
["Dotted Clay",73.352999999999994,"Xestia baja",2130,"macro","Care is needed for ID, please be prepared to provide verification"]
["Dotted Fan-foot",72.052000000000007,"Macrochilo cribrumalis",2493,"macro"]
["Dotted Footman",72.039000000000001,"Pelosia muscerda",2041,"macro","Care is needed for ID, please be prepared to provide verification"]
["Dotted Rustic",73.338999999999999,"Rhyacia simulans",2105,"macro","Care is needed for ID, please be prepared to provide verification"]
["Double Dart",73.350999999999999,"Graphiphora augur",2114,"macro"]
["Double Kidney",73.212000000000003,"Ipimorpha retusa",2311,"macro","Care is needed for ID, please be prepared to provide verification"]
["Double Line",73.287999999999997,"Mythimna turca",2191,"macro","Not currently recorded in Kent, provide verification"]
["Double Lobed",73.168000000000006,"Lateroligia ophiogramma",2336,"macro"]
["Double Square-spot",73.361000000000004,"Xestia triangulum",2128,"macro","Care is needed for ID, please be prepared to provide verification"]
["Double-spot Brocade",73.066999999999993,"Meganephria bimaculosa",2244,"macro","Not currently recorded in Kent, provide verification"]
["Double-striped Pug",70.141000000000005,"Gymnoscelis rufifasciata",1862,"macro"]
["Drab Looper",70.117000000000004,"Minoa murinata",1878,"macro"]
["Drinker",66.010000000000005,"Euthrix potatoria",1640,"macro"]
["Dumeril's Rustic",73.13,"Luperina dumerilii",2355,"macro","Care is needed for ID, please be prepared to provide verification"]
["Dun-bar",73.215999999999994,"Cosmia trapezina",2318,"macro"]
["Dusky Brocade",73.153999999999996,"Apamea remissa",2330,"macro","Care is needed for ID, please be prepared to provide verification"]
["Dusky Clearwing",52.003999999999998,"Paranthrene tabaniformis",372,"macro","Not currently recorded in Kent, provide verification"]
["Dusky Fan-foot",72.058999999999997,"Zanclognatha zelleralis","2491a","macro","Not currently recorded in Kent, provide verification"]
["Dusky Hook-tip",65.004000000000005,"Drepana curvatula",1649,"macro","Please check ID & provide verification"]
["Dusky Marbled Brown",71.025999999999996,"Gluphisia crenata",2016,"macro","Care is needed for ID, please be prepared to provide verification"]
["Dusky Peacock",70.212999999999994,"Macaria signaria",1891,"macro","Care is needed for ID, please be prepared to provide verification"]
["Dusky Sallow",73.12,"Eremobia ochroleuca",2352,"macro"]
["Dusky Scalloped Oak",70.242000000000004,"Crocallis dardoinaria","1921a","macro","Not currently recorded in Kent, provide verification"]
["Dusky Thorn",70.234999999999999,"Ennomos fuscantaria",1914,"macro"]
["Dusky-lemon Sallow",73.183000000000007,"Cirrhia gilvago",2275,"macro","Care is needed for ID, please be prepared to provide verification"]
["Dwarf Cream Wave",70.006,"Idaea fuscovenosa",1705,"macro","Care is needed for ID, please be prepared to provide verification"]
["Dwarf Pug",70.162000000000006,"Eupithecia tantillaria",1857,"macro","Care is needed for ID, please be prepared to provide verification"]
["Ear Moth",73.128,"Amphipoea oculea",2360,"macro","gen det or 2360x / 73.1281"]
["Ear Moth agg",73.128100000000003,"Amphipoea oculea agg.","2360x","macro"]
["Early Grey",73.069000000000003,"Xylocampa areola",2243,"macro"]
["Early Moth",70.281999999999996,"Theria primaria",1960,"macro","Care is needed for ID, please be prepared to provide verification"]
["Early Thorn",70.236999999999995,"Selenia dentaria",1917,"macro"]
["Early Tooth-striped",70.201999999999998,"Trichopteryx carpinata",1881,"macro","Care is needed for ID, please be prepared to provide verification"]
["Eastern Bordered Straw",73.075000000000003,"Heliothis nubigera",2404,"macro","Care is needed for ID, please be prepared to provide verification"]
["Eastern Nycteoline",74.010000000000005,"Nycteola asiatica","2423a","macro","Not currently recorded in Kent, provide verification"]
["Egyptian Bollworm",74.012,"Earias insulana",2420,"macro","Not currently recorded in Kent, provide verification"]
["Elephant Hawk-moth",69.016000000000005,"Deilephila elpenor",1991,"macro"]
["Emperor Moth",68.001000000000005,"Saturnia pavonia",1643,"macro"]
["Engrailed",70.27,"Ectropis crepuscularia",1948,"macro","Care is needed for ID, please be prepared to provide verification"]
["Essex Emerald",70.301000000000002,"Thetidia smaragdaria",1668,"macro","Not currently recorded in Kent, provide verification"]
["Essex Y",73.02,"Cornutiplusia circumflexa",2448,"macro","Not currently recorded in Kent, provide verification"]
["Eversmann's Rustic",73.308999999999997,"Actebia fennica",2100,"macro","Not currently recorded in Kent, provide verification"]
["Exile or Northern Arches",73.167000000000002,"Apamea exulis",2324,"macro","Not currently recorded in Kent, provide verification"]
["Eyed Hawk-moth",69.001999999999995,"Smerinthus ocellata",1980,"macro"]
["False Mocha",70.034999999999997,"Cyclophora porata",1679,"macro","Not currently recorded in Kent, provide verification"]
["Fan-foot",72.052999999999997,"Herminia tarsipennalis",2489,"macro","Care is needed for ID, please be prepared to provide verification"]
["Feathered Beauty",70.260000000000005,"Peribatodes secundaria","1937a","macro","Please check ID & provide verification"]
["Feathered Brindle",73.23,"Aporophyla australis",2230,"macro"]
["Feathered Ear",73.262,"Pachetra sagittigera",2151,"macro","Not currently recorded in Kent, provide verification"]
["Feathered Footman",72.033000000000001,"Coscinia striata",2052,"macro","Not currently recorded in Kent, provide verification"]
["Feathered Gothic",73.253,"Tholera decimalis",2178,"macro","Care is needed for ID, please be prepared to provide verification"]
["Feathered Ranunculus",73.234999999999999,"Polymixis lichenea",2255,"macro"]
["Feathered Thorn",70.244,"Colotois pennaria",1923,"macro"]
["Feline",71.004000000000005,"Cerura erminea","1995a","macro","Not currently recorded in Kent, provide verification"]
["Fen Square-spot",73.334999999999994,"Diarsia florida",2124,"macro","Not currently recorded in Kent, provide verification"]
["Fen Wainscot",73.137,"Arenostola phragmitidis",2377,"macro"]
["Fenn's Wainscot",73.150000000000006,"Protarchanara brevilinea",2351,"macro","Not currently recorded in Kent, provide verification"]
["Fern",70.126999999999995,"Horisme tersata",1782,"macro"]
["Festoon",53.000999999999998,"Apoda limacodes",173,"macro"]
["Fiery Clearwing",52.015000000000001,"Pyropteron chrysidiformis",384,"macro"]
["Figure of Eight",73.033000000000001,"Diloba caeruleocephala",2020,"macro"]
["Figure of Eighty",65.010000000000005,"Tethea ocularis",1654,"macro"]
["Fir Carpet",70.08,"Thera vetustata ","1769a","macro","Not currently recorded in Kent, provide verification"]
["Fisher's Estuarine Moth",73.122,"Gortyna borelii",2365,"macro","Please check ID & provide verification"]
["Five-Spot Burnet",54.01,"Zygaena trifolii",170,"macro","Please check ID & provide verification"]
["Flame",73.328000000000003,"Axylia putris",2098,"macro"]
["Flame Brocade",73.228999999999999,"Trigonophora flammea",2251,"macro","Please check ID & provide verification"]
["Flame Carpet",70.052999999999997,"Xanthorhoe designata",1722,"macro"]
["Flame Shoulder",73.328999999999994,"Ochropleura plecta",2102,"macro"]
["Flame Wainscot",73.305000000000007,"Senta flammea",2209,"macro","Please check ID & provide verification"]
["Flounced Chestnut",73.188000000000002,"Agrochola helvola",2265,"macro","Care is needed for ID, please be prepared to provide verification"]
["Flounced Rustic",73.131,"Luperina testacea",2353,"macro"]
["Forester",54.002000000000002,"Adscita statices",163,"macro","Please check ID & provide verification"]
["Fortified Carpet",70.043999999999997,"Scotopteryx moeniata",1729,"macro","Not currently recorded in Kent, provide verification"]
["Four-dotted Footman",72.037999999999997,"Cybosia mesomella",2040,"macro"]
["Four-spotted",73.031000000000006,"Tyta luctuosa",2465,"macro","Please check ID & provide verification"]
["Four-spotted Footman",72.040999999999997,"Lithosia quadra",2051,"macro"]
["Fox Moth",66.007999999999996,"Macrothylacia rubi",1638,"macro"]
["Foxglove Pug",70.150999999999996,"Eupithecia pulchellata",1817,"macro","Care is needed for ID, please be prepared to provide verification"]
["French Red Underwing",72.08,"Catocala elocata","2453a","macro","Not currently recorded in Kent, provide verification"]
["Freyer's Pug",70.176000000000002,"Eupithecia intricata",1827,"macro","Care is needed for ID, please be prepared to provide verification"]
["Frosted Green",65.015000000000001,"Polyploca ridens",1660,"macro"]
["Frosted Orange",73.120999999999995,"Gortyna flavago",2364,"macro"]
["Frosted Yellow",70.22,"Isturgia limbaria",1899,"macro","Not currently recorded in Kent, provide verification"]
["Galium Carpet",70.063000000000002,"Epirrhoe galiata",1740,"macro"]
["Garden Carpet",70.049000000000007,"Xanthorhoe fluctuata",1728,"macro"]
["Garden Dart",73.313999999999993,"Euxoa nigricans",2082,"macro","Care is needed for ID, please be prepared to provide verification"]
["Garden Tiger",72.025999999999996,"Arctia caja",2057,"macro"]
["Gem",70.046999999999997,"Nycterosea obstipata",1720,"macro"]
["Geometrician",72.087999999999994,"Grammodes stolida",2461,"macro","Not currently recorded in Kent, provide verification"]
["Ghost Moth",3.0049999999999999,"Hepialus humuli",14,"macro"]
["Glaucous Shears",73.272000000000006,"Papestra biren",2162,"macro","Not currently recorded in Kent, provide verification"]
["Goat Moth",50.000999999999998,"Cossus cossus",162,"macro","Please check ID & provide verification"]
["Gold Spangle",73.018000000000001,"Autographa bractea",2444,"macro","Not currently recorded in Kent, provide verification"]
["Gold Spot",73.022000000000006,"Plusia festucae",2439,"macro","Care is needed for ID, please be prepared to provide verification"]
["Gold Swift",3.004,"Phymatopus hecta",16,"macro"]
["Golden Plusia",73.013999999999996,"Polychrysia moneta",2437,"macro"]
["Golden Twin-spot",73.007999999999996,"Chrysodeixis chalcites",2428,"macro","Care is needed for ID, please be prepared to provide verification"]
["Golden-rod Brindle",73.206999999999994,"Xylena solidaginis",2233,"macro","Not currently recorded in Kent, provide verification"]
["Golden-rod Pug",70.161000000000001,"Eupithecia virgaureata",1851,"macro","Please check ID & provide verification"]
["Goldwing",73.049000000000007,"Synthymia fixa",2395,"macro","Not currently recorded in Kent, provide verification"]
["Goosefoot Pug",70.167000000000002,"Eupithecia sinuosaria","1842a","macro","Care is needed for ID, please be prepared to provide verification"]
["Gothic",73.367999999999995,"Naenia typica",2136,"macro","Care is needed for ID, please be prepared to provide verification"]
["Grass Eggar",66.006,"Lasiocampa trifolii",1636,"macro","Care is needed for ID, please be prepared to provide verification"]
["Grass Emerald",70.296999999999997,"Pseudoterpna pruinata",1665,"macro"]
["Grass Rivulet",70.137,"Perizoma albulata",1807,"macro","Care is needed for ID, please be prepared to provide verification"]
["Grass Wave",70.295000000000002,"Perconia strigillaria",1970,"macro","Not currently recorded in Kent, provide verification"]
["Great Brocade",73.349999999999994,"Eurois occulta",2137,"macro","Please check ID & provide verification"]
["Great Dart",73.314999999999998,"Agrotis bigramma",2094,"macro","Care is needed for ID, please be prepared to provide verification"]
["Great Oak Beauty",70.266999999999996,"Hypomecis roboraria",1943,"macro","Care is needed for ID, please be prepared to provide verification"]
["Great Prominent",71.016000000000005,"Peridea anceps",2005,"macro"]
["Green Arches",73.352000000000004,"Anaplectoides prasina",2138,"macro"]
["Green Carpet",70.099999999999994,"Colostygia pectinataria",1776,"macro"]
["Green Pug",70.144000000000005,"Pasiphila rectangulata",1860,"macro","Care is needed for ID, please be prepared to provide verification"]
["Green Silver-lines",74.007999999999996,"Pseudoips prasinana",2422,"macro"]
["Green-brindled Crescent",73.067999999999998,"Allophyes oxyacanthae",2245,"macro"]
["Grey",73.284999999999997,"Hadena caesia",2174,"macro","Not currently recorded in Kent, provide verification"]
["Grey Arches",73.260999999999996,"Polia nebulosa",2150,"macro","Care is needed for ID, please be prepared to provide verification"]
["Grey Birch",70.274000000000001,"Aethalura punctulata",1951,"macro"]
["Grey Carpet",70.197000000000003,"Lithostege griseata",1871,"macro","Please check ID & provide verification"]
["Grey Chi",73.227999999999994,"Antitype chi",2254,"macro","Not currently recorded in Kent, provide verification"]
["Grey Dagger",73.037999999999997,"Acronicta psi",2284,"macro","gen det or 2284x / 73.0381"]
["Grey Mountain Carpet",70.072000000000003,"Entephria caesiata",1744,"macro","Not currently recorded in Kent, provide verification"]
["Grey Pine Carpet",70.081000000000003,"Thera obeliscata",1768,"macro","Care is needed for ID, please be prepared to provide verification"]
["Grey Pug",70.19,"Eupithecia subfuscata",1837,"macro"]
["Grey Scalloped Bar",70.292000000000002,"Dyscia fagaria",1969,"macro","Not currently recorded in Kent, provide verification"]
["Grey Shoulder-knot",73.201999999999998,"Lithophane ornitopus",2237,"macro"]
["Ground Lackey",66.004000000000005,"Malacosoma castrensis",1635,"macro","Care is needed for ID, please be prepared to provide verification"]
["Grouville Dart",73.325999999999993,"Agrotis catalaunensis","2092a","macro","Not currently recorded in Kent, provide verification"]
["Guernsey Underwing",73.108000000000004,"Polyphaenis sericata","2302a","macro","Not currently recorded in Kent, provide verification"]
["Gypsy Moth",72.010999999999996,"Lymantria dispar",2034,"macro","Please check ID & provide verification"]
["Haworth's Minor",73.117999999999995,"Celaena haworthii",2367,"macro","Not currently recorded in Kent, provide verification"]
["Haworth's Pug",70.146000000000001,"Eupithecia haworthiata",1813,"macro","Care is needed for ID, please be prepared to provide verification"]
["Heart & Club",73.319999999999993,"Agrotis clavis",2088,"macro","Care is needed for ID, please be prepared to provide verification"]
["Heart & Dart",73.316999999999993,"Agrotis exclamationis",2089,"macro"]
["Heart Moth",73.218000000000004,"Dicycla oo",2315,"macro","Not currently recorded in Kent, provide verification"]
["Heath Rivulet",70.135000000000005,"Perizoma minorata",1805,"macro","Not currently recorded in Kent, provide verification"]
["Heath Rustic",73.355999999999995,"Xestia agathina",2135,"macro","Please check ID & provide verification"]
["Hebrew Character",73.248999999999995,"Orthosia gothica",2190,"macro"]
["Hedge Rustic",73.251999999999995,"Tholera cespitis",2177,"macro"]
["Herald",72.001000000000005,"Scoliopteryx libatrix",2469,"macro"]
["Hoary Footman",72.046999999999997,"Eilema caniola",2045,"macro","Care is needed for ID, please be prepared to provide verification"]
["Hornet Moth",52.002000000000002,"Sesia apiformis",370,"macro","Care is needed for ID, please be prepared to provide verification"]
["Horse Chestnut",70.224999999999994,"Pachycnemia hippocastanaria",1905,"macro","Not currently recorded in Kent, provide verification"]
["Hummingbird Hawk-moth",69.010000000000005,"Macroglossum stellatarum",1984,"macro"]
["Ingrailed Clay",73.332999999999998,"Diarsia mendica",2120,"macro","Care is needed for ID, please be prepared to provide verification"]
["Irish Annulet",70.286000000000001,"Gnophos dumetata","1962a","macro","Not currently recorded in Kent, provide verification"]
["Iron Prominent",71.012,"Notodonta dromedarius",2000,"macro"]
["Isle of Wight Wave",70.007000000000005,"Idaea humiliata",1706,"macro","Not currently recorded in Kent, provide verification"]
["Jersey Black Arches",74.006,"Nola chlamitulalis","2079a","macro","Not currently recorded in Kent, provide verification"]
["Jersey Emerald",70.298000000000002,"Pseudoterpna coronillaria","1665a","macro","Not currently recorded in Kent, provide verification"]
["Jersey Mocha",70.034000000000006,"Cyclophora ruficiliaria","1678a","macro","Please check ID & provide verification"]
["Jersey Tiger",72.03,"Euplagia quadripunctaria",2067,"macro"]
["Jubilee Fan-foot",72.058000000000007,"Zanclognatha lunalis",2490,"macro","Not currently recorded in Kent, provide verification"]
["July Belle",70.040999999999997,"Scotopteryx luridata",1734,"macro","Please check ID & provide verification"]
["July Highflyer",70.073999999999998,"Hydriomena furcata",1777,"macro"]
["Juniper Carpet",70.081999999999994,"Thera juniperata",1771,"macro","Please check ID & provide verification"]
["Juniper Pug",70.158000000000001,"Eupithecia pusillata",1854,"macro","Care is needed for ID, please be prepared to provide verification"]
["Kent Black Arches",74.001999999999995,"Meganola albula",2076,"macro"]
["Kentish Glory",67.001000000000005,"Endromis versicolora",1644,"macro","Not currently recorded in Kent, provide verification"]
["Knot Grass",73.045000000000002,"Acronicta rumicis",2289,"macro","Care is needed for ID, please be prepared to provide verification"]
["Lace Border",70.021000000000001,"Scopula ornata",1687,"macro"]
["Lackey",66.003,"Malacosoma neustria",1634,"macro"]
["L-album Wainscot",73.3,"Mythimna l-album",2202,"macro"]
["Langmaid's Yellow Underwing",73.346999999999994,"Noctua janthina","2110a","macro"]
["Lappet",66.012,"Gastropacha quercifolia",1642,"macro"]
["Larch Pug",70.162999999999997,"Eupithecia lariciata",1856,"macro","Care is needed for ID, please be prepared to provide verification"]
["Large Dark Prominent",71.013999999999996,"Notodonta torva",2001,"macro","Not currently recorded in Kent, provide verification"]
["Large Ear",73.126999999999995,"Amphipoea lucens",2357,"macro","Not currently recorded in Kent, provide verification"]
["Large Emerald",70.299000000000007,"Geometra papilionaria",1666,"macro"]
["Large Nutmeg",73.156999999999996,"Apamea anceps",2333,"macro","Care is needed for ID, please be prepared to provide verification"]
["Large Ranunculus",73.236999999999995,"Polymixis flavicincta",2252,"macro","Care is needed for ID, please be prepared to provide verification"]
["Large Red-belted Clearwing",52.006999999999998,"Synanthedon culiciformis",381,"macro","Please check ID & provide verification"]
["Large Thorn",70.231999999999999,"Ennomos autumnaria",1911,"macro"]
["Large Twin-spot Carpet",70.055000000000007,"Xanthorhoe quadrifasiata",1726,"macro","Care is needed for ID, please be prepared to provide verification"]
["Large Wainscot",73.134,"Rhizedra lutosa",2375,"macro"]
["Large Yellow Underwing",73.341999999999999,"Noctua pronuba",2107,"macro"]
["Latin",73.08,"Callopistria juventina",2308,"macro","Please check ID & provide verification"]
["Latreille's Latin",73.081000000000003,"Callopistria latreillei",2309,"macro","Please check ID & provide verification"]
["Latticed Heath",70.218000000000004,"Chiasmia clathrata",1894,"macro","Care is needed for ID, please be prepared to provide verification"]
["Lead Belle",70.040000000000006,"Scotopteryx mucronata",1733,"macro","Not currently recorded in Kent, provide verification"]
["Lead-coloured Drab",73.245999999999995,"Orthosia populeti",2185,"macro","Care is needed for ID, please be prepared to provide verification"]
["Lead-coloured Pug",70.153000000000006,"Eupithecia plumbeolata",1814,"macro","Care is needed for ID, please be prepared to provide verification"]
["Least Black Arches",74.004000000000005,"Nola confusalis",2078,"macro","Care is needed for ID, please be prepared to provide verification"]
["Least Carpet",70.004000000000005,"Idaea rusticata",1699,"macro"]
["Least Minor",73.146000000000001,"Photedes captiuncula",2344,"macro","Not currently recorded in Kent, provide verification"]
["Least Yellow Underwing",73.346000000000004,"Noctua interjecta",2112,"macro"]
["Lempke's Gold Spot",73.022999999999996,"Plusia putnami",2440,"macro","Not currently recorded in Kent, provide verification"]
["Leopard Moth",50.002000000000002,"Zeuzera pyrina",161,"macro"]
["Lesser Belle",72.067999999999998,"Colobochyla salicalis",2472,"macro","Not currently recorded in Kent, provide verification"]
["Lesser Broad-bordered Yellow Underwing",73.347999999999999,"Noctua janthe",2111,"macro","Care is needed for ID, please be prepared to provide verification"]
["Lesser Common Rustic",73.17,"Mesapamea didyma","2343a","macro","gen det or 2343x / 73.1691"]
["Lesser Cream Wave",70.025000000000006,"Scopula immutata",1692,"macro","Care is needed for ID, please be prepared to provide verification"]
["Lesser Swallow Prominent",71.018000000000001,"Pheosia gnoma",2006,"macro","Care is needed for ID, please be prepared to provide verification"]
["Lesser Treble-bar",70.192999999999998,"Aplocera efformata",1868,"macro","Care is needed for ID, please be prepared to provide verification"]
["Lesser Yellow Underwing",73.344999999999999,"Noctua comes",2109,"macro"]
["Lesser-spotted Pinion",73.215000000000003,"Cosmia affinis",2316,"macro","Care is needed for ID, please be prepared to provide verification"]
["Levant Blackneck",72.064999999999998,"Tathorhynchus exsiccata",2296,"macro","Please check ID & provide verification"]
["Lewes Wave",70.019000000000005,"Scopula immorata",1683,"macro","Not currently recorded in Kent, provide verification"]
["Light Arches",73.162999999999997,"Apamea lithoxylaea",2322,"macro"]
["Light Brocade",73.263000000000005,"Lacanobia w-latinum",2157,"macro","Care is needed for ID, please be prepared to provide verification"]
["Light Crimson Underwing",72.081999999999994,"Catocala promissa",2454,"macro","Care is needed for ID, please be prepared to provide verification"]
["Light Emerald",70.283000000000001,"Campaea margaritaria",1961,"macro"]
["Light Feathered Rustic",73.316000000000003,"Agrotis cinerea",2084,"macro"]
["Light Knot Grass",73.042000000000002,"Acronicta menyanthidis",2286,"macro","Not currently recorded in Kent, provide verification"]
["Light Orange Underwing",70.203999999999994,"Boudinotiana notha",1662,"macro","Care is needed for ID, please be prepared to provide verification"]
["Lilac Beauty",70.230999999999995,"Apeira syringaria",1910,"macro"]
["Lime Hawk-moth",69.001000000000005,"Mimas tiliae",1979,"macro"]
["Lime-speck Pug",70.173000000000002,"Eupithecia centaureata",1825,"macro"]
["Little Emerald",70.302999999999997,"Jodis lactearia",1674,"macro","Care is needed for ID, please be prepared to provide verification"]
["Little Thorn",70.221000000000004,"Cepphis advenaria",1901,"macro","Please check ID & provide verification"]
["Lobster Moth",71.009,"Stauropus fagi",1999,"macro"]
["Lorimer's Rustic",73.093999999999994,"Caradrina flavirena",2388,"macro","Not currently recorded in Kent, provide verification"]
["Lunar Double-stripe",72.085999999999999,"Minucia lunaris",2456,"macro","Please check ID & provide verification"]
["Lunar Hornet Moth",52.003,"Sesia bembeciformis",371,"macro","Care is needed for ID, please be prepared to provide verification"]
["Lunar Marbled Brown",71.010999999999996,"Drymonia ruficornis",2015,"macro","Care is needed for ID, please be prepared to provide verification"]
["Lunar Thorn",70.238,"Selenia lunularia",1918,"macro","Care is needed for ID, please be prepared to provide verification"]
["Lunar Underwing",73.192999999999998,"Omphaloscelis lunosa",2270,"macro"]
["Lunar Yellow Underwing",73.343999999999994,"Noctua orbona",2108,"macro","Not currently recorded in Kent, provide verification"]
["Lunar-spotted Pinion",73.216999999999999,"Cosmia pyralina",2319,"macro","Care is needed for ID, please be prepared to provide verification"]
["Lychnis",73.281000000000006,"Hadena bicruris",2173,"macro","Care is needed for ID, please be prepared to provide verification"]
["Lydd Beauty",70.260999999999996,"Peribatodes ilicaria","1937b","macro","Please check ID & provide verification"]
["Lyme Grass",73.138000000000005,"Longalatedes elymi",2348,"macro","Please check ID & provide verification"]
["Magpie",70.204999999999998,"Abraxas grossulariata",1884,"macro"]
["Maiden's Blush",70.036000000000001,"Cyclophora punctaria",1680,"macro","Care is needed for ID, please be prepared to provide verification"]
["Maize Wainscot",73.177000000000007,"Sesamia nonagrioides","2379a","macro","Not currently recorded in Kent, provide verification"]
["Mallow",70.069999999999993,"Larentia clavaria",1745,"macro"]
["Manchester Treble-bar",70.191000000000003,"Carsia sororiata ",1866,"macro","Not currently recorded in Kent, provide verification"]
["Many-lined",70.058000000000007,"Costaconvexa polygrammata",1741,"macro","Not currently recorded in Kent, provide verification"]
["Maple Prominent",71.022000000000006,"Ptilodon cucullina",2009,"macro"]
["Maple Pug",70.147999999999996,"Eupithecia inturbata",1812,"macro","Care is needed for ID, please be prepared to provide verification"]
["Map-winged Swift",3.0030000000000001,"Korscheltellus fusconebulosa",18,"macro","Care is needed for ID, please be prepared to provide verification"]
["Marbled Beauty",73.084000000000003,"Bryophila domestica",2293,"macro","Care is needed for ID, please be prepared to provide verification"]
["Marbled Brown",71.010000000000005,"Drymonia dodonaea",2014,"macro","Care is needed for ID, please be prepared to provide verification"]
["Marbled Clover",73.072000000000003,"Heliothis viriplaca",2401,"macro","Not currently recorded in Kent, provide verification"]
["Marbled Coronet",73.283000000000001,"Hadena confusa",2171,"macro","Care is needed for ID, please be prepared to provide verification"]
["Marbled Green",73.084999999999994,"Nyctobrya muralis",2295,"macro","Care is needed for ID, please be prepared to provide verification"]
["Marbled Grey",73.082999999999998,"Bryophila raptricula",2294,"macro","Please check ID & provide verification"]
["Marbled Minor",73.173000000000002,"Oligia strigilis",2337,"macro","gen det or 2337x / 73.1731"]
["Marbled Minor agg.",73.173100000000005,"Oligia strigilis agg.","2337x","macro"]
["Marbled Pug",70.17,"Eupithecia irriguata",1818,"macro","Not currently recorded in Kent, provide verification"]
["Marbled White Spot",73.024000000000001,"Deltote pygarga",2410,"macro"]
["March Moth",70.245000000000005,"Alsophila aescularia",1663,"macro"]
["Marsh Carpet",70.14,"Gagitodes sagittata",1810,"macro","Not currently recorded in Kent, provide verification"]
["Marsh Dagger",73.040999999999997,"Acronicta strigosa",2285,"macro","Please check ID & provide verification"]
["Marsh Mallow Moth",73.125,"Hydraecia osseola",2363,"macro"]
["Marsh Moth",73.102999999999994,"Athetis pallustris",2392,"macro","Not currently recorded in Kent, provide verification"]
["Marsh Oblique-barred",72.06,"Hypenodes humidalis",2485,"macro","Not currently recorded in Kent, provide verification"]
["Marsh Pug",70.153999999999996,"Eupithecia pygmaeata",1822,"macro","Not currently recorded in Kent, provide verification"]
["Mathew's Wainscot",73.292000000000002,"Mythimna favicolor",2200,"macro","Please check ID & provide verification"]
["May Highflyer",70.075000000000003,"Hydriomena impluviata",1778,"macro"]
["Mediterranean Brocade",73.088999999999999,"Spodoptera littoralis",2386,"macro","Please check ID & provide verification"]
["Mere Wainscot",73.144999999999996,"Photedes fluxa",2349,"macro","Care is needed for ID, please be prepared to provide verification"]
["Merveille du Jour",73.224000000000004,"Griposia aprilina",2247,"macro"]
["Middle-barred Minor",73.176000000000002,"Oligia fasciuncula",2340,"macro"]
["Miller",73.040000000000006,"Acronicta leporina",2280,"macro"]
["Minor Shoulder-knot",73.22,"Brachylomia viminalis",2225,"macro"]
["Minsmere Crimson Underwing",72.076999999999998,"Catocala conjuncta","2451a","macro","Not currently recorded in Kent, provide verification"]
["Mocha",70.031000000000006,"Cyclophora annularia",1676,"macro"]
["Morris's Wainscot",73.147999999999996,"Photedes morrisii",2346,"macro","Not currently recorded in Kent, provide verification"]
["Mother Shipton",72.084000000000003,"Euclidia mi",2462,"macro"]
["Mottled Beauty",70.265000000000001,"Alcis repandata",1941,"macro","Care is needed for ID, please be prepared to provide verification"]
["Mottled Grey",70.100999999999999,"Colostygia multistrigaria",1775,"macro","Care is needed for ID, please be prepared to provide verification"]
["Mottled Pug",70.183999999999997,"Eupithecia exiguata",1819,"macro","Care is needed for ID, please be prepared to provide verification"]
["Mottled Rustic",73.091999999999999,"Caradrina morpheus",2387,"macro","Care is needed for ID, please be prepared to provide verification"]
["Mottled Umber",70.256,"Erannis defoliaria",1935,"macro"]
["Mouse Moth",73.063999999999993,"Amphipyra tragopoginis",2299,"macro"]
["Mullein",73.058000000000007,"Cucullia verbasci",2221,"macro","Please check ID & provide verification"]
["Mullein Wave",70.022999999999996,"Scopula marginepunctata",1689,"macro"]
["Muslin Footman",72.036000000000001,"Nudaria mundana",2038,"macro","Care is needed for ID, please be prepared to provide verification"]
["Muslin Moth",72.022000000000006,"Diaphora mendica",2063,"macro"]
["Narrow-bordered Bee Hawk-moth",69.007999999999996,"Hemaris tityus",1982,"macro","Not currently recorded in Kent, provide verification"]
["Narrow-bordered Five-spot Burnet",54.009,"Zygaena lonicerae",171,"macro","Please check ID & provide verification"]
["Narrow-winged Pug",70.168000000000006,"Eupithecia nanata",1846,"macro","Care is needed for ID, please be prepared to provide verification"]
["Neglected Rustic",73.355000000000004,"Xestia castanea",2132,"macro","Care is needed for ID, please be prepared to provide verification"]
["Netted Carpet",70.087999999999994,"Eustroma reticulata",1772,"macro","Not currently recorded in Kent, provide verification"]
["Netted Mountain Moth",70.215999999999994,"Macaria carbonaria",1895,"macro","Not currently recorded in Kent, provide verification"]
["Netted Pug",70.155000000000001,"Eupithecia venosata",1823,"macro"]
["New Forest Burnet",54.006999999999998,"Zygaena viciae",168,"macro","Not currently recorded in Kent, provide verification"]
["Ni Moth",73.003,"Trichoplusia ni",2432,"macro","Care is needed for ID, please be prepared to provide verification"]
["Nonconformist",73.204999999999998,"Lithophane lamda",2239,"macro","Care is needed for ID, please be prepared to provide verification"]
["Northern Dart",73.363,"Xestia alpicola",2125,"macro","Not currently recorded in Kent, provide verification"]
["Northern Deep-brown Dart",73.231999999999999,"Aporophyla lueneburgensis","2231a","macro","Not currently recorded in Kent, provide verification"]
["Northern Drab",73.248000000000005,"Orthosia opima",2184,"macro","Care is needed for ID, please be prepared to provide verification"]
["Northern Rustic",73.340999999999994,"Standfussiana lucernea",2104,"macro","Care is needed for ID, please be prepared to provide verification"]
["Northern Spinach",70.090999999999994,"Eulithis populata",1756,"macro","Not currently recorded in Kent, provide verification"]
["Northern Winter Moth",70.105000000000004,"Operophtera fagata",1800,"macro","Care is needed for ID, please be prepared to provide verification"]
["November Moth",70.106999999999999,"Epirrita dilutata",1795,"macro","gen det or 1795x / 70.1071"]
["November Moth agg",70.107100000000003,"Epirrita dilutata agg.","1795x","macro"]
["Nutmeg",73.254999999999995,"Anarta trifolii",2145,"macro","Care is needed for ID, please be prepared to provide verification"]
["Nut-tree Tussock",73.031999999999996,"Colocasia coryli",2425,"macro"]
["Oak Beauty",70.251000000000005,"Biston strataria",1930,"macro"]
["Oak Eggar",66.007000000000005,"Lasiocampa quercus",1637,"macro","Care is needed for ID, please be prepared to provide verification"]
["Oak Hook-tip",65.001999999999995,"Watsonalla binaria",1646,"macro","Care is needed for ID, please be prepared to provide verification"]
["Oak Lutestring",65.013999999999996,"Cymatophorina diluta",1658,"macro"]
["Oak Nycteoline",74.009,"Nycteola revayana",2423,"macro","Care is needed for ID, please be prepared to provide verification"]
["Oak Processionary",71.001000000000005,"Thaumetopoea processionea",2022,"macro","Care is needed for ID, please be prepared to provide verification"]
["Oak Rustic",73.222999999999999,"Dryobota labecula","2246a","macro","Please check ID & provide verification"]
["Oak Yellow Underwing",72.075000000000003,"Catocala nymphagoga","2455a","macro","Not currently recorded in Kent, provide verification"]
["Oak-tree Pug",70.156999999999996,"Eupithecia dodoneata",1853,"macro","Care is needed for ID, please be prepared to provide verification"]
["Oblique Carpet",70.046000000000006,"Orthonama vittata",1719,"macro"]
["Oblique Striped",70.039000000000001,"Phibalapteryx virgata",1718,"macro"]
["Obscure Wainscot",73.302000000000007,"Leucania obsoleta",2204,"macro","Care is needed for ID, please be prepared to provide verification"]
["Ochraceous Wave",70.001000000000005,"Idaea serpentata",1697,"macro","Not currently recorded in Kent, provide verification"]
["Ochreous Pug",70.171000000000006,"Eupithecia indigata",1844,"macro","Care is needed for ID, please be prepared to provide verification"]
["Old Lady",73.106999999999999,"Mormo maura",2300,"macro"]
["Oleander Hawk-moth",69.010999999999996,"Daphnis nerii",1985,"macro","Not currently recorded in Kent, provide verification"]
["Olive",73.212999999999994,"Ipimorpha subtusa",2312,"macro","Care is needed for ID, please be prepared to provide verification"]
["Olive Crescent",72.069999999999993,"Trisateles emortualis",2495,"macro"]
["Olive-tree Beauty",70.259,"Peribatodes umbraria","1937c","macro","Not currently recorded in Kent, provide verification"]
["Orache Moth",73.105999999999995,"Trachea atriplicis",2304,"macro","Please check ID & provide verification"]
["Orange Footman",72.049000000000007,"Eilema sororcula",2043,"macro"]
["Orange Moth",70.23,"Angerona prunaria",1924,"macro"]
["Orange Sallow",73.179000000000002,"Tiliacea citrago",2271,"macro"]
["Orange Swift",3.0009999999999999,"Triodia sylvina",15,"macro"]
["Orange Underwing",70.203000000000003,"Archiearis parthenias",1661,"macro","Care is needed for ID, please be prepared to provide verification"]
["Orange Upperwing",73.198999999999998,"Jodia croceago",2257,"macro","Not currently recorded in Kent, provide verification"]
["Orange-tailed Clearwing",52.01,"Synanthedon andrenaeformis",378,"macro","Please check ID & provide verification"]
["Paignton Snout",72.004999999999995,"Hypena obesalis",2479,"macro","Not currently recorded in Kent, provide verification"]
["Pale Brindled Beauty",70.247,"Phigalia pilosaria",1926,"macro"]
["Pale Eggar",66.001999999999995,"Trichiura crataegi",1632,"macro"]
["Pale Mottled Willow",73.094999999999999,"Caradrina clavipalpis",2389,"macro","Care is needed for ID, please be prepared to provide verification"]
["Pale November Moth",70.108000000000004,"Epirrita christyi",1796,"macro","gen det or 1795x / 70.1071"]
["Pale Oak Beauty",70.268000000000001,"Hypomecis punctinalis",1944,"macro","Care is needed for ID, please be prepared to provide verification"]
["Pale Pinion",73.200999999999993,"Lithophane socia",2236,"macro","Care is needed for ID, please be prepared to provide verification"]
["Pale Prominent",71.02,"Pterostoma palpina",2011,"macro"]
["Pale Shining Brown",73.259,"Polia bombycina",2148,"macro","Care is needed for ID, please be prepared to provide verification"]
["Pale Shoulder",73.028000000000006,"Acontia lucida",2415,"macro","Please check ID & provide verification"]
["Pale Stigma",73.185000000000002,"Mesogona acetosellae",2141,"macro","Not currently recorded in Kent, provide verification"]
["Pale Tussock",72.015000000000001,"Calliteara pudibunda",2028,"macro"]
["Pale-lemon Sallow",73.183999999999997,"Cirrhia ocellaris",2276,"macro","Care is needed for ID, please be prepared to provide verification"]
["Pale-shouldered Brocade",73.263999999999996,"Lacanobia thalassina",2158,"macro","Care is needed for ID, please be prepared to provide verification"]
["Pale-shouldered Cloud",73.111999999999995,"Chloantha hyperici","2097a","macro","Please check ID & provide verification"]
["Passenger",72.087000000000003,"Dysgonia algira",2460,"macro","Please check ID & provide verification"]
["Patton's Tiger",72.028000000000006,"Hyphoraia testudinaria","2058a","macro","Not currently recorded in Kent, provide verification"]
["Pauper or Fletcher's Pug",70.164000000000001,"Eupithecia egenaria",1824,"macro","Not currently recorded in Kent, provide verification"]
["Peach Blossom",65.007999999999996,"Thyatira batis",1652,"macro"]
["Peacock Moth",70.210999999999999,"Macaria notata",1889,"macro","Care is needed for ID, please be prepared to provide verification"]
["Pearly Underwing",73.307000000000002,"Peridroma saucia",2119,"macro","Care is needed for ID, please be prepared to provide verification"]
["Pease Blossom",73.076999999999998,"Periphanes delphinii",2398,"macro","Not currently recorded in Kent, provide verification"]
["Pebble Hook-tip",65.004999999999995,"Drepana falcataria",1648,"macro"]
["Pebble Prominent",71.013000000000005,"Notodonta ziczac",2003,"macro"]
["Peppered Moth",70.251999999999995,"Biston betularia",1931,"macro"]
["Phoenix",70.088999999999999,"Eulithis prunata",1754,"macro"]
["Pigmy Footman",72.048000000000002,"Eilema pygmaeola",2046,"macro","Care is needed for ID, please be prepared to provide verification"]
["Pimpinel Pug",70.165000000000006,"Eupithecia pimpinellata",1845,"macro","Care is needed for ID, please be prepared to provide verification"]
["Pine Beauty",73.241,"Panolis flammea",2179,"macro"]
["Pine Carpet",70.076999999999998,"Pennithera firmata",1767,"macro"]
["Pine Hawk-moth",69.007000000000005,"Sphinx pinastri",1978,"macro"]
["Pine Processionary",71.001999999999995,"Thaumetopoea pityocampa",2021,"macro","Not currently recorded in Kent, provide verification"]
["Pine-tree Lappet",66.009,"Dendrolimus pini",1639,"macro","Please check ID & provide verification"]
["Pinion-spotted Pug",70.174000000000007,"Eupithecia insigniata",1820,"macro"]
["Pinion-streaked Snout",72.061000000000007,"Schrankia costaestrigalis",2484,"macro","Care is needed for ID, please be prepared to provide verification"]
["Pink-barred Sallow",73.180999999999997,"Xanthia togata",2273,"macro"]
["Plain Clay",73.366,"Eugnorisma depuncta",2103,"macro","Not currently recorded in Kent, provide verification"]
["Plain Golden Y",73.016999999999996,"Autographa jota",2443,"macro"]
["Plain Pug",70.165999999999997,"Eupithecia simpliciata",1842,"macro","Care is needed for ID, please be prepared to provide verification"]
["Plain Wave",70.018000000000001,"Idaea straminata",1715,"macro","Care is needed for ID, please be prepared to provide verification"]
["Plumed Fan-foot",72.057000000000002,"Pechipogo plumigeralis","2488a","macro","Care is needed for ID, please be prepared to provide verification"]
["Plumed Prominent",71.024000000000001,"Ptilophora plumigera",2013,"macro"]
["Poplar Grey",73.046000000000006,"Subacronicta megacephala",2278,"macro","Care is needed for ID, please be prepared to provide verification"]
["Poplar Hawk-moth",69.003,"Laothoe populi",1981,"macro"]
["Poplar Kitten",71.007000000000005,"Furcula bifida",1998,"macro","Care is needed for ID, please be prepared to provide verification"]
["Poplar Lutestring",65.010999999999996,"Tethea or",1655,"macro","Care is needed for ID, please be prepared to provide verification"]
["Porter's Rustic",73.103999999999999,"Athetis hospes","2392a","macro","Please check ID & provide verification"]
["Portland Moth",73.308000000000007,"Actebia praecox",2099,"macro","Please check ID & provide verification"]
["Portland Ribbon Wave",70.016999999999996,"Idaea degeneraria",1714,"macro"]
["Powdered Quaker",73.247,"Orthosia gracilis",2186,"macro"]
["Powdered Rustic",73.097999999999999,"Hoplodrina superstes",2383,"macro","Not currently recorded in Kent, provide verification"]
["Pretty Chalk Carpet",70.128,"Melanthia procellata",1784,"macro"]
["Pretty Marbled",73.025000000000006,"Deltote deceptoria",2411,"macro","Care is needed for ID, please be prepared to provide verification"]
["Pretty Pinion",70.135999999999996,"Perizoma blandiata",1806,"macro","Not currently recorded in Kent, provide verification"]
["Privet Hawk-moth",69.006,"Sphinx ligustri",1976,"macro"]
["Purple Bar",70.087000000000003,"Cosmorhoe ocellata",1752,"macro"]
["Purple Clay",73.331999999999994,"Diarsia brunnea",2122,"macro","Care is needed for ID, please be prepared to provide verification"]
["Purple Cloud",73.111000000000004,"Actinotia polyodon",2097,"macro","Please check ID & provide verification"]
["Purple Marbled",72.072000000000003,"Eublemma ostrina",2407,"macro","Please check ID & provide verification"]
["Purple Thorn",70.239000000000004,"Selenia tetralunaria",1919,"macro","Care is needed for ID, please be prepared to provide verification"]
["Purple Treble-bar",70.194000000000003,"Aplocera praeformata",1869,"macro","Not currently recorded in Kent, provide verification"]
["Purple-bordered Gold",70.001999999999995,"Idaea muricata",1698,"macro","Not currently recorded in Kent, provide verification"]
["Purple-shaded Gem",73.013000000000005,"Euchalcia variabilis",2438,"macro","Not currently recorded in Kent, provide verification"]
["Puss Moth",71.003,"Cerura vinula",1995,"macro"]
["Radford's Flame Shoulder",73.33,"Ochropleura leucogaster","2102a","macro","Please check ID & provide verification"]
["Rannoch Brindled Beauty",70.248999999999995,"Lycia lapponaria",1929,"macro","Not currently recorded in Kent, provide verification"]
["Rannoch Looper",70.216999999999999,"Macaria brunneata",1896,"macro"]
["Rannoch Sprawler",73.066000000000003,"Brachionycha nubeculosa",2228,"macro","Not currently recorded in Kent, provide verification"]
["Raspberry Clearwing",52.000999999999998,"Pennisetia hylaeiformis","369a","macro","Please check ID & provide verification"]
["Red Carpet",70.048000000000002,"Xanthorhoe decoloraria",1723,"macro","Please check ID & provide verification"]
["Red Chestnut",73.335999999999999,"Cerastis rubricosa",2139,"macro"]
["Red Sword-grass",73.209000000000003,"Xylena vetusta",2241,"macro","Please check ID & provide verification"]
["Red Twin-spot Carpet",70.051000000000002,"Xanthorhoe spadicearia",1724,"macro","Care is needed for ID, please be prepared to provide verification"]
["Red Underwing",72.078000000000003,"Catocala nupta",2452,"macro"]
["Red-belted Clearwing",52.011000000000003,"Synanthedon myopaeformis",379,"macro"]
["Reddish Buff",73.078000000000003,"Acosmetia caliginosa",2393,"macro","Not currently recorded in Kent, provide verification"]
["Reddish Light Arches",73.164000000000001,"Apamea sublustris",2323,"macro","Care is needed for ID, please be prepared to provide verification"]
["Red-green Carpet",70.094999999999999,"Chloroclysta siterata",1760,"macro","Care is needed for ID, please be prepared to provide verification"]
["Red-headed Chestnut",73.197999999999993,"Conistra erythrocephala",2261,"macro","Care is needed for ID, please be prepared to provide verification"]
["Red-line Quaker",73.188999999999993,"Agrochola lota",2263,"macro"]
["Red-necked Footman",72.042000000000002,"Atolmis rubricollis",2039,"macro"]
["Red-tipped Clearwing",52.008000000000003,"Synanthedon formicaeformis",380,"macro","Please check ID & provide verification"]
["Reed Dagger",73.034999999999997,"Simyra albovenosa",2290,"macro","Care is needed for ID, please be prepared to provide verification"]
["Reed Leopard",50.003,"Phragmataecia castaneae",160,"macro","Not currently recorded in Kent, provide verification"]
["Reed Tussock",72.013999999999996,"Laelia coenosa",2024,"macro","Not currently recorded in Kent, provide verification"]
["Rest Harrow",70.296000000000006,"Aplasta ononaria",1664,"macro"]
["Riband Wave",70.016000000000005,"Idaea aversata",1713,"macro"]
["Ringed Border",70.209000000000003,"Stegania cararia","1888b","macro","Not currently recorded in Kent, provide verification"]
["Ringed Carpet",70.263000000000005,"Cleora cinctaria",1939,"macro","Not currently recorded in Kent, provide verification"]
["Rivulet",70.132000000000005,"Perizoma affinitata",1802,"macro","Care is needed for ID, please be prepared to provide verification"]
["Rosy Footman",72.034999999999997,"Miltochrista miniata",2037,"macro"]
["Rosy Marbled",73.090999999999994,"Elaphria venustula",2396,"macro","Care is needed for ID, please be prepared to provide verification"]
["Rosy Marsh Moth",73.364000000000004,"Coenophila subrosea",2115,"macro","Not currently recorded in Kent, provide verification"]
["Rosy Minor",73.171000000000006,"Litoligia literosa",2342,"macro"]
["Rosy Rustic",73.123000000000005,"Hydraecia micacea",2361,"macro"]
["Rosy Underwing",72.078999999999994,"Catocala electa",2453,"macro","Please check ID & provide verification"]
["Rosy Wave",70.028000000000006,"Scopula emutaria",1691,"macro"]
["Round-winged Muslin",72.037000000000006,"Thumatha senex",2035,"macro","Care is needed for ID, please be prepared to provide verification"]
["Royal Mantle",70.055999999999997,"Catarhoe cuculata",1736,"macro","Please check ID & provide verification"]
["Ruby Tiger",72.024000000000001,"Phragmatobia fuliginosa",2064,"macro"]
["Ruddy Carpet",70.057000000000002,"Catarhoe rubidata",1735,"macro"]
["Ruddy Highflyer",70.075999999999993,"Hydriomena ruberata",1779,"macro","Not currently recorded in Kent, provide verification"]
["Rufous Minor",73.174999999999997,"Oligia versicolor",2338,"macro","gen det or 2337x / 73.1731"]
["Rush Wainscot",73.152000000000001,"Globia algae",2374,"macro","Care is needed for ID, please be prepared to provide verification"]
["Rustic",73.096999999999994,"Hoplodrina blanda",2382,"macro","Please check ID & provide verification, otherwise 2381x 73.0961"]
["Rustic Shoulder-knot",73.158000000000001,"Apamea sordens",2334,"macro"]
["Sallow",73.182000000000002,"Cirrhia icteritia",2274,"macro"]
["Sallow Clearwing",52.009,"Synanthedon flaviventris",377,"macro","Please check ID & provide verification"]
["Sallow Kitten",71.004999999999995,"Furcula furcula",1997,"macro","Care is needed for ID, please be prepared to provide verification"]
["Saltern Ear",73.126000000000005,"Amphipoea fucosa",2358,"macro","gen det or 2360x / 73.1281"]
["Sand Dart",73.322999999999993,"Agrotis ripae",2093,"macro"]
["Sandhill Rustic",73.132000000000005,"Luperina nickerlii",2354,"macro","Care is needed for ID, please be prepared to provide verification"]
["Sandy Carpet",70.138000000000005,"Perizoma flavofasciata",1808,"macro"]
["Satellite",73.209999999999994,"Eupsilia transversa",2256,"macro"]
["Satin Beauty",70.263999999999996,"Deileptenia ribeata",1940,"macro","Care is needed for ID, please be prepared to provide verification"]
["Satin Lutestring",65.012,"Tetheella fluctuosa",1656,"macro","Care is needed for ID, please be prepared to provide verification"]
["Satin Wave",70.009,"Idaea subsericeata",1709,"macro","Care is needed for ID, please be prepared to provide verification"]
["Satyr Pug",70.177000000000007,"Eupithecia satyrata",1828,"macro","Care is needed for ID, please be prepared to provide verification"]
["Saxon",73.11,"Hyppa rectilinea",2320,"macro","Not currently recorded in Kent, provide verification"]
["Scallop Shell",70.120999999999995,"Hydria undulata",1789,"macro"]
["Scalloped Hazel",70.239999999999995,"Odontopera bidentata",1920,"macro"]
["Scalloped Hook-tip",65.001000000000005,"Falcaria lacertinaria",1645,"macro"]
["Scalloped Oak",70.241,"Crocallis elinguaria",1921,"macro"]
["Scar Bank Gem",73.004999999999995,"Ctenoplusia limbirena",2430,"macro","Care is needed for ID, please be prepared to provide verification"]
["Scarce Arches",73.132999999999996,"Fabula zollikoferi",2356,"macro","Please check ID & provide verification"]
["Scarce Black Arches",74.004999999999995,"Nola aerugula",2079,"macro","Please check ID & provide verification"]
["Scarce Blackneck",72.063999999999993,"Lygephila craccae",2467,"macro","Not currently recorded in Kent, provide verification"]
["Scarce Bordered Straw",73.075999999999993,"Helicoverpa armigera",2400,"macro"]
["Scarce Brindle",73.165999999999997,"Apamea lateritia",2328,"macro","Please check ID & provide verification"]
["Scarce Burnished Brass",73.010999999999996,"Diachrysia chryson",2435,"macro","Not currently recorded in Kent, provide verification"]
["Scarce Chocolate-tip",71.028999999999996,"Clostera anachoreta",2018,"macro","Care is needed for ID, please be prepared to provide verification"]
["Scarce Dagger",73.043000000000006,"Acronicta auricoma",2287,"macro","Not currently recorded in Kent, provide verification"]
["Scarce Footman",72.046000000000006,"Eilema complana",2047,"macro","Care is needed for ID, please be prepared to provide verification"]
["Scarce Forester",54.000999999999998,"Jordanita globulariae",165,"macro","Please check ID & provide verification"]
["Scarce Hook-tip",65.006,"Sabra harpagula",1650,"macro","Not currently recorded in Kent, provide verification"]
["Scarce Marbled",72.070999999999998,"Eublemma minutata",2409,"macro","Not currently recorded in Kent, provide verification"]
["Scarce Merveille du Jour",73.034000000000006,"Moma alpium",2277,"macro"]
["Scarce Prominent",71.022999999999996,"Odontosia carmelita",2010,"macro"]
["Scarce Pug",70.177999999999997,"Eupithecia extensaria",1847,"macro","Care is needed for ID, please be prepared to provide verification"]
["Scarce Silver Y",73.021000000000001,"Syngrapha interrogationis",2447,"macro","Care is needed for ID, please be prepared to provide verification"]
["Scarce Silver-lines",74.007000000000005,"Bena bicolorana",2421,"macro"]
["Scarce Tissue",70.122,"Hydria cervinalis",1788,"macro","Care is needed for ID, please be prepared to provide verification"]
["Scarce Umber",70.254000000000005,"Agriopis aurantiaria",1933,"macro"]
["Scarce Vapourer",72.018000000000001,"Orgyia recens",2025,"macro","Not currently recorded in Kent, provide verification"]
["Scarce Wormwood",73.051000000000002,"Cucullia artemisiae",2213,"macro","Not currently recorded in Kent, provide verification"]
["Scarlet Tiger",72.028999999999996,"Callimorpha dominula",2068,"macro","Please check ID & provide verification"]
["Scorched Carpet",70.207999999999998,"Ligdia adustata",1888,"macro"]
["Scorched Wing",70.224000000000004,"Plagodis dolabraria",1904,"macro"]
["Scotch Annulet",70.284999999999997,"Gnophos obfuscata",1963,"macro","Not currently recorded in Kent, provide verification"]
["Scotch Burnet",54.006,"Zygaena exulans",166,"macro","Not currently recorded in Kent, provide verification"]
["September Thorn",70.236000000000004,"Ennomos erosaria",1915,"macro","Care is needed for ID, please be prepared to provide verification"]
["Seraphim",70.197999999999993,"Lobophora halterata",1879,"macro","Care is needed for ID, please be prepared to provide verification"]
["Setaceous Hebrew Character",73.358999999999995,"Xestia c-nigrum",2126,"macro"]
["Shaded Broad-bar",70.045000000000002,"Scotopteryx chenopodiata",1732,"macro"]
["Shaded Fan-foot",72.054000000000002,"Herminia tarsicrinalis",2491,"macro","Care is needed for ID, please be prepared to provide verification"]
["Shaded Pug",70.188999999999993,"Eupithecia subumbrata",1840,"macro","Care is needed for ID, please be prepared to provide verification"]
["Shark",73.052000000000007,"Cucullia umbratica",2216,"macro","Care is needed for ID, please be prepared to provide verification"]
["Sharp-angled Carpet",70.064999999999998,"Euphyia unangulata",1794,"macro","Care is needed for ID, please be prepared to provide verification"]
["Sharp-angled Peacock",70.212000000000003,"Macaria alternata",1890,"macro","Care is needed for ID, please be prepared to provide verification"]
["Shears",73.272999999999996,"Hada plebeja",2147,"macro"]
["Shining Marbled",73.085999999999999,"Pseudeustrotia candidula","2413a","macro","Not currently recorded in Kent, provide verification"]
["Shore Wainscot",73.299000000000007,"Mythimna litoralis",2201,"macro"]
["Short-cloaked Moth",74.003,"Nola cucullatella",2077,"macro"]
["Shoulder-stripe",70.066000000000003,"Earophila badiata",1746,"macro"]
["Shoulder-striped Clover",73.072999999999993,"Heliothis maritima",2402,"macro","Not currently recorded in Kent, provide verification"]
["Shoulder-striped Wainscot",73.301000000000002,"Leucania comma",2205,"macro"]
["Shuttle-shaped Dart",73.325000000000003,"Agrotis puta",2092,"macro"]
["Silky Wainscot",73.099999999999994,"Chilodes maritima",2391,"macro"]
["Silky Wave",70.004999999999995,"Idaea dilutaria",1704,"macro","Not currently recorded in Kent, provide verification"]
["Silurian",73.305999999999997,"Eriopygodes imbecilla",2175,"macro","Not currently recorded in Kent, provide verification"]
["Silver Barred",73.027000000000001,"Deltote bankiana",2413,"macro"]
["Silver Cloud",73.251000000000005,"Egira conspicillaris",2181,"macro","Not currently recorded in Kent, provide verification"]
["Silver Hook",73.025999999999996,"Deltote uncula",2412,"macro","Please check ID & provide verification"]
["Silver Y",73.015000000000001,"Autographa gamma",2441,"macro"]
["Silver-ground Carpet",70.054000000000002,"Xanthorhoe montanata",1727,"macro"]
["Silver-striped Hawk-moth",69.018000000000001,"Hippotion celerio",1993,"macro","Please check ID & provide verification"]
["Silvery Arches",73.260000000000005,"Polia hepatica",2149,"macro","Care is needed for ID, please be prepared to provide verification"]
["Silvery Gem",73.078999999999994,"Eucarta virgo","2310a","macro","Not currently recorded in Kent, provide verification"]
["Single-dotted Wave",70.010999999999996,"Idaea dimidiata",1708,"macro","Care is needed for ID, please be prepared to provide verification"]
["Six-belted Clearwing",52.014000000000003,"Bembecia ichneumoniformis",382,"macro"]
["Six-Spot Burnet",54.008000000000003,"Zygaena filipendulae",169,"macro"]
["Six-striped Rustic",73.358000000000004,"Xestia sexstrigata",2133,"macro"]
["Slender Brindle",73.16,"Apamea scolopacina",2335,"macro"]
["Slender Burnished Brass",73.004000000000005,"Thysanoplusia orichalcea",2433,"macro","Not currently recorded in Kent, provide verification"]
["Slender Pug",70.147000000000006,"Eupithecia tenuiata",1811,"macro","Care is needed for ID, please be prepared to provide verification"]
["Slender Scotch Burnet",54.005000000000003,"Zygaena loti",167,"macro","Not currently recorded in Kent, provide verification"]
["Slender-striped Rufous",70.125,"Coenocalpe lapidata",1780,"macro","Not currently recorded in Kent, provide verification"]
["Sloe Carpet",70.281000000000006,"Aleucis distinctata",1959,"macro","Care is needed for ID, please be prepared to provide verification"]
["Sloe Pug",70.143000000000001,"Pasiphila chloerata",1859,"macro","Care is needed for ID, please be prepared to provide verification"]
["Small Angle Shades",73.114000000000004,"Euplexia lucipara",2305,"macro"]
["Small Argent & Sable",70.06,"Epirrhoe tristata",1737,"macro","Not currently recorded in Kent, provide verification"]
["Small Autumnal Moth",70.11,"Epirrita filigrammaria",1798,"macro","Not currently recorded in Kent, provide verification"]
["Small Black Arches",74.001000000000005,"Meganola strigula",2075,"macro","Not currently recorded in Kent, provide verification"]
["Small Blood-vein",70.024000000000001,"Scopula imitaria",1690,"macro"]
["Small Brindled Beauty",70.245999999999995,"Apocheima hispidaria",1925,"macro"]
["Small Chocolate-tip",71.028000000000006,"Clostera pigra",2017,"macro"]
["Small Clouded Brindle",73.159000000000006,"Apamea unanimis",2331,"macro","Care is needed for ID, please be prepared to provide verification"]
["Small Dark Yellow Underwing",73.257999999999996,"Coranarta cordigera",2143,"macro","Not currently recorded in Kent, provide verification"]
["Small Dotted Buff",73.147000000000006,"Photedes minima",2345,"macro"]
["Small Dotted Footman",72.040000000000006,"Pelosia obtusa",2042,"macro","Please check ID & provide verification"]
["Small Dusty Wave",70.007999999999996,"Idaea seriata",1707,"macro","Care is needed for ID, please be prepared to provide verification"]
["Small Eggar",66.004999999999995,"Eriogaster lanestris",1633,"macro","Not currently recorded in Kent, provide verification"]
["Small Elephant Hawk-moth",69.016999999999996,"Deilephila porcellus",1992,"macro"]
["Small Emerald",70.302000000000007,"Hemistola chrysoprasaria",1673,"macro"]
["Small Fan-foot",72.055000000000007,"Herminia grisealis",2492,"macro","Care is needed for ID, please be prepared to provide verification"]
["Small Fan-footed Wave",70.013000000000005,"Idaea biselata",1702,"macro","Care is needed for ID, please be prepared to provide verification"]
["Small Grass Emerald",70.305999999999997,"Chlorissa viridata",1670,"macro","Care is needed for ID, please be prepared to provide verification"]
["Small Lappet",66.010999999999996,"Phyllodesma ilicifolia",1641,"macro","Not currently recorded in Kent, provide verification"]
["Small Marbled",72.072999999999993,"Eublemma parva",2408,"macro","Care is needed for ID, please be prepared to provide verification"]
["Small Mottled Willow",73.087000000000003,"Spodoptera exigua",2385,"macro"]
["Small Phoenix",70.093999999999994,"Ecliptopera silaceata",1759,"macro"]
["Small Purple-barred",72.066999999999993,"Phytometra viridaria",2470,"macro","Care is needed for ID, please be prepared to provide verification"]
["Small Quaker",73.245000000000005,"Orthosia cruda",2182,"macro","Care is needed for ID, please be prepared to provide verification"]
["Small Ranunculus",73.28,"Hecatera dysodea",2165,"macro","Care is needed for ID, please be prepared to provide verification"]
["Small Rivulet",70.132999999999996,"Perizoma alchemillata",1803,"macro","Care is needed for ID, please be prepared to provide verification"]
["Small Rufous",73.141999999999996,"Coenobia rufa",2379,"macro","Care is needed for ID, please be prepared to provide verification"]
["Small Scallop",70.015000000000001,"Idaea emarginata",1712,"macro"]
["Small Seraphim",70.198999999999998,"Pterapherapteryx sexalata",1882,"macro","Care is needed for ID, please be prepared to provide verification"]
["Small Square-spot",73.334000000000003,"Diarsia rubi",2123,"macro","Care is needed for ID, please be prepared to provide verification"]
["Small Wainscot",73.144000000000005,"Denticucullus pygmina",2350,"macro","Care is needed for ID, please be prepared to provide verification"]
["Small Waved Umber",70.126000000000005,"Horisme vitalbata",1781,"macro"]
["Small White Wave",70.111000000000004,"Asthena albulata",1875,"macro","Care is needed for ID, please be prepared to provide verification"]
["Small Yellow Underwing",73.048000000000002,"Panemeria tenebrata",2397,"macro","Care is needed for ID, please be prepared to provide verification"]
["Small Yellow Wave",70.114000000000004,"Hydrelia flammeolaria",1876,"macro"]
["Smoky Wainscot",73.293000000000006,"Mythimna impura",2198,"macro","Care is needed for ID, please be prepared to provide verification"]
["Smoky Wave",70.025999999999996,"Scopula ternata",1694,"macro","Not currently recorded in Kent, provide verification"]
["Snout",72.003,"Hypena proboscidalis",2477,"macro"]
["Softly's Shoulder-knot",73.203999999999994,"Lithophane consocia","2238a","macro","Not currently recorded in Kent, provide verification"]
["Sombre Brocade",73.227000000000004,"Dichonioxa tenebrosa","2248b","macro","Care is needed for ID, please be prepared to provide verification"]
["Sorcerer",73.03,"Aedia leucomelas","2464a","macro","Not currently recorded in Kent, provide verification"]
["Southern Brindled Green",73.225999999999999,"Dryobotodes roboris","2248a","macro","Not currently recorded in Kent, provide verification"]
["Southern Chestnut",73.191000000000003,"Agrochola haematidea","2264a","macro","Not currently recorded in Kent, provide verification"]
["Southern Grass Emerald",70.307000000000002,"Chlorissa cloraria","1670a","macro","Not currently recorded in Kent, provide verification"]
["Southern Rustic",73.34,"Rhyacia lucipeta",2106,"macro","Not currently recorded in Kent, provide verification"]
["Southern Wainscot",73.293999999999997,"Mythimna straminea",2197,"macro","Care is needed for ID, please be prepared to provide verification"]
["Spalding's Dart",73.320999999999998,"Agrotis herzogi","2091a","macro","Not currently recorded in Kent, provide verification"]
["Spanish Carpet",70.042000000000002,"Scotopteryx peribolata",1730,"macro","Not currently recorded in Kent, provide verification"]
["Speckled Beauty",70.269000000000005,"Fagivorina arenaria",1946,"macro","Not currently recorded in Kent, provide verification"]
["Speckled Footman",72.031999999999996,"Coscinia cribraria",2053,"macro","Please check ID & provide verification"]
["Speckled Yellow",70.228999999999999,"Pseudopanthera macularia",1909,"macro"]
["Spectacle",73.001000000000005,"Abrostola tripartita",2450,"macro","Care is needed for ID, please be prepared to provide verification"]
["Spinach",70.091999999999999,"Eulithis mellinata",1757,"macro","Care is needed for ID, please be prepared to provide verification"]
["Splendid Brocade",73.268000000000001,"Lacanobia splendens","2160a","macro","Care is needed for ID, please be prepared to provide verification"]
["Spotted Clover Moth",73.070999999999998,"Protoschinia scutosa",2405,"macro"]
["Spotted Sulphur",73.028999999999996,"Acontia trabealis",2414,"macro","Not currently recorded in Kent, provide verification"]
["Sprawler",73.064999999999998,"Asteroscopus sphinx",2227,"macro"]
["Spring Usher",70.253,"Agriopis leucophaearia",1932,"macro"]
["Spruce Carpet",70.078999999999994,"Thera britannica",1769,"macro","Care is needed for ID, please be prepared to provide verification"]
["Spurge Hawk-moth",69.013000000000005,"Hyles euphorbiae",1986,"macro","Care is needed for ID, please be prepared to provide verification"]
["Square Spot",70.272000000000006,"Paradarisa consonaria",1949,"macro","Care is needed for ID, please be prepared to provide verification"]
["Square-spot Dart",73.311999999999998,"Euxoa obelisca",2080,"macro","Not currently recorded in Kent, provide verification"]
["Square-spot Rustic",73.356999999999999,"Xestia xanthographa",2134,"macro"]
["Square-spotted Clay",73.353999999999999,"Xestia stigmatica",2131,"macro","Care is needed for ID, please be prepared to provide verification"]
["Star-wort",73.055000000000007,"Cucullia asteris",2217,"macro"]
["Stephens' Gem",73.019000000000005,"Megalographa biloba",2445,"macro","Not currently recorded in Kent, provide verification"]
["Stout Dart",73.349000000000004,"Spaelotis ravida",2113,"macro","Not currently recorded in Kent, provide verification"]
["Stranger",73.269000000000005,"Lacanobia blenna",2161,"macro","Not currently recorded in Kent, provide verification"]
["Straw Belle",70.293000000000006,"Aspitates gilvaria",1967,"macro","Care is needed for ID, please be prepared to provide verification"]
["Straw Dot",72.001999999999995,"Rivula sericealis",2474,"macro"]
["Straw Underwing",73.108999999999995,"Thalpophila matura",2303,"macro"]
["Streak",70.194999999999993,"Chesias legatella",1864,"macro"]
["Streaked Plusia",73.007000000000005,"Vittaplusia vittata","2432a","macro","Not currently recorded in Kent, provide verification"]
["Streamer",70.066999999999993,"Anticlea derivata",1747,"macro"]
["Striped Hawk-moth",69.015000000000001,"Hyles livornica",1990,"macro"]
["Striped Lychnis",73.057000000000002,"Cucullia lychnitis",2219,"macro","Not currently recorded in Kent, provide verification"]
["Striped Twin-spot Carpet",70.102000000000004,"Coenotephria salicata",1753,"macro","Not currently recorded in Kent, provide verification"]
["Striped Wainscot",73.289000000000001,"Mythimna pudorina",2196,"macro"]
["Sub-angled Wave",70.02,"Scopula nigropunctata",1684,"macro","Care is needed for ID, please be prepared to provide verification"]
["Suspected",73.221000000000004,"Parastichtis suspecta",2268,"macro","Care is needed for ID, please be prepared to provide verification"]
["Sussex Emerald",70.304000000000002,"Thalera fimbrialis",1672,"macro","Care is needed for ID, please be prepared to provide verification"]
["Svensson's Copper Underwing",73.063000000000002,"Amphipyra berbera",2298,"macro","Please check ID & provide verification, otherwise 2297x 73.0631"]
["Swallow Prominent",71.016999999999996,"Pheosia tremula",2007,"macro","Care is needed for ID, please be prepared to provide verification"]
["Swallow-tailed Moth",70.242999999999995,"Ourapteryx sambucaria",1922,"macro"]
["Sweet Gale Moth",73.043999999999997,"Acronicta cinerea",2288,"macro","Not currently recorded in Kent, provide verification"]
["Sword-grass",73.207999999999998,"Xylena exsoleta",2242,"macro","Not currently recorded in Kent, provide verification"]
["Sycamore",73.039000000000001,"Acronicta aceris",2279,"macro"]
["Tamarisk Peacock",70.218999999999994,"Chiasmia aestimaria","1894a","macro","Care is needed for ID, please be prepared to provide verification"]
["Tawny Marbled Minor",73.174000000000007,"Oligia latruncula",2339,"macro","gen det or 2337x / 73.1731"]
["Tawny Pinion",73.2,"Lithophane semibrunnea",2235,"macro","Care is needed for ID, please be prepared to provide verification"]
["Tawny Prominent",71.007999999999996,"Harpyia milhauseri",2004,"macro","Not currently recorded in Kent, provide verification"]
["Tawny Shears",73.286000000000001,"Hadena perplexa",2167,"macro","Care is needed for ID, please be prepared to provide verification"]
["Tawny Speckled Pug",70.186999999999998,"Eupithecia icterata",1838,"macro","Care is needed for ID, please be prepared to provide verification"]
["Tawny Wave",70.022000000000006,"Scopula rubiginata",1688,"macro","Please check ID & provide verification"]
["Tawny-barred Angle",70.213999999999999,"Macaria liturata",1893,"macro"]
["Three-humped Prominent",71.015000000000001,"Notodonta tritophus",2002,"macro","Care is needed for ID, please be prepared to provide verification"]
["Thrift Clearwing",52.015999999999998,"Pyropteron muscaeformis",383,"macro","Not currently recorded in Kent, provide verification"]
["Thyme Pug",70.171999999999997,"Eupithecia distinctaria",1843,"macro","Not currently recorded in Kent, provide verification"]
["Tissue",70.123000000000005,"Triphosa dubitata",1790,"macro","Care is needed for ID, please be prepared to provide verification"]
["Toadflax Brocade",73.058999999999997,"Calophasia lunula",2223,"macro"]
["Toadflax Pug",70.150000000000006,"Eupithecia linariata",1816,"macro","Care is needed for ID, please be prepared to provide verification"]
["Transparent Burnet",54.003999999999998,"Zygaena purpuralis",172,"macro","Not currently recorded in Kent, provide verification"]
["Treble Brown Spot",70.012,"Idaea trigeminata",1711,"macro","Care is needed for ID, please be prepared to provide verification"]
["Treble Lines",73.100999999999999,"Charanyca trigrammica",2380,"macro"]
["Treble-bar",70.191999999999993,"Aplocera plagiata",1867,"macro","Care is needed for ID, please be prepared to provide verification"]
["Tree-lichen Beauty",73.081999999999994,"Cryphia algae",2292,"macro"]
["Triangle",53.002000000000002,"Heterogenea asella",174,"macro","Please check ID & provide verification"]
["Triple-spotted Clay",73.36,"Xestia ditrapezium",2127,"macro","Care is needed for ID, please be prepared to provide verification"]
["Triple-spotted Pug",70.174999999999997,"Eupithecia trisignaria",1826,"macro","Please check ID & provide verification"]
["True Lover's Knot",73.337999999999994,"Lycophotia porphyrea",2118,"macro"]
["Tunbridge Wells Gem",73.009,"Chrysodeixis acuta",2429,"macro","Please check ID & provide verification"]
["Turnip Moth",73.319000000000003,"Agrotis segetum",2087,"macro","Care is needed for ID, please be prepared to provide verification"]
["Twin-spot Carpet",70.131,"Mesotype didymata",1809,"macro","Care is needed for ID, please be prepared to provide verification"]
["Twin-spotted Quaker",73.25,"Anorthoa munda",2189,"macro"]
["Twin-spotted Wainscot",73.138999999999996,"Lenisa geminipuncta",2370,"macro","Care is needed for ID, please be prepared to provide verification"]
["Uncertain",73.096000000000004,"Hoplodrina octogenaria",2381,"macro","Please check ID & provide verification, otherwise 2381x 73.0961"]
["Uncertain/Rustic agg",73.096100000000007,"Hoplodrina alsines/blanda","2381x","macro"]
["Union Rustic",73.153000000000006,"Pabulatrix pabulatricula",2332,"macro","Not currently recorded in Kent, provide verification"]
["Valerian Pug",70.180999999999997,"Eupithecia valerianata",1821,"macro","Care is needed for ID, please be prepared to provide verification"]
["Vapourer",72.016999999999996,"Orgyia antiqua",2026,"macro"]
["Varied Coronet",73.281999999999996,"Hadena compta",2170,"macro","Care is needed for ID, please be prepared to provide verification"]
["Vestal",70.037999999999997,"Rhodometra sacraria",1716,"macro"]
["Vine's Rustic",73.099000000000004,"Hoplodrina ambigua",2384,"macro","Care is needed for ID, please be prepared to provide verification"]
["Viper's Bugloss",73.287000000000006,"Hadena irregularis",2168,"macro","Not currently recorded in Kent, provide verification"]
["V-Moth",70.215000000000003,"Macaria wauaria",1897,"macro","Not currently recorded in Kent, provide verification"]
["V-Pug",70.141999999999996,"Chloroclystis v-ata",1858,"macro"]
["Water Betony",73.055999999999997,"Cucullia scrophulariae",2220,"macro","Not currently recorded in Kent, provide verification"]
["Water Carpet",70.102999999999994,"Lampropteryx suffumata",1750,"macro"]
["Water Ermine",72.021000000000001,"Spilosoma urticae",2062,"macro","Care is needed for ID, please be prepared to provide verification"]
["Waved Black",72.066000000000003,"Parascotia fuliginaria",2475,"macro"]
["Waved Carpet",70.113,"Hydrelia sylvata",1877,"macro","Care is needed for ID, please be prepared to provide verification"]
["Waved Umber",70.257000000000005,"Menophra abruptaria",1936,"macro"]
["Weaver's Wave",70.013999999999996,"Idaea contiguaria",1710,"macro","Not currently recorded in Kent, provide verification"]
["Webb's Wainscot",73.150999999999996,"Globia sparganii",2373,"macro"]
["Wedgeling",73.09,"Galgula partita",null,"macro","Not currently recorded in Kent, provide verification"]
["Welsh Clearwing",52.005000000000003,"Synanthedon scoliaeformis",376,"macro","Not currently recorded in Kent, provide verification"]
["Welsh Wave",70.114999999999995,"Venusia cambrica",1873,"macro","Not currently recorded in Kent, provide verification"]
["White Colon",73.275000000000006,"Sideridis turbida",2152,"macro","Care is needed for ID, please be prepared to provide verification"]
["White Ermine",72.02,"Spilosoma lubricipeda",2060,"macro"]
["White Prominent",71.019000000000005,"Leucodonta bicoloria",2012,"macro","Not currently recorded in Kent, provide verification"]
["White Satin Moth",72.009,"Leucoma salicis",2031,"macro"]
["White Spot",73.284000000000006,"Hadena albimacula",2172,"macro"]
["White-banded Carpet",70.072999999999993,"Spargania luctuata",1786,"macro","Care is needed for ID, please be prepared to provide verification"]
["White-barred Clearwing",52.006,"Synanthedon spheciformis",375,"macro","Not currently recorded in Kent, provide verification"]
["White-line Dart",73.313000000000002,"Euxoa tritici",2081,"macro","Care is needed for ID, please be prepared to provide verification"]
["White-line Snout",72.061999999999998,"Schrankia taenialis",2482,"macro","Care is needed for ID, please be prepared to provide verification"]
["White-mantled Wainscot",73.14,"Archanara neurica",2372,"macro","Not currently recorded in Kent, provide verification"]
["White-marked",73.337000000000003,"Cerastis leucographa",2140,"macro","Care is needed for ID, please be prepared to provide verification"]
["White-pinion Spotted",70.278999999999996,"Lomographa bimaculata",1957,"macro"]
["White-point",73.296999999999997,"Mythimna albipuncta",2194,"macro","Care is needed for ID, please be prepared to provide verification"]
["White-speck",73.296000000000006,"Mythimna unipuncta",2203,"macro"]
["White-spotted Pinion",73.213999999999999,"Cosmia diffinis",2317,"macro","Please check ID & provide verification"]
["White-spotted Pug",70.16,"Eupithecia tripunctaria",1835,"macro","Care is needed for ID, please be prepared to provide verification"]
["Willow Beauty",70.257999999999996,"Peribatodes rhomboidaria",1937,"macro","Care is needed for ID, please be prepared to provide verification"]
["Willowherb Hawk-moth",69.012,"Proserpinus proserpina","1984a","macro","Not currently recorded in Kent, provide verification"]
["Winter Moth",70.105999999999995,"Operophtera brumata",1799,"macro","Care is needed for ID, please be prepared to provide verification"]
["Wood Carpet",70.061999999999998,"Epirrhoe rivata",1739,"macro","Care is needed for ID, please be prepared to provide verification"]
["Wood Tiger",72.025000000000006,"Parasemia plantaginis",2056,"macro","Not currently recorded in Kent, provide verification"]
["Wood's Dart",73.317999999999998,"Agrotis graslini","2083a","macro","Not currently recorded in Kent, provide verification"]
["Wormwood",73.05,"Cucullia absinthii",2211,"macro"]
["Wormwood Pug",70.179000000000002,"Eupithecia absinthiata",1830,"macro","Care is needed for ID, please be prepared to provide verification"]
["Yarrow Pug",70.186000000000007,"Eupithecia millefoliata",1841,"macro","Please check ID & provide verification"]
["Yellow Belle",70.293999999999997,"Aspitates ochrearia",1968,"macro","Care is needed for ID, please be prepared to provide verification"]
["Yellow Horned",65.016000000000005,"Achlya flavicornis",1659,"macro"]
["Yellow Shell",70.058999999999997,"Camptogramma bilineata",1742,"macro"]
["Yellow-barred Brindle",70.2,"Acasis viretata",1883,"macro"]
["Yellow-legged Clearwing",52.012,"Synanthedon vespiformis",374,"macro"]
["Yellow-line Quaker",73.19,"Agrochola macilenta",2264,"macro"]
["Yellow-ringed Carpet",70.070999999999998,"Entephria flavicinctata",1743,"macro","Not currently recorded in Kent, provide verification"]
["Yellow-tail",72.013000000000005,"Euproctis similis",2030,"macro"]