{"text_format":"1","workbook":"xlsx","n_sheets":7,"sheets":["Instructions"," micros entry sheet","FREE TEXT","Daily record summary","Monthly record summary","Earliest & latest date, peak No","Sheet2"],"not_rendered":{"charts":0,"images":3,"macros":1,"external_links":0,"defined_names":1,"comments":0,"pivot_tables":3},"unopened":[],"bounds":{"document_bytes":16777216,"sheet_cells":100000,"rows_first":2000,"rows_last":500,"rows_between":2000,"halvings":0,"cell_chars":16384,"cell_head_chars":4096},"cells_cut":0,"cells_raw":0,"read":"whole","date_system":"1900"}

{"sheet":"Instructions","index":0,"n_rows":33,"n_cols":2,"rows_kept":33,"cut":false,"hidden":false,"merged":[]}
["These entry sheets are designed so that all you only have to enter the LATIN NAME to populate the name fields.  "]
[]
[1,"Select the micro entry sheet.  If you try to enter micros onto the sheet it will not work"]
[]
[2,"Select the TAXON cell (column D) in the next blank row and type in the LATIN name of the moth until the name appears OR click on the dropdown arrow and select the name"]
[]
[3,"The taxon, common name and B&S number  (if there is one) will automatically populate"]
[]
[4,"Enter the remaining data across the row"]
[null,"Please enter the date as 3/4 (for 3rd of April) this will automatincall populate as the correct date format and will add the current year"]
[]
[5,"You do not have to type data into every row.  If date, site, grid reference, recorder etc are the same for each row then  you can automatically fill them by:"]
[5.0999999999999996,"Highlight the cells that you want to copy, typically this will be columns E - I in the completed row"]
[5.2,"Click on the bottom right hand corner of the highlighted cells to get a +"]
[5.3,"Hold down the Ctrl key "]
[5.4,"Drag down to the last row that you want to complete"]
[5.5,"Check that this has worked because you may find that the date has been changed in each row"]
[5.6,"If that is the case you can click on the box that will be present in the bottom right corner and select copy cells"]
[]
[6,"FOR NAMES THAT DO NOT GIVE A SPECIES"]
[6.1,"If the name that you have put in doesn't give a species check that the spelling is correct and that you are not trying to enter a mAcro"]
[6.2,"If the number is correct you can free text this record into the FREE TEXT sheet, these records will not show in the summary tables"]
[]
[]
["Summary sheets"]
[1,"The summary sheets will refresh automatically when you open the workbook."]
[2,"To update after adding data click on any cell in the table, right click with your mouse button and select refresh"]
[3,"The default is that all data recorded in the entry sheets will appear"]
[4,"There are filters at the top of each summary table that allow you to select the site, stage, method used and comments"]
[null,"The summary tables show"]
[null,"Daily records - total count of each species for that night"]
[null,"Monthly summary - total count of each species for that night"]
[null,"Earliest and latest dates and peak number in a night"]

{"sheet":" micros entry sheet","index":1,"n_rows":51277,"n_cols":19,"rows_kept":4500,"cut":true,"hidden":false,"merged":[],"bounds":{"rows_first":2000,"rows_last":500,"rows_between":2000,"halvings":0}}
["RES No","B&S","Common name","Common name","Taxon","id lookup","ID Guide","Site","Gridref","VC","Recorder","Determiner","Date","Quantity","Method","Sex","Stage","Status","Comment"]
[{"$f":"IF(OR(E2=\"\",ISBLANK(E2)),\"\",VLOOKUP(E2,Sheet2!A:F,2,FALSE))","v":""},{"$f":"IF(OR(E2=\"\",ISBLANK(E2)),\"\",VLOOKUP(E2,Sheet2!A:G,4,FALSE))","v":""},{"$f":"IF(D2=0,\"\",D2)","v":""},{"$f":"IF(OR(E2=\"\",ISBLANK(E2)),\"\",VLOOKUP(E2,Sheet2!A:H,3,FALSE))","v":""},"",{"$f":"IF(OR(E2=\"\",ISBLANK(E2)),\"\",VLOOKUP(E2,Sheet2!A:G,6,FALSE))","v":""},{"$f":"IF(F2=0,\"\",F2)","v":""}]
[{"$f":"IF(OR(E3=\"\",ISBLANK(E3)),\"\",VLOOKUP(E3,Sheet2!A:F,2,FALSE))","v":""},{"$f":"IF(OR(E3=\"\",ISBLANK(E3)),\"\",VLOOKUP(E3,Sheet2!A:G,4,FALSE))","v":""},{"$f":"IF(D3=0,\"\",D3)","v":""},{"$f":"IF(OR(E3=\"\",ISBLANK(E3)),\"\",VLOOKUP(E3,Sheet2!A:H,3,FALSE))","v":""},"",{"$f":"IF(OR(E3=\"\",ISBLANK(E3)),\"\",VLOOKUP(E3,Sheet2!A:G,6,FALSE))","v":""},{"$f":"IF(F3=0,\"\",F3)","v":""}]
[{"$f":"IF(OR(E4=\"\",ISBLANK(E4)),\"\",VLOOKUP(E4,Sheet2!A:F,2,FALSE))","v":""},{"$f":"IF(OR(E4=\"\",ISBLANK(E4)),\"\",VLOOKUP(E4,Sheet2!A:G,4,FALSE))","v":""},"",{"$f":"IF(OR(E4=\"\",ISBLANK(E4)),\"\",VLOOKUP(E4,Sheet2!A:H,3,FALSE))","v":""},null,{"$f":"IF(OR(E4=\"\",ISBLANK(E4)),\"\",VLOOKUP(E4,Sheet2!A:G,6,FALSE))","v":""},""]
[{"$f":"IF(OR(E5=\"\",ISBLANK(E5)),\"\",VLOOKUP(E5,Sheet2!A:F,2,FALSE))","v":""},{"$f":"IF(OR(E5=\"\",ISBLANK(E5)),\"\",VLOOKUP(E5,Sheet2!A:G,4,FALSE))","v":""},"",{"$f":"IF(OR(E5=\"\",ISBLANK(E5)),\"\",VLOOKUP(E5,Sheet2!A:H,3,FALSE))","v":""},null,{"$f":"IF(OR(E5=\"\",ISBLANK(E5)),\"\",VLOOKUP(E5,Sheet2!A:G,6,FALSE))","v":""},""]
[{"$f":"IF(OR(E6=\"\",ISBLANK(E6)),\"\",VLOOKUP(E6,Sheet2!A:F,2,FALSE))","v":""},{"$f":"IF(OR(E6=\"\",ISBLANK(E6)),\"\",VLOOKUP(E6,Sheet2!A:G,4,FALSE))","v":""},"",{"$f":"IF(OR(E6=\"\",ISBLANK(E6)),\"\",VLOOKUP(E6,Sheet2!A:H,3,FALSE))","v":""},null,{"$f":"IF(OR(E6=\"\",ISBLANK(E6)),\"\",VLOOKUP(E6,Sheet2!A:G,6,FALSE))","v":""},""]
[{"$f":"IF(OR(E7=\"\",ISBLANK(E7)),\"\",VLOOKUP(E7,Sheet2!A:F,2,FALSE))","v":""},{"$f":"IF(OR(E7=\"\",ISBLANK(E7)),\"\",VLOOKUP(E7,Sheet2!A:G,4,FALSE))","v":""},"",{"$f":"IF(OR(E7=\"\",ISBLANK(E7)),\"\",VLOOKUP(E7,Sheet2!A:H,3,FALSE))","v":""},null,{"$f":"IF(OR(E7=\"\",ISBLANK(E7)),\"\",VLOOKUP(E7,Sheet2!A:G,6,FALSE))","v":""},""]
[{"$f":"IF(OR(E8=\"\",ISBLANK(E8)),\"\",VLOOKUP(E8,Sheet2!A:F,2,FALSE))","v":""},{"$f":"IF(OR(E8=\"\",ISBLANK(E8)),\"\",VLOOKUP(E8,Sheet2!A:G,4,FALSE))","v":""},"",{"$f":"IF(OR(E8=\"\",ISBLANK(E8)),\"\",VLOOKUP(E8,Sheet2!A:H,3,FALSE))","v":""},null,{"$f":"IF(OR(E8=\"\",ISBLANK(E8)),\"\",VLOOKUP(E8,Sheet2!A:G,6,FALSE))","v":""},""]
[{"$f":"IF(OR(E9=\"\",ISBLANK(E9)),\"\",VLOOKUP(E9,Sheet2!A:F,2,FALSE))","v":""},{"$f":"IF(OR(E9=\"\",ISBLANK(E9)),\"\",VLOOKUP(E9,Sheet2!A:G,4,FALSE))","v":""},"",{"$f":"IF(OR(E9=\"\",ISBLANK(E9)),\"\",VLOOKUP(E9,Sheet2!A:H,3,FALSE))","v":""},null,{"$f":"IF(OR(E9=\"\",ISBLANK(E9)),\"\",VLOOKUP(E9,Sheet2!A:G,6,FALSE))","v":""},""]
[{"$f":"IF(OR(E10=\"\",ISBLANK(E10)),\"\",VLOOKUP(E10,Sheet2!A:F,2,FALSE))","v":""},{"$f":"IF(OR(E10=\"\",ISBLANK(E10)),\"\",VLOOKUP(E10,Sheet2!A:G,4,FALSE))","v":""},"",{"$f":"IF(OR(E10=\"\",ISBLANK(E10)),\"\",VLOOKUP(E10,Sheet2!A:H,3,FALSE))","v":""},null,{"$f":"IF(OR(E10=\"\",ISBLANK(E10)),\"\",VLOOKUP(E10,Sheet2!A:G,6,FALSE))","v":""},""]
[{"$f":"IF(OR(E11=\"\",ISBLANK(E11)),\"\",VLOOKUP(E11,Sheet2!A:F,2,FALSE))","v":""},{"$f":"IF(OR(E11=\"\",ISBLANK(E11)),\"\",VLOOKUP(E11,Sheet2!A:G,4,FALSE))","v":""},"",{"$f":"IF(OR(E11=\"\",ISBLANK(E11)),\"\",VLOOKUP(E11,Sheet2!A:H,3,FALSE))","v":""},null,{"$f":"IF(OR(E11=\"\",ISBLANK(E11)),\"\",VLOOKUP(E11,Sheet2!A:G,6,FALSE))","v":""},""]
[{"$f":"IF(OR(E12=\"\",ISBLANK(E12)),\"\",VLOOKUP(E12,Sheet2!A:F,2,FALSE))","v":""},{"$f":"IF(OR(E12=\"\",ISBLANK(E12)),\"\",VLOOKUP(E12,Sheet2!A:G,4,FALSE))","v":""},"",{"$f":"IF(OR(E12=\"\",ISBLANK(E12)),\"\",VLOOKUP(E12,Sheet2!A:H,3,FALSE))","v":""},null,{"$f":"IF(OR(E12=\"\",ISBLANK(E12)),\"\",VLOOKUP(E12,Sheet2!A:G,6,FALSE))","v":""},""]
[{"$f":"IF(OR(E13=\"\",ISBLANK(E13)),\"\",VLOOKUP(E13,Sheet2!A:F,2,FALSE))","v":""},{"$f":"IF(OR(E13=\"\",ISBLANK(E13)),\"\",VLOOKUP(E13,Sheet2!A:G,4,FALSE))","v":""},"",{"$f":"IF(OR(E13=\"\",ISBLANK(E13)),\"\",VLOOKUP(E13,Sheet2!A:H,3,FALSE))","v":""},null,{"$f":"IF(OR(E13=\"\",ISBLANK(E13)),\"\",VLOOKUP(E13,Sheet2!A:G,6,FALSE))","v":""},""]
[{"$f":"IF(OR(E14=\"\",ISBLANK(E14)),\"\",VLOOKUP(E14,Sheet2!A:F,2,FALSE))","v":""},{"$f":"IF(OR(E14=\"\",ISBLANK(E14)),\"\",VLOOKUP(E14,Sheet2!A:G,4,FALSE))","v":""},"",{"$f":"IF(OR(E14=\"\",ISBLANK(E14)),\"\",VLOOKUP(E14,Sheet2!A:H,3,FALSE))","v":""},null,{"$f":"IF(OR(E14=\"\",ISBLANK(E14)),\"\",VLOOKUP(E14,Sheet2!A:G,6,FALSE))","v":""},""]
[{"$f":"IF(OR(E15=\"\",ISBLANK(E15)),\"\",VLOOKUP(E15,Sheet2!A:F,2,FALSE))","v":""},{"$f":"IF(OR(E15=\"\",ISBLANK(E15)),\"\",VLOOKUP(E15,Sheet2!A:G,4,FALSE))","v":""},"",{"$f":"IF(OR(E15=\"\",ISBLANK(E15)),\"\",VLOOKUP(E15,Sheet2!A:H,3,FALSE))","v":""},null,{"$f":"IF(OR(E15=\"\",ISBLANK(E15)),\"\",VLOOKUP(E15,Sheet2!A:G,6,FALSE))","v":""},""]
[{"$f":"IF(OR(E16=\"\",ISBLANK(E16)),\"\",VLOOKUP(E16,Sheet2!A:F,2,FALSE))","v":""},{"$f":"IF(OR(E16=\"\",ISBLANK(E16)),\"\",VLOOKUP(E16,Sheet2!A:G,4,FALSE))","v":""},"",{"$f":"IF(OR(E16=\"\",ISBLANK(E16)),\"\",VLOOKUP(E16,Sheet2!A:H,3,FALSE))","v":""},null,{"$f":"IF(OR(E16=\"\",ISBLANK(E16)),\"\",VLOOKUP(E16,Sheet2!A:G,6,FALSE))","v":""},""]
[{"$f":"IF(OR(E17=\"\",ISBLANK(E17)),\"\",VLOOKUP(E17,Sheet2!A:F,2,FALSE))","v":""},{"$f":"IF(OR(E17=\"\",ISBLANK(E17)),\"\",VLOOKUP(E17,Sheet2!A:G,4,FALSE))","v":""},"",{"$f":"IF(OR(E17=\"\",ISBLANK(E17)),\"\",VLOOKUP(E17,Sheet2!A:H,3,FALSE))","v":""},null,{"$f":"IF(OR(E17=\"\",ISBLANK(E17)),\"\",VLOOKUP(E17,Sheet2!A:G,6,FALSE))","v":""},""]
[{"$f":"IF(OR(E18=\"\",ISBLANK(E18)),\"\",VLOOKUP(E18,Sheet2!A:F,2,FALSE))","v":""},{"$f":"IF(OR(E18=\"\",ISBLANK(E18)),\"\",VLOOKUP(E18,Sheet2!A:G,4,FALSE))","v":""},"",{"$f":"IF(OR(E18=\"\",ISBLANK(E18)),\"\",VLOOKUP(E18,Sheet2!A:H,3,FALSE))","v":""},null,{"$f":"IF(OR(E18=\"\",ISBLANK(E18)),\"\",VLOOKUP(E18,Sheet2!A:G,6,FALSE))","v":""},""]
[{"$f":"IF(OR(E19=\"\",ISBLANK(E19)),\"\",VLOOKUP(E19,Sheet2!A:F,2,FALSE))","v":""},{"$f":"IF(OR(E19=\"\",ISBLANK(E19)),\"\",VLOOKUP(E19,Sheet2!A:G,4,FALSE))","v":""},"",{"$f":"IF(OR(E19=\"\",ISBLANK(E19)),\"\",VLOOKUP(E19,Sheet2!A:H,3,FALSE))","v":""},null,{"$f":"IF(OR(E19=\"\",ISBLANK(E19)),\"\",VLOOKUP(E19,Sheet2!A:G,6,FALSE))","v":""},""]
[{"$f":"IF(OR(E20=\"\",ISBLANK(E20)),\"\",VLOOKUP(E20,Sheet2!A:F,2,FALSE))","v":""},{"$f":"IF(OR(E20=\"\",ISBLANK(E20)),\"\",VLOOKUP(E20,Sheet2!A:G,4,FALSE))","v":""},"",{"$f":"IF(OR(E20=\"\",ISBLANK(E20)),\"\",VLOOKUP(E20,Sheet2!A:H,3,FALSE))","v":""},null,{"$f":"IF(OR(E20=\"\",ISBLANK(E20)),\"\",VLOOKUP(E20,Sheet2!A:G,6,FALSE))","v":""},""]
[{"$f":"IF(OR(E21=\"\",ISBLANK(E21)),\"\",VLOOKUP(E21,Sheet2!A:F,2,FALSE))","v":""},{"$f":"IF(OR(E21=\"\",ISBLANK(E21)),\"\",VLOOKUP(E21,Sheet2!A:G,4,FALSE))","v":""},"",{"$f":"IF(OR(E21=\"\",ISBLANK(E21)),\"\",VLOOKUP(E21,Sheet2!A:H,3,FALSE))","v":""},null,{"$f":"IF(OR(E21=\"\",ISBLANK(E21)),\"\",VLOOKUP(E21,Sheet2!A:G,6,FALSE))","v":""},""]
[{"$f":"IF(OR(E22=\"\",ISBLANK(E22)),\"\",VLOOKUP(E22,Sheet2!A:F,2,FALSE))","v":""},{"$f":"IF(OR(E22=\"\",ISBLANK(E22)),\"\",VLOOKUP(E22,Sheet2!A:G,4,FALSE))","v":""},"",{"$f":"IF(OR(E22=\"\",ISBLANK(E22)),\"\",VLOOKUP(E22,Sheet2!A:H,3,FALSE))","v":""},null,{"$f":"IF(OR(E22=\"\",ISBLANK(E22)),\"\",VLOOKUP(E22,Sheet2!A:G,6,FALSE))","v":""},""]
[{"$f":"IF(OR(E23=\"\",ISBLANK(E23)),\"\",VLOOKUP(E23,Sheet2!A:F,2,FALSE))","v":""},{"$f":"IF(OR(E23=\"\",ISBLANK(E23)),\"\",VLOOKUP(E23,Sheet2!A:G,4,FALSE))","v":""},"",{"$f":"IF(OR(E23=\"\",ISBLANK(E23)),\"\",VLOOKUP(E23,Sheet2!A:H,3,FALSE))","v":""},null,{"$f":"IF(OR(E23=\"\",ISBLANK(E23)),\"\",VLOOKUP(E23,Sheet2!A:G,6,FALSE))","v":""},""]
[{"$f":"IF(OR(E24=\"\",ISBLANK(E24)),\"\",VLOOKUP(E24,Sheet2!A:F,2,FALSE))","v":""},{"$f":"IF(OR(E24=\"\",ISBLANK(E24)),\"\",VLOOKUP(E24,Sheet2!A:G,4,FALSE))","v":""},"",{"$f":"IF(OR(E24=\"\",ISBLANK(E24)),\"\",VLOOKUP(E24,Sheet2!A:H,3,FALSE))","v":""},null,{"$f":"IF(OR(E24=\"\",ISBLANK(E24)),\"\",VLOOKUP(E24,Sheet2!A:G,6,FALSE))","v":""},""]
[{"$f":"IF(OR(E25=\"\",ISBLANK(E25)),\"\",VLOOKUP(E25,Sheet2!A:F,2,FALSE))","v":""},{"$f":"IF(OR(E25=\"\",ISBLANK(E25)),\"\",VLOOKUP(E25,Sheet2!A:G,4,FALSE))","v":""},"",{"$f":"IF(OR(E25=\"\",ISBLANK(E25)),\"\",VLOOKUP(E25,Sheet2!A:H,3,FALSE))","v":""},null,{"$f":"IF(OR(E25=\"\",ISBLANK(E25)),\"\",VLOOKUP(E25,Sheet2!A:G,6,FALSE))","v":""},""]
[{"$f":"IF(OR(E26=\"\",ISBLANK(E26)),\"\",VLOOKUP(E26,Sheet2!A:F,2,FALSE))","v":""},{"$f":"IF(OR(E26=\"\",ISBLANK(E26)),\"\",VLOOKUP(E26,Sheet2!A:G,4,FALSE))","v":""},"",{"$f":"IF(OR(E26=\"\",ISBLANK(E26)),\"\",VLOOKUP(E26,Sheet2!A:H,3,FALSE))","v":""},null,{"$f":"IF(OR(E26=\"\",ISBLANK(E26)),\"\",VLOOKUP(E26,Sheet2!A:G,6,FALSE))","v":""},""]
[{"$f":"IF(OR(E27=\"\",ISBLANK(E27)),\"\",VLOOKUP(E27,Sheet2!A:F,2,FALSE))","v":""},{"$f":"IF(OR(E27=\"\",ISBLANK(E27)),\"\",VLOOKUP(E27,Sheet2!A:G,4,FALSE))","v":""},"",{"$f":"IF(OR(E27=\"\",ISBLANK(E27)),\"\",VLOOKUP(E27,Sheet2!A:H,3,FALSE))","v":""},null,{"$f":"IF(OR(E27=\"\",ISBLANK(E27)),\"\",VLOOKUP(E27,Sheet2!A:G,6,FALSE))","v":""},""]
[{"$f":"IF(OR(E28=\"\",ISBLANK(E28)),\"\",VLOOKUP(E28,Sheet2!A:F,2,FALSE))","v":""},{"$f":"IF(OR(E28=\"\",ISBLANK(E28)),\"\",VLOOKUP(E28,Sheet2!A:G,4,FALSE))","v":""},"",{"$f":"IF(OR(E28=\"\",ISBLANK(E28)),\"\",VLOOKUP(E28,Sheet2!A:H,3,FALSE))","v":""},null,{"$f":"IF(OR(E28=\"\",ISBLANK(E28)),\"\",VLOOKUP(E28,Sheet2!A:G,6,FALSE))","v":""},""]
[{"$f":"IF(OR(E29=\"\",ISBLANK(E29)),\"\",VLOOKUP(E29,Sheet2!A:F,2,FALSE))","v":""},{"$f":"IF(OR(E29=\"\",ISBLANK(E29)),\"\",VLOOKUP(E29,Sheet2!A:G,4,FALSE))","v":""},"",{"$f":"IF(OR(E29=\"\",ISBLANK(E29)),\"\",VLOOKUP(E29,Sheet2!A:H,3,FALSE))","v":""},null,{"$f":"IF(OR(E29=\"\",ISBLANK(E29)),\"\",VLOOKUP(E29,Sheet2!A:G,6,FALSE))","v":""},""]
[{"$f":"IF(OR(E30=\"\",ISBLANK(E30)),\"\",VLOOKUP(E30,Sheet2!A:F,2,FALSE))","v":""},{"$f":"IF(OR(E30=\"\",ISBLANK(E30)),\"\",VLOOKUP(E30,Sheet2!A:G,4,FALSE))","v":""},"",{"$f":"IF(OR(E30=\"\",ISBLANK(E30)),\"\",VLOOKUP(E30,Sheet2!A:H,3,FALSE))","v":""},null,{"$f":"IF(OR(E30=\"\",ISBLANK(E30)),\"\",VLOOKUP(E30,Sheet2!A:G,6,FALSE))","v":""},""]
[{"$f":"IF(OR(E31=\"\",ISBLANK(E31)),\"\",VLOOKUP(E31,Sheet2!A:F,2,FALSE))","v":""},{"$f":"IF(OR(E31=\"\",ISBLANK(E31)),\"\",VLOOKUP(E31,Sheet2!A:G,4,FALSE))","v":""},"",{"$f":"IF(OR(E31=\"\",ISBLANK(E31)),\"\",VLOOKUP(E31,Sheet2!A:H,3,FALSE))","v":""},null,{"$f":"IF(OR(E31=\"\",ISBLANK(E31)),\"\",VLOOKUP(E31,Sheet2!A:G,6,FALSE))","v":""},""]
[{"$f":"IF(OR(E32=\"\",ISBLANK(E32)),\"\",VLOOKUP(E32,Sheet2!A:F,2,FALSE))","v":""},{"$f":"IF(OR(E32=\"\",ISBLANK(E32)),\"\",VLOOKUP(E32,Sheet2!A:G,4,FALSE))","v":""},"",{"$f":"IF(OR(E32=\"\",ISBLANK(E32)),\"\",VLOOKUP(E32,Sheet2!A:H,3,FALSE))","v":""},null,{"$f":"IF(OR(E32=\"\",ISBLANK(E32)),\"\",VLOOKUP(E32,Sheet2!A:G,6,FALSE))","v":""},""]
[{"$f":"IF(OR(E33=\"\",ISBLANK(E33)),\"\",VLOOKUP(E33,Sheet2!A:F,2,FALSE))","v":""},{"$f":"IF(OR(E33=\"\",ISBLANK(E33)),\"\",VLOOKUP(E33,Sheet2!A:G,4,FALSE))","v":""},"",{"$f":"IF(OR(E33=\"\",ISBLANK(E33)),\"\",VLOOKUP(E33,Sheet2!A:H,3,FALSE))","v":""},null,{"$f":"IF(OR(E33=\"\",ISBLANK(E33)),\"\",VLOOKUP(E33,Sheet2!A:G,6,FALSE))","v":""},""]
[{"$f":"IF(OR(E34=\"\",ISBLANK(E34)),\"\",VLOOKUP(E34,Sheet2!A:F,2,FALSE))","v":""},{"$f":"IF(OR(E34=\"\",ISBLANK(E34)),\"\",VLOOKUP(E34,Sheet2!A:G,4,FALSE))","v":""},"",{"$f":"IF(OR(E34=\"\",ISBLANK(E34)),\"\",VLOOKUP(E34,Sheet2!A:H,3,FALSE))","v":""},null,{"$f":"IF(OR(E34=\"\",ISBLANK(E34)),\"\",VLOOKUP(E34,Sheet2!A:G,6,FALSE))","v":""},""]
[{"$f":"IF(OR(E35=\"\",ISBLANK(E35)),\"\",VLOOKUP(E35,Sheet2!A:F,2,FALSE))","v":""},{"$f":"IF(OR(E35=\"\",ISBLANK(E35)),\"\",VLOOKUP(E35,Sheet2!A:G,4,FALSE))","v":""},"",{"$f":"IF(OR(E35=\"\",ISBLANK(E35)),\"\",VLOOKUP(E35,Sheet2!A:H,3,FALSE))","v":""},null,{"$f":"IF(OR(E35=\"\",ISBLANK(E35)),\"\",VLOOKUP(E35,Sheet2!A:G,6,FALSE))","v":""},""]
[{"$f":"IF(OR(E36=\"\",ISBLANK(E36)),\"\",VLOOKUP(E36,Sheet2!A:F,2,FALSE))","v":""},{"$f":"IF(OR(E36=\"\",ISBLANK(E36)),\"\",VLOOKUP(E36,Sheet2!A:G,4,FALSE))","v":""},"",{"$f":"IF(OR(E36=\"\",ISBLANK(E36)),\"\",VLOOKUP(E36,Sheet2!A:H,3,FALSE))","v":""},null,{"$f":"IF(OR(E36=\"\",ISBLANK(E36)),\"\",VLOOKUP(E36,Sheet2!A:G,6,FALSE))","v":""},""]
[{"$f":"IF(OR(E37=\"\",ISBLANK(E37)),\"\",VLOOKUP(E37,Sheet2!A:F,2,FALSE))","v":""},{"$f":"IF(OR(E37=\"\",ISBLANK(E37)),\"\",VLOOKUP(E37,Sheet2!A:G,4,FALSE))","v":""},"",{"$f":"IF(OR(E37=\"\",ISBLANK(E37)),\"\",VLOOKUP(E37,Sheet2!A:H,3,FALSE))","v":""},null,{"$f":"IF(OR(E37=\"\",ISBLANK(E37)),\"\",VLOOKUP(E37,Sheet2!A:G,6,FALSE))","v":""},""]
[{"$f":"IF(OR(E38=\"\",ISBLANK(E38)),\"\",VLOOKUP(E38,Sheet2!A:F,2,FALSE))","v":""},{"$f":"IF(OR(E38=\"\",ISBLANK(E38)),\"\",VLOOKUP(E38,Sheet2!A:G,4,FALSE))","v":""},"",{"$f":"IF(OR(E38=\"\",ISBLANK(E38)),\"\",VLOOKUP(E38,Sheet2!A:H,3,FALSE))","v":""},null,{"$f":"IF(OR(E38=\"\",ISBLANK(E38)),\"\",VLOOKUP(E38,Sheet2!A:G,6,FALSE))","v":""},""]
[{"$f":"IF(OR(E39=\"\",ISBLANK(E39)),\"\",VLOOKUP(E39,Sheet2!A:F,2,FALSE))","v":""},{"$f":"IF(OR(E39=\"\",ISBLANK(E39)),\"\",VLOOKUP(E39,Sheet2!A:G,4,FALSE))","v":""},"",{"$f":"IF(OR(E39=\"\",ISBLANK(E39)),\"\",VLOOKUP(E39,Sheet2!A:H,3,FALSE))","v":""},null,{"$f":"IF(OR(E39=\"\",ISBLANK(E39)),\"\",VLOOKUP(E39,Sheet2!A:G,6,FALSE))","v":""},""]
[{"$f":"IF(OR(E40=\"\",ISBLANK(E40)),\"\",VLOOKUP(E40,Sheet2!A:F,2,FALSE))","v":""},{"$f":"IF(OR(E40=\"\",ISBLANK(E40)),\"\",VLOOKUP(E40,Sheet2!A:G,4,FALSE))","v":""},"",{"$f":"IF(OR(E40=\"\",ISBLANK(E40)),\"\",VLOOKUP(E40,Sheet2!A:H,3,FALSE))","v":""},null,{"$f":"IF(OR(E40=\"\",ISBLANK(E40)),\"\",VLOOKUP(E40,Sheet2!A:G,6,FALSE))","v":""},""]
[{"$f":"IF(OR(E41=\"\",ISBLANK(E41)),\"\",VLOOKUP(E41,Sheet2!A:F,2,FALSE))","v":""},{"$f":"IF(OR(E41=\"\",ISBLANK(E41)),\"\",VLOOKUP(E41,Sheet2!A:G,4,FALSE))","v":""},"",{"$f":"IF(OR(E41=\"\",ISBLANK(E41)),\"\",VLOOKUP(E41,Sheet2!A:H,3,FALSE))","v":""},null,{"$f":"IF(OR(E41=\"\",ISBLANK(E41)),\"\",VLOOKUP(E41,Sheet2!A:G,6,FALSE))","v":""},""]
[{"$f":"IF(OR(E42=\"\",ISBLANK(E42)),\"\",VLOOKUP(E42,Sheet2!A:F,2,FALSE))","v":""},{"$f":"IF(OR(E42=\"\",ISBLANK(E42)),\"\",VLOOKUP(E42,Sheet2!A:G,4,FALSE))","v":""},"",{"$f":"IF(OR(E42=\"\",ISBLANK(E42)),\"\",VLOOKUP(E42,Sheet2!A:H,3,FALSE))","v":""},null,{"$f":"IF(OR(E42=\"\",ISBLANK(E42)),\"\",VLOOKUP(E42,Sheet2!A:G,6,FALSE))","v":""},""]
[{"$f":"IF(OR(E43=\"\",ISBLANK(E43)),\"\",VLOOKUP(E43,Sheet2!A:F,2,FALSE))","v":""},{"$f":"IF(OR(E43=\"\",ISBLANK(E43)),\"\",VLOOKUP(E43,Sheet2!A:G,4,FALSE))","v":""},"",{"$f":"IF(OR(E43=\"\",ISBLANK(E43)),\"\",VLOOKUP(E43,Sheet2!A:H,3,FALSE))","v":""},null,{"$f":"IF(OR(E43=\"\",ISBLANK(E43)),\"\",VLOOKUP(E43,Sheet2!A:G,6,FALSE))","v":""},""]
[{"$f":"IF(OR(E44=\"\",ISBLANK(E44)),\"\",VLOOKUP(E44,Sheet2!A:F,2,FALSE))","v":""},{"$f":"IF(OR(E44=\"\",ISBLANK(E44)),\"\",VLOOKUP(E44,Sheet2!A:G,4,FALSE))","v":""},"",{"$f":"IF(OR(E44=\"\",ISBLANK(E44)),\"\",VLOOKUP(E44,Sheet2!A:H,3,FALSE))","v":""},null,{"$f":"IF(OR(E44=\"\",ISBLANK(E44)),\"\",VLOOKUP(E44,Sheet2!A:G,6,FALSE))","v":""},""]
[{"$f":"IF(OR(E45=\"\",ISBLANK(E45)),\"\",VLOOKUP(E45,Sheet2!A:F,2,FALSE))","v":""},{"$f":"IF(OR(E45=\"\",ISBLANK(E45)),\"\",VLOOKUP(E45,Sheet2!A:G,4,FALSE))","v":""},"",{"$f":"IF(OR(E45=\"\",ISBLANK(E45)),\"\",VLOOKUP(E45,Sheet2!A:H,3,FALSE))","v":""},null,{"$f":"IF(OR(E45=\"\",ISBLANK(E45)),\"\",VLOOKUP(E45,Sheet2!A:G,6,FALSE))","v":""},""]
[{"$f":"IF(OR(E46=\"\",ISBLANK(E46)),\"\",VLOOKUP(E46,Sheet2!A:F,2,FALSE))","v":""},{"$f":"IF(OR(E46=\"\",ISBLANK(E46)),\"\",VLOOKUP(E46,Sheet2!A:G,4,FALSE))","v":""},"",{"$f":"IF(OR(E46=\"\",ISBLANK(E46)),\"\",VLOOKUP(E46,Sheet2!A:H,3,FALSE))","v":""},null,{"$f":"IF(OR(E46=\"\",ISBLANK(E46)),\"\",VLOOKUP(E46,Sheet2!A:G,6,FALSE))","v":""},""]
[{"$f":"IF(OR(E47=\"\",ISBLANK(E47)),\"\",VLOOKUP(E47,Sheet2!A:F,2,FALSE))","v":""},{"$f":"IF(OR(E47=\"\",ISBLANK(E47)),\"\",VLOOKUP(E47,Sheet2!A:G,4,FALSE))","v":""},"",{"$f":"IF(OR(E47=\"\",ISBLANK(E47)),\"\",VLOOKUP(E47,Sheet2!A:H,3,FALSE))","v":""},null,{"$f":"IF(OR(E47=\"\",ISBLANK(E47)),\"\",VLOOKUP(E47,Sheet2!A:G,6,FALSE))","v":""},""]
[{"$f":"IF(OR(E48=\"\",ISBLANK(E48)),\"\",VLOOKUP(E48,Sheet2!A:F,2,FALSE))","v":""},{"$f":"IF(OR(E48=\"\",ISBLANK(E48)),\"\",VLOOKUP(E48,Sheet2!A:G,4,FALSE))","v":""},"",{"$f":"IF(OR(E48=\"\",ISBLANK(E48)),\"\",VLOOKUP(E48,Sheet2!A:H,3,FALSE))","v":""},null,{"$f":"IF(OR(E48=\"\",ISBLANK(E48)),\"\",VLOOKUP(E48,Sheet2!A:G,6,FALSE))","v":""},""]
[{"$f":"IF(OR(E49=\"\",ISBLANK(E49)),\"\",VLOOKUP(E49,Sheet2!A:F,2,FALSE))","v":""},{"$f":"IF(OR(E49=\"\",ISBLANK(E49)),\"\",VLOOKUP(E49,Sheet2!A:G,4,FALSE))","v":""},"",{"$f":"IF(OR(E49=\"\",ISBLANK(E49)),\"\",VLOOKUP(E49,Sheet2!A:H,3,FALSE))","v":""},null,{"$f":"IF(OR(E49=\"\",ISBLANK(E49)),\"\",VLOOKUP(E49,Sheet2!A:G,6,FALSE))","v":""},""]
[{"$f":"IF(OR(E50=\"\",ISBLANK(E50)),\"\",VLOOKUP(E50,Sheet2!A:F,2,FALSE))","v":""},{"$f":"IF(OR(E50=\"\",ISBLANK(E50)),\"\",VLOOKUP(E50,Sheet2!A:G,4,FALSE))","v":""},"",{"$f":"IF(OR(E50=\"\",ISBLANK(E50)),\"\",VLOOKUP(E50,Sheet2!A:H,3,FALSE))","v":""},null,{"$f":"IF(OR(E50=\"\",ISBLANK(E50)),\"\",VLOOKUP(E50,Sheet2!A:G,6,FALSE))","v":""},""]
[{"$f":"IF(OR(E51=\"\",ISBLANK(E51)),\"\",VLOOKUP(E51,Sheet2!A:F,2,FALSE))","v":""},{"$f":"IF(OR(E51=\"\",ISBLANK(E51)),\"\",VLOOKUP(E51,Sheet2!A:G,4,FALSE))","v":""},"",{"$f":"IF(OR(E51=\"\",ISBLANK(E51)),\"\",VLOOKUP(E51,Sheet2!A:H,3,FALSE))","v":""},null,{"$f":"IF(OR(E51=\"\",ISBLANK(E51)),\"\",VLOOKUP(E51,Sheet2!A:G,6,FALSE))","v":""},""]
[{"$f":"IF(OR(E52=\"\",ISBLANK(E52)),\"\",VLOOKUP(E52,Sheet2!A:F,2,FALSE))","v":""},{"$f":"IF(OR(E52=\"\",ISBLANK(E52)),\"\",VLOOKUP(E52,Sheet2!A:G,4,FALSE))","v":""},"",{"$f":"IF(OR(E52=\"\",ISBLANK(E52)),\"\",VLOOKUP(E52,Sheet2!A:H,3,FALSE))","v":""},null,{"$f":"IF(OR(E52=\"\",ISBLANK(E52)),\"\",VLOOKUP(E52,Sheet2!A:G,6,FALSE))","v":""},""]
[{"$f":"IF(OR(E53=\"\",ISBLANK(E53)),\"\",VLOOKUP(E53,Sheet2!A:F,2,FALSE))","v":""},{"$f":"IF(OR(E53=\"\",ISBLANK(E53)),\"\",VLOOKUP(E53,Sheet2!A:G,4,FALSE))","v":""},"",{"$f":"IF(OR(E53=\"\",ISBLANK(E53)),\"\",VLOOKUP(E53,Sheet2!A:H,3,FALSE))","v":""},null,{"$f":"IF(OR(E53=\"\",ISBLANK(E53)),\"\",VLOOKUP(E53,Sheet2!A:G,6,FALSE))","v":""},""]
[{"$f":"IF(OR(E54=\"\",ISBLANK(E54)),\"\",VLOOKUP(E54,Sheet2!A:F,2,FALSE))","v":""},{"$f":"IF(OR(E54=\"\",ISBLANK(E54)),\"\",VLOOKUP(E54,Sheet2!A:G,4,FALSE))","v":""},"",{"$f":"IF(OR(E54=\"\",ISBLANK(E54)),\"\",VLOOKUP(E54,Sheet2!A:H,3,FALSE))","v":""},null,{"$f":"IF(OR(E54=\"\",ISBLANK(E54)),\"\",VLOOKUP(E54,Sheet2!A:G,6,FALSE))","v":""},""]
[{"$f":"IF(OR(E55=\"\",ISBLANK(E55)),\"\",VLOOKUP(E55,Sheet2!A:F,2,FALSE))","v":""},{"$f":"IF(OR(E55=\"\",ISBLANK(E55)),\"\",VLOOKUP(E55,Sheet2!A:G,4,FALSE))","v":""},"",{"$f":"IF(OR(E55=\"\",ISBLANK(E55)),\"\",VLOOKUP(E55,Sheet2!A:H,3,FALSE))","v":""},null,{"$f":"IF(OR(E55=\"\",ISBLANK(E55)),\"\",VLOOKUP(E55,Sheet2!A:G,6,FALSE))","v":""},""]
[{"$f":"IF(OR(E56=\"\",ISBLANK(E56)),\"\",VLOOKUP(E56,Sheet2!A:F,2,FALSE))","v":""},{"$f":"IF(OR(E56=\"\",ISBLANK(E56)),\"\",VLOOKUP(E56,Sheet2!A:G,4,FALSE))","v":""},"",{"$f":"IF(OR(E56=\"\",ISBLANK(E56)),\"\",VLOOKUP(E56,Sheet2!A:H,3,FALSE))","v":""},null,{"$f":"IF(OR(E56=\"\",ISBLANK(E56)),\"\",VLOOKUP(E56,Sheet2!A:G,6,FALSE))","v":""},""]
[{"$f":"IF(OR(E57=\"\",ISBLANK(E57)),\"\",VLOOKUP(E57,Sheet2!A:F,2,FALSE))","v":""},{"$f":"IF(OR(E57=\"\",ISBLANK(E57)),\"\",VLOOKUP(E57,Sheet2!A:G,4,FALSE))","v":""},"",{"$f":"IF(OR(E57=\"\",ISBLANK(E57)),\"\",VLOOKUP(E57,Sheet2!A:H,3,FALSE))","v":""},null,{"$f":"IF(OR(E57=\"\",ISBLANK(E57)),\"\",VLOOKUP(E57,Sheet2!A:G,6,FALSE))","v":""},""]
[{"$f":"IF(OR(E58=\"\",ISBLANK(E58)),\"\",VLOOKUP(E58,Sheet2!A:F,2,FALSE))","v":""},{"$f":"IF(OR(E58=\"\",ISBLANK(E58)),\"\",VLOOKUP(E58,Sheet2!A:G,4,FALSE))","v":""},"",{"$f":"IF(OR(E58=\"\",ISBLANK(E58)),\"\",VLOOKUP(E58,Sheet2!A:H,3,FALSE))","v":""},null,{"$f":"IF(OR(E58=\"\",ISBLANK(E58)),\"\",VLOOKUP(E58,Sheet2!A:G,6,FALSE))","v":""},""]
[{"$f":"IF(OR(E59=\"\",ISBLANK(E59)),\"\",VLOOKUP(E59,Sheet2!A:F,2,FALSE))","v":""},{"$f":"IF(OR(E59=\"\",ISBLANK(E59)),\"\",VLOOKUP(E59,Sheet2!A:G,4,FALSE))","v":""},"",{"$f":"IF(OR(E59=\"\",ISBLANK(E59)),\"\",VLOOKUP(E59,Sheet2!A:H,3,FALSE))","v":""},null,{"$f":"IF(OR(E59=\"\",ISBLANK(E59)),\"\",VLOOKUP(E59,Sheet2!A:G,6,FALSE))","v":""},""]
[{"$f":"IF(OR(E60=\"\",ISBLANK(E60)),\"\",VLOOKUP(E60,Sheet2!A:F,2,FALSE))","v":""},{"$f":"IF(OR(E60=\"\",ISBLANK(E60)),\"\",VLOOKUP(E60,Sheet2!A:G,4,FALSE))","v":""},"",{"$f":"IF(OR(E60=\"\",ISBLANK(E60)),\"\",VLOOKUP(E60,Sheet2!A:H,3,FALSE))","v":""},null,{"$f":"IF(OR(E60=\"\",ISBLANK(E60)),\"\",VLOOKUP(E60,Sheet2!A:G,6,FALSE))","v":""},""]
[{"$f":"IF(OR(E61=\"\",ISBLANK(E61)),\"\",VLOOKUP(E61,Sheet2!A:F,2,FALSE))","v":""},{"$f":"IF(OR(E61=\"\",ISBLANK(E61)),\"\",VLOOKUP(E61,Sheet2!A:G,4,FALSE))","v":""},"",{"$f":"IF(OR(E61=\"\",ISBLANK(E61)),\"\",VLOOKUP(E61,Sheet2!A:H,3,FALSE))","v":""},null,{"$f":"IF(OR(E61=\"\",ISBLANK(E61)),\"\",VLOOKUP(E61,Sheet2!A:G,6,FALSE))","v":""},""]
[{"$f":"IF(OR(E62=\"\",ISBLANK(E62)),\"\",VLOOKUP(E62,Sheet2!A:F,2,FALSE))","v":""},{"$f":"IF(OR(E62=\"\",ISBLANK(E62)),\"\",VLOOKUP(E62,Sheet2!A:G,4,FALSE))","v":""},"",{"$f":"IF(OR(E62=\"\",ISBLANK(E62)),\"\",VLOOKUP(E62,Sheet2!A:H,3,FALSE))","v":""},null,{"$f":"IF(OR(E62=\"\",ISBLANK(E62)),\"\",VLOOKUP(E62,Sheet2!A:G,6,FALSE))","v":""},""]
[{"$f":"IF(OR(E63=\"\",ISBLANK(E63)),\"\",VLOOKUP(E63,Sheet2!A:F,2,FALSE))","v":""},{"$f":"IF(OR(E63=\"\",ISBLANK(E63)),\"\",VLOOKUP(E63,Sheet2!A:G,4,FALSE))","v":""},"",{"$f":"IF(OR(E63=\"\",ISBLANK(E63)),\"\",VLOOKUP(E63,Sheet2!A:H,3,FALSE))","v":""},null,{"$f":"IF(OR(E63=\"\",ISBLANK(E63)),\"\",VLOOKUP(E63,Sheet2!A:G,6,FALSE))","v":""},""]
[{"$f":"IF(OR(E64=\"\",ISBLANK(E64)),\"\",VLOOKUP(E64,Sheet2!A:F,2,FALSE))","v":""},{"$f":"IF(OR(E64=\"\",ISBLANK(E64)),\"\",VLOOKUP(E64,Sheet2!A:G,4,FALSE))","v":""},"",{"$f":"IF(OR(E64=\"\",ISBLANK(E64)),\"\",VLOOKUP(E64,Sheet2!A:H,3,FALSE))","v":""},null,{"$f":"IF(OR(E64=\"\",ISBLANK(E64)),\"\",VLOOKUP(E64,Sheet2!A:G,6,FALSE))","v":""},""]
[{"$f":"IF(OR(E65=\"\",ISBLANK(E65)),\"\",VLOOKUP(E65,Sheet2!A:F,2,FALSE))","v":""},{"$f":"IF(OR(E65=\"\",ISBLANK(E65)),\"\",VLOOKUP(E65,Sheet2!A:G,4,FALSE))","v":""},"",{"$f":"IF(OR(E65=\"\",ISBLANK(E65)),\"\",VLOOKUP(E65,Sheet2!A:H,3,FALSE))","v":""},null,{"$f":"IF(OR(E65=\"\",ISBLANK(E65)),\"\",VLOOKUP(E65,Sheet2!A:G,6,FALSE))","v":""},""]
[{"$f":"IF(OR(E66=\"\",ISBLANK(E66)),\"\",VLOOKUP(E66,Sheet2!A:F,2,FALSE))","v":""},{"$f":"IF(OR(E66=\"\",ISBLANK(E66)),\"\",VLOOKUP(E66,Sheet2!A:G,4,FALSE))","v":""},"",{"$f":"IF(OR(E66=\"\",ISBLANK(E66)),\"\",VLOOKUP(E66,Sheet2!A:H,3,FALSE))","v":""},null,{"$f":"IF(OR(E66=\"\",ISBLANK(E66)),\"\",VLOOKUP(E66,Sheet2!A:G,6,FALSE))","v":""},""]
[{"$f":"IF(OR(E67=\"\",ISBLANK(E67)),\"\",VLOOKUP(E67,Sheet2!A:F,2,FALSE))","v":""},{"$f":"IF(OR(E67=\"\",ISBLANK(E67)),\"\",VLOOKUP(E67,Sheet2!A:G,4,FALSE))","v":""},{"$f":"IF(D67=0,\"\",D67)","v":""},{"$f":"IF(OR(E67=\"\",ISBLANK(E67)),\"\",VLOOKUP(E67,Sheet2!A:H,3,FALSE))","v":""},null,{"$f":"IF(OR(E67=\"\",ISBLANK(E67)),\"\",VLOOKUP(E67,Sheet2!A:G,6,FALSE))","v":""},{"$f":"IF(F67=0,\"\",F67)","v":""}]
[{"$f":"IF(OR(E68=\"\",ISBLANK(E68)),\"\",VLOOKUP(E68,Sheet2!A:F,2,FALSE))","v":""},{"$f":"IF(OR(E68=\"\",ISBLANK(E68)),\"\",VLOOKUP(E68,Sheet2!A:G,4,FALSE))","v":""},"",{"$f":"IF(OR(E68=\"\",ISBLANK(E68)),\"\",VLOOKUP(E68,Sheet2!A:H,3,FALSE))","v":""},null,{"$f":"IF(OR(E68=\"\",ISBLANK(E68)),\"\",VLOOKUP(E68,Sheet2!A:G,6,FALSE))","v":""},""]
[{"$f":"IF(OR(E69=\"\",ISBLANK(E69)),\"\",VLOOKUP(E69,Sheet2!A:F,2,FALSE))","v":""},{"$f":"IF(OR(E69=\"\",ISBLANK(E69)),\"\",VLOOKUP(E69,Sheet2!A:G,4,FALSE))","v":""},"",{"$f":"IF(OR(E69=\"\",ISBLANK(E69)),\"\",VLOOKUP(E69,Sheet2!A:H,3,FALSE))","v":""},null,{"$f":"IF(OR(E69=\"\",ISBLANK(E69)),\"\",VLOOKUP(E69,Sheet2!A:G,6,FALSE))","v":""},""]
[{"$f":"IF(OR(E70=\"\",ISBLANK(E70)),\"\",VLOOKUP(E70,Sheet2!A:F,2,FALSE))","v":""},{"$f":"IF(OR(E70=\"\",ISBLANK(E70)),\"\",VLOOKUP(E70,Sheet2!A:G,4,FALSE))","v":""},"",{"$f":"IF(OR(E70=\"\",ISBLANK(E70)),\"\",VLOOKUP(E70,Sheet2!A:H,3,FALSE))","v":""},null,{"$f":"IF(OR(E70=\"\",ISBLANK(E70)),\"\",VLOOKUP(E70,Sheet2!A:G,6,FALSE))","v":""},""]
[{"$f":"IF(OR(E71=\"\",ISBLANK(E71)),\"\",VLOOKUP(E71,Sheet2!A:F,2,FALSE))","v":""},{"$f":"IF(OR(E71=\"\",ISBLANK(E71)),\"\",VLOOKUP(E71,Sheet2!A:G,4,FALSE))","v":""},"",{"$f":"IF(OR(E71=\"\",ISBLANK(E71)),\"\",VLOOKUP(E71,Sheet2!A:H,3,FALSE))","v":""},null,{"$f":"IF(OR(E71=\"\",ISBLANK(E71)),\"\",VLOOKUP(E71,Sheet2!A:G,6,FALSE))","v":""},""]
[{"$f":"IF(OR(E72=\"\",ISBLANK(E72)),\"\",VLOOKUP(E72,Sheet2!A:F,2,FALSE))","v":""},{"$f":"IF(OR(E72=\"\",ISBLANK(E72)),\"\",VLOOKUP(E72,Sheet2!A:G,4,FALSE))","v":""},"",{"$f":"IF(OR(E72=\"\",ISBLANK(E72)),\"\",VLOOKUP(E72,Sheet2!A:H,3,FALSE))","v":""},null,{"$f":"IF(OR(E72=\"\",ISBLANK(E72)),\"\",VLOOKUP(E72,Sheet2!A:G,6,FALSE))","v":""},""]
[{"$f":"IF(OR(E73=\"\",ISBLANK(E73)),\"\",VLOOKUP(E73,Sheet2!A:F,2,FALSE))","v":""},{"$f":"IF(OR(E73=\"\",ISBLANK(E73)),\"\",VLOOKUP(E73,Sheet2!A:G,4,FALSE))","v":""},"",{"$f":"IF(OR(E73=\"\",ISBLANK(E73)),\"\",VLOOKUP(E73,Sheet2!A:H,3,FALSE))","v":""},null,{"$f":"IF(OR(E73=\"\",ISBLANK(E73)),\"\",VLOOKUP(E73,Sheet2!A:G,6,FALSE))","v":""},""]
[{"$f":"IF(OR(E74=\"\",ISBLANK(E74)),\"\",VLOOKUP(E74,Sheet2!A:F,2,FALSE))","v":""},{"$f":"IF(OR(E74=\"\",ISBLANK(E74)),\"\",VLOOKUP(E74,Sheet2!A:G,4,FALSE))","v":""},"",{"$f":"IF(OR(E74=\"\",ISBLANK(E74)),\"\",VLOOKUP(E74,Sheet2!A:H,3,FALSE))","v":""},null,{"$f":"IF(OR(E74=\"\",ISBLANK(E74)),\"\",VLOOKUP(E74,Sheet2!A:G,6,FALSE))","v":""},""]
[{"$f":"IF(OR(E75=\"\",ISBLANK(E75)),\"\",VLOOKUP(E75,Sheet2!A:F,2,FALSE))","v":""},{"$f":"IF(OR(E75=\"\",ISBLANK(E75)),\"\",VLOOKUP(E75,Sheet2!A:G,4,FALSE))","v":""},"",{"$f":"IF(OR(E75=\"\",ISBLANK(E75)),\"\",VLOOKUP(E75,Sheet2!A:H,3,FALSE))","v":""},null,{"$f":"IF(OR(E75=\"\",ISBLANK(E75)),\"\",VLOOKUP(E75,Sheet2!A:G,6,FALSE))","v":""},""]
[{"$f":"IF(OR(E76=\"\",ISBLANK(E76)),\"\",VLOOKUP(E76,Sheet2!A:F,2,FALSE))","v":""},{"$f":"IF(OR(E76=\"\",ISBLANK(E76)),\"\",VLOOKUP(E76,Sheet2!A:G,4,FALSE))","v":""},"",{"$f":"IF(OR(E76=\"\",ISBLANK(E76)),\"\",VLOOKUP(E76,Sheet2!A:H,3,FALSE))","v":""},null,{"$f":"IF(OR(E76=\"\",ISBLANK(E76)),\"\",VLOOKUP(E76,Sheet2!A:G,6,FALSE))","v":""},""]
[{"$f":"IF(OR(E77=\"\",ISBLANK(E77)),\"\",VLOOKUP(E77,Sheet2!A:F,2,FALSE))","v":""},{"$f":"IF(OR(E77=\"\",ISBLANK(E77)),\"\",VLOOKUP(E77,Sheet2!A:G,4,FALSE))","v":""},"",{"$f":"IF(OR(E77=\"\",ISBLANK(E77)),\"\",VLOOKUP(E77,Sheet2!A:H,3,FALSE))","v":""},null,{"$f":"IF(OR(E77=\"\",ISBLANK(E77)),\"\",VLOOKUP(E77,Sheet2!A:G,6,FALSE))","v":""},""]
[{"$f":"IF(OR(E78=\"\",ISBLANK(E78)),\"\",VLOOKUP(E78,Sheet2!A:F,2,FALSE))","v":""},{"$f":"IF(OR(E78=\"\",ISBLANK(E78)),\"\",VLOOKUP(E78,Sheet2!A:G,4,FALSE))","v":""},"",{"$f":"IF(OR(E78=\"\",ISBLANK(E78)),\"\",VLOOKUP(E78,Sheet2!A:H,3,FALSE))","v":""},null,{"$f":"IF(OR(E78=\"\",ISBLANK(E78)),\"\",VLOOKUP(E78,Sheet2!A:G,6,FALSE))","v":""},""]
[{"$f":"IF(OR(E79=\"\",ISBLANK(E79)),\"\",VLOOKUP(E79,Sheet2!A:F,2,FALSE))","v":""},{"$f":"IF(OR(E79=\"\",ISBLANK(E79)),\"\",VLOOKUP(E79,Sheet2!A:G,4,FALSE))","v":""},"",{"$f":"IF(OR(E79=\"\",ISBLANK(E79)),\"\",VLOOKUP(E79,Sheet2!A:H,3,FALSE))","v":""},null,{"$f":"IF(OR(E79=\"\",ISBLANK(E79)),\"\",VLOOKUP(E79,Sheet2!A:G,6,FALSE))","v":""},""]
[{"$f":"IF(OR(E80=\"\",ISBLANK(E80)),\"\",VLOOKUP(E80,Sheet2!A:F,2,FALSE))","v":""},{"$f":"IF(OR(E80=\"\",ISBLANK(E80)),\"\",VLOOKUP(E80,Sheet2!A:G,4,FALSE))","v":""},"",{"$f":"IF(OR(E80=\"\",ISBLANK(E80)),\"\",VLOOKUP(E80,Sheet2!A:H,3,FALSE))","v":""},null,{"$f":"IF(OR(E80=\"\",ISBLANK(E80)),\"\",VLOOKUP(E80,Sheet2!A:G,6,FALSE))","v":""},""]
[{"$f":"IF(OR(E81=\"\",ISBLANK(E81)),\"\",VLOOKUP(E81,Sheet2!A:F,2,FALSE))","v":""},{"$f":"IF(OR(E81=\"\",ISBLANK(E81)),\"\",VLOOKUP(E81,Sheet2!A:G,4,FALSE))","v":""},"",{"$f":"IF(OR(E81=\"\",ISBLANK(E81)),\"\",VLOOKUP(E81,Sheet2!A:H,3,FALSE))","v":""},null,{"$f":"IF(OR(E81=\"\",ISBLANK(E81)),\"\",VLOOKUP(E81,Sheet2!A:G,6,FALSE))","v":""},""]
[{"$f":"IF(OR(E82=\"\",ISBLANK(E82)),\"\",VLOOKUP(E82,Sheet2!A:F,2,FALSE))","v":""},{"$f":"IF(OR(E82=\"\",ISBLANK(E82)),\"\",VLOOKUP(E82,Sheet2!A:G,4,FALSE))","v":""},"",{"$f":"IF(OR(E82=\"\",ISBLANK(E82)),\"\",VLOOKUP(E82,Sheet2!A:H,3,FALSE))","v":""},null,{"$f":"IF(OR(E82=\"\",ISBLANK(E82)),\"\",VLOOKUP(E82,Sheet2!A:G,6,FALSE))","v":""},""]
[{"$f":"IF(OR(E83=\"\",ISBLANK(E83)),\"\",VLOOKUP(E83,Sheet2!A:F,2,FALSE))","v":""},{"$f":"IF(OR(E83=\"\",ISBLANK(E83)),\"\",VLOOKUP(E83,Sheet2!A:G,4,FALSE))","v":""},"",{"$f":"IF(OR(E83=\"\",ISBLANK(E83)),\"\",VLOOKUP(E83,Sheet2!A:H,3,FALSE))","v":""},null,{"$f":"IF(OR(E83=\"\",ISBLANK(E83)),\"\",VLOOKUP(E83,Sheet2!A:G,6,FALSE))","v":""},""]
[{"$f":"IF(OR(E84=\"\",ISBLANK(E84)),\"\",VLOOKUP(E84,Sheet2!A:F,2,FALSE))","v":""},{"$f":"IF(OR(E84=\"\",ISBLANK(E84)),\"\",VLOOKUP(E84,Sheet2!A:G,4,FALSE))","v":""},"",{"$f":"IF(OR(E84=\"\",ISBLANK(E84)),\"\",VLOOKUP(E84,Sheet2!A:H,3,FALSE))","v":""},null,{"$f":"IF(OR(E84=\"\",ISBLANK(E84)),\"\",VLOOKUP(E84,Sheet2!A:G,6,FALSE))","v":""},""]
[{"$f":"IF(OR(E85=\"\",ISBLANK(E85)),\"\",VLOOKUP(E85,Sheet2!A:F,2,FALSE))","v":""},{"$f":"IF(OR(E85=\"\",ISBLANK(E85)),\"\",VLOOKUP(E85,Sheet2!A:G,4,FALSE))","v":""},"",{"$f":"IF(OR(E85=\"\",ISBLANK(E85)),\"\",VLOOKUP(E85,Sheet2!A:H,3,FALSE))","v":""},null,{"$f":"IF(OR(E85=\"\",ISBLANK(E85)),\"\",VLOOKUP(E85,Sheet2!A:G,6,FALSE))","v":""},""]
[{"$f":"IF(OR(E86=\"\",ISBLANK(E86)),\"\",VLOOKUP(E86,Sheet2!A:F,2,FALSE))","v":""},{"$f":"IF(OR(E86=\"\",ISBLANK(E86)),\"\",VLOOKUP(E86,Sheet2!A:G,4,FALSE))","v":""},"",{"$f":"IF(OR(E86=\"\",ISBLANK(E86)),\"\",VLOOKUP(E86,Sheet2!A:H,3,FALSE))","v":""},null,{"$f":"IF(OR(E86=\"\",ISBLANK(E86)),\"\",VLOOKUP(E86,Sheet2!A:G,6,FALSE))","v":""},""]
[{"$f":"IF(OR(E87=\"\",ISBLANK(E87)),\"\",VLOOKUP(E87,Sheet2!A:F,2,FALSE))","v":""},{"$f":"IF(OR(E87=\"\",ISBLANK(E87)),\"\",VLOOKUP(E87,Sheet2!A:G,4,FALSE))","v":""},"",{"$f":"IF(OR(E87=\"\",ISBLANK(E87)),\"\",VLOOKUP(E87,Sheet2!A:H,3,FALSE))","v":""},null,{"$f":"IF(OR(E87=\"\",ISBLANK(E87)),\"\",VLOOKUP(E87,Sheet2!A:G,6,FALSE))","v":""},""]
[{"$f":"IF(OR(E88=\"\",ISBLANK(E88)),\"\",VLOOKUP(E88,Sheet2!A:F,2,FALSE))","v":""},{"$f":"IF(OR(E88=\"\",ISBLANK(E88)),\"\",VLOOKUP(E88,Sheet2!A:G,4,FALSE))","v":""},"",{"$f":"IF(OR(E88=\"\",ISBLANK(E88)),\"\",VLOOKUP(E88,Sheet2!A:H,3,FALSE))","v":""},null,{"$f":"IF(OR(E88=\"\",ISBLANK(E88)),\"\",VLOOKUP(E88,Sheet2!A:G,6,FALSE))","v":""},""]
[{"$f":"IF(OR(E89=\"\",ISBLANK(E89)),\"\",VLOOKUP(E89,Sheet2!A:F,2,FALSE))","v":""},{"$f":"IF(OR(E89=\"\",ISBLANK(E89)),\"\",VLOOKUP(E89,Sheet2!A:G,4,FALSE))","v":""},"",{"$f":"IF(OR(E89=\"\",ISBLANK(E89)),\"\",VLOOKUP(E89,Sheet2!A:H,3,FALSE))","v":""},null,{"$f":"IF(OR(E89=\"\",ISBLANK(E89)),\"\",VLOOKUP(E89,Sheet2!A:G,6,FALSE))","v":""},""]
[{"$f":"IF(OR(E90=\"\",ISBLANK(E90)),\"\",VLOOKUP(E90,Sheet2!A:F,2,FALSE))","v":""},{"$f":"IF(OR(E90=\"\",ISBLANK(E90)),\"\",VLOOKUP(E90,Sheet2!A:G,4,FALSE))","v":""},"",{"$f":"IF(OR(E90=\"\",ISBLANK(E90)),\"\",VLOOKUP(E90,Sheet2!A:H,3,FALSE))","v":""},null,{"$f":"IF(OR(E90=\"\",ISBLANK(E90)),\"\",VLOOKUP(E90,Sheet2!A:G,6,FALSE))","v":""},""]
[{"$f":"IF(OR(E91=\"\",ISBLANK(E91)),\"\",VLOOKUP(E91,Sheet2!A:F,2,FALSE))","v":""},{"$f":"IF(OR(E91=\"\",ISBLANK(E91)),\"\",VLOOKUP(E91,Sheet2!A:G,4,FALSE))","v":""},"",{"$f":"IF(OR(E91=\"\",ISBLANK(E91)),\"\",VLOOKUP(E91,Sheet2!A:H,3,FALSE))","v":""},null,{"$f":"IF(OR(E91=\"\",ISBLANK(E91)),\"\",VLOOKUP(E91,Sheet2!A:G,6,FALSE))","v":""},""]
[{"$f":"IF(OR(E92=\"\",ISBLANK(E92)),\"\",VLOOKUP(E92,Sheet2!A:F,2,FALSE))","v":""},{"$f":"IF(OR(E92=\"\",ISBLANK(E92)),\"\",VLOOKUP(E92,Sheet2!A:G,4,FALSE))","v":""},"",{"$f":"IF(OR(E92=\"\",ISBLANK(E92)),\"\",VLOOKUP(E92,Sheet2!A:H,3,FALSE))","v":""},null,{"$f":"IF(OR(E92=\"\",ISBLANK(E92)),\"\",VLOOKUP(E92,Sheet2!A:G,6,FALSE))","v":""},""]
[{"$f":"IF(OR(E93=\"\",ISBLANK(E93)),\"\",VLOOKUP(E93,Sheet2!A:F,2,FALSE))","v":""},{"$f":"IF(OR(E93=\"\",ISBLANK(E93)),\"\",VLOOKUP(E93,Sheet2!A:G,4,FALSE))","v":""},"",{"$f":"IF(OR(E93=\"\",ISBLANK(E93)),\"\",VLOOKUP(E93,Sheet2!A:H,3,FALSE))","v":""},null,{"$f":"IF(OR(E93=\"\",ISBLANK(E93)),\"\",VLOOKUP(E93,Sheet2!A:G,6,FALSE))","v":""},""]
[{"$f":"IF(OR(E94=\"\",ISBLANK(E94)),\"\",VLOOKUP(E94,Sheet2!A:F,2,FALSE))","v":""},{"$f":"IF(OR(E94=\"\",ISBLANK(E94)),\"\",VLOOKUP(E94,Sheet2!A:G,4,FALSE))","v":""},"",{"$f":"IF(OR(E94=\"\",ISBLANK(E94)),\"\",VLOOKUP(E94,Sheet2!A:H,3,FALSE))","v":""},null,{"$f":"IF(OR(E94=\"\",ISBLANK(E94)),\"\",VLOOKUP(E94,Sheet2!A:G,6,FALSE))","v":""},""]
[{"$f":"IF(OR(E95=\"\",ISBLANK(E95)),\"\",VLOOKUP(E95,Sheet2!A:F,2,FALSE))","v":""},{"$f":"IF(OR(E95=\"\",ISBLANK(E95)),\"\",VLOOKUP(E95,Sheet2!A:G,4,FALSE))","v":""},"",{"$f":"IF(OR(E95=\"\",ISBLANK(E95)),\"\",VLOOKUP(E95,Sheet2!A:H,3,FALSE))","v":""},null,{"$f":"IF(OR(E95=\"\",ISBLANK(E95)),\"\",VLOOKUP(E95,Sheet2!A:G,6,FALSE))","v":""},""]
[{"$f":"IF(OR(E96=\"\",ISBLANK(E96)),\"\",VLOOKUP(E96,Sheet2!A:F,2,FALSE))","v":""},{"$f":"IF(OR(E96=\"\",ISBLANK(E96)),\"\",VLOOKUP(E96,Sheet2!A:G,4,FALSE))","v":""},"",{"$f":"IF(OR(E96=\"\",ISBLANK(E96)),\"\",VLOOKUP(E96,Sheet2!A:H,3,FALSE))","v":""},null,{"$f":"IF(OR(E96=\"\",ISBLANK(E96)),\"\",VLOOKUP(E96,Sheet2!A:G,6,FALSE))","v":""},""]
[{"$f":"IF(OR(E97=\"\",ISBLANK(E97)),\"\",VLOOKUP(E97,Sheet2!A:F,2,FALSE))","v":""},{"$f":"IF(OR(E97=\"\",ISBLANK(E97)),\"\",VLOOKUP(E97,Sheet2!A:G,4,FALSE))","v":""},"",{"$f":"IF(OR(E97=\"\",ISBLANK(E97)),\"\",VLOOKUP(E97,Sheet2!A:H,3,FALSE))","v":""},null,{"$f":"IF(OR(E97=\"\",ISBLANK(E97)),\"\",VLOOKUP(E97,Sheet2!A:G,6,FALSE))","v":""},""]
[{"$f":"IF(OR(E98=\"\",ISBLANK(E98)),\"\",VLOOKUP(E98,Sheet2!A:F,2,FALSE))","v":""},{"$f":"IF(OR(E98=\"\",ISBLANK(E98)),\"\",VLOOKUP(E98,Sheet2!A:G,4,FALSE))","v":""},"",{"$f":"IF(OR(E98=\"\",ISBLANK(E98)),\"\",VLOOKUP(E98,Sheet2!A:H,3,FALSE))","v":""},null,{"$f":"IF(OR(E98=\"\",ISBLANK(E98)),\"\",VLOOKUP(E98,Sheet2!A:G,6,FALSE))","v":""},""]
[{"$f":"IF(OR(E99=\"\",ISBLANK(E99)),\"\",VLOOKUP(E99,Sheet2!A:F,2,FALSE))","v":""},{"$f":"IF(OR(E99=\"\",ISBLANK(E99)),\"\",VLOOKUP(E99,Sheet2!A:G,4,FALSE))","v":""},"",{"$f":"IF(OR(E99=\"\",ISBLANK(E99)),\"\",VLOOKUP(E99,Sheet2!A:H,3,FALSE))","v":""},null,{"$f":"IF(OR(E99=\"\",ISBLANK(E99)),\"\",VLOOKUP(E99,Sheet2!A:G,6,FALSE))","v":""},""]
[{"$f":"IF(OR(E100=\"\",ISBLANK(E100)),\"\",VLOOKUP(E100,Sheet2!A:F,2,FALSE))","v":""},{"$f":"IF(OR(E100=\"\",ISBLANK(E100)),\"\",VLOOKUP(E100,Sheet2!A:G,4,FALSE))","v":""},"",{"$f":"IF(OR(E100=\"\",ISBLANK(E100)),\"\",VLOOKUP(E100,Sheet2!A:H,3,FALSE))","v":""},null,{"$f":"IF(OR(E100=\"\",ISBLANK(E100)),\"\",VLOOKUP(E100,Sheet2!A:G,6,FALSE))","v":""},""]
[{"$f":"IF(OR(E101=\"\",ISBLANK(E101)),\"\",VLOOKUP(E101,Sheet2!A:F,2,FALSE))","v":""},{"$f":"IF(OR(E101=\"\",ISBLANK(E101)),\"\",VLOOKUP(E101,Sheet2!A:G,4,FALSE))","v":""},"",{"$f":"IF(OR(E101=\"\",ISBLANK(E101)),\"\",VLOOKUP(E101,Sheet2!A:H,3,FALSE))","v":""},null,{"$f":"IF(OR(E101=\"\",ISBLANK(E101)),\"\",VLOOKUP(E101,Sheet2!A:G,6,FALSE))","v":""},""]
[{"$f":"IF(OR(E102=\"\",ISBLANK(E102)),\"\",VLOOKUP(E102,Sheet2!A:F,2,FALSE))","v":""},{"$f":"IF(OR(E102=\"\",ISBLANK(E102)),\"\",VLOOKUP(E102,Sheet2!A:G,4,FALSE))","v":""},"",{"$f":"IF(OR(E102=\"\",ISBLANK(E102)),\"\",VLOOKUP(E102,Sheet2!A:H,3,FALSE))","v":""},null,{"$f":"IF(OR(E102=\"\",ISBLANK(E102)),\"\",VLOOKUP(E102,Sheet2!A:G,6,FALSE))","v":""},""]
[{"$f":"IF(OR(E103=\"\",ISBLANK(E103)),\"\",VLOOKUP(E103,Sheet2!A:F,2,FALSE))","v":""},{"$f":"IF(OR(E103=\"\",ISBLANK(E103)),\"\",VLOOKUP(E103,Sheet2!A:G,4,FALSE))","v":""},"",{"$f":"IF(OR(E103=\"\",ISBLANK(E103)),\"\",VLOOKUP(E103,Sheet2!A:H,3,FALSE))","v":""},null,{"$f":"IF(OR(E103=\"\",ISBLANK(E103)),\"\",VLOOKUP(E103,Sheet2!A:G,6,FALSE))","v":""},""]
[{"$f":"IF(OR(E104=\"\",ISBLANK(E104)),\"\",VLOOKUP(E104,Sheet2!A:F,2,FALSE))","v":""},{"$f":"IF(OR(E104=\"\",ISBLANK(E104)),\"\",VLOOKUP(E104,Sheet2!A:G,4,FALSE))","v":""},"",{"$f":"IF(OR(E104=\"\",ISBLANK(E104)),\"\",VLOOKUP(E104,Sheet2!A:H,3,FALSE))","v":""},null,{"$f":"IF(OR(E104=\"\",ISBLANK(E104)),\"\",VLOOKUP(E104,Sheet2!A:G,6,FALSE))","v":""},""]
[{"$f":"IF(OR(E105=\"\",ISBLANK(E105)),\"\",VLOOKUP(E105,Sheet2!A:F,2,FALSE))","v":""},{"$f":"IF(OR(E105=\"\",ISBLANK(E105)),\"\",VLOOKUP(E105,Sheet2!A:G,4,FALSE))","v":""},"",{"$f":"IF(OR(E105=\"\",ISBLANK(E105)),\"\",VLOOKUP(E105,Sheet2!A:H,3,FALSE))","v":""},null,{"$f":"IF(OR(E105=\"\",ISBLANK(E105)),\"\",VLOOKUP(E105,Sheet2!A:G,6,FALSE))","v":""},""]
[{"$f":"IF(OR(E106=\"\",ISBLANK(E106)),\"\",VLOOKUP(E106,Sheet2!A:F,2,FALSE))","v":""},{"$f":"IF(OR(E106=\"\",ISBLANK(E106)),\"\",VLOOKUP(E106,Sheet2!A:G,4,FALSE))","v":""},"",{"$f":"IF(OR(E106=\"\",ISBLANK(E106)),\"\",VLOOKUP(E106,Sheet2!A:H,3,FALSE))","v":""},null,{"$f":"IF(OR(E106=\"\",ISBLANK(E106)),\"\",VLOOKUP(E106,Sheet2!A:G,6,FALSE))","v":""},""]
[{"$f":"IF(OR(E107=\"\",ISBLANK(E107)),\"\",VLOOKUP(E107,Sheet2!A:F,2,FALSE))","v":""},{"$f":"IF(OR(E107=\"\",ISBLANK(E107)),\"\",VLOOKUP(E107,Sheet2!A:G,4,FALSE))","v":""},"",{"$f":"IF(OR(E107=\"\",ISBLANK(E107)),\"\",VLOOKUP(E107,Sheet2!A:H,3,FALSE))","v":""},null,{"$f":"IF(OR(E107=\"\",ISBLANK(E107)),\"\",VLOOKUP(E107,Sheet2!A:G,6,FALSE))","v":""},""]
[{"$f":"IF(OR(E108=\"\",ISBLANK(E108)),\"\",VLOOKUP(E108,Sheet2!A:F,2,FALSE))","v":""},{"$f":"IF(OR(E108=\"\",ISBLANK(E108)),\"\",VLOOKUP(E108,Sheet2!A:G,4,FALSE))","v":""},"",{"$f":"IF(OR(E108=\"\",ISBLANK(E108)),\"\",VLOOKUP(E108,Sheet2!A:H,3,FALSE))","v":""},null,{"$f":"IF(OR(E108=\"\",ISBLANK(E108)),\"\",VLOOKUP(E108,Sheet2!A:G,6,FALSE))","v":""},""]
[{"$f":"IF(OR(E109=\"\",ISBLANK(E109)),\"\",VLOOKUP(E109,Sheet2!A:F,2,FALSE))","v":""},{"$f":"IF(OR(E109=\"\",ISBLANK(E109)),\"\",VLOOKUP(E109,Sheet2!A:G,4,FALSE))","v":""},"",{"$f":"IF(OR(E109=\"\",ISBLANK(E109)),\"\",VLOOKUP(E109,Sheet2!A:H,3,FALSE))","v":""},null,{"$f":"IF(OR(E109=\"\",ISBLANK(E109)),\"\",VLOOKUP(E109,Sheet2!A:G,6,FALSE))","v":""},""]
[{"$f":"IF(OR(E110=\"\",ISBLANK(E110)),\"\",VLOOKUP(E110,Sheet2!A:F,2,FALSE))","v":""},{"$f":"IF(OR(E110=\"\",ISBLANK(E110)),\"\",VLOOKUP(E110,Sheet2!A:G,4,FALSE))","v":""},"",{"$f":"IF(OR(E110=\"\",ISBLANK(E110)),\"\",VLOOKUP(E110,Sheet2!A:H,3,FALSE))","v":""},null,{"$f":"IF(OR(E110=\"\",ISBLANK(E110)),\"\",VLOOKUP(E110,Sheet2!A:G,6,FALSE))","v":""},""]
[{"$f":"IF(OR(E111=\"\",ISBLANK(E111)),\"\",VLOOKUP(E111,Sheet2!A:F,2,FALSE))","v":""},{"$f":"IF(OR(E111=\"\",ISBLANK(E111)),\"\",VLOOKUP(E111,Sheet2!A:G,4,FALSE))","v":""},"",{"$f":"IF(OR(E111=\"\",ISBLANK(E111)),\"\",VLOOKUP(E111,Sheet2!A:H,3,FALSE))","v":""},null,{"$f":"IF(OR(E111=\"\",ISBLANK(E111)),\"\",VLOOKUP(E111,Sheet2!A:G,6,FALSE))","v":""},""]
[{"$f":"IF(OR(E112=\"\",ISBLANK(E112)),\"\",VLOOKUP(E112,Sheet2!A:F,2,FALSE))","v":""},{"$f":"IF(OR(E112=\"\",ISBLANK(E112)),\"\",VLOOKUP(E112,Sheet2!A:G,4,FALSE))","v":""},"",{"$f":"IF(OR(E112=\"\",ISBLANK(E112)),\"\",VLOOKUP(E112,Sheet2!A:H,3,FALSE))","v":""},null,{"$f":"IF(OR(E112=\"\",ISBLANK(E112)),\"\",VLOOKUP(E112,Sheet2!A:G,6,FALSE))","v":""},""]
[{"$f":"IF(OR(E113=\"\",ISBLANK(E113)),\"\",VLOOKUP(E113,Sheet2!A:F,2,FALSE))","v":""},{"$f":"IF(OR(E113=\"\",ISBLANK(E113)),\"\",VLOOKUP(E113,Sheet2!A:G,4,FALSE))","v":""},"",{"$f":"IF(OR(E113=\"\",ISBLANK(E113)),\"\",VLOOKUP(E113,Sheet2!A:H,3,FALSE))","v":""},null,{"$f":"IF(OR(E113=\"\",ISBLANK(E113)),\"\",VLOOKUP(E113,Sheet2!A:G,6,FALSE))","v":""},""]
[{"$f":"IF(OR(E114=\"\",ISBLANK(E114)),\"\",VLOOKUP(E114,Sheet2!A:F,2,FALSE))","v":""},{"$f":"IF(OR(E114=\"\",ISBLANK(E114)),\"\",VLOOKUP(E114,Sheet2!A:G,4,FALSE))","v":""},"",{"$f":"IF(OR(E114=\"\",ISBLANK(E114)),\"\",VLOOKUP(E114,Sheet2!A:H,3,FALSE))","v":""},null,{"$f":"IF(OR(E114=\"\",ISBLANK(E114)),\"\",VLOOKUP(E114,Sheet2!A:G,6,FALSE))","v":""},""]
[{"$f":"IF(OR(E115=\"\",ISBLANK(E115)),\"\",VLOOKUP(E115,Sheet2!A:F,2,FALSE))","v":""},{"$f":"IF(OR(E115=\"\",ISBLANK(E115)),\"\",VLOOKUP(E115,Sheet2!A:G,4,FALSE))","v":""},"",{"$f":"IF(OR(E115=\"\",ISBLANK(E115)),\"\",VLOOKUP(E115,Sheet2!A:H,3,FALSE))","v":""},null,{"$f":"IF(OR(E115=\"\",ISBLANK(E115)),\"\",VLOOKUP(E115,Sheet2!A:G,6,FALSE))","v":""},""]
[{"$f":"IF(OR(E116=\"\",ISBLANK(E116)),\"\",VLOOKUP(E116,Sheet2!A:F,2,FALSE))","v":""},{"$f":"IF(OR(E116=\"\",ISBLANK(E116)),\"\",VLOOKUP(E116,Sheet2!A:G,4,FALSE))","v":""},"",{"$f":"IF(OR(E116=\"\",ISBLANK(E116)),\"\",VLOOKUP(E116,Sheet2!A:H,3,FALSE))","v":""},null,{"$f":"IF(OR(E116=\"\",ISBLANK(E116)),\"\",VLOOKUP(E116,Sheet2!A:G,6,FALSE))","v":""},""]
[{"$f":"IF(OR(E117=\"\",ISBLANK(E117)),\"\",VLOOKUP(E117,Sheet2!A:F,2,FALSE))","v":""},{"$f":"IF(OR(E117=\"\",ISBLANK(E117)),\"\",VLOOKUP(E117,Sheet2!A:G,4,FALSE))","v":""},"",{"$f":"IF(OR(E117=\"\",ISBLANK(E117)),\"\",VLOOKUP(E117,Sheet2!A:H,3,FALSE))","v":""},null,{"$f":"IF(OR(E117=\"\",ISBLANK(E117)),\"\",VLOOKUP(E117,Sheet2!A:G,6,FALSE))","v":""},""]
[{"$f":"IF(OR(E118=\"\",ISBLANK(E118)),\"\",VLOOKUP(E118,Sheet2!A:F,2,FALSE))","v":""},{"$f":"IF(OR(E118=\"\",ISBLANK(E118)),\"\",VLOOKUP(E118,Sheet2!A:G,4,FALSE))","v":""},"",{"$f":"IF(OR(E118=\"\",ISBLANK(E118)),\"\",VLOOKUP(E118,Sheet2!A:H,3,FALSE))","v":""},null,{"$f":"IF(OR(E118=\"\",ISBLANK(E118)),\"\",VLOOKUP(E118,Sheet2!A:G,6,FALSE))","v":""},""]
[{"$f":"IF(OR(E119=\"\",ISBLANK(E119)),\"\",VLOOKUP(E119,Sheet2!A:F,2,FALSE))","v":""},{"$f":"IF(OR(E119=\"\",ISBLANK(E119)),\"\",VLOOKUP(E119,Sheet2!A:G,4,FALSE))","v":""},"",{"$f":"IF(OR(E119=\"\",ISBLANK(E119)),\"\",VLOOKUP(E119,Sheet2!A:H,3,FALSE))","v":""},null,{"$f":"IF(OR(E119=\"\",ISBLANK(E119)),\"\",VLOOKUP(E119,Sheet2!A:G,6,FALSE))","v":""},""]
[{"$f":"IF(OR(E120=\"\",ISBLANK(E120)),\"\",VLOOKUP(E120,Sheet2!A:F,2,FALSE))","v":""},{"$f":"IF(OR(E120=\"\",ISBLANK(E120)),\"\",VLOOKUP(E120,Sheet2!A:G,4,FALSE))","v":""},"",{"$f":"IF(OR(E120=\"\",ISBLANK(E120)),\"\",VLOOKUP(E120,Sheet2!A:H,3,FALSE))","v":""},null,{"$f":"IF(OR(E120=\"\",ISBLANK(E120)),\"\",VLOOKUP(E120,Sheet2!A:G,6,FALSE))","v":""},""]
[{"$f":"IF(OR(E121=\"\",ISBLANK(E121)),\"\",VLOOKUP(E121,Sheet2!A:F,2,FALSE))","v":""},{"$f":"IF(OR(E121=\"\",ISBLANK(E121)),\"\",VLOOKUP(E121,Sheet2!A:G,4,FALSE))","v":""},"",{"$f":"IF(OR(E121=\"\",ISBLANK(E121)),\"\",VLOOKUP(E121,Sheet2!A:H,3,FALSE))","v":""},null,{"$f":"IF(OR(E121=\"\",ISBLANK(E121)),\"\",VLOOKUP(E121,Sheet2!A:G,6,FALSE))","v":""},""]
[{"$f":"IF(OR(E122=\"\",ISBLANK(E122)),\"\",VLOOKUP(E122,Sheet2!A:F,2,FALSE))","v":""},{"$f":"IF(OR(E122=\"\",ISBLANK(E122)),\"\",VLOOKUP(E122,Sheet2!A:G,4,FALSE))","v":""},"",{"$f":"IF(OR(E122=\"\",ISBLANK(E122)),\"\",VLOOKUP(E122,Sheet2!A:H,3,FALSE))","v":""},null,{"$f":"IF(OR(E122=\"\",ISBLANK(E122)),\"\",VLOOKUP(E122,Sheet2!A:G,6,FALSE))","v":""},""]
[{"$f":"IF(OR(E123=\"\",ISBLANK(E123)),\"\",VLOOKUP(E123,Sheet2!A:F,2,FALSE))","v":""},{"$f":"IF(OR(E123=\"\",ISBLANK(E123)),\"\",VLOOKUP(E123,Sheet2!A:G,4,FALSE))","v":""},"",{"$f":"IF(OR(E123=\"\",ISBLANK(E123)),\"\",VLOOKUP(E123,Sheet2!A:H,3,FALSE))","v":""},null,{"$f":"IF(OR(E123=\"\",ISBLANK(E123)),\"\",VLOOKUP(E123,Sheet2!A:G,6,FALSE))","v":""},""]
[{"$f":"IF(OR(E124=\"\",ISBLANK(E124)),\"\",VLOOKUP(E124,Sheet2!A:F,2,FALSE))","v":""},{"$f":"IF(OR(E124=\"\",ISBLANK(E124)),\"\",VLOOKUP(E124,Sheet2!A:G,4,FALSE))","v":""},"",{"$f":"IF(OR(E124=\"\",ISBLANK(E124)),\"\",VLOOKUP(E124,Sheet2!A:H,3,FALSE))","v":""},null,{"$f":"IF(OR(E124=\"\",ISBLANK(E124)),\"\",VLOOKUP(E124,Sheet2!A:G,6,FALSE))","v":""},""]
[{"$f":"IF(OR(E125=\"\",ISBLANK(E125)),\"\",VLOOKUP(E125,Sheet2!A:F,2,FALSE))","v":""},{"$f":"IF(OR(E125=\"\",ISBLANK(E125)),\"\",VLOOKUP(E125,Sheet2!A:G,4,FALSE))","v":""},"",{"$f":"IF(OR(E125=\"\",ISBLANK(E125)),\"\",VLOOKUP(E125,Sheet2!A:H,3,FALSE))","v":""},null,{"$f":"IF(OR(E125=\"\",ISBLANK(E125)),\"\",VLOOKUP(E125,Sheet2!A:G,6,FALSE))","v":""},""]
[{"$f":"IF(OR(E126=\"\",ISBLANK(E126)),\"\",VLOOKUP(E126,Sheet2!A:F,2,FALSE))","v":""},{"$f":"IF(OR(E126=\"\",ISBLANK(E126)),\"\",VLOOKUP(E126,Sheet2!A:G,4,FALSE))","v":""},"",{"$f":"IF(OR(E126=\"\",ISBLANK(E126)),\"\",VLOOKUP(E126,Sheet2!A:H,3,FALSE))","v":""},null,{"$f":"IF(OR(E126=\"\",ISBLANK(E126)),\"\",VLOOKUP(E126,Sheet2!A:G,6,FALSE))","v":""},""]
[{"$f":"IF(OR(E127=\"\",ISBLANK(E127)),\"\",VLOOKUP(E127,Sheet2!A:F,2,FALSE))","v":""},{"$f":"IF(OR(E127=\"\",ISBLANK(E127)),\"\",VLOOKUP(E127,Sheet2!A:G,4,FALSE))","v":""},"",{"$f":"IF(OR(E127=\"\",ISBLANK(E127)),\"\",VLOOKUP(E127,Sheet2!A:H,3,FALSE))","v":""},null,{"$f":"IF(OR(E127=\"\",ISBLANK(E127)),\"\",VLOOKUP(E127,Sheet2!A:G,6,FALSE))","v":""},""]
[{"$f":"IF(OR(E128=\"\",ISBLANK(E128)),\"\",VLOOKUP(E128,Sheet2!A:F,2,FALSE))","v":""},{"$f":"IF(OR(E128=\"\",ISBLANK(E128)),\"\",VLOOKUP(E128,Sheet2!A:G,4,FALSE))","v":""},"",{"$f":"IF(OR(E128=\"\",ISBLANK(E128)),\"\",VLOOKUP(E128,Sheet2!A:H,3,FALSE))","v":""},null,{"$f":"IF(OR(E128=\"\",ISBLANK(E128)),\"\",VLOOKUP(E128,Sheet2!A:G,6,FALSE))","v":""},""]
[{"$f":"IF(OR(E129=\"\",ISBLANK(E129)),\"\",VLOOKUP(E129,Sheet2!A:F,2,FALSE))","v":""},{"$f":"IF(OR(E129=\"\",ISBLANK(E129)),\"\",VLOOKUP(E129,Sheet2!A:G,4,FALSE))","v":""},"",{"$f":"IF(OR(E129=\"\",ISBLANK(E129)),\"\",VLOOKUP(E129,Sheet2!A:H,3,FALSE))","v":""},null,{"$f":"IF(OR(E129=\"\",ISBLANK(E129)),\"\",VLOOKUP(E129,Sheet2!A:G,6,FALSE))","v":""},""]
[{"$f":"IF(OR(E130=\"\",ISBLANK(E130)),\"\",VLOOKUP(E130,Sheet2!A:F,2,FALSE))","v":""},{"$f":"IF(OR(E130=\"\",ISBLANK(E130)),\"\",VLOOKUP(E130,Sheet2!A:G,4,FALSE))","v":""},"",{"$f":"IF(OR(E130=\"\",ISBLANK(E130)),\"\",VLOOKUP(E130,Sheet2!A:H,3,FALSE))","v":""},null,{"$f":"IF(OR(E130=\"\",ISBLANK(E130)),\"\",VLOOKUP(E130,Sheet2!A:G,6,FALSE))","v":""},""]
[{"$f":"IF(OR(E131=\"\",ISBLANK(E131)),\"\",VLOOKUP(E131,Sheet2!A:F,2,FALSE))","v":""},{"$f":"IF(OR(E131=\"\",ISBLANK(E131)),\"\",VLOOKUP(E131,Sheet2!A:G,4,FALSE))","v":""},{"$f":"IF(D131=0,\"\",D131)","v":""},{"$f":"IF(OR(E131=\"\",ISBLANK(E131)),\"\",VLOOKUP(E131,Sheet2!A:H,3,FALSE))","v":""},null,{"$f":"IF(OR(E131=\"\",ISBLANK(E131)),\"\",VLOOKUP(E131,Sheet2!A:G,6,FALSE))","v":""},{"$f":"IF(F131=0,\"\",F131)","v":""}]
[{"$f":"IF(OR(E132=\"\",ISBLANK(E132)),\"\",VLOOKUP(E132,Sheet2!A:F,2,FALSE))","v":""},{"$f":"IF(OR(E132=\"\",ISBLANK(E132)),\"\",VLOOKUP(E132,Sheet2!A:G,4,FALSE))","v":""},"",{"$f":"IF(OR(E132=\"\",ISBLANK(E132)),\"\",VLOOKUP(E132,Sheet2!A:H,3,FALSE))","v":""},null,{"$f":"IF(OR(E132=\"\",ISBLANK(E132)),\"\",VLOOKUP(E132,Sheet2!A:G,6,FALSE))","v":""},""]
[{"$f":"IF(OR(E133=\"\",ISBLANK(E133)),\"\",VLOOKUP(E133,Sheet2!A:F,2,FALSE))","v":""},{"$f":"IF(OR(E133=\"\",ISBLANK(E133)),\"\",VLOOKUP(E133,Sheet2!A:G,4,FALSE))","v":""},"",{"$f":"IF(OR(E133=\"\",ISBLANK(E133)),\"\",VLOOKUP(E133,Sheet2!A:H,3,FALSE))","v":""},null,{"$f":"IF(OR(E133=\"\",ISBLANK(E133)),\"\",VLOOKUP(E133,Sheet2!A:G,6,FALSE))","v":""},""]
[{"$f":"IF(OR(E134=\"\",ISBLANK(E134)),\"\",VLOOKUP(E134,Sheet2!A:F,2,FALSE))","v":""},{"$f":"IF(OR(E134=\"\",ISBLANK(E134)),\"\",VLOOKUP(E134,Sheet2!A:G,4,FALSE))","v":""},"",{"$f":"IF(OR(E134=\"\",ISBLANK(E134)),\"\",VLOOKUP(E134,Sheet2!A:H,3,FALSE))","v":""},null,{"$f":"IF(OR(E134=\"\",ISBLANK(E134)),\"\",VLOOKUP(E134,Sheet2!A:G,6,FALSE))","v":""},""]
[{"$f":"IF(OR(E135=\"\",ISBLANK(E135)),\"\",VLOOKUP(E135,Sheet2!A:F,2,FALSE))","v":""},{"$f":"IF(OR(E135=\"\",ISBLANK(E135)),\"\",VLOOKUP(E135,Sheet2!A:G,4,FALSE))","v":""},"",{"$f":"IF(OR(E135=\"\",ISBLANK(E135)),\"\",VLOOKUP(E135,Sheet2!A:H,3,FALSE))","v":""},null,{"$f":"IF(OR(E135=\"\",ISBLANK(E135)),\"\",VLOOKUP(E135,Sheet2!A:G,6,FALSE))","v":""},""]
[{"$f":"IF(OR(E136=\"\",ISBLANK(E136)),\"\",VLOOKUP(E136,Sheet2!A:F,2,FALSE))","v":""},{"$f":"IF(OR(E136=\"\",ISBLANK(E136)),\"\",VLOOKUP(E136,Sheet2!A:G,4,FALSE))","v":""},"",{"$f":"IF(OR(E136=\"\",ISBLANK(E136)),\"\",VLOOKUP(E136,Sheet2!A:H,3,FALSE))","v":""},null,{"$f":"IF(OR(E136=\"\",ISBLANK(E136)),\"\",VLOOKUP(E136,Sheet2!A:G,6,FALSE))","v":""},""]
[{"$f":"IF(OR(E137=\"\",ISBLANK(E137)),\"\",VLOOKUP(E137,Sheet2!A:F,2,FALSE))","v":""},{"$f":"IF(OR(E137=\"\",ISBLANK(E137)),\"\",VLOOKUP(E137,Sheet2!A:G,4,FALSE))","v":""},"",{"$f":"IF(OR(E137=\"\",ISBLANK(E137)),\"\",VLOOKUP(E137,Sheet2!A:H,3,FALSE))","v":""},null,{"$f":"IF(OR(E137=\"\",ISBLANK(E137)),\"\",VLOOKUP(E137,Sheet2!A:G,6,FALSE))","v":""},""]
[{"$f":"IF(OR(E138=\"\",ISBLANK(E138)),\"\",VLOOKUP(E138,Sheet2!A:F,2,FALSE))","v":""},{"$f":"IF(OR(E138=\"\",ISBLANK(E138)),\"\",VLOOKUP(E138,Sheet2!A:G,4,FALSE))","v":""},"",{"$f":"IF(OR(E138=\"\",ISBLANK(E138)),\"\",VLOOKUP(E138,Sheet2!A:H,3,FALSE))","v":""},null,{"$f":"IF(OR(E138=\"\",ISBLANK(E138)),\"\",VLOOKUP(E138,Sheet2!A:G,6,FALSE))","v":""},""]
[{"$f":"IF(OR(E139=\"\",ISBLANK(E139)),\"\",VLOOKUP(E139,Sheet2!A:F,2,FALSE))","v":""},{"$f":"IF(OR(E139=\"\",ISBLANK(E139)),\"\",VLOOKUP(E139,Sheet2!A:G,4,FALSE))","v":""},"",{"$f":"IF(OR(E139=\"\",ISBLANK(E139)),\"\",VLOOKUP(E139,Sheet2!A:H,3,FALSE))","v":""},null,{"$f":"IF(OR(E139=\"\",ISBLANK(E139)),\"\",VLOOKUP(E139,Sheet2!A:G,6,FALSE))","v":""},""]
[{"$f":"IF(OR(E140=\"\",ISBLANK(E140)),\"\",VLOOKUP(E140,Sheet2!A:F,2,FALSE))","v":""},{"$f":"IF(OR(E140=\"\",ISBLANK(E140)),\"\",VLOOKUP(E140,Sheet2!A:G,4,FALSE))","v":""},"",{"$f":"IF(OR(E140=\"\",ISBLANK(E140)),\"\",VLOOKUP(E140,Sheet2!A:H,3,FALSE))","v":""},null,{"$f":"IF(OR(E140=\"\",ISBLANK(E140)),\"\",VLOOKUP(E140,Sheet2!A:G,6,FALSE))","v":""},""]
[{"$f":"IF(OR(E141=\"\",ISBLANK(E141)),\"\",VLOOKUP(E141,Sheet2!A:F,2,FALSE))","v":""},{"$f":"IF(OR(E141=\"\",ISBLANK(E141)),\"\",VLOOKUP(E141,Sheet2!A:G,4,FALSE))","v":""},"",{"$f":"IF(OR(E141=\"\",ISBLANK(E141)),\"\",VLOOKUP(E141,Sheet2!A:H,3,FALSE))","v":""},null,{"$f":"IF(OR(E141=\"\",ISBLANK(E141)),\"\",VLOOKUP(E141,Sheet2!A:G,6,FALSE))","v":""},""]
[{"$f":"IF(OR(E142=\"\",ISBLANK(E142)),\"\",VLOOKUP(E142,Sheet2!A:F,2,FALSE))","v":""},{"$f":"IF(OR(E142=\"\",ISBLANK(E142)),\"\",VLOOKUP(E142,Sheet2!A:G,4,FALSE))","v":""},"",{"$f":"IF(OR(E142=\"\",ISBLANK(E142)),\"\",VLOOKUP(E142,Sheet2!A:H,3,FALSE))","v":""},null,{"$f":"IF(OR(E142=\"\",ISBLANK(E142)),\"\",VLOOKUP(E142,Sheet2!A:G,6,FALSE))","v":""},""]
[{"$f":"IF(OR(E143=\"\",ISBLANK(E143)),\"\",VLOOKUP(E143,Sheet2!A:F,2,FALSE))","v":""},{"$f":"IF(OR(E143=\"\",ISBLANK(E143)),\"\",VLOOKUP(E143,Sheet2!A:G,4,FALSE))","v":""},"",{"$f":"IF(OR(E143=\"\",ISBLANK(E143)),\"\",VLOOKUP(E143,Sheet2!A:H,3,FALSE))","v":""},null,{"$f":"IF(OR(E143=\"\",ISBLANK(E143)),\"\",VLOOKUP(E143,Sheet2!A:G,6,FALSE))","v":""},""]
[{"$f":"IF(OR(E144=\"\",ISBLANK(E144)),\"\",VLOOKUP(E144,Sheet2!A:F,2,FALSE))","v":""},{"$f":"IF(OR(E144=\"\",ISBLANK(E144)),\"\",VLOOKUP(E144,Sheet2!A:G,4,FALSE))","v":""},"",{"$f":"IF(OR(E144=\"\",ISBLANK(E144)),\"\",VLOOKUP(E144,Sheet2!A:H,3,FALSE))","v":""},null,{"$f":"IF(OR(E144=\"\",ISBLANK(E144)),\"\",VLOOKUP(E144,Sheet2!A:G,6,FALSE))","v":""},""]
[{"$f":"IF(OR(E145=\"\",ISBLANK(E145)),\"\",VLOOKUP(E145,Sheet2!A:F,2,FALSE))","v":""},{"$f":"IF(OR(E145=\"\",ISBLANK(E145)),\"\",VLOOKUP(E145,Sheet2!A:G,4,FALSE))","v":""},"",{"$f":"IF(OR(E145=\"\",ISBLANK(E145)),\"\",VLOOKUP(E145,Sheet2!A:H,3,FALSE))","v":""},null,{"$f":"IF(OR(E145=\"\",ISBLANK(E145)),\"\",VLOOKUP(E145,Sheet2!A:G,6,FALSE))","v":""},""]
[{"$f":"IF(OR(E146=\"\",ISBLANK(E146)),\"\",VLOOKUP(E146,Sheet2!A:F,2,FALSE))","v":""},{"$f":"IF(OR(E146=\"\",ISBLANK(E146)),\"\",VLOOKUP(E146,Sheet2!A:G,4,FALSE))","v":""},"",{"$f":"IF(OR(E146=\"\",ISBLANK(E146)),\"\",VLOOKUP(E146,Sheet2!A:H,3,FALSE))","v":""},null,{"$f":"IF(OR(E146=\"\",ISBLANK(E146)),\"\",VLOOKUP(E146,Sheet2!A:G,6,FALSE))","v":""},""]
[{"$f":"IF(OR(E147=\"\",ISBLANK(E147)),\"\",VLOOKUP(E147,Sheet2!A:F,2,FALSE))","v":""},{"$f":"IF(OR(E147=\"\",ISBLANK(E147)),\"\",VLOOKUP(E147,Sheet2!A:G,4,FALSE))","v":""},"",{"$f":"IF(OR(E147=\"\",ISBLANK(E147)),\"\",VLOOKUP(E147,Sheet2!A:H,3,FALSE))","v":""},null,{"$f":"IF(OR(E147=\"\",ISBLANK(E147)),\"\",VLOOKUP(E147,Sheet2!A:G,6,FALSE))","v":""},""]
[{"$f":"IF(OR(E148=\"\",ISBLANK(E148)),\"\",VLOOKUP(E148,Sheet2!A:F,2,FALSE))","v":""},{"$f":"IF(OR(E148=\"\",ISBLANK(E148)),\"\",VLOOKUP(E148,Sheet2!A:G,4,FALSE))","v":""},"",{"$f":"IF(OR(E148=\"\",ISBLANK(E148)),\"\",VLOOKUP(E148,Sheet2!A:H,3,FALSE))","v":""},null,{"$f":"IF(OR(E148=\"\",ISBLANK(E148)),\"\",VLOOKUP(E148,Sheet2!A:G,6,FALSE))","v":""},""]
[{"$f":"IF(OR(E149=\"\",ISBLANK(E149)),\"\",VLOOKUP(E149,Sheet2!A:F,2,FALSE))","v":""},{"$f":"IF(OR(E149=\"\",ISBLANK(E149)),\"\",VLOOKUP(E149,Sheet2!A:G,4,FALSE))","v":""},"",{"$f":"IF(OR(E149=\"\",ISBLANK(E149)),\"\",VLOOKUP(E149,Sheet2!A:H,3,FALSE))","v":""},null,{"$f":"IF(OR(E149=\"\",ISBLANK(E149)),\"\",VLOOKUP(E149,Sheet2!A:G,6,FALSE))","v":""},""]
[{"$f":"IF(OR(E150=\"\",ISBLANK(E150)),\"\",VLOOKUP(E150,Sheet2!A:F,2,FALSE))","v":""},{"$f":"IF(OR(E150=\"\",ISBLANK(E150)),\"\",VLOOKUP(E150,Sheet2!A:G,4,FALSE))","v":""},"",{"$f":"IF(OR(E150=\"\",ISBLANK(E150)),\"\",VLOOKUP(E150,Sheet2!A:H,3,FALSE))","v":""},null,{"$f":"IF(OR(E150=\"\",ISBLANK(E150)),\"\",VLOOKUP(E150,Sheet2!A:G,6,FALSE))","v":""},""]
[{"$f":"IF(OR(E151=\"\",ISBLANK(E151)),\"\",VLOOKUP(E151,Sheet2!A:F,2,FALSE))","v":""},{"$f":"IF(OR(E151=\"\",ISBLANK(E151)),\"\",VLOOKUP(E151,Sheet2!A:G,4,FALSE))","v":""},"",{"$f":"IF(OR(E151=\"\",ISBLANK(E151)),\"\",VLOOKUP(E151,Sheet2!A:H,3,FALSE))","v":""},null,{"$f":"IF(OR(E151=\"\",ISBLANK(E151)),\"\",VLOOKUP(E151,Sheet2!A:G,6,FALSE))","v":""},""]
[{"$f":"IF(OR(E152=\"\",ISBLANK(E152)),\"\",VLOOKUP(E152,Sheet2!A:F,2,FALSE))","v":""},{"$f":"IF(OR(E152=\"\",ISBLANK(E152)),\"\",VLOOKUP(E152,Sheet2!A:G,4,FALSE))","v":""},"",{"$f":"IF(OR(E152=\"\",ISBLANK(E152)),\"\",VLOOKUP(E152,Sheet2!A:H,3,FALSE))","v":""},null,{"$f":"IF(OR(E152=\"\",ISBLANK(E152)),\"\",VLOOKUP(E152,Sheet2!A:G,6,FALSE))","v":""},""]
[{"$f":"IF(OR(E153=\"\",ISBLANK(E153)),\"\",VLOOKUP(E153,Sheet2!A:F,2,FALSE))","v":""},{"$f":"IF(OR(E153=\"\",ISBLANK(E153)),\"\",VLOOKUP(E153,Sheet2!A:G,4,FALSE))","v":""},"",{"$f":"IF(OR(E153=\"\",ISBLANK(E153)),\"\",VLOOKUP(E153,Sheet2!A:H,3,FALSE))","v":""},null,{"$f":"IF(OR(E153=\"\",ISBLANK(E153)),\"\",VLOOKUP(E153,Sheet2!A:G,6,FALSE))","v":""},""]
[{"$f":"IF(OR(E154=\"\",ISBLANK(E154)),\"\",VLOOKUP(E154,Sheet2!A:F,2,FALSE))","v":""},{"$f":"IF(OR(E154=\"\",ISBLANK(E154)),\"\",VLOOKUP(E154,Sheet2!A:G,4,FALSE))","v":""},"",{"$f":"IF(OR(E154=\"\",ISBLANK(E154)),\"\",VLOOKUP(E154,Sheet2!A:H,3,FALSE))","v":""},null,{"$f":"IF(OR(E154=\"\",ISBLANK(E154)),\"\",VLOOKUP(E154,Sheet2!A:G,6,FALSE))","v":""},""]
[{"$f":"IF(OR(E155=\"\",ISBLANK(E155)),\"\",VLOOKUP(E155,Sheet2!A:F,2,FALSE))","v":""},{"$f":"IF(OR(E155=\"\",ISBLANK(E155)),\"\",VLOOKUP(E155,Sheet2!A:G,4,FALSE))","v":""},"",{"$f":"IF(OR(E155=\"\",ISBLANK(E155)),\"\",VLOOKUP(E155,Sheet2!A:H,3,FALSE))","v":""},null,{"$f":"IF(OR(E155=\"\",ISBLANK(E155)),\"\",VLOOKUP(E155,Sheet2!A:G,6,FALSE))","v":""},""]
[{"$f":"IF(OR(E156=\"\",ISBLANK(E156)),\"\",VLOOKUP(E156,Sheet2!A:F,2,FALSE))","v":""},{"$f":"IF(OR(E156=\"\",ISBLANK(E156)),\"\",VLOOKUP(E156,Sheet2!A:G,4,FALSE))","v":""},"",{"$f":"IF(OR(E156=\"\",ISBLANK(E156)),\"\",VLOOKUP(E156,Sheet2!A:H,3,FALSE))","v":""},null,{"$f":"IF(OR(E156=\"\",ISBLANK(E156)),\"\",VLOOKUP(E156,Sheet2!A:G,6,FALSE))","v":""},""]
[{"$f":"IF(OR(E157=\"\",ISBLANK(E157)),\"\",VLOOKUP(E157,Sheet2!A:F,2,FALSE))","v":""},{"$f":"IF(OR(E157=\"\",ISBLANK(E157)),\"\",VLOOKUP(E157,Sheet2!A:G,4,FALSE))","v":""},"",{"$f":"IF(OR(E157=\"\",ISBLANK(E157)),\"\",VLOOKUP(E157,Sheet2!A:H,3,FALSE))","v":""},null,{"$f":"IF(OR(E157=\"\",ISBLANK(E157)),\"\",VLOOKUP(E157,Sheet2!A:G,6,FALSE))","v":""},""]
[{"$f":"IF(OR(E158=\"\",ISBLANK(E158)),\"\",VLOOKUP(E158,Sheet2!A:F,2,FALSE))","v":""},{"$f":"IF(OR(E158=\"\",ISBLANK(E158)),\"\",VLOOKUP(E158,Sheet2!A:G,4,FALSE))","v":""},"",{"$f":"IF(OR(E158=\"\",ISBLANK(E158)),\"\",VLOOKUP(E158,Sheet2!A:H,3,FALSE))","v":""},null,{"$f":"IF(OR(E158=\"\",ISBLANK(E158)),\"\",VLOOKUP(E158,Sheet2!A:G,6,FALSE))","v":""},""]
[{"$f":"IF(OR(E159=\"\",ISBLANK(E159)),\"\",VLOOKUP(E159,Sheet2!A:F,2,FALSE))","v":""},{"$f":"IF(OR(E159=\"\",ISBLANK(E159)),\"\",VLOOKUP(E159,Sheet2!A:G,4,FALSE))","v":""},"",{"$f":"IF(OR(E159=\"\",ISBLANK(E159)),\"\",VLOOKUP(E159,Sheet2!A:H,3,FALSE))","v":""},null,{"$f":"IF(OR(E159=\"\",ISBLANK(E159)),\"\",VLOOKUP(E159,Sheet2!A:G,6,FALSE))","v":""},""]
[{"$f":"IF(OR(E160=\"\",ISBLANK(E160)),\"\",VLOOKUP(E160,Sheet2!A:F,2,FALSE))","v":""},{"$f":"IF(OR(E160=\"\",ISBLANK(E160)),\"\",VLOOKUP(E160,Sheet2!A:G,4,FALSE))","v":""},"",{"$f":"IF(OR(E160=\"\",ISBLANK(E160)),\"\",VLOOKUP(E160,Sheet2!A:H,3,FALSE))","v":""},null,{"$f":"IF(OR(E160=\"\",ISBLANK(E160)),\"\",VLOOKUP(E160,Sheet2!A:G,6,FALSE))","v":""},""]
[{"$f":"IF(OR(E161=\"\",ISBLANK(E161)),\"\",VLOOKUP(E161,Sheet2!A:F,2,FALSE))","v":""},{"$f":"IF(OR(E161=\"\",ISBLANK(E161)),\"\",VLOOKUP(E161,Sheet2!A:G,4,FALSE))","v":""},"",{"$f":"IF(OR(E161=\"\",ISBLANK(E161)),\"\",VLOOKUP(E161,Sheet2!A:H,3,FALSE))","v":""},null,{"$f":"IF(OR(E161=\"\",ISBLANK(E161)),\"\",VLOOKUP(E161,Sheet2!A:G,6,FALSE))","v":""},""]
[{"$f":"IF(OR(E162=\"\",ISBLANK(E162)),\"\",VLOOKUP(E162,Sheet2!A:F,2,FALSE))","v":""},{"$f":"IF(OR(E162=\"\",ISBLANK(E162)),\"\",VLOOKUP(E162,Sheet2!A:G,4,FALSE))","v":""},"",{"$f":"IF(OR(E162=\"\",ISBLANK(E162)),\"\",VLOOKUP(E162,Sheet2!A:H,3,FALSE))","v":""},null,{"$f":"IF(OR(E162=\"\",ISBLANK(E162)),\"\",VLOOKUP(E162,Sheet2!A:G,6,FALSE))","v":""},""]
[{"$f":"IF(OR(E163=\"\",ISBLANK(E163)),\"\",VLOOKUP(E163,Sheet2!A:F,2,FALSE))","v":""},{"$f":"IF(OR(E163=\"\",ISBLANK(E163)),\"\",VLOOKUP(E163,Sheet2!A:G,4,FALSE))","v":""},"",{"$f":"IF(OR(E163=\"\",ISBLANK(E163)),\"\",VLOOKUP(E163,Sheet2!A:H,3,FALSE))","v":""},null,{"$f":"IF(OR(E163=\"\",ISBLANK(E163)),\"\",VLOOKUP(E163,Sheet2!A:G,6,FALSE))","v":""},""]
[{"$f":"IF(OR(E164=\"\",ISBLANK(E164)),\"\",VLOOKUP(E164,Sheet2!A:F,2,FALSE))","v":""},{"$f":"IF(OR(E164=\"\",ISBLANK(E164)),\"\",VLOOKUP(E164,Sheet2!A:G,4,FALSE))","v":""},"",{"$f":"IF(OR(E164=\"\",ISBLANK(E164)),\"\",VLOOKUP(E164,Sheet2!A:H,3,FALSE))","v":""},null,{"$f":"IF(OR(E164=\"\",ISBLANK(E164)),\"\",VLOOKUP(E164,Sheet2!A:G,6,FALSE))","v":""},""]
[{"$f":"IF(OR(E165=\"\",ISBLANK(E165)),\"\",VLOOKUP(E165,Sheet2!A:F,2,FALSE))","v":""},{"$f":"IF(OR(E165=\"\",ISBLANK(E165)),\"\",VLOOKUP(E165,Sheet2!A:G,4,FALSE))","v":""},"",{"$f":"IF(OR(E165=\"\",ISBLANK(E165)),\"\",VLOOKUP(E165,Sheet2!A:H,3,FALSE))","v":""},null,{"$f":"IF(OR(E165=\"\",ISBLANK(E165)),\"\",VLOOKUP(E165,Sheet2!A:G,6,FALSE))","v":""},""]
[{"$f":"IF(OR(E166=\"\",ISBLANK(E166)),\"\",VLOOKUP(E166,Sheet2!A:F,2,FALSE))","v":""},{"$f":"IF(OR(E166=\"\",ISBLANK(E166)),\"\",VLOOKUP(E166,Sheet2!A:G,4,FALSE))","v":""},"",{"$f":"IF(OR(E166=\"\",ISBLANK(E166)),\"\",VLOOKUP(E166,Sheet2!A:H,3,FALSE))","v":""},null,{"$f":"IF(OR(E166=\"\",ISBLANK(E166)),\"\",VLOOKUP(E166,Sheet2!A:G,6,FALSE))","v":""},""]
[{"$f":"IF(OR(E167=\"\",ISBLANK(E167)),\"\",VLOOKUP(E167,Sheet2!A:F,2,FALSE))","v":""},{"$f":"IF(OR(E167=\"\",ISBLANK(E167)),\"\",VLOOKUP(E167,Sheet2!A:G,4,FALSE))","v":""},"",{"$f":"IF(OR(E167=\"\",ISBLANK(E167)),\"\",VLOOKUP(E167,Sheet2!A:H,3,FALSE))","v":""},null,{"$f":"IF(OR(E167=\"\",ISBLANK(E167)),\"\",VLOOKUP(E167,Sheet2!A:G,6,FALSE))","v":""},""]
[{"$f":"IF(OR(E168=\"\",ISBLANK(E168)),\"\",VLOOKUP(E168,Sheet2!A:F,2,FALSE))","v":""},{"$f":"IF(OR(E168=\"\",ISBLANK(E168)),\"\",VLOOKUP(E168,Sheet2!A:G,4,FALSE))","v":""},"",{"$f":"IF(OR(E168=\"\",ISBLANK(E168)),\"\",VLOOKUP(E168,Sheet2!A:H,3,FALSE))","v":""},null,{"$f":"IF(OR(E168=\"\",ISBLANK(E168)),\"\",VLOOKUP(E168,Sheet2!A:G,6,FALSE))","v":""},""]
[{"$f":"IF(OR(E169=\"\",ISBLANK(E169)),\"\",VLOOKUP(E169,Sheet2!A:F,2,FALSE))","v":""},{"$f":"IF(OR(E169=\"\",ISBLANK(E169)),\"\",VLOOKUP(E169,Sheet2!A:G,4,FALSE))","v":""},"",{"$f":"IF(OR(E169=\"\",ISBLANK(E169)),\"\",VLOOKUP(E169,Sheet2!A:H,3,FALSE))","v":""},null,{"$f":"IF(OR(E169=\"\",ISBLANK(E169)),\"\",VLOOKUP(E169,Sheet2!A:G,6,FALSE))","v":""},""]
[{"$f":"IF(OR(E170=\"\",ISBLANK(E170)),\"\",VLOOKUP(E170,Sheet2!A:F,2,FALSE))","v":""},{"$f":"IF(OR(E170=\"\",ISBLANK(E170)),\"\",VLOOKUP(E170,Sheet2!A:G,4,FALSE))","v":""},"",{"$f":"IF(OR(E170=\"\",ISBLANK(E170)),\"\",VLOOKUP(E170,Sheet2!A:H,3,FALSE))","v":""},null,{"$f":"IF(OR(E170=\"\",ISBLANK(E170)),\"\",VLOOKUP(E170,Sheet2!A:G,6,FALSE))","v":""},""]
[{"$f":"IF(OR(E171=\"\",ISBLANK(E171)),\"\",VLOOKUP(E171,Sheet2!A:F,2,FALSE))","v":""},{"$f":"IF(OR(E171=\"\",ISBLANK(E171)),\"\",VLOOKUP(E171,Sheet2!A:G,4,FALSE))","v":""},"",{"$f":"IF(OR(E171=\"\",ISBLANK(E171)),\"\",VLOOKUP(E171,Sheet2!A:H,3,FALSE))","v":""},null,{"$f":"IF(OR(E171=\"\",ISBLANK(E171)),\"\",VLOOKUP(E171,Sheet2!A:G,6,FALSE))","v":""},""]
[{"$f":"IF(OR(E172=\"\",ISBLANK(E172)),\"\",VLOOKUP(E172,Sheet2!A:F,2,FALSE))","v":""},{"$f":"IF(OR(E172=\"\",ISBLANK(E172)),\"\",VLOOKUP(E172,Sheet2!A:G,4,FALSE))","v":""},"",{"$f":"IF(OR(E172=\"\",ISBLANK(E172)),\"\",VLOOKUP(E172,Sheet2!A:H,3,FALSE))","v":""},null,{"$f":"IF(OR(E172=\"\",ISBLANK(E172)),\"\",VLOOKUP(E172,Sheet2!A:G,6,FALSE))","v":""},""]
[{"$f":"IF(OR(E173=\"\",ISBLANK(E173)),\"\",VLOOKUP(E173,Sheet2!A:F,2,FALSE))","v":""},{"$f":"IF(OR(E173=\"\",ISBLANK(E173)),\"\",VLOOKUP(E173,Sheet2!A:G,4,FALSE))","v":""},"",{"$f":"IF(OR(E173=\"\",ISBLANK(E173)),\"\",VLOOKUP(E173,Sheet2!A:H,3,FALSE))","v":""},null,{"$f":"IF(OR(E173=\"\",ISBLANK(E173)),\"\",VLOOKUP(E173,Sheet2!A:G,6,FALSE))","v":""},""]
[{"$f":"IF(OR(E174=\"\",ISBLANK(E174)),\"\",VLOOKUP(E174,Sheet2!A:F,2,FALSE))","v":""},{"$f":"IF(OR(E174=\"\",ISBLANK(E174)),\"\",VLOOKUP(E174,Sheet2!A:G,4,FALSE))","v":""},"",{"$f":"IF(OR(E174=\"\",ISBLANK(E174)),\"\",VLOOKUP(E174,Sheet2!A:H,3,FALSE))","v":""},null,{"$f":"IF(OR(E174=\"\",ISBLANK(E174)),\"\",VLOOKUP(E174,Sheet2!A:G,6,FALSE))","v":""},""]
[{"$f":"IF(OR(E175=\"\",ISBLANK(E175)),\"\",VLOOKUP(E175,Sheet2!A:F,2,FALSE))","v":""},{"$f":"IF(OR(E175=\"\",ISBLANK(E175)),\"\",VLOOKUP(E175,Sheet2!A:G,4,FALSE))","v":""},"",{"$f":"IF(OR(E175=\"\",ISBLANK(E175)),\"\",VLOOKUP(E175,Sheet2!A:H,3,FALSE))","v":""},null,{"$f":"IF(OR(E175=\"\",ISBLANK(E175)),\"\",VLOOKUP(E175,Sheet2!A:G,6,FALSE))","v":""},""]
[{"$f":"IF(OR(E176=\"\",ISBLANK(E176)),\"\",VLOOKUP(E176,Sheet2!A:F,2,FALSE))","v":""},{"$f":"IF(OR(E176=\"\",ISBLANK(E176)),\"\",VLOOKUP(E176,Sheet2!A:G,4,FALSE))","v":""},"",{"$f":"IF(OR(E176=\"\",ISBLANK(E176)),\"\",VLOOKUP(E176,Sheet2!A:H,3,FALSE))","v":""},null,{"$f":"IF(OR(E176=\"\",ISBLANK(E176)),\"\",VLOOKUP(E176,Sheet2!A:G,6,FALSE))","v":""},""]
[{"$f":"IF(OR(E177=\"\",ISBLANK(E177)),\"\",VLOOKUP(E177,Sheet2!A:F,2,FALSE))","v":""},{"$f":"IF(OR(E177=\"\",ISBLANK(E177)),\"\",VLOOKUP(E177,Sheet2!A:G,4,FALSE))","v":""},"",{"$f":"IF(OR(E177=\"\",ISBLANK(E177)),\"\",VLOOKUP(E177,Sheet2!A:H,3,FALSE))","v":""},null,{"$f":"IF(OR(E177=\"\",ISBLANK(E177)),\"\",VLOOKUP(E177,Sheet2!A:G,6,FALSE))","v":""},""]
[{"$f":"IF(OR(E178=\"\",ISBLANK(E178)),\"\",VLOOKUP(E178,Sheet2!A:F,2,FALSE))","v":""},{"$f":"IF(OR(E178=\"\",ISBLANK(E178)),\"\",VLOOKUP(E178,Sheet2!A:G,4,FALSE))","v":""},"",{"$f":"IF(OR(E178=\"\",ISBLANK(E178)),\"\",VLOOKUP(E178,Sheet2!A:H,3,FALSE))","v":""},null,{"$f":"IF(OR(E178=\"\",ISBLANK(E178)),\"\",VLOOKUP(E178,Sheet2!A:G,6,FALSE))","v":""},""]
[{"$f":"IF(OR(E179=\"\",ISBLANK(E179)),\"\",VLOOKUP(E179,Sheet2!A:F,2,FALSE))","v":""},{"$f":"IF(OR(E179=\"\",ISBLANK(E179)),\"\",VLOOKUP(E179,Sheet2!A:G,4,FALSE))","v":""},"",{"$f":"IF(OR(E179=\"\",ISBLANK(E179)),\"\",VLOOKUP(E179,Sheet2!A:H,3,FALSE))","v":""},null,{"$f":"IF(OR(E179=\"\",ISBLANK(E179)),\"\",VLOOKUP(E179,Sheet2!A:G,6,FALSE))","v":""},""]
[{"$f":"IF(OR(E180=\"\",ISBLANK(E180)),\"\",VLOOKUP(E180,Sheet2!A:F,2,FALSE))","v":""},{"$f":"IF(OR(E180=\"\",ISBLANK(E180)),\"\",VLOOKUP(E180,Sheet2!A:G,4,FALSE))","v":""},"",{"$f":"IF(OR(E180=\"\",ISBLANK(E180)),\"\",VLOOKUP(E180,Sheet2!A:H,3,FALSE))","v":""},null,{"$f":"IF(OR(E180=\"\",ISBLANK(E180)),\"\",VLOOKUP(E180,Sheet2!A:G,6,FALSE))","v":""},""]
[{"$f":"IF(OR(E181=\"\",ISBLANK(E181)),\"\",VLOOKUP(E181,Sheet2!A:F,2,FALSE))","v":""},{"$f":"IF(OR(E181=\"\",ISBLANK(E181)),\"\",VLOOKUP(E181,Sheet2!A:G,4,FALSE))","v":""},"",{"$f":"IF(OR(E181=\"\",ISBLANK(E181)),\"\",VLOOKUP(E181,Sheet2!A:H,3,FALSE))","v":""},null,{"$f":"IF(OR(E181=\"\",ISBLANK(E181)),\"\",VLOOKUP(E181,Sheet2!A:G,6,FALSE))","v":""},""]
[{"$f":"IF(OR(E182=\"\",ISBLANK(E182)),\"\",VLOOKUP(E182,Sheet2!A:F,2,FALSE))","v":""},{"$f":"IF(OR(E182=\"\",ISBLANK(E182)),\"\",VLOOKUP(E182,Sheet2!A:G,4,FALSE))","v":""},"",{"$f":"IF(OR(E182=\"\",ISBLANK(E182)),\"\",VLOOKUP(E182,Sheet2!A:H,3,FALSE))","v":""},null,{"$f":"IF(OR(E182=\"\",ISBLANK(E182)),\"\",VLOOKUP(E182,Sheet2!A:G,6,FALSE))","v":""},""]
[{"$f":"IF(OR(E183=\"\",ISBLANK(E183)),\"\",VLOOKUP(E183,Sheet2!A:F,2,FALSE))","v":""},{"$f":"IF(OR(E183=\"\",ISBLANK(E183)),\"\",VLOOKUP(E183,Sheet2!A:G,4,FALSE))","v":""},"",{"$f":"IF(OR(E183=\"\",ISBLANK(E183)),\"\",VLOOKUP(E183,Sheet2!A:H,3,FALSE))","v":""},null,{"$f":"IF(OR(E183=\"\",ISBLANK(E183)),\"\",VLOOKUP(E183,Sheet2!A:G,6,FALSE))","v":""},""]
[{"$f":"IF(OR(E184=\"\",ISBLANK(E184)),\"\",VLOOKUP(E184,Sheet2!A:F,2,FALSE))","v":""},{"$f":"IF(OR(E184=\"\",ISBLANK(E184)),\"\",VLOOKUP(E184,Sheet2!A:G,4,FALSE))","v":""},"",{"$f":"IF(OR(E184=\"\",ISBLANK(E184)),\"\",VLOOKUP(E184,Sheet2!A:H,3,FALSE))","v":""},null,{"$f":"IF(OR(E184=\"\",ISBLANK(E184)),\"\",VLOOKUP(E184,Sheet2!A:G,6,FALSE))","v":""},""]
[{"$f":"IF(OR(E185=\"\",ISBLANK(E185)),\"\",VLOOKUP(E185,Sheet2!A:F,2,FALSE))","v":""},{"$f":"IF(OR(E185=\"\",ISBLANK(E185)),\"\",VLOOKUP(E185,Sheet2!A:G,4,FALSE))","v":""},"",{"$f":"IF(OR(E185=\"\",ISBLANK(E185)),\"\",VLOOKUP(E185,Sheet2!A:H,3,FALSE))","v":""},null,{"$f":"IF(OR(E185=\"\",ISBLANK(E185)),\"\",VLOOKUP(E185,Sheet2!A:G,6,FALSE))","v":""},""]
[{"$f":"IF(OR(E186=\"\",ISBLANK(E186)),\"\",VLOOKUP(E186,Sheet2!A:F,2,FALSE))","v":""},{"$f":"IF(OR(E186=\"\",ISBLANK(E186)),\"\",VLOOKUP(E186,Sheet2!A:G,4,FALSE))","v":""},"",{"$f":"IF(OR(E186=\"\",ISBLANK(E186)),\"\",VLOOKUP(E186,Sheet2!A:H,3,FALSE))","v":""},null,{"$f":"IF(OR(E186=\"\",ISBLANK(E186)),\"\",VLOOKUP(E186,Sheet2!A:G,6,FALSE))","v":""},""]
[{"$f":"IF(OR(E187=\"\",ISBLANK(E187)),\"\",VLOOKUP(E187,Sheet2!A:F,2,FALSE))","v":""},{"$f":"IF(OR(E187=\"\",ISBLANK(E187)),\"\",VLOOKUP(E187,Sheet2!A:G,4,FALSE))","v":""},"",{"$f":"IF(OR(E187=\"\",ISBLANK(E187)),\"\",VLOOKUP(E187,Sheet2!A:H,3,FALSE))","v":""},null,{"$f":"IF(OR(E187=\"\",ISBLANK(E187)),\"\",VLOOKUP(E187,Sheet2!A:G,6,FALSE))","v":""},""]
[{"$f":"IF(OR(E188=\"\",ISBLANK(E188)),\"\",VLOOKUP(E188,Sheet2!A:F,2,FALSE))","v":""},{"$f":"IF(OR(E188=\"\",ISBLANK(E188)),\"\",VLOOKUP(E188,Sheet2!A:G,4,FALSE))","v":""},"",{"$f":"IF(OR(E188=\"\",ISBLANK(E188)),\"\",VLOOKUP(E188,Sheet2!A:H,3,FALSE))","v":""},null,{"$f":"IF(OR(E188=\"\",ISBLANK(E188)),\"\",VLOOKUP(E188,Sheet2!A:G,6,FALSE))","v":""},""]
[{"$f":"IF(OR(E189=\"\",ISBLANK(E189)),\"\",VLOOKUP(E189,Sheet2!A:F,2,FALSE))","v":""},{"$f":"IF(OR(E189=\"\",ISBLANK(E189)),\"\",VLOOKUP(E189,Sheet2!A:G,4,FALSE))","v":""},"",{"$f":"IF(OR(E189=\"\",ISBLANK(E189)),\"\",VLOOKUP(E189,Sheet2!A:H,3,FALSE))","v":""},null,{"$f":"IF(OR(E189=\"\",ISBLANK(E189)),\"\",VLOOKUP(E189,Sheet2!A:G,6,FALSE))","v":""},""]
[{"$f":"IF(OR(E190=\"\",ISBLANK(E190)),\"\",VLOOKUP(E190,Sheet2!A:F,2,FALSE))","v":""},{"$f":"IF(OR(E190=\"\",ISBLANK(E190)),\"\",VLOOKUP(E190,Sheet2!A:G,4,FALSE))","v":""},"",{"$f":"IF(OR(E190=\"\",ISBLANK(E190)),\"\",VLOOKUP(E190,Sheet2!A:H,3,FALSE))","v":""},null,{"$f":"IF(OR(E190=\"\",ISBLANK(E190)),\"\",VLOOKUP(E190,Sheet2!A:G,6,FALSE))","v":""},""]
[{"$f":"IF(OR(E191=\"\",ISBLANK(E191)),\"\",VLOOKUP(E191,Sheet2!A:F,2,FALSE))","v":""},{"$f":"IF(OR(E191=\"\",ISBLANK(E191)),\"\",VLOOKUP(E191,Sheet2!A:G,4,FALSE))","v":""},"",{"$f":"IF(OR(E191=\"\",ISBLANK(E191)),\"\",VLOOKUP(E191,Sheet2!A:H,3,FALSE))","v":""},null,{"$f":"IF(OR(E191=\"\",ISBLANK(E191)),\"\",VLOOKUP(E191,Sheet2!A:G,6,FALSE))","v":""},""]
[{"$f":"IF(OR(E192=\"\",ISBLANK(E192)),\"\",VLOOKUP(E192,Sheet2!A:F,2,FALSE))","v":""},{"$f":"IF(OR(E192=\"\",ISBLANK(E192)),\"\",VLOOKUP(E192,Sheet2!A:G,4,FALSE))","v":""},"",{"$f":"IF(OR(E192=\"\",ISBLANK(E192)),\"\",VLOOKUP(E192,Sheet2!A:H,3,FALSE))","v":""},null,{"$f":"IF(OR(E192=\"\",ISBLANK(E192)),\"\",VLOOKUP(E192,Sheet2!A:G,6,FALSE))","v":""},""]
[{"$f":"IF(OR(E193=\"\",ISBLANK(E193)),\"\",VLOOKUP(E193,Sheet2!A:F,2,FALSE))","v":""},{"$f":"IF(OR(E193=\"\",ISBLANK(E193)),\"\",VLOOKUP(E193,Sheet2!A:G,4,FALSE))","v":""},"",{"$f":"IF(OR(E193=\"\",ISBLANK(E193)),\"\",VLOOKUP(E193,Sheet2!A:H,3,FALSE))","v":""},null,{"$f":"IF(OR(E193=\"\",ISBLANK(E193)),\"\",VLOOKUP(E193,Sheet2!A:G,6,FALSE))","v":""},""]
[{"$f":"IF(OR(E194=\"\",ISBLANK(E194)),\"\",VLOOKUP(E194,Sheet2!A:F,2,FALSE))","v":""},{"$f":"IF(OR(E194=\"\",ISBLANK(E194)),\"\",VLOOKUP(E194,Sheet2!A:G,4,FALSE))","v":""},"",{"$f":"IF(OR(E194=\"\",ISBLANK(E194)),\"\",VLOOKUP(E194,Sheet2!A:H,3,FALSE))","v":""},null,{"$f":"IF(OR(E194=\"\",ISBLANK(E194)),\"\",VLOOKUP(E194,Sheet2!A:G,6,FALSE))","v":""},""]
[{"$f":"IF(OR(E195=\"\",ISBLANK(E195)),\"\",VLOOKUP(E195,Sheet2!A:F,2,FALSE))","v":""},{"$f":"IF(OR(E195=\"\",ISBLANK(E195)),\"\",VLOOKUP(E195,Sheet2!A:G,4,FALSE))","v":""},{"$f":"IF(D195=0,\"\",D195)","v":""},{"$f":"IF(OR(E195=\"\",ISBLANK(E195)),\"\",VLOOKUP(E195,Sheet2!A:H,3,FALSE))","v":""},null,{"$f":"IF(OR(E195=\"\",ISBLANK(E195)),\"\",VLOOKUP(E195,Sheet2!A:G,6,FALSE))","v":""},{"$f":"IF(F195=0,\"\",F195)","v":""}]
[{"$f":"IF(OR(E196=\"\",ISBLANK(E196)),\"\",VLOOKUP(E196,Sheet2!A:F,2,FALSE))","v":""},{"$f":"IF(OR(E196=\"\",ISBLANK(E196)),\"\",VLOOKUP(E196,Sheet2!A:G,4,FALSE))","v":""},"",{"$f":"IF(OR(E196=\"\",ISBLANK(E196)),\"\",VLOOKUP(E196,Sheet2!A:H,3,FALSE))","v":""},null,{"$f":"IF(OR(E196=\"\",ISBLANK(E196)),\"\",VLOOKUP(E196,Sheet2!A:G,6,FALSE))","v":""},""]
[{"$f":"IF(OR(E197=\"\",ISBLANK(E197)),\"\",VLOOKUP(E197,Sheet2!A:F,2,FALSE))","v":""},{"$f":"IF(OR(E197=\"\",ISBLANK(E197)),\"\",VLOOKUP(E197,Sheet2!A:G,4,FALSE))","v":""},"",{"$f":"IF(OR(E197=\"\",ISBLANK(E197)),\"\",VLOOKUP(E197,Sheet2!A:H,3,FALSE))","v":""},null,{"$f":"IF(OR(E197=\"\",ISBLANK(E197)),\"\",VLOOKUP(E197,Sheet2!A:G,6,FALSE))","v":""},""]
[{"$f":"IF(OR(E198=\"\",ISBLANK(E198)),\"\",VLOOKUP(E198,Sheet2!A:F,2,FALSE))","v":""},{"$f":"IF(OR(E198=\"\",ISBLANK(E198)),\"\",VLOOKUP(E198,Sheet2!A:G,4,FALSE))","v":""},"",{"$f":"IF(OR(E198=\"\",ISBLANK(E198)),\"\",VLOOKUP(E198,Sheet2!A:H,3,FALSE))","v":""},null,{"$f":"IF(OR(E198=\"\",ISBLANK(E198)),\"\",VLOOKUP(E198,Sheet2!A:G,6,FALSE))","v":""},""]
[{"$f":"IF(OR(E199=\"\",ISBLANK(E199)),\"\",VLOOKUP(E199,Sheet2!A:F,2,FALSE))","v":""},{"$f":"IF(OR(E199=\"\",ISBLANK(E199)),\"\",VLOOKUP(E199,Sheet2!A:G,4,FALSE))","v":""},"",{"$f":"IF(OR(E199=\"\",ISBLANK(E199)),\"\",VLOOKUP(E199,Sheet2!A:H,3,FALSE))","v":""},null,{"$f":"IF(OR(E199=\"\",ISBLANK(E199)),\"\",VLOOKUP(E199,Sheet2!A:G,6,FALSE))","v":""},""]
[{"$f":"IF(OR(E200=\"\",ISBLANK(E200)),\"\",VLOOKUP(E200,Sheet2!A:F,2,FALSE))","v":""},{"$f":"IF(OR(E200=\"\",ISBLANK(E200)),\"\",VLOOKUP(E200,Sheet2!A:G,4,FALSE))","v":""},"",{"$f":"IF(OR(E200=\"\",ISBLANK(E200)),\"\",VLOOKUP(E200,Sheet2!A:H,3,FALSE))","v":""},null,{"$f":"IF(OR(E200=\"\",ISBLANK(E200)),\"\",VLOOKUP(E200,Sheet2!A:G,6,FALSE))","v":""},""]
[{"$f":"IF(OR(E201=\"\",ISBLANK(E201)),\"\",VLOOKUP(E201,Sheet2!A:F,2,FALSE))","v":""},{"$f":"IF(OR(E201=\"\",ISBLANK(E201)),\"\",VLOOKUP(E201,Sheet2!A:G,4,FALSE))","v":""},"",{"$f":"IF(OR(E201=\"\",ISBLANK(E201)),\"\",VLOOKUP(E201,Sheet2!A:H,3,FALSE))","v":""},null,{"$f":"IF(OR(E201=\"\",ISBLANK(E201)),\"\",VLOOKUP(E201,Sheet2!A:G,6,FALSE))","v":""},""]
[{"$f":"IF(OR(E202=\"\",ISBLANK(E202)),\"\",VLOOKUP(E202,Sheet2!A:F,2,FALSE))","v":""},{"$f":"IF(OR(E202=\"\",ISBLANK(E202)),\"\",VLOOKUP(E202,Sheet2!A:G,4,FALSE))","v":""},"",{"$f":"IF(OR(E202=\"\",ISBLANK(E202)),\"\",VLOOKUP(E202,Sheet2!A:H,3,FALSE))","v":""},null,{"$f":"IF(OR(E202=\"\",ISBLANK(E202)),\"\",VLOOKUP(E202,Sheet2!A:G,6,FALSE))","v":""},""]
[{"$f":"IF(OR(E203=\"\",ISBLANK(E203)),\"\",VLOOKUP(E203,Sheet2!A:F,2,FALSE))","v":""},{"$f":"IF(OR(E203=\"\",ISBLANK(E203)),\"\",VLOOKUP(E203,Sheet2!A:G,4,FALSE))","v":""},"",{"$f":"IF(OR(E203=\"\",ISBLANK(E203)),\"\",VLOOKUP(E203,Sheet2!A:H,3,FALSE))","v":""},null,{"$f":"IF(OR(E203=\"\",ISBLANK(E203)),\"\",VLOOKUP(E203,Sheet2!A:G,6,FALSE))","v":""},""]
[{"$f":"IF(OR(E204=\"\",ISBLANK(E204)),\"\",VLOOKUP(E204,Sheet2!A:F,2,FALSE))","v":""},{"$f":"IF(OR(E204=\"\",ISBLANK(E204)),\"\",VLOOKUP(E204,Sheet2!A:G,4,FALSE))","v":""},"",{"$f":"IF(OR(E204=\"\",ISBLANK(E204)),\"\",VLOOKUP(E204,Sheet2!A:H,3,FALSE))","v":""},null,{"$f":"IF(OR(E204=\"\",ISBLANK(E204)),\"\",VLOOKUP(E204,Sheet2!A:G,6,FALSE))","v":""},""]
[{"$f":"IF(OR(E205=\"\",ISBLANK(E205)),\"\",VLOOKUP(E205,Sheet2!A:F,2,FALSE))","v":""},{"$f":"IF(OR(E205=\"\",ISBLANK(E205)),\"\",VLOOKUP(E205,Sheet2!A:G,4,FALSE))","v":""},"",{"$f":"IF(OR(E205=\"\",ISBLANK(E205)),\"\",VLOOKUP(E205,Sheet2!A:H,3,FALSE))","v":""},null,{"$f":"IF(OR(E205=\"\",ISBLANK(E205)),\"\",VLOOKUP(E205,Sheet2!A:G,6,FALSE))","v":""},""]
[{"$f":"IF(OR(E206=\"\",ISBLANK(E206)),\"\",VLOOKUP(E206,Sheet2!A:F,2,FALSE))","v":""},{"$f":"IF(OR(E206=\"\",ISBLANK(E206)),\"\",VLOOKUP(E206,Sheet2!A:G,4,FALSE))","v":""},"",{"$f":"IF(OR(E206=\"\",ISBLANK(E206)),\"\",VLOOKUP(E206,Sheet2!A:H,3,FALSE))","v":""},null,{"$f":"IF(OR(E206=\"\",ISBLANK(E206)),\"\",VLOOKUP(E206,Sheet2!A:G,6,FALSE))","v":""},""]
[{"$f":"IF(OR(E207=\"\",ISBLANK(E207)),\"\",VLOOKUP(E207,Sheet2!A:F,2,FALSE))","v":""},{"$f":"IF(OR(E207=\"\",ISBLANK(E207)),\"\",VLOOKUP(E207,Sheet2!A:G,4,FALSE))","v":""},"",{"$f":"IF(OR(E207=\"\",ISBLANK(E207)),\"\",VLOOKUP(E207,Sheet2!A:H,3,FALSE))","v":""},null,{"$f":"IF(OR(E207=\"\",ISBLANK(E207)),\"\",VLOOKUP(E207,Sheet2!A:G,6,FALSE))","v":""},""]
[{"$f":"IF(OR(E208=\"\",ISBLANK(E208)),\"\",VLOOKUP(E208,Sheet2!A:F,2,FALSE))","v":""},{"$f":"IF(OR(E208=\"\",ISBLANK(E208)),\"\",VLOOKUP(E208,Sheet2!A:G,4,FALSE))","v":""},"",{"$f":"IF(OR(E208=\"\",ISBLANK(E208)),\"\",VLOOKUP(E208,Sheet2!A:H,3,FALSE))","v":""},null,{"$f":"IF(OR(E208=\"\",ISBLANK(E208)),\"\",VLOOKUP(E208,Sheet2!A:G,6,FALSE))","v":""},""]
[{"$f":"IF(OR(E209=\"\",ISBLANK(E209)),\"\",VLOOKUP(E209,Sheet2!A:F,2,FALSE))","v":""},{"$f":"IF(OR(E209=\"\",ISBLANK(E209)),\"\",VLOOKUP(E209,Sheet2!A:G,4,FALSE))","v":""},"",{"$f":"IF(OR(E209=\"\",ISBLANK(E209)),\"\",VLOOKUP(E209,Sheet2!A:H,3,FALSE))","v":""},null,{"$f":"IF(OR(E209=\"\",ISBLANK(E209)),\"\",VLOOKUP(E209,Sheet2!A:G,6,FALSE))","v":""},""]
[{"$f":"IF(OR(E210=\"\",ISBLANK(E210)),\"\",VLOOKUP(E210,Sheet2!A:F,2,FALSE))","v":""},{"$f":"IF(OR(E210=\"\",ISBLANK(E210)),\"\",VLOOKUP(E210,Sheet2!A:G,4,FALSE))","v":""},"",{"$f":"IF(OR(E210=\"\",ISBLANK(E210)),\"\",VLOOKUP(E210,Sheet2!A:H,3,FALSE))","v":""},null,{"$f":"IF(OR(E210=\"\",ISBLANK(E210)),\"\",VLOOKUP(E210,Sheet2!A:G,6,FALSE))","v":""},""]
[{"$f":"IF(OR(E211=\"\",ISBLANK(E211)),\"\",VLOOKUP(E211,Sheet2!A:F,2,FALSE))","v":""},{"$f":"IF(OR(E211=\"\",ISBLANK(E211)),\"\",VLOOKUP(E211,Sheet2!A:G,4,FALSE))","v":""},"",{"$f":"IF(OR(E211=\"\",ISBLANK(E211)),\"\",VLOOKUP(E211,Sheet2!A:H,3,FALSE))","v":""},null,{"$f":"IF(OR(E211=\"\",ISBLANK(E211)),\"\",VLOOKUP(E211,Sheet2!A:G,6,FALSE))","v":""},""]
[{"$f":"IF(OR(E212=\"\",ISBLANK(E212)),\"\",VLOOKUP(E212,Sheet2!A:F,2,FALSE))","v":""},{"$f":"IF(OR(E212=\"\",ISBLANK(E212)),\"\",VLOOKUP(E212,Sheet2!A:G,4,FALSE))","v":""},"",{"$f":"IF(OR(E212=\"\",ISBLANK(E212)),\"\",VLOOKUP(E212,Sheet2!A:H,3,FALSE))","v":""},null,{"$f":"IF(OR(E212=\"\",ISBLANK(E212)),\"\",VLOOKUP(E212,Sheet2!A:G,6,FALSE))","v":""},""]
[{"$f":"IF(OR(E213=\"\",ISBLANK(E213)),\"\",VLOOKUP(E213,Sheet2!A:F,2,FALSE))","v":""},{"$f":"IF(OR(E213=\"\",ISBLANK(E213)),\"\",VLOOKUP(E213,Sheet2!A:G,4,FALSE))","v":""},"",{"$f":"IF(OR(E213=\"\",ISBLANK(E213)),\"\",VLOOKUP(E213,Sheet2!A:H,3,FALSE))","v":""},null,{"$f":"IF(OR(E213=\"\",ISBLANK(E213)),\"\",VLOOKUP(E213,Sheet2!A:G,6,FALSE))","v":""},""]
[{"$f":"IF(OR(E214=\"\",ISBLANK(E214)),\"\",VLOOKUP(E214,Sheet2!A:F,2,FALSE))","v":""},{"$f":"IF(OR(E214=\"\",ISBLANK(E214)),\"\",VLOOKUP(E214,Sheet2!A:G,4,FALSE))","v":""},"",{"$f":"IF(OR(E214=\"\",ISBLANK(E214)),\"\",VLOOKUP(E214,Sheet2!A:H,3,FALSE))","v":""},null,{"$f":"IF(OR(E214=\"\",ISBLANK(E214)),\"\",VLOOKUP(E214,Sheet2!A:G,6,FALSE))","v":""},""]
[{"$f":"IF(OR(E215=\"\",ISBLANK(E215)),\"\",VLOOKUP(E215,Sheet2!A:F,2,FALSE))","v":""},{"$f":"IF(OR(E215=\"\",ISBLANK(E215)),\"\",VLOOKUP(E215,Sheet2!A:G,4,FALSE))","v":""},"",{"$f":"IF(OR(E215=\"\",ISBLANK(E215)),\"\",VLOOKUP(E215,Sheet2!A:H,3,FALSE))","v":""},null,{"$f":"IF(OR(E215=\"\",ISBLANK(E215)),\"\",VLOOKUP(E215,Sheet2!A:G,6,FALSE))","v":""},""]
[{"$f":"IF(OR(E216=\"\",ISBLANK(E216)),\"\",VLOOKUP(E216,Sheet2!A:F,2,FALSE))","v":""},{"$f":"IF(OR(E216=\"\",ISBLANK(E216)),\"\",VLOOKUP(E216,Sheet2!A:G,4,FALSE))","v":""},"",{"$f":"IF(OR(E216=\"\",ISBLANK(E216)),\"\",VLOOKUP(E216,Sheet2!A:H,3,FALSE))","v":""},null,{"$f":"IF(OR(E216=\"\",ISBLANK(E216)),\"\",VLOOKUP(E216,Sheet2!A:G,6,FALSE))","v":""},""]
[{"$f":"IF(OR(E217=\"\",ISBLANK(E217)),\"\",VLOOKUP(E217,Sheet2!A:F,2,FALSE))","v":""},{"$f":"IF(OR(E217=\"\",ISBLANK(E217)),\"\",VLOOKUP(E217,Sheet2!A:G,4,FALSE))","v":""},"",{"$f":"IF(OR(E217=\"\",ISBLANK(E217)),\"\",VLOOKUP(E217,Sheet2!A:H,3,FALSE))","v":""},null,{"$f":"IF(OR(E217=\"\",ISBLANK(E217)),\"\",VLOOKUP(E217,Sheet2!A:G,6,FALSE))","v":""},""]
[{"$f":"IF(OR(E218=\"\",ISBLANK(E218)),\"\",VLOOKUP(E218,Sheet2!A:F,2,FALSE))","v":""},{"$f":"IF(OR(E218=\"\",ISBLANK(E218)),\"\",VLOOKUP(E218,Sheet2!A:G,4,FALSE))","v":""},"",{"$f":"IF(OR(E218=\"\",ISBLANK(E218)),\"\",VLOOKUP(E218,Sheet2!A:H,3,FALSE))","v":""},null,{"$f":"IF(OR(E218=\"\",ISBLANK(E218)),\"\",VLOOKUP(E218,Sheet2!A:G,6,FALSE))","v":""},""]
[{"$f":"IF(OR(E219=\"\",ISBLANK(E219)),\"\",VLOOKUP(E219,Sheet2!A:F,2,FALSE))","v":""},{"$f":"IF(OR(E219=\"\",ISBLANK(E219)),\"\",VLOOKUP(E219,Sheet2!A:G,4,FALSE))","v":""},"",{"$f":"IF(OR(E219=\"\",ISBLANK(E219)),\"\",VLOOKUP(E219,Sheet2!A:H,3,FALSE))","v":""},null,{"$f":"IF(OR(E219=\"\",ISBLANK(E219)),\"\",VLOOKUP(E219,Sheet2!A:G,6,FALSE))","v":""},""]
[{"$f":"IF(OR(E220=\"\",ISBLANK(E220)),\"\",VLOOKUP(E220,Sheet2!A:F,2,FALSE))","v":""},{"$f":"IF(OR(E220=\"\",ISBLANK(E220)),\"\",VLOOKUP(E220,Sheet2!A:G,4,FALSE))","v":""},"",{"$f":"IF(OR(E220=\"\",ISBLANK(E220)),\"\",VLOOKUP(E220,Sheet2!A:H,3,FALSE))","v":""},null,{"$f":"IF(OR(E220=\"\",ISBLANK(E220)),\"\",VLOOKUP(E220,Sheet2!A:G,6,FALSE))","v":""},""]
[{"$f":"IF(OR(E221=\"\",ISBLANK(E221)),\"\",VLOOKUP(E221,Sheet2!A:F,2,FALSE))","v":""},{"$f":"IF(OR(E221=\"\",ISBLANK(E221)),\"\",VLOOKUP(E221,Sheet2!A:G,4,FALSE))","v":""},"",{"$f":"IF(OR(E221=\"\",ISBLANK(E221)),\"\",VLOOKUP(E221,Sheet2!A:H,3,FALSE))","v":""},null,{"$f":"IF(OR(E221=\"\",ISBLANK(E221)),\"\",VLOOKUP(E221,Sheet2!A:G,6,FALSE))","v":""},""]
[{"$f":"IF(OR(E222=\"\",ISBLANK(E222)),\"\",VLOOKUP(E222,Sheet2!A:F,2,FALSE))","v":""},{"$f":"IF(OR(E222=\"\",ISBLANK(E222)),\"\",VLOOKUP(E222,Sheet2!A:G,4,FALSE))","v":""},"",{"$f":"IF(OR(E222=\"\",ISBLANK(E222)),\"\",VLOOKUP(E222,Sheet2!A:H,3,FALSE))","v":""},null,{"$f":"IF(OR(E222=\"\",ISBLANK(E222)),\"\",VLOOKUP(E222,Sheet2!A:G,6,FALSE))","v":""},""]
[{"$f":"IF(OR(E223=\"\",ISBLANK(E223)),\"\",VLOOKUP(E223,Sheet2!A:F,2,FALSE))","v":""},{"$f":"IF(OR(E223=\"\",ISBLANK(E223)),\"\",VLOOKUP(E223,Sheet2!A:G,4,FALSE))","v":""},"",{"$f":"IF(OR(E223=\"\",ISBLANK(E223)),\"\",VLOOKUP(E223,Sheet2!A:H,3,FALSE))","v":""},null,{"$f":"IF(OR(E223=\"\",ISBLANK(E223)),\"\",VLOOKUP(E223,Sheet2!A:G,6,FALSE))","v":""},""]
[{"$f":"IF(OR(E224=\"\",ISBLANK(E224)),\"\",VLOOKUP(E224,Sheet2!A:F,2,FALSE))","v":""},{"$f":"IF(OR(E224=\"\",ISBLANK(E224)),\"\",VLOOKUP(E224,Sheet2!A:G,4,FALSE))","v":""},"",{"$f":"IF(OR(E224=\"\",ISBLANK(E224)),\"\",VLOOKUP(E224,Sheet2!A:H,3,FALSE))","v":""},null,{"$f":"IF(OR(E224=\"\",ISBLANK(E224)),\"\",VLOOKUP(E224,Sheet2!A:G,6,FALSE))","v":""},""]
[{"$f":"IF(OR(E225=\"\",ISBLANK(E225)),\"\",VLOOKUP(E225,Sheet2!A:F,2,FALSE))","v":""},{"$f":"IF(OR(E225=\"\",ISBLANK(E225)),\"\",VLOOKUP(E225,Sheet2!A:G,4,FALSE))","v":""},"",{"$f":"IF(OR(E225=\"\",ISBLANK(E225)),\"\",VLOOKUP(E225,Sheet2!A:H,3,FALSE))","v":""},null,{"$f":"IF(OR(E225=\"\",ISBLANK(E225)),\"\",VLOOKUP(E225,Sheet2!A:G,6,FALSE))","v":""},""]
[{"$f":"IF(OR(E226=\"\",ISBLANK(E226)),\"\",VLOOKUP(E226,Sheet2!A:F,2,FALSE))","v":""},{"$f":"IF(OR(E226=\"\",ISBLANK(E226)),\"\",VLOOKUP(E226,Sheet2!A:G,4,FALSE))","v":""},"",{"$f":"IF(OR(E226=\"\",ISBLANK(E226)),\"\",VLOOKUP(E226,Sheet2!A:H,3,FALSE))","v":""},null,{"$f":"IF(OR(E226=\"\",ISBLANK(E226)),\"\",VLOOKUP(E226,Sheet2!A:G,6,FALSE))","v":""},""]
[{"$f":"IF(OR(E227=\"\",ISBLANK(E227)),\"\",VLOOKUP(E227,Sheet2!A:F,2,FALSE))","v":""},{"$f":"IF(OR(E227=\"\",ISBLANK(E227)),\"\",VLOOKUP(E227,Sheet2!A:G,4,FALSE))","v":""},"",{"$f":"IF(OR(E227=\"\",ISBLANK(E227)),\"\",VLOOKUP(E227,Sheet2!A:H,3,FALSE))","v":""},null,{"$f":"IF(OR(E227=\"\",ISBLANK(E227)),\"\",VLOOKUP(E227,Sheet2!A:G,6,FALSE))","v":""},""]
[{"$f":"IF(OR(E228=\"\",ISBLANK(E228)),\"\",VLOOKUP(E228,Sheet2!A:F,2,FALSE))","v":""},{"$f":"IF(OR(E228=\"\",ISBLANK(E228)),\"\",VLOOKUP(E228,Sheet2!A:G,4,FALSE))","v":""},"",{"$f":"IF(OR(E228=\"\",ISBLANK(E228)),\"\",VLOOKUP(E228,Sheet2!A:H,3,FALSE))","v":""},null,{"$f":"IF(OR(E228=\"\",ISBLANK(E228)),\"\",VLOOKUP(E228,Sheet2!A:G,6,FALSE))","v":""},""]
[{"$f":"IF(OR(E229=\"\",ISBLANK(E229)),\"\",VLOOKUP(E229,Sheet2!A:F,2,FALSE))","v":""},{"$f":"IF(OR(E229=\"\",ISBLANK(E229)),\"\",VLOOKUP(E229,Sheet2!A:G,4,FALSE))","v":""},"",{"$f":"IF(OR(E229=\"\",ISBLANK(E229)),\"\",VLOOKUP(E229,Sheet2!A:H,3,FALSE))","v":""},null,{"$f":"IF(OR(E229=\"\",ISBLANK(E229)),\"\",VLOOKUP(E229,Sheet2!A:G,6,FALSE))","v":""},""]
[{"$f":"IF(OR(E230=\"\",ISBLANK(E230)),\"\",VLOOKUP(E230,Sheet2!A:F,2,FALSE))","v":""},{"$f":"IF(OR(E230=\"\",ISBLANK(E230)),\"\",VLOOKUP(E230,Sheet2!A:G,4,FALSE))","v":""},"",{"$f":"IF(OR(E230=\"\",ISBLANK(E230)),\"\",VLOOKUP(E230,Sheet2!A:H,3,FALSE))","v":""},null,{"$f":"IF(OR(E230=\"\",ISBLANK(E230)),\"\",VLOOKUP(E230,Sheet2!A:G,6,FALSE))","v":""},""]
[{"$f":"IF(OR(E231=\"\",ISBLANK(E231)),\"\",VLOOKUP(E231,Sheet2!A:F,2,FALSE))","v":""},{"$f":"IF(OR(E231=\"\",ISBLANK(E231)),\"\",VLOOKUP(E231,Sheet2!A:G,4,FALSE))","v":""},"",{"$f":"IF(OR(E231=\"\",ISBLANK(E231)),\"\",VLOOKUP(E231,Sheet2!A:H,3,FALSE))","v":""},null,{"$f":"IF(OR(E231=\"\",ISBLANK(E231)),\"\",VLOOKUP(E231,Sheet2!A:G,6,FALSE))","v":""},""]
[{"$f":"IF(OR(E232=\"\",ISBLANK(E232)),\"\",VLOOKUP(E232,Sheet2!A:F,2,FALSE))","v":""},{"$f":"IF(OR(E232=\"\",ISBLANK(E232)),\"\",VLOOKUP(E232,Sheet2!A:G,4,FALSE))","v":""},"",{"$f":"IF(OR(E232=\"\",ISBLANK(E232)),\"\",VLOOKUP(E232,Sheet2!A:H,3,FALSE))","v":""},null,{"$f":"IF(OR(E232=\"\",ISBLANK(E232)),\"\",VLOOKUP(E232,Sheet2!A:G,6,FALSE))","v":""},""]
[{"$f":"IF(OR(E233=\"\",ISBLANK(E233)),\"\",VLOOKUP(E233,Sheet2!A:F,2,FALSE))","v":""},{"$f":"IF(OR(E233=\"\",ISBLANK(E233)),\"\",VLOOKUP(E233,Sheet2!A:G,4,FALSE))","v":""},"",{"$f":"IF(OR(E233=\"\",ISBLANK(E233)),\"\",VLOOKUP(E233,Sheet2!A:H,3,FALSE))","v":""},null,{"$f":"IF(OR(E233=\"\",ISBLANK(E233)),\"\",VLOOKUP(E233,Sheet2!A:G,6,FALSE))","v":""},""]
[{"$f":"IF(OR(E234=\"\",ISBLANK(E234)),\"\",VLOOKUP(E234,Sheet2!A:F,2,FALSE))","v":""},{"$f":"IF(OR(E234=\"\",ISBLANK(E234)),\"\",VLOOKUP(E234,Sheet2!A:G,4,FALSE))","v":""},"",{"$f":"IF(OR(E234=\"\",ISBLANK(E234)),\"\",VLOOKUP(E234,Sheet2!A:H,3,FALSE))","v":""},null,{"$f":"IF(OR(E234=\"\",ISBLANK(E234)),\"\",VLOOKUP(E234,Sheet2!A:G,6,FALSE))","v":""},""]
[{"$f":"IF(OR(E235=\"\",ISBLANK(E235)),\"\",VLOOKUP(E235,Sheet2!A:F,2,FALSE))","v":""},{"$f":"IF(OR(E235=\"\",ISBLANK(E235)),\"\",VLOOKUP(E235,Sheet2!A:G,4,FALSE))","v":""},"",{"$f":"IF(OR(E235=\"\",ISBLANK(E235)),\"\",VLOOKUP(E235,Sheet2!A:H,3,FALSE))","v":""},null,{"$f":"IF(OR(E235=\"\",ISBLANK(E235)),\"\",VLOOKUP(E235,Sheet2!A:G,6,FALSE))","v":""},""]
[{"$f":"IF(OR(E236=\"\",ISBLANK(E236)),\"\",VLOOKUP(E236,Sheet2!A:F,2,FALSE))","v":""},{"$f":"IF(OR(E236=\"\",ISBLANK(E236)),\"\",VLOOKUP(E236,Sheet2!A:G,4,FALSE))","v":""},"",{"$f":"IF(OR(E236=\"\",ISBLANK(E236)),\"\",VLOOKUP(E236,Sheet2!A:H,3,FALSE))","v":""},null,{"$f":"IF(OR(E236=\"\",ISBLANK(E236)),\"\",VLOOKUP(E236,Sheet2!A:G,6,FALSE))","v":""},""]
[{"$f":"IF(OR(E237=\"\",ISBLANK(E237)),\"\",VLOOKUP(E237,Sheet2!A:F,2,FALSE))","v":""},{"$f":"IF(OR(E237=\"\",ISBLANK(E237)),\"\",VLOOKUP(E237,Sheet2!A:G,4,FALSE))","v":""},"",{"$f":"IF(OR(E237=\"\",ISBLANK(E237)),\"\",VLOOKUP(E237,Sheet2!A:H,3,FALSE))","v":""},null,{"$f":"IF(OR(E237=\"\",ISBLANK(E237)),\"\",VLOOKUP(E237,Sheet2!A:G,6,FALSE))","v":""},""]
[{"$f":"IF(OR(E238=\"\",ISBLANK(E238)),\"\",VLOOKUP(E238,Sheet2!A:F,2,FALSE))","v":""},{"$f":"IF(OR(E238=\"\",ISBLANK(E238)),\"\",VLOOKUP(E238,Sheet2!A:G,4,FALSE))","v":""},"",{"$f":"IF(OR(E238=\"\",ISBLANK(E238)),\"\",VLOOKUP(E238,Sheet2!A:H,3,FALSE))","v":""},null,{"$f":"IF(OR(E238=\"\",ISBLANK(E238)),\"\",VLOOKUP(E238,Sheet2!A:G,6,FALSE))","v":""},""]
[{"$f":"IF(OR(E239=\"\",ISBLANK(E239)),\"\",VLOOKUP(E239,Sheet2!A:F,2,FALSE))","v":""},{"$f":"IF(OR(E239=\"\",ISBLANK(E239)),\"\",VLOOKUP(E239,Sheet2!A:G,4,FALSE))","v":""},"",{"$f":"IF(OR(E239=\"\",ISBLANK(E239)),\"\",VLOOKUP(E239,Sheet2!A:H,3,FALSE))","v":""},null,{"$f":"IF(OR(E239=\"\",ISBLANK(E239)),\"\",VLOOKUP(E239,Sheet2!A:G,6,FALSE))","v":""},""]
[{"$f":"IF(OR(E240=\"\",ISBLANK(E240)),\"\",VLOOKUP(E240,Sheet2!A:F,2,FALSE))","v":""},{"$f":"IF(OR(E240=\"\",ISBLANK(E240)),\"\",VLOOKUP(E240,Sheet2!A:G,4,FALSE))","v":""},"",{"$f":"IF(OR(E240=\"\",ISBLANK(E240)),\"\",VLOOKUP(E240,Sheet2!A:H,3,FALSE))","v":""},null,{"$f":"IF(OR(E240=\"\",ISBLANK(E240)),\"\",VLOOKUP(E240,Sheet2!A:G,6,FALSE))","v":""},""]
[{"$f":"IF(OR(E241=\"\",ISBLANK(E241)),\"\",VLOOKUP(E241,Sheet2!A:F,2,FALSE))","v":""},{"$f":"IF(OR(E241=\"\",ISBLANK(E241)),\"\",VLOOKUP(E241,Sheet2!A:G,4,FALSE))","v":""},"",{"$f":"IF(OR(E241=\"\",ISBLANK(E241)),\"\",VLOOKUP(E241,Sheet2!A:H,3,FALSE))","v":""},null,{"$f":"IF(OR(E241=\"\",ISBLANK(E241)),\"\",VLOOKUP(E241,Sheet2!A:G,6,FALSE))","v":""},""]
[{"$f":"IF(OR(E242=\"\",ISBLANK(E242)),\"\",VLOOKUP(E242,Sheet2!A:F,2,FALSE))","v":""},{"$f":"IF(OR(E242=\"\",ISBLANK(E242)),\"\",VLOOKUP(E242,Sheet2!A:G,4,FALSE))","v":""},"",{"$f":"IF(OR(E242=\"\",ISBLANK(E242)),\"\",VLOOKUP(E242,Sheet2!A:H,3,FALSE))","v":""},null,{"$f":"IF(OR(E242=\"\",ISBLANK(E242)),\"\",VLOOKUP(E242,Sheet2!A:G,6,FALSE))","v":""},""]
[{"$f":"IF(OR(E243=\"\",ISBLANK(E243)),\"\",VLOOKUP(E243,Sheet2!A:F,2,FALSE))","v":""},{"$f":"IF(OR(E243=\"\",ISBLANK(E243)),\"\",VLOOKUP(E243,Sheet2!A:G,4,FALSE))","v":""},"",{"$f":"IF(OR(E243=\"\",ISBLANK(E243)),\"\",VLOOKUP(E243,Sheet2!A:H,3,FALSE))","v":""},null,{"$f":"IF(OR(E243=\"\",ISBLANK(E243)),\"\",VLOOKUP(E243,Sheet2!A:G,6,FALSE))","v":""},""]
[{"$f":"IF(OR(E244=\"\",ISBLANK(E244)),\"\",VLOOKUP(E244,Sheet2!A:F,2,FALSE))","v":""},{"$f":"IF(OR(E244=\"\",ISBLANK(E244)),\"\",VLOOKUP(E244,Sheet2!A:G,4,FALSE))","v":""},"",{"$f":"IF(OR(E244=\"\",ISBLANK(E244)),\"\",VLOOKUP(E244,Sheet2!A:H,3,FALSE))","v":""},null,{"$f":"IF(OR(E244=\"\",ISBLANK(E244)),\"\",VLOOKUP(E244,Sheet2!A:G,6,FALSE))","v":""},""]
[{"$f":"IF(OR(E245=\"\",ISBLANK(E245)),\"\",VLOOKUP(E245,Sheet2!A:F,2,FALSE))","v":""},{"$f":"IF(OR(E245=\"\",ISBLANK(E245)),\"\",VLOOKUP(E245,Sheet2!A:G,4,FALSE))","v":""},"",{"$f":"IF(OR(E245=\"\",ISBLANK(E245)),\"\",VLOOKUP(E245,Sheet2!A:H,3,FALSE))","v":""},null,{"$f":"IF(OR(E245=\"\",ISBLANK(E245)),\"\",VLOOKUP(E245,Sheet2!A:G,6,FALSE))","v":""},""]
[{"$f":"IF(OR(E246=\"\",ISBLANK(E246)),\"\",VLOOKUP(E246,Sheet2!A:F,2,FALSE))","v":""},{"$f":"IF(OR(E246=\"\",ISBLANK(E246)),\"\",VLOOKUP(E246,Sheet2!A:G,4,FALSE))","v":""},"",{"$f":"IF(OR(E246=\"\",ISBLANK(E246)),\"\",VLOOKUP(E246,Sheet2!A:H,3,FALSE))","v":""},null,{"$f":"IF(OR(E246=\"\",ISBLANK(E246)),\"\",VLOOKUP(E246,Sheet2!A:G,6,FALSE))","v":""},""]
[{"$f":"IF(OR(E247=\"\",ISBLANK(E247)),\"\",VLOOKUP(E247,Sheet2!A:F,2,FALSE))","v":""},{"$f":"IF(OR(E247=\"\",ISBLANK(E247)),\"\",VLOOKUP(E247,Sheet2!A:G,4,FALSE))","v":""},"",{"$f":"IF(OR(E247=\"\",ISBLANK(E247)),\"\",VLOOKUP(E247,Sheet2!A:H,3,FALSE))","v":""},null,{"$f":"IF(OR(E247=\"\",ISBLANK(E247)),\"\",VLOOKUP(E247,Sheet2!A:G,6,FALSE))","v":""},""]
[{"$f":"IF(OR(E248=\"\",ISBLANK(E248)),\"\",VLOOKUP(E248,Sheet2!A:F,2,FALSE))","v":""},{"$f":"IF(OR(E248=\"\",ISBLANK(E248)),\"\",VLOOKUP(E248,Sheet2!A:G,4,FALSE))","v":""},"",{"$f":"IF(OR(E248=\"\",ISBLANK(E248)),\"\",VLOOKUP(E248,Sheet2!A:H,3,FALSE))","v":""},null,{"$f":"IF(OR(E248=\"\",ISBLANK(E248)),\"\",VLOOKUP(E248,Sheet2!A:G,6,FALSE))","v":""},""]
[{"$f":"IF(OR(E249=\"\",ISBLANK(E249)),\"\",VLOOKUP(E249,Sheet2!A:F,2,FALSE))","v":""},{"$f":"IF(OR(E249=\"\",ISBLANK(E249)),\"\",VLOOKUP(E249,Sheet2!A:G,4,FALSE))","v":""},"",{"$f":"IF(OR(E249=\"\",ISBLANK(E249)),\"\",VLOOKUP(E249,Sheet2!A:H,3,FALSE))","v":""},null,{"$f":"IF(OR(E249=\"\",ISBLANK(E249)),\"\",VLOOKUP(E249,Sheet2!A:G,6,FALSE))","v":""},""]
[{"$f":"IF(OR(E250=\"\",ISBLANK(E250)),\"\",VLOOKUP(E250,Sheet2!A:F,2,FALSE))","v":""},{"$f":"IF(OR(E250=\"\",ISBLANK(E250)),\"\",VLOOKUP(E250,Sheet2!A:G,4,FALSE))","v":""},"",{"$f":"IF(OR(E250=\"\",ISBLANK(E250)),\"\",VLOOKUP(E250,Sheet2!A:H,3,FALSE))","v":""},null,{"$f":"IF(OR(E250=\"\",ISBLANK(E250)),\"\",VLOOKUP(E250,Sheet2!A:G,6,FALSE))","v":""},""]
[{"$f":"IF(OR(E251=\"\",ISBLANK(E251)),\"\",VLOOKUP(E251,Sheet2!A:F,2,FALSE))","v":""},{"$f":"IF(OR(E251=\"\",ISBLANK(E251)),\"\",VLOOKUP(E251,Sheet2!A:G,4,FALSE))","v":""},"",{"$f":"IF(OR(E251=\"\",ISBLANK(E251)),\"\",VLOOKUP(E251,Sheet2!A:H,3,FALSE))","v":""},null,{"$f":"IF(OR(E251=\"\",ISBLANK(E251)),\"\",VLOOKUP(E251,Sheet2!A:G,6,FALSE))","v":""},""]
[{"$f":"IF(OR(E252=\"\",ISBLANK(E252)),\"\",VLOOKUP(E252,Sheet2!A:F,2,FALSE))","v":""},{"$f":"IF(OR(E252=\"\",ISBLANK(E252)),\"\",VLOOKUP(E252,Sheet2!A:G,4,FALSE))","v":""},"",{"$f":"IF(OR(E252=\"\",ISBLANK(E252)),\"\",VLOOKUP(E252,Sheet2!A:H,3,FALSE))","v":""},null,{"$f":"IF(OR(E252=\"\",ISBLANK(E252)),\"\",VLOOKUP(E252,Sheet2!A:G,6,FALSE))","v":""},""]
[{"$f":"IF(OR(E253=\"\",ISBLANK(E253)),\"\",VLOOKUP(E253,Sheet2!A:F,2,FALSE))","v":""},{"$f":"IF(OR(E253=\"\",ISBLANK(E253)),\"\",VLOOKUP(E253,Sheet2!A:G,4,FALSE))","v":""},"",{"$f":"IF(OR(E253=\"\",ISBLANK(E253)),\"\",VLOOKUP(E253,Sheet2!A:H,3,FALSE))","v":""},null,{"$f":"IF(OR(E253=\"\",ISBLANK(E253)),\"\",VLOOKUP(E253,Sheet2!A:G,6,FALSE))","v":""},""]
[{"$f":"IF(OR(E254=\"\",ISBLANK(E254)),\"\",VLOOKUP(E254,Sheet2!A:F,2,FALSE))","v":""},{"$f":"IF(OR(E254=\"\",ISBLANK(E254)),\"\",VLOOKUP(E254,Sheet2!A:G,4,FALSE))","v":""},"",{"$f":"IF(OR(E254=\"\",ISBLANK(E254)),\"\",VLOOKUP(E254,Sheet2!A:H,3,FALSE))","v":""},null,{"$f":"IF(OR(E254=\"\",ISBLANK(E254)),\"\",VLOOKUP(E254,Sheet2!A:G,6,FALSE))","v":""},""]
[{"$f":"IF(OR(E255=\"\",ISBLANK(E255)),\"\",VLOOKUP(E255,Sheet2!A:F,2,FALSE))","v":""},{"$f":"IF(OR(E255=\"\",ISBLANK(E255)),\"\",VLOOKUP(E255,Sheet2!A:G,4,FALSE))","v":""},"",{"$f":"IF(OR(E255=\"\",ISBLANK(E255)),\"\",VLOOKUP(E255,Sheet2!A:H,3,FALSE))","v":""},null,{"$f":"IF(OR(E255=\"\",ISBLANK(E255)),\"\",VLOOKUP(E255,Sheet2!A:G,6,FALSE))","v":""},""]
[{"$f":"IF(OR(E256=\"\",ISBLANK(E256)),\"\",VLOOKUP(E256,Sheet2!A:F,2,FALSE))","v":""},{"$f":"IF(OR(E256=\"\",ISBLANK(E256)),\"\",VLOOKUP(E256,Sheet2!A:G,4,FALSE))","v":""},"",{"$f":"IF(OR(E256=\"\",ISBLANK(E256)),\"\",VLOOKUP(E256,Sheet2!A:H,3,FALSE))","v":""},null,{"$f":"IF(OR(E256=\"\",ISBLANK(E256)),\"\",VLOOKUP(E256,Sheet2!A:G,6,FALSE))","v":""},""]
[{"$f":"IF(OR(E257=\"\",ISBLANK(E257)),\"\",VLOOKUP(E257,Sheet2!A:F,2,FALSE))","v":""},{"$f":"IF(OR(E257=\"\",ISBLANK(E257)),\"\",VLOOKUP(E257,Sheet2!A:G,4,FALSE))","v":""},"",{"$f":"IF(OR(E257=\"\",ISBLANK(E257)),\"\",VLOOKUP(E257,Sheet2!A:H,3,FALSE))","v":""},null,{"$f":"IF(OR(E257=\"\",ISBLANK(E257)),\"\",VLOOKUP(E257,Sheet2!A:G,6,FALSE))","v":""},""]
[{"$f":"IF(OR(E258=\"\",ISBLANK(E258)),\"\",VLOOKUP(E258,Sheet2!A:F,2,FALSE))","v":""},{"$f":"IF(OR(E258=\"\",ISBLANK(E258)),\"\",VLOOKUP(E258,Sheet2!A:G,4,FALSE))","v":""},"",{"$f":"IF(OR(E258=\"\",ISBLANK(E258)),\"\",VLOOKUP(E258,Sheet2!A:H,3,FALSE))","v":""},null,{"$f":"IF(OR(E258=\"\",ISBLANK(E258)),\"\",VLOOKUP(E258,Sheet2!A:G,6,FALSE))","v":""},""]
[{"$f":"IF(OR(E259=\"\",ISBLANK(E259)),\"\",VLOOKUP(E259,Sheet2!A:F,2,FALSE))","v":""},{"$f":"IF(OR(E259=\"\",ISBLANK(E259)),\"\",VLOOKUP(E259,Sheet2!A:G,4,FALSE))","v":""},{"$f":"IF(D259=0,\"\",D259)","v":""},{"$f":"IF(OR(E259=\"\",ISBLANK(E259)),\"\",VLOOKUP(E259,Sheet2!A:H,3,FALSE))","v":""},null,{"$f":"IF(OR(E259=\"\",ISBLANK(E259)),\"\",VLOOKUP(E259,Sheet2!A:G,6,FALSE))","v":""},{"$f":"IF(F259=0,\"\",F259)","v":""}]
[{"$f":"IF(OR(E260=\"\",ISBLANK(E260)),\"\",VLOOKUP(E260,Sheet2!A:F,2,FALSE))","v":""},{"$f":"IF(OR(E260=\"\",ISBLANK(E260)),\"\",VLOOKUP(E260,Sheet2!A:G,4,FALSE))","v":""},"",{"$f":"IF(OR(E260=\"\",ISBLANK(E260)),\"\",VLOOKUP(E260,Sheet2!A:H,3,FALSE))","v":""},null,{"$f":"IF(OR(E260=\"\",ISBLANK(E260)),\"\",VLOOKUP(E260,Sheet2!A:G,6,FALSE))","v":""},""]
[{"$f":"IF(OR(E261=\"\",ISBLANK(E261)),\"\",VLOOKUP(E261,Sheet2!A:F,2,FALSE))","v":""},{"$f":"IF(OR(E261=\"\",ISBLANK(E261)),\"\",VLOOKUP(E261,Sheet2!A:G,4,FALSE))","v":""},"",{"$f":"IF(OR(E261=\"\",ISBLANK(E261)),\"\",VLOOKUP(E261,Sheet2!A:H,3,FALSE))","v":""},null,{"$f":"IF(OR(E261=\"\",ISBLANK(E261)),\"\",VLOOKUP(E261,Sheet2!A:G,6,FALSE))","v":""},""]
[{"$f":"IF(OR(E262=\"\",ISBLANK(E262)),\"\",VLOOKUP(E262,Sheet2!A:F,2,FALSE))","v":""},{"$f":"IF(OR(E262=\"\",ISBLANK(E262)),\"\",VLOOKUP(E262,Sheet2!A:G,4,FALSE))","v":""},"",{"$f":"IF(OR(E262=\"\",ISBLANK(E262)),\"\",VLOOKUP(E262,Sheet2!A:H,3,FALSE))","v":""},null,{"$f":"IF(OR(E262=\"\",ISBLANK(E262)),\"\",VLOOKUP(E262,Sheet2!A:G,6,FALSE))","v":""},""]
[{"$f":"IF(OR(E263=\"\",ISBLANK(E263)),\"\",VLOOKUP(E263,Sheet2!A:F,2,FALSE))","v":""},{"$f":"IF(OR(E263=\"\",ISBLANK(E263)),\"\",VLOOKUP(E263,Sheet2!A:G,4,FALSE))","v":""},"",{"$f":"IF(OR(E263=\"\",ISBLANK(E263)),\"\",VLOOKUP(E263,Sheet2!A:H,3,FALSE))","v":""},null,{"$f":"IF(OR(E263=\"\",ISBLANK(E263)),\"\",VLOOKUP(E263,Sheet2!A:G,6,FALSE))","v":""},""]
[{"$f":"IF(OR(E264=\"\",ISBLANK(E264)),\"\",VLOOKUP(E264,Sheet2!A:F,2,FALSE))","v":""},{"$f":"IF(OR(E264=\"\",ISBLANK(E264)),\"\",VLOOKUP(E264,Sheet2!A:G,4,FALSE))","v":""},"",{"$f":"IF(OR(E264=\"\",ISBLANK(E264)),\"\",VLOOKUP(E264,Sheet2!A:H,3,FALSE))","v":""},null,{"$f":"IF(OR(E264=\"\",ISBLANK(E264)),\"\",VLOOKUP(E264,Sheet2!A:G,6,FALSE))","v":""},""]
[{"$f":"IF(OR(E265=\"\",ISBLANK(E265)),\"\",VLOOKUP(E265,Sheet2!A:F,2,FALSE))","v":""},{"$f":"IF(OR(E265=\"\",ISBLANK(E265)),\"\",VLOOKUP(E265,Sheet2!A:G,4,FALSE))","v":""},"",{"$f":"IF(OR(E265=\"\",ISBLANK(E265)),\"\",VLOOKUP(E265,Sheet2!A:H,3,FALSE))","v":""},null,{"$f":"IF(OR(E265=\"\",ISBLANK(E265)),\"\",VLOOKUP(E265,Sheet2!A:G,6,FALSE))","v":""},""]
[{"$f":"IF(OR(E266=\"\",ISBLANK(E266)),\"\",VLOOKUP(E266,Sheet2!A:F,2,FALSE))","v":""},{"$f":"IF(OR(E266=\"\",ISBLANK(E266)),\"\",VLOOKUP(E266,Sheet2!A:G,4,FALSE))","v":""},"",{"$f":"IF(OR(E266=\"\",ISBLANK(E266)),\"\",VLOOKUP(E266,Sheet2!A:H,3,FALSE))","v":""},null,{"$f":"IF(OR(E266=\"\",ISBLANK(E266)),\"\",VLOOKUP(E266,Sheet2!A:G,6,FALSE))","v":""},""]
[{"$f":"IF(OR(E267=\"\",ISBLANK(E267)),\"\",VLOOKUP(E267,Sheet2!A:F,2,FALSE))","v":""},{"$f":"IF(OR(E267=\"\",ISBLANK(E267)),\"\",VLOOKUP(E267,Sheet2!A:G,4,FALSE))","v":""},"",{"$f":"IF(OR(E267=\"\",ISBLANK(E267)),\"\",VLOOKUP(E267,Sheet2!A:H,3,FALSE))","v":""},null,{"$f":"IF(OR(E267=\"\",ISBLANK(E267)),\"\",VLOOKUP(E267,Sheet2!A:G,6,FALSE))","v":""},""]
[{"$f":"IF(OR(E268=\"\",ISBLANK(E268)),\"\",VLOOKUP(E268,Sheet2!A:F,2,FALSE))","v":""},{"$f":"IF(OR(E268=\"\",ISBLANK(E268)),\"\",VLOOKUP(E268,Sheet2!A:G,4,FALSE))","v":""},"",{"$f":"IF(OR(E268=\"\",ISBLANK(E268)),\"\",VLOOKUP(E268,Sheet2!A:H,3,FALSE))","v":""},null,{"$f":"IF(OR(E268=\"\",ISBLANK(E268)),\"\",VLOOKUP(E268,Sheet2!A:G,6,FALSE))","v":""},""]
[{"$f":"IF(OR(E269=\"\",ISBLANK(E269)),\"\",VLOOKUP(E269,Sheet2!A:F,2,FALSE))","v":""},{"$f":"IF(OR(E269=\"\",ISBLANK(E269)),\"\",VLOOKUP(E269,Sheet2!A:G,4,FALSE))","v":""},"",{"$f":"IF(OR(E269=\"\",ISBLANK(E269)),\"\",VLOOKUP(E269,Sheet2!A:H,3,FALSE))","v":""},null,{"$f":"IF(OR(E269=\"\",ISBLANK(E269)),\"\",VLOOKUP(E269,Sheet2!A:G,6,FALSE))","v":""},""]
[{"$f":"IF(OR(E270=\"\",ISBLANK(E270)),\"\",VLOOKUP(E270,Sheet2!A:F,2,FALSE))","v":""},{"$f":"IF(OR(E270=\"\",ISBLANK(E270)),\"\",VLOOKUP(E270,Sheet2!A:G,4,FALSE))","v":""},"",{"$f":"IF(OR(E270=\"\",ISBLANK(E270)),\"\",VLOOKUP(E270,Sheet2!A:H,3,FALSE))","v":""},null,{"$f":"IF(OR(E270=\"\",ISBLANK(E270)),\"\",VLOOKUP(E270,Sheet2!A:G,6,FALSE))","v":""},""]
[{"$f":"IF(OR(E271=\"\",ISBLANK(E271)),\"\",VLOOKUP(E271,Sheet2!A:F,2,FALSE))","v":""},{"$f":"IF(OR(E271=\"\",ISBLANK(E271)),\"\",VLOOKUP(E271,Sheet2!A:G,4,FALSE))","v":""},"",{"$f":"IF(OR(E271=\"\",ISBLANK(E271)),\"\",VLOOKUP(E271,Sheet2!A:H,3,FALSE))","v":""},null,{"$f":"IF(OR(E271=\"\",ISBLANK(E271)),\"\",VLOOKUP(E271,Sheet2!A:G,6,FALSE))","v":""},""]
[{"$f":"IF(OR(E272=\"\",ISBLANK(E272)),\"\",VLOOKUP(E272,Sheet2!A:F,2,FALSE))","v":""},{"$f":"IF(OR(E272=\"\",ISBLANK(E272)),\"\",VLOOKUP(E272,Sheet2!A:G,4,FALSE))","v":""},"",{"$f":"IF(OR(E272=\"\",ISBLANK(E272)),\"\",VLOOKUP(E272,Sheet2!A:H,3,FALSE))","v":""},null,{"$f":"IF(OR(E272=\"\",ISBLANK(E272)),\"\",VLOOKUP(E272,Sheet2!A:G,6,FALSE))","v":""},""]
[{"$f":"IF(OR(E273=\"\",ISBLANK(E273)),\"\",VLOOKUP(E273,Sheet2!A:F,2,FALSE))","v":""},{"$f":"IF(OR(E273=\"\",ISBLANK(E273)),\"\",VLOOKUP(E273,Sheet2!A:G,4,FALSE))","v":""},"",{"$f":"IF(OR(E273=\"\",ISBLANK(E273)),\"\",VLOOKUP(E273,Sheet2!A:H,3,FALSE))","v":""},null,{"$f":"IF(OR(E273=\"\",ISBLANK(E273)),\"\",VLOOKUP(E273,Sheet2!A:G,6,FALSE))","v":""},""]
[{"$f":"IF(OR(E274=\"\",ISBLANK(E274)),\"\",VLOOKUP(E274,Sheet2!A:F,2,FALSE))","v":""},{"$f":"IF(OR(E274=\"\",ISBLANK(E274)),\"\",VLOOKUP(E274,Sheet2!A:G,4,FALSE))","v":""},"",{"$f":"IF(OR(E274=\"\",ISBLANK(E274)),\"\",VLOOKUP(E274,Sheet2!A:H,3,FALSE))","v":""},null,{"$f":"IF(OR(E274=\"\",ISBLANK(E274)),\"\",VLOOKUP(E274,Sheet2!A:G,6,FALSE))","v":""},""]
[{"$f":"IF(OR(E275=\"\",ISBLANK(E275)),\"\",VLOOKUP(E275,Sheet2!A:F,2,FALSE))","v":""},{"$f":"IF(OR(E275=\"\",ISBLANK(E275)),\"\",VLOOKUP(E275,Sheet2!A:G,4,FALSE))","v":""},"",{"$f":"IF(OR(E275=\"\",ISBLANK(E275)),\"\",VLOOKUP(E275,Sheet2!A:H,3,FALSE))","v":""},null,{"$f":"IF(OR(E275=\"\",ISBLANK(E275)),\"\",VLOOKUP(E275,Sheet2!A:G,6,FALSE))","v":""},""]
[{"$f":"IF(OR(E276=\"\",ISBLANK(E276)),\"\",VLOOKUP(E276,Sheet2!A:F,2,FALSE))","v":""},{"$f":"IF(OR(E276=\"\",ISBLANK(E276)),\"\",VLOOKUP(E276,Sheet2!A:G,4,FALSE))","v":""},"",{"$f":"IF(OR(E276=\"\",ISBLANK(E276)),\"\",VLOOKUP(E276,Sheet2!A:H,3,FALSE))","v":""},null,{"$f":"IF(OR(E276=\"\",ISBLANK(E276)),\"\",VLOOKUP(E276,Sheet2!A:G,6,FALSE))","v":""},""]
[{"$f":"IF(OR(E277=\"\",ISBLANK(E277)),\"\",VLOOKUP(E277,Sheet2!A:F,2,FALSE))","v":""},{"$f":"IF(OR(E277=\"\",ISBLANK(E277)),\"\",VLOOKUP(E277,Sheet2!A:G,4,FALSE))","v":""},"",{"$f":"IF(OR(E277=\"\",ISBLANK(E277)),\"\",VLOOKUP(E277,Sheet2!A:H,3,FALSE))","v":""},null,{"$f":"IF(OR(E277=\"\",ISBLANK(E277)),\"\",VLOOKUP(E277,Sheet2!A:G,6,FALSE))","v":""},""]
[{"$f":"IF(OR(E278=\"\",ISBLANK(E278)),\"\",VLOOKUP(E278,Sheet2!A:F,2,FALSE))","v":""},{"$f":"IF(OR(E278=\"\",ISBLANK(E278)),\"\",VLOOKUP(E278,Sheet2!A:G,4,FALSE))","v":""},"",{"$f":"IF(OR(E278=\"\",ISBLANK(E278)),\"\",VLOOKUP(E278,Sheet2!A:H,3,FALSE))","v":""},null,{"$f":"IF(OR(E278=\"\",ISBLANK(E278)),\"\",VLOOKUP(E278,Sheet2!A:G,6,FALSE))","v":""},""]
[{"$f":"IF(OR(E279=\"\",ISBLANK(E279)),\"\",VLOOKUP(E279,Sheet2!A:F,2,FALSE))","v":""},{"$f":"IF(OR(E279=\"\",ISBLANK(E279)),\"\",VLOOKUP(E279,Sheet2!A:G,4,FALSE))","v":""},"",{"$f":"IF(OR(E279=\"\",ISBLANK(E279)),\"\",VLOOKUP(E279,Sheet2!A:H,3,FALSE))","v":""},null,{"$f":"IF(OR(E279=\"\",ISBLANK(E279)),\"\",VLOOKUP(E279,Sheet2!A:G,6,FALSE))","v":""},""]
[{"$f":"IF(OR(E280=\"\",ISBLANK(E280)),\"\",VLOOKUP(E280,Sheet2!A:F,2,FALSE))","v":""},{"$f":"IF(OR(E280=\"\",ISBLANK(E280)),\"\",VLOOKUP(E280,Sheet2!A:G,4,FALSE))","v":""},"",{"$f":"IF(OR(E280=\"\",ISBLANK(E280)),\"\",VLOOKUP(E280,Sheet2!A:H,3,FALSE))","v":""},null,{"$f":"IF(OR(E280=\"\",ISBLANK(E280)),\"\",VLOOKUP(E280,Sheet2!A:G,6,FALSE))","v":""},""]
[{"$f":"IF(OR(E281=\"\",ISBLANK(E281)),\"\",VLOOKUP(E281,Sheet2!A:F,2,FALSE))","v":""},{"$f":"IF(OR(E281=\"\",ISBLANK(E281)),\"\",VLOOKUP(E281,Sheet2!A:G,4,FALSE))","v":""},"",{"$f":"IF(OR(E281=\"\",ISBLANK(E281)),\"\",VLOOKUP(E281,Sheet2!A:H,3,FALSE))","v":""},null,{"$f":"IF(OR(E281=\"\",ISBLANK(E281)),\"\",VLOOKUP(E281,Sheet2!A:G,6,FALSE))","v":""},""]
[{"$f":"IF(OR(E282=\"\",ISBLANK(E282)),\"\",VLOOKUP(E282,Sheet2!A:F,2,FALSE))","v":""},{"$f":"IF(OR(E282=\"\",ISBLANK(E282)),\"\",VLOOKUP(E282,Sheet2!A:G,4,FALSE))","v":""},"",{"$f":"IF(OR(E282=\"\",ISBLANK(E282)),\"\",VLOOKUP(E282,Sheet2!A:H,3,FALSE))","v":""},null,{"$f":"IF(OR(E282=\"\",ISBLANK(E282)),\"\",VLOOKUP(E282,Sheet2!A:G,6,FALSE))","v":""},""]
[{"$f":"IF(OR(E283=\"\",ISBLANK(E283)),\"\",VLOOKUP(E283,Sheet2!A:F,2,FALSE))","v":""},{"$f":"IF(OR(E283=\"\",ISBLANK(E283)),\"\",VLOOKUP(E283,Sheet2!A:G,4,FALSE))","v":""},"",{"$f":"IF(OR(E283=\"\",ISBLANK(E283)),\"\",VLOOKUP(E283,Sheet2!A:H,3,FALSE))","v":""},null,{"$f":"IF(OR(E283=\"\",ISBLANK(E283)),\"\",VLOOKUP(E283,Sheet2!A:G,6,FALSE))","v":""},""]
[{"$f":"IF(OR(E284=\"\",ISBLANK(E284)),\"\",VLOOKUP(E284,Sheet2!A:F,2,FALSE))","v":""},{"$f":"IF(OR(E284=\"\",ISBLANK(E284)),\"\",VLOOKUP(E284,Sheet2!A:G,4,FALSE))","v":""},"",{"$f":"IF(OR(E284=\"\",ISBLANK(E284)),\"\",VLOOKUP(E284,Sheet2!A:H,3,FALSE))","v":""},null,{"$f":"IF(OR(E284=\"\",ISBLANK(E284)),\"\",VLOOKUP(E284,Sheet2!A:G,6,FALSE))","v":""},""]
[{"$f":"IF(OR(E285=\"\",ISBLANK(E285)),\"\",VLOOKUP(E285,Sheet2!A:F,2,FALSE))","v":""},{"$f":"IF(OR(E285=\"\",ISBLANK(E285)),\"\",VLOOKUP(E285,Sheet2!A:G,4,FALSE))","v":""},"",{"$f":"IF(OR(E285=\"\",ISBLANK(E285)),\"\",VLOOKUP(E285,Sheet2!A:H,3,FALSE))","v":""},null,{"$f":"IF(OR(E285=\"\",ISBLANK(E285)),\"\",VLOOKUP(E285,Sheet2!A:G,6,FALSE))","v":""},""]
[{"$f":"IF(OR(E286=\"\",ISBLANK(E286)),\"\",VLOOKUP(E286,Sheet2!A:F,2,FALSE))","v":""},{"$f":"IF(OR(E286=\"\",ISBLANK(E286)),\"\",VLOOKUP(E286,Sheet2!A:G,4,FALSE))","v":""},"",{"$f":"IF(OR(E286=\"\",ISBLANK(E286)),\"\",VLOOKUP(E286,Sheet2!A:H,3,FALSE))","v":""},null,{"$f":"IF(OR(E286=\"\",ISBLANK(E286)),\"\",VLOOKUP(E286,Sheet2!A:G,6,FALSE))","v":""},""]
[{"$f":"IF(OR(E287=\"\",ISBLANK(E287)),\"\",VLOOKUP(E287,Sheet2!A:F,2,FALSE))","v":""},{"$f":"IF(OR(E287=\"\",ISBLANK(E287)),\"\",VLOOKUP(E287,Sheet2!A:G,4,FALSE))","v":""},"",{"$f":"IF(OR(E287=\"\",ISBLANK(E287)),\"\",VLOOKUP(E287,Sheet2!A:H,3,FALSE))","v":""},null,{"$f":"IF(OR(E287=\"\",ISBLANK(E287)),\"\",VLOOKUP(E287,Sheet2!A:G,6,FALSE))","v":""},""]
[{"$f":"IF(OR(E288=\"\",ISBLANK(E288)),\"\",VLOOKUP(E288,Sheet2!A:F,2,FALSE))","v":""},{"$f":"IF(OR(E288=\"\",ISBLANK(E288)),\"\",VLOOKUP(E288,Sheet2!A:G,4,FALSE))","v":""},"",{"$f":"IF(OR(E288=\"\",ISBLANK(E288)),\"\",VLOOKUP(E288,Sheet2!A:H,3,FALSE))","v":""},null,{"$f":"IF(OR(E288=\"\",ISBLANK(E288)),\"\",VLOOKUP(E288,Sheet2!A:G,6,FALSE))","v":""},""]
[{"$f":"IF(OR(E289=\"\",ISBLANK(E289)),\"\",VLOOKUP(E289,Sheet2!A:F,2,FALSE))","v":""},{"$f":"IF(OR(E289=\"\",ISBLANK(E289)),\"\",VLOOKUP(E289,Sheet2!A:G,4,FALSE))","v":""},"",{"$f":"IF(OR(E289=\"\",ISBLANK(E289)),\"\",VLOOKUP(E289,Sheet2!A:H,3,FALSE))","v":""},null,{"$f":"IF(OR(E289=\"\",ISBLANK(E289)),\"\",VLOOKUP(E289,Sheet2!A:G,6,FALSE))","v":""},""]
[{"$f":"IF(OR(E290=\"\",ISBLANK(E290)),\"\",VLOOKUP(E290,Sheet2!A:F,2,FALSE))","v":""},{"$f":"IF(OR(E290=\"\",ISBLANK(E290)),\"\",VLOOKUP(E290,Sheet2!A:G,4,FALSE))","v":""},"",{"$f":"IF(OR(E290=\"\",ISBLANK(E290)),\"\",VLOOKUP(E290,Sheet2!A:H,3,FALSE))","v":""},null,{"$f":"IF(OR(E290=\"\",ISBLANK(E290)),\"\",VLOOKUP(E290,Sheet2!A:G,6,FALSE))","v":""},""]
[{"$f":"IF(OR(E291=\"\",ISBLANK(E291)),\"\",VLOOKUP(E291,Sheet2!A:F,2,FALSE))","v":""},{"$f":"IF(OR(E291=\"\",ISBLANK(E291)),\"\",VLOOKUP(E291,Sheet2!A:G,4,FALSE))","v":""},"",{"$f":"IF(OR(E291=\"\",ISBLANK(E291)),\"\",VLOOKUP(E291,Sheet2!A:H,3,FALSE))","v":""},null,{"$f":"IF(OR(E291=\"\",ISBLANK(E291)),\"\",VLOOKUP(E291,Sheet2!A:G,6,FALSE))","v":""},""]
[{"$f":"IF(OR(E292=\"\",ISBLANK(E292)),\"\",VLOOKUP(E292,Sheet2!A:F,2,FALSE))","v":""},{"$f":"IF(OR(E292=\"\",ISBLANK(E292)),\"\",VLOOKUP(E292,Sheet2!A:G,4,FALSE))","v":""},"",{"$f":"IF(OR(E292=\"\",ISBLANK(E292)),\"\",VLOOKUP(E292,Sheet2!A:H,3,FALSE))","v":""},null,{"$f":"IF(OR(E292=\"\",ISBLANK(E292)),\"\",VLOOKUP(E292,Sheet2!A:G,6,FALSE))","v":""},""]
[{"$f":"IF(OR(E293=\"\",ISBLANK(E293)),\"\",VLOOKUP(E293,Sheet2!A:F,2,FALSE))","v":""},{"$f":"IF(OR(E293=\"\",ISBLANK(E293)),\"\",VLOOKUP(E293,Sheet2!A:G,4,FALSE))","v":""},"",{"$f":"IF(OR(E293=\"\",ISBLANK(E293)),\"\",VLOOKUP(E293,Sheet2!A:H,3,FALSE))","v":""},null,{"$f":"IF(OR(E293=\"\",ISBLANK(E293)),\"\",VLOOKUP(E293,Sheet2!A:G,6,FALSE))","v":""},""]
[{"$f":"IF(OR(E294=\"\",ISBLANK(E294)),\"\",VLOOKUP(E294,Sheet2!A:F,2,FALSE))","v":""},{"$f":"IF(OR(E294=\"\",ISBLANK(E294)),\"\",VLOOKUP(E294,Sheet2!A:G,4,FALSE))","v":""},"",{"$f":"IF(OR(E294=\"\",ISBLANK(E294)),\"\",VLOOKUP(E294,Sheet2!A:H,3,FALSE))","v":""},null,{"$f":"IF(OR(E294=\"\",ISBLANK(E294)),\"\",VLOOKUP(E294,Sheet2!A:G,6,FALSE))","v":""},""]
[{"$f":"IF(OR(E295=\"\",ISBLANK(E295)),\"\",VLOOKUP(E295,Sheet2!A:F,2,FALSE))","v":""},{"$f":"IF(OR(E295=\"\",ISBLANK(E295)),\"\",VLOOKUP(E295,Sheet2!A:G,4,FALSE))","v":""},"",{"$f":"IF(OR(E295=\"\",ISBLANK(E295)),\"\",VLOOKUP(E295,Sheet2!A:H,3,FALSE))","v":""},null,{"$f":"IF(OR(E295=\"\",ISBLANK(E295)),\"\",VLOOKUP(E295,Sheet2!A:G,6,FALSE))","v":""},""]
[{"$f":"IF(OR(E296=\"\",ISBLANK(E296)),\"\",VLOOKUP(E296,Sheet2!A:F,2,FALSE))","v":""},{"$f":"IF(OR(E296=\"\",ISBLANK(E296)),\"\",VLOOKUP(E296,Sheet2!A:G,4,FALSE))","v":""},"",{"$f":"IF(OR(E296=\"\",ISBLANK(E296)),\"\",VLOOKUP(E296,Sheet2!A:H,3,FALSE))","v":""},null,{"$f":"IF(OR(E296=\"\",ISBLANK(E296)),\"\",VLOOKUP(E296,Sheet2!A:G,6,FALSE))","v":""},""]
[{"$f":"IF(OR(E297=\"\",ISBLANK(E297)),\"\",VLOOKUP(E297,Sheet2!A:F,2,FALSE))","v":""},{"$f":"IF(OR(E297=\"\",ISBLANK(E297)),\"\",VLOOKUP(E297,Sheet2!A:G,4,FALSE))","v":""},"",{"$f":"IF(OR(E297=\"\",ISBLANK(E297)),\"\",VLOOKUP(E297,Sheet2!A:H,3,FALSE))","v":""},null,{"$f":"IF(OR(E297=\"\",ISBLANK(E297)),\"\",VLOOKUP(E297,Sheet2!A:G,6,FALSE))","v":""},""]
[{"$f":"IF(OR(E298=\"\",ISBLANK(E298)),\"\",VLOOKUP(E298,Sheet2!A:F,2,FALSE))","v":""},{"$f":"IF(OR(E298=\"\",ISBLANK(E298)),\"\",VLOOKUP(E298,Sheet2!A:G,4,FALSE))","v":""},"",{"$f":"IF(OR(E298=\"\",ISBLANK(E298)),\"\",VLOOKUP(E298,Sheet2!A:H,3,FALSE))","v":""},null,{"$f":"IF(OR(E298=\"\",ISBLANK(E298)),\"\",VLOOKUP(E298,Sheet2!A:G,6,FALSE))","v":""},""]
[{"$f":"IF(OR(E299=\"\",ISBLANK(E299)),\"\",VLOOKUP(E299,Sheet2!A:F,2,FALSE))","v":""},{"$f":"IF(OR(E299=\"\",ISBLANK(E299)),\"\",VLOOKUP(E299,Sheet2!A:G,4,FALSE))","v":""},"",{"$f":"IF(OR(E299=\"\",ISBLANK(E299)),\"\",VLOOKUP(E299,Sheet2!A:H,3,FALSE))","v":""},null,{"$f":"IF(OR(E299=\"\",ISBLANK(E299)),\"\",VLOOKUP(E299,Sheet2!A:G,6,FALSE))","v":""},""]
[{"$f":"IF(OR(E300=\"\",ISBLANK(E300)),\"\",VLOOKUP(E300,Sheet2!A:F,2,FALSE))","v":""},{"$f":"IF(OR(E300=\"\",ISBLANK(E300)),\"\",VLOOKUP(E300,Sheet2!A:G,4,FALSE))","v":""},"",{"$f":"IF(OR(E300=\"\",ISBLANK(E300)),\"\",VLOOKUP(E300,Sheet2!A:H,3,FALSE))","v":""},null,{"$f":"IF(OR(E300=\"\",ISBLANK(E300)),\"\",VLOOKUP(E300,Sheet2!A:G,6,FALSE))","v":""},""]
[{"$f":"IF(OR(E301=\"\",ISBLANK(E301)),\"\",VLOOKUP(E301,Sheet2!A:F,2,FALSE))","v":""},{"$f":"IF(OR(E301=\"\",ISBLANK(E301)),\"\",VLOOKUP(E301,Sheet2!A:G,4,FALSE))","v":""},"",{"$f":"IF(OR(E301=\"\",ISBLANK(E301)),\"\",VLOOKUP(E301,Sheet2!A:H,3,FALSE))","v":""},null,{"$f":"IF(OR(E301=\"\",ISBLANK(E301)),\"\",VLOOKUP(E301,Sheet2!A:G,6,FALSE))","v":""},""]
[{"$f":"IF(OR(E302=\"\",ISBLANK(E302)),\"\",VLOOKUP(E302,Sheet2!A:F,2,FALSE))","v":""},{"$f":"IF(OR(E302=\"\",ISBLANK(E302)),\"\",VLOOKUP(E302,Sheet2!A:G,4,FALSE))","v":""},"",{"$f":"IF(OR(E302=\"\",ISBLANK(E302)),\"\",VLOOKUP(E302,Sheet2!A:H,3,FALSE))","v":""},null,{"$f":"IF(OR(E302=\"\",ISBLANK(E302)),\"\",VLOOKUP(E302,Sheet2!A:G,6,FALSE))","v":""},""]
[{"$f":"IF(OR(E303=\"\",ISBLANK(E303)),\"\",VLOOKUP(E303,Sheet2!A:F,2,FALSE))","v":""},{"$f":"IF(OR(E303=\"\",ISBLANK(E303)),\"\",VLOOKUP(E303,Sheet2!A:G,4,FALSE))","v":""},"",{"$f":"IF(OR(E303=\"\",ISBLANK(E303)),\"\",VLOOKUP(E303,Sheet2!A:H,3,FALSE))","v":""},null,{"$f":"IF(OR(E303=\"\",ISBLANK(E303)),\"\",VLOOKUP(E303,Sheet2!A:G,6,FALSE))","v":""},""]
[{"$f":"IF(OR(E304=\"\",ISBLANK(E304)),\"\",VLOOKUP(E304,Sheet2!A:F,2,FALSE))","v":""},{"$f":"IF(OR(E304=\"\",ISBLANK(E304)),\"\",VLOOKUP(E304,Sheet2!A:G,4,FALSE))","v":""},"",{"$f":"IF(OR(E304=\"\",ISBLANK(E304)),\"\",VLOOKUP(E304,Sheet2!A:H,3,FALSE))","v":""},null,{"$f":"IF(OR(E304=\"\",ISBLANK(E304)),\"\",VLOOKUP(E304,Sheet2!A:G,6,FALSE))","v":""},""]
[{"$f":"IF(OR(E305=\"\",ISBLANK(E305)),\"\",VLOOKUP(E305,Sheet2!A:F,2,FALSE))","v":""},{"$f":"IF(OR(E305=\"\",ISBLANK(E305)),\"\",VLOOKUP(E305,Sheet2!A:G,4,FALSE))","v":""},"",{"$f":"IF(OR(E305=\"\",ISBLANK(E305)),\"\",VLOOKUP(E305,Sheet2!A:H,3,FALSE))","v":""},null,{"$f":"IF(OR(E305=\"\",ISBLANK(E305)),\"\",VLOOKUP(E305,Sheet2!A:G,6,FALSE))","v":""},""]
[{"$f":"IF(OR(E306=\"\",ISBLANK(E306)),\"\",VLOOKUP(E306,Sheet2!A:F,2,FALSE))","v":""},{"$f":"IF(OR(E306=\"\",ISBLANK(E306)),\"\",VLOOKUP(E306,Sheet2!A:G,4,FALSE))","v":""},"",{"$f":"IF(OR(E306=\"\",ISBLANK(E306)),\"\",VLOOKUP(E306,Sheet2!A:H,3,FALSE))","v":""},null,{"$f":"IF(OR(E306=\"\",ISBLANK(E306)),\"\",VLOOKUP(E306,Sheet2!A:G,6,FALSE))","v":""},""]
[{"$f":"IF(OR(E307=\"\",ISBLANK(E307)),\"\",VLOOKUP(E307,Sheet2!A:F,2,FALSE))","v":""},{"$f":"IF(OR(E307=\"\",ISBLANK(E307)),\"\",VLOOKUP(E307,Sheet2!A:G,4,FALSE))","v":""},"",{"$f":"IF(OR(E307=\"\",ISBLANK(E307)),\"\",VLOOKUP(E307,Sheet2!A:H,3,FALSE))","v":""},null,{"$f":"IF(OR(E307=\"\",ISBLANK(E307)),\"\",VLOOKUP(E307,Sheet2!A:G,6,FALSE))","v":""},""]
[{"$f":"IF(OR(E308=\"\",ISBLANK(E308)),\"\",VLOOKUP(E308,Sheet2!A:F,2,FALSE))","v":""},{"$f":"IF(OR(E308=\"\",ISBLANK(E308)),\"\",VLOOKUP(E308,Sheet2!A:G,4,FALSE))","v":""},"",{"$f":"IF(OR(E308=\"\",ISBLANK(E308)),\"\",VLOOKUP(E308,Sheet2!A:H,3,FALSE))","v":""},null,{"$f":"IF(OR(E308=\"\",ISBLANK(E308)),\"\",VLOOKUP(E308,Sheet2!A:G,6,FALSE))","v":""},""]
[{"$f":"IF(OR(E309=\"\",ISBLANK(E309)),\"\",VLOOKUP(E309,Sheet2!A:F,2,FALSE))","v":""},{"$f":"IF(OR(E309=\"\",ISBLANK(E309)),\"\",VLOOKUP(E309,Sheet2!A:G,4,FALSE))","v":""},"",{"$f":"IF(OR(E309=\"\",ISBLANK(E309)),\"\",VLOOKUP(E309,Sheet2!A:H,3,FALSE))","v":""},null,{"$f":"IF(OR(E309=\"\",ISBLANK(E309)),\"\",VLOOKUP(E309,Sheet2!A:G,6,FALSE))","v":""},""]
[{"$f":"IF(OR(E310=\"\",ISBLANK(E310)),\"\",VLOOKUP(E310,Sheet2!A:F,2,FALSE))","v":""},{"$f":"IF(OR(E310=\"\",ISBLANK(E310)),\"\",VLOOKUP(E310,Sheet2!A:G,4,FALSE))","v":""},"",{"$f":"IF(OR(E310=\"\",ISBLANK(E310)),\"\",VLOOKUP(E310,Sheet2!A:H,3,FALSE))","v":""},null,{"$f":"IF(OR(E310=\"\",ISBLANK(E310)),\"\",VLOOKUP(E310,Sheet2!A:G,6,FALSE))","v":""},""]
[{"$f":"IF(OR(E311=\"\",ISBLANK(E311)),\"\",VLOOKUP(E311,Sheet2!A:F,2,FALSE))","v":""},{"$f":"IF(OR(E311=\"\",ISBLANK(E311)),\"\",VLOOKUP(E311,Sheet2!A:G,4,FALSE))","v":""},"",{"$f":"IF(OR(E311=\"\",ISBLANK(E311)),\"\",VLOOKUP(E311,Sheet2!A:H,3,FALSE))","v":""},null,{"$f":"IF(OR(E311=\"\",ISBLANK(E311)),\"\",VLOOKUP(E311,Sheet2!A:G,6,FALSE))","v":""},""]
[{"$f":"IF(OR(E312=\"\",ISBLANK(E312)),\"\",VLOOKUP(E312,Sheet2!A:F,2,FALSE))","v":""},{"$f":"IF(OR(E312=\"\",ISBLANK(E312)),\"\",VLOOKUP(E312,Sheet2!A:G,4,FALSE))","v":""},"",{"$f":"IF(OR(E312=\"\",ISBLANK(E312)),\"\",VLOOKUP(E312,Sheet2!A:H,3,FALSE))","v":""},null,{"$f":"IF(OR(E312=\"\",ISBLANK(E312)),\"\",VLOOKUP(E312,Sheet2!A:G,6,FALSE))","v":""},""]
[{"$f":"IF(OR(E313=\"\",ISBLANK(E313)),\"\",VLOOKUP(E313,Sheet2!A:F,2,FALSE))","v":""},{"$f":"IF(OR(E313=\"\",ISBLANK(E313)),\"\",VLOOKUP(E313,Sheet2!A:G,4,FALSE))","v":""},"",{"$f":"IF(OR(E313=\"\",ISBLANK(E313)),\"\",VLOOKUP(E313,Sheet2!A:H,3,FALSE))","v":""},null,{"$f":"IF(OR(E313=\"\",ISBLANK(E313)),\"\",VLOOKUP(E313,Sheet2!A:G,6,FALSE))","v":""},""]
[{"$f":"IF(OR(E314=\"\",ISBLANK(E314)),\"\",VLOOKUP(E314,Sheet2!A:F,2,FALSE))","v":""},{"$f":"IF(OR(E314=\"\",ISBLANK(E314)),\"\",VLOOKUP(E314,Sheet2!A:G,4,FALSE))","v":""},"",{"$f":"IF(OR(E314=\"\",ISBLANK(E314)),\"\",VLOOKUP(E314,Sheet2!A:H,3,FALSE))","v":""},null,{"$f":"IF(OR(E314=\"\",ISBLANK(E314)),\"\",VLOOKUP(E314,Sheet2!A:G,6,FALSE))","v":""},""]
[{"$f":"IF(OR(E315=\"\",ISBLANK(E315)),\"\",VLOOKUP(E315,Sheet2!A:F,2,FALSE))","v":""},{"$f":"IF(OR(E315=\"\",ISBLANK(E315)),\"\",VLOOKUP(E315,Sheet2!A:G,4,FALSE))","v":""},"",{"$f":"IF(OR(E315=\"\",ISBLANK(E315)),\"\",VLOOKUP(E315,Sheet2!A:H,3,FALSE))","v":""},null,{"$f":"IF(OR(E315=\"\",ISBLANK(E315)),\"\",VLOOKUP(E315,Sheet2!A:G,6,FALSE))","v":""},""]
[{"$f":"IF(OR(E316=\"\",ISBLANK(E316)),\"\",VLOOKUP(E316,Sheet2!A:F,2,FALSE))","v":""},{"$f":"IF(OR(E316=\"\",ISBLANK(E316)),\"\",VLOOKUP(E316,Sheet2!A:G,4,FALSE))","v":""},"",{"$f":"IF(OR(E316=\"\",ISBLANK(E316)),\"\",VLOOKUP(E316,Sheet2!A:H,3,FALSE))","v":""},null,{"$f":"IF(OR(E316=\"\",ISBLANK(E316)),\"\",VLOOKUP(E316,Sheet2!A:G,6,FALSE))","v":""},""]
[{"$f":"IF(OR(E317=\"\",ISBLANK(E317)),\"\",VLOOKUP(E317,Sheet2!A:F,2,FALSE))","v":""},{"$f":"IF(OR(E317=\"\",ISBLANK(E317)),\"\",VLOOKUP(E317,Sheet2!A:G,4,FALSE))","v":""},"",{"$f":"IF(OR(E317=\"\",ISBLANK(E317)),\"\",VLOOKUP(E317,Sheet2!A:H,3,FALSE))","v":""},null,{"$f":"IF(OR(E317=\"\",ISBLANK(E317)),\"\",VLOOKUP(E317,Sheet2!A:G,6,FALSE))","v":""},""]
[{"$f":"IF(OR(E318=\"\",ISBLANK(E318)),\"\",VLOOKUP(E318,Sheet2!A:F,2,FALSE))","v":""},{"$f":"IF(OR(E318=\"\",ISBLANK(E318)),\"\",VLOOKUP(E318,Sheet2!A:G,4,FALSE))","v":""},"",{"$f":"IF(OR(E318=\"\",ISBLANK(E318)),\"\",VLOOKUP(E318,Sheet2!A:H,3,FALSE))","v":""},null,{"$f":"IF(OR(E318=\"\",ISBLANK(E318)),\"\",VLOOKUP(E318,Sheet2!A:G,6,FALSE))","v":""},""]
[{"$f":"IF(OR(E319=\"\",ISBLANK(E319)),\"\",VLOOKUP(E319,Sheet2!A:F,2,FALSE))","v":""},{"$f":"IF(OR(E319=\"\",ISBLANK(E319)),\"\",VLOOKUP(E319,Sheet2!A:G,4,FALSE))","v":""},"",{"$f":"IF(OR(E319=\"\",ISBLANK(E319)),\"\",VLOOKUP(E319,Sheet2!A:H,3,FALSE))","v":""},null,{"$f":"IF(OR(E319=\"\",ISBLANK(E319)),\"\",VLOOKUP(E319,Sheet2!A:G,6,FALSE))","v":""},""]
[{"$f":"IF(OR(E320=\"\",ISBLANK(E320)),\"\",VLOOKUP(E320,Sheet2!A:F,2,FALSE))","v":""},{"$f":"IF(OR(E320=\"\",ISBLANK(E320)),\"\",VLOOKUP(E320,Sheet2!A:G,4,FALSE))","v":""},"",{"$f":"IF(OR(E320=\"\",ISBLANK(E320)),\"\",VLOOKUP(E320,Sheet2!A:H,3,FALSE))","v":""},null,{"$f":"IF(OR(E320=\"\",ISBLANK(E320)),\"\",VLOOKUP(E320,Sheet2!A:G,6,FALSE))","v":""},""]
[{"$f":"IF(OR(E321=\"\",ISBLANK(E321)),\"\",VLOOKUP(E321,Sheet2!A:F,2,FALSE))","v":""},{"$f":"IF(OR(E321=\"\",ISBLANK(E321)),\"\",VLOOKUP(E321,Sheet2!A:G,4,FALSE))","v":""},"",{"$f":"IF(OR(E321=\"\",ISBLANK(E321)),\"\",VLOOKUP(E321,Sheet2!A:H,3,FALSE))","v":""},null,{"$f":"IF(OR(E321=\"\",ISBLANK(E321)),\"\",VLOOKUP(E321,Sheet2!A:G,6,FALSE))","v":""},""]
[{"$f":"IF(OR(E322=\"\",ISBLANK(E322)),\"\",VLOOKUP(E322,Sheet2!A:F,2,FALSE))","v":""},{"$f":"IF(OR(E322=\"\",ISBLANK(E322)),\"\",VLOOKUP(E322,Sheet2!A:G,4,FALSE))","v":""},"",{"$f":"IF(OR(E322=\"\",ISBLANK(E322)),\"\",VLOOKUP(E322,Sheet2!A:H,3,FALSE))","v":""},null,{"$f":"IF(OR(E322=\"\",ISBLANK(E322)),\"\",VLOOKUP(E322,Sheet2!A:G,6,FALSE))","v":""},""]
[{"$f":"IF(OR(E323=\"\",ISBLANK(E323)),\"\",VLOOKUP(E323,Sheet2!A:F,2,FALSE))","v":""},{"$f":"IF(OR(E323=\"\",ISBLANK(E323)),\"\",VLOOKUP(E323,Sheet2!A:G,4,FALSE))","v":""},{"$f":"IF(D323=0,\"\",D323)","v":""},{"$f":"IF(OR(E323=\"\",ISBLANK(E323)),\"\",VLOOKUP(E323,Sheet2!A:H,3,FALSE))","v":""},null,{"$f":"IF(OR(E323=\"\",ISBLANK(E323)),\"\",VLOOKUP(E323,Sheet2!A:G,6,FALSE))","v":""},{"$f":"IF(F323=0,\"\",F323)","v":""}]
[{"$f":"IF(OR(E324=\"\",ISBLANK(E324)),\"\",VLOOKUP(E324,Sheet2!A:F,2,FALSE))","v":""},{"$f":"IF(OR(E324=\"\",ISBLANK(E324)),\"\",VLOOKUP(E324,Sheet2!A:G,4,FALSE))","v":""},"",{"$f":"IF(OR(E324=\"\",ISBLANK(E324)),\"\",VLOOKUP(E324,Sheet2!A:H,3,FALSE))","v":""},null,{"$f":"IF(OR(E324=\"\",ISBLANK(E324)),\"\",VLOOKUP(E324,Sheet2!A:G,6,FALSE))","v":""},""]
[{"$f":"IF(OR(E325=\"\",ISBLANK(E325)),\"\",VLOOKUP(E325,Sheet2!A:F,2,FALSE))","v":""},{"$f":"IF(OR(E325=\"\",ISBLANK(E325)),\"\",VLOOKUP(E325,Sheet2!A:G,4,FALSE))","v":""},"",{"$f":"IF(OR(E325=\"\",ISBLANK(E325)),\"\",VLOOKUP(E325,Sheet2!A:H,3,FALSE))","v":""},null,{"$f":"IF(OR(E325=\"\",ISBLANK(E325)),\"\",VLOOKUP(E325,Sheet2!A:G,6,FALSE))","v":""},""]
[{"$f":"IF(OR(E326=\"\",ISBLANK(E326)),\"\",VLOOKUP(E326,Sheet2!A:F,2,FALSE))","v":""},{"$f":"IF(OR(E326=\"\",ISBLANK(E326)),\"\",VLOOKUP(E326,Sheet2!A:G,4,FALSE))","v":""},"",{"$f":"IF(OR(E326=\"\",ISBLANK(E326)),\"\",VLOOKUP(E326,Sheet2!A:H,3,FALSE))","v":""},null,{"$f":"IF(OR(E326=\"\",ISBLANK(E326)),\"\",VLOOKUP(E326,Sheet2!A:G,6,FALSE))","v":""},""]
[{"$f":"IF(OR(E327=\"\",ISBLANK(E327)),\"\",VLOOKUP(E327,Sheet2!A:F,2,FALSE))","v":""},{"$f":"IF(OR(E327=\"\",ISBLANK(E327)),\"\",VLOOKUP(E327,Sheet2!A:G,4,FALSE))","v":""},"",{"$f":"IF(OR(E327=\"\",ISBLANK(E327)),\"\",VLOOKUP(E327,Sheet2!A:H,3,FALSE))","v":""},null,{"$f":"IF(OR(E327=\"\",ISBLANK(E327)),\"\",VLOOKUP(E327,Sheet2!A:G,6,FALSE))","v":""},""]
[{"$f":"IF(OR(E328=\"\",ISBLANK(E328)),\"\",VLOOKUP(E328,Sheet2!A:F,2,FALSE))","v":""},{"$f":"IF(OR(E328=\"\",ISBLANK(E328)),\"\",VLOOKUP(E328,Sheet2!A:G,4,FALSE))","v":""},"",{"$f":"IF(OR(E328=\"\",ISBLANK(E328)),\"\",VLOOKUP(E328,Sheet2!A:H,3,FALSE))","v":""},null,{"$f":"IF(OR(E328=\"\",ISBLANK(E328)),\"\",VLOOKUP(E328,Sheet2!A:G,6,FALSE))","v":""},""]
[{"$f":"IF(OR(E329=\"\",ISBLANK(E329)),\"\",VLOOKUP(E329,Sheet2!A:F,2,FALSE))","v":""},{"$f":"IF(OR(E329=\"\",ISBLANK(E329)),\"\",VLOOKUP(E329,Sheet2!A:G,4,FALSE))","v":""},"",{"$f":"IF(OR(E329=\"\",ISBLANK(E329)),\"\",VLOOKUP(E329,Sheet2!A:H,3,FALSE))","v":""},null,{"$f":"IF(OR(E329=\"\",ISBLANK(E329)),\"\",VLOOKUP(E329,Sheet2!A:G,6,FALSE))","v":""},""]
[{"$f":"IF(OR(E330=\"\",ISBLANK(E330)),\"\",VLOOKUP(E330,Sheet2!A:F,2,FALSE))","v":""},{"$f":"IF(OR(E330=\"\",ISBLANK(E330)),\"\",VLOOKUP(E330,Sheet2!A:G,4,FALSE))","v":""},"",{"$f":"IF(OR(E330=\"\",ISBLANK(E330)),\"\",VLOOKUP(E330,Sheet2!A:H,3,FALSE))","v":""},null,{"$f":"IF(OR(E330=\"\",ISBLANK(E330)),\"\",VLOOKUP(E330,Sheet2!A:G,6,FALSE))","v":""},""]
[{"$f":"IF(OR(E331=\"\",ISBLANK(E331)),\"\",VLOOKUP(E331,Sheet2!A:F,2,FALSE))","v":""},{"$f":"IF(OR(E331=\"\",ISBLANK(E331)),\"\",VLOOKUP(E331,Sheet2!A:G,4,FALSE))","v":""},"",{"$f":"IF(OR(E331=\"\",ISBLANK(E331)),\"\",VLOOKUP(E331,Sheet2!A:H,3,FALSE))","v":""},null,{"$f":"IF(OR(E331=\"\",ISBLANK(E331)),\"\",VLOOKUP(E331,Sheet2!A:G,6,FALSE))","v":""},""]
[{"$f":"IF(OR(E332=\"\",ISBLANK(E332)),\"\",VLOOKUP(E332,Sheet2!A:F,2,FALSE))","v":""},{"$f":"IF(OR(E332=\"\",ISBLANK(E332)),\"\",VLOOKUP(E332,Sheet2!A:G,4,FALSE))","v":""},"",{"$f":"IF(OR(E332=\"\",ISBLANK(E332)),\"\",VLOOKUP(E332,Sheet2!A:H,3,FALSE))","v":""},null,{"$f":"IF(OR(E332=\"\",ISBLANK(E332)),\"\",VLOOKUP(E332,Sheet2!A:G,6,FALSE))","v":""},""]
[{"$f":"IF(OR(E333=\"\",ISBLANK(E333)),\"\",VLOOKUP(E333,Sheet2!A:F,2,FALSE))","v":""},{"$f":"IF(OR(E333=\"\",ISBLANK(E333)),\"\",VLOOKUP(E333,Sheet2!A:G,4,FALSE))","v":""},"",{"$f":"IF(OR(E333=\"\",ISBLANK(E333)),\"\",VLOOKUP(E333,Sheet2!A:H,3,FALSE))","v":""},null,{"$f":"IF(OR(E333=\"\",ISBLANK(E333)),\"\",VLOOKUP(E333,Sheet2!A:G,6,FALSE))","v":""},""]
[{"$f":"IF(OR(E334=\"\",ISBLANK(E334)),\"\",VLOOKUP(E334,Sheet2!A:F,2,FALSE))","v":""},{"$f":"IF(OR(E334=\"\",ISBLANK(E334)),\"\",VLOOKUP(E334,Sheet2!A:G,4,FALSE))","v":""},"",{"$f":"IF(OR(E334=\"\",ISBLANK(E334)),\"\",VLOOKUP(E334,Sheet2!A:H,3,FALSE))","v":""},null,{"$f":"IF(OR(E334=\"\",ISBLANK(E334)),\"\",VLOOKUP(E334,Sheet2!A:G,6,FALSE))","v":""},""]
[{"$f":"IF(OR(E335=\"\",ISBLANK(E335)),\"\",VLOOKUP(E335,Sheet2!A:F,2,FALSE))","v":""},{"$f":"IF(OR(E335=\"\",ISBLANK(E335)),\"\",VLOOKUP(E335,Sheet2!A:G,4,FALSE))","v":""},"",{"$f":"IF(OR(E335=\"\",ISBLANK(E335)),\"\",VLOOKUP(E335,Sheet2!A:H,3,FALSE))","v":""},null,{"$f":"IF(OR(E335=\"\",ISBLANK(E335)),\"\",VLOOKUP(E335,Sheet2!A:G,6,FALSE))","v":""},""]
[{"$f":"IF(OR(E336=\"\",ISBLANK(E336)),\"\",VLOOKUP(E336,Sheet2!A:F,2,FALSE))","v":""},{"$f":"IF(OR(E336=\"\",ISBLANK(E336)),\"\",VLOOKUP(E336,Sheet2!A:G,4,FALSE))","v":""},"",{"$f":"IF(OR(E336=\"\",ISBLANK(E336)),\"\",VLOOKUP(E336,Sheet2!A:H,3,FALSE))","v":""},null,{"$f":"IF(OR(E336=\"\",ISBLANK(E336)),\"\",VLOOKUP(E336,Sheet2!A:G,6,FALSE))","v":""},""]
[{"$f":"IF(OR(E337=\"\",ISBLANK(E337)),\"\",VLOOKUP(E337,Sheet2!A:F,2,FALSE))","v":""},{"$f":"IF(OR(E337=\"\",ISBLANK(E337)),\"\",VLOOKUP(E337,Sheet2!A:G,4,FALSE))","v":""},"",{"$f":"IF(OR(E337=\"\",ISBLANK(E337)),\"\",VLOOKUP(E337,Sheet2!A:H,3,FALSE))","v":""},null,{"$f":"IF(OR(E337=\"\",ISBLANK(E337)),\"\",VLOOKUP(E337,Sheet2!A:G,6,FALSE))","v":""},""]
[{"$f":"IF(OR(E338=\"\",ISBLANK(E338)),\"\",VLOOKUP(E338,Sheet2!A:F,2,FALSE))","v":""},{"$f":"IF(OR(E338=\"\",ISBLANK(E338)),\"\",VLOOKUP(E338,Sheet2!A:G,4,FALSE))","v":""},"",{"$f":"IF(OR(E338=\"\",ISBLANK(E338)),\"\",VLOOKUP(E338,Sheet2!A:H,3,FALSE))","v":""},null,{"$f":"IF(OR(E338=\"\",ISBLANK(E338)),\"\",VLOOKUP(E338,Sheet2!A:G,6,FALSE))","v":""},""]
[{"$f":"IF(OR(E339=\"\",ISBLANK(E339)),\"\",VLOOKUP(E339,Sheet2!A:F,2,FALSE))","v":""},{"$f":"IF(OR(E339=\"\",ISBLANK(E339)),\"\",VLOOKUP(E339,Sheet2!A:G,4,FALSE))","v":""},"",{"$f":"IF(OR(E339=\"\",ISBLANK(E339)),\"\",VLOOKUP(E339,Sheet2!A:H,3,FALSE))","v":""},null,{"$f":"IF(OR(E339=\"\",ISBLANK(E339)),\"\",VLOOKUP(E339,Sheet2!A:G,6,FALSE))","v":""},""]
[{"$f":"IF(OR(E340=\"\",ISBLANK(E340)),\"\",VLOOKUP(E340,Sheet2!A:F,2,FALSE))","v":""},{"$f":"IF(OR(E340=\"\",ISBLANK(E340)),\"\",VLOOKUP(E340,Sheet2!A:G,4,FALSE))","v":""},"",{"$f":"IF(OR(E340=\"\",ISBLANK(E340)),\"\",VLOOKUP(E340,Sheet2!A:H,3,FALSE))","v":""},null,{"$f":"IF(OR(E340=\"\",ISBLANK(E340)),\"\",VLOOKUP(E340,Sheet2!A:G,6,FALSE))","v":""},""]
[{"$f":"IF(OR(E341=\"\",ISBLANK(E341)),\"\",VLOOKUP(E341,Sheet2!A:F,2,FALSE))","v":""},{"$f":"IF(OR(E341=\"\",ISBLANK(E341)),\"\",VLOOKUP(E341,Sheet2!A:G,4,FALSE))","v":""},"",{"$f":"IF(OR(E341=\"\",ISBLANK(E341)),\"\",VLOOKUP(E341,Sheet2!A:H,3,FALSE))","v":""},null,{"$f":"IF(OR(E341=\"\",ISBLANK(E341)),\"\",VLOOKUP(E341,Sheet2!A:G,6,FALSE))","v":""},""]
[{"$f":"IF(OR(E342=\"\",ISBLANK(E342)),\"\",VLOOKUP(E342,Sheet2!A:F,2,FALSE))","v":""},{"$f":"IF(OR(E342=\"\",ISBLANK(E342)),\"\",VLOOKUP(E342,Sheet2!A:G,4,FALSE))","v":""},"",{"$f":"IF(OR(E342=\"\",ISBLANK(E342)),\"\",VLOOKUP(E342,Sheet2!A:H,3,FALSE))","v":""},null,{"$f":"IF(OR(E342=\"\",ISBLANK(E342)),\"\",VLOOKUP(E342,Sheet2!A:G,6,FALSE))","v":""},""]
[{"$f":"IF(OR(E343=\"\",ISBLANK(E343)),\"\",VLOOKUP(E343,Sheet2!A:F,2,FALSE))","v":""},{"$f":"IF(OR(E343=\"\",ISBLANK(E343)),\"\",VLOOKUP(E343,Sheet2!A:G,4,FALSE))","v":""},"",{"$f":"IF(OR(E343=\"\",ISBLANK(E343)),\"\",VLOOKUP(E343,Sheet2!A:H,3,FALSE))","v":""},null,{"$f":"IF(OR(E343=\"\",ISBLANK(E343)),\"\",VLOOKUP(E343,Sheet2!A:G,6,FALSE))","v":""},""]
[{"$f":"IF(OR(E344=\"\",ISBLANK(E344)),\"\",VLOOKUP(E344,Sheet2!A:F,2,FALSE))","v":""},{"$f":"IF(OR(E344=\"\",ISBLANK(E344)),\"\",VLOOKUP(E344,Sheet2!A:G,4,FALSE))","v":""},"",{"$f":"IF(OR(E344=\"\",ISBLANK(E344)),\"\",VLOOKUP(E344,Sheet2!A:H,3,FALSE))","v":""},null,{"$f":"IF(OR(E344=\"\",ISBLANK(E344)),\"\",VLOOKUP(E344,Sheet2!A:G,6,FALSE))","v":""},""]
[{"$f":"IF(OR(E345=\"\",ISBLANK(E345)),\"\",VLOOKUP(E345,Sheet2!A:F,2,FALSE))","v":""},{"$f":"IF(OR(E345=\"\",ISBLANK(E345)),\"\",VLOOKUP(E345,Sheet2!A:G,4,FALSE))","v":""},"",{"$f":"IF(OR(E345=\"\",ISBLANK(E345)),\"\",VLOOKUP(E345,Sheet2!A:H,3,FALSE))","v":""},null,{"$f":"IF(OR(E345=\"\",ISBLANK(E345)),\"\",VLOOKUP(E345,Sheet2!A:G,6,FALSE))","v":""},""]
[{"$f":"IF(OR(E346=\"\",ISBLANK(E346)),\"\",VLOOKUP(E346,Sheet2!A:F,2,FALSE))","v":""},{"$f":"IF(OR(E346=\"\",ISBLANK(E346)),\"\",VLOOKUP(E346,Sheet2!A:G,4,FALSE))","v":""},"",{"$f":"IF(OR(E346=\"\",ISBLANK(E346)),\"\",VLOOKUP(E346,Sheet2!A:H,3,FALSE))","v":""},null,{"$f":"IF(OR(E346=\"\",ISBLANK(E346)),\"\",VLOOKUP(E346,Sheet2!A:G,6,FALSE))","v":""},""]
[{"$f":"IF(OR(E347=\"\",ISBLANK(E347)),\"\",VLOOKUP(E347,Sheet2!A:F,2,FALSE))","v":""},{"$f":"IF(OR(E347=\"\",ISBLANK(E347)),\"\",VLOOKUP(E347,Sheet2!A:G,4,FALSE))","v":""},"",{"$f":"IF(OR(E347=\"\",ISBLANK(E347)),\"\",VLOOKUP(E347,Sheet2!A:H,3,FALSE))","v":""},null,{"$f":"IF(OR(E347=\"\",ISBLANK(E347)),\"\",VLOOKUP(E347,Sheet2!A:G,6,FALSE))","v":""},""]
[{"$f":"IF(OR(E348=\"\",ISBLANK(E348)),\"\",VLOOKUP(E348,Sheet2!A:F,2,FALSE))","v":""},{"$f":"IF(OR(E348=\"\",ISBLANK(E348)),\"\",VLOOKUP(E348,Sheet2!A:G,4,FALSE))","v":""},"",{"$f":"IF(OR(E348=\"\",ISBLANK(E348)),\"\",VLOOKUP(E348,Sheet2!A:H,3,FALSE))","v":""},null,{"$f":"IF(OR(E348=\"\",ISBLANK(E348)),\"\",VLOOKUP(E348,Sheet2!A:G,6,FALSE))","v":""},""]
[{"$f":"IF(OR(E349=\"\",ISBLANK(E349)),\"\",VLOOKUP(E349,Sheet2!A:F,2,FALSE))","v":""},{"$f":"IF(OR(E349=\"\",ISBLANK(E349)),\"\",VLOOKUP(E349,Sheet2!A:G,4,FALSE))","v":""},"",{"$f":"IF(OR(E349=\"\",ISBLANK(E349)),\"\",VLOOKUP(E349,Sheet2!A:H,3,FALSE))","v":""},null,{"$f":"IF(OR(E349=\"\",ISBLANK(E349)),\"\",VLOOKUP(E349,Sheet2!A:G,6,FALSE))","v":""},""]
[{"$f":"IF(OR(E350=\"\",ISBLANK(E350)),\"\",VLOOKUP(E350,Sheet2!A:F,2,FALSE))","v":""},{"$f":"IF(OR(E350=\"\",ISBLANK(E350)),\"\",VLOOKUP(E350,Sheet2!A:G,4,FALSE))","v":""},"",{"$f":"IF(OR(E350=\"\",ISBLANK(E350)),\"\",VLOOKUP(E350,Sheet2!A:H,3,FALSE))","v":""},null,{"$f":"IF(OR(E350=\"\",ISBLANK(E350)),\"\",VLOOKUP(E350,Sheet2!A:G,6,FALSE))","v":""},""]
[{"$f":"IF(OR(E351=\"\",ISBLANK(E351)),\"\",VLOOKUP(E351,Sheet2!A:F,2,FALSE))","v":""},{"$f":"IF(OR(E351=\"\",ISBLANK(E351)),\"\",VLOOKUP(E351,Sheet2!A:G,4,FALSE))","v":""},"",{"$f":"IF(OR(E351=\"\",ISBLANK(E351)),\"\",VLOOKUP(E351,Sheet2!A:H,3,FALSE))","v":""},null,{"$f":"IF(OR(E351=\"\",ISBLANK(E351)),\"\",VLOOKUP(E351,Sheet2!A:G,6,FALSE))","v":""},""]
[{"$f":"IF(OR(E352=\"\",ISBLANK(E352)),\"\",VLOOKUP(E352,Sheet2!A:F,2,FALSE))","v":""},{"$f":"IF(OR(E352=\"\",ISBLANK(E352)),\"\",VLOOKUP(E352,Sheet2!A:G,4,FALSE))","v":""},"",{"$f":"IF(OR(E352=\"\",ISBLANK(E352)),\"\",VLOOKUP(E352,Sheet2!A:H,3,FALSE))","v":""},null,{"$f":"IF(OR(E352=\"\",ISBLANK(E352)),\"\",VLOOKUP(E352,Sheet2!A:G,6,FALSE))","v":""},""]
[{"$f":"IF(OR(E353=\"\",ISBLANK(E353)),\"\",VLOOKUP(E353,Sheet2!A:F,2,FALSE))","v":""},{"$f":"IF(OR(E353=\"\",ISBLANK(E353)),\"\",VLOOKUP(E353,Sheet2!A:G,4,FALSE))","v":""},"",{"$f":"IF(OR(E353=\"\",ISBLANK(E353)),\"\",VLOOKUP(E353,Sheet2!A:H,3,FALSE))","v":""},null,{"$f":"IF(OR(E353=\"\",ISBLANK(E353)),\"\",VLOOKUP(E353,Sheet2!A:G,6,FALSE))","v":""},""]
[{"$f":"IF(OR(E354=\"\",ISBLANK(E354)),\"\",VLOOKUP(E354,Sheet2!A:F,2,FALSE))","v":""},{"$f":"IF(OR(E354=\"\",ISBLANK(E354)),\"\",VLOOKUP(E354,Sheet2!A:G,4,FALSE))","v":""},"",{"$f":"IF(OR(E354=\"\",ISBLANK(E354)),\"\",VLOOKUP(E354,Sheet2!A:H,3,FALSE))","v":""},null,{"$f":"IF(OR(E354=\"\",ISBLANK(E354)),\"\",VLOOKUP(E354,Sheet2!A:G,6,FALSE))","v":""},""]
[{"$f":"IF(OR(E355=\"\",ISBLANK(E355)),\"\",VLOOKUP(E355,Sheet2!A:F,2,FALSE))","v":""},{"$f":"IF(OR(E355=\"\",ISBLANK(E355)),\"\",VLOOKUP(E355,Sheet2!A:G,4,FALSE))","v":""},"",{"$f":"IF(OR(E355=\"\",ISBLANK(E355)),\"\",VLOOKUP(E355,Sheet2!A:H,3,FALSE))","v":""},null,{"$f":"IF(OR(E355=\"\",ISBLANK(E355)),\"\",VLOOKUP(E355,Sheet2!A:G,6,FALSE))","v":""},""]
[{"$f":"IF(OR(E356=\"\",ISBLANK(E356)),\"\",VLOOKUP(E356,Sheet2!A:F,2,FALSE))","v":""},{"$f":"IF(OR(E356=\"\",ISBLANK(E356)),\"\",VLOOKUP(E356,Sheet2!A:G,4,FALSE))","v":""},"",{"$f":"IF(OR(E356=\"\",ISBLANK(E356)),\"\",VLOOKUP(E356,Sheet2!A:H,3,FALSE))","v":""},null,{"$f":"IF(OR(E356=\"\",ISBLANK(E356)),\"\",VLOOKUP(E356,Sheet2!A:G,6,FALSE))","v":""},""]
[{"$f":"IF(OR(E357=\"\",ISBLANK(E357)),\"\",VLOOKUP(E357,Sheet2!A:F,2,FALSE))","v":""},{"$f":"IF(OR(E357=\"\",ISBLANK(E357)),\"\",VLOOKUP(E357,Sheet2!A:G,4,FALSE))","v":""},"",{"$f":"IF(OR(E357=\"\",ISBLANK(E357)),\"\",VLOOKUP(E357,Sheet2!A:H,3,FALSE))","v":""},null,{"$f":"IF(OR(E357=\"\",ISBLANK(E357)),\"\",VLOOKUP(E357,Sheet2!A:G,6,FALSE))","v":""},""]
[{"$f":"IF(OR(E358=\"\",ISBLANK(E358)),\"\",VLOOKUP(E358,Sheet2!A:F,2,FALSE))","v":""},{"$f":"IF(OR(E358=\"\",ISBLANK(E358)),\"\",VLOOKUP(E358,Sheet2!A:G,4,FALSE))","v":""},"",{"$f":"IF(OR(E358=\"\",ISBLANK(E358)),\"\",VLOOKUP(E358,Sheet2!A:H,3,FALSE))","v":""},null,{"$f":"IF(OR(E358=\"\",ISBLANK(E358)),\"\",VLOOKUP(E358,Sheet2!A:G,6,FALSE))","v":""},""]
[{"$f":"IF(OR(E359=\"\",ISBLANK(E359)),\"\",VLOOKUP(E359,Sheet2!A:F,2,FALSE))","v":""},{"$f":"IF(OR(E359=\"\",ISBLANK(E359)),\"\",VLOOKUP(E359,Sheet2!A:G,4,FALSE))","v":""},"",{"$f":"IF(OR(E359=\"\",ISBLANK(E359)),\"\",VLOOKUP(E359,Sheet2!A:H,3,FALSE))","v":""},null,{"$f":"IF(OR(E359=\"\",ISBLANK(E359)),\"\",VLOOKUP(E359,Sheet2!A:G,6,FALSE))","v":""},""]
[{"$f":"IF(OR(E360=\"\",ISBLANK(E360)),\"\",VLOOKUP(E360,Sheet2!A:F,2,FALSE))","v":""},{"$f":"IF(OR(E360=\"\",ISBLANK(E360)),\"\",VLOOKUP(E360,Sheet2!A:G,4,FALSE))","v":""},"",{"$f":"IF(OR(E360=\"\",ISBLANK(E360)),\"\",VLOOKUP(E360,Sheet2!A:H,3,FALSE))","v":""},null,{"$f":"IF(OR(E360=\"\",ISBLANK(E360)),\"\",VLOOKUP(E360,Sheet2!A:G,6,FALSE))","v":""},""]
[{"$f":"IF(OR(E361=\"\",ISBLANK(E361)),\"\",VLOOKUP(E361,Sheet2!A:F,2,FALSE))","v":""},{"$f":"IF(OR(E361=\"\",ISBLANK(E361)),\"\",VLOOKUP(E361,Sheet2!A:G,4,FALSE))","v":""},"",{"$f":"IF(OR(E361=\"\",ISBLANK(E361)),\"\",VLOOKUP(E361,Sheet2!A:H,3,FALSE))","v":""},null,{"$f":"IF(OR(E361=\"\",ISBLANK(E361)),\"\",VLOOKUP(E361,Sheet2!A:G,6,FALSE))","v":""},""]
[{"$f":"IF(OR(E362=\"\",ISBLANK(E362)),\"\",VLOOKUP(E362,Sheet2!A:F,2,FALSE))","v":""},{"$f":"IF(OR(E362=\"\",ISBLANK(E362)),\"\",VLOOKUP(E362,Sheet2!A:G,4,FALSE))","v":""},"",{"$f":"IF(OR(E362=\"\",ISBLANK(E362)),\"\",VLOOKUP(E362,Sheet2!A:H,3,FALSE))","v":""},null,{"$f":"IF(OR(E362=\"\",ISBLANK(E362)),\"\",VLOOKUP(E362,Sheet2!A:G,6,FALSE))","v":""},""]
[{"$f":"IF(OR(E363=\"\",ISBLANK(E363)),\"\",VLOOKUP(E363,Sheet2!A:F,2,FALSE))","v":""},{"$f":"IF(OR(E363=\"\",ISBLANK(E363)),\"\",VLOOKUP(E363,Sheet2!A:G,4,FALSE))","v":""},"",{"$f":"IF(OR(E363=\"\",ISBLANK(E363)),\"\",VLOOKUP(E363,Sheet2!A:H,3,FALSE))","v":""},null,{"$f":"IF(OR(E363=\"\",ISBLANK(E363)),\"\",VLOOKUP(E363,Sheet2!A:G,6,FALSE))","v":""},""]
[{"$f":"IF(OR(E364=\"\",ISBLANK(E364)),\"\",VLOOKUP(E364,Sheet2!A:F,2,FALSE))","v":""},{"$f":"IF(OR(E364=\"\",ISBLANK(E364)),\"\",VLOOKUP(E364,Sheet2!A:G,4,FALSE))","v":""},"",{"$f":"IF(OR(E364=\"\",ISBLANK(E364)),\"\",VLOOKUP(E364,Sheet2!A:H,3,FALSE))","v":""},null,{"$f":"IF(OR(E364=\"\",ISBLANK(E364)),\"\",VLOOKUP(E364,Sheet2!A:G,6,FALSE))","v":""},""]
[{"$f":"IF(OR(E365=\"\",ISBLANK(E365)),\"\",VLOOKUP(E365,Sheet2!A:F,2,FALSE))","v":""},{"$f":"IF(OR(E365=\"\",ISBLANK(E365)),\"\",VLOOKUP(E365,Sheet2!A:G,4,FALSE))","v":""},"",{"$f":"IF(OR(E365=\"\",ISBLANK(E365)),\"\",VLOOKUP(E365,Sheet2!A:H,3,FALSE))","v":""},null,{"$f":"IF(OR(E365=\"\",ISBLANK(E365)),\"\",VLOOKUP(E365,Sheet2!A:G,6,FALSE))","v":""},""]
[{"$f":"IF(OR(E366=\"\",ISBLANK(E366)),\"\",VLOOKUP(E366,Sheet2!A:F,2,FALSE))","v":""},{"$f":"IF(OR(E366=\"\",ISBLANK(E366)),\"\",VLOOKUP(E366,Sheet2!A:G,4,FALSE))","v":""},"",{"$f":"IF(OR(E366=\"\",ISBLANK(E366)),\"\",VLOOKUP(E366,Sheet2!A:H,3,FALSE))","v":""},null,{"$f":"IF(OR(E366=\"\",ISBLANK(E366)),\"\",VLOOKUP(E366,Sheet2!A:G,6,FALSE))","v":""},""]
[{"$f":"IF(OR(E367=\"\",ISBLANK(E367)),\"\",VLOOKUP(E367,Sheet2!A:F,2,FALSE))","v":""},{"$f":"IF(OR(E367=\"\",ISBLANK(E367)),\"\",VLOOKUP(E367,Sheet2!A:G,4,FALSE))","v":""},"",{"$f":"IF(OR(E367=\"\",ISBLANK(E367)),\"\",VLOOKUP(E367,Sheet2!A:H,3,FALSE))","v":""},null,{"$f":"IF(OR(E367=\"\",ISBLANK(E367)),\"\",VLOOKUP(E367,Sheet2!A:G,6,FALSE))","v":""},""]
[{"$f":"IF(OR(E368=\"\",ISBLANK(E368)),\"\",VLOOKUP(E368,Sheet2!A:F,2,FALSE))","v":""},{"$f":"IF(OR(E368=\"\",ISBLANK(E368)),\"\",VLOOKUP(E368,Sheet2!A:G,4,FALSE))","v":""},"",{"$f":"IF(OR(E368=\"\",ISBLANK(E368)),\"\",VLOOKUP(E368,Sheet2!A:H,3,FALSE))","v":""},null,{"$f":"IF(OR(E368=\"\",ISBLANK(E368)),\"\",VLOOKUP(E368,Sheet2!A:G,6,FALSE))","v":""},""]
[{"$f":"IF(OR(E369=\"\",ISBLANK(E369)),\"\",VLOOKUP(E369,Sheet2!A:F,2,FALSE))","v":""},{"$f":"IF(OR(E369=\"\",ISBLANK(E369)),\"\",VLOOKUP(E369,Sheet2!A:G,4,FALSE))","v":""},"",{"$f":"IF(OR(E369=\"\",ISBLANK(E369)),\"\",VLOOKUP(E369,Sheet2!A:H,3,FALSE))","v":""},null,{"$f":"IF(OR(E369=\"\",ISBLANK(E369)),\"\",VLOOKUP(E369,Sheet2!A:G,6,FALSE))","v":""},""]
[{"$f":"IF(OR(E370=\"\",ISBLANK(E370)),\"\",VLOOKUP(E370,Sheet2!A:F,2,FALSE))","v":""},{"$f":"IF(OR(E370=\"\",ISBLANK(E370)),\"\",VLOOKUP(E370,Sheet2!A:G,4,FALSE))","v":""},"",{"$f":"IF(OR(E370=\"\",ISBLANK(E370)),\"\",VLOOKUP(E370,Sheet2!A:H,3,FALSE))","v":""},null,{"$f":"IF(OR(E370=\"\",ISBLANK(E370)),\"\",VLOOKUP(E370,Sheet2!A:G,6,FALSE))","v":""},""]
[{"$f":"IF(OR(E371=\"\",ISBLANK(E371)),\"\",VLOOKUP(E371,Sheet2!A:F,2,FALSE))","v":""},{"$f":"IF(OR(E371=\"\",ISBLANK(E371)),\"\",VLOOKUP(E371,Sheet2!A:G,4,FALSE))","v":""},"",{"$f":"IF(OR(E371=\"\",ISBLANK(E371)),\"\",VLOOKUP(E371,Sheet2!A:H,3,FALSE))","v":""},null,{"$f":"IF(OR(E371=\"\",ISBLANK(E371)),\"\",VLOOKUP(E371,Sheet2!A:G,6,FALSE))","v":""},""]
[{"$f":"IF(OR(E372=\"\",ISBLANK(E372)),\"\",VLOOKUP(E372,Sheet2!A:F,2,FALSE))","v":""},{"$f":"IF(OR(E372=\"\",ISBLANK(E372)),\"\",VLOOKUP(E372,Sheet2!A:G,4,FALSE))","v":""},"",{"$f":"IF(OR(E372=\"\",ISBLANK(E372)),\"\",VLOOKUP(E372,Sheet2!A:H,3,FALSE))","v":""},null,{"$f":"IF(OR(E372=\"\",ISBLANK(E372)),\"\",VLOOKUP(E372,Sheet2!A:G,6,FALSE))","v":""},""]
[{"$f":"IF(OR(E373=\"\",ISBLANK(E373)),\"\",VLOOKUP(E373,Sheet2!A:F,2,FALSE))","v":""},{"$f":"IF(OR(E373=\"\",ISBLANK(E373)),\"\",VLOOKUP(E373,Sheet2!A:G,4,FALSE))","v":""},"",{"$f":"IF(OR(E373=\"\",ISBLANK(E373)),\"\",VLOOKUP(E373,Sheet2!A:H,3,FALSE))","v":""},null,{"$f":"IF(OR(E373=\"\",ISBLANK(E373)),\"\",VLOOKUP(E373,Sheet2!A:G,6,FALSE))","v":""},""]
[{"$f":"IF(OR(E374=\"\",ISBLANK(E374)),\"\",VLOOKUP(E374,Sheet2!A:F,2,FALSE))","v":""},{"$f":"IF(OR(E374=\"\",ISBLANK(E374)),\"\",VLOOKUP(E374,Sheet2!A:G,4,FALSE))","v":""},"",{"$f":"IF(OR(E374=\"\",ISBLANK(E374)),\"\",VLOOKUP(E374,Sheet2!A:H,3,FALSE))","v":""},null,{"$f":"IF(OR(E374=\"\",ISBLANK(E374)),\"\",VLOOKUP(E374,Sheet2!A:G,6,FALSE))","v":""},""]
[{"$f":"IF(OR(E375=\"\",ISBLANK(E375)),\"\",VLOOKUP(E375,Sheet2!A:F,2,FALSE))","v":""},{"$f":"IF(OR(E375=\"\",ISBLANK(E375)),\"\",VLOOKUP(E375,Sheet2!A:G,4,FALSE))","v":""},"",{"$f":"IF(OR(E375=\"\",ISBLANK(E375)),\"\",VLOOKUP(E375,Sheet2!A:H,3,FALSE))","v":""},null,{"$f":"IF(OR(E375=\"\",ISBLANK(E375)),\"\",VLOOKUP(E375,Sheet2!A:G,6,FALSE))","v":""},""]
[{"$f":"IF(OR(E376=\"\",ISBLANK(E376)),\"\",VLOOKUP(E376,Sheet2!A:F,2,FALSE))","v":""},{"$f":"IF(OR(E376=\"\",ISBLANK(E376)),\"\",VLOOKUP(E376,Sheet2!A:G,4,FALSE))","v":""},"",{"$f":"IF(OR(E376=\"\",ISBLANK(E376)),\"\",VLOOKUP(E376,Sheet2!A:H,3,FALSE))","v":""},null,{"$f":"IF(OR(E376=\"\",ISBLANK(E376)),\"\",VLOOKUP(E376,Sheet2!A:G,6,FALSE))","v":""},""]
[{"$f":"IF(OR(E377=\"\",ISBLANK(E377)),\"\",VLOOKUP(E377,Sheet2!A:F,2,FALSE))","v":""},{"$f":"IF(OR(E377=\"\",ISBLANK(E377)),\"\",VLOOKUP(E377,Sheet2!A:G,4,FALSE))","v":""},"",{"$f":"IF(OR(E377=\"\",ISBLANK(E377)),\"\",VLOOKUP(E377,Sheet2!A:H,3,FALSE))","v":""},null,{"$f":"IF(OR(E377=\"\",ISBLANK(E377)),\"\",VLOOKUP(E377,Sheet2!A:G,6,FALSE))","v":""},""]
[{"$f":"IF(OR(E378=\"\",ISBLANK(E378)),\"\",VLOOKUP(E378,Sheet2!A:F,2,FALSE))","v":""},{"$f":"IF(OR(E378=\"\",ISBLANK(E378)),\"\",VLOOKUP(E378,Sheet2!A:G,4,FALSE))","v":""},"",{"$f":"IF(OR(E378=\"\",ISBLANK(E378)),\"\",VLOOKUP(E378,Sheet2!A:H,3,FALSE))","v":""},null,{"$f":"IF(OR(E378=\"\",ISBLANK(E378)),\"\",VLOOKUP(E378,Sheet2!A:G,6,FALSE))","v":""},""]
[{"$f":"IF(OR(E379=\"\",ISBLANK(E379)),\"\",VLOOKUP(E379,Sheet2!A:F,2,FALSE))","v":""},{"$f":"IF(OR(E379=\"\",ISBLANK(E379)),\"\",VLOOKUP(E379,Sheet2!A:G,4,FALSE))","v":""},"",{"$f":"IF(OR(E379=\"\",ISBLANK(E379)),\"\",VLOOKUP(E379,Sheet2!A:H,3,FALSE))","v":""},null,{"$f":"IF(OR(E379=\"\",ISBLANK(E379)),\"\",VLOOKUP(E379,Sheet2!A:G,6,FALSE))","v":""},""]
[{"$f":"IF(OR(E380=\"\",ISBLANK(E380)),\"\",VLOOKUP(E380,Sheet2!A:F,2,FALSE))","v":""},{"$f":"IF(OR(E380=\"\",ISBLANK(E380)),\"\",VLOOKUP(E380,Sheet2!A:G,4,FALSE))","v":""},"",{"$f":"IF(OR(E380=\"\",ISBLANK(E380)),\"\",VLOOKUP(E380,Sheet2!A:H,3,FALSE))","v":""},null,{"$f":"IF(OR(E380=\"\",ISBLANK(E380)),\"\",VLOOKUP(E380,Sheet2!A:G,6,FALSE))","v":""},""]
[{"$f":"IF(OR(E381=\"\",ISBLANK(E381)),\"\",VLOOKUP(E381,Sheet2!A:F,2,FALSE))","v":""},{"$f":"IF(OR(E381=\"\",ISBLANK(E381)),\"\",VLOOKUP(E381,Sheet2!A:G,4,FALSE))","v":""},"",{"$f":"IF(OR(E381=\"\",ISBLANK(E381)),\"\",VLOOKUP(E381,Sheet2!A:H,3,FALSE))","v":""},null,{"$f":"IF(OR(E381=\"\",ISBLANK(E381)),\"\",VLOOKUP(E381,Sheet2!A:G,6,FALSE))","v":""},""]
[{"$f":"IF(OR(E382=\"\",ISBLANK(E382)),\"\",VLOOKUP(E382,Sheet2!A:F,2,FALSE))","v":""},{"$f":"IF(OR(E382=\"\",ISBLANK(E382)),\"\",VLOOKUP(E382,Sheet2!A:G,4,FALSE))","v":""},"",{"$f":"IF(OR(E382=\"\",ISBLANK(E382)),\"\",VLOOKUP(E382,Sheet2!A:H,3,FALSE))","v":""},null,{"$f":"IF(OR(E382=\"\",ISBLANK(E382)),\"\",VLOOKUP(E382,Sheet2!A:G,6,FALSE))","v":""},""]
[{"$f":"IF(OR(E383=\"\",ISBLANK(E383)),\"\",VLOOKUP(E383,Sheet2!A:F,2,FALSE))","v":""},{"$f":"IF(OR(E383=\"\",ISBLANK(E383)),\"\",VLOOKUP(E383,Sheet2!A:G,4,FALSE))","v":""},"",{"$f":"IF(OR(E383=\"\",ISBLANK(E383)),\"\",VLOOKUP(E383,Sheet2!A:H,3,FALSE))","v":""},null,{"$f":"IF(OR(E383=\"\",ISBLANK(E383)),\"\",VLOOKUP(E383,Sheet2!A:G,6,FALSE))","v":""},""]
[{"$f":"IF(OR(E384=\"\",ISBLANK(E384)),\"\",VLOOKUP(E384,Sheet2!A:F,2,FALSE))","v":""},{"$f":"IF(OR(E384=\"\",ISBLANK(E384)),\"\",VLOOKUP(E384,Sheet2!A:G,4,FALSE))","v":""},"",{"$f":"IF(OR(E384=\"\",ISBLANK(E384)),\"\",VLOOKUP(E384,Sheet2!A:H,3,FALSE))","v":""},null,{"$f":"IF(OR(E384=\"\",ISBLANK(E384)),\"\",VLOOKUP(E384,Sheet2!A:G,6,FALSE))","v":""},""]
[{"$f":"IF(OR(E385=\"\",ISBLANK(E385)),\"\",VLOOKUP(E385,Sheet2!A:F,2,FALSE))","v":""},{"$f":"IF(OR(E385=\"\",ISBLANK(E385)),\"\",VLOOKUP(E385,Sheet2!A:G,4,FALSE))","v":""},"",{"$f":"IF(OR(E385=\"\",ISBLANK(E385)),\"\",VLOOKUP(E385,Sheet2!A:H,3,FALSE))","v":""},null,{"$f":"IF(OR(E385=\"\",ISBLANK(E385)),\"\",VLOOKUP(E385,Sheet2!A:G,6,FALSE))","v":""},""]
[{"$f":"IF(OR(E386=\"\",ISBLANK(E386)),\"\",VLOOKUP(E386,Sheet2!A:F,2,FALSE))","v":""},{"$f":"IF(OR(E386=\"\",ISBLANK(E386)),\"\",VLOOKUP(E386,Sheet2!A:G,4,FALSE))","v":""},"",{"$f":"IF(OR(E386=\"\",ISBLANK(E386)),\"\",VLOOKUP(E386,Sheet2!A:H,3,FALSE))","v":""},null,{"$f":"IF(OR(E386=\"\",ISBLANK(E386)),\"\",VLOOKUP(E386,Sheet2!A:G,6,FALSE))","v":""},""]
[{"$f":"IF(OR(E387=\"\",ISBLANK(E387)),\"\",VLOOKUP(E387,Sheet2!A:F,2,FALSE))","v":""},{"$f":"IF(OR(E387=\"\",ISBLANK(E387)),\"\",VLOOKUP(E387,Sheet2!A:G,4,FALSE))","v":""},{"$f":"IF(D387=0,\"\",D387)","v":""},{"$f":"IF(OR(E387=\"\",ISBLANK(E387)),\"\",VLOOKUP(E387,Sheet2!A:H,3,FALSE))","v":""},null,{"$f":"IF(OR(E387=\"\",ISBLANK(E387)),\"\",VLOOKUP(E387,Sheet2!A:G,6,FALSE))","v":""},{"$f":"IF(F387=0,\"\",F387)","v":""}]
[{"$f":"IF(OR(E388=\"\",ISBLANK(E388)),\"\",VLOOKUP(E388,Sheet2!A:F,2,FALSE))","v":""},{"$f":"IF(OR(E388=\"\",ISBLANK(E388)),\"\",VLOOKUP(E388,Sheet2!A:G,4,FALSE))","v":""},"",{"$f":"IF(OR(E388=\"\",ISBLANK(E388)),\"\",VLOOKUP(E388,Sheet2!A:H,3,FALSE))","v":""},null,{"$f":"IF(OR(E388=\"\",ISBLANK(E388)),\"\",VLOOKUP(E388,Sheet2!A:G,6,FALSE))","v":""},""]
[{"$f":"IF(OR(E389=\"\",ISBLANK(E389)),\"\",VLOOKUP(E389,Sheet2!A:F,2,FALSE))","v":""},{"$f":"IF(OR(E389=\"\",ISBLANK(E389)),\"\",VLOOKUP(E389,Sheet2!A:G,4,FALSE))","v":""},"",{"$f":"IF(OR(E389=\"\",ISBLANK(E389)),\"\",VLOOKUP(E389,Sheet2!A:H,3,FALSE))","v":""},null,{"$f":"IF(OR(E389=\"\",ISBLANK(E389)),\"\",VLOOKUP(E389,Sheet2!A:G,6,FALSE))","v":""},""]
[{"$f":"IF(OR(E390=\"\",ISBLANK(E390)),\"\",VLOOKUP(E390,Sheet2!A:F,2,FALSE))","v":""},{"$f":"IF(OR(E390=\"\",ISBLANK(E390)),\"\",VLOOKUP(E390,Sheet2!A:G,4,FALSE))","v":""},"",{"$f":"IF(OR(E390=\"\",ISBLANK(E390)),\"\",VLOOKUP(E390,Sheet2!A:H,3,FALSE))","v":""},null,{"$f":"IF(OR(E390=\"\",ISBLANK(E390)),\"\",VLOOKUP(E390,Sheet2!A:G,6,FALSE))","v":""},""]
[{"$f":"IF(OR(E391=\"\",ISBLANK(E391)),\"\",VLOOKUP(E391,Sheet2!A:F,2,FALSE))","v":""},{"$f":"IF(OR(E391=\"\",ISBLANK(E391)),\"\",VLOOKUP(E391,Sheet2!A:G,4,FALSE))","v":""},"",{"$f":"IF(OR(E391=\"\",ISBLANK(E391)),\"\",VLOOKUP(E391,Sheet2!A:H,3,FALSE))","v":""},null,{"$f":"IF(OR(E391=\"\",ISBLANK(E391)),\"\",VLOOKUP(E391,Sheet2!A:G,6,FALSE))","v":""},""]
[{"$f":"IF(OR(E392=\"\",ISBLANK(E392)),\"\",VLOOKUP(E392,Sheet2!A:F,2,FALSE))","v":""},{"$f":"IF(OR(E392=\"\",ISBLANK(E392)),\"\",VLOOKUP(E392,Sheet2!A:G,4,FALSE))","v":""},"",{"$f":"IF(OR(E392=\"\",ISBLANK(E392)),\"\",VLOOKUP(E392,Sheet2!A:H,3,FALSE))","v":""},null,{"$f":"IF(OR(E392=\"\",ISBLANK(E392)),\"\",VLOOKUP(E392,Sheet2!A:G,6,FALSE))","v":""},""]
[{"$f":"IF(OR(E393=\"\",ISBLANK(E393)),\"\",VLOOKUP(E393,Sheet2!A:F,2,FALSE))","v":""},{"$f":"IF(OR(E393=\"\",ISBLANK(E393)),\"\",VLOOKUP(E393,Sheet2!A:G,4,FALSE))","v":""},"",{"$f":"IF(OR(E393=\"\",ISBLANK(E393)),\"\",VLOOKUP(E393,Sheet2!A:H,3,FALSE))","v":""},null,{"$f":"IF(OR(E393=\"\",ISBLANK(E393)),\"\",VLOOKUP(E393,Sheet2!A:G,6,FALSE))","v":""},""]
[{"$f":"IF(OR(E394=\"\",ISBLANK(E394)),\"\",VLOOKUP(E394,Sheet2!A:F,2,FALSE))","v":""},{"$f":"IF(OR(E394=\"\",ISBLANK(E394)),\"\",VLOOKUP(E394,Sheet2!A:G,4,FALSE))","v":""},"",{"$f":"IF(OR(E394=\"\",ISBLANK(E394)),\"\",VLOOKUP(E394,Sheet2!A:H,3,FALSE))","v":""},null,{"$f":"IF(OR(E394=\"\",ISBLANK(E394)),\"\",VLOOKUP(E394,Sheet2!A:G,6,FALSE))","v":""},""]
[{"$f":"IF(OR(E395=\"\",ISBLANK(E395)),\"\",VLOOKUP(E395,Sheet2!A:F,2,FALSE))","v":""},{"$f":"IF(OR(E395=\"\",ISBLANK(E395)),\"\",VLOOKUP(E395,Sheet2!A:G,4,FALSE))","v":""},"",{"$f":"IF(OR(E395=\"\",ISBLANK(E395)),\"\",VLOOKUP(E395,Sheet2!A:H,3,FALSE))","v":""},null,{"$f":"IF(OR(E395=\"\",ISBLANK(E395)),\"\",VLOOKUP(E395,Sheet2!A:G,6,FALSE))","v":""},""]
[{"$f":"IF(OR(E396=\"\",ISBLANK(E396)),\"\",VLOOKUP(E396,Sheet2!A:F,2,FALSE))","v":""},{"$f":"IF(OR(E396=\"\",ISBLANK(E396)),\"\",VLOOKUP(E396,Sheet2!A:G,4,FALSE))","v":""},"",{"$f":"IF(OR(E396=\"\",ISBLANK(E396)),\"\",VLOOKUP(E396,Sheet2!A:H,3,FALSE))","v":""},null,{"$f":"IF(OR(E396=\"\",ISBLANK(E396)),\"\",VLOOKUP(E396,Sheet2!A:G,6,FALSE))","v":""},""]
[{"$f":"IF(OR(E397=\"\",ISBLANK(E397)),\"\",VLOOKUP(E397,Sheet2!A:F,2,FALSE))","v":""},{"$f":"IF(OR(E397=\"\",ISBLANK(E397)),\"\",VLOOKUP(E397,Sheet2!A:G,4,FALSE))","v":""},"",{"$f":"IF(OR(E397=\"\",ISBLANK(E397)),\"\",VLOOKUP(E397,Sheet2!A:H,3,FALSE))","v":""},null,{"$f":"IF(OR(E397=\"\",ISBLANK(E397)),\"\",VLOOKUP(E397,Sheet2!A:G,6,FALSE))","v":""},""]
[{"$f":"IF(OR(E398=\"\",ISBLANK(E398)),\"\",VLOOKUP(E398,Sheet2!A:F,2,FALSE))","v":""},{"$f":"IF(OR(E398=\"\",ISBLANK(E398)),\"\",VLOOKUP(E398,Sheet2!A:G,4,FALSE))","v":""},"",{"$f":"IF(OR(E398=\"\",ISBLANK(E398)),\"\",VLOOKUP(E398,Sheet2!A:H,3,FALSE))","v":""},null,{"$f":"IF(OR(E398=\"\",ISBLANK(E398)),\"\",VLOOKUP(E398,Sheet2!A:G,6,FALSE))","v":""},""]
[{"$f":"IF(OR(E399=\"\",ISBLANK(E399)),\"\",VLOOKUP(E399,Sheet2!A:F,2,FALSE))","v":""},{"$f":"IF(OR(E399=\"\",ISBLANK(E399)),\"\",VLOOKUP(E399,Sheet2!A:G,4,FALSE))","v":""},"",{"$f":"IF(OR(E399=\"\",ISBLANK(E399)),\"\",VLOOKUP(E399,Sheet2!A:H,3,FALSE))","v":""},null,{"$f":"IF(OR(E399=\"\",ISBLANK(E399)),\"\",VLOOKUP(E399,Sheet2!A:G,6,FALSE))","v":""},""]
[{"$f":"IF(OR(E400=\"\",ISBLANK(E400)),\"\",VLOOKUP(E400,Sheet2!A:F,2,FALSE))","v":""},{"$f":"IF(OR(E400=\"\",ISBLANK(E400)),\"\",VLOOKUP(E400,Sheet2!A:G,4,FALSE))","v":""},"",{"$f":"IF(OR(E400=\"\",ISBLANK(E400)),\"\",VLOOKUP(E400,Sheet2!A:H,3,FALSE))","v":""},null,{"$f":"IF(OR(E400=\"\",ISBLANK(E400)),\"\",VLOOKUP(E400,Sheet2!A:G,6,FALSE))","v":""},""]
[{"$f":"IF(OR(E401=\"\",ISBLANK(E401)),\"\",VLOOKUP(E401,Sheet2!A:F,2,FALSE))","v":""},{"$f":"IF(OR(E401=\"\",ISBLANK(E401)),\"\",VLOOKUP(E401,Sheet2!A:G,4,FALSE))","v":""},"",{"$f":"IF(OR(E401=\"\",ISBLANK(E401)),\"\",VLOOKUP(E401,Sheet2!A:H,3,FALSE))","v":""},null,{"$f":"IF(OR(E401=\"\",ISBLANK(E401)),\"\",VLOOKUP(E401,Sheet2!A:G,6,FALSE))","v":""},""]
[{"$f":"IF(OR(E402=\"\",ISBLANK(E402)),\"\",VLOOKUP(E402,Sheet2!A:F,2,FALSE))","v":""},{"$f":"IF(OR(E402=\"\",ISBLANK(E402)),\"\",VLOOKUP(E402,Sheet2!A:G,4,FALSE))","v":""},"",{"$f":"IF(OR(E402=\"\",ISBLANK(E402)),\"\",VLOOKUP(E402,Sheet2!A:H,3,FALSE))","v":""},null,{"$f":"IF(OR(E402=\"\",ISBLANK(E402)),\"\",VLOOKUP(E402,Sheet2!A:G,6,FALSE))","v":""},""]
[{"$f":"IF(OR(E403=\"\",ISBLANK(E403)),\"\",VLOOKUP(E403,Sheet2!A:F,2,FALSE))","v":""},{"$f":"IF(OR(E403=\"\",ISBLANK(E403)),\"\",VLOOKUP(E403,Sheet2!A:G,4,FALSE))","v":""},"",{"$f":"IF(OR(E403=\"\",ISBLANK(E403)),\"\",VLOOKUP(E403,Sheet2!A:H,3,FALSE))","v":""},null,{"$f":"IF(OR(E403=\"\",ISBLANK(E403)),\"\",VLOOKUP(E403,Sheet2!A:G,6,FALSE))","v":""},""]
[{"$f":"IF(OR(E404=\"\",ISBLANK(E404)),\"\",VLOOKUP(E404,Sheet2!A:F,2,FALSE))","v":""},{"$f":"IF(OR(E404=\"\",ISBLANK(E404)),\"\",VLOOKUP(E404,Sheet2!A:G,4,FALSE))","v":""},"",{"$f":"IF(OR(E404=\"\",ISBLANK(E404)),\"\",VLOOKUP(E404,Sheet2!A:H,3,FALSE))","v":""},null,{"$f":"IF(OR(E404=\"\",ISBLANK(E404)),\"\",VLOOKUP(E404,Sheet2!A:G,6,FALSE))","v":""},""]
[{"$f":"IF(OR(E405=\"\",ISBLANK(E405)),\"\",VLOOKUP(E405,Sheet2!A:F,2,FALSE))","v":""},{"$f":"IF(OR(E405=\"\",ISBLANK(E405)),\"\",VLOOKUP(E405,Sheet2!A:G,4,FALSE))","v":""},"",{"$f":"IF(OR(E405=\"\",ISBLANK(E405)),\"\",VLOOKUP(E405,Sheet2!A:H,3,FALSE))","v":""},null,{"$f":"IF(OR(E405=\"\",ISBLANK(E405)),\"\",VLOOKUP(E405,Sheet2!A:G,6,FALSE))","v":""},""]
[{"$f":"IF(OR(E406=\"\",ISBLANK(E406)),\"\",VLOOKUP(E406,Sheet2!A:F,2,FALSE))","v":""},{"$f":"IF(OR(E406=\"\",ISBLANK(E406)),\"\",VLOOKUP(E406,Sheet2!A:G,4,FALSE))","v":""},"",{"$f":"IF(OR(E406=\"\",ISBLANK(E406)),\"\",VLOOKUP(E406,Sheet2!A:H,3,FALSE))","v":""},null,{"$f":"IF(OR(E406=\"\",ISBLANK(E406)),\"\",VLOOKUP(E406,Sheet2!A:G,6,FALSE))","v":""},""]
[{"$f":"IF(OR(E407=\"\",ISBLANK(E407)),\"\",VLOOKUP(E407,Sheet2!A:F,2,FALSE))","v":""},{"$f":"IF(OR(E407=\"\",ISBLANK(E407)),\"\",VLOOKUP(E407,Sheet2!A:G,4,FALSE))","v":""},"",{"$f":"IF(OR(E407=\"\",ISBLANK(E407)),\"\",VLOOKUP(E407,Sheet2!A:H,3,FALSE))","v":""},null,{"$f":"IF(OR(E407=\"\",ISBLANK(E407)),\"\",VLOOKUP(E407,Sheet2!A:G,6,FALSE))","v":""},""]
[{"$f":"IF(OR(E408=\"\",ISBLANK(E408)),\"\",VLOOKUP(E408,Sheet2!A:F,2,FALSE))","v":""},{"$f":"IF(OR(E408=\"\",ISBLANK(E408)),\"\",VLOOKUP(E408,Sheet2!A:G,4,FALSE))","v":""},"",{"$f":"IF(OR(E408=\"\",ISBLANK(E408)),\"\",VLOOKUP(E408,Sheet2!A:H,3,FALSE))","v":""},null,{"$f":"IF(OR(E408=\"\",ISBLANK(E408)),\"\",VLOOKUP(E408,Sheet2!A:G,6,FALSE))","v":""},""]
[{"$f":"IF(OR(E409=\"\",ISBLANK(E409)),\"\",VLOOKUP(E409,Sheet2!A:F,2,FALSE))","v":""},{"$f":"IF(OR(E409=\"\",ISBLANK(E409)),\"\",VLOOKUP(E409,Sheet2!A:G,4,FALSE))","v":""},"",{"$f":"IF(OR(E409=\"\",ISBLANK(E409)),\"\",VLOOKUP(E409,Sheet2!A:H,3,FALSE))","v":""},null,{"$f":"IF(OR(E409=\"\",ISBLANK(E409)),\"\",VLOOKUP(E409,Sheet2!A:G,6,FALSE))","v":""},""]
[{"$f":"IF(OR(E410=\"\",ISBLANK(E410)),\"\",VLOOKUP(E410,Sheet2!A:F,2,FALSE))","v":""},{"$f":"IF(OR(E410=\"\",ISBLANK(E410)),\"\",VLOOKUP(E410,Sheet2!A:G,4,FALSE))","v":""},"",{"$f":"IF(OR(E410=\"\",ISBLANK(E410)),\"\",VLOOKUP(E410,Sheet2!A:H,3,FALSE))","v":""},null,{"$f":"IF(OR(E410=\"\",ISBLANK(E410)),\"\",VLOOKUP(E410,Sheet2!A:G,6,FALSE))","v":""},""]
[{"$f":"IF(OR(E411=\"\",ISBLANK(E411)),\"\",VLOOKUP(E411,Sheet2!A:F,2,FALSE))","v":""},{"$f":"IF(OR(E411=\"\",ISBLANK(E411)),\"\",VLOOKUP(E411,Sheet2!A:G,4,FALSE))","v":""},"",{"$f":"IF(OR(E411=\"\",ISBLANK(E411)),\"\",VLOOKUP(E411,Sheet2!A:H,3,FALSE))","v":""},null,{"$f":"IF(OR(E411=\"\",ISBLANK(E411)),\"\",VLOOKUP(E411,Sheet2!A:G,6,FALSE))","v":""},""]
[{"$f":"IF(OR(E412=\"\",ISBLANK(E412)),\"\",VLOOKUP(E412,Sheet2!A:F,2,FALSE))","v":""},{"$f":"IF(OR(E412=\"\",ISBLANK(E412)),\"\",VLOOKUP(E412,Sheet2!A:G,4,FALSE))","v":""},"",{"$f":"IF(OR(E412=\"\",ISBLANK(E412)),\"\",VLOOKUP(E412,Sheet2!A:H,3,FALSE))","v":""},null,{"$f":"IF(OR(E412=\"\",ISBLANK(E412)),\"\",VLOOKUP(E412,Sheet2!A:G,6,FALSE))","v":""},""]
[{"$f":"IF(OR(E413=\"\",ISBLANK(E413)),\"\",VLOOKUP(E413,Sheet2!A:F,2,FALSE))","v":""},{"$f":"IF(OR(E413=\"\",ISBLANK(E413)),\"\",VLOOKUP(E413,Sheet2!A:G,4,FALSE))","v":""},"",{"$f":"IF(OR(E413=\"\",ISBLANK(E413)),\"\",VLOOKUP(E413,Sheet2!A:H,3,FALSE))","v":""},null,{"$f":"IF(OR(E413=\"\",ISBLANK(E413)),\"\",VLOOKUP(E413,Sheet2!A:G,6,FALSE))","v":""},""]
[{"$f":"IF(OR(E414=\"\",ISBLANK(E414)),\"\",VLOOKUP(E414,Sheet2!A:F,2,FALSE))","v":""},{"$f":"IF(OR(E414=\"\",ISBLANK(E414)),\"\",VLOOKUP(E414,Sheet2!A:G,4,FALSE))","v":""},"",{"$f":"IF(OR(E414=\"\",ISBLANK(E414)),\"\",VLOOKUP(E414,Sheet2!A:H,3,FALSE))","v":""},null,{"$f":"IF(OR(E414=\"\",ISBLANK(E414)),\"\",VLOOKUP(E414,Sheet2!A:G,6,FALSE))","v":""},""]
[{"$f":"IF(OR(E415=\"\",ISBLANK(E415)),\"\",VLOOKUP(E415,Sheet2!A:F,2,FALSE))","v":""},{"$f":"IF(OR(E415=\"\",ISBLANK(E415)),\"\",VLOOKUP(E415,Sheet2!A:G,4,FALSE))","v":""},"",{"$f":"IF(OR(E415=\"\",ISBLANK(E415)),\"\",VLOOKUP(E415,Sheet2!A:H,3,FALSE))","v":""},null,{"$f":"IF(OR(E415=\"\",ISBLANK(E415)),\"\",VLOOKUP(E415,Sheet2!A:G,6,FALSE))","v":""},""]
[{"$f":"IF(OR(E416=\"\",ISBLANK(E416)),\"\",VLOOKUP(E416,Sheet2!A:F,2,FALSE))","v":""},{"$f":"IF(OR(E416=\"\",ISBLANK(E416)),\"\",VLOOKUP(E416,Sheet2!A:G,4,FALSE))","v":""},"",{"$f":"IF(OR(E416=\"\",ISBLANK(E416)),\"\",VLOOKUP(E416,Sheet2!A:H,3,FALSE))","v":""},null,{"$f":"IF(OR(E416=\"\",ISBLANK(E416)),\"\",VLOOKUP(E416,Sheet2!A:G,6,FALSE))","v":""},""]
[{"$f":"IF(OR(E417=\"\",ISBLANK(E417)),\"\",VLOOKUP(E417,Sheet2!A:F,2,FALSE))","v":""},{"$f":"IF(OR(E417=\"\",ISBLANK(E417)),\"\",VLOOKUP(E417,Sheet2!A:G,4,FALSE))","v":""},"",{"$f":"IF(OR(E417=\"\",ISBLANK(E417)),\"\",VLOOKUP(E417,Sheet2!A:H,3,FALSE))","v":""},null,{"$f":"IF(OR(E417=\"\",ISBLANK(E417)),\"\",VLOOKUP(E417,Sheet2!A:G,6,FALSE))","v":""},""]
[{"$f":"IF(OR(E418=\"\",ISBLANK(E418)),\"\",VLOOKUP(E418,Sheet2!A:F,2,FALSE))","v":""},{"$f":"IF(OR(E418=\"\",ISBLANK(E418)),\"\",VLOOKUP(E418,Sheet2!A:G,4,FALSE))","v":""},"",{"$f":"IF(OR(E418=\"\",ISBLANK(E418)),\"\",VLOOKUP(E418,Sheet2!A:H,3,FALSE))","v":""},null,{"$f":"IF(OR(E418=\"\",ISBLANK(E418)),\"\",VLOOKUP(E418,Sheet2!A:G,6,FALSE))","v":""},""]
[{"$f":"IF(OR(E419=\"\",ISBLANK(E419)),\"\",VLOOKUP(E419,Sheet2!A:F,2,FALSE))","v":""},{"$f":"IF(OR(E419=\"\",ISBLANK(E419)),\"\",VLOOKUP(E419,Sheet2!A:G,4,FALSE))","v":""},"",{"$f":"IF(OR(E419=\"\",ISBLANK(E419)),\"\",VLOOKUP(E419,Sheet2!A:H,3,FALSE))","v":""},null,{"$f":"IF(OR(E419=\"\",ISBLANK(E419)),\"\",VLOOKUP(E419,Sheet2!A:G,6,FALSE))","v":""},""]
[{"$f":"IF(OR(E420=\"\",ISBLANK(E420)),\"\",VLOOKUP(E420,Sheet2!A:F,2,FALSE))","v":""},{"$f":"IF(OR(E420=\"\",ISBLANK(E420)),\"\",VLOOKUP(E420,Sheet2!A:G,4,FALSE))","v":""},"",{"$f":"IF(OR(E420=\"\",ISBLANK(E420)),\"\",VLOOKUP(E420,Sheet2!A:H,3,FALSE))","v":""},null,{"$f":"IF(OR(E420=\"\",ISBLANK(E420)),\"\",VLOOKUP(E420,Sheet2!A:G,6,FALSE))","v":""},""]
[{"$f":"IF(OR(E421=\"\",ISBLANK(E421)),\"\",VLOOKUP(E421,Sheet2!A:F,2,FALSE))","v":""},{"$f":"IF(OR(E421=\"\",ISBLANK(E421)),\"\",VLOOKUP(E421,Sheet2!A:G,4,FALSE))","v":""},"",{"$f":"IF(OR(E421=\"\",ISBLANK(E421)),\"\",VLOOKUP(E421,Sheet2!A:H,3,FALSE))","v":""},null,{"$f":"IF(OR(E421=\"\",ISBLANK(E421)),\"\",VLOOKUP(E421,Sheet2!A:G,6,FALSE))","v":""},""]
[{"$f":"IF(OR(E422=\"\",ISBLANK(E422)),\"\",VLOOKUP(E422,Sheet2!A:F,2,FALSE))","v":""},{"$f":"IF(OR(E422=\"\",ISBLANK(E422)),\"\",VLOOKUP(E422,Sheet2!A:G,4,FALSE))","v":""},"",{"$f":"IF(OR(E422=\"\",ISBLANK(E422)),\"\",VLOOKUP(E422,Sheet2!A:H,3,FALSE))","v":""},null,{"$f":"IF(OR(E422=\"\",ISBLANK(E422)),\"\",VLOOKUP(E422,Sheet2!A:G,6,FALSE))","v":""},""]
[{"$f":"IF(OR(E423=\"\",ISBLANK(E423)),\"\",VLOOKUP(E423,Sheet2!A:F,2,FALSE))","v":""},{"$f":"IF(OR(E423=\"\",ISBLANK(E423)),\"\",VLOOKUP(E423,Sheet2!A:G,4,FALSE))","v":""},"",{"$f":"IF(OR(E423=\"\",ISBLANK(E423)),\"\",VLOOKUP(E423,Sheet2!A:H,3,FALSE))","v":""},null,{"$f":"IF(OR(E423=\"\",ISBLANK(E423)),\"\",VLOOKUP(E423,Sheet2!A:G,6,FALSE))","v":""},""]
[{"$f":"IF(OR(E424=\"\",ISBLANK(E424)),\"\",VLOOKUP(E424,Sheet2!A:F,2,FALSE))","v":""},{"$f":"IF(OR(E424=\"\",ISBLANK(E424)),\"\",VLOOKUP(E424,Sheet2!A:G,4,FALSE))","v":""},"",{"$f":"IF(OR(E424=\"\",ISBLANK(E424)),\"\",VLOOKUP(E424,Sheet2!A:H,3,FALSE))","v":""},null,{"$f":"IF(OR(E424=\"\",ISBLANK(E424)),\"\",VLOOKUP(E424,Sheet2!A:G,6,FALSE))","v":""},""]
[{"$f":"IF(OR(E425=\"\",ISBLANK(E425)),\"\",VLOOKUP(E425,Sheet2!A:F,2,FALSE))","v":""},{"$f":"IF(OR(E425=\"\",ISBLANK(E425)),\"\",VLOOKUP(E425,Sheet2!A:G,4,FALSE))","v":""},"",{"$f":"IF(OR(E425=\"\",ISBLANK(E425)),\"\",VLOOKUP(E425,Sheet2!A:H,3,FALSE))","v":""},null,{"$f":"IF(OR(E425=\"\",ISBLANK(E425)),\"\",VLOOKUP(E425,Sheet2!A:G,6,FALSE))","v":""},""]
[{"$f":"IF(OR(E426=\"\",ISBLANK(E426)),\"\",VLOOKUP(E426,Sheet2!A:F,2,FALSE))","v":""},{"$f":"IF(OR(E426=\"\",ISBLANK(E426)),\"\",VLOOKUP(E426,Sheet2!A:G,4,FALSE))","v":""},"",{"$f":"IF(OR(E426=\"\",ISBLANK(E426)),\"\",VLOOKUP(E426,Sheet2!A:H,3,FALSE))","v":""},null,{"$f":"IF(OR(E426=\"\",ISBLANK(E426)),\"\",VLOOKUP(E426,Sheet2!A:G,6,FALSE))","v":""},""]
[{"$f":"IF(OR(E427=\"\",ISBLANK(E427)),\"\",VLOOKUP(E427,Sheet2!A:F,2,FALSE))","v":""},{"$f":"IF(OR(E427=\"\",ISBLANK(E427)),\"\",VLOOKUP(E427,Sheet2!A:G,4,FALSE))","v":""},"",{"$f":"IF(OR(E427=\"\",ISBLANK(E427)),\"\",VLOOKUP(E427,Sheet2!A:H,3,FALSE))","v":""},null,{"$f":"IF(OR(E427=\"\",ISBLANK(E427)),\"\",VLOOKUP(E427,Sheet2!A:G,6,FALSE))","v":""},""]
[{"$f":"IF(OR(E428=\"\",ISBLANK(E428)),\"\",VLOOKUP(E428,Sheet2!A:F,2,FALSE))","v":""},{"$f":"IF(OR(E428=\"\",ISBLANK(E428)),\"\",VLOOKUP(E428,Sheet2!A:G,4,FALSE))","v":""},"",{"$f":"IF(OR(E428=\"\",ISBLANK(E428)),\"\",VLOOKUP(E428,Sheet2!A:H,3,FALSE))","v":""},null,{"$f":"IF(OR(E428=\"\",ISBLANK(E428)),\"\",VLOOKUP(E428,Sheet2!A:G,6,FALSE))","v":""},""]
[{"$f":"IF(OR(E429=\"\",ISBLANK(E429)),\"\",VLOOKUP(E429,Sheet2!A:F,2,FALSE))","v":""},{"$f":"IF(OR(E429=\"\",ISBLANK(E429)),\"\",VLOOKUP(E429,Sheet2!A:G,4,FALSE))","v":""},"",{"$f":"IF(OR(E429=\"\",ISBLANK(E429)),\"\",VLOOKUP(E429,Sheet2!A:H,3,FALSE))","v":""},null,{"$f":"IF(OR(E429=\"\",ISBLANK(E429)),\"\",VLOOKUP(E429,Sheet2!A:G,6,FALSE))","v":""},""]
[{"$f":"IF(OR(E430=\"\",ISBLANK(E430)),\"\",VLOOKUP(E430,Sheet2!A:F,2,FALSE))","v":""},{"$f":"IF(OR(E430=\"\",ISBLANK(E430)),\"\",VLOOKUP(E430,Sheet2!A:G,4,FALSE))","v":""},"",{"$f":"IF(OR(E430=\"\",ISBLANK(E430)),\"\",VLOOKUP(E430,Sheet2!A:H,3,FALSE))","v":""},null,{"$f":"IF(OR(E430=\"\",ISBLANK(E430)),\"\",VLOOKUP(E430,Sheet2!A:G,6,FALSE))","v":""},""]
[{"$f":"IF(OR(E431=\"\",ISBLANK(E431)),\"\",VLOOKUP(E431,Sheet2!A:F,2,FALSE))","v":""},{"$f":"IF(OR(E431=\"\",ISBLANK(E431)),\"\",VLOOKUP(E431,Sheet2!A:G,4,FALSE))","v":""},"",{"$f":"IF(OR(E431=\"\",ISBLANK(E431)),\"\",VLOOKUP(E431,Sheet2!A:H,3,FALSE))","v":""},null,{"$f":"IF(OR(E431=\"\",ISBLANK(E431)),\"\",VLOOKUP(E431,Sheet2!A:G,6,FALSE))","v":""},""]
[{"$f":"IF(OR(E432=\"\",ISBLANK(E432)),\"\",VLOOKUP(E432,Sheet2!A:F,2,FALSE))","v":""},{"$f":"IF(OR(E432=\"\",ISBLANK(E432)),\"\",VLOOKUP(E432,Sheet2!A:G,4,FALSE))","v":""},"",{"$f":"IF(OR(E432=\"\",ISBLANK(E432)),\"\",VLOOKUP(E432,Sheet2!A:H,3,FALSE))","v":""},null,{"$f":"IF(OR(E432=\"\",ISBLANK(E432)),\"\",VLOOKUP(E432,Sheet2!A:G,6,FALSE))","v":""},""]
[{"$f":"IF(OR(E433=\"\",ISBLANK(E433)),\"\",VLOOKUP(E433,Sheet2!A:F,2,FALSE))","v":""},{"$f":"IF(OR(E433=\"\",ISBLANK(E433)),\"\",VLOOKUP(E433,Sheet2!A:G,4,FALSE))","v":""},"",{"$f":"IF(OR(E433=\"\",ISBLANK(E433)),\"\",VLOOKUP(E433,Sheet2!A:H,3,FALSE))","v":""},null,{"$f":"IF(OR(E433=\"\",ISBLANK(E433)),\"\",VLOOKUP(E433,Sheet2!A:G,6,FALSE))","v":""},""]
[{"$f":"IF(OR(E434=\"\",ISBLANK(E434)),\"\",VLOOKUP(E434,Sheet2!A:F,2,FALSE))","v":""},{"$f":"IF(OR(E434=\"\",ISBLANK(E434)),\"\",VLOOKUP(E434,Sheet2!A:G,4,FALSE))","v":""},"",{"$f":"IF(OR(E434=\"\",ISBLANK(E434)),\"\",VLOOKUP(E434,Sheet2!A:H,3,FALSE))","v":""},null,{"$f":"IF(OR(E434=\"\",ISBLANK(E434)),\"\",VLOOKUP(E434,Sheet2!A:G,6,FALSE))","v":""},""]
[{"$f":"IF(OR(E435=\"\",ISBLANK(E435)),\"\",VLOOKUP(E435,Sheet2!A:F,2,FALSE))","v":""},{"$f":"IF(OR(E435=\"\",ISBLANK(E435)),\"\",VLOOKUP(E435,Sheet2!A:G,4,FALSE))","v":""},"",{"$f":"IF(OR(E435=\"\",ISBLANK(E435)),\"\",VLOOKUP(E435,Sheet2!A:H,3,FALSE))","v":""},null,{"$f":"IF(OR(E435=\"\",ISBLANK(E435)),\"\",VLOOKUP(E435,Sheet2!A:G,6,FALSE))","v":""},""]
[{"$f":"IF(OR(E436=\"\",ISBLANK(E436)),\"\",VLOOKUP(E436,Sheet2!A:F,2,FALSE))","v":""},{"$f":"IF(OR(E436=\"\",ISBLANK(E436)),\"\",VLOOKUP(E436,Sheet2!A:G,4,FALSE))","v":""},"",{"$f":"IF(OR(E436=\"\",ISBLANK(E436)),\"\",VLOOKUP(E436,Sheet2!A:H,3,FALSE))","v":""},null,{"$f":"IF(OR(E436=\"\",ISBLANK(E436)),\"\",VLOOKUP(E436,Sheet2!A:G,6,FALSE))","v":""},""]
[{"$f":"IF(OR(E437=\"\",ISBLANK(E437)),\"\",VLOOKUP(E437,Sheet2!A:F,2,FALSE))","v":""},{"$f":"IF(OR(E437=\"\",ISBLANK(E437)),\"\",VLOOKUP(E437,Sheet2!A:G,4,FALSE))","v":""},"",{"$f":"IF(OR(E437=\"\",ISBLANK(E437)),\"\",VLOOKUP(E437,Sheet2!A:H,3,FALSE))","v":""},null,{"$f":"IF(OR(E437=\"\",ISBLANK(E437)),\"\",VLOOKUP(E437,Sheet2!A:G,6,FALSE))","v":""},""]
[{"$f":"IF(OR(E438=\"\",ISBLANK(E438)),\"\",VLOOKUP(E438,Sheet2!A:F,2,FALSE))","v":""},{"$f":"IF(OR(E438=\"\",ISBLANK(E438)),\"\",VLOOKUP(E438,Sheet2!A:G,4,FALSE))","v":""},"",{"$f":"IF(OR(E438=\"\",ISBLANK(E438)),\"\",VLOOKUP(E438,Sheet2!A:H,3,FALSE))","v":""},null,{"$f":"IF(OR(E438=\"\",ISBLANK(E438)),\"\",VLOOKUP(E438,Sheet2!A:G,6,FALSE))","v":""},""]
[{"$f":"IF(OR(E439=\"\",ISBLANK(E439)),\"\",VLOOKUP(E439,Sheet2!A:F,2,FALSE))","v":""},{"$f":"IF(OR(E439=\"\",ISBLANK(E439)),\"\",VLOOKUP(E439,Sheet2!A:G,4,FALSE))","v":""},"",{"$f":"IF(OR(E439=\"\",ISBLANK(E439)),\"\",VLOOKUP(E439,Sheet2!A:H,3,FALSE))","v":""},null,{"$f":"IF(OR(E439=\"\",ISBLANK(E439)),\"\",VLOOKUP(E439,Sheet2!A:G,6,FALSE))","v":""},""]
[{"$f":"IF(OR(E440=\"\",ISBLANK(E440)),\"\",VLOOKUP(E440,Sheet2!A:F,2,FALSE))","v":""},{"$f":"IF(OR(E440=\"\",ISBLANK(E440)),\"\",VLOOKUP(E440,Sheet2!A:G,4,FALSE))","v":""},"",{"$f":"IF(OR(E440=\"\",ISBLANK(E440)),\"\",VLOOKUP(E440,Sheet2!A:H,3,FALSE))","v":""},null,{"$f":"IF(OR(E440=\"\",ISBLANK(E440)),\"\",VLOOKUP(E440,Sheet2!A:G,6,FALSE))","v":""},""]
[{"$f":"IF(OR(E441=\"\",ISBLANK(E441)),\"\",VLOOKUP(E441,Sheet2!A:F,2,FALSE))","v":""},{"$f":"IF(OR(E441=\"\",ISBLANK(E441)),\"\",VLOOKUP(E441,Sheet2!A:G,4,FALSE))","v":""},"",{"$f":"IF(OR(E441=\"\",ISBLANK(E441)),\"\",VLOOKUP(E441,Sheet2!A:H,3,FALSE))","v":""},null,{"$f":"IF(OR(E441=\"\",ISBLANK(E441)),\"\",VLOOKUP(E441,Sheet2!A:G,6,FALSE))","v":""},""]
[{"$f":"IF(OR(E442=\"\",ISBLANK(E442)),\"\",VLOOKUP(E442,Sheet2!A:F,2,FALSE))","v":""},{"$f":"IF(OR(E442=\"\",ISBLANK(E442)),\"\",VLOOKUP(E442,Sheet2!A:G,4,FALSE))","v":""},"",{"$f":"IF(OR(E442=\"\",ISBLANK(E442)),\"\",VLOOKUP(E442,Sheet2!A:H,3,FALSE))","v":""},null,{"$f":"IF(OR(E442=\"\",ISBLANK(E442)),\"\",VLOOKUP(E442,Sheet2!A:G,6,FALSE))","v":""},""]
[{"$f":"IF(OR(E443=\"\",ISBLANK(E443)),\"\",VLOOKUP(E443,Sheet2!A:F,2,FALSE))","v":""},{"$f":"IF(OR(E443=\"\",ISBLANK(E443)),\"\",VLOOKUP(E443,Sheet2!A:G,4,FALSE))","v":""},"",{"$f":"IF(OR(E443=\"\",ISBLANK(E443)),\"\",VLOOKUP(E443,Sheet2!A:H,3,FALSE))","v":""},null,{"$f":"IF(OR(E443=\"\",ISBLANK(E443)),\"\",VLOOKUP(E443,Sheet2!A:G,6,FALSE))","v":""},""]
[{"$f":"IF(OR(E444=\"\",ISBLANK(E444)),\"\",VLOOKUP(E444,Sheet2!A:F,2,FALSE))","v":""},{"$f":"IF(OR(E444=\"\",ISBLANK(E444)),\"\",VLOOKUP(E444,Sheet2!A:G,4,FALSE))","v":""},"",{"$f":"IF(OR(E444=\"\",ISBLANK(E444)),\"\",VLOOKUP(E444,Sheet2!A:H,3,FALSE))","v":""},null,{"$f":"IF(OR(E444=\"\",ISBLANK(E444)),\"\",VLOOKUP(E444,Sheet2!A:G,6,FALSE))","v":""},""]
[{"$f":"IF(OR(E445=\"\",ISBLANK(E445)),\"\",VLOOKUP(E445,Sheet2!A:F,2,FALSE))","v":""},{"$f":"IF(OR(E445=\"\",ISBLANK(E445)),\"\",VLOOKUP(E445,Sheet2!A:G,4,FALSE))","v":""},"",{"$f":"IF(OR(E445=\"\",ISBLANK(E445)),\"\",VLOOKUP(E445,Sheet2!A:H,3,FALSE))","v":""},null,{"$f":"IF(OR(E445=\"\",ISBLANK(E445)),\"\",VLOOKUP(E445,Sheet2!A:G,6,FALSE))","v":""},""]
[{"$f":"IF(OR(E446=\"\",ISBLANK(E446)),\"\",VLOOKUP(E446,Sheet2!A:F,2,FALSE))","v":""},{"$f":"IF(OR(E446=\"\",ISBLANK(E446)),\"\",VLOOKUP(E446,Sheet2!A:G,4,FALSE))","v":""},"",{"$f":"IF(OR(E446=\"\",ISBLANK(E446)),\"\",VLOOKUP(E446,Sheet2!A:H,3,FALSE))","v":""},null,{"$f":"IF(OR(E446=\"\",ISBLANK(E446)),\"\",VLOOKUP(E446,Sheet2!A:G,6,FALSE))","v":""},""]
[{"$f":"IF(OR(E447=\"\",ISBLANK(E447)),\"\",VLOOKUP(E447,Sheet2!A:F,2,FALSE))","v":""},{"$f":"IF(OR(E447=\"\",ISBLANK(E447)),\"\",VLOOKUP(E447,Sheet2!A:G,4,FALSE))","v":""},"",{"$f":"IF(OR(E447=\"\",ISBLANK(E447)),\"\",VLOOKUP(E447,Sheet2!A:H,3,FALSE))","v":""},null,{"$f":"IF(OR(E447=\"\",ISBLANK(E447)),\"\",VLOOKUP(E447,Sheet2!A:G,6,FALSE))","v":""},""]
[{"$f":"IF(OR(E448=\"\",ISBLANK(E448)),\"\",VLOOKUP(E448,Sheet2!A:F,2,FALSE))","v":""},{"$f":"IF(OR(E448=\"\",ISBLANK(E448)),\"\",VLOOKUP(E448,Sheet2!A:G,4,FALSE))","v":""},"",{"$f":"IF(OR(E448=\"\",ISBLANK(E448)),\"\",VLOOKUP(E448,Sheet2!A:H,3,FALSE))","v":""},null,{"$f":"IF(OR(E448=\"\",ISBLANK(E448)),\"\",VLOOKUP(E448,Sheet2!A:G,6,FALSE))","v":""},""]
[{"$f":"IF(OR(E449=\"\",ISBLANK(E449)),\"\",VLOOKUP(E449,Sheet2!A:F,2,FALSE))","v":""},{"$f":"IF(OR(E449=\"\",ISBLANK(E449)),\"\",VLOOKUP(E449,Sheet2!A:G,4,FALSE))","v":""},"",{"$f":"IF(OR(E449=\"\",ISBLANK(E449)),\"\",VLOOKUP(E449,Sheet2!A:H,3,FALSE))","v":""},null,{"$f":"IF(OR(E449=\"\",ISBLANK(E449)),\"\",VLOOKUP(E449,Sheet2!A:G,6,FALSE))","v":""},""]
[{"$f":"IF(OR(E450=\"\",ISBLANK(E450)),\"\",VLOOKUP(E450,Sheet2!A:F,2,FALSE))","v":""},{"$f":"IF(OR(E450=\"\",ISBLANK(E450)),\"\",VLOOKUP(E450,Sheet2!A:G,4,FALSE))","v":""},"",{"$f":"IF(OR(E450=\"\",ISBLANK(E450)),\"\",VLOOKUP(E450,Sheet2!A:H,3,FALSE))","v":""},null,{"$f":"IF(OR(E450=\"\",ISBLANK(E450)),\"\",VLOOKUP(E450,Sheet2!A:G,6,FALSE))","v":""},""]
[{"$f":"IF(OR(E451=\"\",ISBLANK(E451)),\"\",VLOOKUP(E451,Sheet2!A:F,2,FALSE))","v":""},{"$f":"IF(OR(E451=\"\",ISBLANK(E451)),\"\",VLOOKUP(E451,Sheet2!A:G,4,FALSE))","v":""},{"$f":"IF(D451=0,\"\",D451)","v":""},{"$f":"IF(OR(E451=\"\",ISBLANK(E451)),\"\",VLOOKUP(E451,Sheet2!A:H,3,FALSE))","v":""},null,{"$f":"IF(OR(E451=\"\",ISBLANK(E451)),\"\",VLOOKUP(E451,Sheet2!A:G,6,FALSE))","v":""},{"$f":"IF(F451=0,\"\",F451)","v":""}]
[{"$f":"IF(OR(E452=\"\",ISBLANK(E452)),\"\",VLOOKUP(E452,Sheet2!A:F,2,FALSE))","v":""},{"$f":"IF(OR(E452=\"\",ISBLANK(E452)),\"\",VLOOKUP(E452,Sheet2!A:G,4,FALSE))","v":""},"",{"$f":"IF(OR(E452=\"\",ISBLANK(E452)),\"\",VLOOKUP(E452,Sheet2!A:H,3,FALSE))","v":""},null,{"$f":"IF(OR(E452=\"\",ISBLANK(E452)),\"\",VLOOKUP(E452,Sheet2!A:G,6,FALSE))","v":""},""]
[{"$f":"IF(OR(E453=\"\",ISBLANK(E453)),\"\",VLOOKUP(E453,Sheet2!A:F,2,FALSE))","v":""},{"$f":"IF(OR(E453=\"\",ISBLANK(E453)),\"\",VLOOKUP(E453,Sheet2!A:G,4,FALSE))","v":""},"",{"$f":"IF(OR(E453=\"\",ISBLANK(E453)),\"\",VLOOKUP(E453,Sheet2!A:H,3,FALSE))","v":""},null,{"$f":"IF(OR(E453=\"\",ISBLANK(E453)),\"\",VLOOKUP(E453,Sheet2!A:G,6,FALSE))","v":""},""]
[{"$f":"IF(OR(E454=\"\",ISBLANK(E454)),\"\",VLOOKUP(E454,Sheet2!A:F,2,FALSE))","v":""},{"$f":"IF(OR(E454=\"\",ISBLANK(E454)),\"\",VLOOKUP(E454,Sheet2!A:G,4,FALSE))","v":""},"",{"$f":"IF(OR(E454=\"\",ISBLANK(E454)),\"\",VLOOKUP(E454,Sheet2!A:H,3,FALSE))","v":""},null,{"$f":"IF(OR(E454=\"\",ISBLANK(E454)),\"\",VLOOKUP(E454,Sheet2!A:G,6,FALSE))","v":""},""]
[{"$f":"IF(OR(E455=\"\",ISBLANK(E455)),\"\",VLOOKUP(E455,Sheet2!A:F,2,FALSE))","v":""},{"$f":"IF(OR(E455=\"\",ISBLANK(E455)),\"\",VLOOKUP(E455,Sheet2!A:G,4,FALSE))","v":""},"",{"$f":"IF(OR(E455=\"\",ISBLANK(E455)),\"\",VLOOKUP(E455,Sheet2!A:H,3,FALSE))","v":""},null,{"$f":"IF(OR(E455=\"\",ISBLANK(E455)),\"\",VLOOKUP(E455,Sheet2!A:G,6,FALSE))","v":""},""]
[{"$f":"IF(OR(E456=\"\",ISBLANK(E456)),\"\",VLOOKUP(E456,Sheet2!A:F,2,FALSE))","v":""},{"$f":"IF(OR(E456=\"\",ISBLANK(E456)),\"\",VLOOKUP(E456,Sheet2!A:G,4,FALSE))","v":""},"",{"$f":"IF(OR(E456=\"\",ISBLANK(E456)),\"\",VLOOKUP(E456,Sheet2!A:H,3,FALSE))","v":""},null,{"$f":"IF(OR(E456=\"\",ISBLANK(E456)),\"\",VLOOKUP(E456,Sheet2!A:G,6,FALSE))","v":""},""]
[{"$f":"IF(OR(E457=\"\",ISBLANK(E457)),\"\",VLOOKUP(E457,Sheet2!A:F,2,FALSE))","v":""},{"$f":"IF(OR(E457=\"\",ISBLANK(E457)),\"\",VLOOKUP(E457,Sheet2!A:G,4,FALSE))","v":""},"",{"$f":"IF(OR(E457=\"\",ISBLANK(E457)),\"\",VLOOKUP(E457,Sheet2!A:H,3,FALSE))","v":""},null,{"$f":"IF(OR(E457=\"\",ISBLANK(E457)),\"\",VLOOKUP(E457,Sheet2!A:G,6,FALSE))","v":""},""]
[{"$f":"IF(OR(E458=\"\",ISBLANK(E458)),\"\",VLOOKUP(E458,Sheet2!A:F,2,FALSE))","v":""},{"$f":"IF(OR(E458=\"\",ISBLANK(E458)),\"\",VLOOKUP(E458,Sheet2!A:G,4,FALSE))","v":""},"",{"$f":"IF(OR(E458=\"\",ISBLANK(E458)),\"\",VLOOKUP(E458,Sheet2!A:H,3,FALSE))","v":""},null,{"$f":"IF(OR(E458=\"\",ISBLANK(E458)),\"\",VLOOKUP(E458,Sheet2!A:G,6,FALSE))","v":""},""]
[{"$f":"IF(OR(E459=\"\",ISBLANK(E459)),\"\",VLOOKUP(E459,Sheet2!A:F,2,FALSE))","v":""},{"$f":"IF(OR(E459=\"\",ISBLANK(E459)),\"\",VLOOKUP(E459,Sheet2!A:G,4,FALSE))","v":""},"",{"$f":"IF(OR(E459=\"\",ISBLANK(E459)),\"\",VLOOKUP(E459,Sheet2!A:H,3,FALSE))","v":""},null,{"$f":"IF(OR(E459=\"\",ISBLANK(E459)),\"\",VLOOKUP(E459,Sheet2!A:G,6,FALSE))","v":""},""]
[{"$f":"IF(OR(E460=\"\",ISBLANK(E460)),\"\",VLOOKUP(E460,Sheet2!A:F,2,FALSE))","v":""},{"$f":"IF(OR(E460=\"\",ISBLANK(E460)),\"\",VLOOKUP(E460,Sheet2!A:G,4,FALSE))","v":""},"",{"$f":"IF(OR(E460=\"\",ISBLANK(E460)),\"\",VLOOKUP(E460,Sheet2!A:H,3,FALSE))","v":""},null,{"$f":"IF(OR(E460=\"\",ISBLANK(E460)),\"\",VLOOKUP(E460,Sheet2!A:G,6,FALSE))","v":""},""]
[{"$f":"IF(OR(E461=\"\",ISBLANK(E461)),\"\",VLOOKUP(E461,Sheet2!A:F,2,FALSE))","v":""},{"$f":"IF(OR(E461=\"\",ISBLANK(E461)),\"\",VLOOKUP(E461,Sheet2!A:G,4,FALSE))","v":""},"",{"$f":"IF(OR(E461=\"\",ISBLANK(E461)),\"\",VLOOKUP(E461,Sheet2!A:H,3,FALSE))","v":""},null,{"$f":"IF(OR(E461=\"\",ISBLANK(E461)),\"\",VLOOKUP(E461,Sheet2!A:G,6,FALSE))","v":""},""]
[{"$f":"IF(OR(E462=\"\",ISBLANK(E462)),\"\",VLOOKUP(E462,Sheet2!A:F,2,FALSE))","v":""},{"$f":"IF(OR(E462=\"\",ISBLANK(E462)),\"\",VLOOKUP(E462,Sheet2!A:G,4,FALSE))","v":""},"",{"$f":"IF(OR(E462=\"\",ISBLANK(E462)),\"\",VLOOKUP(E462,Sheet2!A:H,3,FALSE))","v":""},null,{"$f":"IF(OR(E462=\"\",ISBLANK(E462)),\"\",VLOOKUP(E462,Sheet2!A:G,6,FALSE))","v":""},""]
[{"$f":"IF(OR(E463=\"\",ISBLANK(E463)),\"\",VLOOKUP(E463,Sheet2!A:F,2,FALSE))","v":""},{"$f":"IF(OR(E463=\"\",ISBLANK(E463)),\"\",VLOOKUP(E463,Sheet2!A:G,4,FALSE))","v":""},"",{"$f":"IF(OR(E463=\"\",ISBLANK(E463)),\"\",VLOOKUP(E463,Sheet2!A:H,3,FALSE))","v":""},null,{"$f":"IF(OR(E463=\"\",ISBLANK(E463)),\"\",VLOOKUP(E463,Sheet2!A:G,6,FALSE))","v":""},""]
[{"$f":"IF(OR(E464=\"\",ISBLANK(E464)),\"\",VLOOKUP(E464,Sheet2!A:F,2,FALSE))","v":""},{"$f":"IF(OR(E464=\"\",ISBLANK(E464)),\"\",VLOOKUP(E464,Sheet2!A:G,4,FALSE))","v":""},"",{"$f":"IF(OR(E464=\"\",ISBLANK(E464)),\"\",VLOOKUP(E464,Sheet2!A:H,3,FALSE))","v":""},null,{"$f":"IF(OR(E464=\"\",ISBLANK(E464)),\"\",VLOOKUP(E464,Sheet2!A:G,6,FALSE))","v":""},""]
[{"$f":"IF(OR(E465=\"\",ISBLANK(E465)),\"\",VLOOKUP(E465,Sheet2!A:F,2,FALSE))","v":""},{"$f":"IF(OR(E465=\"\",ISBLANK(E465)),\"\",VLOOKUP(E465,Sheet2!A:G,4,FALSE))","v":""},"",{"$f":"IF(OR(E465=\"\",ISBLANK(E465)),\"\",VLOOKUP(E465,Sheet2!A:H,3,FALSE))","v":""},null,{"$f":"IF(OR(E465=\"\",ISBLANK(E465)),\"\",VLOOKUP(E465,Sheet2!A:G,6,FALSE))","v":""},""]
[{"$f":"IF(OR(E466=\"\",ISBLANK(E466)),\"\",VLOOKUP(E466,Sheet2!A:F,2,FALSE))","v":""},{"$f":"IF(OR(E466=\"\",ISBLANK(E466)),\"\",VLOOKUP(E466,Sheet2!A:G,4,FALSE))","v":""},"",{"$f":"IF(OR(E466=\"\",ISBLANK(E466)),\"\",VLOOKUP(E466,Sheet2!A:H,3,FALSE))","v":""},null,{"$f":"IF(OR(E466=\"\",ISBLANK(E466)),\"\",VLOOKUP(E466,Sheet2!A:G,6,FALSE))","v":""},""]
[{"$f":"IF(OR(E467=\"\",ISBLANK(E467)),\"\",VLOOKUP(E467,Sheet2!A:F,2,FALSE))","v":""},{"$f":"IF(OR(E467=\"\",ISBLANK(E467)),\"\",VLOOKUP(E467,Sheet2!A:G,4,FALSE))","v":""},"",{"$f":"IF(OR(E467=\"\",ISBLANK(E467)),\"\",VLOOKUP(E467,Sheet2!A:H,3,FALSE))","v":""},null,{"$f":"IF(OR(E467=\"\",ISBLANK(E467)),\"\",VLOOKUP(E467,Sheet2!A:G,6,FALSE))","v":""},""]
[{"$f":"IF(OR(E468=\"\",ISBLANK(E468)),\"\",VLOOKUP(E468,Sheet2!A:F,2,FALSE))","v":""},{"$f":"IF(OR(E468=\"\",ISBLANK(E468)),\"\",VLOOKUP(E468,Sheet2!A:G,4,FALSE))","v":""},"",{"$f":"IF(OR(E468=\"\",ISBLANK(E468)),\"\",VLOOKUP(E468,Sheet2!A:H,3,FALSE))","v":""},null,{"$f":"IF(OR(E468=\"\",ISBLANK(E468)),\"\",VLOOKUP(E468,Sheet2!A:G,6,FALSE))","v":""},""]
[{"$f":"IF(OR(E469=\"\",ISBLANK(E469)),\"\",VLOOKUP(E469,Sheet2!A:F,2,FALSE))","v":""},{"$f":"IF(OR(E469=\"\",ISBLANK(E469)),\"\",VLOOKUP(E469,Sheet2!A:G,4,FALSE))","v":""},"",{"$f":"IF(OR(E469=\"\",ISBLANK(E469)),\"\",VLOOKUP(E469,Sheet2!A:H,3,FALSE))","v":""},null,{"$f":"IF(OR(E469=\"\",ISBLANK(E469)),\"\",VLOOKUP(E469,Sheet2!A:G,6,FALSE))","v":""},""]
[{"$f":"IF(OR(E470=\"\",ISBLANK(E470)),\"\",VLOOKUP(E470,Sheet2!A:F,2,FALSE))","v":""},{"$f":"IF(OR(E470=\"\",ISBLANK(E470)),\"\",VLOOKUP(E470,Sheet2!A:G,4,FALSE))","v":""},"",{"$f":"IF(OR(E470=\"\",ISBLANK(E470)),\"\",VLOOKUP(E470,Sheet2!A:H,3,FALSE))","v":""},null,{"$f":"IF(OR(E470=\"\",ISBLANK(E470)),\"\",VLOOKUP(E470,Sheet2!A:G,6,FALSE))","v":""},""]
[{"$f":"IF(OR(E471=\"\",ISBLANK(E471)),\"\",VLOOKUP(E471,Sheet2!A:F,2,FALSE))","v":""},{"$f":"IF(OR(E471=\"\",ISBLANK(E471)),\"\",VLOOKUP(E471,Sheet2!A:G,4,FALSE))","v":""},"",{"$f":"IF(OR(E471=\"\",ISBLANK(E471)),\"\",VLOOKUP(E471,Sheet2!A:H,3,FALSE))","v":""},null,{"$f":"IF(OR(E471=\"\",ISBLANK(E471)),\"\",VLOOKUP(E471,Sheet2!A:G,6,FALSE))","v":""},""]
[{"$f":"IF(OR(E472=\"\",ISBLANK(E472)),\"\",VLOOKUP(E472,Sheet2!A:F,2,FALSE))","v":""},{"$f":"IF(OR(E472=\"\",ISBLANK(E472)),\"\",VLOOKUP(E472,Sheet2!A:G,4,FALSE))","v":""},"",{"$f":"IF(OR(E472=\"\",ISBLANK(E472)),\"\",VLOOKUP(E472,Sheet2!A:H,3,FALSE))","v":""},null,{"$f":"IF(OR(E472=\"\",ISBLANK(E472)),\"\",VLOOKUP(E472,Sheet2!A:G,6,FALSE))","v":""},""]
[{"$f":"IF(OR(E473=\"\",ISBLANK(E473)),\"\",VLOOKUP(E473,Sheet2!A:F,2,FALSE))","v":""},{"$f":"IF(OR(E473=\"\",ISBLANK(E473)),\"\",VLOOKUP(E473,Sheet2!A:G,4,FALSE))","v":""},"",{"$f":"IF(OR(E473=\"\",ISBLANK(E473)),\"\",VLOOKUP(E473,Sheet2!A:H,3,FALSE))","v":""},null,{"$f":"IF(OR(E473=\"\",ISBLANK(E473)),\"\",VLOOKUP(E473,Sheet2!A:G,6,FALSE))","v":""},""]
[{"$f":"IF(OR(E474=\"\",ISBLANK(E474)),\"\",VLOOKUP(E474,Sheet2!A:F,2,FALSE))","v":""},{"$f":"IF(OR(E474=\"\",ISBLANK(E474)),\"\",VLOOKUP(E474,Sheet2!A:G,4,FALSE))","v":""},"",{"$f":"IF(OR(E474=\"\",ISBLANK(E474)),\"\",VLOOKUP(E474,Sheet2!A:H,3,FALSE))","v":""},null,{"$f":"IF(OR(E474=\"\",ISBLANK(E474)),\"\",VLOOKUP(E474,Sheet2!A:G,6,FALSE))","v":""},""]
[{"$f":"IF(OR(E475=\"\",ISBLANK(E475)),\"\",VLOOKUP(E475,Sheet2!A:F,2,FALSE))","v":""},{"$f":"IF(OR(E475=\"\",ISBLANK(E475)),\"\",VLOOKUP(E475,Sheet2!A:G,4,FALSE))","v":""},"",{"$f":"IF(OR(E475=\"\",ISBLANK(E475)),\"\",VLOOKUP(E475,Sheet2!A:H,3,FALSE))","v":""},null,{"$f":"IF(OR(E475=\"\",ISBLANK(E475)),\"\",VLOOKUP(E475,Sheet2!A:G,6,FALSE))","v":""},""]
[{"$f":"IF(OR(E476=\"\",ISBLANK(E476)),\"\",VLOOKUP(E476,Sheet2!A:F,2,FALSE))","v":""},{"$f":"IF(OR(E476=\"\",ISBLANK(E476)),\"\",VLOOKUP(E476,Sheet2!A:G,4,FALSE))","v":""},"",{"$f":"IF(OR(E476=\"\",ISBLANK(E476)),\"\",VLOOKUP(E476,Sheet2!A:H,3,FALSE))","v":""},null,{"$f":"IF(OR(E476=\"\",ISBLANK(E476)),\"\",VLOOKUP(E476,Sheet2!A:G,6,FALSE))","v":""},""]
[{"$f":"IF(OR(E477=\"\",ISBLANK(E477)),\"\",VLOOKUP(E477,Sheet2!A:F,2,FALSE))","v":""},{"$f":"IF(OR(E477=\"\",ISBLANK(E477)),\"\",VLOOKUP(E477,Sheet2!A:G,4,FALSE))","v":""},"",{"$f":"IF(OR(E477=\"\",ISBLANK(E477)),\"\",VLOOKUP(E477,Sheet2!A:H,3,FALSE))","v":""},null,{"$f":"IF(OR(E477=\"\",ISBLANK(E477)),\"\",VLOOKUP(E477,Sheet2!A:G,6,FALSE))","v":""},""]
[{"$f":"IF(OR(E478=\"\",ISBLANK(E478)),\"\",VLOOKUP(E478,Sheet2!A:F,2,FALSE))","v":""},{"$f":"IF(OR(E478=\"\",ISBLANK(E478)),\"\",VLOOKUP(E478,Sheet2!A:G,4,FALSE))","v":""},"",{"$f":"IF(OR(E478=\"\",ISBLANK(E478)),\"\",VLOOKUP(E478,Sheet2!A:H,3,FALSE))","v":""},null,{"$f":"IF(OR(E478=\"\",ISBLANK(E478)),\"\",VLOOKUP(E478,Sheet2!A:G,6,FALSE))","v":""},""]
[{"$f":"IF(OR(E479=\"\",ISBLANK(E479)),\"\",VLOOKUP(E479,Sheet2!A:F,2,FALSE))","v":""},{"$f":"IF(OR(E479=\"\",ISBLANK(E479)),\"\",VLOOKUP(E479,Sheet2!A:G,4,FALSE))","v":""},"",{"$f":"IF(OR(E479=\"\",ISBLANK(E479)),\"\",VLOOKUP(E479,Sheet2!A:H,3,FALSE))","v":""},null,{"$f":"IF(OR(E479=\"\",ISBLANK(E479)),\"\",VLOOKUP(E479,Sheet2!A:G,6,FALSE))","v":""},""]
[{"$f":"IF(OR(E480=\"\",ISBLANK(E480)),\"\",VLOOKUP(E480,Sheet2!A:F,2,FALSE))","v":""},{"$f":"IF(OR(E480=\"\",ISBLANK(E480)),\"\",VLOOKUP(E480,Sheet2!A:G,4,FALSE))","v":""},"",{"$f":"IF(OR(E480=\"\",ISBLANK(E480)),\"\",VLOOKUP(E480,Sheet2!A:H,3,FALSE))","v":""},null,{"$f":"IF(OR(E480=\"\",ISBLANK(E480)),\"\",VLOOKUP(E480,Sheet2!A:G,6,FALSE))","v":""},""]
[{"$f":"IF(OR(E481=\"\",ISBLANK(E481)),\"\",VLOOKUP(E481,Sheet2!A:F,2,FALSE))","v":""},{"$f":"IF(OR(E481=\"\",ISBLANK(E481)),\"\",VLOOKUP(E481,Sheet2!A:G,4,FALSE))","v":""},"",{"$f":"IF(OR(E481=\"\",ISBLANK(E481)),\"\",VLOOKUP(E481,Sheet2!A:H,3,FALSE))","v":""},null,{"$f":"IF(OR(E481=\"\",ISBLANK(E481)),\"\",VLOOKUP(E481,Sheet2!A:G,6,FALSE))","v":""},""]
[{"$f":"IF(OR(E482=\"\",ISBLANK(E482)),\"\",VLOOKUP(E482,Sheet2!A:F,2,FALSE))","v":""},{"$f":"IF(OR(E482=\"\",ISBLANK(E482)),\"\",VLOOKUP(E482,Sheet2!A:G,4,FALSE))","v":""},"",{"$f":"IF(OR(E482=\"\",ISBLANK(E482)),\"\",VLOOKUP(E482,Sheet2!A:H,3,FALSE))","v":""},null,{"$f":"IF(OR(E482=\"\",ISBLANK(E482)),\"\",VLOOKUP(E482,Sheet2!A:G,6,FALSE))","v":""},""]
[{"$f":"IF(OR(E483=\"\",ISBLANK(E483)),\"\",VLOOKUP(E483,Sheet2!A:F,2,FALSE))","v":""},{"$f":"IF(OR(E483=\"\",ISBLANK(E483)),\"\",VLOOKUP(E483,Sheet2!A:G,4,FALSE))","v":""},"",{"$f":"IF(OR(E483=\"\",ISBLANK(E483)),\"\",VLOOKUP(E483,Sheet2!A:H,3,FALSE))","v":""},null,{"$f":"IF(OR(E483=\"\",ISBLANK(E483)),\"\",VLOOKUP(E483,Sheet2!A:G,6,FALSE))","v":""},""]
[{"$f":"IF(OR(E484=\"\",ISBLANK(E484)),\"\",VLOOKUP(E484,Sheet2!A:F,2,FALSE))","v":""},{"$f":"IF(OR(E484=\"\",ISBLANK(E484)),\"\",VLOOKUP(E484,Sheet2!A:G,4,FALSE))","v":""},"",{"$f":"IF(OR(E484=\"\",ISBLANK(E484)),\"\",VLOOKUP(E484,Sheet2!A:H,3,FALSE))","v":""},null,{"$f":"IF(OR(E484=\"\",ISBLANK(E484)),\"\",VLOOKUP(E484,Sheet2!A:G,6,FALSE))","v":""},""]
[{"$f":"IF(OR(E485=\"\",ISBLANK(E485)),\"\",VLOOKUP(E485,Sheet2!A:F,2,FALSE))","v":""},{"$f":"IF(OR(E485=\"\",ISBLANK(E485)),\"\",VLOOKUP(E485,Sheet2!A:G,4,FALSE))","v":""},"",{"$f":"IF(OR(E485=\"\",ISBLANK(E485)),\"\",VLOOKUP(E485,Sheet2!A:H,3,FALSE))","v":""},null,{"$f":"IF(OR(E485=\"\",ISBLANK(E485)),\"\",VLOOKUP(E485,Sheet2!A:G,6,FALSE))","v":""},""]
[{"$f":"IF(OR(E486=\"\",ISBLANK(E486)),\"\",VLOOKUP(E486,Sheet2!A:F,2,FALSE))","v":""},{"$f":"IF(OR(E486=\"\",ISBLANK(E486)),\"\",VLOOKUP(E486,Sheet2!A:G,4,FALSE))","v":""},"",{"$f":"IF(OR(E486=\"\",ISBLANK(E486)),\"\",VLOOKUP(E486,Sheet2!A:H,3,FALSE))","v":""},null,{"$f":"IF(OR(E486=\"\",ISBLANK(E486)),\"\",VLOOKUP(E486,Sheet2!A:G,6,FALSE))","v":""},""]
[{"$f":"IF(OR(E487=\"\",ISBLANK(E487)),\"\",VLOOKUP(E487,Sheet2!A:F,2,FALSE))","v":""},{"$f":"IF(OR(E487=\"\",ISBLANK(E487)),\"\",VLOOKUP(E487,Sheet2!A:G,4,FALSE))","v":""},"",{"$f":"IF(OR(E487=\"\",ISBLANK(E487)),\"\",VLOOKUP(E487,Sheet2!A:H,3,FALSE))","v":""},null,{"$f":"IF(OR(E487=\"\",ISBLANK(E487)),\"\",VLOOKUP(E487,Sheet2!A:G,6,FALSE))","v":""},""]
[{"$f":"IF(OR(E488=\"\",ISBLANK(E488)),\"\",VLOOKUP(E488,Sheet2!A:F,2,FALSE))","v":""},{"$f":"IF(OR(E488=\"\",ISBLANK(E488)),\"\",VLOOKUP(E488,Sheet2!A:G,4,FALSE))","v":""},"",{"$f":"IF(OR(E488=\"\",ISBLANK(E488)),\"\",VLOOKUP(E488,Sheet2!A:H,3,FALSE))","v":""},null,{"$f":"IF(OR(E488=\"\",ISBLANK(E488)),\"\",VLOOKUP(E488,Sheet2!A:G,6,FALSE))","v":""},""]
[{"$f":"IF(OR(E489=\"\",ISBLANK(E489)),\"\",VLOOKUP(E489,Sheet2!A:F,2,FALSE))","v":""},{"$f":"IF(OR(E489=\"\",ISBLANK(E489)),\"\",VLOOKUP(E489,Sheet2!A:G,4,FALSE))","v":""},"",{"$f":"IF(OR(E489=\"\",ISBLANK(E489)),\"\",VLOOKUP(E489,Sheet2!A:H,3,FALSE))","v":""},null,{"$f":"IF(OR(E489=\"\",ISBLANK(E489)),\"\",VLOOKUP(E489,Sheet2!A:G,6,FALSE))","v":""},""]
[{"$f":"IF(OR(E490=\"\",ISBLANK(E490)),\"\",VLOOKUP(E490,Sheet2!A:F,2,FALSE))","v":""},{"$f":"IF(OR(E490=\"\",ISBLANK(E490)),\"\",VLOOKUP(E490,Sheet2!A:G,4,FALSE))","v":""},"",{"$f":"IF(OR(E490=\"\",ISBLANK(E490)),\"\",VLOOKUP(E490,Sheet2!A:H,3,FALSE))","v":""},null,{"$f":"IF(OR(E490=\"\",ISBLANK(E490)),\"\",VLOOKUP(E490,Sheet2!A:G,6,FALSE))","v":""},""]
[{"$f":"IF(OR(E491=\"\",ISBLANK(E491)),\"\",VLOOKUP(E491,Sheet2!A:F,2,FALSE))","v":""},{"$f":"IF(OR(E491=\"\",ISBLANK(E491)),\"\",VLOOKUP(E491,Sheet2!A:G,4,FALSE))","v":""},"",{"$f":"IF(OR(E491=\"\",ISBLANK(E491)),\"\",VLOOKUP(E491,Sheet2!A:H,3,FALSE))","v":""},null,{"$f":"IF(OR(E491=\"\",ISBLANK(E491)),\"\",VLOOKUP(E491,Sheet2!A:G,6,FALSE))","v":""},""]
[{"$f":"IF(OR(E492=\"\",ISBLANK(E492)),\"\",VLOOKUP(E492,Sheet2!A:F,2,FALSE))","v":""},{"$f":"IF(OR(E492=\"\",ISBLANK(E492)),\"\",VLOOKUP(E492,Sheet2!A:G,4,FALSE))","v":""},"",{"$f":"IF(OR(E492=\"\",ISBLANK(E492)),\"\",VLOOKUP(E492,Sheet2!A:H,3,FALSE))","v":""},null,{"$f":"IF(OR(E492=\"\",ISBLANK(E492)),\"\",VLOOKUP(E492,Sheet2!A:G,6,FALSE))","v":""},""]
[{"$f":"IF(OR(E493=\"\",ISBLANK(E493)),\"\",VLOOKUP(E493,Sheet2!A:F,2,FALSE))","v":""},{"$f":"IF(OR(E493=\"\",ISBLANK(E493)),\"\",VLOOKUP(E493,Sheet2!A:G,4,FALSE))","v":""},"",{"$f":"IF(OR(E493=\"\",ISBLANK(E493)),\"\",VLOOKUP(E493,Sheet2!A:H,3,FALSE))","v":""},null,{"$f":"IF(OR(E493=\"\",ISBLANK(E493)),\"\",VLOOKUP(E493,Sheet2!A:G,6,FALSE))","v":""},""]
[{"$f":"IF(OR(E494=\"\",ISBLANK(E494)),\"\",VLOOKUP(E494,Sheet2!A:F,2,FALSE))","v":""},{"$f":"IF(OR(E494=\"\",ISBLANK(E494)),\"\",VLOOKUP(E494,Sheet2!A:G,4,FALSE))","v":""},"",{"$f":"IF(OR(E494=\"\",ISBLANK(E494)),\"\",VLOOKUP(E494,Sheet2!A:H,3,FALSE))","v":""},null,{"$f":"IF(OR(E494=\"\",ISBLANK(E494)),\"\",VLOOKUP(E494,Sheet2!A:G,6,FALSE))","v":""},""]
[{"$f":"IF(OR(E495=\"\",ISBLANK(E495)),\"\",VLOOKUP(E495,Sheet2!A:F,2,FALSE))","v":""},{"$f":"IF(OR(E495=\"\",ISBLANK(E495)),\"\",VLOOKUP(E495,Sheet2!A:G,4,FALSE))","v":""},"",{"$f":"IF(OR(E495=\"\",ISBLANK(E495)),\"\",VLOOKUP(E495,Sheet2!A:H,3,FALSE))","v":""},null,{"$f":"IF(OR(E495=\"\",ISBLANK(E495)),\"\",VLOOKUP(E495,Sheet2!A:G,6,FALSE))","v":""},""]
[{"$f":"IF(OR(E496=\"\",ISBLANK(E496)),\"\",VLOOKUP(E496,Sheet2!A:F,2,FALSE))","v":""},{"$f":"IF(OR(E496=\"\",ISBLANK(E496)),\"\",VLOOKUP(E496,Sheet2!A:G,4,FALSE))","v":""},"",{"$f":"IF(OR(E496=\"\",ISBLANK(E496)),\"\",VLOOKUP(E496,Sheet2!A:H,3,FALSE))","v":""},null,{"$f":"IF(OR(E496=\"\",ISBLANK(E496)),\"\",VLOOKUP(E496,Sheet2!A:G,6,FALSE))","v":""},""]
[{"$f":"IF(OR(E497=\"\",ISBLANK(E497)),\"\",VLOOKUP(E497,Sheet2!A:F,2,FALSE))","v":""},{"$f":"IF(OR(E497=\"\",ISBLANK(E497)),\"\",VLOOKUP(E497,Sheet2!A:G,4,FALSE))","v":""},"",{"$f":"IF(OR(E497=\"\",ISBLANK(E497)),\"\",VLOOKUP(E497,Sheet2!A:H,3,FALSE))","v":""},null,{"$f":"IF(OR(E497=\"\",ISBLANK(E497)),\"\",VLOOKUP(E497,Sheet2!A:G,6,FALSE))","v":""},""]
[{"$f":"IF(OR(E498=\"\",ISBLANK(E498)),\"\",VLOOKUP(E498,Sheet2!A:F,2,FALSE))","v":""},{"$f":"IF(OR(E498=\"\",ISBLANK(E498)),\"\",VLOOKUP(E498,Sheet2!A:G,4,FALSE))","v":""},"",{"$f":"IF(OR(E498=\"\",ISBLANK(E498)),\"\",VLOOKUP(E498,Sheet2!A:H,3,FALSE))","v":""},null,{"$f":"IF(OR(E498=\"\",ISBLANK(E498)),\"\",VLOOKUP(E498,Sheet2!A:G,6,FALSE))","v":""},""]
[{"$f":"IF(OR(E499=\"\",ISBLANK(E499)),\"\",VLOOKUP(E499,Sheet2!A:F,2,FALSE))","v":""},{"$f":"IF(OR(E499=\"\",ISBLANK(E499)),\"\",VLOOKUP(E499,Sheet2!A:G,4,FALSE))","v":""},"",{"$f":"IF(OR(E499=\"\",ISBLANK(E499)),\"\",VLOOKUP(E499,Sheet2!A:H,3,FALSE))","v":""},null,{"$f":"IF(OR(E499=\"\",ISBLANK(E499)),\"\",VLOOKUP(E499,Sheet2!A:G,6,FALSE))","v":""},""]
[{"$f":"IF(OR(E500=\"\",ISBLANK(E500)),\"\",VLOOKUP(E500,Sheet2!A:F,2,FALSE))","v":""},{"$f":"IF(OR(E500=\"\",ISBLANK(E500)),\"\",VLOOKUP(E500,Sheet2!A:G,4,FALSE))","v":""},"",{"$f":"IF(OR(E500=\"\",ISBLANK(E500)),\"\",VLOOKUP(E500,Sheet2!A:H,3,FALSE))","v":""},null,{"$f":"IF(OR(E500=\"\",ISBLANK(E500)),\"\",VLOOKUP(E500,Sheet2!A:G,6,FALSE))","v":""},""]
[{"$f":"IF(OR(E501=\"\",ISBLANK(E501)),\"\",VLOOKUP(E501,Sheet2!A:F,2,FALSE))","v":""},{"$f":"IF(OR(E501=\"\",ISBLANK(E501)),\"\",VLOOKUP(E501,Sheet2!A:G,4,FALSE))","v":""},"",{"$f":"IF(OR(E501=\"\",ISBLANK(E501)),\"\",VLOOKUP(E501,Sheet2!A:H,3,FALSE))","v":""},null,{"$f":"IF(OR(E501=\"\",ISBLANK(E501)),\"\",VLOOKUP(E501,Sheet2!A:G,6,FALSE))","v":""},""]
[{"$f":"IF(OR(E502=\"\",ISBLANK(E502)),\"\",VLOOKUP(E502,Sheet2!A:F,2,FALSE))","v":""},{"$f":"IF(OR(E502=\"\",ISBLANK(E502)),\"\",VLOOKUP(E502,Sheet2!A:G,4,FALSE))","v":""},"",{"$f":"IF(OR(E502=\"\",ISBLANK(E502)),\"\",VLOOKUP(E502,Sheet2!A:H,3,FALSE))","v":""},null,{"$f":"IF(OR(E502=\"\",ISBLANK(E502)),\"\",VLOOKUP(E502,Sheet2!A:G,6,FALSE))","v":""},""]
[{"$f":"IF(OR(E503=\"\",ISBLANK(E503)),\"\",VLOOKUP(E503,Sheet2!A:F,2,FALSE))","v":""},{"$f":"IF(OR(E503=\"\",ISBLANK(E503)),\"\",VLOOKUP(E503,Sheet2!A:G,4,FALSE))","v":""},"",{"$f":"IF(OR(E503=\"\",ISBLANK(E503)),\"\",VLOOKUP(E503,Sheet2!A:H,3,FALSE))","v":""},null,{"$f":"IF(OR(E503=\"\",ISBLANK(E503)),\"\",VLOOKUP(E503,Sheet2!A:G,6,FALSE))","v":""},""]
[{"$f":"IF(OR(E504=\"\",ISBLANK(E504)),\"\",VLOOKUP(E504,Sheet2!A:F,2,FALSE))","v":""},{"$f":"IF(OR(E504=\"\",ISBLANK(E504)),\"\",VLOOKUP(E504,Sheet2!A:G,4,FALSE))","v":""},"",{"$f":"IF(OR(E504=\"\",ISBLANK(E504)),\"\",VLOOKUP(E504,Sheet2!A:H,3,FALSE))","v":""},null,{"$f":"IF(OR(E504=\"\",ISBLANK(E504)),\"\",VLOOKUP(E504,Sheet2!A:G,6,FALSE))","v":""},""]
[{"$f":"IF(OR(E505=\"\",ISBLANK(E505)),\"\",VLOOKUP(E505,Sheet2!A:F,2,FALSE))","v":""},{"$f":"IF(OR(E505=\"\",ISBLANK(E505)),\"\",VLOOKUP(E505,Sheet2!A:G,4,FALSE))","v":""},"",{"$f":"IF(OR(E505=\"\",ISBLANK(E505)),\"\",VLOOKUP(E505,Sheet2!A:H,3,FALSE))","v":""},null,{"$f":"IF(OR(E505=\"\",ISBLANK(E505)),\"\",VLOOKUP(E505,Sheet2!A:G,6,FALSE))","v":""},""]
[{"$f":"IF(OR(E506=\"\",ISBLANK(E506)),\"\",VLOOKUP(E506,Sheet2!A:F,2,FALSE))","v":""},{"$f":"IF(OR(E506=\"\",ISBLANK(E506)),\"\",VLOOKUP(E506,Sheet2!A:G,4,FALSE))","v":""},"",{"$f":"IF(OR(E506=\"\",ISBLANK(E506)),\"\",VLOOKUP(E506,Sheet2!A:H,3,FALSE))","v":""},null,{"$f":"IF(OR(E506=\"\",ISBLANK(E506)),\"\",VLOOKUP(E506,Sheet2!A:G,6,FALSE))","v":""},""]
[{"$f":"IF(OR(E507=\"\",ISBLANK(E507)),\"\",VLOOKUP(E507,Sheet2!A:F,2,FALSE))","v":""},{"$f":"IF(OR(E507=\"\",ISBLANK(E507)),\"\",VLOOKUP(E507,Sheet2!A:G,4,FALSE))","v":""},"",{"$f":"IF(OR(E507=\"\",ISBLANK(E507)),\"\",VLOOKUP(E507,Sheet2!A:H,3,FALSE))","v":""},null,{"$f":"IF(OR(E507=\"\",ISBLANK(E507)),\"\",VLOOKUP(E507,Sheet2!A:G,6,FALSE))","v":""},""]
[{"$f":"IF(OR(E508=\"\",ISBLANK(E508)),\"\",VLOOKUP(E508,Sheet2!A:F,2,FALSE))","v":""},{"$f":"IF(OR(E508=\"\",ISBLANK(E508)),\"\",VLOOKUP(E508,Sheet2!A:G,4,FALSE))","v":""},"",{"$f":"IF(OR(E508=\"\",ISBLANK(E508)),\"\",VLOOKUP(E508,Sheet2!A:H,3,FALSE))","v":""},null,{"$f":"IF(OR(E508=\"\",ISBLANK(E508)),\"\",VLOOKUP(E508,Sheet2!A:G,6,FALSE))","v":""},""]
[{"$f":"IF(OR(E509=\"\",ISBLANK(E509)),\"\",VLOOKUP(E509,Sheet2!A:F,2,FALSE))","v":""},{"$f":"IF(OR(E509=\"\",ISBLANK(E509)),\"\",VLOOKUP(E509,Sheet2!A:G,4,FALSE))","v":""},"",{"$f":"IF(OR(E509=\"\",ISBLANK(E509)),\"\",VLOOKUP(E509,Sheet2!A:H,3,FALSE))","v":""},null,{"$f":"IF(OR(E509=\"\",ISBLANK(E509)),\"\",VLOOKUP(E509,Sheet2!A:G,6,FALSE))","v":""},""]
[{"$f":"IF(OR(E510=\"\",ISBLANK(E510)),\"\",VLOOKUP(E510,Sheet2!A:F,2,FALSE))","v":""},{"$f":"IF(OR(E510=\"\",ISBLANK(E510)),\"\",VLOOKUP(E510,Sheet2!A:G,4,FALSE))","v":""},"",{"$f":"IF(OR(E510=\"\",ISBLANK(E510)),\"\",VLOOKUP(E510,Sheet2!A:H,3,FALSE))","v":""},null,{"$f":"IF(OR(E510=\"\",ISBLANK(E510)),\"\",VLOOKUP(E510,Sheet2!A:G,6,FALSE))","v":""},""]
[{"$f":"IF(OR(E511=\"\",ISBLANK(E511)),\"\",VLOOKUP(E511,Sheet2!A:F,2,FALSE))","v":""},{"$f":"IF(OR(E511=\"\",ISBLANK(E511)),\"\",VLOOKUP(E511,Sheet2!A:G,4,FALSE))","v":""},"",{"$f":"IF(OR(E511=\"\",ISBLANK(E511)),\"\",VLOOKUP(E511,Sheet2!A:H,3,FALSE))","v":""},null,{"$f":"IF(OR(E511=\"\",ISBLANK(E511)),\"\",VLOOKUP(E511,Sheet2!A:G,6,FALSE))","v":""},""]
[{"$f":"IF(OR(E512=\"\",ISBLANK(E512)),\"\",VLOOKUP(E512,Sheet2!A:F,2,FALSE))","v":""},{"$f":"IF(OR(E512=\"\",ISBLANK(E512)),\"\",VLOOKUP(E512,Sheet2!A:G,4,FALSE))","v":""},"",{"$f":"IF(OR(E512=\"\",ISBLANK(E512)),\"\",VLOOKUP(E512,Sheet2!A:H,3,FALSE))","v":""},null,{"$f":"IF(OR(E512=\"\",ISBLANK(E512)),\"\",VLOOKUP(E512,Sheet2!A:G,6,FALSE))","v":""},""]
[{"$f":"IF(OR(E513=\"\",ISBLANK(E513)),\"\",VLOOKUP(E513,Sheet2!A:F,2,FALSE))","v":""},{"$f":"IF(OR(E513=\"\",ISBLANK(E513)),\"\",VLOOKUP(E513,Sheet2!A:G,4,FALSE))","v":""},"",{"$f":"IF(OR(E513=\"\",ISBLANK(E513)),\"\",VLOOKUP(E513,Sheet2!A:H,3,FALSE))","v":""},null,{"$f":"IF(OR(E513=\"\",ISBLANK(E513)),\"\",VLOOKUP(E513,Sheet2!A:G,6,FALSE))","v":""},""]
[{"$f":"IF(OR(E514=\"\",ISBLANK(E514)),\"\",VLOOKUP(E514,Sheet2!A:F,2,FALSE))","v":""},{"$f":"IF(OR(E514=\"\",ISBLANK(E514)),\"\",VLOOKUP(E514,Sheet2!A:G,4,FALSE))","v":""},"",{"$f":"IF(OR(E514=\"\",ISBLANK(E514)),\"\",VLOOKUP(E514,Sheet2!A:H,3,FALSE))","v":""},null,{"$f":"IF(OR(E514=\"\",ISBLANK(E514)),\"\",VLOOKUP(E514,Sheet2!A:G,6,FALSE))","v":""},""]
[{"$f":"IF(OR(E515=\"\",ISBLANK(E515)),\"\",VLOOKUP(E515,Sheet2!A:F,2,FALSE))","v":""},{"$f":"IF(OR(E515=\"\",ISBLANK(E515)),\"\",VLOOKUP(E515,Sheet2!A:G,4,FALSE))","v":""},{"$f":"IF(D515=0,\"\",D515)","v":""},{"$f":"IF(OR(E515=\"\",ISBLANK(E515)),\"\",VLOOKUP(E515,Sheet2!A:H,3,FALSE))","v":""},null,{"$f":"IF(OR(E515=\"\",ISBLANK(E515)),\"\",VLOOKUP(E515,Sheet2!A:G,6,FALSE))","v":""},{"$f":"IF(F515=0,\"\",F515)","v":""}]
[{"$f":"IF(OR(E516=\"\",ISBLANK(E516)),\"\",VLOOKUP(E516,Sheet2!A:F,2,FALSE))","v":""},{"$f":"IF(OR(E516=\"\",ISBLANK(E516)),\"\",VLOOKUP(E516,Sheet2!A:G,4,FALSE))","v":""},"",{"$f":"IF(OR(E516=\"\",ISBLANK(E516)),\"\",VLOOKUP(E516,Sheet2!A:H,3,FALSE))","v":""},null,{"$f":"IF(OR(E516=\"\",ISBLANK(E516)),\"\",VLOOKUP(E516,Sheet2!A:G,6,FALSE))","v":""},""]
[{"$f":"IF(OR(E517=\"\",ISBLANK(E517)),\"\",VLOOKUP(E517,Sheet2!A:F,2,FALSE))","v":""},{"$f":"IF(OR(E517=\"\",ISBLANK(E517)),\"\",VLOOKUP(E517,Sheet2!A:G,4,FALSE))","v":""},"",{"$f":"IF(OR(E517=\"\",ISBLANK(E517)),\"\",VLOOKUP(E517,Sheet2!A:H,3,FALSE))","v":""},null,{"$f":"IF(OR(E517=\"\",ISBLANK(E517)),\"\",VLOOKUP(E517,Sheet2!A:G,6,FALSE))","v":""},""]
[{"$f":"IF(OR(E518=\"\",ISBLANK(E518)),\"\",VLOOKUP(E518,Sheet2!A:F,2,FALSE))","v":""},{"$f":"IF(OR(E518=\"\",ISBLANK(E518)),\"\",VLOOKUP(E518,Sheet2!A:G,4,FALSE))","v":""},"",{"$f":"IF(OR(E518=\"\",ISBLANK(E518)),\"\",VLOOKUP(E518,Sheet2!A:H,3,FALSE))","v":""},null,{"$f":"IF(OR(E518=\"\",ISBLANK(E518)),\"\",VLOOKUP(E518,Sheet2!A:G,6,FALSE))","v":""},""]
[{"$f":"IF(OR(E519=\"\",ISBLANK(E519)),\"\",VLOOKUP(E519,Sheet2!A:F,2,FALSE))","v":""},{"$f":"IF(OR(E519=\"\",ISBLANK(E519)),\"\",VLOOKUP(E519,Sheet2!A:G,4,FALSE))","v":""},"",{"$f":"IF(OR(E519=\"\",ISBLANK(E519)),\"\",VLOOKUP(E519,Sheet2!A:H,3,FALSE))","v":""},null,{"$f":"IF(OR(E519=\"\",ISBLANK(E519)),\"\",VLOOKUP(E519,Sheet2!A:G,6,FALSE))","v":""},""]
[{"$f":"IF(OR(E520=\"\",ISBLANK(E520)),\"\",VLOOKUP(E520,Sheet2!A:F,2,FALSE))","v":""},{"$f":"IF(OR(E520=\"\",ISBLANK(E520)),\"\",VLOOKUP(E520,Sheet2!A:G,4,FALSE))","v":""},"",{"$f":"IF(OR(E520=\"\",ISBLANK(E520)),\"\",VLOOKUP(E520,Sheet2!A:H,3,FALSE))","v":""},null,{"$f":"IF(OR(E520=\"\",ISBLANK(E520)),\"\",VLOOKUP(E520,Sheet2!A:G,6,FALSE))","v":""},""]
[{"$f":"IF(OR(E521=\"\",ISBLANK(E521)),\"\",VLOOKUP(E521,Sheet2!A:F,2,FALSE))","v":""},{"$f":"IF(OR(E521=\"\",ISBLANK(E521)),\"\",VLOOKUP(E521,Sheet2!A:G,4,FALSE))","v":""},"",{"$f":"IF(OR(E521=\"\",ISBLANK(E521)),\"\",VLOOKUP(E521,Sheet2!A:H,3,FALSE))","v":""},null,{"$f":"IF(OR(E521=\"\",ISBLANK(E521)),\"\",VLOOKUP(E521,Sheet2!A:G,6,FALSE))","v":""},""]
[{"$f":"IF(OR(E522=\"\",ISBLANK(E522)),\"\",VLOOKUP(E522,Sheet2!A:F,2,FALSE))","v":""},{"$f":"IF(OR(E522=\"\",ISBLANK(E522)),\"\",VLOOKUP(E522,Sheet2!A:G,4,FALSE))","v":""},"",{"$f":"IF(OR(E522=\"\",ISBLANK(E522)),\"\",VLOOKUP(E522,Sheet2!A:H,3,FALSE))","v":""},null,{"$f":"IF(OR(E522=\"\",ISBLANK(E522)),\"\",VLOOKUP(E522,Sheet2!A:G,6,FALSE))","v":""},""]
[{"$f":"IF(OR(E523=\"\",ISBLANK(E523)),\"\",VLOOKUP(E523,Sheet2!A:F,2,FALSE))","v":""},{"$f":"IF(OR(E523=\"\",ISBLANK(E523)),\"\",VLOOKUP(E523,Sheet2!A:G,4,FALSE))","v":""},"",{"$f":"IF(OR(E523=\"\",ISBLANK(E523)),\"\",VLOOKUP(E523,Sheet2!A:H,3,FALSE))","v":""},null,{"$f":"IF(OR(E523=\"\",ISBLANK(E523)),\"\",VLOOKUP(E523,Sheet2!A:G,6,FALSE))","v":""},""]
[{"$f":"IF(OR(E524=\"\",ISBLANK(E524)),\"\",VLOOKUP(E524,Sheet2!A:F,2,FALSE))","v":""},{"$f":"IF(OR(E524=\"\",ISBLANK(E524)),\"\",VLOOKUP(E524,Sheet2!A:G,4,FALSE))","v":""},"",{"$f":"IF(OR(E524=\"\",ISBLANK(E524)),\"\",VLOOKUP(E524,Sheet2!A:H,3,FALSE))","v":""},null,{"$f":"IF(OR(E524=\"\",ISBLANK(E524)),\"\",VLOOKUP(E524,Sheet2!A:G,6,FALSE))","v":""},""]
[{"$f":"IF(OR(E525=\"\",ISBLANK(E525)),\"\",VLOOKUP(E525,Sheet2!A:F,2,FALSE))","v":""},{"$f":"IF(OR(E525=\"\",ISBLANK(E525)),\"\",VLOOKUP(E525,Sheet2!A:G,4,FALSE))","v":""},"",{"$f":"IF(OR(E525=\"\",ISBLANK(E525)),\"\",VLOOKUP(E525,Sheet2!A:H,3,FALSE))","v":""},null,{"$f":"IF(OR(E525=\"\",ISBLANK(E525)),\"\",VLOOKUP(E525,Sheet2!A:G,6,FALSE))","v":""},""]
[{"$f":"IF(OR(E526=\"\",ISBLANK(E526)),\"\",VLOOKUP(E526,Sheet2!A:F,2,FALSE))","v":""},{"$f":"IF(OR(E526=\"\",ISBLANK(E526)),\"\",VLOOKUP(E526,Sheet2!A:G,4,FALSE))","v":""},"",{"$f":"IF(OR(E526=\"\",ISBLANK(E526)),\"\",VLOOKUP(E526,Sheet2!A:H,3,FALSE))","v":""},null,{"$f":"IF(OR(E526=\"\",ISBLANK(E526)),\"\",VLOOKUP(E526,Sheet2!A:G,6,FALSE))","v":""},""]
[{"$f":"IF(OR(E527=\"\",ISBLANK(E527)),\"\",VLOOKUP(E527,Sheet2!A:F,2,FALSE))","v":""},{"$f":"IF(OR(E527=\"\",ISBLANK(E527)),\"\",VLOOKUP(E527,Sheet2!A:G,4,FALSE))","v":""},"",{"$f":"IF(OR(E527=\"\",ISBLANK(E527)),\"\",VLOOKUP(E527,Sheet2!A:H,3,FALSE))","v":""},null,{"$f":"IF(OR(E527=\"\",ISBLANK(E527)),\"\",VLOOKUP(E527,Sheet2!A:G,6,FALSE))","v":""},""]
[{"$f":"IF(OR(E528=\"\",ISBLANK(E528)),\"\",VLOOKUP(E528,Sheet2!A:F,2,FALSE))","v":""},{"$f":"IF(OR(E528=\"\",ISBLANK(E528)),\"\",VLOOKUP(E528,Sheet2!A:G,4,FALSE))","v":""},"",{"$f":"IF(OR(E528=\"\",ISBLANK(E528)),\"\",VLOOKUP(E528,Sheet2!A:H,3,FALSE))","v":""},null,{"$f":"IF(OR(E528=\"\",ISBLANK(E528)),\"\",VLOOKUP(E528,Sheet2!A:G,6,FALSE))","v":""},""]
[{"$f":"IF(OR(E529=\"\",ISBLANK(E529)),\"\",VLOOKUP(E529,Sheet2!A:F,2,FALSE))","v":""},{"$f":"IF(OR(E529=\"\",ISBLANK(E529)),\"\",VLOOKUP(E529,Sheet2!A:G,4,FALSE))","v":""},"",{"$f":"IF(OR(E529=\"\",ISBLANK(E529)),\"\",VLOOKUP(E529,Sheet2!A:H,3,FALSE))","v":""},null,{"$f":"IF(OR(E529=\"\",ISBLANK(E529)),\"\",VLOOKUP(E529,Sheet2!A:G,6,FALSE))","v":""},""]
[{"$f":"IF(OR(E530=\"\",ISBLANK(E530)),\"\",VLOOKUP(E530,Sheet2!A:F,2,FALSE))","v":""},{"$f":"IF(OR(E530=\"\",ISBLANK(E530)),\"\",VLOOKUP(E530,Sheet2!A:G,4,FALSE))","v":""},"",{"$f":"IF(OR(E530=\"\",ISBLANK(E530)),\"\",VLOOKUP(E530,Sheet2!A:H,3,FALSE))","v":""},null,{"$f":"IF(OR(E530=\"\",ISBLANK(E530)),\"\",VLOOKUP(E530,Sheet2!A:G,6,FALSE))","v":""},""]
[{"$f":"IF(OR(E531=\"\",ISBLANK(E531)),\"\",VLOOKUP(E531,Sheet2!A:F,2,FALSE))","v":""},{"$f":"IF(OR(E531=\"\",ISBLANK(E531)),\"\",VLOOKUP(E531,Sheet2!A:G,4,FALSE))","v":""},"",{"$f":"IF(OR(E531=\"\",ISBLANK(E531)),\"\",VLOOKUP(E531,Sheet2!A:H,3,FALSE))","v":""},null,{"$f":"IF(OR(E531=\"\",ISBLANK(E531)),\"\",VLOOKUP(E531,Sheet2!A:G,6,FALSE))","v":""},""]
[{"$f":"IF(OR(E532=\"\",ISBLANK(E532)),\"\",VLOOKUP(E532,Sheet2!A:F,2,FALSE))","v":""},{"$f":"IF(OR(E532=\"\",ISBLANK(E532)),\"\",VLOOKUP(E532,Sheet2!A:G,4,FALSE))","v":""},"",{"$f":"IF(OR(E532=\"\",ISBLANK(E532)),\"\",VLOOKUP(E532,Sheet2!A:H,3,FALSE))","v":""},null,{"$f":"IF(OR(E532=\"\",ISBLANK(E532)),\"\",VLOOKUP(E532,Sheet2!A:G,6,FALSE))","v":""},""]
[{"$f":"IF(OR(E533=\"\",ISBLANK(E533)),\"\",VLOOKUP(E533,Sheet2!A:F,2,FALSE))","v":""},{"$f":"IF(OR(E533=\"\",ISBLANK(E533)),\"\",VLOOKUP(E533,Sheet2!A:G,4,FALSE))","v":""},"",{"$f":"IF(OR(E533=\"\",ISBLANK(E533)),\"\",VLOOKUP(E533,Sheet2!A:H,3,FALSE))","v":""},null,{"$f":"IF(OR(E533=\"\",ISBLANK(E533)),\"\",VLOOKUP(E533,Sheet2!A:G,6,FALSE))","v":""},""]
[{"$f":"IF(OR(E534=\"\",ISBLANK(E534)),\"\",VLOOKUP(E534,Sheet2!A:F,2,FALSE))","v":""},{"$f":"IF(OR(E534=\"\",ISBLANK(E534)),\"\",VLOOKUP(E534,Sheet2!A:G,4,FALSE))","v":""},"",{"$f":"IF(OR(E534=\"\",ISBLANK(E534)),\"\",VLOOKUP(E534,Sheet2!A:H,3,FALSE))","v":""},null,{"$f":"IF(OR(E534=\"\",ISBLANK(E534)),\"\",VLOOKUP(E534,Sheet2!A:G,6,FALSE))","v":""},""]
[{"$f":"IF(OR(E535=\"\",ISBLANK(E535)),\"\",VLOOKUP(E535,Sheet2!A:F,2,FALSE))","v":""},{"$f":"IF(OR(E535=\"\",ISBLANK(E535)),\"\",VLOOKUP(E535,Sheet2!A:G,4,FALSE))","v":""},"",{"$f":"IF(OR(E535=\"\",ISBLANK(E535)),\"\",VLOOKUP(E535,Sheet2!A:H,3,FALSE))","v":""},null,{"$f":"IF(OR(E535=\"\",ISBLANK(E535)),\"\",VLOOKUP(E535,Sheet2!A:G,6,FALSE))","v":""},""]
[{"$f":"IF(OR(E536=\"\",ISBLANK(E536)),\"\",VLOOKUP(E536,Sheet2!A:F,2,FALSE))","v":""},{"$f":"IF(OR(E536=\"\",ISBLANK(E536)),\"\",VLOOKUP(E536,Sheet2!A:G,4,FALSE))","v":""},"",{"$f":"IF(OR(E536=\"\",ISBLANK(E536)),\"\",VLOOKUP(E536,Sheet2!A:H,3,FALSE))","v":""},null,{"$f":"IF(OR(E536=\"\",ISBLANK(E536)),\"\",VLOOKUP(E536,Sheet2!A:G,6,FALSE))","v":""},""]
[{"$f":"IF(OR(E537=\"\",ISBLANK(E537)),\"\",VLOOKUP(E537,Sheet2!A:F,2,FALSE))","v":""},{"$f":"IF(OR(E537=\"\",ISBLANK(E537)),\"\",VLOOKUP(E537,Sheet2!A:G,4,FALSE))","v":""},"",{"$f":"IF(OR(E537=\"\",ISBLANK(E537)),\"\",VLOOKUP(E537,Sheet2!A:H,3,FALSE))","v":""},null,{"$f":"IF(OR(E537=\"\",ISBLANK(E537)),\"\",VLOOKUP(E537,Sheet2!A:G,6,FALSE))","v":""},""]
[{"$f":"IF(OR(E538=\"\",ISBLANK(E538)),\"\",VLOOKUP(E538,Sheet2!A:F,2,FALSE))","v":""},{"$f":"IF(OR(E538=\"\",ISBLANK(E538)),\"\",VLOOKUP(E538,Sheet2!A:G,4,FALSE))","v":""},"",{"$f":"IF(OR(E538=\"\",ISBLANK(E538)),\"\",VLOOKUP(E538,Sheet2!A:H,3,FALSE))","v":""},null,{"$f":"IF(OR(E538=\"\",ISBLANK(E538)),\"\",VLOOKUP(E538,Sheet2!A:G,6,FALSE))","v":""},""]
[{"$f":"IF(OR(E539=\"\",ISBLANK(E539)),\"\",VLOOKUP(E539,Sheet2!A:F,2,FALSE))","v":""},{"$f":"IF(OR(E539=\"\",ISBLANK(E539)),\"\",VLOOKUP(E539,Sheet2!A:G,4,FALSE))","v":""},"",{"$f":"IF(OR(E539=\"\",ISBLANK(E539)),\"\",VLOOKUP(E539,Sheet2!A:H,3,FALSE))","v":""},null,{"$f":"IF(OR(E539=\"\",ISBLANK(E539)),\"\",VLOOKUP(E539,Sheet2!A:G,6,FALSE))","v":""},""]
[{"$f":"IF(OR(E540=\"\",ISBLANK(E540)),\"\",VLOOKUP(E540,Sheet2!A:F,2,FALSE))","v":""},{"$f":"IF(OR(E540=\"\",ISBLANK(E540)),\"\",VLOOKUP(E540,Sheet2!A:G,4,FALSE))","v":""},"",{"$f":"IF(OR(E540=\"\",ISBLANK(E540)),\"\",VLOOKUP(E540,Sheet2!A:H,3,FALSE))","v":""},null,{"$f":"IF(OR(E540=\"\",ISBLANK(E540)),\"\",VLOOKUP(E540,Sheet2!A:G,6,FALSE))","v":""},""]
[{"$f":"IF(OR(E541=\"\",ISBLANK(E541)),\"\",VLOOKUP(E541,Sheet2!A:F,2,FALSE))","v":""},{"$f":"IF(OR(E541=\"\",ISBLANK(E541)),\"\",VLOOKUP(E541,Sheet2!A:G,4,FALSE))","v":""},"",{"$f":"IF(OR(E541=\"\",ISBLANK(E541)),\"\",VLOOKUP(E541,Sheet2!A:H,3,FALSE))","v":""},null,{"$f":"IF(OR(E541=\"\",ISBLANK(E541)),\"\",VLOOKUP(E541,Sheet2!A:G,6,FALSE))","v":""},""]
[{"$f":"IF(OR(E542=\"\",ISBLANK(E542)),\"\",VLOOKUP(E542,Sheet2!A:F,2,FALSE))","v":""},{"$f":"IF(OR(E542=\"\",ISBLANK(E542)),\"\",VLOOKUP(E542,Sheet2!A:G,4,FALSE))","v":""},"",{"$f":"IF(OR(E542=\"\",ISBLANK(E542)),\"\",VLOOKUP(E542,Sheet2!A:H,3,FALSE))","v":""},null,{"$f":"IF(OR(E542=\"\",ISBLANK(E542)),\"\",VLOOKUP(E542,Sheet2!A:G,6,FALSE))","v":""},""]
[{"$f":"IF(OR(E543=\"\",ISBLANK(E543)),\"\",VLOOKUP(E543,Sheet2!A:F,2,FALSE))","v":""},{"$f":"IF(OR(E543=\"\",ISBLANK(E543)),\"\",VLOOKUP(E543,Sheet2!A:G,4,FALSE))","v":""},"",{"$f":"IF(OR(E543=\"\",ISBLANK(E543)),\"\",VLOOKUP(E543,Sheet2!A:H,3,FALSE))","v":""},null,{"$f":"IF(OR(E543=\"\",ISBLANK(E543)),\"\",VLOOKUP(E543,Sheet2!A:G,6,FALSE))","v":""},""]
[{"$f":"IF(OR(E544=\"\",ISBLANK(E544)),\"\",VLOOKUP(E544,Sheet2!A:F,2,FALSE))","v":""},{"$f":"IF(OR(E544=\"\",ISBLANK(E544)),\"\",VLOOKUP(E544,Sheet2!A:G,4,FALSE))","v":""},"",{"$f":"IF(OR(E544=\"\",ISBLANK(E544)),\"\",VLOOKUP(E544,Sheet2!A:H,3,FALSE))","v":""},null,{"$f":"IF(OR(E544=\"\",ISBLANK(E544)),\"\",VLOOKUP(E544,Sheet2!A:G,6,FALSE))","v":""},""]
[{"$f":"IF(OR(E545=\"\",ISBLANK(E545)),\"\",VLOOKUP(E545,Sheet2!A:F,2,FALSE))","v":""},{"$f":"IF(OR(E545=\"\",ISBLANK(E545)),\"\",VLOOKUP(E545,Sheet2!A:G,4,FALSE))","v":""},"",{"$f":"IF(OR(E545=\"\",ISBLANK(E545)),\"\",VLOOKUP(E545,Sheet2!A:H,3,FALSE))","v":""},null,{"$f":"IF(OR(E545=\"\",ISBLANK(E545)),\"\",VLOOKUP(E545,Sheet2!A:G,6,FALSE))","v":""},""]
[{"$f":"IF(OR(E546=\"\",ISBLANK(E546)),\"\",VLOOKUP(E546,Sheet2!A:F,2,FALSE))","v":""},{"$f":"IF(OR(E546=\"\",ISBLANK(E546)),\"\",VLOOKUP(E546,Sheet2!A:G,4,FALSE))","v":""},"",{"$f":"IF(OR(E546=\"\",ISBLANK(E546)),\"\",VLOOKUP(E546,Sheet2!A:H,3,FALSE))","v":""},null,{"$f":"IF(OR(E546=\"\",ISBLANK(E546)),\"\",VLOOKUP(E546,Sheet2!A:G,6,FALSE))","v":""},""]
[{"$f":"IF(OR(E547=\"\",ISBLANK(E547)),\"\",VLOOKUP(E547,Sheet2!A:F,2,FALSE))","v":""},{"$f":"IF(OR(E547=\"\",ISBLANK(E547)),\"\",VLOOKUP(E547,Sheet2!A:G,4,FALSE))","v":""},"",{"$f":"IF(OR(E547=\"\",ISBLANK(E547)),\"\",VLOOKUP(E547,Sheet2!A:H,3,FALSE))","v":""},null,{"$f":"IF(OR(E547=\"\",ISBLANK(E547)),\"\",VLOOKUP(E547,Sheet2!A:G,6,FALSE))","v":""},""]
[{"$f":"IF(OR(E548=\"\",ISBLANK(E548)),\"\",VLOOKUP(E548,Sheet2!A:F,2,FALSE))","v":""},{"$f":"IF(OR(E548=\"\",ISBLANK(E548)),\"\",VLOOKUP(E548,Sheet2!A:G,4,FALSE))","v":""},"",{"$f":"IF(OR(E548=\"\",ISBLANK(E548)),\"\",VLOOKUP(E548,Sheet2!A:H,3,FALSE))","v":""},null,{"$f":"IF(OR(E548=\"\",ISBLANK(E548)),\"\",VLOOKUP(E548,Sheet2!A:G,6,FALSE))","v":""},""]
[{"$f":"IF(OR(E549=\"\",ISBLANK(E549)),\"\",VLOOKUP(E549,Sheet2!A:F,2,FALSE))","v":""},{"$f":"IF(OR(E549=\"\",ISBLANK(E549)),\"\",VLOOKUP(E549,Sheet2!A:G,4,FALSE))","v":""},"",{"$f":"IF(OR(E549=\"\",ISBLANK(E549)),\"\",VLOOKUP(E549,Sheet2!A:H,3,FALSE))","v":""},null,{"$f":"IF(OR(E549=\"\",ISBLANK(E549)),\"\",VLOOKUP(E549,Sheet2!A:G,6,FALSE))","v":""},""]
[{"$f":"IF(OR(E550=\"\",ISBLANK(E550)),\"\",VLOOKUP(E550,Sheet2!A:F,2,FALSE))","v":""},{"$f":"IF(OR(E550=\"\",ISBLANK(E550)),\"\",VLOOKUP(E550,Sheet2!A:G,4,FALSE))","v":""},"",{"$f":"IF(OR(E550=\"\",ISBLANK(E550)),\"\",VLOOKUP(E550,Sheet2!A:H,3,FALSE))","v":""},null,{"$f":"IF(OR(E550=\"\",ISBLANK(E550)),\"\",VLOOKUP(E550,Sheet2!A:G,6,FALSE))","v":""},""]
[{"$f":"IF(OR(E551=\"\",ISBLANK(E551)),\"\",VLOOKUP(E551,Sheet2!A:F,2,FALSE))","v":""},{"$f":"IF(OR(E551=\"\",ISBLANK(E551)),\"\",VLOOKUP(E551,Sheet2!A:G,4,FALSE))","v":""},"",{"$f":"IF(OR(E551=\"\",ISBLANK(E551)),\"\",VLOOKUP(E551,Sheet2!A:H,3,FALSE))","v":""},null,{"$f":"IF(OR(E551=\"\",ISBLANK(E551)),\"\",VLOOKUP(E551,Sheet2!A:G,6,FALSE))","v":""},""]
[{"$f":"IF(OR(E552=\"\",ISBLANK(E552)),\"\",VLOOKUP(E552,Sheet2!A:F,2,FALSE))","v":""},{"$f":"IF(OR(E552=\"\",ISBLANK(E552)),\"\",VLOOKUP(E552,Sheet2!A:G,4,FALSE))","v":""},"",{"$f":"IF(OR(E552=\"\",ISBLANK(E552)),\"\",VLOOKUP(E552,Sheet2!A:H,3,FALSE))","v":""},null,{"$f":"IF(OR(E552=\"\",ISBLANK(E552)),\"\",VLOOKUP(E552,Sheet2!A:G,6,FALSE))","v":""},""]
[{"$f":"IF(OR(E553=\"\",ISBLANK(E553)),\"\",VLOOKUP(E553,Sheet2!A:F,2,FALSE))","v":""},{"$f":"IF(OR(E553=\"\",ISBLANK(E553)),\"\",VLOOKUP(E553,Sheet2!A:G,4,FALSE))","v":""},"",{"$f":"IF(OR(E553=\"\",ISBLANK(E553)),\"\",VLOOKUP(E553,Sheet2!A:H,3,FALSE))","v":""},null,{"$f":"IF(OR(E553=\"\",ISBLANK(E553)),\"\",VLOOKUP(E553,Sheet2!A:G,6,FALSE))","v":""},""]
[{"$f":"IF(OR(E554=\"\",ISBLANK(E554)),\"\",VLOOKUP(E554,Sheet2!A:F,2,FALSE))","v":""},{"$f":"IF(OR(E554=\"\",ISBLANK(E554)),\"\",VLOOKUP(E554,Sheet2!A:G,4,FALSE))","v":""},"",{"$f":"IF(OR(E554=\"\",ISBLANK(E554)),\"\",VLOOKUP(E554,Sheet2!A:H,3,FALSE))","v":""},null,{"$f":"IF(OR(E554=\"\",ISBLANK(E554)),\"\",VLOOKUP(E554,Sheet2!A:G,6,FALSE))","v":""},""]
[{"$f":"IF(OR(E555=\"\",ISBLANK(E555)),\"\",VLOOKUP(E555,Sheet2!A:F,2,FALSE))","v":""},{"$f":"IF(OR(E555=\"\",ISBLANK(E555)),\"\",VLOOKUP(E555,Sheet2!A:G,4,FALSE))","v":""},"",{"$f":"IF(OR(E555=\"\",ISBLANK(E555)),\"\",VLOOKUP(E555,Sheet2!A:H,3,FALSE))","v":""},null,{"$f":"IF(OR(E555=\"\",ISBLANK(E555)),\"\",VLOOKUP(E555,Sheet2!A:G,6,FALSE))","v":""},""]
[{"$f":"IF(OR(E556=\"\",ISBLANK(E556)),\"\",VLOOKUP(E556,Sheet2!A:F,2,FALSE))","v":""},{"$f":"IF(OR(E556=\"\",ISBLANK(E556)),\"\",VLOOKUP(E556,Sheet2!A:G,4,FALSE))","v":""},"",{"$f":"IF(OR(E556=\"\",ISBLANK(E556)),\"\",VLOOKUP(E556,Sheet2!A:H,3,FALSE))","v":""},null,{"$f":"IF(OR(E556=\"\",ISBLANK(E556)),\"\",VLOOKUP(E556,Sheet2!A:G,6,FALSE))","v":""},""]
[{"$f":"IF(OR(E557=\"\",ISBLANK(E557)),\"\",VLOOKUP(E557,Sheet2!A:F,2,FALSE))","v":""},{"$f":"IF(OR(E557=\"\",ISBLANK(E557)),\"\",VLOOKUP(E557,Sheet2!A:G,4,FALSE))","v":""},"",{"$f":"IF(OR(E557=\"\",ISBLANK(E557)),\"\",VLOOKUP(E557,Sheet2!A:H,3,FALSE))","v":""},null,{"$f":"IF(OR(E557=\"\",ISBLANK(E557)),\"\",VLOOKUP(E557,Sheet2!A:G,6,FALSE))","v":""},""]
[{"$f":"IF(OR(E558=\"\",ISBLANK(E558)),\"\",VLOOKUP(E558,Sheet2!A:F,2,FALSE))","v":""},{"$f":"IF(OR(E558=\"\",ISBLANK(E558)),\"\",VLOOKUP(E558,Sheet2!A:G,4,FALSE))","v":""},"",{"$f":"IF(OR(E558=\"\",ISBLANK(E558)),\"\",VLOOKUP(E558,Sheet2!A:H,3,FALSE))","v":""},null,{"$f":"IF(OR(E558=\"\",ISBLANK(E558)),\"\",VLOOKUP(E558,Sheet2!A:G,6,FALSE))","v":""},""]
[{"$f":"IF(OR(E559=\"\",ISBLANK(E559)),\"\",VLOOKUP(E559,Sheet2!A:F,2,FALSE))","v":""},{"$f":"IF(OR(E559=\"\",ISBLANK(E559)),\"\",VLOOKUP(E559,Sheet2!A:G,4,FALSE))","v":""},"",{"$f":"IF(OR(E559=\"\",ISBLANK(E559)),\"\",VLOOKUP(E559,Sheet2!A:H,3,FALSE))","v":""},null,{"$f":"IF(OR(E559=\"\",ISBLANK(E559)),\"\",VLOOKUP(E559,Sheet2!A:G,6,FALSE))","v":""},""]
[{"$f":"IF(OR(E560=\"\",ISBLANK(E560)),\"\",VLOOKUP(E560,Sheet2!A:F,2,FALSE))","v":""},{"$f":"IF(OR(E560=\"\",ISBLANK(E560)),\"\",VLOOKUP(E560,Sheet2!A:G,4,FALSE))","v":""},"",{"$f":"IF(OR(E560=\"\",ISBLANK(E560)),\"\",VLOOKUP(E560,Sheet2!A:H,3,FALSE))","v":""},null,{"$f":"IF(OR(E560=\"\",ISBLANK(E560)),\"\",VLOOKUP(E560,Sheet2!A:G,6,FALSE))","v":""},""]
[{"$f":"IF(OR(E561=\"\",ISBLANK(E561)),\"\",VLOOKUP(E561,Sheet2!A:F,2,FALSE))","v":""},{"$f":"IF(OR(E561=\"\",ISBLANK(E561)),\"\",VLOOKUP(E561,Sheet2!A:G,4,FALSE))","v":""},"",{"$f":"IF(OR(E561=\"\",ISBLANK(E561)),\"\",VLOOKUP(E561,Sheet2!A:H,3,FALSE))","v":""},null,{"$f":"IF(OR(E561=\"\",ISBLANK(E561)),\"\",VLOOKUP(E561,Sheet2!A:G,6,FALSE))","v":""},""]
[{"$f":"IF(OR(E562=\"\",ISBLANK(E562)),\"\",VLOOKUP(E562,Sheet2!A:F,2,FALSE))","v":""},{"$f":"IF(OR(E562=\"\",ISBLANK(E562)),\"\",VLOOKUP(E562,Sheet2!A:G,4,FALSE))","v":""},"",{"$f":"IF(OR(E562=\"\",ISBLANK(E562)),\"\",VLOOKUP(E562,Sheet2!A:H,3,FALSE))","v":""},null,{"$f":"IF(OR(E562=\"\",ISBLANK(E562)),\"\",VLOOKUP(E562,Sheet2!A:G,6,FALSE))","v":""},""]
[{"$f":"IF(OR(E563=\"\",ISBLANK(E563)),\"\",VLOOKUP(E563,Sheet2!A:F,2,FALSE))","v":""},{"$f":"IF(OR(E563=\"\",ISBLANK(E563)),\"\",VLOOKUP(E563,Sheet2!A:G,4,FALSE))","v":""},"",{"$f":"IF(OR(E563=\"\",ISBLANK(E563)),\"\",VLOOKUP(E563,Sheet2!A:H,3,FALSE))","v":""},null,{"$f":"IF(OR(E563=\"\",ISBLANK(E563)),\"\",VLOOKUP(E563,Sheet2!A:G,6,FALSE))","v":""},""]
[{"$f":"IF(OR(E564=\"\",ISBLANK(E564)),\"\",VLOOKUP(E564,Sheet2!A:F,2,FALSE))","v":""},{"$f":"IF(OR(E564=\"\",ISBLANK(E564)),\"\",VLOOKUP(E564,Sheet2!A:G,4,FALSE))","v":""},"",{"$f":"IF(OR(E564=\"\",ISBLANK(E564)),\"\",VLOOKUP(E564,Sheet2!A:H,3,FALSE))","v":""},null,{"$f":"IF(OR(E564=\"\",ISBLANK(E564)),\"\",VLOOKUP(E564,Sheet2!A:G,6,FALSE))","v":""},""]
[{"$f":"IF(OR(E565=\"\",ISBLANK(E565)),\"\",VLOOKUP(E565,Sheet2!A:F,2,FALSE))","v":""},{"$f":"IF(OR(E565=\"\",ISBLANK(E565)),\"\",VLOOKUP(E565,Sheet2!A:G,4,FALSE))","v":""},"",{"$f":"IF(OR(E565=\"\",ISBLANK(E565)),\"\",VLOOKUP(E565,Sheet2!A:H,3,FALSE))","v":""},null,{"$f":"IF(OR(E565=\"\",ISBLANK(E565)),\"\",VLOOKUP(E565,Sheet2!A:G,6,FALSE))","v":""},""]
[{"$f":"IF(OR(E566=\"\",ISBLANK(E566)),\"\",VLOOKUP(E566,Sheet2!A:F,2,FALSE))","v":""},{"$f":"IF(OR(E566=\"\",ISBLANK(E566)),\"\",VLOOKUP(E566,Sheet2!A:G,4,FALSE))","v":""},"",{"$f":"IF(OR(E566=\"\",ISBLANK(E566)),\"\",VLOOKUP(E566,Sheet2!A:H,3,FALSE))","v":""},null,{"$f":"IF(OR(E566=\"\",ISBLANK(E566)),\"\",VLOOKUP(E566,Sheet2!A:G,6,FALSE))","v":""},""]
[{"$f":"IF(OR(E567=\"\",ISBLANK(E567)),\"\",VLOOKUP(E567,Sheet2!A:F,2,FALSE))","v":""},{"$f":"IF(OR(E567=\"\",ISBLANK(E567)),\"\",VLOOKUP(E567,Sheet2!A:G,4,FALSE))","v":""},"",{"$f":"IF(OR(E567=\"\",ISBLANK(E567)),\"\",VLOOKUP(E567,Sheet2!A:H,3,FALSE))","v":""},null,{"$f":"IF(OR(E567=\"\",ISBLANK(E567)),\"\",VLOOKUP(E567,Sheet2!A:G,6,FALSE))","v":""},""]
[{"$f":"IF(OR(E568=\"\",ISBLANK(E568)),\"\",VLOOKUP(E568,Sheet2!A:F,2,FALSE))","v":""},{"$f":"IF(OR(E568=\"\",ISBLANK(E568)),\"\",VLOOKUP(E568,Sheet2!A:G,4,FALSE))","v":""},"",{"$f":"IF(OR(E568=\"\",ISBLANK(E568)),\"\",VLOOKUP(E568,Sheet2!A:H,3,FALSE))","v":""},null,{"$f":"IF(OR(E568=\"\",ISBLANK(E568)),\"\",VLOOKUP(E568,Sheet2!A:G,6,FALSE))","v":""},""]
[{"$f":"IF(OR(E569=\"\",ISBLANK(E569)),\"\",VLOOKUP(E569,Sheet2!A:F,2,FALSE))","v":""},{"$f":"IF(OR(E569=\"\",ISBLANK(E569)),\"\",VLOOKUP(E569,Sheet2!A:G,4,FALSE))","v":""},"",{"$f":"IF(OR(E569=\"\",ISBLANK(E569)),\"\",VLOOKUP(E569,Sheet2!A:H,3,FALSE))","v":""},null,{"$f":"IF(OR(E569=\"\",ISBLANK(E569)),\"\",VLOOKUP(E569,Sheet2!A:G,6,FALSE))","v":""},""]
[{"$f":"IF(OR(E570=\"\",ISBLANK(E570)),\"\",VLOOKUP(E570,Sheet2!A:F,2,FALSE))","v":""},{"$f":"IF(OR(E570=\"\",ISBLANK(E570)),\"\",VLOOKUP(E570,Sheet2!A:G,4,FALSE))","v":""},"",{"$f":"IF(OR(E570=\"\",ISBLANK(E570)),\"\",VLOOKUP(E570,Sheet2!A:H,3,FALSE))","v":""},null,{"$f":"IF(OR(E570=\"\",ISBLANK(E570)),\"\",VLOOKUP(E570,Sheet2!A:G,6,FALSE))","v":""},""]
[{"$f":"IF(OR(E571=\"\",ISBLANK(E571)),\"\",VLOOKUP(E571,Sheet2!A:F,2,FALSE))","v":""},{"$f":"IF(OR(E571=\"\",ISBLANK(E571)),\"\",VLOOKUP(E571,Sheet2!A:G,4,FALSE))","v":""},"",{"$f":"IF(OR(E571=\"\",ISBLANK(E571)),\"\",VLOOKUP(E571,Sheet2!A:H,3,FALSE))","v":""},null,{"$f":"IF(OR(E571=\"\",ISBLANK(E571)),\"\",VLOOKUP(E571,Sheet2!A:G,6,FALSE))","v":""},""]
[{"$f":"IF(OR(E572=\"\",ISBLANK(E572)),\"\",VLOOKUP(E572,Sheet2!A:F,2,FALSE))","v":""},{"$f":"IF(OR(E572=\"\",ISBLANK(E572)),\"\",VLOOKUP(E572,Sheet2!A:G,4,FALSE))","v":""},"",{"$f":"IF(OR(E572=\"\",ISBLANK(E572)),\"\",VLOOKUP(E572,Sheet2!A:H,3,FALSE))","v":""},null,{"$f":"IF(OR(E572=\"\",ISBLANK(E572)),\"\",VLOOKUP(E572,Sheet2!A:G,6,FALSE))","v":""},""]
[{"$f":"IF(OR(E573=\"\",ISBLANK(E573)),\"\",VLOOKUP(E573,Sheet2!A:F,2,FALSE))","v":""},{"$f":"IF(OR(E573=\"\",ISBLANK(E573)),\"\",VLOOKUP(E573,Sheet2!A:G,4,FALSE))","v":""},"",{"$f":"IF(OR(E573=\"\",ISBLANK(E573)),\"\",VLOOKUP(E573,Sheet2!A:H,3,FALSE))","v":""},null,{"$f":"IF(OR(E573=\"\",ISBLANK(E573)),\"\",VLOOKUP(E573,Sheet2!A:G,6,FALSE))","v":""},""]
[{"$f":"IF(OR(E574=\"\",ISBLANK(E574)),\"\",VLOOKUP(E574,Sheet2!A:F,2,FALSE))","v":""},{"$f":"IF(OR(E574=\"\",ISBLANK(E574)),\"\",VLOOKUP(E574,Sheet2!A:G,4,FALSE))","v":""},"",{"$f":"IF(OR(E574=\"\",ISBLANK(E574)),\"\",VLOOKUP(E574,Sheet2!A:H,3,FALSE))","v":""},null,{"$f":"IF(OR(E574=\"\",ISBLANK(E574)),\"\",VLOOKUP(E574,Sheet2!A:G,6,FALSE))","v":""},""]
[{"$f":"IF(OR(E575=\"\",ISBLANK(E575)),\"\",VLOOKUP(E575,Sheet2!A:F,2,FALSE))","v":""},{"$f":"IF(OR(E575=\"\",ISBLANK(E575)),\"\",VLOOKUP(E575,Sheet2!A:G,4,FALSE))","v":""},"",{"$f":"IF(OR(E575=\"\",ISBLANK(E575)),\"\",VLOOKUP(E575,Sheet2!A:H,3,FALSE))","v":""},null,{"$f":"IF(OR(E575=\"\",ISBLANK(E575)),\"\",VLOOKUP(E575,Sheet2!A:G,6,FALSE))","v":""},""]
[{"$f":"IF(OR(E576=\"\",ISBLANK(E576)),\"\",VLOOKUP(E576,Sheet2!A:F,2,FALSE))","v":""},{"$f":"IF(OR(E576=\"\",ISBLANK(E576)),\"\",VLOOKUP(E576,Sheet2!A:G,4,FALSE))","v":""},"",{"$f":"IF(OR(E576=\"\",ISBLANK(E576)),\"\",VLOOKUP(E576,Sheet2!A:H,3,FALSE))","v":""},null,{"$f":"IF(OR(E576=\"\",ISBLANK(E576)),\"\",VLOOKUP(E576,Sheet2!A:G,6,FALSE))","v":""},""]
[{"$f":"IF(OR(E577=\"\",ISBLANK(E577)),\"\",VLOOKUP(E577,Sheet2!A:F,2,FALSE))","v":""},{"$f":"IF(OR(E577=\"\",ISBLANK(E577)),\"\",VLOOKUP(E577,Sheet2!A:G,4,FALSE))","v":""},"",{"$f":"IF(OR(E577=\"\",ISBLANK(E577)),\"\",VLOOKUP(E577,Sheet2!A:H,3,FALSE))","v":""},null,{"$f":"IF(OR(E577=\"\",ISBLANK(E577)),\"\",VLOOKUP(E577,Sheet2!A:G,6,FALSE))","v":""},""]
[{"$f":"IF(OR(E578=\"\",ISBLANK(E578)),\"\",VLOOKUP(E578,Sheet2!A:F,2,FALSE))","v":""},{"$f":"IF(OR(E578=\"\",ISBLANK(E578)),\"\",VLOOKUP(E578,Sheet2!A:G,4,FALSE))","v":""},"",{"$f":"IF(OR(E578=\"\",ISBLANK(E578)),\"\",VLOOKUP(E578,Sheet2!A:H,3,FALSE))","v":""},null,{"$f":"IF(OR(E578=\"\",ISBLANK(E578)),\"\",VLOOKUP(E578,Sheet2!A:G,6,FALSE))","v":""},""]
[{"$f":"IF(OR(E579=\"\",ISBLANK(E579)),\"\",VLOOKUP(E579,Sheet2!A:F,2,FALSE))","v":""},{"$f":"IF(OR(E579=\"\",ISBLANK(E579)),\"\",VLOOKUP(E579,Sheet2!A:G,4,FALSE))","v":""},{"$f":"IF(D579=0,\"\",D579)","v":""},{"$f":"IF(OR(E579=\"\",ISBLANK(E579)),\"\",VLOOKUP(E579,Sheet2!A:H,3,FALSE))","v":""},null,{"$f":"IF(OR(E579=\"\",ISBLANK(E579)),\"\",VLOOKUP(E579,Sheet2!A:G,6,FALSE))","v":""},{"$f":"IF(F579=0,\"\",F579)","v":""}]
[{"$f":"IF(OR(E580=\"\",ISBLANK(E580)),\"\",VLOOKUP(E580,Sheet2!A:F,2,FALSE))","v":""},{"$f":"IF(OR(E580=\"\",ISBLANK(E580)),\"\",VLOOKUP(E580,Sheet2!A:G,4,FALSE))","v":""},"",{"$f":"IF(OR(E580=\"\",ISBLANK(E580)),\"\",VLOOKUP(E580,Sheet2!A:H,3,FALSE))","v":""},null,{"$f":"IF(OR(E580=\"\",ISBLANK(E580)),\"\",VLOOKUP(E580,Sheet2!A:G,6,FALSE))","v":""},""]
[{"$f":"IF(OR(E581=\"\",ISBLANK(E581)),\"\",VLOOKUP(E581,Sheet2!A:F,2,FALSE))","v":""},{"$f":"IF(OR(E581=\"\",ISBLANK(E581)),\"\",VLOOKUP(E581,Sheet2!A:G,4,FALSE))","v":""},"",{"$f":"IF(OR(E581=\"\",ISBLANK(E581)),\"\",VLOOKUP(E581,Sheet2!A:H,3,FALSE))","v":""},null,{"$f":"IF(OR(E581=\"\",ISBLANK(E581)),\"\",VLOOKUP(E581,Sheet2!A:G,6,FALSE))","v":""},""]
[{"$f":"IF(OR(E582=\"\",ISBLANK(E582)),\"\",VLOOKUP(E582,Sheet2!A:F,2,FALSE))","v":""},{"$f":"IF(OR(E582=\"\",ISBLANK(E582)),\"\",VLOOKUP(E582,Sheet2!A:G,4,FALSE))","v":""},"",{"$f":"IF(OR(E582=\"\",ISBLANK(E582)),\"\",VLOOKUP(E582,Sheet2!A:H,3,FALSE))","v":""},null,{"$f":"IF(OR(E582=\"\",ISBLANK(E582)),\"\",VLOOKUP(E582,Sheet2!A:G,6,FALSE))","v":""},""]
[{"$f":"IF(OR(E583=\"\",ISBLANK(E583)),\"\",VLOOKUP(E583,Sheet2!A:F,2,FALSE))","v":""},{"$f":"IF(OR(E583=\"\",ISBLANK(E583)),\"\",VLOOKUP(E583,Sheet2!A:G,4,FALSE))","v":""},"",{"$f":"IF(OR(E583=\"\",ISBLANK(E583)),\"\",VLOOKUP(E583,Sheet2!A:H,3,FALSE))","v":""},null,{"$f":"IF(OR(E583=\"\",ISBLANK(E583)),\"\",VLOOKUP(E583,Sheet2!A:G,6,FALSE))","v":""},""]
[{"$f":"IF(OR(E584=\"\",ISBLANK(E584)),\"\",VLOOKUP(E584,Sheet2!A:F,2,FALSE))","v":""},{"$f":"IF(OR(E584=\"\",ISBLANK(E584)),\"\",VLOOKUP(E584,Sheet2!A:G,4,FALSE))","v":""},"",{"$f":"IF(OR(E584=\"\",ISBLANK(E584)),\"\",VLOOKUP(E584,Sheet2!A:H,3,FALSE))","v":""},null,{"$f":"IF(OR(E584=\"\",ISBLANK(E584)),\"\",VLOOKUP(E584,Sheet2!A:G,6,FALSE))","v":""},""]
[{"$f":"IF(OR(E585=\"\",ISBLANK(E585)),\"\",VLOOKUP(E585,Sheet2!A:F,2,FALSE))","v":""},{"$f":"IF(OR(E585=\"\",ISBLANK(E585)),\"\",VLOOKUP(E585,Sheet2!A:G,4,FALSE))","v":""},"",{"$f":"IF(OR(E585=\"\",ISBLANK(E585)),\"\",VLOOKUP(E585,Sheet2!A:H,3,FALSE))","v":""},null,{"$f":"IF(OR(E585=\"\",ISBLANK(E585)),\"\",VLOOKUP(E585,Sheet2!A:G,6,FALSE))","v":""},""]
[{"$f":"IF(OR(E586=\"\",ISBLANK(E586)),\"\",VLOOKUP(E586,Sheet2!A:F,2,FALSE))","v":""},{"$f":"IF(OR(E586=\"\",ISBLANK(E586)),\"\",VLOOKUP(E586,Sheet2!A:G,4,FALSE))","v":""},"",{"$f":"IF(OR(E586=\"\",ISBLANK(E586)),\"\",VLOOKUP(E586,Sheet2!A:H,3,FALSE))","v":""},null,{"$f":"IF(OR(E586=\"\",ISBLANK(E586)),\"\",VLOOKUP(E586,Sheet2!A:G,6,FALSE))","v":""},""]
[{"$f":"IF(OR(E587=\"\",ISBLANK(E587)),\"\",VLOOKUP(E587,Sheet2!A:F,2,FALSE))","v":""},{"$f":"IF(OR(E587=\"\",ISBLANK(E587)),\"\",VLOOKUP(E587,Sheet2!A:G,4,FALSE))","v":""},"",{"$f":"IF(OR(E587=\"\",ISBLANK(E587)),\"\",VLOOKUP(E587,Sheet2!A:H,3,FALSE))","v":""},null,{"$f":"IF(OR(E587=\"\",ISBLANK(E587)),\"\",VLOOKUP(E587,Sheet2!A:G,6,FALSE))","v":""},""]
[{"$f":"IF(OR(E588=\"\",ISBLANK(E588)),\"\",VLOOKUP(E588,Sheet2!A:F,2,FALSE))","v":""},{"$f":"IF(OR(E588=\"\",ISBLANK(E588)),\"\",VLOOKUP(E588,Sheet2!A:G,4,FALSE))","v":""},"",{"$f":"IF(OR(E588=\"\",ISBLANK(E588)),\"\",VLOOKUP(E588,Sheet2!A:H,3,FALSE))","v":""},null,{"$f":"IF(OR(E588=\"\",ISBLANK(E588)),\"\",VLOOKUP(E588,Sheet2!A:G,6,FALSE))","v":""},""]
[{"$f":"IF(OR(E589=\"\",ISBLANK(E589)),\"\",VLOOKUP(E589,Sheet2!A:F,2,FALSE))","v":""},{"$f":"IF(OR(E589=\"\",ISBLANK(E589)),\"\",VLOOKUP(E589,Sheet2!A:G,4,FALSE))","v":""},"",{"$f":"IF(OR(E589=\"\",ISBLANK(E589)),\"\",VLOOKUP(E589,Sheet2!A:H,3,FALSE))","v":""},null,{"$f":"IF(OR(E589=\"\",ISBLANK(E589)),\"\",VLOOKUP(E589,Sheet2!A:G,6,FALSE))","v":""},""]
[{"$f":"IF(OR(E590=\"\",ISBLANK(E590)),\"\",VLOOKUP(E590,Sheet2!A:F,2,FALSE))","v":""},{"$f":"IF(OR(E590=\"\",ISBLANK(E590)),\"\",VLOOKUP(E590,Sheet2!A:G,4,FALSE))","v":""},"",{"$f":"IF(OR(E590=\"\",ISBLANK(E590)),\"\",VLOOKUP(E590,Sheet2!A:H,3,FALSE))","v":""},null,{"$f":"IF(OR(E590=\"\",ISBLANK(E590)),\"\",VLOOKUP(E590,Sheet2!A:G,6,FALSE))","v":""},""]
[{"$f":"IF(OR(E591=\"\",ISBLANK(E591)),\"\",VLOOKUP(E591,Sheet2!A:F,2,FALSE))","v":""},{"$f":"IF(OR(E591=\"\",ISBLANK(E591)),\"\",VLOOKUP(E591,Sheet2!A:G,4,FALSE))","v":""},"",{"$f":"IF(OR(E591=\"\",ISBLANK(E591)),\"\",VLOOKUP(E591,Sheet2!A:H,3,FALSE))","v":""},null,{"$f":"IF(OR(E591=\"\",ISBLANK(E591)),\"\",VLOOKUP(E591,Sheet2!A:G,6,FALSE))","v":""},""]
[{"$f":"IF(OR(E592=\"\",ISBLANK(E592)),\"\",VLOOKUP(E592,Sheet2!A:F,2,FALSE))","v":""},{"$f":"IF(OR(E592=\"\",ISBLANK(E592)),\"\",VLOOKUP(E592,Sheet2!A:G,4,FALSE))","v":""},"",{"$f":"IF(OR(E592=\"\",ISBLANK(E592)),\"\",VLOOKUP(E592,Sheet2!A:H,3,FALSE))","v":""},null,{"$f":"IF(OR(E592=\"\",ISBLANK(E592)),\"\",VLOOKUP(E592,Sheet2!A:G,6,FALSE))","v":""},""]
[{"$f":"IF(OR(E593=\"\",ISBLANK(E593)),\"\",VLOOKUP(E593,Sheet2!A:F,2,FALSE))","v":""},{"$f":"IF(OR(E593=\"\",ISBLANK(E593)),\"\",VLOOKUP(E593,Sheet2!A:G,4,FALSE))","v":""},"",{"$f":"IF(OR(E593=\"\",ISBLANK(E593)),\"\",VLOOKUP(E593,Sheet2!A:H,3,FALSE))","v":""},null,{"$f":"IF(OR(E593=\"\",ISBLANK(E593)),\"\",VLOOKUP(E593,Sheet2!A:G,6,FALSE))","v":""},""]
[{"$f":"IF(OR(E594=\"\",ISBLANK(E594)),\"\",VLOOKUP(E594,Sheet2!A:F,2,FALSE))","v":""},{"$f":"IF(OR(E594=\"\",ISBLANK(E594)),\"\",VLOOKUP(E594,Sheet2!A:G,4,FALSE))","v":""},"",{"$f":"IF(OR(E594=\"\",ISBLANK(E594)),\"\",VLOOKUP(E594,Sheet2!A:H,3,FALSE))","v":""},null,{"$f":"IF(OR(E594=\"\",ISBLANK(E594)),\"\",VLOOKUP(E594,Sheet2!A:G,6,FALSE))","v":""},""]
[{"$f":"IF(OR(E595=\"\",ISBLANK(E595)),\"\",VLOOKUP(E595,Sheet2!A:F,2,FALSE))","v":""},{"$f":"IF(OR(E595=\"\",ISBLANK(E595)),\"\",VLOOKUP(E595,Sheet2!A:G,4,FALSE))","v":""},"",{"$f":"IF(OR(E595=\"\",ISBLANK(E595)),\"\",VLOOKUP(E595,Sheet2!A:H,3,FALSE))","v":""},null,{"$f":"IF(OR(E595=\"\",ISBLANK(E595)),\"\",VLOOKUP(E595,Sheet2!A:G,6,FALSE))","v":""},""]
[{"$f":"IF(OR(E596=\"\",ISBLANK(E596)),\"\",VLOOKUP(E596,Sheet2!A:F,2,FALSE))","v":""},{"$f":"IF(OR(E596=\"\",ISBLANK(E596)),\"\",VLOOKUP(E596,Sheet2!A:G,4,FALSE))","v":""},"",{"$f":"IF(OR(E596=\"\",ISBLANK(E596)),\"\",VLOOKUP(E596,Sheet2!A:H,3,FALSE))","v":""},null,{"$f":"IF(OR(E596=\"\",ISBLANK(E596)),\"\",VLOOKUP(E596,Sheet2!A:G,6,FALSE))","v":""},""]
[{"$f":"IF(OR(E597=\"\",ISBLANK(E597)),\"\",VLOOKUP(E597,Sheet2!A:F,2,FALSE))","v":""},{"$f":"IF(OR(E597=\"\",ISBLANK(E597)),\"\",VLOOKUP(E597,Sheet2!A:G,4,FALSE))","v":""},"",{"$f":"IF(OR(E597=\"\",ISBLANK(E597)),\"\",VLOOKUP(E597,Sheet2!A:H,3,FALSE))","v":""},null,{"$f":"IF(OR(E597=\"\",ISBLANK(E597)),\"\",VLOOKUP(E597,Sheet2!A:G,6,FALSE))","v":""},""]
[{"$f":"IF(OR(E598=\"\",ISBLANK(E598)),\"\",VLOOKUP(E598,Sheet2!A:F,2,FALSE))","v":""},{"$f":"IF(OR(E598=\"\",ISBLANK(E598)),\"\",VLOOKUP(E598,Sheet2!A:G,4,FALSE))","v":""},"",{"$f":"IF(OR(E598=\"\",ISBLANK(E598)),\"\",VLOOKUP(E598,Sheet2!A:H,3,FALSE))","v":""},null,{"$f":"IF(OR(E598=\"\",ISBLANK(E598)),\"\",VLOOKUP(E598,Sheet2!A:G,6,FALSE))","v":""},""]
[{"$f":"IF(OR(E599=\"\",ISBLANK(E599)),\"\",VLOOKUP(E599,Sheet2!A:F,2,FALSE))","v":""},{"$f":"IF(OR(E599=\"\",ISBLANK(E599)),\"\",VLOOKUP(E599,Sheet2!A:G,4,FALSE))","v":""},"",{"$f":"IF(OR(E599=\"\",ISBLANK(E599)),\"\",VLOOKUP(E599,Sheet2!A:H,3,FALSE))","v":""},null,{"$f":"IF(OR(E599=\"\",ISBLANK(E599)),\"\",VLOOKUP(E599,Sheet2!A:G,6,FALSE))","v":""},""]
[{"$f":"IF(OR(E600=\"\",ISBLANK(E600)),\"\",VLOOKUP(E600,Sheet2!A:F,2,FALSE))","v":""},{"$f":"IF(OR(E600=\"\",ISBLANK(E600)),\"\",VLOOKUP(E600,Sheet2!A:G,4,FALSE))","v":""},"",{"$f":"IF(OR(E600=\"\",ISBLANK(E600)),\"\",VLOOKUP(E600,Sheet2!A:H,3,FALSE))","v":""},null,{"$f":"IF(OR(E600=\"\",ISBLANK(E600)),\"\",VLOOKUP(E600,Sheet2!A:G,6,FALSE))","v":""},""]
[{"$f":"IF(OR(E601=\"\",ISBLANK(E601)),\"\",VLOOKUP(E601,Sheet2!A:F,2,FALSE))","v":""},{"$f":"IF(OR(E601=\"\",ISBLANK(E601)),\"\",VLOOKUP(E601,Sheet2!A:G,4,FALSE))","v":""},"",{"$f":"IF(OR(E601=\"\",ISBLANK(E601)),\"\",VLOOKUP(E601,Sheet2!A:H,3,FALSE))","v":""},null,{"$f":"IF(OR(E601=\"\",ISBLANK(E601)),\"\",VLOOKUP(E601,Sheet2!A:G,6,FALSE))","v":""},""]
[{"$f":"IF(OR(E602=\"\",ISBLANK(E602)),\"\",VLOOKUP(E602,Sheet2!A:F,2,FALSE))","v":""},{"$f":"IF(OR(E602=\"\",ISBLANK(E602)),\"\",VLOOKUP(E602,Sheet2!A:G,4,FALSE))","v":""},"",{"$f":"IF(OR(E602=\"\",ISBLANK(E602)),\"\",VLOOKUP(E602,Sheet2!A:H,3,FALSE))","v":""},null,{"$f":"IF(OR(E602=\"\",ISBLANK(E602)),\"\",VLOOKUP(E602,Sheet2!A:G,6,FALSE))","v":""},""]
[{"$f":"IF(OR(E603=\"\",ISBLANK(E603)),\"\",VLOOKUP(E603,Sheet2!A:F,2,FALSE))","v":""},{"$f":"IF(OR(E603=\"\",ISBLANK(E603)),\"\",VLOOKUP(E603,Sheet2!A:G,4,FALSE))","v":""},"",{"$f":"IF(OR(E603=\"\",ISBLANK(E603)),\"\",VLOOKUP(E603,Sheet2!A:H,3,FALSE))","v":""},null,{"$f":"IF(OR(E603=\"\",ISBLANK(E603)),\"\",VLOOKUP(E603,Sheet2!A:G,6,FALSE))","v":""},""]
[{"$f":"IF(OR(E604=\"\",ISBLANK(E604)),\"\",VLOOKUP(E604,Sheet2!A:F,2,FALSE))","v":""},{"$f":"IF(OR(E604=\"\",ISBLANK(E604)),\"\",VLOOKUP(E604,Sheet2!A:G,4,FALSE))","v":""},"",{"$f":"IF(OR(E604=\"\",ISBLANK(E604)),\"\",VLOOKUP(E604,Sheet2!A:H,3,FALSE))","v":""},null,{"$f":"IF(OR(E604=\"\",ISBLANK(E604)),\"\",VLOOKUP(E604,Sheet2!A:G,6,FALSE))","v":""},""]
[{"$f":"IF(OR(E605=\"\",ISBLANK(E605)),\"\",VLOOKUP(E605,Sheet2!A:F,2,FALSE))","v":""},{"$f":"IF(OR(E605=\"\",ISBLANK(E605)),\"\",VLOOKUP(E605,Sheet2!A:G,4,FALSE))","v":""},"",{"$f":"IF(OR(E605=\"\",ISBLANK(E605)),\"\",VLOOKUP(E605,Sheet2!A:H,3,FALSE))","v":""},null,{"$f":"IF(OR(E605=\"\",ISBLANK(E605)),\"\",VLOOKUP(E605,Sheet2!A:G,6,FALSE))","v":""},""]
[{"$f":"IF(OR(E606=\"\",ISBLANK(E606)),\"\",VLOOKUP(E606,Sheet2!A:F,2,FALSE))","v":""},{"$f":"IF(OR(E606=\"\",ISBLANK(E606)),\"\",VLOOKUP(E606,Sheet2!A:G,4,FALSE))","v":""},"",{"$f":"IF(OR(E606=\"\",ISBLANK(E606)),\"\",VLOOKUP(E606,Sheet2!A:H,3,FALSE))","v":""},null,{"$f":"IF(OR(E606=\"\",ISBLANK(E606)),\"\",VLOOKUP(E606,Sheet2!A:G,6,FALSE))","v":""},""]
[{"$f":"IF(OR(E607=\"\",ISBLANK(E607)),\"\",VLOOKUP(E607,Sheet2!A:F,2,FALSE))","v":""},{"$f":"IF(OR(E607=\"\",ISBLANK(E607)),\"\",VLOOKUP(E607,Sheet2!A:G,4,FALSE))","v":""},"",{"$f":"IF(OR(E607=\"\",ISBLANK(E607)),\"\",VLOOKUP(E607,Sheet2!A:H,3,FALSE))","v":""},null,{"$f":"IF(OR(E607=\"\",ISBLANK(E607)),\"\",VLOOKUP(E607,Sheet2!A:G,6,FALSE))","v":""},""]
[{"$f":"IF(OR(E608=\"\",ISBLANK(E608)),\"\",VLOOKUP(E608,Sheet2!A:F,2,FALSE))","v":""},{"$f":"IF(OR(E608=\"\",ISBLANK(E608)),\"\",VLOOKUP(E608,Sheet2!A:G,4,FALSE))","v":""},"",{"$f":"IF(OR(E608=\"\",ISBLANK(E608)),\"\",VLOOKUP(E608,Sheet2!A:H,3,FALSE))","v":""},null,{"$f":"IF(OR(E608=\"\",ISBLANK(E608)),\"\",VLOOKUP(E608,Sheet2!A:G,6,FALSE))","v":""},""]
[{"$f":"IF(OR(E609=\"\",ISBLANK(E609)),\"\",VLOOKUP(E609,Sheet2!A:F,2,FALSE))","v":""},{"$f":"IF(OR(E609=\"\",ISBLANK(E609)),\"\",VLOOKUP(E609,Sheet2!A:G,4,FALSE))","v":""},"",{"$f":"IF(OR(E609=\"\",ISBLANK(E609)),\"\",VLOOKUP(E609,Sheet2!A:H,3,FALSE))","v":""},null,{"$f":"IF(OR(E609=\"\",ISBLANK(E609)),\"\",VLOOKUP(E609,Sheet2!A:G,6,FALSE))","v":""},""]
[{"$f":"IF(OR(E610=\"\",ISBLANK(E610)),\"\",VLOOKUP(E610,Sheet2!A:F,2,FALSE))","v":""},{"$f":"IF(OR(E610=\"\",ISBLANK(E610)),\"\",VLOOKUP(E610,Sheet2!A:G,4,FALSE))","v":""},"",{"$f":"IF(OR(E610=\"\",ISBLANK(E610)),\"\",VLOOKUP(E610,Sheet2!A:H,3,FALSE))","v":""},null,{"$f":"IF(OR(E610=\"\",ISBLANK(E610)),\"\",VLOOKUP(E610,Sheet2!A:G,6,FALSE))","v":""},""]
[{"$f":"IF(OR(E611=\"\",ISBLANK(E611)),\"\",VLOOKUP(E611,Sheet2!A:F,2,FALSE))","v":""},{"$f":"IF(OR(E611=\"\",ISBLANK(E611)),\"\",VLOOKUP(E611,Sheet2!A:G,4,FALSE))","v":""},"",{"$f":"IF(OR(E611=\"\",ISBLANK(E611)),\"\",VLOOKUP(E611,Sheet2!A:H,3,FALSE))","v":""},null,{"$f":"IF(OR(E611=\"\",ISBLANK(E611)),\"\",VLOOKUP(E611,Sheet2!A:G,6,FALSE))","v":""},""]
[{"$f":"IF(OR(E612=\"\",ISBLANK(E612)),\"\",VLOOKUP(E612,Sheet2!A:F,2,FALSE))","v":""},{"$f":"IF(OR(E612=\"\",ISBLANK(E612)),\"\",VLOOKUP(E612,Sheet2!A:G,4,FALSE))","v":""},"",{"$f":"IF(OR(E612=\"\",ISBLANK(E612)),\"\",VLOOKUP(E612,Sheet2!A:H,3,FALSE))","v":""},null,{"$f":"IF(OR(E612=\"\",ISBLANK(E612)),\"\",VLOOKUP(E612,Sheet2!A:G,6,FALSE))","v":""},""]
[{"$f":"IF(OR(E613=\"\",ISBLANK(E613)),\"\",VLOOKUP(E613,Sheet2!A:F,2,FALSE))","v":""},{"$f":"IF(OR(E613=\"\",ISBLANK(E613)),\"\",VLOOKUP(E613,Sheet2!A:G,4,FALSE))","v":""},"",{"$f":"IF(OR(E613=\"\",ISBLANK(E613)),\"\",VLOOKUP(E613,Sheet2!A:H,3,FALSE))","v":""},null,{"$f":"IF(OR(E613=\"\",ISBLANK(E613)),\"\",VLOOKUP(E613,Sheet2!A:G,6,FALSE))","v":""},""]
[{"$f":"IF(OR(E614=\"\",ISBLANK(E614)),\"\",VLOOKUP(E614,Sheet2!A:F,2,FALSE))","v":""},{"$f":"IF(OR(E614=\"\",ISBLANK(E614)),\"\",VLOOKUP(E614,Sheet2!A:G,4,FALSE))","v":""},"",{"$f":"IF(OR(E614=\"\",ISBLANK(E614)),\"\",VLOOKUP(E614,Sheet2!A:H,3,FALSE))","v":""},null,{"$f":"IF(OR(E614=\"\",ISBLANK(E614)),\"\",VLOOKUP(E614,Sheet2!A:G,6,FALSE))","v":""},""]
[{"$f":"IF(OR(E615=\"\",ISBLANK(E615)),\"\",VLOOKUP(E615,Sheet2!A:F,2,FALSE))","v":""},{"$f":"IF(OR(E615=\"\",ISBLANK(E615)),\"\",VLOOKUP(E615,Sheet2!A:G,4,FALSE))","v":""},"",{"$f":"IF(OR(E615=\"\",ISBLANK(E615)),\"\",VLOOKUP(E615,Sheet2!A:H,3,FALSE))","v":""},null,{"$f":"IF(OR(E615=\"\",ISBLANK(E615)),\"\",VLOOKUP(E615,Sheet2!A:G,6,FALSE))","v":""},""]
[{"$f":"IF(OR(E616=\"\",ISBLANK(E616)),\"\",VLOOKUP(E616,Sheet2!A:F,2,FALSE))","v":""},{"$f":"IF(OR(E616=\"\",ISBLANK(E616)),\"\",VLOOKUP(E616,Sheet2!A:G,4,FALSE))","v":""},"",{"$f":"IF(OR(E616=\"\",ISBLANK(E616)),\"\",VLOOKUP(E616,Sheet2!A:H,3,FALSE))","v":""},null,{"$f":"IF(OR(E616=\"\",ISBLANK(E616)),\"\",VLOOKUP(E616,Sheet2!A:G,6,FALSE))","v":""},""]
[{"$f":"IF(OR(E617=\"\",ISBLANK(E617)),\"\",VLOOKUP(E617,Sheet2!A:F,2,FALSE))","v":""},{"$f":"IF(OR(E617=\"\",ISBLANK(E617)),\"\",VLOOKUP(E617,Sheet2!A:G,4,FALSE))","v":""},"",{"$f":"IF(OR(E617=\"\",ISBLANK(E617)),\"\",VLOOKUP(E617,Sheet2!A:H,3,FALSE))","v":""},null,{"$f":"IF(OR(E617=\"\",ISBLANK(E617)),\"\",VLOOKUP(E617,Sheet2!A:G,6,FALSE))","v":""},""]
[{"$f":"IF(OR(E618=\"\",ISBLANK(E618)),\"\",VLOOKUP(E618,Sheet2!A:F,2,FALSE))","v":""},{"$f":"IF(OR(E618=\"\",ISBLANK(E618)),\"\",VLOOKUP(E618,Sheet2!A:G,4,FALSE))","v":""},"",{"$f":"IF(OR(E618=\"\",ISBLANK(E618)),\"\",VLOOKUP(E618,Sheet2!A:H,3,FALSE))","v":""},null,{"$f":"IF(OR(E618=\"\",ISBLANK(E618)),\"\",VLOOKUP(E618,Sheet2!A:G,6,FALSE))","v":""},""]
[{"$f":"IF(OR(E619=\"\",ISBLANK(E619)),\"\",VLOOKUP(E619,Sheet2!A:F,2,FALSE))","v":""},{"$f":"IF(OR(E619=\"\",ISBLANK(E619)),\"\",VLOOKUP(E619,Sheet2!A:G,4,FALSE))","v":""},"",{"$f":"IF(OR(E619=\"\",ISBLANK(E619)),\"\",VLOOKUP(E619,Sheet2!A:H,3,FALSE))","v":""},null,{"$f":"IF(OR(E619=\"\",ISBLANK(E619)),\"\",VLOOKUP(E619,Sheet2!A:G,6,FALSE))","v":""},""]
[{"$f":"IF(OR(E620=\"\",ISBLANK(E620)),\"\",VLOOKUP(E620,Sheet2!A:F,2,FALSE))","v":""},{"$f":"IF(OR(E620=\"\",ISBLANK(E620)),\"\",VLOOKUP(E620,Sheet2!A:G,4,FALSE))","v":""},"",{"$f":"IF(OR(E620=\"\",ISBLANK(E620)),\"\",VLOOKUP(E620,Sheet2!A:H,3,FALSE))","v":""},null,{"$f":"IF(OR(E620=\"\",ISBLANK(E620)),\"\",VLOOKUP(E620,Sheet2!A:G,6,FALSE))","v":""},""]
[{"$f":"IF(OR(E621=\"\",ISBLANK(E621)),\"\",VLOOKUP(E621,Sheet2!A:F,2,FALSE))","v":""},{"$f":"IF(OR(E621=\"\",ISBLANK(E621)),\"\",VLOOKUP(E621,Sheet2!A:G,4,FALSE))","v":""},"",{"$f":"IF(OR(E621=\"\",ISBLANK(E621)),\"\",VLOOKUP(E621,Sheet2!A:H,3,FALSE))","v":""},null,{"$f":"IF(OR(E621=\"\",ISBLANK(E621)),\"\",VLOOKUP(E621,Sheet2!A:G,6,FALSE))","v":""},""]
[{"$f":"IF(OR(E622=\"\",ISBLANK(E622)),\"\",VLOOKUP(E622,Sheet2!A:F,2,FALSE))","v":""},{"$f":"IF(OR(E622=\"\",ISBLANK(E622)),\"\",VLOOKUP(E622,Sheet2!A:G,4,FALSE))","v":""},"",{"$f":"IF(OR(E622=\"\",ISBLANK(E622)),\"\",VLOOKUP(E622,Sheet2!A:H,3,FALSE))","v":""},null,{"$f":"IF(OR(E622=\"\",ISBLANK(E622)),\"\",VLOOKUP(E622,Sheet2!A:G,6,FALSE))","v":""},""]
[{"$f":"IF(OR(E623=\"\",ISBLANK(E623)),\"\",VLOOKUP(E623,Sheet2!A:F,2,FALSE))","v":""},{"$f":"IF(OR(E623=\"\",ISBLANK(E623)),\"\",VLOOKUP(E623,Sheet2!A:G,4,FALSE))","v":""},"",{"$f":"IF(OR(E623=\"\",ISBLANK(E623)),\"\",VLOOKUP(E623,Sheet2!A:H,3,FALSE))","v":""},null,{"$f":"IF(OR(E623=\"\",ISBLANK(E623)),\"\",VLOOKUP(E623,Sheet2!A:G,6,FALSE))","v":""},""]
[{"$f":"IF(OR(E624=\"\",ISBLANK(E624)),\"\",VLOOKUP(E624,Sheet2!A:F,2,FALSE))","v":""},{"$f":"IF(OR(E624=\"\",ISBLANK(E624)),\"\",VLOOKUP(E624,Sheet2!A:G,4,FALSE))","v":""},"",{"$f":"IF(OR(E624=\"\",ISBLANK(E624)),\"\",VLOOKUP(E624,Sheet2!A:H,3,FALSE))","v":""},null,{"$f":"IF(OR(E624=\"\",ISBLANK(E624)),\"\",VLOOKUP(E624,Sheet2!A:G,6,FALSE))","v":""},""]
[{"$f":"IF(OR(E625=\"\",ISBLANK(E625)),\"\",VLOOKUP(E625,Sheet2!A:F,2,FALSE))","v":""},{"$f":"IF(OR(E625=\"\",ISBLANK(E625)),\"\",VLOOKUP(E625,Sheet2!A:G,4,FALSE))","v":""},"",{"$f":"IF(OR(E625=\"\",ISBLANK(E625)),\"\",VLOOKUP(E625,Sheet2!A:H,3,FALSE))","v":""},null,{"$f":"IF(OR(E625=\"\",ISBLANK(E625)),\"\",VLOOKUP(E625,Sheet2!A:G,6,FALSE))","v":""},""]
[{"$f":"IF(OR(E626=\"\",ISBLANK(E626)),\"\",VLOOKUP(E626,Sheet2!A:F,2,FALSE))","v":""},{"$f":"IF(OR(E626=\"\",ISBLANK(E626)),\"\",VLOOKUP(E626,Sheet2!A:G,4,FALSE))","v":""},"",{"$f":"IF(OR(E626=\"\",ISBLANK(E626)),\"\",VLOOKUP(E626,Sheet2!A:H,3,FALSE))","v":""},null,{"$f":"IF(OR(E626=\"\",ISBLANK(E626)),\"\",VLOOKUP(E626,Sheet2!A:G,6,FALSE))","v":""},""]
[{"$f":"IF(OR(E627=\"\",ISBLANK(E627)),\"\",VLOOKUP(E627,Sheet2!A:F,2,FALSE))","v":""},{"$f":"IF(OR(E627=\"\",ISBLANK(E627)),\"\",VLOOKUP(E627,Sheet2!A:G,4,FALSE))","v":""},"",{"$f":"IF(OR(E627=\"\",ISBLANK(E627)),\"\",VLOOKUP(E627,Sheet2!A:H,3,FALSE))","v":""},null,{"$f":"IF(OR(E627=\"\",ISBLANK(E627)),\"\",VLOOKUP(E627,Sheet2!A:G,6,FALSE))","v":""},""]
[{"$f":"IF(OR(E628=\"\",ISBLANK(E628)),\"\",VLOOKUP(E628,Sheet2!A:F,2,FALSE))","v":""},{"$f":"IF(OR(E628=\"\",ISBLANK(E628)),\"\",VLOOKUP(E628,Sheet2!A:G,4,FALSE))","v":""},"",{"$f":"IF(OR(E628=\"\",ISBLANK(E628)),\"\",VLOOKUP(E628,Sheet2!A:H,3,FALSE))","v":""},null,{"$f":"IF(OR(E628=\"\",ISBLANK(E628)),\"\",VLOOKUP(E628,Sheet2!A:G,6,FALSE))","v":""},""]
[{"$f":"IF(OR(E629=\"\",ISBLANK(E629)),\"\",VLOOKUP(E629,Sheet2!A:F,2,FALSE))","v":""},{"$f":"IF(OR(E629=\"\",ISBLANK(E629)),\"\",VLOOKUP(E629,Sheet2!A:G,4,FALSE))","v":""},"",{"$f":"IF(OR(E629=\"\",ISBLANK(E629)),\"\",VLOOKUP(E629,Sheet2!A:H,3,FALSE))","v":""},null,{"$f":"IF(OR(E629=\"\",ISBLANK(E629)),\"\",VLOOKUP(E629,Sheet2!A:G,6,FALSE))","v":""},""]
[{"$f":"IF(OR(E630=\"\",ISBLANK(E630)),\"\",VLOOKUP(E630,Sheet2!A:F,2,FALSE))","v":""},{"$f":"IF(OR(E630=\"\",ISBLANK(E630)),\"\",VLOOKUP(E630,Sheet2!A:G,4,FALSE))","v":""},"",{"$f":"IF(OR(E630=\"\",ISBLANK(E630)),\"\",VLOOKUP(E630,Sheet2!A:H,3,FALSE))","v":""},null,{"$f":"IF(OR(E630=\"\",ISBLANK(E630)),\"\",VLOOKUP(E630,Sheet2!A:G,6,FALSE))","v":""},""]
[{"$f":"IF(OR(E631=\"\",ISBLANK(E631)),\"\",VLOOKUP(E631,Sheet2!A:F,2,FALSE))","v":""},{"$f":"IF(OR(E631=\"\",ISBLANK(E631)),\"\",VLOOKUP(E631,Sheet2!A:G,4,FALSE))","v":""},"",{"$f":"IF(OR(E631=\"\",ISBLANK(E631)),\"\",VLOOKUP(E631,Sheet2!A:H,3,FALSE))","v":""},null,{"$f":"IF(OR(E631=\"\",ISBLANK(E631)),\"\",VLOOKUP(E631,Sheet2!A:G,6,FALSE))","v":""},""]
[{"$f":"IF(OR(E632=\"\",ISBLANK(E632)),\"\",VLOOKUP(E632,Sheet2!A:F,2,FALSE))","v":""},{"$f":"IF(OR(E632=\"\",ISBLANK(E632)),\"\",VLOOKUP(E632,Sheet2!A:G,4,FALSE))","v":""},"",{"$f":"IF(OR(E632=\"\",ISBLANK(E632)),\"\",VLOOKUP(E632,Sheet2!A:H,3,FALSE))","v":""},null,{"$f":"IF(OR(E632=\"\",ISBLANK(E632)),\"\",VLOOKUP(E632,Sheet2!A:G,6,FALSE))","v":""},""]
[{"$f":"IF(OR(E633=\"\",ISBLANK(E633)),\"\",VLOOKUP(E633,Sheet2!A:F,2,FALSE))","v":""},{"$f":"IF(OR(E633=\"\",ISBLANK(E633)),\"\",VLOOKUP(E633,Sheet2!A:G,4,FALSE))","v":""},"",{"$f":"IF(OR(E633=\"\",ISBLANK(E633)),\"\",VLOOKUP(E633,Sheet2!A:H,3,FALSE))","v":""},null,{"$f":"IF(OR(E633=\"\",ISBLANK(E633)),\"\",VLOOKUP(E633,Sheet2!A:G,6,FALSE))","v":""},""]
[{"$f":"IF(OR(E634=\"\",ISBLANK(E634)),\"\",VLOOKUP(E634,Sheet2!A:F,2,FALSE))","v":""},{"$f":"IF(OR(E634=\"\",ISBLANK(E634)),\"\",VLOOKUP(E634,Sheet2!A:G,4,FALSE))","v":""},"",{"$f":"IF(OR(E634=\"\",ISBLANK(E634)),\"\",VLOOKUP(E634,Sheet2!A:H,3,FALSE))","v":""},null,{"$f":"IF(OR(E634=\"\",ISBLANK(E634)),\"\",VLOOKUP(E634,Sheet2!A:G,6,FALSE))","v":""},""]
[{"$f":"IF(OR(E635=\"\",ISBLANK(E635)),\"\",VLOOKUP(E635,Sheet2!A:F,2,FALSE))","v":""},{"$f":"IF(OR(E635=\"\",ISBLANK(E635)),\"\",VLOOKUP(E635,Sheet2!A:G,4,FALSE))","v":""},"",{"$f":"IF(OR(E635=\"\",ISBLANK(E635)),\"\",VLOOKUP(E635,Sheet2!A:H,3,FALSE))","v":""},null,{"$f":"IF(OR(E635=\"\",ISBLANK(E635)),\"\",VLOOKUP(E635,Sheet2!A:G,6,FALSE))","v":""},""]
[{"$f":"IF(OR(E636=\"\",ISBLANK(E636)),\"\",VLOOKUP(E636,Sheet2!A:F,2,FALSE))","v":""},{"$f":"IF(OR(E636=\"\",ISBLANK(E636)),\"\",VLOOKUP(E636,Sheet2!A:G,4,FALSE))","v":""},"",{"$f":"IF(OR(E636=\"\",ISBLANK(E636)),\"\",VLOOKUP(E636,Sheet2!A:H,3,FALSE))","v":""},null,{"$f":"IF(OR(E636=\"\",ISBLANK(E636)),\"\",VLOOKUP(E636,Sheet2!A:G,6,FALSE))","v":""},""]
[{"$f":"IF(OR(E637=\"\",ISBLANK(E637)),\"\",VLOOKUP(E637,Sheet2!A:F,2,FALSE))","v":""},{"$f":"IF(OR(E637=\"\",ISBLANK(E637)),\"\",VLOOKUP(E637,Sheet2!A:G,4,FALSE))","v":""},"",{"$f":"IF(OR(E637=\"\",ISBLANK(E637)),\"\",VLOOKUP(E637,Sheet2!A:H,3,FALSE))","v":""},null,{"$f":"IF(OR(E637=\"\",ISBLANK(E637)),\"\",VLOOKUP(E637,Sheet2!A:G,6,FALSE))","v":""},""]
[{"$f":"IF(OR(E638=\"\",ISBLANK(E638)),\"\",VLOOKUP(E638,Sheet2!A:F,2,FALSE))","v":""},{"$f":"IF(OR(E638=\"\",ISBLANK(E638)),\"\",VLOOKUP(E638,Sheet2!A:G,4,FALSE))","v":""},"",{"$f":"IF(OR(E638=\"\",ISBLANK(E638)),\"\",VLOOKUP(E638,Sheet2!A:H,3,FALSE))","v":""},null,{"$f":"IF(OR(E638=\"\",ISBLANK(E638)),\"\",VLOOKUP(E638,Sheet2!A:G,6,FALSE))","v":""},""]
[{"$f":"IF(OR(E639=\"\",ISBLANK(E639)),\"\",VLOOKUP(E639,Sheet2!A:F,2,FALSE))","v":""},{"$f":"IF(OR(E639=\"\",ISBLANK(E639)),\"\",VLOOKUP(E639,Sheet2!A:G,4,FALSE))","v":""},"",{"$f":"IF(OR(E639=\"\",ISBLANK(E639)),\"\",VLOOKUP(E639,Sheet2!A:H,3,FALSE))","v":""},null,{"$f":"IF(OR(E639=\"\",ISBLANK(E639)),\"\",VLOOKUP(E639,Sheet2!A:G,6,FALSE))","v":""},""]
[{"$f":"IF(OR(E640=\"\",ISBLANK(E640)),\"\",VLOOKUP(E640,Sheet2!A:F,2,FALSE))","v":""},{"$f":"IF(OR(E640=\"\",ISBLANK(E640)),\"\",VLOOKUP(E640,Sheet2!A:G,4,FALSE))","v":""},"",{"$f":"IF(OR(E640=\"\",ISBLANK(E640)),\"\",VLOOKUP(E640,Sheet2!A:H,3,FALSE))","v":""},null,{"$f":"IF(OR(E640=\"\",ISBLANK(E640)),\"\",VLOOKUP(E640,Sheet2!A:G,6,FALSE))","v":""},""]
[{"$f":"IF(OR(E641=\"\",ISBLANK(E641)),\"\",VLOOKUP(E641,Sheet2!A:F,2,FALSE))","v":""},{"$f":"IF(OR(E641=\"\",ISBLANK(E641)),\"\",VLOOKUP(E641,Sheet2!A:G,4,FALSE))","v":""},"",{"$f":"IF(OR(E641=\"\",ISBLANK(E641)),\"\",VLOOKUP(E641,Sheet2!A:H,3,FALSE))","v":""},null,{"$f":"IF(OR(E641=\"\",ISBLANK(E641)),\"\",VLOOKUP(E641,Sheet2!A:G,6,FALSE))","v":""},""]
[{"$f":"IF(OR(E642=\"\",ISBLANK(E642)),\"\",VLOOKUP(E642,Sheet2!A:F,2,FALSE))","v":""},{"$f":"IF(OR(E642=\"\",ISBLANK(E642)),\"\",VLOOKUP(E642,Sheet2!A:G,4,FALSE))","v":""},"",{"$f":"IF(OR(E642=\"\",ISBLANK(E642)),\"\",VLOOKUP(E642,Sheet2!A:H,3,FALSE))","v":""},null,{"$f":"IF(OR(E642=\"\",ISBLANK(E642)),\"\",VLOOKUP(E642,Sheet2!A:G,6,FALSE))","v":""},""]
[{"$f":"IF(OR(E643=\"\",ISBLANK(E643)),\"\",VLOOKUP(E643,Sheet2!A:F,2,FALSE))","v":""},{"$f":"IF(OR(E643=\"\",ISBLANK(E643)),\"\",VLOOKUP(E643,Sheet2!A:G,4,FALSE))","v":""},{"$f":"IF(D643=0,\"\",D643)","v":""},{"$f":"IF(OR(E643=\"\",ISBLANK(E643)),\"\",VLOOKUP(E643,Sheet2!A:H,3,FALSE))","v":""},null,{"$f":"IF(OR(E643=\"\",ISBLANK(E643)),\"\",VLOOKUP(E643,Sheet2!A:G,6,FALSE))","v":""},{"$f":"IF(F643=0,\"\",F643)","v":""}]
[{"$f":"IF(OR(E644=\"\",ISBLANK(E644)),\"\",VLOOKUP(E644,Sheet2!A:F,2,FALSE))","v":""},{"$f":"IF(OR(E644=\"\",ISBLANK(E644)),\"\",VLOOKUP(E644,Sheet2!A:G,4,FALSE))","v":""},"",{"$f":"IF(OR(E644=\"\",ISBLANK(E644)),\"\",VLOOKUP(E644,Sheet2!A:H,3,FALSE))","v":""},null,{"$f":"IF(OR(E644=\"\",ISBLANK(E644)),\"\",VLOOKUP(E644,Sheet2!A:G,6,FALSE))","v":""},""]
[{"$f":"IF(OR(E645=\"\",ISBLANK(E645)),\"\",VLOOKUP(E645,Sheet2!A:F,2,FALSE))","v":""},{"$f":"IF(OR(E645=\"\",ISBLANK(E645)),\"\",VLOOKUP(E645,Sheet2!A:G,4,FALSE))","v":""},"",{"$f":"IF(OR(E645=\"\",ISBLANK(E645)),\"\",VLOOKUP(E645,Sheet2!A:H,3,FALSE))","v":""},null,{"$f":"IF(OR(E645=\"\",ISBLANK(E645)),\"\",VLOOKUP(E645,Sheet2!A:G,6,FALSE))","v":""},""]
[{"$f":"IF(OR(E646=\"\",ISBLANK(E646)),\"\",VLOOKUP(E646,Sheet2!A:F,2,FALSE))","v":""},{"$f":"IF(OR(E646=\"\",ISBLANK(E646)),\"\",VLOOKUP(E646,Sheet2!A:G,4,FALSE))","v":""},"",{"$f":"IF(OR(E646=\"\",ISBLANK(E646)),\"\",VLOOKUP(E646,Sheet2!A:H,3,FALSE))","v":""},null,{"$f":"IF(OR(E646=\"\",ISBLANK(E646)),\"\",VLOOKUP(E646,Sheet2!A:G,6,FALSE))","v":""},""]
[{"$f":"IF(OR(E647=\"\",ISBLANK(E647)),\"\",VLOOKUP(E647,Sheet2!A:F,2,FALSE))","v":""},{"$f":"IF(OR(E647=\"\",ISBLANK(E647)),\"\",VLOOKUP(E647,Sheet2!A:G,4,FALSE))","v":""},"",{"$f":"IF(OR(E647=\"\",ISBLANK(E647)),\"\",VLOOKUP(E647,Sheet2!A:H,3,FALSE))","v":""},null,{"$f":"IF(OR(E647=\"\",ISBLANK(E647)),\"\",VLOOKUP(E647,Sheet2!A:G,6,FALSE))","v":""},""]
[{"$f":"IF(OR(E648=\"\",ISBLANK(E648)),\"\",VLOOKUP(E648,Sheet2!A:F,2,FALSE))","v":""},{"$f":"IF(OR(E648=\"\",ISBLANK(E648)),\"\",VLOOKUP(E648,Sheet2!A:G,4,FALSE))","v":""},"",{"$f":"IF(OR(E648=\"\",ISBLANK(E648)),\"\",VLOOKUP(E648,Sheet2!A:H,3,FALSE))","v":""},null,{"$f":"IF(OR(E648=\"\",ISBLANK(E648)),\"\",VLOOKUP(E648,Sheet2!A:G,6,FALSE))","v":""},""]
[{"$f":"IF(OR(E649=\"\",ISBLANK(E649)),\"\",VLOOKUP(E649,Sheet2!A:F,2,FALSE))","v":""},{"$f":"IF(OR(E649=\"\",ISBLANK(E649)),\"\",VLOOKUP(E649,Sheet2!A:G,4,FALSE))","v":""},"",{"$f":"IF(OR(E649=\"\",ISBLANK(E649)),\"\",VLOOKUP(E649,Sheet2!A:H,3,FALSE))","v":""},null,{"$f":"IF(OR(E649=\"\",ISBLANK(E649)),\"\",VLOOKUP(E649,Sheet2!A:G,6,FALSE))","v":""},""]
[{"$f":"IF(OR(E650=\"\",ISBLANK(E650)),\"\",VLOOKUP(E650,Sheet2!A:F,2,FALSE))","v":""},{"$f":"IF(OR(E650=\"\",ISBLANK(E650)),\"\",VLOOKUP(E650,Sheet2!A:G,4,FALSE))","v":""},"",{"$f":"IF(OR(E650=\"\",ISBLANK(E650)),\"\",VLOOKUP(E650,Sheet2!A:H,3,FALSE))","v":""},null,{"$f":"IF(OR(E650=\"\",ISBLANK(E650)),\"\",VLOOKUP(E650,Sheet2!A:G,6,FALSE))","v":""},""]
[{"$f":"IF(OR(E651=\"\",ISBLANK(E651)),\"\",VLOOKUP(E651,Sheet2!A:F,2,FALSE))","v":""},{"$f":"IF(OR(E651=\"\",ISBLANK(E651)),\"\",VLOOKUP(E651,Sheet2!A:G,4,FALSE))","v":""},"",{"$f":"IF(OR(E651=\"\",ISBLANK(E651)),\"\",VLOOKUP(E651,Sheet2!A:H,3,FALSE))","v":""},null,{"$f":"IF(OR(E651=\"\",ISBLANK(E651)),\"\",VLOOKUP(E651,Sheet2!A:G,6,FALSE))","v":""},""]
[{"$f":"IF(OR(E652=\"\",ISBLANK(E652)),\"\",VLOOKUP(E652,Sheet2!A:F,2,FALSE))","v":""},{"$f":"IF(OR(E652=\"\",ISBLANK(E652)),\"\",VLOOKUP(E652,Sheet2!A:G,4,FALSE))","v":""},"",{"$f":"IF(OR(E652=\"\",ISBLANK(E652)),\"\",VLOOKUP(E652,Sheet2!A:H,3,FALSE))","v":""},null,{"$f":"IF(OR(E652=\"\",ISBLANK(E652)),\"\",VLOOKUP(E652,Sheet2!A:G,6,FALSE))","v":""},""]
[{"$f":"IF(OR(E653=\"\",ISBLANK(E653)),\"\",VLOOKUP(E653,Sheet2!A:F,2,FALSE))","v":""},{"$f":"IF(OR(E653=\"\",ISBLANK(E653)),\"\",VLOOKUP(E653,Sheet2!A:G,4,FALSE))","v":""},"",{"$f":"IF(OR(E653=\"\",ISBLANK(E653)),\"\",VLOOKUP(E653,Sheet2!A:H,3,FALSE))","v":""},null,{"$f":"IF(OR(E653=\"\",ISBLANK(E653)),\"\",VLOOKUP(E653,Sheet2!A:G,6,FALSE))","v":""},""]
[{"$f":"IF(OR(E654=\"\",ISBLANK(E654)),\"\",VLOOKUP(E654,Sheet2!A:F,2,FALSE))","v":""},{"$f":"IF(OR(E654=\"\",ISBLANK(E654)),\"\",VLOOKUP(E654,Sheet2!A:G,4,FALSE))","v":""},"",{"$f":"IF(OR(E654=\"\",ISBLANK(E654)),\"\",VLOOKUP(E654,Sheet2!A:H,3,FALSE))","v":""},null,{"$f":"IF(OR(E654=\"\",ISBLANK(E654)),\"\",VLOOKUP(E654,Sheet2!A:G,6,FALSE))","v":""},""]
[{"$f":"IF(OR(E655=\"\",ISBLANK(E655)),\"\",VLOOKUP(E655,Sheet2!A:F,2,FALSE))","v":""},{"$f":"IF(OR(E655=\"\",ISBLANK(E655)),\"\",VLOOKUP(E655,Sheet2!A:G,4,FALSE))","v":""},"",{"$f":"IF(OR(E655=\"\",ISBLANK(E655)),\"\",VLOOKUP(E655,Sheet2!A:H,3,FALSE))","v":""},null,{"$f":"IF(OR(E655=\"\",ISBLANK(E655)),\"\",VLOOKUP(E655,Sheet2!A:G,6,FALSE))","v":""},""]
[{"$f":"IF(OR(E656=\"\",ISBLANK(E656)),\"\",VLOOKUP(E656,Sheet2!A:F,2,FALSE))","v":""},{"$f":"IF(OR(E656=\"\",ISBLANK(E656)),\"\",VLOOKUP(E656,Sheet2!A:G,4,FALSE))","v":""},"",{"$f":"IF(OR(E656=\"\",ISBLANK(E656)),\"\",VLOOKUP(E656,Sheet2!A:H,3,FALSE))","v":""},null,{"$f":"IF(OR(E656=\"\",ISBLANK(E656)),\"\",VLOOKUP(E656,Sheet2!A:G,6,FALSE))","v":""},""]
[{"$f":"IF(OR(E657=\"\",ISBLANK(E657)),\"\",VLOOKUP(E657,Sheet2!A:F,2,FALSE))","v":""},{"$f":"IF(OR(E657=\"\",ISBLANK(E657)),\"\",VLOOKUP(E657,Sheet2!A:G,4,FALSE))","v":""},"",{"$f":"IF(OR(E657=\"\",ISBLANK(E657)),\"\",VLOOKUP(E657,Sheet2!A:H,3,FALSE))","v":""},null,{"$f":"IF(OR(E657=\"\",ISBLANK(E657)),\"\",VLOOKUP(E657,Sheet2!A:G,6,FALSE))","v":""},""]
[{"$f":"IF(OR(E658=\"\",ISBLANK(E658)),\"\",VLOOKUP(E658,Sheet2!A:F,2,FALSE))","v":""},{"$f":"IF(OR(E658=\"\",ISBLANK(E658)),\"\",VLOOKUP(E658,Sheet2!A:G,4,FALSE))","v":""},"",{"$f":"IF(OR(E658=\"\",ISBLANK(E658)),\"\",VLOOKUP(E658,Sheet2!A:H,3,FALSE))","v":""},null,{"$f":"IF(OR(E658=\"\",ISBLANK(E658)),\"\",VLOOKUP(E658,Sheet2!A:G,6,FALSE))","v":""},""]
[{"$f":"IF(OR(E659=\"\",ISBLANK(E659)),\"\",VLOOKUP(E659,Sheet2!A:F,2,FALSE))","v":""},{"$f":"IF(OR(E659=\"\",ISBLANK(E659)),\"\",VLOOKUP(E659,Sheet2!A:G,4,FALSE))","v":""},"",{"$f":"IF(OR(E659=\"\",ISBLANK(E659)),\"\",VLOOKUP(E659,Sheet2!A:H,3,FALSE))","v":""},null,{"$f":"IF(OR(E659=\"\",ISBLANK(E659)),\"\",VLOOKUP(E659,Sheet2!A:G,6,FALSE))","v":""},""]
[{"$f":"IF(OR(E660=\"\",ISBLANK(E660)),\"\",VLOOKUP(E660,Sheet2!A:F,2,FALSE))","v":""},{"$f":"IF(OR(E660=\"\",ISBLANK(E660)),\"\",VLOOKUP(E660,Sheet2!A:G,4,FALSE))","v":""},"",{"$f":"IF(OR(E660=\"\",ISBLANK(E660)),\"\",VLOOKUP(E660,Sheet2!A:H,3,FALSE))","v":""},null,{"$f":"IF(OR(E660=\"\",ISBLANK(E660)),\"\",VLOOKUP(E660,Sheet2!A:G,6,FALSE))","v":""},""]
[{"$f":"IF(OR(E661=\"\",ISBLANK(E661)),\"\",VLOOKUP(E661,Sheet2!A:F,2,FALSE))","v":""},{"$f":"IF(OR(E661=\"\",ISBLANK(E661)),\"\",VLOOKUP(E661,Sheet2!A:G,4,FALSE))","v":""},"",{"$f":"IF(OR(E661=\"\",ISBLANK(E661)),\"\",VLOOKUP(E661,Sheet2!A:H,3,FALSE))","v":""},null,{"$f":"IF(OR(E661=\"\",ISBLANK(E661)),\"\",VLOOKUP(E661,Sheet2!A:G,6,FALSE))","v":""},""]
[{"$f":"IF(OR(E662=\"\",ISBLANK(E662)),\"\",VLOOKUP(E662,Sheet2!A:F,2,FALSE))","v":""},{"$f":"IF(OR(E662=\"\",ISBLANK(E662)),\"\",VLOOKUP(E662,Sheet2!A:G,4,FALSE))","v":""},"",{"$f":"IF(OR(E662=\"\",ISBLANK(E662)),\"\",VLOOKUP(E662,Sheet2!A:H,3,FALSE))","v":""},null,{"$f":"IF(OR(E662=\"\",ISBLANK(E662)),\"\",VLOOKUP(E662,Sheet2!A:G,6,FALSE))","v":""},""]
[{"$f":"IF(OR(E663=\"\",ISBLANK(E663)),\"\",VLOOKUP(E663,Sheet2!A:F,2,FALSE))","v":""},{"$f":"IF(OR(E663=\"\",ISBLANK(E663)),\"\",VLOOKUP(E663,Sheet2!A:G,4,FALSE))","v":""},"",{"$f":"IF(OR(E663=\"\",ISBLANK(E663)),\"\",VLOOKUP(E663,Sheet2!A:H,3,FALSE))","v":""},null,{"$f":"IF(OR(E663=\"\",ISBLANK(E663)),\"\",VLOOKUP(E663,Sheet2!A:G,6,FALSE))","v":""},""]
[{"$f":"IF(OR(E664=\"\",ISBLANK(E664)),\"\",VLOOKUP(E664,Sheet2!A:F,2,FALSE))","v":""},{"$f":"IF(OR(E664=\"\",ISBLANK(E664)),\"\",VLOOKUP(E664,Sheet2!A:G,4,FALSE))","v":""},"",{"$f":"IF(OR(E664=\"\",ISBLANK(E664)),\"\",VLOOKUP(E664,Sheet2!A:H,3,FALSE))","v":""},null,{"$f":"IF(OR(E664=\"\",ISBLANK(E664)),\"\",VLOOKUP(E664,Sheet2!A:G,6,FALSE))","v":""},""]
[{"$f":"IF(OR(E665=\"\",ISBLANK(E665)),\"\",VLOOKUP(E665,Sheet2!A:F,2,FALSE))","v":""},{"$f":"IF(OR(E665=\"\",ISBLANK(E665)),\"\",VLOOKUP(E665,Sheet2!A:G,4,FALSE))","v":""},"",{"$f":"IF(OR(E665=\"\",ISBLANK(E665)),\"\",VLOOKUP(E665,Sheet2!A:H,3,FALSE))","v":""},null,{"$f":"IF(OR(E665=\"\",ISBLANK(E665)),\"\",VLOOKUP(E665,Sheet2!A:G,6,FALSE))","v":""},""]
[{"$f":"IF(OR(E666=\"\",ISBLANK(E666)),\"\",VLOOKUP(E666,Sheet2!A:F,2,FALSE))","v":""},{"$f":"IF(OR(E666=\"\",ISBLANK(E666)),\"\",VLOOKUP(E666,Sheet2!A:G,4,FALSE))","v":""},"",{"$f":"IF(OR(E666=\"\",ISBLANK(E666)),\"\",VLOOKUP(E666,Sheet2!A:H,3,FALSE))","v":""},null,{"$f":"IF(OR(E666=\"\",ISBLANK(E666)),\"\",VLOOKUP(E666,Sheet2!A:G,6,FALSE))","v":""},""]
[{"$f":"IF(OR(E667=\"\",ISBLANK(E667)),\"\",VLOOKUP(E667,Sheet2!A:F,2,FALSE))","v":""},{"$f":"IF(OR(E667=\"\",ISBLANK(E667)),\"\",VLOOKUP(E667,Sheet2!A:G,4,FALSE))","v":""},"",{"$f":"IF(OR(E667=\"\",ISBLANK(E667)),\"\",VLOOKUP(E667,Sheet2!A:H,3,FALSE))","v":""},null,{"$f":"IF(OR(E667=\"\",ISBLANK(E667)),\"\",VLOOKUP(E667,Sheet2!A:G,6,FALSE))","v":""},""]
[{"$f":"IF(OR(E668=\"\",ISBLANK(E668)),\"\",VLOOKUP(E668,Sheet2!A:F,2,FALSE))","v":""},{"$f":"IF(OR(E668=\"\",ISBLANK(E668)),\"\",VLOOKUP(E668,Sheet2!A:G,4,FALSE))","v":""},"",{"$f":"IF(OR(E668=\"\",ISBLANK(E668)),\"\",VLOOKUP(E668,Sheet2!A:H,3,FALSE))","v":""},null,{"$f":"IF(OR(E668=\"\",ISBLANK(E668)),\"\",VLOOKUP(E668,Sheet2!A:G,6,FALSE))","v":""},""]
[{"$f":"IF(OR(E669=\"\",ISBLANK(E669)),\"\",VLOOKUP(E669,Sheet2!A:F,2,FALSE))","v":""},{"$f":"IF(OR(E669=\"\",ISBLANK(E669)),\"\",VLOOKUP(E669,Sheet2!A:G,4,FALSE))","v":""},"",{"$f":"IF(OR(E669=\"\",ISBLANK(E669)),\"\",VLOOKUP(E669,Sheet2!A:H,3,FALSE))","v":""},null,{"$f":"IF(OR(E669=\"\",ISBLANK(E669)),\"\",VLOOKUP(E669,Sheet2!A:G,6,FALSE))","v":""},""]
[{"$f":"IF(OR(E670=\"\",ISBLANK(E670)),\"\",VLOOKUP(E670,Sheet2!A:F,2,FALSE))","v":""},{"$f":"IF(OR(E670=\"\",ISBLANK(E670)),\"\",VLOOKUP(E670,Sheet2!A:G,4,FALSE))","v":""},"",{"$f":"IF(OR(E670=\"\",ISBLANK(E670)),\"\",VLOOKUP(E670,Sheet2!A:H,3,FALSE))","v":""},null,{"$f":"IF(OR(E670=\"\",ISBLANK(E670)),\"\",VLOOKUP(E670,Sheet2!A:G,6,FALSE))","v":""},""]
[{"$f":"IF(OR(E671=\"\",ISBLANK(E671)),\"\",VLOOKUP(E671,Sheet2!A:F,2,FALSE))","v":""},{"$f":"IF(OR(E671=\"\",ISBLANK(E671)),\"\",VLOOKUP(E671,Sheet2!A:G,4,FALSE))","v":""},"",{"$f":"IF(OR(E671=\"\",ISBLANK(E671)),\"\",VLOOKUP(E671,Sheet2!A:H,3,FALSE))","v":""},null,{"$f":"IF(OR(E671=\"\",ISBLANK(E671)),\"\",VLOOKUP(E671,Sheet2!A:G,6,FALSE))","v":""},""]
[{"$f":"IF(OR(E672=\"\",ISBLANK(E672)),\"\",VLOOKUP(E672,Sheet2!A:F,2,FALSE))","v":""},{"$f":"IF(OR(E672=\"\",ISBLANK(E672)),\"\",VLOOKUP(E672,Sheet2!A:G,4,FALSE))","v":""},"",{"$f":"IF(OR(E672=\"\",ISBLANK(E672)),\"\",VLOOKUP(E672,Sheet2!A:H,3,FALSE))","v":""},null,{"$f":"IF(OR(E672=\"\",ISBLANK(E672)),\"\",VLOOKUP(E672,Sheet2!A:G,6,FALSE))","v":""},""]
[{"$f":"IF(OR(E673=\"\",ISBLANK(E673)),\"\",VLOOKUP(E673,Sheet2!A:F,2,FALSE))","v":""},{"$f":"IF(OR(E673=\"\",ISBLANK(E673)),\"\",VLOOKUP(E673,Sheet2!A:G,4,FALSE))","v":""},"",{"$f":"IF(OR(E673=\"\",ISBLANK(E673)),\"\",VLOOKUP(E673,Sheet2!A:H,3,FALSE))","v":""},null,{"$f":"IF(OR(E673=\"\",ISBLANK(E673)),\"\",VLOOKUP(E673,Sheet2!A:G,6,FALSE))","v":""},""]
[{"$f":"IF(OR(E674=\"\",ISBLANK(E674)),\"\",VLOOKUP(E674,Sheet2!A:F,2,FALSE))","v":""},{"$f":"IF(OR(E674=\"\",ISBLANK(E674)),\"\",VLOOKUP(E674,Sheet2!A:G,4,FALSE))","v":""},"",{"$f":"IF(OR(E674=\"\",ISBLANK(E674)),\"\",VLOOKUP(E674,Sheet2!A:H,3,FALSE))","v":""},null,{"$f":"IF(OR(E674=\"\",ISBLANK(E674)),\"\",VLOOKUP(E674,Sheet2!A:G,6,FALSE))","v":""},""]
[{"$f":"IF(OR(E675=\"\",ISBLANK(E675)),\"\",VLOOKUP(E675,Sheet2!A:F,2,FALSE))","v":""},{"$f":"IF(OR(E675=\"\",ISBLANK(E675)),\"\",VLOOKUP(E675,Sheet2!A:G,4,FALSE))","v":""},"",{"$f":"IF(OR(E675=\"\",ISBLANK(E675)),\"\",VLOOKUP(E675,Sheet2!A:H,3,FALSE))","v":""},null,{"$f":"IF(OR(E675=\"\",ISBLANK(E675)),\"\",VLOOKUP(E675,Sheet2!A:G,6,FALSE))","v":""},""]
[{"$f":"IF(OR(E676=\"\",ISBLANK(E676)),\"\",VLOOKUP(E676,Sheet2!A:F,2,FALSE))","v":""},{"$f":"IF(OR(E676=\"\",ISBLANK(E676)),\"\",VLOOKUP(E676,Sheet2!A:G,4,FALSE))","v":""},"",{"$f":"IF(OR(E676=\"\",ISBLANK(E676)),\"\",VLOOKUP(E676,Sheet2!A:H,3,FALSE))","v":""},null,{"$f":"IF(OR(E676=\"\",ISBLANK(E676)),\"\",VLOOKUP(E676,Sheet2!A:G,6,FALSE))","v":""},""]
[{"$f":"IF(OR(E677=\"\",ISBLANK(E677)),\"\",VLOOKUP(E677,Sheet2!A:F,2,FALSE))","v":""},{"$f":"IF(OR(E677=\"\",ISBLANK(E677)),\"\",VLOOKUP(E677,Sheet2!A:G,4,FALSE))","v":""},"",{"$f":"IF(OR(E677=\"\",ISBLANK(E677)),\"\",VLOOKUP(E677,Sheet2!A:H,3,FALSE))","v":""},null,{"$f":"IF(OR(E677=\"\",ISBLANK(E677)),\"\",VLOOKUP(E677,Sheet2!A:G,6,FALSE))","v":""},""]
[{"$f":"IF(OR(E678=\"\",ISBLANK(E678)),\"\",VLOOKUP(E678,Sheet2!A:F,2,FALSE))","v":""},{"$f":"IF(OR(E678=\"\",ISBLANK(E678)),\"\",VLOOKUP(E678,Sheet2!A:G,4,FALSE))","v":""},"",{"$f":"IF(OR(E678=\"\",ISBLANK(E678)),\"\",VLOOKUP(E678,Sheet2!A:H,3,FALSE))","v":""},null,{"$f":"IF(OR(E678=\"\",ISBLANK(E678)),\"\",VLOOKUP(E678,Sheet2!A:G,6,FALSE))","v":""},""]
[{"$f":"IF(OR(E679=\"\",ISBLANK(E679)),\"\",VLOOKUP(E679,Sheet2!A:F,2,FALSE))","v":""},{"$f":"IF(OR(E679=\"\",ISBLANK(E679)),\"\",VLOOKUP(E679,Sheet2!A:G,4,FALSE))","v":""},"",{"$f":"IF(OR(E679=\"\",ISBLANK(E679)),\"\",VLOOKUP(E679,Sheet2!A:H,3,FALSE))","v":""},null,{"$f":"IF(OR(E679=\"\",ISBLANK(E679)),\"\",VLOOKUP(E679,Sheet2!A:G,6,FALSE))","v":""},""]
[{"$f":"IF(OR(E680=\"\",ISBLANK(E680)),\"\",VLOOKUP(E680,Sheet2!A:F,2,FALSE))","v":""},{"$f":"IF(OR(E680=\"\",ISBLANK(E680)),\"\",VLOOKUP(E680,Sheet2!A:G,4,FALSE))","v":""},"",{"$f":"IF(OR(E680=\"\",ISBLANK(E680)),\"\",VLOOKUP(E680,Sheet2!A:H,3,FALSE))","v":""},null,{"$f":"IF(OR(E680=\"\",ISBLANK(E680)),\"\",VLOOKUP(E680,Sheet2!A:G,6,FALSE))","v":""},""]
[{"$f":"IF(OR(E681=\"\",ISBLANK(E681)),\"\",VLOOKUP(E681,Sheet2!A:F,2,FALSE))","v":""},{"$f":"IF(OR(E681=\"\",ISBLANK(E681)),\"\",VLOOKUP(E681,Sheet2!A:G,4,FALSE))","v":""},"",{"$f":"IF(OR(E681=\"\",ISBLANK(E681)),\"\",VLOOKUP(E681,Sheet2!A:H,3,FALSE))","v":""},null,{"$f":"IF(OR(E681=\"\",ISBLANK(E681)),\"\",VLOOKUP(E681,Sheet2!A:G,6,FALSE))","v":""},""]
[{"$f":"IF(OR(E682=\"\",ISBLANK(E682)),\"\",VLOOKUP(E682,Sheet2!A:F,2,FALSE))","v":""},{"$f":"IF(OR(E682=\"\",ISBLANK(E682)),\"\",VLOOKUP(E682,Sheet2!A:G,4,FALSE))","v":""},"",{"$f":"IF(OR(E682=\"\",ISBLANK(E682)),\"\",VLOOKUP(E682,Sheet2!A:H,3,FALSE))","v":""},null,{"$f":"IF(OR(E682=\"\",ISBLANK(E682)),\"\",VLOOKUP(E682,Sheet2!A:G,6,FALSE))","v":""},""]
[{"$f":"IF(OR(E683=\"\",ISBLANK(E683)),\"\",VLOOKUP(E683,Sheet2!A:F,2,FALSE))","v":""},{"$f":"IF(OR(E683=\"\",ISBLANK(E683)),\"\",VLOOKUP(E683,Sheet2!A:G,4,FALSE))","v":""},"",{"$f":"IF(OR(E683=\"\",ISBLANK(E683)),\"\",VLOOKUP(E683,Sheet2!A:H,3,FALSE))","v":""},null,{"$f":"IF(OR(E683=\"\",ISBLANK(E683)),\"\",VLOOKUP(E683,Sheet2!A:G,6,FALSE))","v":""},""]
[{"$f":"IF(OR(E684=\"\",ISBLANK(E684)),\"\",VLOOKUP(E684,Sheet2!A:F,2,FALSE))","v":""},{"$f":"IF(OR(E684=\"\",ISBLANK(E684)),\"\",VLOOKUP(E684,Sheet2!A:G,4,FALSE))","v":""},"",{"$f":"IF(OR(E684=\"\",ISBLANK(E684)),\"\",VLOOKUP(E684,Sheet2!A:H,3,FALSE))","v":""},null,{"$f":"IF(OR(E684=\"\",ISBLANK(E684)),\"\",VLOOKUP(E684,Sheet2!A:G,6,FALSE))","v":""},""]
[{"$f":"IF(OR(E685=\"\",ISBLANK(E685)),\"\",VLOOKUP(E685,Sheet2!A:F,2,FALSE))","v":""},{"$f":"IF(OR(E685=\"\",ISBLANK(E685)),\"\",VLOOKUP(E685,Sheet2!A:G,4,FALSE))","v":""},"",{"$f":"IF(OR(E685=\"\",ISBLANK(E685)),\"\",VLOOKUP(E685,Sheet2!A:H,3,FALSE))","v":""},null,{"$f":"IF(OR(E685=\"\",ISBLANK(E685)),\"\",VLOOKUP(E685,Sheet2!A:G,6,FALSE))","v":""},""]
[{"$f":"IF(OR(E686=\"\",ISBLANK(E686)),\"\",VLOOKUP(E686,Sheet2!A:F,2,FALSE))","v":""},{"$f":"IF(OR(E686=\"\",ISBLANK(E686)),\"\",VLOOKUP(E686,Sheet2!A:G,4,FALSE))","v":""},"",{"$f":"IF(OR(E686=\"\",ISBLANK(E686)),\"\",VLOOKUP(E686,Sheet2!A:H,3,FALSE))","v":""},null,{"$f":"IF(OR(E686=\"\",ISBLANK(E686)),\"\",VLOOKUP(E686,Sheet2!A:G,6,FALSE))","v":""},""]
[{"$f":"IF(OR(E687=\"\",ISBLANK(E687)),\"\",VLOOKUP(E687,Sheet2!A:F,2,FALSE))","v":""},{"$f":"IF(OR(E687=\"\",ISBLANK(E687)),\"\",VLOOKUP(E687,Sheet2!A:G,4,FALSE))","v":""},"",{"$f":"IF(OR(E687=\"\",ISBLANK(E687)),\"\",VLOOKUP(E687,Sheet2!A:H,3,FALSE))","v":""},null,{"$f":"IF(OR(E687=\"\",ISBLANK(E687)),\"\",VLOOKUP(E687,Sheet2!A:G,6,FALSE))","v":""},""]
[{"$f":"IF(OR(E688=\"\",ISBLANK(E688)),\"\",VLOOKUP(E688,Sheet2!A:F,2,FALSE))","v":""},{"$f":"IF(OR(E688=\"\",ISBLANK(E688)),\"\",VLOOKUP(E688,Sheet2!A:G,4,FALSE))","v":""},"",{"$f":"IF(OR(E688=\"\",ISBLANK(E688)),\"\",VLOOKUP(E688,Sheet2!A:H,3,FALSE))","v":""},null,{"$f":"IF(OR(E688=\"\",ISBLANK(E688)),\"\",VLOOKUP(E688,Sheet2!A:G,6,FALSE))","v":""},""]
[{"$f":"IF(OR(E689=\"\",ISBLANK(E689)),\"\",VLOOKUP(E689,Sheet2!A:F,2,FALSE))","v":""},{"$f":"IF(OR(E689=\"\",ISBLANK(E689)),\"\",VLOOKUP(E689,Sheet2!A:G,4,FALSE))","v":""},"",{"$f":"IF(OR(E689=\"\",ISBLANK(E689)),\"\",VLOOKUP(E689,Sheet2!A:H,3,FALSE))","v":""},null,{"$f":"IF(OR(E689=\"\",ISBLANK(E689)),\"\",VLOOKUP(E689,Sheet2!A:G,6,FALSE))","v":""},""]
[{"$f":"IF(OR(E690=\"\",ISBLANK(E690)),\"\",VLOOKUP(E690,Sheet2!A:F,2,FALSE))","v":""},{"$f":"IF(OR(E690=\"\",ISBLANK(E690)),\"\",VLOOKUP(E690,Sheet2!A:G,4,FALSE))","v":""},"",{"$f":"IF(OR(E690=\"\",ISBLANK(E690)),\"\",VLOOKUP(E690,Sheet2!A:H,3,FALSE))","v":""},null,{"$f":"IF(OR(E690=\"\",ISBLANK(E690)),\"\",VLOOKUP(E690,Sheet2!A:G,6,FALSE))","v":""},""]
[{"$f":"IF(OR(E691=\"\",ISBLANK(E691)),\"\",VLOOKUP(E691,Sheet2!A:F,2,FALSE))","v":""},{"$f":"IF(OR(E691=\"\",ISBLANK(E691)),\"\",VLOOKUP(E691,Sheet2!A:G,4,FALSE))","v":""},"",{"$f":"IF(OR(E691=\"\",ISBLANK(E691)),\"\",VLOOKUP(E691,Sheet2!A:H,3,FALSE))","v":""},null,{"$f":"IF(OR(E691=\"\",ISBLANK(E691)),\"\",VLOOKUP(E691,Sheet2!A:G,6,FALSE))","v":""},""]
[{"$f":"IF(OR(E692=\"\",ISBLANK(E692)),\"\",VLOOKUP(E692,Sheet2!A:F,2,FALSE))","v":""},{"$f":"IF(OR(E692=\"\",ISBLANK(E692)),\"\",VLOOKUP(E692,Sheet2!A:G,4,FALSE))","v":""},"",{"$f":"IF(OR(E692=\"\",ISBLANK(E692)),\"\",VLOOKUP(E692,Sheet2!A:H,3,FALSE))","v":""},null,{"$f":"IF(OR(E692=\"\",ISBLANK(E692)),\"\",VLOOKUP(E692,Sheet2!A:G,6,FALSE))","v":""},""]
[{"$f":"IF(OR(E693=\"\",ISBLANK(E693)),\"\",VLOOKUP(E693,Sheet2!A:F,2,FALSE))","v":""},{"$f":"IF(OR(E693=\"\",ISBLANK(E693)),\"\",VLOOKUP(E693,Sheet2!A:G,4,FALSE))","v":""},"",{"$f":"IF(OR(E693=\"\",ISBLANK(E693)),\"\",VLOOKUP(E693,Sheet2!A:H,3,FALSE))","v":""},null,{"$f":"IF(OR(E693=\"\",ISBLANK(E693)),\"\",VLOOKUP(E693,Sheet2!A:G,6,FALSE))","v":""},""]
[{"$f":"IF(OR(E694=\"\",ISBLANK(E694)),\"\",VLOOKUP(E694,Sheet2!A:F,2,FALSE))","v":""},{"$f":"IF(OR(E694=\"\",ISBLANK(E694)),\"\",VLOOKUP(E694,Sheet2!A:G,4,FALSE))","v":""},"",{"$f":"IF(OR(E694=\"\",ISBLANK(E694)),\"\",VLOOKUP(E694,Sheet2!A:H,3,FALSE))","v":""},null,{"$f":"IF(OR(E694=\"\",ISBLANK(E694)),\"\",VLOOKUP(E694,Sheet2!A:G,6,FALSE))","v":""},""]
[{"$f":"IF(OR(E695=\"\",ISBLANK(E695)),\"\",VLOOKUP(E695,Sheet2!A:F,2,FALSE))","v":""},{"$f":"IF(OR(E695=\"\",ISBLANK(E695)),\"\",VLOOKUP(E695,Sheet2!A:G,4,FALSE))","v":""},"",{"$f":"IF(OR(E695=\"\",ISBLANK(E695)),\"\",VLOOKUP(E695,Sheet2!A:H,3,FALSE))","v":""},null,{"$f":"IF(OR(E695=\"\",ISBLANK(E695)),\"\",VLOOKUP(E695,Sheet2!A:G,6,FALSE))","v":""},""]
[{"$f":"IF(OR(E696=\"\",ISBLANK(E696)),\"\",VLOOKUP(E696,Sheet2!A:F,2,FALSE))","v":""},{"$f":"IF(OR(E696=\"\",ISBLANK(E696)),\"\",VLOOKUP(E696,Sheet2!A:G,4,FALSE))","v":""},"",{"$f":"IF(OR(E696=\"\",ISBLANK(E696)),\"\",VLOOKUP(E696,Sheet2!A:H,3,FALSE))","v":""},null,{"$f":"IF(OR(E696=\"\",ISBLANK(E696)),\"\",VLOOKUP(E696,Sheet2!A:G,6,FALSE))","v":""},""]
[{"$f":"IF(OR(E697=\"\",ISBLANK(E697)),\"\",VLOOKUP(E697,Sheet2!A:F,2,FALSE))","v":""},{"$f":"IF(OR(E697=\"\",ISBLANK(E697)),\"\",VLOOKUP(E697,Sheet2!A:G,4,FALSE))","v":""},"",{"$f":"IF(OR(E697=\"\",ISBLANK(E697)),\"\",VLOOKUP(E697,Sheet2!A:H,3,FALSE))","v":""},null,{"$f":"IF(OR(E697=\"\",ISBLANK(E697)),\"\",VLOOKUP(E697,Sheet2!A:G,6,FALSE))","v":""},""]
[{"$f":"IF(OR(E698=\"\",ISBLANK(E698)),\"\",VLOOKUP(E698,Sheet2!A:F,2,FALSE))","v":""},{"$f":"IF(OR(E698=\"\",ISBLANK(E698)),\"\",VLOOKUP(E698,Sheet2!A:G,4,FALSE))","v":""},"",{"$f":"IF(OR(E698=\"\",ISBLANK(E698)),\"\",VLOOKUP(E698,Sheet2!A:H,3,FALSE))","v":""},null,{"$f":"IF(OR(E698=\"\",ISBLANK(E698)),\"\",VLOOKUP(E698,Sheet2!A:G,6,FALSE))","v":""},""]
[{"$f":"IF(OR(E699=\"\",ISBLANK(E699)),\"\",VLOOKUP(E699,Sheet2!A:F,2,FALSE))","v":""},{"$f":"IF(OR(E699=\"\",ISBLANK(E699)),\"\",VLOOKUP(E699,Sheet2!A:G,4,FALSE))","v":""},"",{"$f":"IF(OR(E699=\"\",ISBLANK(E699)),\"\",VLOOKUP(E699,Sheet2!A:H,3,FALSE))","v":""},null,{"$f":"IF(OR(E699=\"\",ISBLANK(E699)),\"\",VLOOKUP(E699,Sheet2!A:G,6,FALSE))","v":""},""]
[{"$f":"IF(OR(E700=\"\",ISBLANK(E700)),\"\",VLOOKUP(E700,Sheet2!A:F,2,FALSE))","v":""},{"$f":"IF(OR(E700=\"\",ISBLANK(E700)),\"\",VLOOKUP(E700,Sheet2!A:G,4,FALSE))","v":""},"",{"$f":"IF(OR(E700=\"\",ISBLANK(E700)),\"\",VLOOKUP(E700,Sheet2!A:H,3,FALSE))","v":""},null,{"$f":"IF(OR(E700=\"\",ISBLANK(E700)),\"\",VLOOKUP(E700,Sheet2!A:G,6,FALSE))","v":""},""]
[{"$f":"IF(OR(E701=\"\",ISBLANK(E701)),\"\",VLOOKUP(E701,Sheet2!A:F,2,FALSE))","v":""},{"$f":"IF(OR(E701=\"\",ISBLANK(E701)),\"\",VLOOKUP(E701,Sheet2!A:G,4,FALSE))","v":""},"",{"$f":"IF(OR(E701=\"\",ISBLANK(E701)),\"\",VLOOKUP(E701,Sheet2!A:H,3,FALSE))","v":""},null,{"$f":"IF(OR(E701=\"\",ISBLANK(E701)),\"\",VLOOKUP(E701,Sheet2!A:G,6,FALSE))","v":""},""]
[{"$f":"IF(OR(E702=\"\",ISBLANK(E702)),\"\",VLOOKUP(E702,Sheet2!A:F,2,FALSE))","v":""},{"$f":"IF(OR(E702=\"\",ISBLANK(E702)),\"\",VLOOKUP(E702,Sheet2!A:G,4,FALSE))","v":""},"",{"$f":"IF(OR(E702=\"\",ISBLANK(E702)),\"\",VLOOKUP(E702,Sheet2!A:H,3,FALSE))","v":""},null,{"$f":"IF(OR(E702=\"\",ISBLANK(E702)),\"\",VLOOKUP(E702,Sheet2!A:G,6,FALSE))","v":""},""]
[{"$f":"IF(OR(E703=\"\",ISBLANK(E703)),\"\",VLOOKUP(E703,Sheet2!A:F,2,FALSE))","v":""},{"$f":"IF(OR(E703=\"\",ISBLANK(E703)),\"\",VLOOKUP(E703,Sheet2!A:G,4,FALSE))","v":""},"",{"$f":"IF(OR(E703=\"\",ISBLANK(E703)),\"\",VLOOKUP(E703,Sheet2!A:H,3,FALSE))","v":""},null,{"$f":"IF(OR(E703=\"\",ISBLANK(E703)),\"\",VLOOKUP(E703,Sheet2!A:G,6,FALSE))","v":""},""]
[{"$f":"IF(OR(E704=\"\",ISBLANK(E704)),\"\",VLOOKUP(E704,Sheet2!A:F,2,FALSE))","v":""},{"$f":"IF(OR(E704=\"\",ISBLANK(E704)),\"\",VLOOKUP(E704,Sheet2!A:G,4,FALSE))","v":""},"",{"$f":"IF(OR(E704=\"\",ISBLANK(E704)),\"\",VLOOKUP(E704,Sheet2!A:H,3,FALSE))","v":""},null,{"$f":"IF(OR(E704=\"\",ISBLANK(E704)),\"\",VLOOKUP(E704,Sheet2!A:G,6,FALSE))","v":""},""]
[{"$f":"IF(OR(E705=\"\",ISBLANK(E705)),\"\",VLOOKUP(E705,Sheet2!A:F,2,FALSE))","v":""},{"$f":"IF(OR(E705=\"\",ISBLANK(E705)),\"\",VLOOKUP(E705,Sheet2!A:G,4,FALSE))","v":""},"",{"$f":"IF(OR(E705=\"\",ISBLANK(E705)),\"\",VLOOKUP(E705,Sheet2!A:H,3,FALSE))","v":""},null,{"$f":"IF(OR(E705=\"\",ISBLANK(E705)),\"\",VLOOKUP(E705,Sheet2!A:G,6,FALSE))","v":""},""]
[{"$f":"IF(OR(E706=\"\",ISBLANK(E706)),\"\",VLOOKUP(E706,Sheet2!A:F,2,FALSE))","v":""},{"$f":"IF(OR(E706=\"\",ISBLANK(E706)),\"\",VLOOKUP(E706,Sheet2!A:G,4,FALSE))","v":""},"",{"$f":"IF(OR(E706=\"\",ISBLANK(E706)),\"\",VLOOKUP(E706,Sheet2!A:H,3,FALSE))","v":""},null,{"$f":"IF(OR(E706=\"\",ISBLANK(E706)),\"\",VLOOKUP(E706,Sheet2!A:G,6,FALSE))","v":""},""]
[{"$f":"IF(OR(E707=\"\",ISBLANK(E707)),\"\",VLOOKUP(E707,Sheet2!A:F,2,FALSE))","v":""},{"$f":"IF(OR(E707=\"\",ISBLANK(E707)),\"\",VLOOKUP(E707,Sheet2!A:G,4,FALSE))","v":""},{"$f":"IF(D707=0,\"\",D707)","v":""},{"$f":"IF(OR(E707=\"\",ISBLANK(E707)),\"\",VLOOKUP(E707,Sheet2!A:H,3,FALSE))","v":""},null,{"$f":"IF(OR(E707=\"\",ISBLANK(E707)),\"\",VLOOKUP(E707,Sheet2!A:G,6,FALSE))","v":""},{"$f":"IF(F707=0,\"\",F707)","v":""}]
[{"$f":"IF(OR(E708=\"\",ISBLANK(E708)),\"\",VLOOKUP(E708,Sheet2!A:F,2,FALSE))","v":""},{"$f":"IF(OR(E708=\"\",ISBLANK(E708)),\"\",VLOOKUP(E708,Sheet2!A:G,4,FALSE))","v":""},"",{"$f":"IF(OR(E708=\"\",ISBLANK(E708)),\"\",VLOOKUP(E708,Sheet2!A:H,3,FALSE))","v":""},null,{"$f":"IF(OR(E708=\"\",ISBLANK(E708)),\"\",VLOOKUP(E708,Sheet2!A:G,6,FALSE))","v":""},""]
[{"$f":"IF(OR(E709=\"\",ISBLANK(E709)),\"\",VLOOKUP(E709,Sheet2!A:F,2,FALSE))","v":""},{"$f":"IF(OR(E709=\"\",ISBLANK(E709)),\"\",VLOOKUP(E709,Sheet2!A:G,4,FALSE))","v":""},"",{"$f":"IF(OR(E709=\"\",ISBLANK(E709)),\"\",VLOOKUP(E709,Sheet2!A:H,3,FALSE))","v":""},null,{"$f":"IF(OR(E709=\"\",ISBLANK(E709)),\"\",VLOOKUP(E709,Sheet2!A:G,6,FALSE))","v":""},""]
[{"$f":"IF(OR(E710=\"\",ISBLANK(E710)),\"\",VLOOKUP(E710,Sheet2!A:F,2,FALSE))","v":""},{"$f":"IF(OR(E710=\"\",ISBLANK(E710)),\"\",VLOOKUP(E710,Sheet2!A:G,4,FALSE))","v":""},"",{"$f":"IF(OR(E710=\"\",ISBLANK(E710)),\"\",VLOOKUP(E710,Sheet2!A:H,3,FALSE))","v":""},null,{"$f":"IF(OR(E710=\"\",ISBLANK(E710)),\"\",VLOOKUP(E710,Sheet2!A:G,6,FALSE))","v":""},""]
[{"$f":"IF(OR(E711=\"\",ISBLANK(E711)),\"\",VLOOKUP(E711,Sheet2!A:F,2,FALSE))","v":""},{"$f":"IF(OR(E711=\"\",ISBLANK(E711)),\"\",VLOOKUP(E711,Sheet2!A:G,4,FALSE))","v":""},"",{"$f":"IF(OR(E711=\"\",ISBLANK(E711)),\"\",VLOOKUP(E711,Sheet2!A:H,3,FALSE))","v":""},null,{"$f":"IF(OR(E711=\"\",ISBLANK(E711)),\"\",VLOOKUP(E711,Sheet2!A:G,6,FALSE))","v":""},""]
[{"$f":"IF(OR(E712=\"\",ISBLANK(E712)),\"\",VLOOKUP(E712,Sheet2!A:F,2,FALSE))","v":""},{"$f":"IF(OR(E712=\"\",ISBLANK(E712)),\"\",VLOOKUP(E712,Sheet2!A:G,4,FALSE))","v":""},"",{"$f":"IF(OR(E712=\"\",ISBLANK(E712)),\"\",VLOOKUP(E712,Sheet2!A:H,3,FALSE))","v":""},null,{"$f":"IF(OR(E712=\"\",ISBLANK(E712)),\"\",VLOOKUP(E712,Sheet2!A:G,6,FALSE))","v":""},""]
[{"$f":"IF(OR(E713=\"\",ISBLANK(E713)),\"\",VLOOKUP(E713,Sheet2!A:F,2,FALSE))","v":""},{"$f":"IF(OR(E713=\"\",ISBLANK(E713)),\"\",VLOOKUP(E713,Sheet2!A:G,4,FALSE))","v":""},"",{"$f":"IF(OR(E713=\"\",ISBLANK(E713)),\"\",VLOOKUP(E713,Sheet2!A:H,3,FALSE))","v":""},null,{"$f":"IF(OR(E713=\"\",ISBLANK(E713)),\"\",VLOOKUP(E713,Sheet2!A:G,6,FALSE))","v":""},""]
[{"$f":"IF(OR(E714=\"\",ISBLANK(E714)),\"\",VLOOKUP(E714,Sheet2!A:F,2,FALSE))","v":""},{"$f":"IF(OR(E714=\"\",ISBLANK(E714)),\"\",VLOOKUP(E714,Sheet2!A:G,4,FALSE))","v":""},"",{"$f":"IF(OR(E714=\"\",ISBLANK(E714)),\"\",VLOOKUP(E714,Sheet2!A:H,3,FALSE))","v":""},null,{"$f":"IF(OR(E714=\"\",ISBLANK(E714)),\"\",VLOOKUP(E714,Sheet2!A:G,6,FALSE))","v":""},""]
[{"$f":"IF(OR(E715=\"\",ISBLANK(E715)),\"\",VLOOKUP(E715,Sheet2!A:F,2,FALSE))","v":""},{"$f":"IF(OR(E715=\"\",ISBLANK(E715)),\"\",VLOOKUP(E715,Sheet2!A:G,4,FALSE))","v":""},"",{"$f":"IF(OR(E715=\"\",ISBLANK(E715)),\"\",VLOOKUP(E715,Sheet2!A:H,3,FALSE))","v":""},null,{"$f":"IF(OR(E715=\"\",ISBLANK(E715)),\"\",VLOOKUP(E715,Sheet2!A:G,6,FALSE))","v":""},""]
[{"$f":"IF(OR(E716=\"\",ISBLANK(E716)),\"\",VLOOKUP(E716,Sheet2!A:F,2,FALSE))","v":""},{"$f":"IF(OR(E716=\"\",ISBLANK(E716)),\"\",VLOOKUP(E716,Sheet2!A:G,4,FALSE))","v":""},"",{"$f":"IF(OR(E716=\"\",ISBLANK(E716)),\"\",VLOOKUP(E716,Sheet2!A:H,3,FALSE))","v":""},null,{"$f":"IF(OR(E716=\"\",ISBLANK(E716)),\"\",VLOOKUP(E716,Sheet2!A:G,6,FALSE))","v":""},""]
[{"$f":"IF(OR(E717=\"\",ISBLANK(E717)),\"\",VLOOKUP(E717,Sheet2!A:F,2,FALSE))","v":""},{"$f":"IF(OR(E717=\"\",ISBLANK(E717)),\"\",VLOOKUP(E717,Sheet2!A:G,4,FALSE))","v":""},"",{"$f":"IF(OR(E717=\"\",ISBLANK(E717)),\"\",VLOOKUP(E717,Sheet2!A:H,3,FALSE))","v":""},null,{"$f":"IF(OR(E717=\"\",ISBLANK(E717)),\"\",VLOOKUP(E717,Sheet2!A:G,6,FALSE))","v":""},""]
[{"$f":"IF(OR(E718=\"\",ISBLANK(E718)),\"\",VLOOKUP(E718,Sheet2!A:F,2,FALSE))","v":""},{"$f":"IF(OR(E718=\"\",ISBLANK(E718)),\"\",VLOOKUP(E718,Sheet2!A:G,4,FALSE))","v":""},"",{"$f":"IF(OR(E718=\"\",ISBLANK(E718)),\"\",VLOOKUP(E718,Sheet2!A:H,3,FALSE))","v":""},null,{"$f":"IF(OR(E718=\"\",ISBLANK(E718)),\"\",VLOOKUP(E718,Sheet2!A:G,6,FALSE))","v":""},""]
[{"$f":"IF(OR(E719=\"\",ISBLANK(E719)),\"\",VLOOKUP(E719,Sheet2!A:F,2,FALSE))","v":""},{"$f":"IF(OR(E719=\"\",ISBLANK(E719)),\"\",VLOOKUP(E719,Sheet2!A:G,4,FALSE))","v":""},"",{"$f":"IF(OR(E719=\"\",ISBLANK(E719)),\"\",VLOOKUP(E719,Sheet2!A:H,3,FALSE))","v":""},null,{"$f":"IF(OR(E719=\"\",ISBLANK(E719)),\"\",VLOOKUP(E719,Sheet2!A:G,6,FALSE))","v":""},""]
[{"$f":"IF(OR(E720=\"\",ISBLANK(E720)),\"\",VLOOKUP(E720,Sheet2!A:F,2,FALSE))","v":""},{"$f":"IF(OR(E720=\"\",ISBLANK(E720)),\"\",VLOOKUP(E720,Sheet2!A:G,4,FALSE))","v":""},"",{"$f":"IF(OR(E720=\"\",ISBLANK(E720)),\"\",VLOOKUP(E720,Sheet2!A:H,3,FALSE))","v":""},null,{"$f":"IF(OR(E720=\"\",ISBLANK(E720)),\"\",VLOOKUP(E720,Sheet2!A:G,6,FALSE))","v":""},""]
[{"$f":"IF(OR(E721=\"\",ISBLANK(E721)),\"\",VLOOKUP(E721,Sheet2!A:F,2,FALSE))","v":""},{"$f":"IF(OR(E721=\"\",ISBLANK(E721)),\"\",VLOOKUP(E721,Sheet2!A:G,4,FALSE))","v":""},"",{"$f":"IF(OR(E721=\"\",ISBLANK(E721)),\"\",VLOOKUP(E721,Sheet2!A:H,3,FALSE))","v":""},null,{"$f":"IF(OR(E721=\"\",ISBLANK(E721)),\"\",VLOOKUP(E721,Sheet2!A:G,6,FALSE))","v":""},""]
[{"$f":"IF(OR(E722=\"\",ISBLANK(E722)),\"\",VLOOKUP(E722,Sheet2!A:F,2,FALSE))","v":""},{"$f":"IF(OR(E722=\"\",ISBLANK(E722)),\"\",VLOOKUP(E722,Sheet2!A:G,4,FALSE))","v":""},"",{"$f":"IF(OR(E722=\"\",ISBLANK(E722)),\"\",VLOOKUP(E722,Sheet2!A:H,3,FALSE))","v":""},null,{"$f":"IF(OR(E722=\"\",ISBLANK(E722)),\"\",VLOOKUP(E722,Sheet2!A:G,6,FALSE))","v":""},""]
[{"$f":"IF(OR(E723=\"\",ISBLANK(E723)),\"\",VLOOKUP(E723,Sheet2!A:F,2,FALSE))","v":""},{"$f":"IF(OR(E723=\"\",ISBLANK(E723)),\"\",VLOOKUP(E723,Sheet2!A:G,4,FALSE))","v":""},"",{"$f":"IF(OR(E723=\"\",ISBLANK(E723)),\"\",VLOOKUP(E723,Sheet2!A:H,3,FALSE))","v":""},null,{"$f":"IF(OR(E723=\"\",ISBLANK(E723)),\"\",VLOOKUP(E723,Sheet2!A:G,6,FALSE))","v":""},""]
[{"$f":"IF(OR(E724=\"\",ISBLANK(E724)),\"\",VLOOKUP(E724,Sheet2!A:F,2,FALSE))","v":""},{"$f":"IF(OR(E724=\"\",ISBLANK(E724)),\"\",VLOOKUP(E724,Sheet2!A:G,4,FALSE))","v":""},"",{"$f":"IF(OR(E724=\"\",ISBLANK(E724)),\"\",VLOOKUP(E724,Sheet2!A:H,3,FALSE))","v":""},null,{"$f":"IF(OR(E724=\"\",ISBLANK(E724)),\"\",VLOOKUP(E724,Sheet2!A:G,6,FALSE))","v":""},""]
[{"$f":"IF(OR(E725=\"\",ISBLANK(E725)),\"\",VLOOKUP(E725,Sheet2!A:F,2,FALSE))","v":""},{"$f":"IF(OR(E725=\"\",ISBLANK(E725)),\"\",VLOOKUP(E725,Sheet2!A:G,4,FALSE))","v":""},"",{"$f":"IF(OR(E725=\"\",ISBLANK(E725)),\"\",VLOOKUP(E725,Sheet2!A:H,3,FALSE))","v":""},null,{"$f":"IF(OR(E725=\"\",ISBLANK(E725)),\"\",VLOOKUP(E725,Sheet2!A:G,6,FALSE))","v":""},""]
[{"$f":"IF(OR(E726=\"\",ISBLANK(E726)),\"\",VLOOKUP(E726,Sheet2!A:F,2,FALSE))","v":""},{"$f":"IF(OR(E726=\"\",ISBLANK(E726)),\"\",VLOOKUP(E726,Sheet2!A:G,4,FALSE))","v":""},"",{"$f":"IF(OR(E726=\"\",ISBLANK(E726)),\"\",VLOOKUP(E726,Sheet2!A:H,3,FALSE))","v":""},null,{"$f":"IF(OR(E726=\"\",ISBLANK(E726)),\"\",VLOOKUP(E726,Sheet2!A:G,6,FALSE))","v":""},""]
[{"$f":"IF(OR(E727=\"\",ISBLANK(E727)),\"\",VLOOKUP(E727,Sheet2!A:F,2,FALSE))","v":""},{"$f":"IF(OR(E727=\"\",ISBLANK(E727)),\"\",VLOOKUP(E727,Sheet2!A:G,4,FALSE))","v":""},"",{"$f":"IF(OR(E727=\"\",ISBLANK(E727)),\"\",VLOOKUP(E727,Sheet2!A:H,3,FALSE))","v":""},null,{"$f":"IF(OR(E727=\"\",ISBLANK(E727)),\"\",VLOOKUP(E727,Sheet2!A:G,6,FALSE))","v":""},""]
[{"$f":"IF(OR(E728=\"\",ISBLANK(E728)),\"\",VLOOKUP(E728,Sheet2!A:F,2,FALSE))","v":""},{"$f":"IF(OR(E728=\"\",ISBLANK(E728)),\"\",VLOOKUP(E728,Sheet2!A:G,4,FALSE))","v":""},"",{"$f":"IF(OR(E728=\"\",ISBLANK(E728)),\"\",VLOOKUP(E728,Sheet2!A:H,3,FALSE))","v":""},null,{"$f":"IF(OR(E728=\"\",ISBLANK(E728)),\"\",VLOOKUP(E728,Sheet2!A:G,6,FALSE))","v":""},""]
[{"$f":"IF(OR(E729=\"\",ISBLANK(E729)),\"\",VLOOKUP(E729,Sheet2!A:F,2,FALSE))","v":""},{"$f":"IF(OR(E729=\"\",ISBLANK(E729)),\"\",VLOOKUP(E729,Sheet2!A:G,4,FALSE))","v":""},"",{"$f":"IF(OR(E729=\"\",ISBLANK(E729)),\"\",VLOOKUP(E729,Sheet2!A:H,3,FALSE))","v":""},null,{"$f":"IF(OR(E729=\"\",ISBLANK(E729)),\"\",VLOOKUP(E729,Sheet2!A:G,6,FALSE))","v":""},""]
[{"$f":"IF(OR(E730=\"\",ISBLANK(E730)),\"\",VLOOKUP(E730,Sheet2!A:F,2,FALSE))","v":""},{"$f":"IF(OR(E730=\"\",ISBLANK(E730)),\"\",VLOOKUP(E730,Sheet2!A:G,4,FALSE))","v":""},"",{"$f":"IF(OR(E730=\"\",ISBLANK(E730)),\"\",VLOOKUP(E730,Sheet2!A:H,3,FALSE))","v":""},null,{"$f":"IF(OR(E730=\"\",ISBLANK(E730)),\"\",VLOOKUP(E730,Sheet2!A:G,6,FALSE))","v":""},""]
[{"$f":"IF(OR(E731=\"\",ISBLANK(E731)),\"\",VLOOKUP(E731,Sheet2!A:F,2,FALSE))","v":""},{"$f":"IF(OR(E731=\"\",ISBLANK(E731)),\"\",VLOOKUP(E731,Sheet2!A:G,4,FALSE))","v":""},"",{"$f":"IF(OR(E731=\"\",ISBLANK(E731)),\"\",VLOOKUP(E731,Sheet2!A:H,3,FALSE))","v":""},null,{"$f":"IF(OR(E731=\"\",ISBLANK(E731)),\"\",VLOOKUP(E731,Sheet2!A:G,6,FALSE))","v":""},""]
[{"$f":"IF(OR(E732=\"\",ISBLANK(E732)),\"\",VLOOKUP(E732,Sheet2!A:F,2,FALSE))","v":""},{"$f":"IF(OR(E732=\"\",ISBLANK(E732)),\"\",VLOOKUP(E732,Sheet2!A:G,4,FALSE))","v":""},"",{"$f":"IF(OR(E732=\"\",ISBLANK(E732)),\"\",VLOOKUP(E732,Sheet2!A:H,3,FALSE))","v":""},null,{"$f":"IF(OR(E732=\"\",ISBLANK(E732)),\"\",VLOOKUP(E732,Sheet2!A:G,6,FALSE))","v":""},""]
[{"$f":"IF(OR(E733=\"\",ISBLANK(E733)),\"\",VLOOKUP(E733,Sheet2!A:F,2,FALSE))","v":""},{"$f":"IF(OR(E733=\"\",ISBLANK(E733)),\"\",VLOOKUP(E733,Sheet2!A:G,4,FALSE))","v":""},"",{"$f":"IF(OR(E733=\"\",ISBLANK(E733)),\"\",VLOOKUP(E733,Sheet2!A:H,3,FALSE))","v":""},null,{"$f":"IF(OR(E733=\"\",ISBLANK(E733)),\"\",VLOOKUP(E733,Sheet2!A:G,6,FALSE))","v":""},""]
[{"$f":"IF(OR(E734=\"\",ISBLANK(E734)),\"\",VLOOKUP(E734,Sheet2!A:F,2,FALSE))","v":""},{"$f":"IF(OR(E734=\"\",ISBLANK(E734)),\"\",VLOOKUP(E734,Sheet2!A:G,4,FALSE))","v":""},"",{"$f":"IF(OR(E734=\"\",ISBLANK(E734)),\"\",VLOOKUP(E734,Sheet2!A:H,3,FALSE))","v":""},null,{"$f":"IF(OR(E734=\"\",ISBLANK(E734)),\"\",VLOOKUP(E734,Sheet2!A:G,6,FALSE))","v":""},""]
[{"$f":"IF(OR(E735=\"\",ISBLANK(E735)),\"\",VLOOKUP(E735,Sheet2!A:F,2,FALSE))","v":""},{"$f":"IF(OR(E735=\"\",ISBLANK(E735)),\"\",VLOOKUP(E735,Sheet2!A:G,4,FALSE))","v":""},"",{"$f":"IF(OR(E735=\"\",ISBLANK(E735)),\"\",VLOOKUP(E735,Sheet2!A:H,3,FALSE))","v":""},null,{"$f":"IF(OR(E735=\"\",ISBLANK(E735)),\"\",VLOOKUP(E735,Sheet2!A:G,6,FALSE))","v":""},""]
[{"$f":"IF(OR(E736=\"\",ISBLANK(E736)),\"\",VLOOKUP(E736,Sheet2!A:F,2,FALSE))","v":""},{"$f":"IF(OR(E736=\"\",ISBLANK(E736)),\"\",VLOOKUP(E736,Sheet2!A:G,4,FALSE))","v":""},"",{"$f":"IF(OR(E736=\"\",ISBLANK(E736)),\"\",VLOOKUP(E736,Sheet2!A:H,3,FALSE))","v":""},null,{"$f":"IF(OR(E736=\"\",ISBLANK(E736)),\"\",VLOOKUP(E736,Sheet2!A:G,6,FALSE))","v":""},""]
[{"$f":"IF(OR(E737=\"\",ISBLANK(E737)),\"\",VLOOKUP(E737,Sheet2!A:F,2,FALSE))","v":""},{"$f":"IF(OR(E737=\"\",ISBLANK(E737)),\"\",VLOOKUP(E737,Sheet2!A:G,4,FALSE))","v":""},"",{"$f":"IF(OR(E737=\"\",ISBLANK(E737)),\"\",VLOOKUP(E737,Sheet2!A:H,3,FALSE))","v":""},null,{"$f":"IF(OR(E737=\"\",ISBLANK(E737)),\"\",VLOOKUP(E737,Sheet2!A:G,6,FALSE))","v":""},""]
[{"$f":"IF(OR(E738=\"\",ISBLANK(E738)),\"\",VLOOKUP(E738,Sheet2!A:F,2,FALSE))","v":""},{"$f":"IF(OR(E738=\"\",ISBLANK(E738)),\"\",VLOOKUP(E738,Sheet2!A:G,4,FALSE))","v":""},"",{"$f":"IF(OR(E738=\"\",ISBLANK(E738)),\"\",VLOOKUP(E738,Sheet2!A:H,3,FALSE))","v":""},null,{"$f":"IF(OR(E738=\"\",ISBLANK(E738)),\"\",VLOOKUP(E738,Sheet2!A:G,6,FALSE))","v":""},""]
[{"$f":"IF(OR(E739=\"\",ISBLANK(E739)),\"\",VLOOKUP(E739,Sheet2!A:F,2,FALSE))","v":""},{"$f":"IF(OR(E739=\"\",ISBLANK(E739)),\"\",VLOOKUP(E739,Sheet2!A:G,4,FALSE))","v":""},"",{"$f":"IF(OR(E739=\"\",ISBLANK(E739)),\"\",VLOOKUP(E739,Sheet2!A:H,3,FALSE))","v":""},null,{"$f":"IF(OR(E739=\"\",ISBLANK(E739)),\"\",VLOOKUP(E739,Sheet2!A:G,6,FALSE))","v":""},""]
[{"$f":"IF(OR(E740=\"\",ISBLANK(E740)),\"\",VLOOKUP(E740,Sheet2!A:F,2,FALSE))","v":""},{"$f":"IF(OR(E740=\"\",ISBLANK(E740)),\"\",VLOOKUP(E740,Sheet2!A:G,4,FALSE))","v":""},"",{"$f":"IF(OR(E740=\"\",ISBLANK(E740)),\"\",VLOOKUP(E740,Sheet2!A:H,3,FALSE))","v":""},null,{"$f":"IF(OR(E740=\"\",ISBLANK(E740)),\"\",VLOOKUP(E740,Sheet2!A:G,6,FALSE))","v":""},""]
[{"$f":"IF(OR(E741=\"\",ISBLANK(E741)),\"\",VLOOKUP(E741,Sheet2!A:F,2,FALSE))","v":""},{"$f":"IF(OR(E741=\"\",ISBLANK(E741)),\"\",VLOOKUP(E741,Sheet2!A:G,4,FALSE))","v":""},"",{"$f":"IF(OR(E741=\"\",ISBLANK(E741)),\"\",VLOOKUP(E741,Sheet2!A:H,3,FALSE))","v":""},null,{"$f":"IF(OR(E741=\"\",ISBLANK(E741)),\"\",VLOOKUP(E741,Sheet2!A:G,6,FALSE))","v":""},""]
[{"$f":"IF(OR(E742=\"\",ISBLANK(E742)),\"\",VLOOKUP(E742,Sheet2!A:F,2,FALSE))","v":""},{"$f":"IF(OR(E742=\"\",ISBLANK(E742)),\"\",VLOOKUP(E742,Sheet2!A:G,4,FALSE))","v":""},"",{"$f":"IF(OR(E742=\"\",ISBLANK(E742)),\"\",VLOOKUP(E742,Sheet2!A:H,3,FALSE))","v":""},null,{"$f":"IF(OR(E742=\"\",ISBLANK(E742)),\"\",VLOOKUP(E742,Sheet2!A:G,6,FALSE))","v":""},""]
[{"$f":"IF(OR(E743=\"\",ISBLANK(E743)),\"\",VLOOKUP(E743,Sheet2!A:F,2,FALSE))","v":""},{"$f":"IF(OR(E743=\"\",ISBLANK(E743)),\"\",VLOOKUP(E743,Sheet2!A:G,4,FALSE))","v":""},"",{"$f":"IF(OR(E743=\"\",ISBLANK(E743)),\"\",VLOOKUP(E743,Sheet2!A:H,3,FALSE))","v":""},null,{"$f":"IF(OR(E743=\"\",ISBLANK(E743)),\"\",VLOOKUP(E743,Sheet2!A:G,6,FALSE))","v":""},""]
[{"$f":"IF(OR(E744=\"\",ISBLANK(E744)),\"\",VLOOKUP(E744,Sheet2!A:F,2,FALSE))","v":""},{"$f":"IF(OR(E744=\"\",ISBLANK(E744)),\"\",VLOOKUP(E744,Sheet2!A:G,4,FALSE))","v":""},"",{"$f":"IF(OR(E744=\"\",ISBLANK(E744)),\"\",VLOOKUP(E744,Sheet2!A:H,3,FALSE))","v":""},null,{"$f":"IF(OR(E744=\"\",ISBLANK(E744)),\"\",VLOOKUP(E744,Sheet2!A:G,6,FALSE))","v":""},""]
[{"$f":"IF(OR(E745=\"\",ISBLANK(E745)),\"\",VLOOKUP(E745,Sheet2!A:F,2,FALSE))","v":""},{"$f":"IF(OR(E745=\"\",ISBLANK(E745)),\"\",VLOOKUP(E745,Sheet2!A:G,4,FALSE))","v":""},"",{"$f":"IF(OR(E745=\"\",ISBLANK(E745)),\"\",VLOOKUP(E745,Sheet2!A:H,3,FALSE))","v":""},null,{"$f":"IF(OR(E745=\"\",ISBLANK(E745)),\"\",VLOOKUP(E745,Sheet2!A:G,6,FALSE))","v":""},""]
[{"$f":"IF(OR(E746=\"\",ISBLANK(E746)),\"\",VLOOKUP(E746,Sheet2!A:F,2,FALSE))","v":""},{"$f":"IF(OR(E746=\"\",ISBLANK(E746)),\"\",VLOOKUP(E746,Sheet2!A:G,4,FALSE))","v":""},"",{"$f":"IF(OR(E746=\"\",ISBLANK(E746)),\"\",VLOOKUP(E746,Sheet2!A:H,3,FALSE))","v":""},null,{"$f":"IF(OR(E746=\"\",ISBLANK(E746)),\"\",VLOOKUP(E746,Sheet2!A:G,6,FALSE))","v":""},""]
[{"$f":"IF(OR(E747=\"\",ISBLANK(E747)),\"\",VLOOKUP(E747,Sheet2!A:F,2,FALSE))","v":""},{"$f":"IF(OR(E747=\"\",ISBLANK(E747)),\"\",VLOOKUP(E747,Sheet2!A:G,4,FALSE))","v":""},"",{"$f":"IF(OR(E747=\"\",ISBLANK(E747)),\"\",VLOOKUP(E747,Sheet2!A:H,3,FALSE))","v":""},null,{"$f":"IF(OR(E747=\"\",ISBLANK(E747)),\"\",VLOOKUP(E747,Sheet2!A:G,6,FALSE))","v":""},""]
[{"$f":"IF(OR(E748=\"\",ISBLANK(E748)),\"\",VLOOKUP(E748,Sheet2!A:F,2,FALSE))","v":""},{"$f":"IF(OR(E748=\"\",ISBLANK(E748)),\"\",VLOOKUP(E748,Sheet2!A:G,4,FALSE))","v":""},"",{"$f":"IF(OR(E748=\"\",ISBLANK(E748)),\"\",VLOOKUP(E748,Sheet2!A:H,3,FALSE))","v":""},null,{"$f":"IF(OR(E748=\"\",ISBLANK(E748)),\"\",VLOOKUP(E748,Sheet2!A:G,6,FALSE))","v":""},""]
[{"$f":"IF(OR(E749=\"\",ISBLANK(E749)),\"\",VLOOKUP(E749,Sheet2!A:F,2,FALSE))","v":""},{"$f":"IF(OR(E749=\"\",ISBLANK(E749)),\"\",VLOOKUP(E749,Sheet2!A:G,4,FALSE))","v":""},"",{"$f":"IF(OR(E749=\"\",ISBLANK(E749)),\"\",VLOOKUP(E749,Sheet2!A:H,3,FALSE))","v":""},null,{"$f":"IF(OR(E749=\"\",ISBLANK(E749)),\"\",VLOOKUP(E749,Sheet2!A:G,6,FALSE))","v":""},""]
[{"$f":"IF(OR(E750=\"\",ISBLANK(E750)),\"\",VLOOKUP(E750,Sheet2!A:F,2,FALSE))","v":""},{"$f":"IF(OR(E750=\"\",ISBLANK(E750)),\"\",VLOOKUP(E750,Sheet2!A:G,4,FALSE))","v":""},"",{"$f":"IF(OR(E750=\"\",ISBLANK(E750)),\"\",VLOOKUP(E750,Sheet2!A:H,3,FALSE))","v":""},null,{"$f":"IF(OR(E750=\"\",ISBLANK(E750)),\"\",VLOOKUP(E750,Sheet2!A:G,6,FALSE))","v":""},""]
[{"$f":"IF(OR(E751=\"\",ISBLANK(E751)),\"\",VLOOKUP(E751,Sheet2!A:F,2,FALSE))","v":""},{"$f":"IF(OR(E751=\"\",ISBLANK(E751)),\"\",VLOOKUP(E751,Sheet2!A:G,4,FALSE))","v":""},"",{"$f":"IF(OR(E751=\"\",ISBLANK(E751)),\"\",VLOOKUP(E751,Sheet2!A:H,3,FALSE))","v":""},null,{"$f":"IF(OR(E751=\"\",ISBLANK(E751)),\"\",VLOOKUP(E751,Sheet2!A:G,6,FALSE))","v":""},""]
[{"$f":"IF(OR(E752=\"\",ISBLANK(E752)),\"\",VLOOKUP(E752,Sheet2!A:F,2,FALSE))","v":""},{"$f":"IF(OR(E752=\"\",ISBLANK(E752)),\"\",VLOOKUP(E752,Sheet2!A:G,4,FALSE))","v":""},"",{"$f":"IF(OR(E752=\"\",ISBLANK(E752)),\"\",VLOOKUP(E752,Sheet2!A:H,3,FALSE))","v":""},null,{"$f":"IF(OR(E752=\"\",ISBLANK(E752)),\"\",VLOOKUP(E752,Sheet2!A:G,6,FALSE))","v":""},""]
[{"$f":"IF(OR(E753=\"\",ISBLANK(E753)),\"\",VLOOKUP(E753,Sheet2!A:F,2,FALSE))","v":""},{"$f":"IF(OR(E753=\"\",ISBLANK(E753)),\"\",VLOOKUP(E753,Sheet2!A:G,4,FALSE))","v":""},"",{"$f":"IF(OR(E753=\"\",ISBLANK(E753)),\"\",VLOOKUP(E753,Sheet2!A:H,3,FALSE))","v":""},null,{"$f":"IF(OR(E753=\"\",ISBLANK(E753)),\"\",VLOOKUP(E753,Sheet2!A:G,6,FALSE))","v":""},""]
[{"$f":"IF(OR(E754=\"\",ISBLANK(E754)),\"\",VLOOKUP(E754,Sheet2!A:F,2,FALSE))","v":""},{"$f":"IF(OR(E754=\"\",ISBLANK(E754)),\"\",VLOOKUP(E754,Sheet2!A:G,4,FALSE))","v":""},"",{"$f":"IF(OR(E754=\"\",ISBLANK(E754)),\"\",VLOOKUP(E754,Sheet2!A:H,3,FALSE))","v":""},null,{"$f":"IF(OR(E754=\"\",ISBLANK(E754)),\"\",VLOOKUP(E754,Sheet2!A:G,6,FALSE))","v":""},""]
[{"$f":"IF(OR(E755=\"\",ISBLANK(E755)),\"\",VLOOKUP(E755,Sheet2!A:F,2,FALSE))","v":""},{"$f":"IF(OR(E755=\"\",ISBLANK(E755)),\"\",VLOOKUP(E755,Sheet2!A:G,4,FALSE))","v":""},"",{"$f":"IF(OR(E755=\"\",ISBLANK(E755)),\"\",VLOOKUP(E755,Sheet2!A:H,3,FALSE))","v":""},null,{"$f":"IF(OR(E755=\"\",ISBLANK(E755)),\"\",VLOOKUP(E755,Sheet2!A:G,6,FALSE))","v":""},""]
[{"$f":"IF(OR(E756=\"\",ISBLANK(E756)),\"\",VLOOKUP(E756,Sheet2!A:F,2,FALSE))","v":""},{"$f":"IF(OR(E756=\"\",ISBLANK(E756)),\"\",VLOOKUP(E756,Sheet2!A:G,4,FALSE))","v":""},"",{"$f":"IF(OR(E756=\"\",ISBLANK(E756)),\"\",VLOOKUP(E756,Sheet2!A:H,3,FALSE))","v":""},null,{"$f":"IF(OR(E756=\"\",ISBLANK(E756)),\"\",VLOOKUP(E756,Sheet2!A:G,6,FALSE))","v":""},""]
[{"$f":"IF(OR(E757=\"\",ISBLANK(E757)),\"\",VLOOKUP(E757,Sheet2!A:F,2,FALSE))","v":""},{"$f":"IF(OR(E757=\"\",ISBLANK(E757)),\"\",VLOOKUP(E757,Sheet2!A:G,4,FALSE))","v":""},"",{"$f":"IF(OR(E757=\"\",ISBLANK(E757)),\"\",VLOOKUP(E757,Sheet2!A:H,3,FALSE))","v":""},null,{"$f":"IF(OR(E757=\"\",ISBLANK(E757)),\"\",VLOOKUP(E757,Sheet2!A:G,6,FALSE))","v":""},""]
[{"$f":"IF(OR(E758=\"\",ISBLANK(E758)),\"\",VLOOKUP(E758,Sheet2!A:F,2,FALSE))","v":""},{"$f":"IF(OR(E758=\"\",ISBLANK(E758)),\"\",VLOOKUP(E758,Sheet2!A:G,4,FALSE))","v":""},"",{"$f":"IF(OR(E758=\"\",ISBLANK(E758)),\"\",VLOOKUP(E758,Sheet2!A:H,3,FALSE))","v":""},null,{"$f":"IF(OR(E758=\"\",ISBLANK(E758)),\"\",VLOOKUP(E758,Sheet2!A:G,6,FALSE))","v":""},""]
[{"$f":"IF(OR(E759=\"\",ISBLANK(E759)),\"\",VLOOKUP(E759,Sheet2!A:F,2,FALSE))","v":""},{"$f":"IF(OR(E759=\"\",ISBLANK(E759)),\"\",VLOOKUP(E759,Sheet2!A:G,4,FALSE))","v":""},"",{"$f":"IF(OR(E759=\"\",ISBLANK(E759)),\"\",VLOOKUP(E759,Sheet2!A:H,3,FALSE))","v":""},null,{"$f":"IF(OR(E759=\"\",ISBLANK(E759)),\"\",VLOOKUP(E759,Sheet2!A:G,6,FALSE))","v":""},""]
[{"$f":"IF(OR(E760=\"\",ISBLANK(E760)),\"\",VLOOKUP(E760,Sheet2!A:F,2,FALSE))","v":""},{"$f":"IF(OR(E760=\"\",ISBLANK(E760)),\"\",VLOOKUP(E760,Sheet2!A:G,4,FALSE))","v":""},"",{"$f":"IF(OR(E760=\"\",ISBLANK(E760)),\"\",VLOOKUP(E760,Sheet2!A:H,3,FALSE))","v":""},null,{"$f":"IF(OR(E760=\"\",ISBLANK(E760)),\"\",VLOOKUP(E760,Sheet2!A:G,6,FALSE))","v":""},""]
[{"$f":"IF(OR(E761=\"\",ISBLANK(E761)),\"\",VLOOKUP(E761,Sheet2!A:F,2,FALSE))","v":""},{"$f":"IF(OR(E761=\"\",ISBLANK(E761)),\"\",VLOOKUP(E761,Sheet2!A:G,4,FALSE))","v":""},"",{"$f":"IF(OR(E761=\"\",ISBLANK(E761)),\"\",VLOOKUP(E761,Sheet2!A:H,3,FALSE))","v":""},null,{"$f":"IF(OR(E761=\"\",ISBLANK(E761)),\"\",VLOOKUP(E761,Sheet2!A:G,6,FALSE))","v":""},""]
[{"$f":"IF(OR(E762=\"\",ISBLANK(E762)),\"\",VLOOKUP(E762,Sheet2!A:F,2,FALSE))","v":""},{"$f":"IF(OR(E762=\"\",ISBLANK(E762)),\"\",VLOOKUP(E762,Sheet2!A:G,4,FALSE))","v":""},"",{"$f":"IF(OR(E762=\"\",ISBLANK(E762)),\"\",VLOOKUP(E762,Sheet2!A:H,3,FALSE))","v":""},null,{"$f":"IF(OR(E762=\"\",ISBLANK(E762)),\"\",VLOOKUP(E762,Sheet2!A:G,6,FALSE))","v":""},""]
[{"$f":"IF(OR(E763=\"\",ISBLANK(E763)),\"\",VLOOKUP(E763,Sheet2!A:F,2,FALSE))","v":""},{"$f":"IF(OR(E763=\"\",ISBLANK(E763)),\"\",VLOOKUP(E763,Sheet2!A:G,4,FALSE))","v":""},"",{"$f":"IF(OR(E763=\"\",ISBLANK(E763)),\"\",VLOOKUP(E763,Sheet2!A:H,3,FALSE))","v":""},null,{"$f":"IF(OR(E763=\"\",ISBLANK(E763)),\"\",VLOOKUP(E763,Sheet2!A:G,6,FALSE))","v":""},""]
[{"$f":"IF(OR(E764=\"\",ISBLANK(E764)),\"\",VLOOKUP(E764,Sheet2!A:F,2,FALSE))","v":""},{"$f":"IF(OR(E764=\"\",ISBLANK(E764)),\"\",VLOOKUP(E764,Sheet2!A:G,4,FALSE))","v":""},"",{"$f":"IF(OR(E764=\"\",ISBLANK(E764)),\"\",VLOOKUP(E764,Sheet2!A:H,3,FALSE))","v":""},null,{"$f":"IF(OR(E764=\"\",ISBLANK(E764)),\"\",VLOOKUP(E764,Sheet2!A:G,6,FALSE))","v":""},""]
[{"$f":"IF(OR(E765=\"\",ISBLANK(E765)),\"\",VLOOKUP(E765,Sheet2!A:F,2,FALSE))","v":""},{"$f":"IF(OR(E765=\"\",ISBLANK(E765)),\"\",VLOOKUP(E765,Sheet2!A:G,4,FALSE))","v":""},"",{"$f":"IF(OR(E765=\"\",ISBLANK(E765)),\"\",VLOOKUP(E765,Sheet2!A:H,3,FALSE))","v":""},null,{"$f":"IF(OR(E765=\"\",ISBLANK(E765)),\"\",VLOOKUP(E765,Sheet2!A:G,6,FALSE))","v":""},""]
[{"$f":"IF(OR(E766=\"\",ISBLANK(E766)),\"\",VLOOKUP(E766,Sheet2!A:F,2,FALSE))","v":""},{"$f":"IF(OR(E766=\"\",ISBLANK(E766)),\"\",VLOOKUP(E766,Sheet2!A:G,4,FALSE))","v":""},"",{"$f":"IF(OR(E766=\"\",ISBLANK(E766)),\"\",VLOOKUP(E766,Sheet2!A:H,3,FALSE))","v":""},null,{"$f":"IF(OR(E766=\"\",ISBLANK(E766)),\"\",VLOOKUP(E766,Sheet2!A:G,6,FALSE))","v":""},""]
[{"$f":"IF(OR(E767=\"\",ISBLANK(E767)),\"\",VLOOKUP(E767,Sheet2!A:F,2,FALSE))","v":""},{"$f":"IF(OR(E767=\"\",ISBLANK(E767)),\"\",VLOOKUP(E767,Sheet2!A:G,4,FALSE))","v":""},"",{"$f":"IF(OR(E767=\"\",ISBLANK(E767)),\"\",VLOOKUP(E767,Sheet2!A:H,3,FALSE))","v":""},null,{"$f":"IF(OR(E767=\"\",ISBLANK(E767)),\"\",VLOOKUP(E767,Sheet2!A:G,6,FALSE))","v":""},""]
[{"$f":"IF(OR(E768=\"\",ISBLANK(E768)),\"\",VLOOKUP(E768,Sheet2!A:F,2,FALSE))","v":""},{"$f":"IF(OR(E768=\"\",ISBLANK(E768)),\"\",VLOOKUP(E768,Sheet2!A:G,4,FALSE))","v":""},"",{"$f":"IF(OR(E768=\"\",ISBLANK(E768)),\"\",VLOOKUP(E768,Sheet2!A:H,3,FALSE))","v":""},null,{"$f":"IF(OR(E768=\"\",ISBLANK(E768)),\"\",VLOOKUP(E768,Sheet2!A:G,6,FALSE))","v":""},""]
[{"$f":"IF(OR(E769=\"\",ISBLANK(E769)),\"\",VLOOKUP(E769,Sheet2!A:F,2,FALSE))","v":""},{"$f":"IF(OR(E769=\"\",ISBLANK(E769)),\"\",VLOOKUP(E769,Sheet2!A:G,4,FALSE))","v":""},"",{"$f":"IF(OR(E769=\"\",ISBLANK(E769)),\"\",VLOOKUP(E769,Sheet2!A:H,3,FALSE))","v":""},null,{"$f":"IF(OR(E769=\"\",ISBLANK(E769)),\"\",VLOOKUP(E769,Sheet2!A:G,6,FALSE))","v":""},""]
[{"$f":"IF(OR(E770=\"\",ISBLANK(E770)),\"\",VLOOKUP(E770,Sheet2!A:F,2,FALSE))","v":""},{"$f":"IF(OR(E770=\"\",ISBLANK(E770)),\"\",VLOOKUP(E770,Sheet2!A:G,4,FALSE))","v":""},"",{"$f":"IF(OR(E770=\"\",ISBLANK(E770)),\"\",VLOOKUP(E770,Sheet2!A:H,3,FALSE))","v":""},null,{"$f":"IF(OR(E770=\"\",ISBLANK(E770)),\"\",VLOOKUP(E770,Sheet2!A:G,6,FALSE))","v":""},""]
[{"$f":"IF(OR(E771=\"\",ISBLANK(E771)),\"\",VLOOKUP(E771,Sheet2!A:F,2,FALSE))","v":""},{"$f":"IF(OR(E771=\"\",ISBLANK(E771)),\"\",VLOOKUP(E771,Sheet2!A:G,4,FALSE))","v":""},{"$f":"IF(D771=0,\"\",D771)","v":""},{"$f":"IF(OR(E771=\"\",ISBLANK(E771)),\"\",VLOOKUP(E771,Sheet2!A:H,3,FALSE))","v":""},null,{"$f":"IF(OR(E771=\"\",ISBLANK(E771)),\"\",VLOOKUP(E771,Sheet2!A:G,6,FALSE))","v":""},{"$f":"IF(F771=0,\"\",F771)","v":""}]
[{"$f":"IF(OR(E772=\"\",ISBLANK(E772)),\"\",VLOOKUP(E772,Sheet2!A:F,2,FALSE))","v":""},{"$f":"IF(OR(E772=\"\",ISBLANK(E772)),\"\",VLOOKUP(E772,Sheet2!A:G,4,FALSE))","v":""},"",{"$f":"IF(OR(E772=\"\",ISBLANK(E772)),\"\",VLOOKUP(E772,Sheet2!A:H,3,FALSE))","v":""},null,{"$f":"IF(OR(E772=\"\",ISBLANK(E772)),\"\",VLOOKUP(E772,Sheet2!A:G,6,FALSE))","v":""},""]
[{"$f":"IF(OR(E773=\"\",ISBLANK(E773)),\"\",VLOOKUP(E773,Sheet2!A:F,2,FALSE))","v":""},{"$f":"IF(OR(E773=\"\",ISBLANK(E773)),\"\",VLOOKUP(E773,Sheet2!A:G,4,FALSE))","v":""},"",{"$f":"IF(OR(E773=\"\",ISBLANK(E773)),\"\",VLOOKUP(E773,Sheet2!A:H,3,FALSE))","v":""},null,{"$f":"IF(OR(E773=\"\",ISBLANK(E773)),\"\",VLOOKUP(E773,Sheet2!A:G,6,FALSE))","v":""},""]
[{"$f":"IF(OR(E774=\"\",ISBLANK(E774)),\"\",VLOOKUP(E774,Sheet2!A:F,2,FALSE))","v":""},{"$f":"IF(OR(E774=\"\",ISBLANK(E774)),\"\",VLOOKUP(E774,Sheet2!A:G,4,FALSE))","v":""},"",{"$f":"IF(OR(E774=\"\",ISBLANK(E774)),\"\",VLOOKUP(E774,Sheet2!A:H,3,FALSE))","v":""},null,{"$f":"IF(OR(E774=\"\",ISBLANK(E774)),\"\",VLOOKUP(E774,Sheet2!A:G,6,FALSE))","v":""},""]
[{"$f":"IF(OR(E775=\"\",ISBLANK(E775)),\"\",VLOOKUP(E775,Sheet2!A:F,2,FALSE))","v":""},{"$f":"IF(OR(E775=\"\",ISBLANK(E775)),\"\",VLOOKUP(E775,Sheet2!A:G,4,FALSE))","v":""},"",{"$f":"IF(OR(E775=\"\",ISBLANK(E775)),\"\",VLOOKUP(E775,Sheet2!A:H,3,FALSE))","v":""},null,{"$f":"IF(OR(E775=\"\",ISBLANK(E775)),\"\",VLOOKUP(E775,Sheet2!A:G,6,FALSE))","v":""},""]
[{"$f":"IF(OR(E776=\"\",ISBLANK(E776)),\"\",VLOOKUP(E776,Sheet2!A:F,2,FALSE))","v":""},{"$f":"IF(OR(E776=\"\",ISBLANK(E776)),\"\",VLOOKUP(E776,Sheet2!A:G,4,FALSE))","v":""},"",{"$f":"IF(OR(E776=\"\",ISBLANK(E776)),\"\",VLOOKUP(E776,Sheet2!A:H,3,FALSE))","v":""},null,{"$f":"IF(OR(E776=\"\",ISBLANK(E776)),\"\",VLOOKUP(E776,Sheet2!A:G,6,FALSE))","v":""},""]
[{"$f":"IF(OR(E777=\"\",ISBLANK(E777)),\"\",VLOOKUP(E777,Sheet2!A:F,2,FALSE))","v":""},{"$f":"IF(OR(E777=\"\",ISBLANK(E777)),\"\",VLOOKUP(E777,Sheet2!A:G,4,FALSE))","v":""},"",{"$f":"IF(OR(E777=\"\",ISBLANK(E777)),\"\",VLOOKUP(E777,Sheet2!A:H,3,FALSE))","v":""},null,{"$f":"IF(OR(E777=\"\",ISBLANK(E777)),\"\",VLOOKUP(E777,Sheet2!A:G,6,FALSE))","v":""},""]
[{"$f":"IF(OR(E778=\"\",ISBLANK(E778)),\"\",VLOOKUP(E778,Sheet2!A:F,2,FALSE))","v":""},{"$f":"IF(OR(E778=\"\",ISBLANK(E778)),\"\",VLOOKUP(E778,Sheet2!A:G,4,FALSE))","v":""},"",{"$f":"IF(OR(E778=\"\",ISBLANK(E778)),\"\",VLOOKUP(E778,Sheet2!A:H,3,FALSE))","v":""},null,{"$f":"IF(OR(E778=\"\",ISBLANK(E778)),\"\",VLOOKUP(E778,Sheet2!A:G,6,FALSE))","v":""},""]
[{"$f":"IF(OR(E779=\"\",ISBLANK(E779)),\"\",VLOOKUP(E779,Sheet2!A:F,2,FALSE))","v":""},{"$f":"IF(OR(E779=\"\",ISBLANK(E779)),\"\",VLOOKUP(E779,Sheet2!A:G,4,FALSE))","v":""},"",{"$f":"IF(OR(E779=\"\",ISBLANK(E779)),\"\",VLOOKUP(E779,Sheet2!A:H,3,FALSE))","v":""},null,{"$f":"IF(OR(E779=\"\",ISBLANK(E779)),\"\",VLOOKUP(E779,Sheet2!A:G,6,FALSE))","v":""},""]
[{"$f":"IF(OR(E780=\"\",ISBLANK(E780)),\"\",VLOOKUP(E780,Sheet2!A:F,2,FALSE))","v":""},{"$f":"IF(OR(E780=\"\",ISBLANK(E780)),\"\",VLOOKUP(E780,Sheet2!A:G,4,FALSE))","v":""},"",{"$f":"IF(OR(E780=\"\",ISBLANK(E780)),\"\",VLOOKUP(E780,Sheet2!A:H,3,FALSE))","v":""},null,{"$f":"IF(OR(E780=\"\",ISBLANK(E780)),\"\",VLOOKUP(E780,Sheet2!A:G,6,FALSE))","v":""},""]
[{"$f":"IF(OR(E781=\"\",ISBLANK(E781)),\"\",VLOOKUP(E781,Sheet2!A:F,2,FALSE))","v":""},{"$f":"IF(OR(E781=\"\",ISBLANK(E781)),\"\",VLOOKUP(E781,Sheet2!A:G,4,FALSE))","v":""},"",{"$f":"IF(OR(E781=\"\",ISBLANK(E781)),\"\",VLOOKUP(E781,Sheet2!A:H,3,FALSE))","v":""},null,{"$f":"IF(OR(E781=\"\",ISBLANK(E781)),\"\",VLOOKUP(E781,Sheet2!A:G,6,FALSE))","v":""},""]
[{"$f":"IF(OR(E782=\"\",ISBLANK(E782)),\"\",VLOOKUP(E782,Sheet2!A:F,2,FALSE))","v":""},{"$f":"IF(OR(E782=\"\",ISBLANK(E782)),\"\",VLOOKUP(E782,Sheet2!A:G,4,FALSE))","v":""},"",{"$f":"IF(OR(E782=\"\",ISBLANK(E782)),\"\",VLOOKUP(E782,Sheet2!A:H,3,FALSE))","v":""},null,{"$f":"IF(OR(E782=\"\",ISBLANK(E782)),\"\",VLOOKUP(E782,Sheet2!A:G,6,FALSE))","v":""},""]
[{"$f":"IF(OR(E783=\"\",ISBLANK(E783)),\"\",VLOOKUP(E783,Sheet2!A:F,2,FALSE))","v":""},{"$f":"IF(OR(E783=\"\",ISBLANK(E783)),\"\",VLOOKUP(E783,Sheet2!A:G,4,FALSE))","v":""},"",{"$f":"IF(OR(E783=\"\",ISBLANK(E783)),\"\",VLOOKUP(E783,Sheet2!A:H,3,FALSE))","v":""},null,{"$f":"IF(OR(E783=\"\",ISBLANK(E783)),\"\",VLOOKUP(E783,Sheet2!A:G,6,FALSE))","v":""},""]
[{"$f":"IF(OR(E784=\"\",ISBLANK(E784)),\"\",VLOOKUP(E784,Sheet2!A:F,2,FALSE))","v":""},{"$f":"IF(OR(E784=\"\",ISBLANK(E784)),\"\",VLOOKUP(E784,Sheet2!A:G,4,FALSE))","v":""},"",{"$f":"IF(OR(E784=\"\",ISBLANK(E784)),\"\",VLOOKUP(E784,Sheet2!A:H,3,FALSE))","v":""},null,{"$f":"IF(OR(E784=\"\",ISBLANK(E784)),\"\",VLOOKUP(E784,Sheet2!A:G,6,FALSE))","v":""},""]
[{"$f":"IF(OR(E785=\"\",ISBLANK(E785)),\"\",VLOOKUP(E785,Sheet2!A:F,2,FALSE))","v":""},{"$f":"IF(OR(E785=\"\",ISBLANK(E785)),\"\",VLOOKUP(E785,Sheet2!A:G,4,FALSE))","v":""},"",{"$f":"IF(OR(E785=\"\",ISBLANK(E785)),\"\",VLOOKUP(E785,Sheet2!A:H,3,FALSE))","v":""},null,{"$f":"IF(OR(E785=\"\",ISBLANK(E785)),\"\",VLOOKUP(E785,Sheet2!A:G,6,FALSE))","v":""},""]
[{"$f":"IF(OR(E786=\"\",ISBLANK(E786)),\"\",VLOOKUP(E786,Sheet2!A:F,2,FALSE))","v":""},{"$f":"IF(OR(E786=\"\",ISBLANK(E786)),\"\",VLOOKUP(E786,Sheet2!A:G,4,FALSE))","v":""},"",{"$f":"IF(OR(E786=\"\",ISBLANK(E786)),\"\",VLOOKUP(E786,Sheet2!A:H,3,FALSE))","v":""},null,{"$f":"IF(OR(E786=\"\",ISBLANK(E786)),\"\",VLOOKUP(E786,Sheet2!A:G,6,FALSE))","v":""},""]
[{"$f":"IF(OR(E787=\"\",ISBLANK(E787)),\"\",VLOOKUP(E787,Sheet2!A:F,2,FALSE))","v":""},{"$f":"IF(OR(E787=\"\",ISBLANK(E787)),\"\",VLOOKUP(E787,Sheet2!A:G,4,FALSE))","v":""},"",{"$f":"IF(OR(E787=\"\",ISBLANK(E787)),\"\",VLOOKUP(E787,Sheet2!A:H,3,FALSE))","v":""},null,{"$f":"IF(OR(E787=\"\",ISBLANK(E787)),\"\",VLOOKUP(E787,Sheet2!A:G,6,FALSE))","v":""},""]
[{"$f":"IF(OR(E788=\"\",ISBLANK(E788)),\"\",VLOOKUP(E788,Sheet2!A:F,2,FALSE))","v":""},{"$f":"IF(OR(E788=\"\",ISBLANK(E788)),\"\",VLOOKUP(E788,Sheet2!A:G,4,FALSE))","v":""},"",{"$f":"IF(OR(E788=\"\",ISBLANK(E788)),\"\",VLOOKUP(E788,Sheet2!A:H,3,FALSE))","v":""},null,{"$f":"IF(OR(E788=\"\",ISBLANK(E788)),\"\",VLOOKUP(E788,Sheet2!A:G,6,FALSE))","v":""},""]
[{"$f":"IF(OR(E789=\"\",ISBLANK(E789)),\"\",VLOOKUP(E789,Sheet2!A:F,2,FALSE))","v":""},{"$f":"IF(OR(E789=\"\",ISBLANK(E789)),\"\",VLOOKUP(E789,Sheet2!A:G,4,FALSE))","v":""},"",{"$f":"IF(OR(E789=\"\",ISBLANK(E789)),\"\",VLOOKUP(E789,Sheet2!A:H,3,FALSE))","v":""},null,{"$f":"IF(OR(E789=\"\",ISBLANK(E789)),\"\",VLOOKUP(E789,Sheet2!A:G,6,FALSE))","v":""},""]
[{"$f":"IF(OR(E790=\"\",ISBLANK(E790)),\"\",VLOOKUP(E790,Sheet2!A:F,2,FALSE))","v":""},{"$f":"IF(OR(E790=\"\",ISBLANK(E790)),\"\",VLOOKUP(E790,Sheet2!A:G,4,FALSE))","v":""},"",{"$f":"IF(OR(E790=\"\",ISBLANK(E790)),\"\",VLOOKUP(E790,Sheet2!A:H,3,FALSE))","v":""},null,{"$f":"IF(OR(E790=\"\",ISBLANK(E790)),\"\",VLOOKUP(E790,Sheet2!A:G,6,FALSE))","v":""},""]
[{"$f":"IF(OR(E791=\"\",ISBLANK(E791)),\"\",VLOOKUP(E791,Sheet2!A:F,2,FALSE))","v":""},{"$f":"IF(OR(E791=\"\",ISBLANK(E791)),\"\",VLOOKUP(E791,Sheet2!A:G,4,FALSE))","v":""},"",{"$f":"IF(OR(E791=\"\",ISBLANK(E791)),\"\",VLOOKUP(E791,Sheet2!A:H,3,FALSE))","v":""},null,{"$f":"IF(OR(E791=\"\",ISBLANK(E791)),\"\",VLOOKUP(E791,Sheet2!A:G,6,FALSE))","v":""},""]
[{"$f":"IF(OR(E792=\"\",ISBLANK(E792)),\"\",VLOOKUP(E792,Sheet2!A:F,2,FALSE))","v":""},{"$f":"IF(OR(E792=\"\",ISBLANK(E792)),\"\",VLOOKUP(E792,Sheet2!A:G,4,FALSE))","v":""},"",{"$f":"IF(OR(E792=\"\",ISBLANK(E792)),\"\",VLOOKUP(E792,Sheet2!A:H,3,FALSE))","v":""},null,{"$f":"IF(OR(E792=\"\",ISBLANK(E792)),\"\",VLOOKUP(E792,Sheet2!A:G,6,FALSE))","v":""},""]
[{"$f":"IF(OR(E793=\"\",ISBLANK(E793)),\"\",VLOOKUP(E793,Sheet2!A:F,2,FALSE))","v":""},{"$f":"IF(OR(E793=\"\",ISBLANK(E793)),\"\",VLOOKUP(E793,Sheet2!A:G,4,FALSE))","v":""},"",{"$f":"IF(OR(E793=\"\",ISBLANK(E793)),\"\",VLOOKUP(E793,Sheet2!A:H,3,FALSE))","v":""},null,{"$f":"IF(OR(E793=\"\",ISBLANK(E793)),\"\",VLOOKUP(E793,Sheet2!A:G,6,FALSE))","v":""},""]
[{"$f":"IF(OR(E794=\"\",ISBLANK(E794)),\"\",VLOOKUP(E794,Sheet2!A:F,2,FALSE))","v":""},{"$f":"IF(OR(E794=\"\",ISBLANK(E794)),\"\",VLOOKUP(E794,Sheet2!A:G,4,FALSE))","v":""},"",{"$f":"IF(OR(E794=\"\",ISBLANK(E794)),\"\",VLOOKUP(E794,Sheet2!A:H,3,FALSE))","v":""},null,{"$f":"IF(OR(E794=\"\",ISBLANK(E794)),\"\",VLOOKUP(E794,Sheet2!A:G,6,FALSE))","v":""},""]
[{"$f":"IF(OR(E795=\"\",ISBLANK(E795)),\"\",VLOOKUP(E795,Sheet2!A:F,2,FALSE))","v":""},{"$f":"IF(OR(E795=\"\",ISBLANK(E795)),\"\",VLOOKUP(E795,Sheet2!A:G,4,FALSE))","v":""},"",{"$f":"IF(OR(E795=\"\",ISBLANK(E795)),\"\",VLOOKUP(E795,Sheet2!A:H,3,FALSE))","v":""},null,{"$f":"IF(OR(E795=\"\",ISBLANK(E795)),\"\",VLOOKUP(E795,Sheet2!A:G,6,FALSE))","v":""},""]
[{"$f":"IF(OR(E796=\"\",ISBLANK(E796)),\"\",VLOOKUP(E796,Sheet2!A:F,2,FALSE))","v":""},{"$f":"IF(OR(E796=\"\",ISBLANK(E796)),\"\",VLOOKUP(E796,Sheet2!A:G,4,FALSE))","v":""},"",{"$f":"IF(OR(E796=\"\",ISBLANK(E796)),\"\",VLOOKUP(E796,Sheet2!A:H,3,FALSE))","v":""},null,{"$f":"IF(OR(E796=\"\",ISBLANK(E796)),\"\",VLOOKUP(E796,Sheet2!A:G,6,FALSE))","v":""},""]
[{"$f":"IF(OR(E797=\"\",ISBLANK(E797)),\"\",VLOOKUP(E797,Sheet2!A:F,2,FALSE))","v":""},{"$f":"IF(OR(E797=\"\",ISBLANK(E797)),\"\",VLOOKUP(E797,Sheet2!A:G,4,FALSE))","v":""},"",{"$f":"IF(OR(E797=\"\",ISBLANK(E797)),\"\",VLOOKUP(E797,Sheet2!A:H,3,FALSE))","v":""},null,{"$f":"IF(OR(E797=\"\",ISBLANK(E797)),\"\",VLOOKUP(E797,Sheet2!A:G,6,FALSE))","v":""},""]
[{"$f":"IF(OR(E798=\"\",ISBLANK(E798)),\"\",VLOOKUP(E798,Sheet2!A:F,2,FALSE))","v":""},{"$f":"IF(OR(E798=\"\",ISBLANK(E798)),\"\",VLOOKUP(E798,Sheet2!A:G,4,FALSE))","v":""},"",{"$f":"IF(OR(E798=\"\",ISBLANK(E798)),\"\",VLOOKUP(E798,Sheet2!A:H,3,FALSE))","v":""},null,{"$f":"IF(OR(E798=\"\",ISBLANK(E798)),\"\",VLOOKUP(E798,Sheet2!A:G,6,FALSE))","v":""},""]
[{"$f":"IF(OR(E799=\"\",ISBLANK(E799)),\"\",VLOOKUP(E799,Sheet2!A:F,2,FALSE))","v":""},{"$f":"IF(OR(E799=\"\",ISBLANK(E799)),\"\",VLOOKUP(E799,Sheet2!A:G,4,FALSE))","v":""},"",{"$f":"IF(OR(E799=\"\",ISBLANK(E799)),\"\",VLOOKUP(E799,Sheet2!A:H,3,FALSE))","v":""},null,{"$f":"IF(OR(E799=\"\",ISBLANK(E799)),\"\",VLOOKUP(E799,Sheet2!A:G,6,FALSE))","v":""},""]
[{"$f":"IF(OR(E800=\"\",ISBLANK(E800)),\"\",VLOOKUP(E800,Sheet2!A:F,2,FALSE))","v":""},{"$f":"IF(OR(E800=\"\",ISBLANK(E800)),\"\",VLOOKUP(E800,Sheet2!A:G,4,FALSE))","v":""},"",{"$f":"IF(OR(E800=\"\",ISBLANK(E800)),\"\",VLOOKUP(E800,Sheet2!A:H,3,FALSE))","v":""},null,{"$f":"IF(OR(E800=\"\",ISBLANK(E800)),\"\",VLOOKUP(E800,Sheet2!A:G,6,FALSE))","v":""},""]
[{"$f":"IF(OR(E801=\"\",ISBLANK(E801)),\"\",VLOOKUP(E801,Sheet2!A:F,2,FALSE))","v":""},{"$f":"IF(OR(E801=\"\",ISBLANK(E801)),\"\",VLOOKUP(E801,Sheet2!A:G,4,FALSE))","v":""},"",{"$f":"IF(OR(E801=\"\",ISBLANK(E801)),\"\",VLOOKUP(E801,Sheet2!A:H,3,FALSE))","v":""},null,{"$f":"IF(OR(E801=\"\",ISBLANK(E801)),\"\",VLOOKUP(E801,Sheet2!A:G,6,FALSE))","v":""},""]
[{"$f":"IF(OR(E802=\"\",ISBLANK(E802)),\"\",VLOOKUP(E802,Sheet2!A:F,2,FALSE))","v":""},{"$f":"IF(OR(E802=\"\",ISBLANK(E802)),\"\",VLOOKUP(E802,Sheet2!A:G,4,FALSE))","v":""},"",{"$f":"IF(OR(E802=\"\",ISBLANK(E802)),\"\",VLOOKUP(E802,Sheet2!A:H,3,FALSE))","v":""},null,{"$f":"IF(OR(E802=\"\",ISBLANK(E802)),\"\",VLOOKUP(E802,Sheet2!A:G,6,FALSE))","v":""},""]
[{"$f":"IF(OR(E803=\"\",ISBLANK(E803)),\"\",VLOOKUP(E803,Sheet2!A:F,2,FALSE))","v":""},{"$f":"IF(OR(E803=\"\",ISBLANK(E803)),\"\",VLOOKUP(E803,Sheet2!A:G,4,FALSE))","v":""},"",{"$f":"IF(OR(E803=\"\",ISBLANK(E803)),\"\",VLOOKUP(E803,Sheet2!A:H,3,FALSE))","v":""},null,{"$f":"IF(OR(E803=\"\",ISBLANK(E803)),\"\",VLOOKUP(E803,Sheet2!A:G,6,FALSE))","v":""},""]
[{"$f":"IF(OR(E804=\"\",ISBLANK(E804)),\"\",VLOOKUP(E804,Sheet2!A:F,2,FALSE))","v":""},{"$f":"IF(OR(E804=\"\",ISBLANK(E804)),\"\",VLOOKUP(E804,Sheet2!A:G,4,FALSE))","v":""},"",{"$f":"IF(OR(E804=\"\",ISBLANK(E804)),\"\",VLOOKUP(E804,Sheet2!A:H,3,FALSE))","v":""},null,{"$f":"IF(OR(E804=\"\",ISBLANK(E804)),\"\",VLOOKUP(E804,Sheet2!A:G,6,FALSE))","v":""},""]
[{"$f":"IF(OR(E805=\"\",ISBLANK(E805)),\"\",VLOOKUP(E805,Sheet2!A:F,2,FALSE))","v":""},{"$f":"IF(OR(E805=\"\",ISBLANK(E805)),\"\",VLOOKUP(E805,Sheet2!A:G,4,FALSE))","v":""},"",{"$f":"IF(OR(E805=\"\",ISBLANK(E805)),\"\",VLOOKUP(E805,Sheet2!A:H,3,FALSE))","v":""},null,{"$f":"IF(OR(E805=\"\",ISBLANK(E805)),\"\",VLOOKUP(E805,Sheet2!A:G,6,FALSE))","v":""},""]
[{"$f":"IF(OR(E806=\"\",ISBLANK(E806)),\"\",VLOOKUP(E806,Sheet2!A:F,2,FALSE))","v":""},{"$f":"IF(OR(E806=\"\",ISBLANK(E806)),\"\",VLOOKUP(E806,Sheet2!A:G,4,FALSE))","v":""},"",{"$f":"IF(OR(E806=\"\",ISBLANK(E806)),\"\",VLOOKUP(E806,Sheet2!A:H,3,FALSE))","v":""},null,{"$f":"IF(OR(E806=\"\",ISBLANK(E806)),\"\",VLOOKUP(E806,Sheet2!A:G,6,FALSE))","v":""},""]
[{"$f":"IF(OR(E807=\"\",ISBLANK(E807)),\"\",VLOOKUP(E807,Sheet2!A:F,2,FALSE))","v":""},{"$f":"IF(OR(E807=\"\",ISBLANK(E807)),\"\",VLOOKUP(E807,Sheet2!A:G,4,FALSE))","v":""},"",{"$f":"IF(OR(E807=\"\",ISBLANK(E807)),\"\",VLOOKUP(E807,Sheet2!A:H,3,FALSE))","v":""},null,{"$f":"IF(OR(E807=\"\",ISBLANK(E807)),\"\",VLOOKUP(E807,Sheet2!A:G,6,FALSE))","v":""},""]
[{"$f":"IF(OR(E808=\"\",ISBLANK(E808)),\"\",VLOOKUP(E808,Sheet2!A:F,2,FALSE))","v":""},{"$f":"IF(OR(E808=\"\",ISBLANK(E808)),\"\",VLOOKUP(E808,Sheet2!A:G,4,FALSE))","v":""},"",{"$f":"IF(OR(E808=\"\",ISBLANK(E808)),\"\",VLOOKUP(E808,Sheet2!A:H,3,FALSE))","v":""},null,{"$f":"IF(OR(E808=\"\",ISBLANK(E808)),\"\",VLOOKUP(E808,Sheet2!A:G,6,FALSE))","v":""},""]
[{"$f":"IF(OR(E809=\"\",ISBLANK(E809)),\"\",VLOOKUP(E809,Sheet2!A:F,2,FALSE))","v":""},{"$f":"IF(OR(E809=\"\",ISBLANK(E809)),\"\",VLOOKUP(E809,Sheet2!A:G,4,FALSE))","v":""},"",{"$f":"IF(OR(E809=\"\",ISBLANK(E809)),\"\",VLOOKUP(E809,Sheet2!A:H,3,FALSE))","v":""},null,{"$f":"IF(OR(E809=\"\",ISBLANK(E809)),\"\",VLOOKUP(E809,Sheet2!A:G,6,FALSE))","v":""},""]
[{"$f":"IF(OR(E810=\"\",ISBLANK(E810)),\"\",VLOOKUP(E810,Sheet2!A:F,2,FALSE))","v":""},{"$f":"IF(OR(E810=\"\",ISBLANK(E810)),\"\",VLOOKUP(E810,Sheet2!A:G,4,FALSE))","v":""},"",{"$f":"IF(OR(E810=\"\",ISBLANK(E810)),\"\",VLOOKUP(E810,Sheet2!A:H,3,FALSE))","v":""},null,{"$f":"IF(OR(E810=\"\",ISBLANK(E810)),\"\",VLOOKUP(E810,Sheet2!A:G,6,FALSE))","v":""},""]
[{"$f":"IF(OR(E811=\"\",ISBLANK(E811)),\"\",VLOOKUP(E811,Sheet2!A:F,2,FALSE))","v":""},{"$f":"IF(OR(E811=\"\",ISBLANK(E811)),\"\",VLOOKUP(E811,Sheet2!A:G,4,FALSE))","v":""},"",{"$f":"IF(OR(E811=\"\",ISBLANK(E811)),\"\",VLOOKUP(E811,Sheet2!A:H,3,FALSE))","v":""},null,{"$f":"IF(OR(E811=\"\",ISBLANK(E811)),\"\",VLOOKUP(E811,Sheet2!A:G,6,FALSE))","v":""},""]
[{"$f":"IF(OR(E812=\"\",ISBLANK(E812)),\"\",VLOOKUP(E812,Sheet2!A:F,2,FALSE))","v":""},{"$f":"IF(OR(E812=\"\",ISBLANK(E812)),\"\",VLOOKUP(E812,Sheet2!A:G,4,FALSE))","v":""},"",{"$f":"IF(OR(E812=\"\",ISBLANK(E812)),\"\",VLOOKUP(E812,Sheet2!A:H,3,FALSE))","v":""},null,{"$f":"IF(OR(E812=\"\",ISBLANK(E812)),\"\",VLOOKUP(E812,Sheet2!A:G,6,FALSE))","v":""},""]
[{"$f":"IF(OR(E813=\"\",ISBLANK(E813)),\"\",VLOOKUP(E813,Sheet2!A:F,2,FALSE))","v":""},{"$f":"IF(OR(E813=\"\",ISBLANK(E813)),\"\",VLOOKUP(E813,Sheet2!A:G,4,FALSE))","v":""},"",{"$f":"IF(OR(E813=\"\",ISBLANK(E813)),\"\",VLOOKUP(E813,Sheet2!A:H,3,FALSE))","v":""},null,{"$f":"IF(OR(E813=\"\",ISBLANK(E813)),\"\",VLOOKUP(E813,Sheet2!A:G,6,FALSE))","v":""},""]
[{"$f":"IF(OR(E814=\"\",ISBLANK(E814)),\"\",VLOOKUP(E814,Sheet2!A:F,2,FALSE))","v":""},{"$f":"IF(OR(E814=\"\",ISBLANK(E814)),\"\",VLOOKUP(E814,Sheet2!A:G,4,FALSE))","v":""},"",{"$f":"IF(OR(E814=\"\",ISBLANK(E814)),\"\",VLOOKUP(E814,Sheet2!A:H,3,FALSE))","v":""},null,{"$f":"IF(OR(E814=\"\",ISBLANK(E814)),\"\",VLOOKUP(E814,Sheet2!A:G,6,FALSE))","v":""},""]
[{"$f":"IF(OR(E815=\"\",ISBLANK(E815)),\"\",VLOOKUP(E815,Sheet2!A:F,2,FALSE))","v":""},{"$f":"IF(OR(E815=\"\",ISBLANK(E815)),\"\",VLOOKUP(E815,Sheet2!A:G,4,FALSE))","v":""},"",{"$f":"IF(OR(E815=\"\",ISBLANK(E815)),\"\",VLOOKUP(E815,Sheet2!A:H,3,FALSE))","v":""},null,{"$f":"IF(OR(E815=\"\",ISBLANK(E815)),\"\",VLOOKUP(E815,Sheet2!A:G,6,FALSE))","v":""},""]
[{"$f":"IF(OR(E816=\"\",ISBLANK(E816)),\"\",VLOOKUP(E816,Sheet2!A:F,2,FALSE))","v":""},{"$f":"IF(OR(E816=\"\",ISBLANK(E816)),\"\",VLOOKUP(E816,Sheet2!A:G,4,FALSE))","v":""},"",{"$f":"IF(OR(E816=\"\",ISBLANK(E816)),\"\",VLOOKUP(E816,Sheet2!A:H,3,FALSE))","v":""},null,{"$f":"IF(OR(E816=\"\",ISBLANK(E816)),\"\",VLOOKUP(E816,Sheet2!A:G,6,FALSE))","v":""},""]
[{"$f":"IF(OR(E817=\"\",ISBLANK(E817)),\"\",VLOOKUP(E817,Sheet2!A:F,2,FALSE))","v":""},{"$f":"IF(OR(E817=\"\",ISBLANK(E817)),\"\",VLOOKUP(E817,Sheet2!A:G,4,FALSE))","v":""},"",{"$f":"IF(OR(E817=\"\",ISBLANK(E817)),\"\",VLOOKUP(E817,Sheet2!A:H,3,FALSE))","v":""},null,{"$f":"IF(OR(E817=\"\",ISBLANK(E817)),\"\",VLOOKUP(E817,Sheet2!A:G,6,FALSE))","v":""},""]
[{"$f":"IF(OR(E818=\"\",ISBLANK(E818)),\"\",VLOOKUP(E818,Sheet2!A:F,2,FALSE))","v":""},{"$f":"IF(OR(E818=\"\",ISBLANK(E818)),\"\",VLOOKUP(E818,Sheet2!A:G,4,FALSE))","v":""},"",{"$f":"IF(OR(E818=\"\",ISBLANK(E818)),\"\",VLOOKUP(E818,Sheet2!A:H,3,FALSE))","v":""},null,{"$f":"IF(OR(E818=\"\",ISBLANK(E818)),\"\",VLOOKUP(E818,Sheet2!A:G,6,FALSE))","v":""},""]
[{"$f":"IF(OR(E819=\"\",ISBLANK(E819)),\"\",VLOOKUP(E819,Sheet2!A:F,2,FALSE))","v":""},{"$f":"IF(OR(E819=\"\",ISBLANK(E819)),\"\",VLOOKUP(E819,Sheet2!A:G,4,FALSE))","v":""},"",{"$f":"IF(OR(E819=\"\",ISBLANK(E819)),\"\",VLOOKUP(E819,Sheet2!A:H,3,FALSE))","v":""},null,{"$f":"IF(OR(E819=\"\",ISBLANK(E819)),\"\",VLOOKUP(E819,Sheet2!A:G,6,FALSE))","v":""},""]
[{"$f":"IF(OR(E820=\"\",ISBLANK(E820)),\"\",VLOOKUP(E820,Sheet2!A:F,2,FALSE))","v":""},{"$f":"IF(OR(E820=\"\",ISBLANK(E820)),\"\",VLOOKUP(E820,Sheet2!A:G,4,FALSE))","v":""},"",{"$f":"IF(OR(E820=\"\",ISBLANK(E820)),\"\",VLOOKUP(E820,Sheet2!A:H,3,FALSE))","v":""},null,{"$f":"IF(OR(E820=\"\",ISBLANK(E820)),\"\",VLOOKUP(E820,Sheet2!A:G,6,FALSE))","v":""},""]
[{"$f":"IF(OR(E821=\"\",ISBLANK(E821)),\"\",VLOOKUP(E821,Sheet2!A:F,2,FALSE))","v":""},{"$f":"IF(OR(E821=\"\",ISBLANK(E821)),\"\",VLOOKUP(E821,Sheet2!A:G,4,FALSE))","v":""},"",{"$f":"IF(OR(E821=\"\",ISBLANK(E821)),\"\",VLOOKUP(E821,Sheet2!A:H,3,FALSE))","v":""},null,{"$f":"IF(OR(E821=\"\",ISBLANK(E821)),\"\",VLOOKUP(E821,Sheet2!A:G,6,FALSE))","v":""},""]
[{"$f":"IF(OR(E822=\"\",ISBLANK(E822)),\"\",VLOOKUP(E822,Sheet2!A:F,2,FALSE))","v":""},{"$f":"IF(OR(E822=\"\",ISBLANK(E822)),\"\",VLOOKUP(E822,Sheet2!A:G,4,FALSE))","v":""},"",{"$f":"IF(OR(E822=\"\",ISBLANK(E822)),\"\",VLOOKUP(E822,Sheet2!A:H,3,FALSE))","v":""},null,{"$f":"IF(OR(E822=\"\",ISBLANK(E822)),\"\",VLOOKUP(E822,Sheet2!A:G,6,FALSE))","v":""},""]
[{"$f":"IF(OR(E823=\"\",ISBLANK(E823)),\"\",VLOOKUP(E823,Sheet2!A:F,2,FALSE))","v":""},{"$f":"IF(OR(E823=\"\",ISBLANK(E823)),\"\",VLOOKUP(E823,Sheet2!A:G,4,FALSE))","v":""},"",{"$f":"IF(OR(E823=\"\",ISBLANK(E823)),\"\",VLOOKUP(E823,Sheet2!A:H,3,FALSE))","v":""},null,{"$f":"IF(OR(E823=\"\",ISBLANK(E823)),\"\",VLOOKUP(E823,Sheet2!A:G,6,FALSE))","v":""},""]
[{"$f":"IF(OR(E824=\"\",ISBLANK(E824)),\"\",VLOOKUP(E824,Sheet2!A:F,2,FALSE))","v":""},{"$f":"IF(OR(E824=\"\",ISBLANK(E824)),\"\",VLOOKUP(E824,Sheet2!A:G,4,FALSE))","v":""},"",{"$f":"IF(OR(E824=\"\",ISBLANK(E824)),\"\",VLOOKUP(E824,Sheet2!A:H,3,FALSE))","v":""},null,{"$f":"IF(OR(E824=\"\",ISBLANK(E824)),\"\",VLOOKUP(E824,Sheet2!A:G,6,FALSE))","v":""},""]
[{"$f":"IF(OR(E825=\"\",ISBLANK(E825)),\"\",VLOOKUP(E825,Sheet2!A:F,2,FALSE))","v":""},{"$f":"IF(OR(E825=\"\",ISBLANK(E825)),\"\",VLOOKUP(E825,Sheet2!A:G,4,FALSE))","v":""},"",{"$f":"IF(OR(E825=\"\",ISBLANK(E825)),\"\",VLOOKUP(E825,Sheet2!A:H,3,FALSE))","v":""},null,{"$f":"IF(OR(E825=\"\",ISBLANK(E825)),\"\",VLOOKUP(E825,Sheet2!A:G,6,FALSE))","v":""},""]
[{"$f":"IF(OR(E826=\"\",ISBLANK(E826)),\"\",VLOOKUP(E826,Sheet2!A:F,2,FALSE))","v":""},{"$f":"IF(OR(E826=\"\",ISBLANK(E826)),\"\",VLOOKUP(E826,Sheet2!A:G,4,FALSE))","v":""},"",{"$f":"IF(OR(E826=\"\",ISBLANK(E826)),\"\",VLOOKUP(E826,Sheet2!A:H,3,FALSE))","v":""},null,{"$f":"IF(OR(E826=\"\",ISBLANK(E826)),\"\",VLOOKUP(E826,Sheet2!A:G,6,FALSE))","v":""},""]
[{"$f":"IF(OR(E827=\"\",ISBLANK(E827)),\"\",VLOOKUP(E827,Sheet2!A:F,2,FALSE))","v":""},{"$f":"IF(OR(E827=\"\",ISBLANK(E827)),\"\",VLOOKUP(E827,Sheet2!A:G,4,FALSE))","v":""},"",{"$f":"IF(OR(E827=\"\",ISBLANK(E827)),\"\",VLOOKUP(E827,Sheet2!A:H,3,FALSE))","v":""},null,{"$f":"IF(OR(E827=\"\",ISBLANK(E827)),\"\",VLOOKUP(E827,Sheet2!A:G,6,FALSE))","v":""},""]
[{"$f":"IF(OR(E828=\"\",ISBLANK(E828)),\"\",VLOOKUP(E828,Sheet2!A:F,2,FALSE))","v":""},{"$f":"IF(OR(E828=\"\",ISBLANK(E828)),\"\",VLOOKUP(E828,Sheet2!A:G,4,FALSE))","v":""},"",{"$f":"IF(OR(E828=\"\",ISBLANK(E828)),\"\",VLOOKUP(E828,Sheet2!A:H,3,FALSE))","v":""},null,{"$f":"IF(OR(E828=\"\",ISBLANK(E828)),\"\",VLOOKUP(E828,Sheet2!A:G,6,FALSE))","v":""},""]
[{"$f":"IF(OR(E829=\"\",ISBLANK(E829)),\"\",VLOOKUP(E829,Sheet2!A:F,2,FALSE))","v":""},{"$f":"IF(OR(E829=\"\",ISBLANK(E829)),\"\",VLOOKUP(E829,Sheet2!A:G,4,FALSE))","v":""},"",{"$f":"IF(OR(E829=\"\",ISBLANK(E829)),\"\",VLOOKUP(E829,Sheet2!A:H,3,FALSE))","v":""},null,{"$f":"IF(OR(E829=\"\",ISBLANK(E829)),\"\",VLOOKUP(E829,Sheet2!A:G,6,FALSE))","v":""},""]
[{"$f":"IF(OR(E830=\"\",ISBLANK(E830)),\"\",VLOOKUP(E830,Sheet2!A:F,2,FALSE))","v":""},{"$f":"IF(OR(E830=\"\",ISBLANK(E830)),\"\",VLOOKUP(E830,Sheet2!A:G,4,FALSE))","v":""},"",{"$f":"IF(OR(E830=\"\",ISBLANK(E830)),\"\",VLOOKUP(E830,Sheet2!A:H,3,FALSE))","v":""},null,{"$f":"IF(OR(E830=\"\",ISBLANK(E830)),\"\",VLOOKUP(E830,Sheet2!A:G,6,FALSE))","v":""},""]
[{"$f":"IF(OR(E831=\"\",ISBLANK(E831)),\"\",VLOOKUP(E831,Sheet2!A:F,2,FALSE))","v":""},{"$f":"IF(OR(E831=\"\",ISBLANK(E831)),\"\",VLOOKUP(E831,Sheet2!A:G,4,FALSE))","v":""},"",{"$f":"IF(OR(E831=\"\",ISBLANK(E831)),\"\",VLOOKUP(E831,Sheet2!A:H,3,FALSE))","v":""},null,{"$f":"IF(OR(E831=\"\",ISBLANK(E831)),\"\",VLOOKUP(E831,Sheet2!A:G,6,FALSE))","v":""},""]
[{"$f":"IF(OR(E832=\"\",ISBLANK(E832)),\"\",VLOOKUP(E832,Sheet2!A:F,2,FALSE))","v":""},{"$f":"IF(OR(E832=\"\",ISBLANK(E832)),\"\",VLOOKUP(E832,Sheet2!A:G,4,FALSE))","v":""},"",{"$f":"IF(OR(E832=\"\",ISBLANK(E832)),\"\",VLOOKUP(E832,Sheet2!A:H,3,FALSE))","v":""},null,{"$f":"IF(OR(E832=\"\",ISBLANK(E832)),\"\",VLOOKUP(E832,Sheet2!A:G,6,FALSE))","v":""},""]
[{"$f":"IF(OR(E833=\"\",ISBLANK(E833)),\"\",VLOOKUP(E833,Sheet2!A:F,2,FALSE))","v":""},{"$f":"IF(OR(E833=\"\",ISBLANK(E833)),\"\",VLOOKUP(E833,Sheet2!A:G,4,FALSE))","v":""},"",{"$f":"IF(OR(E833=\"\",ISBLANK(E833)),\"\",VLOOKUP(E833,Sheet2!A:H,3,FALSE))","v":""},null,{"$f":"IF(OR(E833=\"\",ISBLANK(E833)),\"\",VLOOKUP(E833,Sheet2!A:G,6,FALSE))","v":""},""]
[{"$f":"IF(OR(E834=\"\",ISBLANK(E834)),\"\",VLOOKUP(E834,Sheet2!A:F,2,FALSE))","v":""},{"$f":"IF(OR(E834=\"\",ISBLANK(E834)),\"\",VLOOKUP(E834,Sheet2!A:G,4,FALSE))","v":""},"",{"$f":"IF(OR(E834=\"\",ISBLANK(E834)),\"\",VLOOKUP(E834,Sheet2!A:H,3,FALSE))","v":""},null,{"$f":"IF(OR(E834=\"\",ISBLANK(E834)),\"\",VLOOKUP(E834,Sheet2!A:G,6,FALSE))","v":""},""]
[{"$f":"IF(OR(E835=\"\",ISBLANK(E835)),\"\",VLOOKUP(E835,Sheet2!A:F,2,FALSE))","v":""},{"$f":"IF(OR(E835=\"\",ISBLANK(E835)),\"\",VLOOKUP(E835,Sheet2!A:G,4,FALSE))","v":""},{"$f":"IF(D835=0,\"\",D835)","v":""},{"$f":"IF(OR(E835=\"\",ISBLANK(E835)),\"\",VLOOKUP(E835,Sheet2!A:H,3,FALSE))","v":""},null,{"$f":"IF(OR(E835=\"\",ISBLANK(E835)),\"\",VLOOKUP(E835,Sheet2!A:G,6,FALSE))","v":""},{"$f":"IF(F835=0,\"\",F835)","v":""}]
[{"$f":"IF(OR(E836=\"\",ISBLANK(E836)),\"\",VLOOKUP(E836,Sheet2!A:F,2,FALSE))","v":""},{"$f":"IF(OR(E836=\"\",ISBLANK(E836)),\"\",VLOOKUP(E836,Sheet2!A:G,4,FALSE))","v":""},"",{"$f":"IF(OR(E836=\"\",ISBLANK(E836)),\"\",VLOOKUP(E836,Sheet2!A:H,3,FALSE))","v":""},null,{"$f":"IF(OR(E836=\"\",ISBLANK(E836)),\"\",VLOOKUP(E836,Sheet2!A:G,6,FALSE))","v":""},""]
[{"$f":"IF(OR(E837=\"\",ISBLANK(E837)),\"\",VLOOKUP(E837,Sheet2!A:F,2,FALSE))","v":""},{"$f":"IF(OR(E837=\"\",ISBLANK(E837)),\"\",VLOOKUP(E837,Sheet2!A:G,4,FALSE))","v":""},"",{"$f":"IF(OR(E837=\"\",ISBLANK(E837)),\"\",VLOOKUP(E837,Sheet2!A:H,3,FALSE))","v":""},null,{"$f":"IF(OR(E837=\"\",ISBLANK(E837)),\"\",VLOOKUP(E837,Sheet2!A:G,6,FALSE))","v":""},""]
[{"$f":"IF(OR(E838=\"\",ISBLANK(E838)),\"\",VLOOKUP(E838,Sheet2!A:F,2,FALSE))","v":""},{"$f":"IF(OR(E838=\"\",ISBLANK(E838)),\"\",VLOOKUP(E838,Sheet2!A:G,4,FALSE))","v":""},"",{"$f":"IF(OR(E838=\"\",ISBLANK(E838)),\"\",VLOOKUP(E838,Sheet2!A:H,3,FALSE))","v":""},null,{"$f":"IF(OR(E838=\"\",ISBLANK(E838)),\"\",VLOOKUP(E838,Sheet2!A:G,6,FALSE))","v":""},""]
[{"$f":"IF(OR(E839=\"\",ISBLANK(E839)),\"\",VLOOKUP(E839,Sheet2!A:F,2,FALSE))","v":""},{"$f":"IF(OR(E839=\"\",ISBLANK(E839)),\"\",VLOOKUP(E839,Sheet2!A:G,4,FALSE))","v":""},"",{"$f":"IF(OR(E839=\"\",ISBLANK(E839)),\"\",VLOOKUP(E839,Sheet2!A:H,3,FALSE))","v":""},null,{"$f":"IF(OR(E839=\"\",ISBLANK(E839)),\"\",VLOOKUP(E839,Sheet2!A:G,6,FALSE))","v":""},""]
[{"$f":"IF(OR(E840=\"\",ISBLANK(E840)),\"\",VLOOKUP(E840,Sheet2!A:F,2,FALSE))","v":""},{"$f":"IF(OR(E840=\"\",ISBLANK(E840)),\"\",VLOOKUP(E840,Sheet2!A:G,4,FALSE))","v":""},"",{"$f":"IF(OR(E840=\"\",ISBLANK(E840)),\"\",VLOOKUP(E840,Sheet2!A:H,3,FALSE))","v":""},null,{"$f":"IF(OR(E840=\"\",ISBLANK(E840)),\"\",VLOOKUP(E840,Sheet2!A:G,6,FALSE))","v":""},""]
[{"$f":"IF(OR(E841=\"\",ISBLANK(E841)),\"\",VLOOKUP(E841,Sheet2!A:F,2,FALSE))","v":""},{"$f":"IF(OR(E841=\"\",ISBLANK(E841)),\"\",VLOOKUP(E841,Sheet2!A:G,4,FALSE))","v":""},"",{"$f":"IF(OR(E841=\"\",ISBLANK(E841)),\"\",VLOOKUP(E841,Sheet2!A:H,3,FALSE))","v":""},null,{"$f":"IF(OR(E841=\"\",ISBLANK(E841)),\"\",VLOOKUP(E841,Sheet2!A:G,6,FALSE))","v":""},""]
[{"$f":"IF(OR(E842=\"\",ISBLANK(E842)),\"\",VLOOKUP(E842,Sheet2!A:F,2,FALSE))","v":""},{"$f":"IF(OR(E842=\"\",ISBLANK(E842)),\"\",VLOOKUP(E842,Sheet2!A:G,4,FALSE))","v":""},"",{"$f":"IF(OR(E842=\"\",ISBLANK(E842)),\"\",VLOOKUP(E842,Sheet2!A:H,3,FALSE))","v":""},null,{"$f":"IF(OR(E842=\"\",ISBLANK(E842)),\"\",VLOOKUP(E842,Sheet2!A:G,6,FALSE))","v":""},""]
[{"$f":"IF(OR(E843=\"\",ISBLANK(E843)),\"\",VLOOKUP(E843,Sheet2!A:F,2,FALSE))","v":""},{"$f":"IF(OR(E843=\"\",ISBLANK(E843)),\"\",VLOOKUP(E843,Sheet2!A:G,4,FALSE))","v":""},"",{"$f":"IF(OR(E843=\"\",ISBLANK(E843)),\"\",VLOOKUP(E843,Sheet2!A:H,3,FALSE))","v":""},null,{"$f":"IF(OR(E843=\"\",ISBLANK(E843)),\"\",VLOOKUP(E843,Sheet2!A:G,6,FALSE))","v":""},""]
[{"$f":"IF(OR(E844=\"\",ISBLANK(E844)),\"\",VLOOKUP(E844,Sheet2!A:F,2,FALSE))","v":""},{"$f":"IF(OR(E844=\"\",ISBLANK(E844)),\"\",VLOOKUP(E844,Sheet2!A:G,4,FALSE))","v":""},"",{"$f":"IF(OR(E844=\"\",ISBLANK(E844)),\"\",VLOOKUP(E844,Sheet2!A:H,3,FALSE))","v":""},null,{"$f":"IF(OR(E844=\"\",ISBLANK(E844)),\"\",VLOOKUP(E844,Sheet2!A:G,6,FALSE))","v":""},""]
[{"$f":"IF(OR(E845=\"\",ISBLANK(E845)),\"\",VLOOKUP(E845,Sheet2!A:F,2,FALSE))","v":""},{"$f":"IF(OR(E845=\"\",ISBLANK(E845)),\"\",VLOOKUP(E845,Sheet2!A:G,4,FALSE))","v":""},"",{"$f":"IF(OR(E845=\"\",ISBLANK(E845)),\"\",VLOOKUP(E845,Sheet2!A:H,3,FALSE))","v":""},null,{"$f":"IF(OR(E845=\"\",ISBLANK(E845)),\"\",VLOOKUP(E845,Sheet2!A:G,6,FALSE))","v":""},""]
[{"$f":"IF(OR(E846=\"\",ISBLANK(E846)),\"\",VLOOKUP(E846,Sheet2!A:F,2,FALSE))","v":""},{"$f":"IF(OR(E846=\"\",ISBLANK(E846)),\"\",VLOOKUP(E846,Sheet2!A:G,4,FALSE))","v":""},"",{"$f":"IF(OR(E846=\"\",ISBLANK(E846)),\"\",VLOOKUP(E846,Sheet2!A:H,3,FALSE))","v":""},null,{"$f":"IF(OR(E846=\"\",ISBLANK(E846)),\"\",VLOOKUP(E846,Sheet2!A:G,6,FALSE))","v":""},""]
[{"$f":"IF(OR(E847=\"\",ISBLANK(E847)),\"\",VLOOKUP(E847,Sheet2!A:F,2,FALSE))","v":""},{"$f":"IF(OR(E847=\"\",ISBLANK(E847)),\"\",VLOOKUP(E847,Sheet2!A:G,4,FALSE))","v":""},"",{"$f":"IF(OR(E847=\"\",ISBLANK(E847)),\"\",VLOOKUP(E847,Sheet2!A:H,3,FALSE))","v":""},null,{"$f":"IF(OR(E847=\"\",ISBLANK(E847)),\"\",VLOOKUP(E847,Sheet2!A:G,6,FALSE))","v":""},""]
[{"$f":"IF(OR(E848=\"\",ISBLANK(E848)),\"\",VLOOKUP(E848,Sheet2!A:F,2,FALSE))","v":""},{"$f":"IF(OR(E848=\"\",ISBLANK(E848)),\"\",VLOOKUP(E848,Sheet2!A:G,4,FALSE))","v":""},"",{"$f":"IF(OR(E848=\"\",ISBLANK(E848)),\"\",VLOOKUP(E848,Sheet2!A:H,3,FALSE))","v":""},null,{"$f":"IF(OR(E848=\"\",ISBLANK(E848)),\"\",VLOOKUP(E848,Sheet2!A:G,6,FALSE))","v":""},""]
[{"$f":"IF(OR(E849=\"\",ISBLANK(E849)),\"\",VLOOKUP(E849,Sheet2!A:F,2,FALSE))","v":""},{"$f":"IF(OR(E849=\"\",ISBLANK(E849)),\"\",VLOOKUP(E849,Sheet2!A:G,4,FALSE))","v":""},"",{"$f":"IF(OR(E849=\"\",ISBLANK(E849)),\"\",VLOOKUP(E849,Sheet2!A:H,3,FALSE))","v":""},null,{"$f":"IF(OR(E849=\"\",ISBLANK(E849)),\"\",VLOOKUP(E849,Sheet2!A:G,6,FALSE))","v":""},""]
[{"$f":"IF(OR(E850=\"\",ISBLANK(E850)),\"\",VLOOKUP(E850,Sheet2!A:F,2,FALSE))","v":""},{"$f":"IF(OR(E850=\"\",ISBLANK(E850)),\"\",VLOOKUP(E850,Sheet2!A:G,4,FALSE))","v":""},"",{"$f":"IF(OR(E850=\"\",ISBLANK(E850)),\"\",VLOOKUP(E850,Sheet2!A:H,3,FALSE))","v":""},null,{"$f":"IF(OR(E850=\"\",ISBLANK(E850)),\"\",VLOOKUP(E850,Sheet2!A:G,6,FALSE))","v":""},""]
[{"$f":"IF(OR(E851=\"\",ISBLANK(E851)),\"\",VLOOKUP(E851,Sheet2!A:F,2,FALSE))","v":""},{"$f":"IF(OR(E851=\"\",ISBLANK(E851)),\"\",VLOOKUP(E851,Sheet2!A:G,4,FALSE))","v":""},"",{"$f":"IF(OR(E851=\"\",ISBLANK(E851)),\"\",VLOOKUP(E851,Sheet2!A:H,3,FALSE))","v":""},null,{"$f":"IF(OR(E851=\"\",ISBLANK(E851)),\"\",VLOOKUP(E851,Sheet2!A:G,6,FALSE))","v":""},""]
[{"$f":"IF(OR(E852=\"\",ISBLANK(E852)),\"\",VLOOKUP(E852,Sheet2!A:F,2,FALSE))","v":""},{"$f":"IF(OR(E852=\"\",ISBLANK(E852)),\"\",VLOOKUP(E852,Sheet2!A:G,4,FALSE))","v":""},"",{"$f":"IF(OR(E852=\"\",ISBLANK(E852)),\"\",VLOOKUP(E852,Sheet2!A:H,3,FALSE))","v":""},null,{"$f":"IF(OR(E852=\"\",ISBLANK(E852)),\"\",VLOOKUP(E852,Sheet2!A:G,6,FALSE))","v":""},""]
[{"$f":"IF(OR(E853=\"\",ISBLANK(E853)),\"\",VLOOKUP(E853,Sheet2!A:F,2,FALSE))","v":""},{"$f":"IF(OR(E853=\"\",ISBLANK(E853)),\"\",VLOOKUP(E853,Sheet2!A:G,4,FALSE))","v":""},"",{"$f":"IF(OR(E853=\"\",ISBLANK(E853)),\"\",VLOOKUP(E853,Sheet2!A:H,3,FALSE))","v":""},null,{"$f":"IF(OR(E853=\"\",ISBLANK(E853)),\"\",VLOOKUP(E853,Sheet2!A:G,6,FALSE))","v":""},""]
[{"$f":"IF(OR(E854=\"\",ISBLANK(E854)),\"\",VLOOKUP(E854,Sheet2!A:F,2,FALSE))","v":""},{"$f":"IF(OR(E854=\"\",ISBLANK(E854)),\"\",VLOOKUP(E854,Sheet2!A:G,4,FALSE))","v":""},"",{"$f":"IF(OR(E854=\"\",ISBLANK(E854)),\"\",VLOOKUP(E854,Sheet2!A:H,3,FALSE))","v":""},null,{"$f":"IF(OR(E854=\"\",ISBLANK(E854)),\"\",VLOOKUP(E854,Sheet2!A:G,6,FALSE))","v":""},""]
[{"$f":"IF(OR(E855=\"\",ISBLANK(E855)),\"\",VLOOKUP(E855,Sheet2!A:F,2,FALSE))","v":""},{"$f":"IF(OR(E855=\"\",ISBLANK(E855)),\"\",VLOOKUP(E855,Sheet2!A:G,4,FALSE))","v":""},"",{"$f":"IF(OR(E855=\"\",ISBLANK(E855)),\"\",VLOOKUP(E855,Sheet2!A:H,3,FALSE))","v":""},null,{"$f":"IF(OR(E855=\"\",ISBLANK(E855)),\"\",VLOOKUP(E855,Sheet2!A:G,6,FALSE))","v":""},""]
[{"$f":"IF(OR(E856=\"\",ISBLANK(E856)),\"\",VLOOKUP(E856,Sheet2!A:F,2,FALSE))","v":""},{"$f":"IF(OR(E856=\"\",ISBLANK(E856)),\"\",VLOOKUP(E856,Sheet2!A:G,4,FALSE))","v":""},"",{"$f":"IF(OR(E856=\"\",ISBLANK(E856)),\"\",VLOOKUP(E856,Sheet2!A:H,3,FALSE))","v":""},null,{"$f":"IF(OR(E856=\"\",ISBLANK(E856)),\"\",VLOOKUP(E856,Sheet2!A:G,6,FALSE))","v":""},""]
[{"$f":"IF(OR(E857=\"\",ISBLANK(E857)),\"\",VLOOKUP(E857,Sheet2!A:F,2,FALSE))","v":""},{"$f":"IF(OR(E857=\"\",ISBLANK(E857)),\"\",VLOOKUP(E857,Sheet2!A:G,4,FALSE))","v":""},"",{"$f":"IF(OR(E857=\"\",ISBLANK(E857)),\"\",VLOOKUP(E857,Sheet2!A:H,3,FALSE))","v":""},null,{"$f":"IF(OR(E857=\"\",ISBLANK(E857)),\"\",VLOOKUP(E857,Sheet2!A:G,6,FALSE))","v":""},""]
[{"$f":"IF(OR(E858=\"\",ISBLANK(E858)),\"\",VLOOKUP(E858,Sheet2!A:F,2,FALSE))","v":""},{"$f":"IF(OR(E858=\"\",ISBLANK(E858)),\"\",VLOOKUP(E858,Sheet2!A:G,4,FALSE))","v":""},"",{"$f":"IF(OR(E858=\"\",ISBLANK(E858)),\"\",VLOOKUP(E858,Sheet2!A:H,3,FALSE))","v":""},null,{"$f":"IF(OR(E858=\"\",ISBLANK(E858)),\"\",VLOOKUP(E858,Sheet2!A:G,6,FALSE))","v":""},""]
[{"$f":"IF(OR(E859=\"\",ISBLANK(E859)),\"\",VLOOKUP(E859,Sheet2!A:F,2,FALSE))","v":""},{"$f":"IF(OR(E859=\"\",ISBLANK(E859)),\"\",VLOOKUP(E859,Sheet2!A:G,4,FALSE))","v":""},"",{"$f":"IF(OR(E859=\"\",ISBLANK(E859)),\"\",VLOOKUP(E859,Sheet2!A:H,3,FALSE))","v":""},null,{"$f":"IF(OR(E859=\"\",ISBLANK(E859)),\"\",VLOOKUP(E859,Sheet2!A:G,6,FALSE))","v":""},""]
[{"$f":"IF(OR(E860=\"\",ISBLANK(E860)),\"\",VLOOKUP(E860,Sheet2!A:F,2,FALSE))","v":""},{"$f":"IF(OR(E860=\"\",ISBLANK(E860)),\"\",VLOOKUP(E860,Sheet2!A:G,4,FALSE))","v":""},"",{"$f":"IF(OR(E860=\"\",ISBLANK(E860)),\"\",VLOOKUP(E860,Sheet2!A:H,3,FALSE))","v":""},null,{"$f":"IF(OR(E860=\"\",ISBLANK(E860)),\"\",VLOOKUP(E860,Sheet2!A:G,6,FALSE))","v":""},""]
[{"$f":"IF(OR(E861=\"\",ISBLANK(E861)),\"\",VLOOKUP(E861,Sheet2!A:F,2,FALSE))","v":""},{"$f":"IF(OR(E861=\"\",ISBLANK(E861)),\"\",VLOOKUP(E861,Sheet2!A:G,4,FALSE))","v":""},"",{"$f":"IF(OR(E861=\"\",ISBLANK(E861)),\"\",VLOOKUP(E861,Sheet2!A:H,3,FALSE))","v":""},null,{"$f":"IF(OR(E861=\"\",ISBLANK(E861)),\"\",VLOOKUP(E861,Sheet2!A:G,6,FALSE))","v":""},""]
[{"$f":"IF(OR(E862=\"\",ISBLANK(E862)),\"\",VLOOKUP(E862,Sheet2!A:F,2,FALSE))","v":""},{"$f":"IF(OR(E862=\"\",ISBLANK(E862)),\"\",VLOOKUP(E862,Sheet2!A:G,4,FALSE))","v":""},"",{"$f":"IF(OR(E862=\"\",ISBLANK(E862)),\"\",VLOOKUP(E862,Sheet2!A:H,3,FALSE))","v":""},null,{"$f":"IF(OR(E862=\"\",ISBLANK(E862)),\"\",VLOOKUP(E862,Sheet2!A:G,6,FALSE))","v":""},""]
[{"$f":"IF(OR(E863=\"\",ISBLANK(E863)),\"\",VLOOKUP(E863,Sheet2!A:F,2,FALSE))","v":""},{"$f":"IF(OR(E863=\"\",ISBLANK(E863)),\"\",VLOOKUP(E863,Sheet2!A:G,4,FALSE))","v":""},"",{"$f":"IF(OR(E863=\"\",ISBLANK(E863)),\"\",VLOOKUP(E863,Sheet2!A:H,3,FALSE))","v":""},null,{"$f":"IF(OR(E863=\"\",ISBLANK(E863)),\"\",VLOOKUP(E863,Sheet2!A:G,6,FALSE))","v":""},""]
[{"$f":"IF(OR(E864=\"\",ISBLANK(E864)),\"\",VLOOKUP(E864,Sheet2!A:F,2,FALSE))","v":""},{"$f":"IF(OR(E864=\"\",ISBLANK(E864)),\"\",VLOOKUP(E864,Sheet2!A:G,4,FALSE))","v":""},"",{"$f":"IF(OR(E864=\"\",ISBLANK(E864)),\"\",VLOOKUP(E864,Sheet2!A:H,3,FALSE))","v":""},null,{"$f":"IF(OR(E864=\"\",ISBLANK(E864)),\"\",VLOOKUP(E864,Sheet2!A:G,6,FALSE))","v":""},""]
[{"$f":"IF(OR(E865=\"\",ISBLANK(E865)),\"\",VLOOKUP(E865,Sheet2!A:F,2,FALSE))","v":""},{"$f":"IF(OR(E865=\"\",ISBLANK(E865)),\"\",VLOOKUP(E865,Sheet2!A:G,4,FALSE))","v":""},"",{"$f":"IF(OR(E865=\"\",ISBLANK(E865)),\"\",VLOOKUP(E865,Sheet2!A:H,3,FALSE))","v":""},null,{"$f":"IF(OR(E865=\"\",ISBLANK(E865)),\"\",VLOOKUP(E865,Sheet2!A:G,6,FALSE))","v":""},""]
[{"$f":"IF(OR(E866=\"\",ISBLANK(E866)),\"\",VLOOKUP(E866,Sheet2!A:F,2,FALSE))","v":""},{"$f":"IF(OR(E866=\"\",ISBLANK(E866)),\"\",VLOOKUP(E866,Sheet2!A:G,4,FALSE))","v":""},"",{"$f":"IF(OR(E866=\"\",ISBLANK(E866)),\"\",VLOOKUP(E866,Sheet2!A:H,3,FALSE))","v":""},null,{"$f":"IF(OR(E866=\"\",ISBLANK(E866)),\"\",VLOOKUP(E866,Sheet2!A:G,6,FALSE))","v":""},""]
[{"$f":"IF(OR(E867=\"\",ISBLANK(E867)),\"\",VLOOKUP(E867,Sheet2!A:F,2,FALSE))","v":""},{"$f":"IF(OR(E867=\"\",ISBLANK(E867)),\"\",VLOOKUP(E867,Sheet2!A:G,4,FALSE))","v":""},"",{"$f":"IF(OR(E867=\"\",ISBLANK(E867)),\"\",VLOOKUP(E867,Sheet2!A:H,3,FALSE))","v":""},null,{"$f":"IF(OR(E867=\"\",ISBLANK(E867)),\"\",VLOOKUP(E867,Sheet2!A:G,6,FALSE))","v":""},""]
[{"$f":"IF(OR(E868=\"\",ISBLANK(E868)),\"\",VLOOKUP(E868,Sheet2!A:F,2,FALSE))","v":""},{"$f":"IF(OR(E868=\"\",ISBLANK(E868)),\"\",VLOOKUP(E868,Sheet2!A:G,4,FALSE))","v":""},"",{"$f":"IF(OR(E868=\"\",ISBLANK(E868)),\"\",VLOOKUP(E868,Sheet2!A:H,3,FALSE))","v":""},null,{"$f":"IF(OR(E868=\"\",ISBLANK(E868)),\"\",VLOOKUP(E868,Sheet2!A:G,6,FALSE))","v":""},""]
[{"$f":"IF(OR(E869=\"\",ISBLANK(E869)),\"\",VLOOKUP(E869,Sheet2!A:F,2,FALSE))","v":""},{"$f":"IF(OR(E869=\"\",ISBLANK(E869)),\"\",VLOOKUP(E869,Sheet2!A:G,4,FALSE))","v":""},"",{"$f":"IF(OR(E869=\"\",ISBLANK(E869)),\"\",VLOOKUP(E869,Sheet2!A:H,3,FALSE))","v":""},null,{"$f":"IF(OR(E869=\"\",ISBLANK(E869)),\"\",VLOOKUP(E869,Sheet2!A:G,6,FALSE))","v":""},""]
[{"$f":"IF(OR(E870=\"\",ISBLANK(E870)),\"\",VLOOKUP(E870,Sheet2!A:F,2,FALSE))","v":""},{"$f":"IF(OR(E870=\"\",ISBLANK(E870)),\"\",VLOOKUP(E870,Sheet2!A:G,4,FALSE))","v":""},"",{"$f":"IF(OR(E870=\"\",ISBLANK(E870)),\"\",VLOOKUP(E870,Sheet2!A:H,3,FALSE))","v":""},null,{"$f":"IF(OR(E870=\"\",ISBLANK(E870)),\"\",VLOOKUP(E870,Sheet2!A:G,6,FALSE))","v":""},""]
[{"$f":"IF(OR(E871=\"\",ISBLANK(E871)),\"\",VLOOKUP(E871,Sheet2!A:F,2,FALSE))","v":""},{"$f":"IF(OR(E871=\"\",ISBLANK(E871)),\"\",VLOOKUP(E871,Sheet2!A:G,4,FALSE))","v":""},"",{"$f":"IF(OR(E871=\"\",ISBLANK(E871)),\"\",VLOOKUP(E871,Sheet2!A:H,3,FALSE))","v":""},null,{"$f":"IF(OR(E871=\"\",ISBLANK(E871)),\"\",VLOOKUP(E871,Sheet2!A:G,6,FALSE))","v":""},""]
[{"$f":"IF(OR(E872=\"\",ISBLANK(E872)),\"\",VLOOKUP(E872,Sheet2!A:F,2,FALSE))","v":""},{"$f":"IF(OR(E872=\"\",ISBLANK(E872)),\"\",VLOOKUP(E872,Sheet2!A:G,4,FALSE))","v":""},"",{"$f":"IF(OR(E872=\"\",ISBLANK(E872)),\"\",VLOOKUP(E872,Sheet2!A:H,3,FALSE))","v":""},null,{"$f":"IF(OR(E872=\"\",ISBLANK(E872)),\"\",VLOOKUP(E872,Sheet2!A:G,6,FALSE))","v":""},""]
[{"$f":"IF(OR(E873=\"\",ISBLANK(E873)),\"\",VLOOKUP(E873,Sheet2!A:F,2,FALSE))","v":""},{"$f":"IF(OR(E873=\"\",ISBLANK(E873)),\"\",VLOOKUP(E873,Sheet2!A:G,4,FALSE))","v":""},"",{"$f":"IF(OR(E873=\"\",ISBLANK(E873)),\"\",VLOOKUP(E873,Sheet2!A:H,3,FALSE))","v":""},null,{"$f":"IF(OR(E873=\"\",ISBLANK(E873)),\"\",VLOOKUP(E873,Sheet2!A:G,6,FALSE))","v":""},""]
[{"$f":"IF(OR(E874=\"\",ISBLANK(E874)),\"\",VLOOKUP(E874,Sheet2!A:F,2,FALSE))","v":""},{"$f":"IF(OR(E874=\"\",ISBLANK(E874)),\"\",VLOOKUP(E874,Sheet2!A:G,4,FALSE))","v":""},"",{"$f":"IF(OR(E874=\"\",ISBLANK(E874)),\"\",VLOOKUP(E874,Sheet2!A:H,3,FALSE))","v":""},null,{"$f":"IF(OR(E874=\"\",ISBLANK(E874)),\"\",VLOOKUP(E874,Sheet2!A:G,6,FALSE))","v":""},""]
[{"$f":"IF(OR(E875=\"\",ISBLANK(E875)),\"\",VLOOKUP(E875,Sheet2!A:F,2,FALSE))","v":""},{"$f":"IF(OR(E875=\"\",ISBLANK(E875)),\"\",VLOOKUP(E875,Sheet2!A:G,4,FALSE))","v":""},"",{"$f":"IF(OR(E875=\"\",ISBLANK(E875)),\"\",VLOOKUP(E875,Sheet2!A:H,3,FALSE))","v":""},null,{"$f":"IF(OR(E875=\"\",ISBLANK(E875)),\"\",VLOOKUP(E875,Sheet2!A:G,6,FALSE))","v":""},""]
[{"$f":"IF(OR(E876=\"\",ISBLANK(E876)),\"\",VLOOKUP(E876,Sheet2!A:F,2,FALSE))","v":""},{"$f":"IF(OR(E876=\"\",ISBLANK(E876)),\"\",VLOOKUP(E876,Sheet2!A:G,4,FALSE))","v":""},"",{"$f":"IF(OR(E876=\"\",ISBLANK(E876)),\"\",VLOOKUP(E876,Sheet2!A:H,3,FALSE))","v":""},null,{"$f":"IF(OR(E876=\"\",ISBLANK(E876)),\"\",VLOOKUP(E876,Sheet2!A:G,6,FALSE))","v":""},""]
[{"$f":"IF(OR(E877=\"\",ISBLANK(E877)),\"\",VLOOKUP(E877,Sheet2!A:F,2,FALSE))","v":""},{"$f":"IF(OR(E877=\"\",ISBLANK(E877)),\"\",VLOOKUP(E877,Sheet2!A:G,4,FALSE))","v":""},"",{"$f":"IF(OR(E877=\"\",ISBLANK(E877)),\"\",VLOOKUP(E877,Sheet2!A:H,3,FALSE))","v":""},null,{"$f":"IF(OR(E877=\"\",ISBLANK(E877)),\"\",VLOOKUP(E877,Sheet2!A:G,6,FALSE))","v":""},""]
[{"$f":"IF(OR(E878=\"\",ISBLANK(E878)),\"\",VLOOKUP(E878,Sheet2!A:F,2,FALSE))","v":""},{"$f":"IF(OR(E878=\"\",ISBLANK(E878)),\"\",VLOOKUP(E878,Sheet2!A:G,4,FALSE))","v":""},"",{"$f":"IF(OR(E878=\"\",ISBLANK(E878)),\"\",VLOOKUP(E878,Sheet2!A:H,3,FALSE))","v":""},null,{"$f":"IF(OR(E878=\"\",ISBLANK(E878)),\"\",VLOOKUP(E878,Sheet2!A:G,6,FALSE))","v":""},""]
[{"$f":"IF(OR(E879=\"\",ISBLANK(E879)),\"\",VLOOKUP(E879,Sheet2!A:F,2,FALSE))","v":""},{"$f":"IF(OR(E879=\"\",ISBLANK(E879)),\"\",VLOOKUP(E879,Sheet2!A:G,4,FALSE))","v":""},"",{"$f":"IF(OR(E879=\"\",ISBLANK(E879)),\"\",VLOOKUP(E879,Sheet2!A:H,3,FALSE))","v":""},null,{"$f":"IF(OR(E879=\"\",ISBLANK(E879)),\"\",VLOOKUP(E879,Sheet2!A:G,6,FALSE))","v":""},""]
[{"$f":"IF(OR(E880=\"\",ISBLANK(E880)),\"\",VLOOKUP(E880,Sheet2!A:F,2,FALSE))","v":""},{"$f":"IF(OR(E880=\"\",ISBLANK(E880)),\"\",VLOOKUP(E880,Sheet2!A:G,4,FALSE))","v":""},"",{"$f":"IF(OR(E880=\"\",ISBLANK(E880)),\"\",VLOOKUP(E880,Sheet2!A:H,3,FALSE))","v":""},null,{"$f":"IF(OR(E880=\"\",ISBLANK(E880)),\"\",VLOOKUP(E880,Sheet2!A:G,6,FALSE))","v":""},""]
[{"$f":"IF(OR(E881=\"\",ISBLANK(E881)),\"\",VLOOKUP(E881,Sheet2!A:F,2,FALSE))","v":""},{"$f":"IF(OR(E881=\"\",ISBLANK(E881)),\"\",VLOOKUP(E881,Sheet2!A:G,4,FALSE))","v":""},"",{"$f":"IF(OR(E881=\"\",ISBLANK(E881)),\"\",VLOOKUP(E881,Sheet2!A:H,3,FALSE))","v":""},null,{"$f":"IF(OR(E881=\"\",ISBLANK(E881)),\"\",VLOOKUP(E881,Sheet2!A:G,6,FALSE))","v":""},""]
[{"$f":"IF(OR(E882=\"\",ISBLANK(E882)),\"\",VLOOKUP(E882,Sheet2!A:F,2,FALSE))","v":""},{"$f":"IF(OR(E882=\"\",ISBLANK(E882)),\"\",VLOOKUP(E882,Sheet2!A:G,4,FALSE))","v":""},"",{"$f":"IF(OR(E882=\"\",ISBLANK(E882)),\"\",VLOOKUP(E882,Sheet2!A:H,3,FALSE))","v":""},null,{"$f":"IF(OR(E882=\"\",ISBLANK(E882)),\"\",VLOOKUP(E882,Sheet2!A:G,6,FALSE))","v":""},""]
[{"$f":"IF(OR(E883=\"\",ISBLANK(E883)),\"\",VLOOKUP(E883,Sheet2!A:F,2,FALSE))","v":""},{"$f":"IF(OR(E883=\"\",ISBLANK(E883)),\"\",VLOOKUP(E883,Sheet2!A:G,4,FALSE))","v":""},"",{"$f":"IF(OR(E883=\"\",ISBLANK(E883)),\"\",VLOOKUP(E883,Sheet2!A:H,3,FALSE))","v":""},null,{"$f":"IF(OR(E883=\"\",ISBLANK(E883)),\"\",VLOOKUP(E883,Sheet2!A:G,6,FALSE))","v":""},""]
[{"$f":"IF(OR(E884=\"\",ISBLANK(E884)),\"\",VLOOKUP(E884,Sheet2!A:F,2,FALSE))","v":""},{"$f":"IF(OR(E884=\"\",ISBLANK(E884)),\"\",VLOOKUP(E884,Sheet2!A:G,4,FALSE))","v":""},"",{"$f":"IF(OR(E884=\"\",ISBLANK(E884)),\"\",VLOOKUP(E884,Sheet2!A:H,3,FALSE))","v":""},null,{"$f":"IF(OR(E884=\"\",ISBLANK(E884)),\"\",VLOOKUP(E884,Sheet2!A:G,6,FALSE))","v":""},""]
[{"$f":"IF(OR(E885=\"\",ISBLANK(E885)),\"\",VLOOKUP(E885,Sheet2!A:F,2,FALSE))","v":""},{"$f":"IF(OR(E885=\"\",ISBLANK(E885)),\"\",VLOOKUP(E885,Sheet2!A:G,4,FALSE))","v":""},"",{"$f":"IF(OR(E885=\"\",ISBLANK(E885)),\"\",VLOOKUP(E885,Sheet2!A:H,3,FALSE))","v":""},null,{"$f":"IF(OR(E885=\"\",ISBLANK(E885)),\"\",VLOOKUP(E885,Sheet2!A:G,6,FALSE))","v":""},""]
[{"$f":"IF(OR(E886=\"\",ISBLANK(E886)),\"\",VLOOKUP(E886,Sheet2!A:F,2,FALSE))","v":""},{"$f":"IF(OR(E886=\"\",ISBLANK(E886)),\"\",VLOOKUP(E886,Sheet2!A:G,4,FALSE))","v":""},"",{"$f":"IF(OR(E886=\"\",ISBLANK(E886)),\"\",VLOOKUP(E886,Sheet2!A:H,3,FALSE))","v":""},null,{"$f":"IF(OR(E886=\"\",ISBLANK(E886)),\"\",VLOOKUP(E886,Sheet2!A:G,6,FALSE))","v":""},""]
[{"$f":"IF(OR(E887=\"\",ISBLANK(E887)),\"\",VLOOKUP(E887,Sheet2!A:F,2,FALSE))","v":""},{"$f":"IF(OR(E887=\"\",ISBLANK(E887)),\"\",VLOOKUP(E887,Sheet2!A:G,4,FALSE))","v":""},"",{"$f":"IF(OR(E887=\"\",ISBLANK(E887)),\"\",VLOOKUP(E887,Sheet2!A:H,3,FALSE))","v":""},null,{"$f":"IF(OR(E887=\"\",ISBLANK(E887)),\"\",VLOOKUP(E887,Sheet2!A:G,6,FALSE))","v":""},""]
[{"$f":"IF(OR(E888=\"\",ISBLANK(E888)),\"\",VLOOKUP(E888,Sheet2!A:F,2,FALSE))","v":""},{"$f":"IF(OR(E888=\"\",ISBLANK(E888)),\"\",VLOOKUP(E888,Sheet2!A:G,4,FALSE))","v":""},"",{"$f":"IF(OR(E888=\"\",ISBLANK(E888)),\"\",VLOOKUP(E888,Sheet2!A:H,3,FALSE))","v":""},null,{"$f":"IF(OR(E888=\"\",ISBLANK(E888)),\"\",VLOOKUP(E888,Sheet2!A:G,6,FALSE))","v":""},""]
[{"$f":"IF(OR(E889=\"\",ISBLANK(E889)),\"\",VLOOKUP(E889,Sheet2!A:F,2,FALSE))","v":""},{"$f":"IF(OR(E889=\"\",ISBLANK(E889)),\"\",VLOOKUP(E889,Sheet2!A:G,4,FALSE))","v":""},"",{"$f":"IF(OR(E889=\"\",ISBLANK(E889)),\"\",VLOOKUP(E889,Sheet2!A:H,3,FALSE))","v":""},null,{"$f":"IF(OR(E889=\"\",ISBLANK(E889)),\"\",VLOOKUP(E889,Sheet2!A:G,6,FALSE))","v":""},""]
[{"$f":"IF(OR(E890=\"\",ISBLANK(E890)),\"\",VLOOKUP(E890,Sheet2!A:F,2,FALSE))","v":""},{"$f":"IF(OR(E890=\"\",ISBLANK(E890)),\"\",VLOOKUP(E890,Sheet2!A:G,4,FALSE))","v":""},"",{"$f":"IF(OR(E890=\"\",ISBLANK(E890)),\"\",VLOOKUP(E890,Sheet2!A:H,3,FALSE))","v":""},null,{"$f":"IF(OR(E890=\"\",ISBLANK(E890)),\"\",VLOOKUP(E890,Sheet2!A:G,6,FALSE))","v":""},""]
[{"$f":"IF(OR(E891=\"\",ISBLANK(E891)),\"\",VLOOKUP(E891,Sheet2!A:F,2,FALSE))","v":""},{"$f":"IF(OR(E891=\"\",ISBLANK(E891)),\"\",VLOOKUP(E891,Sheet2!A:G,4,FALSE))","v":""},"",{"$f":"IF(OR(E891=\"\",ISBLANK(E891)),\"\",VLOOKUP(E891,Sheet2!A:H,3,FALSE))","v":""},null,{"$f":"IF(OR(E891=\"\",ISBLANK(E891)),\"\",VLOOKUP(E891,Sheet2!A:G,6,FALSE))","v":""},""]
[{"$f":"IF(OR(E892=\"\",ISBLANK(E892)),\"\",VLOOKUP(E892,Sheet2!A:F,2,FALSE))","v":""},{"$f":"IF(OR(E892=\"\",ISBLANK(E892)),\"\",VLOOKUP(E892,Sheet2!A:G,4,FALSE))","v":""},"",{"$f":"IF(OR(E892=\"\",ISBLANK(E892)),\"\",VLOOKUP(E892,Sheet2!A:H,3,FALSE))","v":""},null,{"$f":"IF(OR(E892=\"\",ISBLANK(E892)),\"\",VLOOKUP(E892,Sheet2!A:G,6,FALSE))","v":""},""]
[{"$f":"IF(OR(E893=\"\",ISBLANK(E893)),\"\",VLOOKUP(E893,Sheet2!A:F,2,FALSE))","v":""},{"$f":"IF(OR(E893=\"\",ISBLANK(E893)),\"\",VLOOKUP(E893,Sheet2!A:G,4,FALSE))","v":""},"",{"$f":"IF(OR(E893=\"\",ISBLANK(E893)),\"\",VLOOKUP(E893,Sheet2!A:H,3,FALSE))","v":""},null,{"$f":"IF(OR(E893=\"\",ISBLANK(E893)),\"\",VLOOKUP(E893,Sheet2!A:G,6,FALSE))","v":""},""]
[{"$f":"IF(OR(E894=\"\",ISBLANK(E894)),\"\",VLOOKUP(E894,Sheet2!A:F,2,FALSE))","v":""},{"$f":"IF(OR(E894=\"\",ISBLANK(E894)),\"\",VLOOKUP(E894,Sheet2!A:G,4,FALSE))","v":""},"",{"$f":"IF(OR(E894=\"\",ISBLANK(E894)),\"\",VLOOKUP(E894,Sheet2!A:H,3,FALSE))","v":""},null,{"$f":"IF(OR(E894=\"\",ISBLANK(E894)),\"\",VLOOKUP(E894,Sheet2!A:G,6,FALSE))","v":""},""]
[{"$f":"IF(OR(E895=\"\",ISBLANK(E895)),\"\",VLOOKUP(E895,Sheet2!A:F,2,FALSE))","v":""},{"$f":"IF(OR(E895=\"\",ISBLANK(E895)),\"\",VLOOKUP(E895,Sheet2!A:G,4,FALSE))","v":""},"",{"$f":"IF(OR(E895=\"\",ISBLANK(E895)),\"\",VLOOKUP(E895,Sheet2!A:H,3,FALSE))","v":""},null,{"$f":"IF(OR(E895=\"\",ISBLANK(E895)),\"\",VLOOKUP(E895,Sheet2!A:G,6,FALSE))","v":""},""]
[{"$f":"IF(OR(E896=\"\",ISBLANK(E896)),\"\",VLOOKUP(E896,Sheet2!A:F,2,FALSE))","v":""},{"$f":"IF(OR(E896=\"\",ISBLANK(E896)),\"\",VLOOKUP(E896,Sheet2!A:G,4,FALSE))","v":""},"",{"$f":"IF(OR(E896=\"\",ISBLANK(E896)),\"\",VLOOKUP(E896,Sheet2!A:H,3,FALSE))","v":""},null,{"$f":"IF(OR(E896=\"\",ISBLANK(E896)),\"\",VLOOKUP(E896,Sheet2!A:G,6,FALSE))","v":""},""]
[{"$f":"IF(OR(E897=\"\",ISBLANK(E897)),\"\",VLOOKUP(E897,Sheet2!A:F,2,FALSE))","v":""},{"$f":"IF(OR(E897=\"\",ISBLANK(E897)),\"\",VLOOKUP(E897,Sheet2!A:G,4,FALSE))","v":""},"",{"$f":"IF(OR(E897=\"\",ISBLANK(E897)),\"\",VLOOKUP(E897,Sheet2!A:H,3,FALSE))","v":""},null,{"$f":"IF(OR(E897=\"\",ISBLANK(E897)),\"\",VLOOKUP(E897,Sheet2!A:G,6,FALSE))","v":""},""]
[{"$f":"IF(OR(E898=\"\",ISBLANK(E898)),\"\",VLOOKUP(E898,Sheet2!A:F,2,FALSE))","v":""},{"$f":"IF(OR(E898=\"\",ISBLANK(E898)),\"\",VLOOKUP(E898,Sheet2!A:G,4,FALSE))","v":""},"",{"$f":"IF(OR(E898=\"\",ISBLANK(E898)),\"\",VLOOKUP(E898,Sheet2!A:H,3,FALSE))","v":""},null,{"$f":"IF(OR(E898=\"\",ISBLANK(E898)),\"\",VLOOKUP(E898,Sheet2!A:G,6,FALSE))","v":""},""]
[{"$f":"IF(OR(E899=\"\",ISBLANK(E899)),\"\",VLOOKUP(E899,Sheet2!A:F,2,FALSE))","v":""},{"$f":"IF(OR(E899=\"\",ISBLANK(E899)),\"\",VLOOKUP(E899,Sheet2!A:G,4,FALSE))","v":""},{"$f":"IF(D899=0,\"\",D899)","v":""},{"$f":"IF(OR(E899=\"\",ISBLANK(E899)),\"\",VLOOKUP(E899,Sheet2!A:H,3,FALSE))","v":""},null,{"$f":"IF(OR(E899=\"\",ISBLANK(E899)),\"\",VLOOKUP(E899,Sheet2!A:G,6,FALSE))","v":""},{"$f":"IF(F899=0,\"\",F899)","v":""}]
[{"$f":"IF(OR(E900=\"\",ISBLANK(E900)),\"\",VLOOKUP(E900,Sheet2!A:F,2,FALSE))","v":""},{"$f":"IF(OR(E900=\"\",ISBLANK(E900)),\"\",VLOOKUP(E900,Sheet2!A:G,4,FALSE))","v":""},"",{"$f":"IF(OR(E900=\"\",ISBLANK(E900)),\"\",VLOOKUP(E900,Sheet2!A:H,3,FALSE))","v":""},null,{"$f":"IF(OR(E900=\"\",ISBLANK(E900)),\"\",VLOOKUP(E900,Sheet2!A:G,6,FALSE))","v":""},""]
[{"$f":"IF(OR(E901=\"\",ISBLANK(E901)),\"\",VLOOKUP(E901,Sheet2!A:F,2,FALSE))","v":""},{"$f":"IF(OR(E901=\"\",ISBLANK(E901)),\"\",VLOOKUP(E901,Sheet2!A:G,4,FALSE))","v":""},"",{"$f":"IF(OR(E901=\"\",ISBLANK(E901)),\"\",VLOOKUP(E901,Sheet2!A:H,3,FALSE))","v":""},null,{"$f":"IF(OR(E901=\"\",ISBLANK(E901)),\"\",VLOOKUP(E901,Sheet2!A:G,6,FALSE))","v":""},""]
[{"$f":"IF(OR(E902=\"\",ISBLANK(E902)),\"\",VLOOKUP(E902,Sheet2!A:F,2,FALSE))","v":""},{"$f":"IF(OR(E902=\"\",ISBLANK(E902)),\"\",VLOOKUP(E902,Sheet2!A:G,4,FALSE))","v":""},"",{"$f":"IF(OR(E902=\"\",ISBLANK(E902)),\"\",VLOOKUP(E902,Sheet2!A:H,3,FALSE))","v":""},null,{"$f":"IF(OR(E902=\"\",ISBLANK(E902)),\"\",VLOOKUP(E902,Sheet2!A:G,6,FALSE))","v":""},""]
[{"$f":"IF(OR(E903=\"\",ISBLANK(E903)),\"\",VLOOKUP(E903,Sheet2!A:F,2,FALSE))","v":""},{"$f":"IF(OR(E903=\"\",ISBLANK(E903)),\"\",VLOOKUP(E903,Sheet2!A:G,4,FALSE))","v":""},"",{"$f":"IF(OR(E903=\"\",ISBLANK(E903)),\"\",VLOOKUP(E903,Sheet2!A:H,3,FALSE))","v":""},null,{"$f":"IF(OR(E903=\"\",ISBLANK(E903)),\"\",VLOOKUP(E903,Sheet2!A:G,6,FALSE))","v":""},""]
[{"$f":"IF(OR(E904=\"\",ISBLANK(E904)),\"\",VLOOKUP(E904,Sheet2!A:F,2,FALSE))","v":""},{"$f":"IF(OR(E904=\"\",ISBLANK(E904)),\"\",VLOOKUP(E904,Sheet2!A:G,4,FALSE))","v":""},"",{"$f":"IF(OR(E904=\"\",ISBLANK(E904)),\"\",VLOOKUP(E904,Sheet2!A:H,3,FALSE))","v":""},null,{"$f":"IF(OR(E904=\"\",ISBLANK(E904)),\"\",VLOOKUP(E904,Sheet2!A:G,6,FALSE))","v":""},""]
[{"$f":"IF(OR(E905=\"\",ISBLANK(E905)),\"\",VLOOKUP(E905,Sheet2!A:F,2,FALSE))","v":""},{"$f":"IF(OR(E905=\"\",ISBLANK(E905)),\"\",VLOOKUP(E905,Sheet2!A:G,4,FALSE))","v":""},"",{"$f":"IF(OR(E905=\"\",ISBLANK(E905)),\"\",VLOOKUP(E905,Sheet2!A:H,3,FALSE))","v":""},null,{"$f":"IF(OR(E905=\"\",ISBLANK(E905)),\"\",VLOOKUP(E905,Sheet2!A:G,6,FALSE))","v":""},""]
[{"$f":"IF(OR(E906=\"\",ISBLANK(E906)),\"\",VLOOKUP(E906,Sheet2!A:F,2,FALSE))","v":""},{"$f":"IF(OR(E906=\"\",ISBLANK(E906)),\"\",VLOOKUP(E906,Sheet2!A:G,4,FALSE))","v":""},"",{"$f":"IF(OR(E906=\"\",ISBLANK(E906)),\"\",VLOOKUP(E906,Sheet2!A:H,3,FALSE))","v":""},null,{"$f":"IF(OR(E906=\"\",ISBLANK(E906)),\"\",VLOOKUP(E906,Sheet2!A:G,6,FALSE))","v":""},""]
[{"$f":"IF(OR(E907=\"\",ISBLANK(E907)),\"\",VLOOKUP(E907,Sheet2!A:F,2,FALSE))","v":""},{"$f":"IF(OR(E907=\"\",ISBLANK(E907)),\"\",VLOOKUP(E907,Sheet2!A:G,4,FALSE))","v":""},"",{"$f":"IF(OR(E907=\"\",ISBLANK(E907)),\"\",VLOOKUP(E907,Sheet2!A:H,3,FALSE))","v":""},null,{"$f":"IF(OR(E907=\"\",ISBLANK(E907)),\"\",VLOOKUP(E907,Sheet2!A:G,6,FALSE))","v":""},""]
[{"$f":"IF(OR(E908=\"\",ISBLANK(E908)),\"\",VLOOKUP(E908,Sheet2!A:F,2,FALSE))","v":""},{"$f":"IF(OR(E908=\"\",ISBLANK(E908)),\"\",VLOOKUP(E908,Sheet2!A:G,4,FALSE))","v":""},"",{"$f":"IF(OR(E908=\"\",ISBLANK(E908)),\"\",VLOOKUP(E908,Sheet2!A:H,3,FALSE))","v":""},null,{"$f":"IF(OR(E908=\"\",ISBLANK(E908)),\"\",VLOOKUP(E908,Sheet2!A:G,6,FALSE))","v":""},""]
[{"$f":"IF(OR(E909=\"\",ISBLANK(E909)),\"\",VLOOKUP(E909,Sheet2!A:F,2,FALSE))","v":""},{"$f":"IF(OR(E909=\"\",ISBLANK(E909)),\"\",VLOOKUP(E909,Sheet2!A:G,4,FALSE))","v":""},"",{"$f":"IF(OR(E909=\"\",ISBLANK(E909)),\"\",VLOOKUP(E909,Sheet2!A:H,3,FALSE))","v":""},null,{"$f":"IF(OR(E909=\"\",ISBLANK(E909)),\"\",VLOOKUP(E909,Sheet2!A:G,6,FALSE))","v":""},""]
[{"$f":"IF(OR(E910=\"\",ISBLANK(E910)),\"\",VLOOKUP(E910,Sheet2!A:F,2,FALSE))","v":""},{"$f":"IF(OR(E910=\"\",ISBLANK(E910)),\"\",VLOOKUP(E910,Sheet2!A:G,4,FALSE))","v":""},"",{"$f":"IF(OR(E910=\"\",ISBLANK(E910)),\"\",VLOOKUP(E910,Sheet2!A:H,3,FALSE))","v":""},null,{"$f":"IF(OR(E910=\"\",ISBLANK(E910)),\"\",VLOOKUP(E910,Sheet2!A:G,6,FALSE))","v":""},""]
[{"$f":"IF(OR(E911=\"\",ISBLANK(E911)),\"\",VLOOKUP(E911,Sheet2!A:F,2,FALSE))","v":""},{"$f":"IF(OR(E911=\"\",ISBLANK(E911)),\"\",VLOOKUP(E911,Sheet2!A:G,4,FALSE))","v":""},"",{"$f":"IF(OR(E911=\"\",ISBLANK(E911)),\"\",VLOOKUP(E911,Sheet2!A:H,3,FALSE))","v":""},null,{"$f":"IF(OR(E911=\"\",ISBLANK(E911)),\"\",VLOOKUP(E911,Sheet2!A:G,6,FALSE))","v":""},""]
[{"$f":"IF(OR(E912=\"\",ISBLANK(E912)),\"\",VLOOKUP(E912,Sheet2!A:F,2,FALSE))","v":""},{"$f":"IF(OR(E912=\"\",ISBLANK(E912)),\"\",VLOOKUP(E912,Sheet2!A:G,4,FALSE))","v":""},"",{"$f":"IF(OR(E912=\"\",ISBLANK(E912)),\"\",VLOOKUP(E912,Sheet2!A:H,3,FALSE))","v":""},null,{"$f":"IF(OR(E912=\"\",ISBLANK(E912)),\"\",VLOOKUP(E912,Sheet2!A:G,6,FALSE))","v":""},""]
[{"$f":"IF(OR(E913=\"\",ISBLANK(E913)),\"\",VLOOKUP(E913,Sheet2!A:F,2,FALSE))","v":""},{"$f":"IF(OR(E913=\"\",ISBLANK(E913)),\"\",VLOOKUP(E913,Sheet2!A:G,4,FALSE))","v":""},"",{"$f":"IF(OR(E913=\"\",ISBLANK(E913)),\"\",VLOOKUP(E913,Sheet2!A:H,3,FALSE))","v":""},null,{"$f":"IF(OR(E913=\"\",ISBLANK(E913)),\"\",VLOOKUP(E913,Sheet2!A:G,6,FALSE))","v":""},""]
[{"$f":"IF(OR(E914=\"\",ISBLANK(E914)),\"\",VLOOKUP(E914,Sheet2!A:F,2,FALSE))","v":""},{"$f":"IF(OR(E914=\"\",ISBLANK(E914)),\"\",VLOOKUP(E914,Sheet2!A:G,4,FALSE))","v":""},"",{"$f":"IF(OR(E914=\"\",ISBLANK(E914)),\"\",VLOOKUP(E914,Sheet2!A:H,3,FALSE))","v":""},null,{"$f":"IF(OR(E914=\"\",ISBLANK(E914)),\"\",VLOOKUP(E914,Sheet2!A:G,6,FALSE))","v":""},""]
[{"$f":"IF(OR(E915=\"\",ISBLANK(E915)),\"\",VLOOKUP(E915,Sheet2!A:F,2,FALSE))","v":""},{"$f":"IF(OR(E915=\"\",ISBLANK(E915)),\"\",VLOOKUP(E915,Sheet2!A:G,4,FALSE))","v":""},"",{"$f":"IF(OR(E915=\"\",ISBLANK(E915)),\"\",VLOOKUP(E915,Sheet2!A:H,3,FALSE))","v":""},null,{"$f":"IF(OR(E915=\"\",ISBLANK(E915)),\"\",VLOOKUP(E915,Sheet2!A:G,6,FALSE))","v":""},""]
[{"$f":"IF(OR(E916=\"\",ISBLANK(E916)),\"\",VLOOKUP(E916,Sheet2!A:F,2,FALSE))","v":""},{"$f":"IF(OR(E916=\"\",ISBLANK(E916)),\"\",VLOOKUP(E916,Sheet2!A:G,4,FALSE))","v":""},"",{"$f":"IF(OR(E916=\"\",ISBLANK(E916)),\"\",VLOOKUP(E916,Sheet2!A:H,3,FALSE))","v":""},null,{"$f":"IF(OR(E916=\"\",ISBLANK(E916)),\"\",VLOOKUP(E916,Sheet2!A:G,6,FALSE))","v":""},""]
[{"$f":"IF(OR(E917=\"\",ISBLANK(E917)),\"\",VLOOKUP(E917,Sheet2!A:F,2,FALSE))","v":""},{"$f":"IF(OR(E917=\"\",ISBLANK(E917)),\"\",VLOOKUP(E917,Sheet2!A:G,4,FALSE))","v":""},"",{"$f":"IF(OR(E917=\"\",ISBLANK(E917)),\"\",VLOOKUP(E917,Sheet2!A:H,3,FALSE))","v":""},null,{"$f":"IF(OR(E917=\"\",ISBLANK(E917)),\"\",VLOOKUP(E917,Sheet2!A:G,6,FALSE))","v":""},""]
[{"$f":"IF(OR(E918=\"\",ISBLANK(E918)),\"\",VLOOKUP(E918,Sheet2!A:F,2,FALSE))","v":""},{"$f":"IF(OR(E918=\"\",ISBLANK(E918)),\"\",VLOOKUP(E918,Sheet2!A:G,4,FALSE))","v":""},"",{"$f":"IF(OR(E918=\"\",ISBLANK(E918)),\"\",VLOOKUP(E918,Sheet2!A:H,3,FALSE))","v":""},null,{"$f":"IF(OR(E918=\"\",ISBLANK(E918)),\"\",VLOOKUP(E918,Sheet2!A:G,6,FALSE))","v":""},""]
[{"$f":"IF(OR(E919=\"\",ISBLANK(E919)),\"\",VLOOKUP(E919,Sheet2!A:F,2,FALSE))","v":""},{"$f":"IF(OR(E919=\"\",ISBLANK(E919)),\"\",VLOOKUP(E919,Sheet2!A:G,4,FALSE))","v":""},"",{"$f":"IF(OR(E919=\"\",ISBLANK(E919)),\"\",VLOOKUP(E919,Sheet2!A:H,3,FALSE))","v":""},null,{"$f":"IF(OR(E919=\"\",ISBLANK(E919)),\"\",VLOOKUP(E919,Sheet2!A:G,6,FALSE))","v":""},""]
[{"$f":"IF(OR(E920=\"\",ISBLANK(E920)),\"\",VLOOKUP(E920,Sheet2!A:F,2,FALSE))","v":""},{"$f":"IF(OR(E920=\"\",ISBLANK(E920)),\"\",VLOOKUP(E920,Sheet2!A:G,4,FALSE))","v":""},"",{"$f":"IF(OR(E920=\"\",ISBLANK(E920)),\"\",VLOOKUP(E920,Sheet2!A:H,3,FALSE))","v":""},null,{"$f":"IF(OR(E920=\"\",ISBLANK(E920)),\"\",VLOOKUP(E920,Sheet2!A:G,6,FALSE))","v":""},""]
[{"$f":"IF(OR(E921=\"\",ISBLANK(E921)),\"\",VLOOKUP(E921,Sheet2!A:F,2,FALSE))","v":""},{"$f":"IF(OR(E921=\"\",ISBLANK(E921)),\"\",VLOOKUP(E921,Sheet2!A:G,4,FALSE))","v":""},"",{"$f":"IF(OR(E921=\"\",ISBLANK(E921)),\"\",VLOOKUP(E921,Sheet2!A:H,3,FALSE))","v":""},null,{"$f":"IF(OR(E921=\"\",ISBLANK(E921)),\"\",VLOOKUP(E921,Sheet2!A:G,6,FALSE))","v":""},""]
[{"$f":"IF(OR(E922=\"\",ISBLANK(E922)),\"\",VLOOKUP(E922,Sheet2!A:F,2,FALSE))","v":""},{"$f":"IF(OR(E922=\"\",ISBLANK(E922)),\"\",VLOOKUP(E922,Sheet2!A:G,4,FALSE))","v":""},"",{"$f":"IF(OR(E922=\"\",ISBLANK(E922)),\"\",VLOOKUP(E922,Sheet2!A:H,3,FALSE))","v":""},null,{"$f":"IF(OR(E922=\"\",ISBLANK(E922)),\"\",VLOOKUP(E922,Sheet2!A:G,6,FALSE))","v":""},""]
[{"$f":"IF(OR(E923=\"\",ISBLANK(E923)),\"\",VLOOKUP(E923,Sheet2!A:F,2,FALSE))","v":""},{"$f":"IF(OR(E923=\"\",ISBLANK(E923)),\"\",VLOOKUP(E923,Sheet2!A:G,4,FALSE))","v":""},"",{"$f":"IF(OR(E923=\"\",ISBLANK(E923)),\"\",VLOOKUP(E923,Sheet2!A:H,3,FALSE))","v":""},null,{"$f":"IF(OR(E923=\"\",ISBLANK(E923)),\"\",VLOOKUP(E923,Sheet2!A:G,6,FALSE))","v":""},""]
[{"$f":"IF(OR(E924=\"\",ISBLANK(E924)),\"\",VLOOKUP(E924,Sheet2!A:F,2,FALSE))","v":""},{"$f":"IF(OR(E924=\"\",ISBLANK(E924)),\"\",VLOOKUP(E924,Sheet2!A:G,4,FALSE))","v":""},"",{"$f":"IF(OR(E924=\"\",ISBLANK(E924)),\"\",VLOOKUP(E924,Sheet2!A:H,3,FALSE))","v":""},null,{"$f":"IF(OR(E924=\"\",ISBLANK(E924)),\"\",VLOOKUP(E924,Sheet2!A:G,6,FALSE))","v":""},""]
[{"$f":"IF(OR(E925=\"\",ISBLANK(E925)),\"\",VLOOKUP(E925,Sheet2!A:F,2,FALSE))","v":""},{"$f":"IF(OR(E925=\"\",ISBLANK(E925)),\"\",VLOOKUP(E925,Sheet2!A:G,4,FALSE))","v":""},"",{"$f":"IF(OR(E925=\"\",ISBLANK(E925)),\"\",VLOOKUP(E925,Sheet2!A:H,3,FALSE))","v":""},null,{"$f":"IF(OR(E925=\"\",ISBLANK(E925)),\"\",VLOOKUP(E925,Sheet2!A:G,6,FALSE))","v":""},""]
[{"$f":"IF(OR(E926=\"\",ISBLANK(E926)),\"\",VLOOKUP(E926,Sheet2!A:F,2,FALSE))","v":""},{"$f":"IF(OR(E926=\"\",ISBLANK(E926)),\"\",VLOOKUP(E926,Sheet2!A:G,4,FALSE))","v":""},"",{"$f":"IF(OR(E926=\"\",ISBLANK(E926)),\"\",VLOOKUP(E926,Sheet2!A:H,3,FALSE))","v":""},null,{"$f":"IF(OR(E926=\"\",ISBLANK(E926)),\"\",VLOOKUP(E926,Sheet2!A:G,6,FALSE))","v":""},""]
[{"$f":"IF(OR(E927=\"\",ISBLANK(E927)),\"\",VLOOKUP(E927,Sheet2!A:F,2,FALSE))","v":""},{"$f":"IF(OR(E927=\"\",ISBLANK(E927)),\"\",VLOOKUP(E927,Sheet2!A:G,4,FALSE))","v":""},"",{"$f":"IF(OR(E927=\"\",ISBLANK(E927)),\"\",VLOOKUP(E927,Sheet2!A:H,3,FALSE))","v":""},null,{"$f":"IF(OR(E927=\"\",ISBLANK(E927)),\"\",VLOOKUP(E927,Sheet2!A:G,6,FALSE))","v":""},""]
[{"$f":"IF(OR(E928=\"\",ISBLANK(E928)),\"\",VLOOKUP(E928,Sheet2!A:F,2,FALSE))","v":""},{"$f":"IF(OR(E928=\"\",ISBLANK(E928)),\"\",VLOOKUP(E928,Sheet2!A:G,4,FALSE))","v":""},"",{"$f":"IF(OR(E928=\"\",ISBLANK(E928)),\"\",VLOOKUP(E928,Sheet2!A:H,3,FALSE))","v":""},null,{"$f":"IF(OR(E928=\"\",ISBLANK(E928)),\"\",VLOOKUP(E928,Sheet2!A:G,6,FALSE))","v":""},""]
[{"$f":"IF(OR(E929=\"\",ISBLANK(E929)),\"\",VLOOKUP(E929,Sheet2!A:F,2,FALSE))","v":""},{"$f":"IF(OR(E929=\"\",ISBLANK(E929)),\"\",VLOOKUP(E929,Sheet2!A:G,4,FALSE))","v":""},"",{"$f":"IF(OR(E929=\"\",ISBLANK(E929)),\"\",VLOOKUP(E929,Sheet2!A:H,3,FALSE))","v":""},null,{"$f":"IF(OR(E929=\"\",ISBLANK(E929)),\"\",VLOOKUP(E929,Sheet2!A:G,6,FALSE))","v":""},""]
[{"$f":"IF(OR(E930=\"\",ISBLANK(E930)),\"\",VLOOKUP(E930,Sheet2!A:F,2,FALSE))","v":""},{"$f":"IF(OR(E930=\"\",ISBLANK(E930)),\"\",VLOOKUP(E930,Sheet2!A:G,4,FALSE))","v":""},"",{"$f":"IF(OR(E930=\"\",ISBLANK(E930)),\"\",VLOOKUP(E930,Sheet2!A:H,3,FALSE))","v":""},null,{"$f":"IF(OR(E930=\"\",ISBLANK(E930)),\"\",VLOOKUP(E930,Sheet2!A:G,6,FALSE))","v":""},""]
[{"$f":"IF(OR(E931=\"\",ISBLANK(E931)),\"\",VLOOKUP(E931,Sheet2!A:F,2,FALSE))","v":""},{"$f":"IF(OR(E931=\"\",ISBLANK(E931)),\"\",VLOOKUP(E931,Sheet2!A:G,4,FALSE))","v":""},"",{"$f":"IF(OR(E931=\"\",ISBLANK(E931)),\"\",VLOOKUP(E931,Sheet2!A:H,3,FALSE))","v":""},null,{"$f":"IF(OR(E931=\"\",ISBLANK(E931)),\"\",VLOOKUP(E931,Sheet2!A:G,6,FALSE))","v":""},""]
[{"$f":"IF(OR(E932=\"\",ISBLANK(E932)),\"\",VLOOKUP(E932,Sheet2!A:F,2,FALSE))","v":""},{"$f":"IF(OR(E932=\"\",ISBLANK(E932)),\"\",VLOOKUP(E932,Sheet2!A:G,4,FALSE))","v":""},"",{"$f":"IF(OR(E932=\"\",ISBLANK(E932)),\"\",VLOOKUP(E932,Sheet2!A:H,3,FALSE))","v":""},null,{"$f":"IF(OR(E932=\"\",ISBLANK(E932)),\"\",VLOOKUP(E932,Sheet2!A:G,6,FALSE))","v":""},""]
[{"$f":"IF(OR(E933=\"\",ISBLANK(E933)),\"\",VLOOKUP(E933,Sheet2!A:F,2,FALSE))","v":""},{"$f":"IF(OR(E933=\"\",ISBLANK(E933)),\"\",VLOOKUP(E933,Sheet2!A:G,4,FALSE))","v":""},"",{"$f":"IF(OR(E933=\"\",ISBLANK(E933)),\"\",VLOOKUP(E933,Sheet2!A:H,3,FALSE))","v":""},null,{"$f":"IF(OR(E933=\"\",ISBLANK(E933)),\"\",VLOOKUP(E933,Sheet2!A:G,6,FALSE))","v":""},""]
[{"$f":"IF(OR(E934=\"\",ISBLANK(E934)),\"\",VLOOKUP(E934,Sheet2!A:F,2,FALSE))","v":""},{"$f":"IF(OR(E934=\"\",ISBLANK(E934)),\"\",VLOOKUP(E934,Sheet2!A:G,4,FALSE))","v":""},"",{"$f":"IF(OR(E934=\"\",ISBLANK(E934)),\"\",VLOOKUP(E934,Sheet2!A:H,3,FALSE))","v":""},null,{"$f":"IF(OR(E934=\"\",ISBLANK(E934)),\"\",VLOOKUP(E934,Sheet2!A:G,6,FALSE))","v":""},""]
[{"$f":"IF(OR(E935=\"\",ISBLANK(E935)),\"\",VLOOKUP(E935,Sheet2!A:F,2,FALSE))","v":""},{"$f":"IF(OR(E935=\"\",ISBLANK(E935)),\"\",VLOOKUP(E935,Sheet2!A:G,4,FALSE))","v":""},"",{"$f":"IF(OR(E935=\"\",ISBLANK(E935)),\"\",VLOOKUP(E935,Sheet2!A:H,3,FALSE))","v":""},null,{"$f":"IF(OR(E935=\"\",ISBLANK(E935)),\"\",VLOOKUP(E935,Sheet2!A:G,6,FALSE))","v":""},""]
[{"$f":"IF(OR(E936=\"\",ISBLANK(E936)),\"\",VLOOKUP(E936,Sheet2!A:F,2,FALSE))","v":""},{"$f":"IF(OR(E936=\"\",ISBLANK(E936)),\"\",VLOOKUP(E936,Sheet2!A:G,4,FALSE))","v":""},"",{"$f":"IF(OR(E936=\"\",ISBLANK(E936)),\"\",VLOOKUP(E936,Sheet2!A:H,3,FALSE))","v":""},null,{"$f":"IF(OR(E936=\"\",ISBLANK(E936)),\"\",VLOOKUP(E936,Sheet2!A:G,6,FALSE))","v":""},""]
[{"$f":"IF(OR(E937=\"\",ISBLANK(E937)),\"\",VLOOKUP(E937,Sheet2!A:F,2,FALSE))","v":""},{"$f":"IF(OR(E937=\"\",ISBLANK(E937)),\"\",VLOOKUP(E937,Sheet2!A:G,4,FALSE))","v":""},"",{"$f":"IF(OR(E937=\"\",ISBLANK(E937)),\"\",VLOOKUP(E937,Sheet2!A:H,3,FALSE))","v":""},null,{"$f":"IF(OR(E937=\"\",ISBLANK(E937)),\"\",VLOOKUP(E937,Sheet2!A:G,6,FALSE))","v":""},""]
[{"$f":"IF(OR(E938=\"\",ISBLANK(E938)),\"\",VLOOKUP(E938,Sheet2!A:F,2,FALSE))","v":""},{"$f":"IF(OR(E938=\"\",ISBLANK(E938)),\"\",VLOOKUP(E938,Sheet2!A:G,4,FALSE))","v":""},"",{"$f":"IF(OR(E938=\"\",ISBLANK(E938)),\"\",VLOOKUP(E938,Sheet2!A:H,3,FALSE))","v":""},null,{"$f":"IF(OR(E938=\"\",ISBLANK(E938)),\"\",VLOOKUP(E938,Sheet2!A:G,6,FALSE))","v":""},""]
[{"$f":"IF(OR(E939=\"\",ISBLANK(E939)),\"\",VLOOKUP(E939,Sheet2!A:F,2,FALSE))","v":""},{"$f":"IF(OR(E939=\"\",ISBLANK(E939)),\"\",VLOOKUP(E939,Sheet2!A:G,4,FALSE))","v":""},"",{"$f":"IF(OR(E939=\"\",ISBLANK(E939)),\"\",VLOOKUP(E939,Sheet2!A:H,3,FALSE))","v":""},null,{"$f":"IF(OR(E939=\"\",ISBLANK(E939)),\"\",VLOOKUP(E939,Sheet2!A:G,6,FALSE))","v":""},""]
[{"$f":"IF(OR(E940=\"\",ISBLANK(E940)),\"\",VLOOKUP(E940,Sheet2!A:F,2,FALSE))","v":""},{"$f":"IF(OR(E940=\"\",ISBLANK(E940)),\"\",VLOOKUP(E940,Sheet2!A:G,4,FALSE))","v":""},"",{"$f":"IF(OR(E940=\"\",ISBLANK(E940)),\"\",VLOOKUP(E940,Sheet2!A:H,3,FALSE))","v":""},null,{"$f":"IF(OR(E940=\"\",ISBLANK(E940)),\"\",VLOOKUP(E940,Sheet2!A:G,6,FALSE))","v":""},""]
[{"$f":"IF(OR(E941=\"\",ISBLANK(E941)),\"\",VLOOKUP(E941,Sheet2!A:F,2,FALSE))","v":""},{"$f":"IF(OR(E941=\"\",ISBLANK(E941)),\"\",VLOOKUP(E941,Sheet2!A:G,4,FALSE))","v":""},"",{"$f":"IF(OR(E941=\"\",ISBLANK(E941)),\"\",VLOOKUP(E941,Sheet2!A:H,3,FALSE))","v":""},null,{"$f":"IF(OR(E941=\"\",ISBLANK(E941)),\"\",VLOOKUP(E941,Sheet2!A:G,6,FALSE))","v":""},""]
[{"$f":"IF(OR(E942=\"\",ISBLANK(E942)),\"\",VLOOKUP(E942,Sheet2!A:F,2,FALSE))","v":""},{"$f":"IF(OR(E942=\"\",ISBLANK(E942)),\"\",VLOOKUP(E942,Sheet2!A:G,4,FALSE))","v":""},"",{"$f":"IF(OR(E942=\"\",ISBLANK(E942)),\"\",VLOOKUP(E942,Sheet2!A:H,3,FALSE))","v":""},null,{"$f":"IF(OR(E942=\"\",ISBLANK(E942)),\"\",VLOOKUP(E942,Sheet2!A:G,6,FALSE))","v":""},""]
[{"$f":"IF(OR(E943=\"\",ISBLANK(E943)),\"\",VLOOKUP(E943,Sheet2!A:F,2,FALSE))","v":""},{"$f":"IF(OR(E943=\"\",ISBLANK(E943)),\"\",VLOOKUP(E943,Sheet2!A:G,4,FALSE))","v":""},"",{"$f":"IF(OR(E943=\"\",ISBLANK(E943)),\"\",VLOOKUP(E943,Sheet2!A:H,3,FALSE))","v":""},null,{"$f":"IF(OR(E943=\"\",ISBLANK(E943)),\"\",VLOOKUP(E943,Sheet2!A:G,6,FALSE))","v":""},""]
[{"$f":"IF(OR(E944=\"\",ISBLANK(E944)),\"\",VLOOKUP(E944,Sheet2!A:F,2,FALSE))","v":""},{"$f":"IF(OR(E944=\"\",ISBLANK(E944)),\"\",VLOOKUP(E944,Sheet2!A:G,4,FALSE))","v":""},"",{"$f":"IF(OR(E944=\"\",ISBLANK(E944)),\"\",VLOOKUP(E944,Sheet2!A:H,3,FALSE))","v":""},null,{"$f":"IF(OR(E944=\"\",ISBLANK(E944)),\"\",VLOOKUP(E944,Sheet2!A:G,6,FALSE))","v":""},""]
[{"$f":"IF(OR(E945=\"\",ISBLANK(E945)),\"\",VLOOKUP(E945,Sheet2!A:F,2,FALSE))","v":""},{"$f":"IF(OR(E945=\"\",ISBLANK(E945)),\"\",VLOOKUP(E945,Sheet2!A:G,4,FALSE))","v":""},"",{"$f":"IF(OR(E945=\"\",ISBLANK(E945)),\"\",VLOOKUP(E945,Sheet2!A:H,3,FALSE))","v":""},null,{"$f":"IF(OR(E945=\"\",ISBLANK(E945)),\"\",VLOOKUP(E945,Sheet2!A:G,6,FALSE))","v":""},""]
[{"$f":"IF(OR(E946=\"\",ISBLANK(E946)),\"\",VLOOKUP(E946,Sheet2!A:F,2,FALSE))","v":""},{"$f":"IF(OR(E946=\"\",ISBLANK(E946)),\"\",VLOOKUP(E946,Sheet2!A:G,4,FALSE))","v":""},"",{"$f":"IF(OR(E946=\"\",ISBLANK(E946)),\"\",VLOOKUP(E946,Sheet2!A:H,3,FALSE))","v":""},null,{"$f":"IF(OR(E946=\"\",ISBLANK(E946)),\"\",VLOOKUP(E946,Sheet2!A:G,6,FALSE))","v":""},""]
[{"$f":"IF(OR(E947=\"\",ISBLANK(E947)),\"\",VLOOKUP(E947,Sheet2!A:F,2,FALSE))","v":""},{"$f":"IF(OR(E947=\"\",ISBLANK(E947)),\"\",VLOOKUP(E947,Sheet2!A:G,4,FALSE))","v":""},"",{"$f":"IF(OR(E947=\"\",ISBLANK(E947)),\"\",VLOOKUP(E947,Sheet2!A:H,3,FALSE))","v":""},null,{"$f":"IF(OR(E947=\"\",ISBLANK(E947)),\"\",VLOOKUP(E947,Sheet2!A:G,6,FALSE))","v":""},""]
[{"$f":"IF(OR(E948=\"\",ISBLANK(E948)),\"\",VLOOKUP(E948,Sheet2!A:F,2,FALSE))","v":""},{"$f":"IF(OR(E948=\"\",ISBLANK(E948)),\"\",VLOOKUP(E948,Sheet2!A:G,4,FALSE))","v":""},"",{"$f":"IF(OR(E948=\"\",ISBLANK(E948)),\"\",VLOOKUP(E948,Sheet2!A:H,3,FALSE))","v":""},null,{"$f":"IF(OR(E948=\"\",ISBLANK(E948)),\"\",VLOOKUP(E948,Sheet2!A:G,6,FALSE))","v":""},""]
[{"$f":"IF(OR(E949=\"\",ISBLANK(E949)),\"\",VLOOKUP(E949,Sheet2!A:F,2,FALSE))","v":""},{"$f":"IF(OR(E949=\"\",ISBLANK(E949)),\"\",VLOOKUP(E949,Sheet2!A:G,4,FALSE))","v":""},"",{"$f":"IF(OR(E949=\"\",ISBLANK(E949)),\"\",VLOOKUP(E949,Sheet2!A:H,3,FALSE))","v":""},null,{"$f":"IF(OR(E949=\"\",ISBLANK(E949)),\"\",VLOOKUP(E949,Sheet2!A:G,6,FALSE))","v":""},""]
[{"$f":"IF(OR(E950=\"\",ISBLANK(E950)),\"\",VLOOKUP(E950,Sheet2!A:F,2,FALSE))","v":""},{"$f":"IF(OR(E950=\"\",ISBLANK(E950)),\"\",VLOOKUP(E950,Sheet2!A:G,4,FALSE))","v":""},"",{"$f":"IF(OR(E950=\"\",ISBLANK(E950)),\"\",VLOOKUP(E950,Sheet2!A:H,3,FALSE))","v":""},null,{"$f":"IF(OR(E950=\"\",ISBLANK(E950)),\"\",VLOOKUP(E950,Sheet2!A:G,6,FALSE))","v":""},""]
[{"$f":"IF(OR(E951=\"\",ISBLANK(E951)),\"\",VLOOKUP(E951,Sheet2!A:F,2,FALSE))","v":""},{"$f":"IF(OR(E951=\"\",ISBLANK(E951)),\"\",VLOOKUP(E951,Sheet2!A:G,4,FALSE))","v":""},"",{"$f":"IF(OR(E951=\"\",ISBLANK(E951)),\"\",VLOOKUP(E951,Sheet2!A:H,3,FALSE))","v":""},null,{"$f":"IF(OR(E951=\"\",ISBLANK(E951)),\"\",VLOOKUP(E951,Sheet2!A:G,6,FALSE))","v":""},""]
[{"$f":"IF(OR(E952=\"\",ISBLANK(E952)),\"\",VLOOKUP(E952,Sheet2!A:F,2,FALSE))","v":""},{"$f":"IF(OR(E952=\"\",ISBLANK(E952)),\"\",VLOOKUP(E952,Sheet2!A:G,4,FALSE))","v":""},"",{"$f":"IF(OR(E952=\"\",ISBLANK(E952)),\"\",VLOOKUP(E952,Sheet2!A:H,3,FALSE))","v":""},null,{"$f":"IF(OR(E952=\"\",ISBLANK(E952)),\"\",VLOOKUP(E952,Sheet2!A:G,6,FALSE))","v":""},""]
[{"$f":"IF(OR(E953=\"\",ISBLANK(E953)),\"\",VLOOKUP(E953,Sheet2!A:F,2,FALSE))","v":""},{"$f":"IF(OR(E953=\"\",ISBLANK(E953)),\"\",VLOOKUP(E953,Sheet2!A:G,4,FALSE))","v":""},"",{"$f":"IF(OR(E953=\"\",ISBLANK(E953)),\"\",VLOOKUP(E953,Sheet2!A:H,3,FALSE))","v":""},null,{"$f":"IF(OR(E953=\"\",ISBLANK(E953)),\"\",VLOOKUP(E953,Sheet2!A:G,6,FALSE))","v":""},""]
[{"$f":"IF(OR(E954=\"\",ISBLANK(E954)),\"\",VLOOKUP(E954,Sheet2!A:F,2,FALSE))","v":""},{"$f":"IF(OR(E954=\"\",ISBLANK(E954)),\"\",VLOOKUP(E954,Sheet2!A:G,4,FALSE))","v":""},"",{"$f":"IF(OR(E954=\"\",ISBLANK(E954)),\"\",VLOOKUP(E954,Sheet2!A:H,3,FALSE))","v":""},null,{"$f":"IF(OR(E954=\"\",ISBLANK(E954)),\"\",VLOOKUP(E954,Sheet2!A:G,6,FALSE))","v":""},""]
[{"$f":"IF(OR(E955=\"\",ISBLANK(E955)),\"\",VLOOKUP(E955,Sheet2!A:F,2,FALSE))","v":""},{"$f":"IF(OR(E955=\"\",ISBLANK(E955)),\"\",VLOOKUP(E955,Sheet2!A:G,4,FALSE))","v":""},"",{"$f":"IF(OR(E955=\"\",ISBLANK(E955)),\"\",VLOOKUP(E955,Sheet2!A:H,3,FALSE))","v":""},null,{"$f":"IF(OR(E955=\"\",ISBLANK(E955)),\"\",VLOOKUP(E955,Sheet2!A:G,6,FALSE))","v":""},""]
[{"$f":"IF(OR(E956=\"\",ISBLANK(E956)),\"\",VLOOKUP(E956,Sheet2!A:F,2,FALSE))","v":""},{"$f":"IF(OR(E956=\"\",ISBLANK(E956)),\"\",VLOOKUP(E956,Sheet2!A:G,4,FALSE))","v":""},"",{"$f":"IF(OR(E956=\"\",ISBLANK(E956)),\"\",VLOOKUP(E956,Sheet2!A:H,3,FALSE))","v":""},null,{"$f":"IF(OR(E956=\"\",ISBLANK(E956)),\"\",VLOOKUP(E956,Sheet2!A:G,6,FALSE))","v":""},""]
[{"$f":"IF(OR(E957=\"\",ISBLANK(E957)),\"\",VLOOKUP(E957,Sheet2!A:F,2,FALSE))","v":""},{"$f":"IF(OR(E957=\"\",ISBLANK(E957)),\"\",VLOOKUP(E957,Sheet2!A:G,4,FALSE))","v":""},"",{"$f":"IF(OR(E957=\"\",ISBLANK(E957)),\"\",VLOOKUP(E957,Sheet2!A:H,3,FALSE))","v":""},null,{"$f":"IF(OR(E957=\"\",ISBLANK(E957)),\"\",VLOOKUP(E957,Sheet2!A:G,6,FALSE))","v":""},""]
[{"$f":"IF(OR(E958=\"\",ISBLANK(E958)),\"\",VLOOKUP(E958,Sheet2!A:F,2,FALSE))","v":""},{"$f":"IF(OR(E958=\"\",ISBLANK(E958)),\"\",VLOOKUP(E958,Sheet2!A:G,4,FALSE))","v":""},"",{"$f":"IF(OR(E958=\"\",ISBLANK(E958)),\"\",VLOOKUP(E958,Sheet2!A:H,3,FALSE))","v":""},null,{"$f":"IF(OR(E958=\"\",ISBLANK(E958)),\"\",VLOOKUP(E958,Sheet2!A:G,6,FALSE))","v":""},""]
[{"$f":"IF(OR(E959=\"\",ISBLANK(E959)),\"\",VLOOKUP(E959,Sheet2!A:F,2,FALSE))","v":""},{"$f":"IF(OR(E959=\"\",ISBLANK(E959)),\"\",VLOOKUP(E959,Sheet2!A:G,4,FALSE))","v":""},"",{"$f":"IF(OR(E959=\"\",ISBLANK(E959)),\"\",VLOOKUP(E959,Sheet2!A:H,3,FALSE))","v":""},null,{"$f":"IF(OR(E959=\"\",ISBLANK(E959)),\"\",VLOOKUP(E959,Sheet2!A:G,6,FALSE))","v":""},""]
[{"$f":"IF(OR(E960=\"\",ISBLANK(E960)),\"\",VLOOKUP(E960,Sheet2!A:F,2,FALSE))","v":""},{"$f":"IF(OR(E960=\"\",ISBLANK(E960)),\"\",VLOOKUP(E960,Sheet2!A:G,4,FALSE))","v":""},"",{"$f":"IF(OR(E960=\"\",ISBLANK(E960)),\"\",VLOOKUP(E960,Sheet2!A:H,3,FALSE))","v":""},null,{"$f":"IF(OR(E960=\"\",ISBLANK(E960)),\"\",VLOOKUP(E960,Sheet2!A:G,6,FALSE))","v":""},""]
[{"$f":"IF(OR(E961=\"\",ISBLANK(E961)),\"\",VLOOKUP(E961,Sheet2!A:F,2,FALSE))","v":""},{"$f":"IF(OR(E961=\"\",ISBLANK(E961)),\"\",VLOOKUP(E961,Sheet2!A:G,4,FALSE))","v":""},"",{"$f":"IF(OR(E961=\"\",ISBLANK(E961)),\"\",VLOOKUP(E961,Sheet2!A:H,3,FALSE))","v":""},null,{"$f":"IF(OR(E961=\"\",ISBLANK(E961)),\"\",VLOOKUP(E961,Sheet2!A:G,6,FALSE))","v":""},""]
[{"$f":"IF(OR(E962=\"\",ISBLANK(E962)),\"\",VLOOKUP(E962,Sheet2!A:F,2,FALSE))","v":""},{"$f":"IF(OR(E962=\"\",ISBLANK(E962)),\"\",VLOOKUP(E962,Sheet2!A:G,4,FALSE))","v":""},"",{"$f":"IF(OR(E962=\"\",ISBLANK(E962)),\"\",VLOOKUP(E962,Sheet2!A:H,3,FALSE))","v":""},null,{"$f":"IF(OR(E962=\"\",ISBLANK(E962)),\"\",VLOOKUP(E962,Sheet2!A:G,6,FALSE))","v":""},""]
[{"$f":"IF(OR(E963=\"\",ISBLANK(E963)),\"\",VLOOKUP(E963,Sheet2!A:F,2,FALSE))","v":""},{"$f":"IF(OR(E963=\"\",ISBLANK(E963)),\"\",VLOOKUP(E963,Sheet2!A:G,4,FALSE))","v":""},{"$f":"IF(D963=0,\"\",D963)","v":""},{"$f":"IF(OR(E963=\"\",ISBLANK(E963)),\"\",VLOOKUP(E963,Sheet2!A:H,3,FALSE))","v":""},null,{"$f":"IF(OR(E963=\"\",ISBLANK(E963)),\"\",VLOOKUP(E963,Sheet2!A:G,6,FALSE))","v":""},{"$f":"IF(F963=0,\"\",F963)","v":""}]
[{"$f":"IF(OR(E964=\"\",ISBLANK(E964)),\"\",VLOOKUP(E964,Sheet2!A:F,2,FALSE))","v":""},{"$f":"IF(OR(E964=\"\",ISBLANK(E964)),\"\",VLOOKUP(E964,Sheet2!A:G,4,FALSE))","v":""},"",{"$f":"IF(OR(E964=\"\",ISBLANK(E964)),\"\",VLOOKUP(E964,Sheet2!A:H,3,FALSE))","v":""},null,{"$f":"IF(OR(E964=\"\",ISBLANK(E964)),\"\",VLOOKUP(E964,Sheet2!A:G,6,FALSE))","v":""},""]
[{"$f":"IF(OR(E965=\"\",ISBLANK(E965)),\"\",VLOOKUP(E965,Sheet2!A:F,2,FALSE))","v":""},{"$f":"IF(OR(E965=\"\",ISBLANK(E965)),\"\",VLOOKUP(E965,Sheet2!A:G,4,FALSE))","v":""},"",{"$f":"IF(OR(E965=\"\",ISBLANK(E965)),\"\",VLOOKUP(E965,Sheet2!A:H,3,FALSE))","v":""},null,{"$f":"IF(OR(E965=\"\",ISBLANK(E965)),\"\",VLOOKUP(E965,Sheet2!A:G,6,FALSE))","v":""},""]
[{"$f":"IF(OR(E966=\"\",ISBLANK(E966)),\"\",VLOOKUP(E966,Sheet2!A:F,2,FALSE))","v":""},{"$f":"IF(OR(E966=\"\",ISBLANK(E966)),\"\",VLOOKUP(E966,Sheet2!A:G,4,FALSE))","v":""},"",{"$f":"IF(OR(E966=\"\",ISBLANK(E966)),\"\",VLOOKUP(E966,Sheet2!A:H,3,FALSE))","v":""},null,{"$f":"IF(OR(E966=\"\",ISBLANK(E966)),\"\",VLOOKUP(E966,Sheet2!A:G,6,FALSE))","v":""},""]
[{"$f":"IF(OR(E967=\"\",ISBLANK(E967)),\"\",VLOOKUP(E967,Sheet2!A:F,2,FALSE))","v":""},{"$f":"IF(OR(E967=\"\",ISBLANK(E967)),\"\",VLOOKUP(E967,Sheet2!A:G,4,FALSE))","v":""},"",{"$f":"IF(OR(E967=\"\",ISBLANK(E967)),\"\",VLOOKUP(E967,Sheet2!A:H,3,FALSE))","v":""},null,{"$f":"IF(OR(E967=\"\",ISBLANK(E967)),\"\",VLOOKUP(E967,Sheet2!A:G,6,FALSE))","v":""},""]
[{"$f":"IF(OR(E968=\"\",ISBLANK(E968)),\"\",VLOOKUP(E968,Sheet2!A:F,2,FALSE))","v":""},{"$f":"IF(OR(E968=\"\",ISBLANK(E968)),\"\",VLOOKUP(E968,Sheet2!A:G,4,FALSE))","v":""},"",{"$f":"IF(OR(E968=\"\",ISBLANK(E968)),\"\",VLOOKUP(E968,Sheet2!A:H,3,FALSE))","v":""},null,{"$f":"IF(OR(E968=\"\",ISBLANK(E968)),\"\",VLOOKUP(E968,Sheet2!A:G,6,FALSE))","v":""},""]
[{"$f":"IF(OR(E969=\"\",ISBLANK(E969)),\"\",VLOOKUP(E969,Sheet2!A:F,2,FALSE))","v":""},{"$f":"IF(OR(E969=\"\",ISBLANK(E969)),\"\",VLOOKUP(E969,Sheet2!A:G,4,FALSE))","v":""},"",{"$f":"IF(OR(E969=\"\",ISBLANK(E969)),\"\",VLOOKUP(E969,Sheet2!A:H,3,FALSE))","v":""},null,{"$f":"IF(OR(E969=\"\",ISBLANK(E969)),\"\",VLOOKUP(E969,Sheet2!A:G,6,FALSE))","v":""},""]
[{"$f":"IF(OR(E970=\"\",ISBLANK(E970)),\"\",VLOOKUP(E970,Sheet2!A:F,2,FALSE))","v":""},{"$f":"IF(OR(E970=\"\",ISBLANK(E970)),\"\",VLOOKUP(E970,Sheet2!A:G,4,FALSE))","v":""},"",{"$f":"IF(OR(E970=\"\",ISBLANK(E970)),\"\",VLOOKUP(E970,Sheet2!A:H,3,FALSE))","v":""},null,{"$f":"IF(OR(E970=\"\",ISBLANK(E970)),\"\",VLOOKUP(E970,Sheet2!A:G,6,FALSE))","v":""},""]
[{"$f":"IF(OR(E971=\"\",ISBLANK(E971)),\"\",VLOOKUP(E971,Sheet2!A:F,2,FALSE))","v":""},{"$f":"IF(OR(E971=\"\",ISBLANK(E971)),\"\",VLOOKUP(E971,Sheet2!A:G,4,FALSE))","v":""},"",{"$f":"IF(OR(E971=\"\",ISBLANK(E971)),\"\",VLOOKUP(E971,Sheet2!A:H,3,FALSE))","v":""},null,{"$f":"IF(OR(E971=\"\",ISBLANK(E971)),\"\",VLOOKUP(E971,Sheet2!A:G,6,FALSE))","v":""},""]
[{"$f":"IF(OR(E972=\"\",ISBLANK(E972)),\"\",VLOOKUP(E972,Sheet2!A:F,2,FALSE))","v":""},{"$f":"IF(OR(E972=\"\",ISBLANK(E972)),\"\",VLOOKUP(E972,Sheet2!A:G,4,FALSE))","v":""},"",{"$f":"IF(OR(E972=\"\",ISBLANK(E972)),\"\",VLOOKUP(E972,Sheet2!A:H,3,FALSE))","v":""},null,{"$f":"IF(OR(E972=\"\",ISBLANK(E972)),\"\",VLOOKUP(E972,Sheet2!A:G,6,FALSE))","v":""},""]
[{"$f":"IF(OR(E973=\"\",ISBLANK(E973)),\"\",VLOOKUP(E973,Sheet2!A:F,2,FALSE))","v":""},{"$f":"IF(OR(E973=\"\",ISBLANK(E973)),\"\",VLOOKUP(E973,Sheet2!A:G,4,FALSE))","v":""},"",{"$f":"IF(OR(E973=\"\",ISBLANK(E973)),\"\",VLOOKUP(E973,Sheet2!A:H,3,FALSE))","v":""},null,{"$f":"IF(OR(E973=\"\",ISBLANK(E973)),\"\",VLOOKUP(E973,Sheet2!A:G,6,FALSE))","v":""},""]
[{"$f":"IF(OR(E974=\"\",ISBLANK(E974)),\"\",VLOOKUP(E974,Sheet2!A:F,2,FALSE))","v":""},{"$f":"IF(OR(E974=\"\",ISBLANK(E974)),\"\",VLOOKUP(E974,Sheet2!A:G,4,FALSE))","v":""},"",{"$f":"IF(OR(E974=\"\",ISBLANK(E974)),\"\",VLOOKUP(E974,Sheet2!A:H,3,FALSE))","v":""},null,{"$f":"IF(OR(E974=\"\",ISBLANK(E974)),\"\",VLOOKUP(E974,Sheet2!A:G,6,FALSE))","v":""},""]
[{"$f":"IF(OR(E975=\"\",ISBLANK(E975)),\"\",VLOOKUP(E975,Sheet2!A:F,2,FALSE))","v":""},{"$f":"IF(OR(E975=\"\",ISBLANK(E975)),\"\",VLOOKUP(E975,Sheet2!A:G,4,FALSE))","v":""},"",{"$f":"IF(OR(E975=\"\",ISBLANK(E975)),\"\",VLOOKUP(E975,Sheet2!A:H,3,FALSE))","v":""},null,{"$f":"IF(OR(E975=\"\",ISBLANK(E975)),\"\",VLOOKUP(E975,Sheet2!A:G,6,FALSE))","v":""},""]
[{"$f":"IF(OR(E976=\"\",ISBLANK(E976)),\"\",VLOOKUP(E976,Sheet2!A:F,2,FALSE))","v":""},{"$f":"IF(OR(E976=\"\",ISBLANK(E976)),\"\",VLOOKUP(E976,Sheet2!A:G,4,FALSE))","v":""},"",{"$f":"IF(OR(E976=\"\",ISBLANK(E976)),\"\",VLOOKUP(E976,Sheet2!A:H,3,FALSE))","v":""},null,{"$f":"IF(OR(E976=\"\",ISBLANK(E976)),\"\",VLOOKUP(E976,Sheet2!A:G,6,FALSE))","v":""},""]
[{"$f":"IF(OR(E977=\"\",ISBLANK(E977)),\"\",VLOOKUP(E977,Sheet2!A:F,2,FALSE))","v":""},{"$f":"IF(OR(E977=\"\",ISBLANK(E977)),\"\",VLOOKUP(E977,Sheet2!A:G,4,FALSE))","v":""},"",{"$f":"IF(OR(E977=\"\",ISBLANK(E977)),\"\",VLOOKUP(E977,Sheet2!A:H,3,FALSE))","v":""},null,{"$f":"IF(OR(E977=\"\",ISBLANK(E977)),\"\",VLOOKUP(E977,Sheet2!A:G,6,FALSE))","v":""},""]
[{"$f":"IF(OR(E978=\"\",ISBLANK(E978)),\"\",VLOOKUP(E978,Sheet2!A:F,2,FALSE))","v":""},{"$f":"IF(OR(E978=\"\",ISBLANK(E978)),\"\",VLOOKUP(E978,Sheet2!A:G,4,FALSE))","v":""},"",{"$f":"IF(OR(E978=\"\",ISBLANK(E978)),\"\",VLOOKUP(E978,Sheet2!A:H,3,FALSE))","v":""},null,{"$f":"IF(OR(E978=\"\",ISBLANK(E978)),\"\",VLOOKUP(E978,Sheet2!A:G,6,FALSE))","v":""},""]
[{"$f":"IF(OR(E979=\"\",ISBLANK(E979)),\"\",VLOOKUP(E979,Sheet2!A:F,2,FALSE))","v":""},{"$f":"IF(OR(E979=\"\",ISBLANK(E979)),\"\",VLOOKUP(E979,Sheet2!A:G,4,FALSE))","v":""},"",{"$f":"IF(OR(E979=\"\",ISBLANK(E979)),\"\",VLOOKUP(E979,Sheet2!A:H,3,FALSE))","v":""},null,{"$f":"IF(OR(E979=\"\",ISBLANK(E979)),\"\",VLOOKUP(E979,Sheet2!A:G,6,FALSE))","v":""},""]
[{"$f":"IF(OR(E980=\"\",ISBLANK(E980)),\"\",VLOOKUP(E980,Sheet2!A:F,2,FALSE))","v":""},{"$f":"IF(OR(E980=\"\",ISBLANK(E980)),\"\",VLOOKUP(E980,Sheet2!A:G,4,FALSE))","v":""},"",{"$f":"IF(OR(E980=\"\",ISBLANK(E980)),\"\",VLOOKUP(E980,Sheet2!A:H,3,FALSE))","v":""},null,{"$f":"IF(OR(E980=\"\",ISBLANK(E980)),\"\",VLOOKUP(E980,Sheet2!A:G,6,FALSE))","v":""},""]
[{"$f":"IF(OR(E981=\"\",ISBLANK(E981)),\"\",VLOOKUP(E981,Sheet2!A:F,2,FALSE))","v":""},{"$f":"IF(OR(E981=\"\",ISBLANK(E981)),\"\",VLOOKUP(E981,Sheet2!A:G,4,FALSE))","v":""},"",{"$f":"IF(OR(E981=\"\",ISBLANK(E981)),\"\",VLOOKUP(E981,Sheet2!A:H,3,FALSE))","v":""},null,{"$f":"IF(OR(E981=\"\",ISBLANK(E981)),\"\",VLOOKUP(E981,Sheet2!A:G,6,FALSE))","v":""},""]
[{"$f":"IF(OR(E982=\"\",ISBLANK(E982)),\"\",VLOOKUP(E982,Sheet2!A:F,2,FALSE))","v":""},{"$f":"IF(OR(E982=\"\",ISBLANK(E982)),\"\",VLOOKUP(E982,Sheet2!A:G,4,FALSE))","v":""},"",{"$f":"IF(OR(E982=\"\",ISBLANK(E982)),\"\",VLOOKUP(E982,Sheet2!A:H,3,FALSE))","v":""},null,{"$f":"IF(OR(E982=\"\",ISBLANK(E982)),\"\",VLOOKUP(E982,Sheet2!A:G,6,FALSE))","v":""},""]
[{"$f":"IF(OR(E983=\"\",ISBLANK(E983)),\"\",VLOOKUP(E983,Sheet2!A:F,2,FALSE))","v":""},{"$f":"IF(OR(E983=\"\",ISBLANK(E983)),\"\",VLOOKUP(E983,Sheet2!A:G,4,FALSE))","v":""},"",{"$f":"IF(OR(E983=\"\",ISBLANK(E983)),\"\",VLOOKUP(E983,Sheet2!A:H,3,FALSE))","v":""},null,{"$f":"IF(OR(E983=\"\",ISBLANK(E983)),\"\",VLOOKUP(E983,Sheet2!A:G,6,FALSE))","v":""},""]
[{"$f":"IF(OR(E984=\"\",ISBLANK(E984)),\"\",VLOOKUP(E984,Sheet2!A:F,2,FALSE))","v":""},{"$f":"IF(OR(E984=\"\",ISBLANK(E984)),\"\",VLOOKUP(E984,Sheet2!A:G,4,FALSE))","v":""},"",{"$f":"IF(OR(E984=\"\",ISBLANK(E984)),\"\",VLOOKUP(E984,Sheet2!A:H,3,FALSE))","v":""},null,{"$f":"IF(OR(E984=\"\",ISBLANK(E984)),\"\",VLOOKUP(E984,Sheet2!A:G,6,FALSE))","v":""},""]
[{"$f":"IF(OR(E985=\"\",ISBLANK(E985)),\"\",VLOOKUP(E985,Sheet2!A:F,2,FALSE))","v":""},{"$f":"IF(OR(E985=\"\",ISBLANK(E985)),\"\",VLOOKUP(E985,Sheet2!A:G,4,FALSE))","v":""},"",{"$f":"IF(OR(E985=\"\",ISBLANK(E985)),\"\",VLOOKUP(E985,Sheet2!A:H,3,FALSE))","v":""},null,{"$f":"IF(OR(E985=\"\",ISBLANK(E985)),\"\",VLOOKUP(E985,Sheet2!A:G,6,FALSE))","v":""},""]
[{"$f":"IF(OR(E986=\"\",ISBLANK(E986)),\"\",VLOOKUP(E986,Sheet2!A:F,2,FALSE))","v":""},{"$f":"IF(OR(E986=\"\",ISBLANK(E986)),\"\",VLOOKUP(E986,Sheet2!A:G,4,FALSE))","v":""},"",{"$f":"IF(OR(E986=\"\",ISBLANK(E986)),\"\",VLOOKUP(E986,Sheet2!A:H,3,FALSE))","v":""},null,{"$f":"IF(OR(E986=\"\",ISBLANK(E986)),\"\",VLOOKUP(E986,Sheet2!A:G,6,FALSE))","v":""},""]
[{"$f":"IF(OR(E987=\"\",ISBLANK(E987)),\"\",VLOOKUP(E987,Sheet2!A:F,2,FALSE))","v":""},{"$f":"IF(OR(E987=\"\",ISBLANK(E987)),\"\",VLOOKUP(E987,Sheet2!A:G,4,FALSE))","v":""},"",{"$f":"IF(OR(E987=\"\",ISBLANK(E987)),\"\",VLOOKUP(E987,Sheet2!A:H,3,FALSE))","v":""},null,{"$f":"IF(OR(E987=\"\",ISBLANK(E987)),\"\",VLOOKUP(E987,Sheet2!A:G,6,FALSE))","v":""},""]
[{"$f":"IF(OR(E988=\"\",ISBLANK(E988)),\"\",VLOOKUP(E988,Sheet2!A:F,2,FALSE))","v":""},{"$f":"IF(OR(E988=\"\",ISBLANK(E988)),\"\",VLOOKUP(E988,Sheet2!A:G,4,FALSE))","v":""},"",{"$f":"IF(OR(E988=\"\",ISBLANK(E988)),\"\",VLOOKUP(E988,Sheet2!A:H,3,FALSE))","v":""},null,{"$f":"IF(OR(E988=\"\",ISBLANK(E988)),\"\",VLOOKUP(E988,Sheet2!A:G,6,FALSE))","v":""},""]
[{"$f":"IF(OR(E989=\"\",ISBLANK(E989)),\"\",VLOOKUP(E989,Sheet2!A:F,2,FALSE))","v":""},{"$f":"IF(OR(E989=\"\",ISBLANK(E989)),\"\",VLOOKUP(E989,Sheet2!A:G,4,FALSE))","v":""},"",{"$f":"IF(OR(E989=\"\",ISBLANK(E989)),\"\",VLOOKUP(E989,Sheet2!A:H,3,FALSE))","v":""},null,{"$f":"IF(OR(E989=\"\",ISBLANK(E989)),\"\",VLOOKUP(E989,Sheet2!A:G,6,FALSE))","v":""},""]
[{"$f":"IF(OR(E990=\"\",ISBLANK(E990)),\"\",VLOOKUP(E990,Sheet2!A:F,2,FALSE))","v":""},{"$f":"IF(OR(E990=\"\",ISBLANK(E990)),\"\",VLOOKUP(E990,Sheet2!A:G,4,FALSE))","v":""},"",{"$f":"IF(OR(E990=\"\",ISBLANK(E990)),\"\",VLOOKUP(E990,Sheet2!A:H,3,FALSE))","v":""},null,{"$f":"IF(OR(E990=\"\",ISBLANK(E990)),\"\",VLOOKUP(E990,Sheet2!A:G,6,FALSE))","v":""},""]
[{"$f":"IF(OR(E991=\"\",ISBLANK(E991)),\"\",VLOOKUP(E991,Sheet2!A:F,2,FALSE))","v":""},{"$f":"IF(OR(E991=\"\",ISBLANK(E991)),\"\",VLOOKUP(E991,Sheet2!A:G,4,FALSE))","v":""},"",{"$f":"IF(OR(E991=\"\",ISBLANK(E991)),\"\",VLOOKUP(E991,Sheet2!A:H,3,FALSE))","v":""},null,{"$f":"IF(OR(E991=\"\",ISBLANK(E991)),\"\",VLOOKUP(E991,Sheet2!A:G,6,FALSE))","v":""},""]
[{"$f":"IF(OR(E992=\"\",ISBLANK(E992)),\"\",VLOOKUP(E992,Sheet2!A:F,2,FALSE))","v":""},{"$f":"IF(OR(E992=\"\",ISBLANK(E992)),\"\",VLOOKUP(E992,Sheet2!A:G,4,FALSE))","v":""},"",{"$f":"IF(OR(E992=\"\",ISBLANK(E992)),\"\",VLOOKUP(E992,Sheet2!A:H,3,FALSE))","v":""},null,{"$f":"IF(OR(E992=\"\",ISBLANK(E992)),\"\",VLOOKUP(E992,Sheet2!A:G,6,FALSE))","v":""},""]
[{"$f":"IF(OR(E993=\"\",ISBLANK(E993)),\"\",VLOOKUP(E993,Sheet2!A:F,2,FALSE))","v":""},{"$f":"IF(OR(E993=\"\",ISBLANK(E993)),\"\",VLOOKUP(E993,Sheet2!A:G,4,FALSE))","v":""},"",{"$f":"IF(OR(E993=\"\",ISBLANK(E993)),\"\",VLOOKUP(E993,Sheet2!A:H,3,FALSE))","v":""},null,{"$f":"IF(OR(E993=\"\",ISBLANK(E993)),\"\",VLOOKUP(E993,Sheet2!A:G,6,FALSE))","v":""},""]
[{"$f":"IF(OR(E994=\"\",ISBLANK(E994)),\"\",VLOOKUP(E994,Sheet2!A:F,2,FALSE))","v":""},{"$f":"IF(OR(E994=\"\",ISBLANK(E994)),\"\",VLOOKUP(E994,Sheet2!A:G,4,FALSE))","v":""},"",{"$f":"IF(OR(E994=\"\",ISBLANK(E994)),\"\",VLOOKUP(E994,Sheet2!A:H,3,FALSE))","v":""},null,{"$f":"IF(OR(E994=\"\",ISBLANK(E994)),\"\",VLOOKUP(E994,Sheet2!A:G,6,FALSE))","v":""},""]
[{"$f":"IF(OR(E995=\"\",ISBLANK(E995)),\"\",VLOOKUP(E995,Sheet2!A:F,2,FALSE))","v":""},{"$f":"IF(OR(E995=\"\",ISBLANK(E995)),\"\",VLOOKUP(E995,Sheet2!A:G,4,FALSE))","v":""},"",{"$f":"IF(OR(E995=\"\",ISBLANK(E995)),\"\",VLOOKUP(E995,Sheet2!A:H,3,FALSE))","v":""},null,{"$f":"IF(OR(E995=\"\",ISBLANK(E995)),\"\",VLOOKUP(E995,Sheet2!A:G,6,FALSE))","v":""},""]
[{"$f":"IF(OR(E996=\"\",ISBLANK(E996)),\"\",VLOOKUP(E996,Sheet2!A:F,2,FALSE))","v":""},{"$f":"IF(OR(E996=\"\",ISBLANK(E996)),\"\",VLOOKUP(E996,Sheet2!A:G,4,FALSE))","v":""},"",{"$f":"IF(OR(E996=\"\",ISBLANK(E996)),\"\",VLOOKUP(E996,Sheet2!A:H,3,FALSE))","v":""},null,{"$f":"IF(OR(E996=\"\",ISBLANK(E996)),\"\",VLOOKUP(E996,Sheet2!A:G,6,FALSE))","v":""},""]
[{"$f":"IF(OR(E997=\"\",ISBLANK(E997)),\"\",VLOOKUP(E997,Sheet2!A:F,2,FALSE))","v":""},{"$f":"IF(OR(E997=\"\",ISBLANK(E997)),\"\",VLOOKUP(E997,Sheet2!A:G,4,FALSE))","v":""},"",{"$f":"IF(OR(E997=\"\",ISBLANK(E997)),\"\",VLOOKUP(E997,Sheet2!A:H,3,FALSE))","v":""},null,{"$f":"IF(OR(E997=\"\",ISBLANK(E997)),\"\",VLOOKUP(E997,Sheet2!A:G,6,FALSE))","v":""},""]
[{"$f":"IF(OR(E998=\"\",ISBLANK(E998)),\"\",VLOOKUP(E998,Sheet2!A:F,2,FALSE))","v":""},{"$f":"IF(OR(E998=\"\",ISBLANK(E998)),\"\",VLOOKUP(E998,Sheet2!A:G,4,FALSE))","v":""},"",{"$f":"IF(OR(E998=\"\",ISBLANK(E998)),\"\",VLOOKUP(E998,Sheet2!A:H,3,FALSE))","v":""},null,{"$f":"IF(OR(E998=\"\",ISBLANK(E998)),\"\",VLOOKUP(E998,Sheet2!A:G,6,FALSE))","v":""},""]
[{"$f":"IF(OR(E999=\"\",ISBLANK(E999)),\"\",VLOOKUP(E999,Sheet2!A:F,2,FALSE))","v":""},{"$f":"IF(OR(E999=\"\",ISBLANK(E999)),\"\",VLOOKUP(E999,Sheet2!A:G,4,FALSE))","v":""},"",{"$f":"IF(OR(E999=\"\",ISBLANK(E999)),\"\",VLOOKUP(E999,Sheet2!A:H,3,FALSE))","v":""},null,{"$f":"IF(OR(E999=\"\",ISBLANK(E999)),\"\",VLOOKUP(E999,Sheet2!A:G,6,FALSE))","v":""},""]
[{"$f":"IF(OR(E1000=\"\",ISBLANK(E1000)),\"\",VLOOKUP(E1000,Sheet2!A:F,2,FALSE))","v":""},{"$f":"IF(OR(E1000=\"\",ISBLANK(E1000)),\"\",VLOOKUP(E1000,Sheet2!A:G,4,FALSE))","v":""},"",{"$f":"IF(OR(E1000=\"\",ISBLANK(E1000)),\"\",VLOOKUP(E1000,Sheet2!A:H,3,FALSE))","v":""},null,{"$f":"IF(OR(E1000=\"\",ISBLANK(E1000)),\"\",VLOOKUP(E1000,Sheet2!A:G,6,FALSE))","v":""},""]
[{"$f":"IF(OR(E1001=\"\",ISBLANK(E1001)),\"\",VLOOKUP(E1001,Sheet2!A:F,2,FALSE))","v":""},{"$f":"IF(OR(E1001=\"\",ISBLANK(E1001)),\"\",VLOOKUP(E1001,Sheet2!A:G,4,FALSE))","v":""},"",{"$f":"IF(OR(E1001=\"\",ISBLANK(E1001)),\"\",VLOOKUP(E1001,Sheet2!A:H,3,FALSE))","v":""},null,{"$f":"IF(OR(E1001=\"\",ISBLANK(E1001)),\"\",VLOOKUP(E1001,Sheet2!A:G,6,FALSE))","v":""},""]
[{"$f":"IF(OR(E1002=\"\",ISBLANK(E1002)),\"\",VLOOKUP(E1002,Sheet2!A:F,2,FALSE))","v":""},{"$f":"IF(OR(E1002=\"\",ISBLANK(E1002)),\"\",VLOOKUP(E1002,Sheet2!A:G,4,FALSE))","v":""},"",{"$f":"IF(OR(E1002=\"\",ISBLANK(E1002)),\"\",VLOOKUP(E1002,Sheet2!A:H,3,FALSE))","v":""},null,{"$f":"IF(OR(E1002=\"\",ISBLANK(E1002)),\"\",VLOOKUP(E1002,Sheet2!A:G,6,FALSE))","v":""},""]
[{"$f":"IF(OR(E1003=\"\",ISBLANK(E1003)),\"\",VLOOKUP(E1003,Sheet2!A:F,2,FALSE))","v":""},{"$f":"IF(OR(E1003=\"\",ISBLANK(E1003)),\"\",VLOOKUP(E1003,Sheet2!A:G,4,FALSE))","v":""},"",{"$f":"IF(OR(E1003=\"\",ISBLANK(E1003)),\"\",VLOOKUP(E1003,Sheet2!A:H,3,FALSE))","v":""},null,{"$f":"IF(OR(E1003=\"\",ISBLANK(E1003)),\"\",VLOOKUP(E1003,Sheet2!A:G,6,FALSE))","v":""},""]
[{"$f":"IF(OR(E1004=\"\",ISBLANK(E1004)),\"\",VLOOKUP(E1004,Sheet2!A:F,2,FALSE))","v":""},{"$f":"IF(OR(E1004=\"\",ISBLANK(E1004)),\"\",VLOOKUP(E1004,Sheet2!A:G,4,FALSE))","v":""},"",{"$f":"IF(OR(E1004=\"\",ISBLANK(E1004)),\"\",VLOOKUP(E1004,Sheet2!A:H,3,FALSE))","v":""},null,{"$f":"IF(OR(E1004=\"\",ISBLANK(E1004)),\"\",VLOOKUP(E1004,Sheet2!A:G,6,FALSE))","v":""},""]
[{"$f":"IF(OR(E1005=\"\",ISBLANK(E1005)),\"\",VLOOKUP(E1005,Sheet2!A:F,2,FALSE))","v":""},{"$f":"IF(OR(E1005=\"\",ISBLANK(E1005)),\"\",VLOOKUP(E1005,Sheet2!A:G,4,FALSE))","v":""},"",{"$f":"IF(OR(E1005=\"\",ISBLANK(E1005)),\"\",VLOOKUP(E1005,Sheet2!A:H,3,FALSE))","v":""},null,{"$f":"IF(OR(E1005=\"\",ISBLANK(E1005)),\"\",VLOOKUP(E1005,Sheet2!A:G,6,FALSE))","v":""},""]
[{"$f":"IF(OR(E1006=\"\",ISBLANK(E1006)),\"\",VLOOKUP(E1006,Sheet2!A:F,2,FALSE))","v":""},{"$f":"IF(OR(E1006=\"\",ISBLANK(E1006)),\"\",VLOOKUP(E1006,Sheet2!A:G,4,FALSE))","v":""},"",{"$f":"IF(OR(E1006=\"\",ISBLANK(E1006)),\"\",VLOOKUP(E1006,Sheet2!A:H,3,FALSE))","v":""},null,{"$f":"IF(OR(E1006=\"\",ISBLANK(E1006)),\"\",VLOOKUP(E1006,Sheet2!A:G,6,FALSE))","v":""},""]
[{"$f":"IF(OR(E1007=\"\",ISBLANK(E1007)),\"\",VLOOKUP(E1007,Sheet2!A:F,2,FALSE))","v":""},{"$f":"IF(OR(E1007=\"\",ISBLANK(E1007)),\"\",VLOOKUP(E1007,Sheet2!A:G,4,FALSE))","v":""},"",{"$f":"IF(OR(E1007=\"\",ISBLANK(E1007)),\"\",VLOOKUP(E1007,Sheet2!A:H,3,FALSE))","v":""},null,{"$f":"IF(OR(E1007=\"\",ISBLANK(E1007)),\"\",VLOOKUP(E1007,Sheet2!A:G,6,FALSE))","v":""},""]
[{"$f":"IF(OR(E1008=\"\",ISBLANK(E1008)),\"\",VLOOKUP(E1008,Sheet2!A:F,2,FALSE))","v":""},{"$f":"IF(OR(E1008=\"\",ISBLANK(E1008)),\"\",VLOOKUP(E1008,Sheet2!A:G,4,FALSE))","v":""},"",{"$f":"IF(OR(E1008=\"\",ISBLANK(E1008)),\"\",VLOOKUP(E1008,Sheet2!A:H,3,FALSE))","v":""},null,{"$f":"IF(OR(E1008=\"\",ISBLANK(E1008)),\"\",VLOOKUP(E1008,Sheet2!A:G,6,FALSE))","v":""},""]
[{"$f":"IF(OR(E1009=\"\",ISBLANK(E1009)),\"\",VLOOKUP(E1009,Sheet2!A:F,2,FALSE))","v":""},{"$f":"IF(OR(E1009=\"\",ISBLANK(E1009)),\"\",VLOOKUP(E1009,Sheet2!A:G,4,FALSE))","v":""},"",{"$f":"IF(OR(E1009=\"\",ISBLANK(E1009)),\"\",VLOOKUP(E1009,Sheet2!A:H,3,FALSE))","v":""},null,{"$f":"IF(OR(E1009=\"\",ISBLANK(E1009)),\"\",VLOOKUP(E1009,Sheet2!A:G,6,FALSE))","v":""},""]
[{"$f":"IF(OR(E1010=\"\",ISBLANK(E1010)),\"\",VLOOKUP(E1010,Sheet2!A:F,2,FALSE))","v":""},{"$f":"IF(OR(E1010=\"\",ISBLANK(E1010)),\"\",VLOOKUP(E1010,Sheet2!A:G,4,FALSE))","v":""},"",{"$f":"IF(OR(E1010=\"\",ISBLANK(E1010)),\"\",VLOOKUP(E1010,Sheet2!A:H,3,FALSE))","v":""},null,{"$f":"IF(OR(E1010=\"\",ISBLANK(E1010)),\"\",VLOOKUP(E1010,Sheet2!A:G,6,FALSE))","v":""},""]
[{"$f":"IF(OR(E1011=\"\",ISBLANK(E1011)),\"\",VLOOKUP(E1011,Sheet2!A:F,2,FALSE))","v":""},{"$f":"IF(OR(E1011=\"\",ISBLANK(E1011)),\"\",VLOOKUP(E1011,Sheet2!A:G,4,FALSE))","v":""},"",{"$f":"IF(OR(E1011=\"\",ISBLANK(E1011)),\"\",VLOOKUP(E1011,Sheet2!A:H,3,FALSE))","v":""},null,{"$f":"IF(OR(E1011=\"\",ISBLANK(E1011)),\"\",VLOOKUP(E1011,Sheet2!A:G,6,FALSE))","v":""},""]
[{"$f":"IF(OR(E1012=\"\",ISBLANK(E1012)),\"\",VLOOKUP(E1012,Sheet2!A:F,2,FALSE))","v":""},{"$f":"IF(OR(E1012=\"\",ISBLANK(E1012)),\"\",VLOOKUP(E1012,Sheet2!A:G,4,FALSE))","v":""},"",{"$f":"IF(OR(E1012=\"\",ISBLANK(E1012)),\"\",VLOOKUP(E1012,Sheet2!A:H,3,FALSE))","v":""},null,{"$f":"IF(OR(E1012=\"\",ISBLANK(E1012)),\"\",VLOOKUP(E1012,Sheet2!A:G,6,FALSE))","v":""},""]
[{"$f":"IF(OR(E1013=\"\",ISBLANK(E1013)),\"\",VLOOKUP(E1013,Sheet2!A:F,2,FALSE))","v":""},{"$f":"IF(OR(E1013=\"\",ISBLANK(E1013)),\"\",VLOOKUP(E1013,Sheet2!A:G,4,FALSE))","v":""},"",{"$f":"IF(OR(E1013=\"\",ISBLANK(E1013)),\"\",VLOOKUP(E1013,Sheet2!A:H,3,FALSE))","v":""},null,{"$f":"IF(OR(E1013=\"\",ISBLANK(E1013)),\"\",VLOOKUP(E1013,Sheet2!A:G,6,FALSE))","v":""},""]
[{"$f":"IF(OR(E1014=\"\",ISBLANK(E1014)),\"\",VLOOKUP(E1014,Sheet2!A:F,2,FALSE))","v":""},{"$f":"IF(OR(E1014=\"\",ISBLANK(E1014)),\"\",VLOOKUP(E1014,Sheet2!A:G,4,FALSE))","v":""},"",{"$f":"IF(OR(E1014=\"\",ISBLANK(E1014)),\"\",VLOOKUP(E1014,Sheet2!A:H,3,FALSE))","v":""},null,{"$f":"IF(OR(E1014=\"\",ISBLANK(E1014)),\"\",VLOOKUP(E1014,Sheet2!A:G,6,FALSE))","v":""},""]
[{"$f":"IF(OR(E1015=\"\",ISBLANK(E1015)),\"\",VLOOKUP(E1015,Sheet2!A:F,2,FALSE))","v":""},{"$f":"IF(OR(E1015=\"\",ISBLANK(E1015)),\"\",VLOOKUP(E1015,Sheet2!A:G,4,FALSE))","v":""},"",{"$f":"IF(OR(E1015=\"\",ISBLANK(E1015)),\"\",VLOOKUP(E1015,Sheet2!A:H,3,FALSE))","v":""},null,{"$f":"IF(OR(E1015=\"\",ISBLANK(E1015)),\"\",VLOOKUP(E1015,Sheet2!A:G,6,FALSE))","v":""},""]
[{"$f":"IF(OR(E1016=\"\",ISBLANK(E1016)),\"\",VLOOKUP(E1016,Sheet2!A:F,2,FALSE))","v":""},{"$f":"IF(OR(E1016=\"\",ISBLANK(E1016)),\"\",VLOOKUP(E1016,Sheet2!A:G,4,FALSE))","v":""},"",{"$f":"IF(OR(E1016=\"\",ISBLANK(E1016)),\"\",VLOOKUP(E1016,Sheet2!A:H,3,FALSE))","v":""},null,{"$f":"IF(OR(E1016=\"\",ISBLANK(E1016)),\"\",VLOOKUP(E1016,Sheet2!A:G,6,FALSE))","v":""},""]
[{"$f":"IF(OR(E1017=\"\",ISBLANK(E1017)),\"\",VLOOKUP(E1017,Sheet2!A:F,2,FALSE))","v":""},{"$f":"IF(OR(E1017=\"\",ISBLANK(E1017)),\"\",VLOOKUP(E1017,Sheet2!A:G,4,FALSE))","v":""},"",{"$f":"IF(OR(E1017=\"\",ISBLANK(E1017)),\"\",VLOOKUP(E1017,Sheet2!A:H,3,FALSE))","v":""},null,{"$f":"IF(OR(E1017=\"\",ISBLANK(E1017)),\"\",VLOOKUP(E1017,Sheet2!A:G,6,FALSE))","v":""},""]
[{"$f":"IF(OR(E1018=\"\",ISBLANK(E1018)),\"\",VLOOKUP(E1018,Sheet2!A:F,2,FALSE))","v":""},{"$f":"IF(OR(E1018=\"\",ISBLANK(E1018)),\"\",VLOOKUP(E1018,Sheet2!A:G,4,FALSE))","v":""},"",{"$f":"IF(OR(E1018=\"\",ISBLANK(E1018)),\"\",VLOOKUP(E1018,Sheet2!A:H,3,FALSE))","v":""},null,{"$f":"IF(OR(E1018=\"\",ISBLANK(E1018)),\"\",VLOOKUP(E1018,Sheet2!A:G,6,FALSE))","v":""},""]
[{"$f":"IF(OR(E1019=\"\",ISBLANK(E1019)),\"\",VLOOKUP(E1019,Sheet2!A:F,2,FALSE))","v":""},{"$f":"IF(OR(E1019=\"\",ISBLANK(E1019)),\"\",VLOOKUP(E1019,Sheet2!A:G,4,FALSE))","v":""},"",{"$f":"IF(OR(E1019=\"\",ISBLANK(E1019)),\"\",VLOOKUP(E1019,Sheet2!A:H,3,FALSE))","v":""},null,{"$f":"IF(OR(E1019=\"\",ISBLANK(E1019)),\"\",VLOOKUP(E1019,Sheet2!A:G,6,FALSE))","v":""},""]
[{"$f":"IF(OR(E1020=\"\",ISBLANK(E1020)),\"\",VLOOKUP(E1020,Sheet2!A:F,2,FALSE))","v":""},{"$f":"IF(OR(E1020=\"\",ISBLANK(E1020)),\"\",VLOOKUP(E1020,Sheet2!A:G,4,FALSE))","v":""},"",{"$f":"IF(OR(E1020=\"\",ISBLANK(E1020)),\"\",VLOOKUP(E1020,Sheet2!A:H,3,FALSE))","v":""},null,{"$f":"IF(OR(E1020=\"\",ISBLANK(E1020)),\"\",VLOOKUP(E1020,Sheet2!A:G,6,FALSE))","v":""},""]
[{"$f":"IF(OR(E1021=\"\",ISBLANK(E1021)),\"\",VLOOKUP(E1021,Sheet2!A:F,2,FALSE))","v":""},{"$f":"IF(OR(E1021=\"\",ISBLANK(E1021)),\"\",VLOOKUP(E1021,Sheet2!A:G,4,FALSE))","v":""},"",{"$f":"IF(OR(E1021=\"\",ISBLANK(E1021)),\"\",VLOOKUP(E1021,Sheet2!A:H,3,FALSE))","v":""},null,{"$f":"IF(OR(E1021=\"\",ISBLANK(E1021)),\"\",VLOOKUP(E1021,Sheet2!A:G,6,FALSE))","v":""},""]
[{"$f":"IF(OR(E1022=\"\",ISBLANK(E1022)),\"\",VLOOKUP(E1022,Sheet2!A:F,2,FALSE))","v":""},{"$f":"IF(OR(E1022=\"\",ISBLANK(E1022)),\"\",VLOOKUP(E1022,Sheet2!A:G,4,FALSE))","v":""},"",{"$f":"IF(OR(E1022=\"\",ISBLANK(E1022)),\"\",VLOOKUP(E1022,Sheet2!A:H,3,FALSE))","v":""},null,{"$f":"IF(OR(E1022=\"\",ISBLANK(E1022)),\"\",VLOOKUP(E1022,Sheet2!A:G,6,FALSE))","v":""},""]
[{"$f":"IF(OR(E1023=\"\",ISBLANK(E1023)),\"\",VLOOKUP(E1023,Sheet2!A:F,2,FALSE))","v":""},{"$f":"IF(OR(E1023=\"\",ISBLANK(E1023)),\"\",VLOOKUP(E1023,Sheet2!A:G,4,FALSE))","v":""},"",{"$f":"IF(OR(E1023=\"\",ISBLANK(E1023)),\"\",VLOOKUP(E1023,Sheet2!A:H,3,FALSE))","v":""},null,{"$f":"IF(OR(E1023=\"\",ISBLANK(E1023)),\"\",VLOOKUP(E1023,Sheet2!A:G,6,FALSE))","v":""},""]
[{"$f":"IF(OR(E1024=\"\",ISBLANK(E1024)),\"\",VLOOKUP(E1024,Sheet2!A:F,2,FALSE))","v":""},{"$f":"IF(OR(E1024=\"\",ISBLANK(E1024)),\"\",VLOOKUP(E1024,Sheet2!A:G,4,FALSE))","v":""},"",{"$f":"IF(OR(E1024=\"\",ISBLANK(E1024)),\"\",VLOOKUP(E1024,Sheet2!A:H,3,FALSE))","v":""},null,{"$f":"IF(OR(E1024=\"\",ISBLANK(E1024)),\"\",VLOOKUP(E1024,Sheet2!A:G,6,FALSE))","v":""},""]
[{"$f":"IF(OR(E1025=\"\",ISBLANK(E1025)),\"\",VLOOKUP(E1025,Sheet2!A:F,2,FALSE))","v":""},{"$f":"IF(OR(E1025=\"\",ISBLANK(E1025)),\"\",VLOOKUP(E1025,Sheet2!A:G,4,FALSE))","v":""},"",{"$f":"IF(OR(E1025=\"\",ISBLANK(E1025)),\"\",VLOOKUP(E1025,Sheet2!A:H,3,FALSE))","v":""},null,{"$f":"IF(OR(E1025=\"\",ISBLANK(E1025)),\"\",VLOOKUP(E1025,Sheet2!A:G,6,FALSE))","v":""},""]
[{"$f":"IF(OR(E1026=\"\",ISBLANK(E1026)),\"\",VLOOKUP(E1026,Sheet2!A:F,2,FALSE))","v":""},{"$f":"IF(OR(E1026=\"\",ISBLANK(E1026)),\"\",VLOOKUP(E1026,Sheet2!A:G,4,FALSE))","v":""},"",{"$f":"IF(OR(E1026=\"\",ISBLANK(E1026)),\"\",VLOOKUP(E1026,Sheet2!A:H,3,FALSE))","v":""},null,{"$f":"IF(OR(E1026=\"\",ISBLANK(E1026)),\"\",VLOOKUP(E1026,Sheet2!A:G,6,FALSE))","v":""},""]
[{"$f":"IF(OR(E1027=\"\",ISBLANK(E1027)),\"\",VLOOKUP(E1027,Sheet2!A:F,2,FALSE))","v":""},{"$f":"IF(OR(E1027=\"\",ISBLANK(E1027)),\"\",VLOOKUP(E1027,Sheet2!A:G,4,FALSE))","v":""},{"$f":"IF(D1027=0,\"\",D1027)","v":""},{"$f":"IF(OR(E1027=\"\",ISBLANK(E1027)),\"\",VLOOKUP(E1027,Sheet2!A:H,3,FALSE))","v":""},null,{"$f":"IF(OR(E1027=\"\",ISBLANK(E1027)),\"\",VLOOKUP(E1027,Sheet2!A:G,6,FALSE))","v":""},{"$f":"IF(F1027=0,\"\",F1027)","v":""}]
[{"$f":"IF(OR(E1028=\"\",ISBLANK(E1028)),\"\",VLOOKUP(E1028,Sheet2!A:F,2,FALSE))","v":""},{"$f":"IF(OR(E1028=\"\",ISBLANK(E1028)),\"\",VLOOKUP(E1028,Sheet2!A:G,4,FALSE))","v":""},"",{"$f":"IF(OR(E1028=\"\",ISBLANK(E1028)),\"\",VLOOKUP(E1028,Sheet2!A:H,3,FALSE))","v":""},null,{"$f":"IF(OR(E1028=\"\",ISBLANK(E1028)),\"\",VLOOKUP(E1028,Sheet2!A:G,6,FALSE))","v":""},""]
[{"$f":"IF(OR(E1029=\"\",ISBLANK(E1029)),\"\",VLOOKUP(E1029,Sheet2!A:F,2,FALSE))","v":""},{"$f":"IF(OR(E1029=\"\",ISBLANK(E1029)),\"\",VLOOKUP(E1029,Sheet2!A:G,4,FALSE))","v":""},"",{"$f":"IF(OR(E1029=\"\",ISBLANK(E1029)),\"\",VLOOKUP(E1029,Sheet2!A:H,3,FALSE))","v":""},null,{"$f":"IF(OR(E1029=\"\",ISBLANK(E1029)),\"\",VLOOKUP(E1029,Sheet2!A:G,6,FALSE))","v":""},""]
[{"$f":"IF(OR(E1030=\"\",ISBLANK(E1030)),\"\",VLOOKUP(E1030,Sheet2!A:F,2,FALSE))","v":""},{"$f":"IF(OR(E1030=\"\",ISBLANK(E1030)),\"\",VLOOKUP(E1030,Sheet2!A:G,4,FALSE))","v":""},"",{"$f":"IF(OR(E1030=\"\",ISBLANK(E1030)),\"\",VLOOKUP(E1030,Sheet2!A:H,3,FALSE))","v":""},null,{"$f":"IF(OR(E1030=\"\",ISBLANK(E1030)),\"\",VLOOKUP(E1030,Sheet2!A:G,6,FALSE))","v":""},""]
[{"$f":"IF(OR(E1031=\"\",ISBLANK(E1031)),\"\",VLOOKUP(E1031,Sheet2!A:F,2,FALSE))","v":""},{"$f":"IF(OR(E1031=\"\",ISBLANK(E1031)),\"\",VLOOKUP(E1031,Sheet2!A:G,4,FALSE))","v":""},"",{"$f":"IF(OR(E1031=\"\",ISBLANK(E1031)),\"\",VLOOKUP(E1031,Sheet2!A:H,3,FALSE))","v":""},null,{"$f":"IF(OR(E1031=\"\",ISBLANK(E1031)),\"\",VLOOKUP(E1031,Sheet2!A:G,6,FALSE))","v":""},""]
[{"$f":"IF(OR(E1032=\"\",ISBLANK(E1032)),\"\",VLOOKUP(E1032,Sheet2!A:F,2,FALSE))","v":""},{"$f":"IF(OR(E1032=\"\",ISBLANK(E1032)),\"\",VLOOKUP(E1032,Sheet2!A:G,4,FALSE))","v":""},"",{"$f":"IF(OR(E1032=\"\",ISBLANK(E1032)),\"\",VLOOKUP(E1032,Sheet2!A:H,3,FALSE))","v":""},null,{"$f":"IF(OR(E1032=\"\",ISBLANK(E1032)),\"\",VLOOKUP(E1032,Sheet2!A:G,6,FALSE))","v":""},""]
[{"$f":"IF(OR(E1033=\"\",ISBLANK(E1033)),\"\",VLOOKUP(E1033,Sheet2!A:F,2,FALSE))","v":""},{"$f":"IF(OR(E1033=\"\",ISBLANK(E1033)),\"\",VLOOKUP(E1033,Sheet2!A:G,4,FALSE))","v":""},"",{"$f":"IF(OR(E1033=\"\",ISBLANK(E1033)),\"\",VLOOKUP(E1033,Sheet2!A:H,3,FALSE))","v":""},null,{"$f":"IF(OR(E1033=\"\",ISBLANK(E1033)),\"\",VLOOKUP(E1033,Sheet2!A:G,6,FALSE))","v":""},""]
[{"$f":"IF(OR(E1034=\"\",ISBLANK(E1034)),\"\",VLOOKUP(E1034,Sheet2!A:F,2,FALSE))","v":""},{"$f":"IF(OR(E1034=\"\",ISBLANK(E1034)),\"\",VLOOKUP(E1034,Sheet2!A:G,4,FALSE))","v":""},"",{"$f":"IF(OR(E1034=\"\",ISBLANK(E1034)),\"\",VLOOKUP(E1034,Sheet2!A:H,3,FALSE))","v":""},null,{"$f":"IF(OR(E1034=\"\",ISBLANK(E1034)),\"\",VLOOKUP(E1034,Sheet2!A:G,6,FALSE))","v":""},""]
[{"$f":"IF(OR(E1035=\"\",ISBLANK(E1035)),\"\",VLOOKUP(E1035,Sheet2!A:F,2,FALSE))","v":""},{"$f":"IF(OR(E1035=\"\",ISBLANK(E1035)),\"\",VLOOKUP(E1035,Sheet2!A:G,4,FALSE))","v":""},"",{"$f":"IF(OR(E1035=\"\",ISBLANK(E1035)),\"\",VLOOKUP(E1035,Sheet2!A:H,3,FALSE))","v":""},null,{"$f":"IF(OR(E1035=\"\",ISBLANK(E1035)),\"\",VLOOKUP(E1035,Sheet2!A:G,6,FALSE))","v":""},""]
[{"$f":"IF(OR(E1036=\"\",ISBLANK(E1036)),\"\",VLOOKUP(E1036,Sheet2!A:F,2,FALSE))","v":""},{"$f":"IF(OR(E1036=\"\",ISBLANK(E1036)),\"\",VLOOKUP(E1036,Sheet2!A:G,4,FALSE))","v":""},"",{"$f":"IF(OR(E1036=\"\",ISBLANK(E1036)),\"\",VLOOKUP(E1036,Sheet2!A:H,3,FALSE))","v":""},null,{"$f":"IF(OR(E1036=\"\",ISBLANK(E1036)),\"\",VLOOKUP(E1036,Sheet2!A:G,6,FALSE))","v":""},""]
[{"$f":"IF(OR(E1037=\"\",ISBLANK(E1037)),\"\",VLOOKUP(E1037,Sheet2!A:F,2,FALSE))","v":""},{"$f":"IF(OR(E1037=\"\",ISBLANK(E1037)),\"\",VLOOKUP(E1037,Sheet2!A:G,4,FALSE))","v":""},"",{"$f":"IF(OR(E1037=\"\",ISBLANK(E1037)),\"\",VLOOKUP(E1037,Sheet2!A:H,3,FALSE))","v":""},null,{"$f":"IF(OR(E1037=\"\",ISBLANK(E1037)),\"\",VLOOKUP(E1037,Sheet2!A:G,6,FALSE))","v":""},""]
[{"$f":"IF(OR(E1038=\"\",ISBLANK(E1038)),\"\",VLOOKUP(E1038,Sheet2!A:F,2,FALSE))","v":""},{"$f":"IF(OR(E1038=\"\",ISBLANK(E1038)),\"\",VLOOKUP(E1038,Sheet2!A:G,4,FALSE))","v":""},"",{"$f":"IF(OR(E1038=\"\",ISBLANK(E1038)),\"\",VLOOKUP(E1038,Sheet2!A:H,3,FALSE))","v":""},null,{"$f":"IF(OR(E1038=\"\",ISBLANK(E1038)),\"\",VLOOKUP(E1038,Sheet2!A:G,6,FALSE))","v":""},""]
[{"$f":"IF(OR(E1039=\"\",ISBLANK(E1039)),\"\",VLOOKUP(E1039,Sheet2!A:F,2,FALSE))","v":""},{"$f":"IF(OR(E1039=\"\",ISBLANK(E1039)),\"\",VLOOKUP(E1039,Sheet2!A:G,4,FALSE))","v":""},"",{"$f":"IF(OR(E1039=\"\",ISBLANK(E1039)),\"\",VLOOKUP(E1039,Sheet2!A:H,3,FALSE))","v":""},null,{"$f":"IF(OR(E1039=\"\",ISBLANK(E1039)),\"\",VLOOKUP(E1039,Sheet2!A:G,6,FALSE))","v":""},""]
[{"$f":"IF(OR(E1040=\"\",ISBLANK(E1040)),\"\",VLOOKUP(E1040,Sheet2!A:F,2,FALSE))","v":""},{"$f":"IF(OR(E1040=\"\",ISBLANK(E1040)),\"\",VLOOKUP(E1040,Sheet2!A:G,4,FALSE))","v":""},"",{"$f":"IF(OR(E1040=\"\",ISBLANK(E1040)),\"\",VLOOKUP(E1040,Sheet2!A:H,3,FALSE))","v":""},null,{"$f":"IF(OR(E1040=\"\",ISBLANK(E1040)),\"\",VLOOKUP(E1040,Sheet2!A:G,6,FALSE))","v":""},""]
[{"$f":"IF(OR(E1041=\"\",ISBLANK(E1041)),\"\",VLOOKUP(E1041,Sheet2!A:F,2,FALSE))","v":""},{"$f":"IF(OR(E1041=\"\",ISBLANK(E1041)),\"\",VLOOKUP(E1041,Sheet2!A:G,4,FALSE))","v":""},"",{"$f":"IF(OR(E1041=\"\",ISBLANK(E1041)),\"\",VLOOKUP(E1041,Sheet2!A:H,3,FALSE))","v":""},null,{"$f":"IF(OR(E1041=\"\",ISBLANK(E1041)),\"\",VLOOKUP(E1041,Sheet2!A:G,6,FALSE))","v":""},""]
[{"$f":"IF(OR(E1042=\"\",ISBLANK(E1042)),\"\",VLOOKUP(E1042,Sheet2!A:F,2,FALSE))","v":""},{"$f":"IF(OR(E1042=\"\",ISBLANK(E1042)),\"\",VLOOKUP(E1042,Sheet2!A:G,4,FALSE))","v":""},"",{"$f":"IF(OR(E1042=\"\",ISBLANK(E1042)),\"\",VLOOKUP(E1042,Sheet2!A:H,3,FALSE))","v":""},null,{"$f":"IF(OR(E1042=\"\",ISBLANK(E1042)),\"\",VLOOKUP(E1042,Sheet2!A:G,6,FALSE))","v":""},""]
[{"$f":"IF(OR(E1043=\"\",ISBLANK(E1043)),\"\",VLOOKUP(E1043,Sheet2!A:F,2,FALSE))","v":""},{"$f":"IF(OR(E1043=\"\",ISBLANK(E1043)),\"\",VLOOKUP(E1043,Sheet2!A:G,4,FALSE))","v":""},"",{"$f":"IF(OR(E1043=\"\",ISBLANK(E1043)),\"\",VLOOKUP(E1043,Sheet2!A:H,3,FALSE))","v":""},null,{"$f":"IF(OR(E1043=\"\",ISBLANK(E1043)),\"\",VLOOKUP(E1043,Sheet2!A:G,6,FALSE))","v":""},""]
[{"$f":"IF(OR(E1044=\"\",ISBLANK(E1044)),\"\",VLOOKUP(E1044,Sheet2!A:F,2,FALSE))","v":""},{"$f":"IF(OR(E1044=\"\",ISBLANK(E1044)),\"\",VLOOKUP(E1044,Sheet2!A:G,4,FALSE))","v":""},"",{"$f":"IF(OR(E1044=\"\",ISBLANK(E1044)),\"\",VLOOKUP(E1044,Sheet2!A:H,3,FALSE))","v":""},null,{"$f":"IF(OR(E1044=\"\",ISBLANK(E1044)),\"\",VLOOKUP(E1044,Sheet2!A:G,6,FALSE))","v":""},""]
[{"$f":"IF(OR(E1045=\"\",ISBLANK(E1045)),\"\",VLOOKUP(E1045,Sheet2!A:F,2,FALSE))","v":""},{"$f":"IF(OR(E1045=\"\",ISBLANK(E1045)),\"\",VLOOKUP(E1045,Sheet2!A:G,4,FALSE))","v":""},"",{"$f":"IF(OR(E1045=\"\",ISBLANK(E1045)),\"\",VLOOKUP(E1045,Sheet2!A:H,3,FALSE))","v":""},null,{"$f":"IF(OR(E1045=\"\",ISBLANK(E1045)),\"\",VLOOKUP(E1045,Sheet2!A:G,6,FALSE))","v":""},""]
[{"$f":"IF(OR(E1046=\"\",ISBLANK(E1046)),\"\",VLOOKUP(E1046,Sheet2!A:F,2,FALSE))","v":""},{"$f":"IF(OR(E1046=\"\",ISBLANK(E1046)),\"\",VLOOKUP(E1046,Sheet2!A:G,4,FALSE))","v":""},"",{"$f":"IF(OR(E1046=\"\",ISBLANK(E1046)),\"\",VLOOKUP(E1046,Sheet2!A:H,3,FALSE))","v":""},null,{"$f":"IF(OR(E1046=\"\",ISBLANK(E1046)),\"\",VLOOKUP(E1046,Sheet2!A:G,6,FALSE))","v":""},""]
[{"$f":"IF(OR(E1047=\"\",ISBLANK(E1047)),\"\",VLOOKUP(E1047,Sheet2!A:F,2,FALSE))","v":""},{"$f":"IF(OR(E1047=\"\",ISBLANK(E1047)),\"\",VLOOKUP(E1047,Sheet2!A:G,4,FALSE))","v":""},"",{"$f":"IF(OR(E1047=\"\",ISBLANK(E1047)),\"\",VLOOKUP(E1047,Sheet2!A:H,3,FALSE))","v":""},null,{"$f":"IF(OR(E1047=\"\",ISBLANK(E1047)),\"\",VLOOKUP(E1047,Sheet2!A:G,6,FALSE))","v":""},""]
[{"$f":"IF(OR(E1048=\"\",ISBLANK(E1048)),\"\",VLOOKUP(E1048,Sheet2!A:F,2,FALSE))","v":""},{"$f":"IF(OR(E1048=\"\",ISBLANK(E1048)),\"\",VLOOKUP(E1048,Sheet2!A:G,4,FALSE))","v":""},"",{"$f":"IF(OR(E1048=\"\",ISBLANK(E1048)),\"\",VLOOKUP(E1048,Sheet2!A:H,3,FALSE))","v":""},null,{"$f":"IF(OR(E1048=\"\",ISBLANK(E1048)),\"\",VLOOKUP(E1048,Sheet2!A:G,6,FALSE))","v":""},""]
[{"$f":"IF(OR(E1049=\"\",ISBLANK(E1049)),\"\",VLOOKUP(E1049,Sheet2!A:F,2,FALSE))","v":""},{"$f":"IF(OR(E1049=\"\",ISBLANK(E1049)),\"\",VLOOKUP(E1049,Sheet2!A:G,4,FALSE))","v":""},"",{"$f":"IF(OR(E1049=\"\",ISBLANK(E1049)),\"\",VLOOKUP(E1049,Sheet2!A:H,3,FALSE))","v":""},null,{"$f":"IF(OR(E1049=\"\",ISBLANK(E1049)),\"\",VLOOKUP(E1049,Sheet2!A:G,6,FALSE))","v":""},""]
[{"$f":"IF(OR(E1050=\"\",ISBLANK(E1050)),\"\",VLOOKUP(E1050,Sheet2!A:F,2,FALSE))","v":""},{"$f":"IF(OR(E1050=\"\",ISBLANK(E1050)),\"\",VLOOKUP(E1050,Sheet2!A:G,4,FALSE))","v":""},"",{"$f":"IF(OR(E1050=\"\",ISBLANK(E1050)),\"\",VLOOKUP(E1050,Sheet2!A:H,3,FALSE))","v":""},null,{"$f":"IF(OR(E1050=\"\",ISBLANK(E1050)),\"\",VLOOKUP(E1050,Sheet2!A:G,6,FALSE))","v":""},""]
[{"$f":"IF(OR(E1051=\"\",ISBLANK(E1051)),\"\",VLOOKUP(E1051,Sheet2!A:F,2,FALSE))","v":""},{"$f":"IF(OR(E1051=\"\",ISBLANK(E1051)),\"\",VLOOKUP(E1051,Sheet2!A:G,4,FALSE))","v":""},"",{"$f":"IF(OR(E1051=\"\",ISBLANK(E1051)),\"\",VLOOKUP(E1051,Sheet2!A:H,3,FALSE))","v":""},null,{"$f":"IF(OR(E1051=\"\",ISBLANK(E1051)),\"\",VLOOKUP(E1051,Sheet2!A:G,6,FALSE))","v":""},""]
[{"$f":"IF(OR(E1052=\"\",ISBLANK(E1052)),\"\",VLOOKUP(E1052,Sheet2!A:F,2,FALSE))","v":""},{"$f":"IF(OR(E1052=\"\",ISBLANK(E1052)),\"\",VLOOKUP(E1052,Sheet2!A:G,4,FALSE))","v":""},"",{"$f":"IF(OR(E1052=\"\",ISBLANK(E1052)),\"\",VLOOKUP(E1052,Sheet2!A:H,3,FALSE))","v":""},null,{"$f":"IF(OR(E1052=\"\",ISBLANK(E1052)),\"\",VLOOKUP(E1052,Sheet2!A:G,6,FALSE))","v":""},""]
[{"$f":"IF(OR(E1053=\"\",ISBLANK(E1053)),\"\",VLOOKUP(E1053,Sheet2!A:F,2,FALSE))","v":""},{"$f":"IF(OR(E1053=\"\",ISBLANK(E1053)),\"\",VLOOKUP(E1053,Sheet2!A:G,4,FALSE))","v":""},"",{"$f":"IF(OR(E1053=\"\",ISBLANK(E1053)),\"\",VLOOKUP(E1053,Sheet2!A:H,3,FALSE))","v":""},null,{"$f":"IF(OR(E1053=\"\",ISBLANK(E1053)),\"\",VLOOKUP(E1053,Sheet2!A:G,6,FALSE))","v":""},""]
[{"$f":"IF(OR(E1054=\"\",ISBLANK(E1054)),\"\",VLOOKUP(E1054,Sheet2!A:F,2,FALSE))","v":""},{"$f":"IF(OR(E1054=\"\",ISBLANK(E1054)),\"\",VLOOKUP(E1054,Sheet2!A:G,4,FALSE))","v":""},"",{"$f":"IF(OR(E1054=\"\",ISBLANK(E1054)),\"\",VLOOKUP(E1054,Sheet2!A:H,3,FALSE))","v":""},null,{"$f":"IF(OR(E1054=\"\",ISBLANK(E1054)),\"\",VLOOKUP(E1054,Sheet2!A:G,6,FALSE))","v":""},""]
[{"$f":"IF(OR(E1055=\"\",ISBLANK(E1055)),\"\",VLOOKUP(E1055,Sheet2!A:F,2,FALSE))","v":""},{"$f":"IF(OR(E1055=\"\",ISBLANK(E1055)),\"\",VLOOKUP(E1055,Sheet2!A:G,4,FALSE))","v":""},"",{"$f":"IF(OR(E1055=\"\",ISBLANK(E1055)),\"\",VLOOKUP(E1055,Sheet2!A:H,3,FALSE))","v":""},null,{"$f":"IF(OR(E1055=\"\",ISBLANK(E1055)),\"\",VLOOKUP(E1055,Sheet2!A:G,6,FALSE))","v":""},""]
[{"$f":"IF(OR(E1056=\"\",ISBLANK(E1056)),\"\",VLOOKUP(E1056,Sheet2!A:F,2,FALSE))","v":""},{"$f":"IF(OR(E1056=\"\",ISBLANK(E1056)),\"\",VLOOKUP(E1056,Sheet2!A:G,4,FALSE))","v":""},"",{"$f":"IF(OR(E1056=\"\",ISBLANK(E1056)),\"\",VLOOKUP(E1056,Sheet2!A:H,3,FALSE))","v":""},null,{"$f":"IF(OR(E1056=\"\",ISBLANK(E1056)),\"\",VLOOKUP(E1056,Sheet2!A:G,6,FALSE))","v":""},""]
[{"$f":"IF(OR(E1057=\"\",ISBLANK(E1057)),\"\",VLOOKUP(E1057,Sheet2!A:F,2,FALSE))","v":""},{"$f":"IF(OR(E1057=\"\",ISBLANK(E1057)),\"\",VLOOKUP(E1057,Sheet2!A:G,4,FALSE))","v":""},"",{"$f":"IF(OR(E1057=\"\",ISBLANK(E1057)),\"\",VLOOKUP(E1057,Sheet2!A:H,3,FALSE))","v":""},null,{"$f":"IF(OR(E1057=\"\",ISBLANK(E1057)),\"\",VLOOKUP(E1057,Sheet2!A:G,6,FALSE))","v":""},""]
[{"$f":"IF(OR(E1058=\"\",ISBLANK(E1058)),\"\",VLOOKUP(E1058,Sheet2!A:F,2,FALSE))","v":""},{"$f":"IF(OR(E1058=\"\",ISBLANK(E1058)),\"\",VLOOKUP(E1058,Sheet2!A:G,4,FALSE))","v":""},"",{"$f":"IF(OR(E1058=\"\",ISBLANK(E1058)),\"\",VLOOKUP(E1058,Sheet2!A:H,3,FALSE))","v":""},null,{"$f":"IF(OR(E1058=\"\",ISBLANK(E1058)),\"\",VLOOKUP(E1058,Sheet2!A:G,6,FALSE))","v":""},""]
[{"$f":"IF(OR(E1059=\"\",ISBLANK(E1059)),\"\",VLOOKUP(E1059,Sheet2!A:F,2,FALSE))","v":""},{"$f":"IF(OR(E1059=\"\",ISBLANK(E1059)),\"\",VLOOKUP(E1059,Sheet2!A:G,4,FALSE))","v":""},"",{"$f":"IF(OR(E1059=\"\",ISBLANK(E1059)),\"\",VLOOKUP(E1059,Sheet2!A:H,3,FALSE))","v":""},null,{"$f":"IF(OR(E1059=\"\",ISBLANK(E1059)),\"\",VLOOKUP(E1059,Sheet2!A:G,6,FALSE))","v":""},""]
[{"$f":"IF(OR(E1060=\"\",ISBLANK(E1060)),\"\",VLOOKUP(E1060,Sheet2!A:F,2,FALSE))","v":""},{"$f":"IF(OR(E1060=\"\",ISBLANK(E1060)),\"\",VLOOKUP(E1060,Sheet2!A:G,4,FALSE))","v":""},"",{"$f":"IF(OR(E1060=\"\",ISBLANK(E1060)),\"\",VLOOKUP(E1060,Sheet2!A:H,3,FALSE))","v":""},null,{"$f":"IF(OR(E1060=\"\",ISBLANK(E1060)),\"\",VLOOKUP(E1060,Sheet2!A:G,6,FALSE))","v":""},""]
[{"$f":"IF(OR(E1061=\"\",ISBLANK(E1061)),\"\",VLOOKUP(E1061,Sheet2!A:F,2,FALSE))","v":""},{"$f":"IF(OR(E1061=\"\",ISBLANK(E1061)),\"\",VLOOKUP(E1061,Sheet2!A:G,4,FALSE))","v":""},"",{"$f":"IF(OR(E1061=\"\",ISBLANK(E1061)),\"\",VLOOKUP(E1061,Sheet2!A:H,3,FALSE))","v":""},null,{"$f":"IF(OR(E1061=\"\",ISBLANK(E1061)),\"\",VLOOKUP(E1061,Sheet2!A:G,6,FALSE))","v":""},""]
[{"$f":"IF(OR(E1062=\"\",ISBLANK(E1062)),\"\",VLOOKUP(E1062,Sheet2!A:F,2,FALSE))","v":""},{"$f":"IF(OR(E1062=\"\",ISBLANK(E1062)),\"\",VLOOKUP(E1062,Sheet2!A:G,4,FALSE))","v":""},"",{"$f":"IF(OR(E1062=\"\",ISBLANK(E1062)),\"\",VLOOKUP(E1062,Sheet2!A:H,3,FALSE))","v":""},null,{"$f":"IF(OR(E1062=\"\",ISBLANK(E1062)),\"\",VLOOKUP(E1062,Sheet2!A:G,6,FALSE))","v":""},""]
[{"$f":"IF(OR(E1063=\"\",ISBLANK(E1063)),\"\",VLOOKUP(E1063,Sheet2!A:F,2,FALSE))","v":""},{"$f":"IF(OR(E1063=\"\",ISBLANK(E1063)),\"\",VLOOKUP(E1063,Sheet2!A:G,4,FALSE))","v":""},"",{"$f":"IF(OR(E1063=\"\",ISBLANK(E1063)),\"\",VLOOKUP(E1063,Sheet2!A:H,3,FALSE))","v":""},null,{"$f":"IF(OR(E1063=\"\",ISBLANK(E1063)),\"\",VLOOKUP(E1063,Sheet2!A:G,6,FALSE))","v":""},""]
[{"$f":"IF(OR(E1064=\"\",ISBLANK(E1064)),\"\",VLOOKUP(E1064,Sheet2!A:F,2,FALSE))","v":""},{"$f":"IF(OR(E1064=\"\",ISBLANK(E1064)),\"\",VLOOKUP(E1064,Sheet2!A:G,4,FALSE))","v":""},"",{"$f":"IF(OR(E1064=\"\",ISBLANK(E1064)),\"\",VLOOKUP(E1064,Sheet2!A:H,3,FALSE))","v":""},null,{"$f":"IF(OR(E1064=\"\",ISBLANK(E1064)),\"\",VLOOKUP(E1064,Sheet2!A:G,6,FALSE))","v":""},""]
[{"$f":"IF(OR(E1065=\"\",ISBLANK(E1065)),\"\",VLOOKUP(E1065,Sheet2!A:F,2,FALSE))","v":""},{"$f":"IF(OR(E1065=\"\",ISBLANK(E1065)),\"\",VLOOKUP(E1065,Sheet2!A:G,4,FALSE))","v":""},"",{"$f":"IF(OR(E1065=\"\",ISBLANK(E1065)),\"\",VLOOKUP(E1065,Sheet2!A:H,3,FALSE))","v":""},null,{"$f":"IF(OR(E1065=\"\",ISBLANK(E1065)),\"\",VLOOKUP(E1065,Sheet2!A:G,6,FALSE))","v":""},""]
[{"$f":"IF(OR(E1066=\"\",ISBLANK(E1066)),\"\",VLOOKUP(E1066,Sheet2!A:F,2,FALSE))","v":""},{"$f":"IF(OR(E1066=\"\",ISBLANK(E1066)),\"\",VLOOKUP(E1066,Sheet2!A:G,4,FALSE))","v":""},"",{"$f":"IF(OR(E1066=\"\",ISBLANK(E1066)),\"\",VLOOKUP(E1066,Sheet2!A:H,3,FALSE))","v":""},null,{"$f":"IF(OR(E1066=\"\",ISBLANK(E1066)),\"\",VLOOKUP(E1066,Sheet2!A:G,6,FALSE))","v":""},""]
[{"$f":"IF(OR(E1067=\"\",ISBLANK(E1067)),\"\",VLOOKUP(E1067,Sheet2!A:F,2,FALSE))","v":""},{"$f":"IF(OR(E1067=\"\",ISBLANK(E1067)),\"\",VLOOKUP(E1067,Sheet2!A:G,4,FALSE))","v":""},"",{"$f":"IF(OR(E1067=\"\",ISBLANK(E1067)),\"\",VLOOKUP(E1067,Sheet2!A:H,3,FALSE))","v":""},null,{"$f":"IF(OR(E1067=\"\",ISBLANK(E1067)),\"\",VLOOKUP(E1067,Sheet2!A:G,6,FALSE))","v":""},""]
[{"$f":"IF(OR(E1068=\"\",ISBLANK(E1068)),\"\",VLOOKUP(E1068,Sheet2!A:F,2,FALSE))","v":""},{"$f":"IF(OR(E1068=\"\",ISBLANK(E1068)),\"\",VLOOKUP(E1068,Sheet2!A:G,4,FALSE))","v":""},"",{"$f":"IF(OR(E1068=\"\",ISBLANK(E1068)),\"\",VLOOKUP(E1068,Sheet2!A:H,3,FALSE))","v":""},null,{"$f":"IF(OR(E1068=\"\",ISBLANK(E1068)),\"\",VLOOKUP(E1068,Sheet2!A:G,6,FALSE))","v":""},""]
[{"$f":"IF(OR(E1069=\"\",ISBLANK(E1069)),\"\",VLOOKUP(E1069,Sheet2!A:F,2,FALSE))","v":""},{"$f":"IF(OR(E1069=\"\",ISBLANK(E1069)),\"\",VLOOKUP(E1069,Sheet2!A:G,4,FALSE))","v":""},"",{"$f":"IF(OR(E1069=\"\",ISBLANK(E1069)),\"\",VLOOKUP(E1069,Sheet2!A:H,3,FALSE))","v":""},null,{"$f":"IF(OR(E1069=\"\",ISBLANK(E1069)),\"\",VLOOKUP(E1069,Sheet2!A:G,6,FALSE))","v":""},""]
[{"$f":"IF(OR(E1070=\"\",ISBLANK(E1070)),\"\",VLOOKUP(E1070,Sheet2!A:F,2,FALSE))","v":""},{"$f":"IF(OR(E1070=\"\",ISBLANK(E1070)),\"\",VLOOKUP(E1070,Sheet2!A:G,4,FALSE))","v":""},"",{"$f":"IF(OR(E1070=\"\",ISBLANK(E1070)),\"\",VLOOKUP(E1070,Sheet2!A:H,3,FALSE))","v":""},null,{"$f":"IF(OR(E1070=\"\",ISBLANK(E1070)),\"\",VLOOKUP(E1070,Sheet2!A:G,6,FALSE))","v":""},""]
[{"$f":"IF(OR(E1071=\"\",ISBLANK(E1071)),\"\",VLOOKUP(E1071,Sheet2!A:F,2,FALSE))","v":""},{"$f":"IF(OR(E1071=\"\",ISBLANK(E1071)),\"\",VLOOKUP(E1071,Sheet2!A:G,4,FALSE))","v":""},"",{"$f":"IF(OR(E1071=\"\",ISBLANK(E1071)),\"\",VLOOKUP(E1071,Sheet2!A:H,3,FALSE))","v":""},null,{"$f":"IF(OR(E1071=\"\",ISBLANK(E1071)),\"\",VLOOKUP(E1071,Sheet2!A:G,6,FALSE))","v":""},""]
[{"$f":"IF(OR(E1072=\"\",ISBLANK(E1072)),\"\",VLOOKUP(E1072,Sheet2!A:F,2,FALSE))","v":""},{"$f":"IF(OR(E1072=\"\",ISBLANK(E1072)),\"\",VLOOKUP(E1072,Sheet2!A:G,4,FALSE))","v":""},"",{"$f":"IF(OR(E1072=\"\",ISBLANK(E1072)),\"\",VLOOKUP(E1072,Sheet2!A:H,3,FALSE))","v":""},null,{"$f":"IF(OR(E1072=\"\",ISBLANK(E1072)),\"\",VLOOKUP(E1072,Sheet2!A:G,6,FALSE))","v":""},""]
[{"$f":"IF(OR(E1073=\"\",ISBLANK(E1073)),\"\",VLOOKUP(E1073,Sheet2!A:F,2,FALSE))","v":""},{"$f":"IF(OR(E1073=\"\",ISBLANK(E1073)),\"\",VLOOKUP(E1073,Sheet2!A:G,4,FALSE))","v":""},"",{"$f":"IF(OR(E1073=\"\",ISBLANK(E1073)),\"\",VLOOKUP(E1073,Sheet2!A:H,3,FALSE))","v":""},null,{"$f":"IF(OR(E1073=\"\",ISBLANK(E1073)),\"\",VLOOKUP(E1073,Sheet2!A:G,6,FALSE))","v":""},""]
[{"$f":"IF(OR(E1074=\"\",ISBLANK(E1074)),\"\",VLOOKUP(E1074,Sheet2!A:F,2,FALSE))","v":""},{"$f":"IF(OR(E1074=\"\",ISBLANK(E1074)),\"\",VLOOKUP(E1074,Sheet2!A:G,4,FALSE))","v":""},"",{"$f":"IF(OR(E1074=\"\",ISBLANK(E1074)),\"\",VLOOKUP(E1074,Sheet2!A:H,3,FALSE))","v":""},null,{"$f":"IF(OR(E1074=\"\",ISBLANK(E1074)),\"\",VLOOKUP(E1074,Sheet2!A:G,6,FALSE))","v":""},""]
[{"$f":"IF(OR(E1075=\"\",ISBLANK(E1075)),\"\",VLOOKUP(E1075,Sheet2!A:F,2,FALSE))","v":""},{"$f":"IF(OR(E1075=\"\",ISBLANK(E1075)),\"\",VLOOKUP(E1075,Sheet2!A:G,4,FALSE))","v":""},"",{"$f":"IF(OR(E1075=\"\",ISBLANK(E1075)),\"\",VLOOKUP(E1075,Sheet2!A:H,3,FALSE))","v":""},null,{"$f":"IF(OR(E1075=\"\",ISBLANK(E1075)),\"\",VLOOKUP(E1075,Sheet2!A:G,6,FALSE))","v":""},""]
[{"$f":"IF(OR(E1076=\"\",ISBLANK(E1076)),\"\",VLOOKUP(E1076,Sheet2!A:F,2,FALSE))","v":""},{"$f":"IF(OR(E1076=\"\",ISBLANK(E1076)),\"\",VLOOKUP(E1076,Sheet2!A:G,4,FALSE))","v":""},"",{"$f":"IF(OR(E1076=\"\",ISBLANK(E1076)),\"\",VLOOKUP(E1076,Sheet2!A:H,3,FALSE))","v":""},null,{"$f":"IF(OR(E1076=\"\",ISBLANK(E1076)),\"\",VLOOKUP(E1076,Sheet2!A:G,6,FALSE))","v":""},""]
[{"$f":"IF(OR(E1077=\"\",ISBLANK(E1077)),\"\",VLOOKUP(E1077,Sheet2!A:F,2,FALSE))","v":""},{"$f":"IF(OR(E1077=\"\",ISBLANK(E1077)),\"\",VLOOKUP(E1077,Sheet2!A:G,4,FALSE))","v":""},"",{"$f":"IF(OR(E1077=\"\",ISBLANK(E1077)),\"\",VLOOKUP(E1077,Sheet2!A:H,3,FALSE))","v":""},null,{"$f":"IF(OR(E1077=\"\",ISBLANK(E1077)),\"\",VLOOKUP(E1077,Sheet2!A:G,6,FALSE))","v":""},""]
[{"$f":"IF(OR(E1078=\"\",ISBLANK(E1078)),\"\",VLOOKUP(E1078,Sheet2!A:F,2,FALSE))","v":""},{"$f":"IF(OR(E1078=\"\",ISBLANK(E1078)),\"\",VLOOKUP(E1078,Sheet2!A:G,4,FALSE))","v":""},"",{"$f":"IF(OR(E1078=\"\",ISBLANK(E1078)),\"\",VLOOKUP(E1078,Sheet2!A:H,3,FALSE))","v":""},null,{"$f":"IF(OR(E1078=\"\",ISBLANK(E1078)),\"\",VLOOKUP(E1078,Sheet2!A:G,6,FALSE))","v":""},""]
[{"$f":"IF(OR(E1079=\"\",ISBLANK(E1079)),\"\",VLOOKUP(E1079,Sheet2!A:F,2,FALSE))","v":""},{"$f":"IF(OR(E1079=\"\",ISBLANK(E1079)),\"\",VLOOKUP(E1079,Sheet2!A:G,4,FALSE))","v":""},"",{"$f":"IF(OR(E1079=\"\",ISBLANK(E1079)),\"\",VLOOKUP(E1079,Sheet2!A:H,3,FALSE))","v":""},null,{"$f":"IF(OR(E1079=\"\",ISBLANK(E1079)),\"\",VLOOKUP(E1079,Sheet2!A:G,6,FALSE))","v":""},""]
[{"$f":"IF(OR(E1080=\"\",ISBLANK(E1080)),\"\",VLOOKUP(E1080,Sheet2!A:F,2,FALSE))","v":""},{"$f":"IF(OR(E1080=\"\",ISBLANK(E1080)),\"\",VLOOKUP(E1080,Sheet2!A:G,4,FALSE))","v":""},"",{"$f":"IF(OR(E1080=\"\",ISBLANK(E1080)),\"\",VLOOKUP(E1080,Sheet2!A:H,3,FALSE))","v":""},null,{"$f":"IF(OR(E1080=\"\",ISBLANK(E1080)),\"\",VLOOKUP(E1080,Sheet2!A:G,6,FALSE))","v":""},""]
[{"$f":"IF(OR(E1081=\"\",ISBLANK(E1081)),\"\",VLOOKUP(E1081,Sheet2!A:F,2,FALSE))","v":""},{"$f":"IF(OR(E1081=\"\",ISBLANK(E1081)),\"\",VLOOKUP(E1081,Sheet2!A:G,4,FALSE))","v":""},"",{"$f":"IF(OR(E1081=\"\",ISBLANK(E1081)),\"\",VLOOKUP(E1081,Sheet2!A:H,3,FALSE))","v":""},null,{"$f":"IF(OR(E1081=\"\",ISBLANK(E1081)),\"\",VLOOKUP(E1081,Sheet2!A:G,6,FALSE))","v":""},""]
[{"$f":"IF(OR(E1082=\"\",ISBLANK(E1082)),\"\",VLOOKUP(E1082,Sheet2!A:F,2,FALSE))","v":""},{"$f":"IF(OR(E1082=\"\",ISBLANK(E1082)),\"\",VLOOKUP(E1082,Sheet2!A:G,4,FALSE))","v":""},"",{"$f":"IF(OR(E1082=\"\",ISBLANK(E1082)),\"\",VLOOKUP(E1082,Sheet2!A:H,3,FALSE))","v":""},null,{"$f":"IF(OR(E1082=\"\",ISBLANK(E1082)),\"\",VLOOKUP(E1082,Sheet2!A:G,6,FALSE))","v":""},""]
[{"$f":"IF(OR(E1083=\"\",ISBLANK(E1083)),\"\",VLOOKUP(E1083,Sheet2!A:F,2,FALSE))","v":""},{"$f":"IF(OR(E1083=\"\",ISBLANK(E1083)),\"\",VLOOKUP(E1083,Sheet2!A:G,4,FALSE))","v":""},"",{"$f":"IF(OR(E1083=\"\",ISBLANK(E1083)),\"\",VLOOKUP(E1083,Sheet2!A:H,3,FALSE))","v":""},null,{"$f":"IF(OR(E1083=\"\",ISBLANK(E1083)),\"\",VLOOKUP(E1083,Sheet2!A:G,6,FALSE))","v":""},""]
[{"$f":"IF(OR(E1084=\"\",ISBLANK(E1084)),\"\",VLOOKUP(E1084,Sheet2!A:F,2,FALSE))","v":""},{"$f":"IF(OR(E1084=\"\",ISBLANK(E1084)),\"\",VLOOKUP(E1084,Sheet2!A:G,4,FALSE))","v":""},"",{"$f":"IF(OR(E1084=\"\",ISBLANK(E1084)),\"\",VLOOKUP(E1084,Sheet2!A:H,3,FALSE))","v":""},null,{"$f":"IF(OR(E1084=\"\",ISBLANK(E1084)),\"\",VLOOKUP(E1084,Sheet2!A:G,6,FALSE))","v":""},""]
[{"$f":"IF(OR(E1085=\"\",ISBLANK(E1085)),\"\",VLOOKUP(E1085,Sheet2!A:F,2,FALSE))","v":""},{"$f":"IF(OR(E1085=\"\",ISBLANK(E1085)),\"\",VLOOKUP(E1085,Sheet2!A:G,4,FALSE))","v":""},"",{"$f":"IF(OR(E1085=\"\",ISBLANK(E1085)),\"\",VLOOKUP(E1085,Sheet2!A:H,3,FALSE))","v":""},null,{"$f":"IF(OR(E1085=\"\",ISBLANK(E1085)),\"\",VLOOKUP(E1085,Sheet2!A:G,6,FALSE))","v":""},""]
[{"$f":"IF(OR(E1086=\"\",ISBLANK(E1086)),\"\",VLOOKUP(E1086,Sheet2!A:F,2,FALSE))","v":""},{"$f":"IF(OR(E1086=\"\",ISBLANK(E1086)),\"\",VLOOKUP(E1086,Sheet2!A:G,4,FALSE))","v":""},"",{"$f":"IF(OR(E1086=\"\",ISBLANK(E1086)),\"\",VLOOKUP(E1086,Sheet2!A:H,3,FALSE))","v":""},null,{"$f":"IF(OR(E1086=\"\",ISBLANK(E1086)),\"\",VLOOKUP(E1086,Sheet2!A:G,6,FALSE))","v":""},""]
[{"$f":"IF(OR(E1087=\"\",ISBLANK(E1087)),\"\",VLOOKUP(E1087,Sheet2!A:F,2,FALSE))","v":""},{"$f":"IF(OR(E1087=\"\",ISBLANK(E1087)),\"\",VLOOKUP(E1087,Sheet2!A:G,4,FALSE))","v":""},"",{"$f":"IF(OR(E1087=\"\",ISBLANK(E1087)),\"\",VLOOKUP(E1087,Sheet2!A:H,3,FALSE))","v":""},null,{"$f":"IF(OR(E1087=\"\",ISBLANK(E1087)),\"\",VLOOKUP(E1087,Sheet2!A:G,6,FALSE))","v":""},""]
[{"$f":"IF(OR(E1088=\"\",ISBLANK(E1088)),\"\",VLOOKUP(E1088,Sheet2!A:F,2,FALSE))","v":""},{"$f":"IF(OR(E1088=\"\",ISBLANK(E1088)),\"\",VLOOKUP(E1088,Sheet2!A:G,4,FALSE))","v":""},"",{"$f":"IF(OR(E1088=\"\",ISBLANK(E1088)),\"\",VLOOKUP(E1088,Sheet2!A:H,3,FALSE))","v":""},null,{"$f":"IF(OR(E1088=\"\",ISBLANK(E1088)),\"\",VLOOKUP(E1088,Sheet2!A:G,6,FALSE))","v":""},""]
[{"$f":"IF(OR(E1089=\"\",ISBLANK(E1089)),\"\",VLOOKUP(E1089,Sheet2!A:F,2,FALSE))","v":""},{"$f":"IF(OR(E1089=\"\",ISBLANK(E1089)),\"\",VLOOKUP(E1089,Sheet2!A:G,4,FALSE))","v":""},"",{"$f":"IF(OR(E1089=\"\",ISBLANK(E1089)),\"\",VLOOKUP(E1089,Sheet2!A:H,3,FALSE))","v":""},null,{"$f":"IF(OR(E1089=\"\",ISBLANK(E1089)),\"\",VLOOKUP(E1089,Sheet2!A:G,6,FALSE))","v":""},""]
[{"$f":"IF(OR(E1090=\"\",ISBLANK(E1090)),\"\",VLOOKUP(E1090,Sheet2!A:F,2,FALSE))","v":""},{"$f":"IF(OR(E1090=\"\",ISBLANK(E1090)),\"\",VLOOKUP(E1090,Sheet2!A:G,4,FALSE))","v":""},"",{"$f":"IF(OR(E1090=\"\",ISBLANK(E1090)),\"\",VLOOKUP(E1090,Sheet2!A:H,3,FALSE))","v":""},null,{"$f":"IF(OR(E1090=\"\",ISBLANK(E1090)),\"\",VLOOKUP(E1090,Sheet2!A:G,6,FALSE))","v":""},""]
[{"$f":"IF(OR(E1091=\"\",ISBLANK(E1091)),\"\",VLOOKUP(E1091,Sheet2!A:F,2,FALSE))","v":""},{"$f":"IF(OR(E1091=\"\",ISBLANK(E1091)),\"\",VLOOKUP(E1091,Sheet2!A:G,4,FALSE))","v":""},{"$f":"IF(D1091=0,\"\",D1091)","v":""},{"$f":"IF(OR(E1091=\"\",ISBLANK(E1091)),\"\",VLOOKUP(E1091,Sheet2!A:H,3,FALSE))","v":""},null,{"$f":"IF(OR(E1091=\"\",ISBLANK(E1091)),\"\",VLOOKUP(E1091,Sheet2!A:G,6,FALSE))","v":""},{"$f":"IF(F1091=0,\"\",F1091)","v":""}]
[{"$f":"IF(OR(E1092=\"\",ISBLANK(E1092)),\"\",VLOOKUP(E1092,Sheet2!A:F,2,FALSE))","v":""},{"$f":"IF(OR(E1092=\"\",ISBLANK(E1092)),\"\",VLOOKUP(E1092,Sheet2!A:G,4,FALSE))","v":""},"",{"$f":"IF(OR(E1092=\"\",ISBLANK(E1092)),\"\",VLOOKUP(E1092,Sheet2!A:H,3,FALSE))","v":""},null,{"$f":"IF(OR(E1092=\"\",ISBLANK(E1092)),\"\",VLOOKUP(E1092,Sheet2!A:G,6,FALSE))","v":""},""]
[{"$f":"IF(OR(E1093=\"\",ISBLANK(E1093)),\"\",VLOOKUP(E1093,Sheet2!A:F,2,FALSE))","v":""},{"$f":"IF(OR(E1093=\"\",ISBLANK(E1093)),\"\",VLOOKUP(E1093,Sheet2!A:G,4,FALSE))","v":""},"",{"$f":"IF(OR(E1093=\"\",ISBLANK(E1093)),\"\",VLOOKUP(E1093,Sheet2!A:H,3,FALSE))","v":""},null,{"$f":"IF(OR(E1093=\"\",ISBLANK(E1093)),\"\",VLOOKUP(E1093,Sheet2!A:G,6,FALSE))","v":""},""]
[{"$f":"IF(OR(E1094=\"\",ISBLANK(E1094)),\"\",VLOOKUP(E1094,Sheet2!A:F,2,FALSE))","v":""},{"$f":"IF(OR(E1094=\"\",ISBLANK(E1094)),\"\",VLOOKUP(E1094,Sheet2!A:G,4,FALSE))","v":""},"",{"$f":"IF(OR(E1094=\"\",ISBLANK(E1094)),\"\",VLOOKUP(E1094,Sheet2!A:H,3,FALSE))","v":""},null,{"$f":"IF(OR(E1094=\"\",ISBLANK(E1094)),\"\",VLOOKUP(E1094,Sheet2!A:G,6,FALSE))","v":""},""]
[{"$f":"IF(OR(E1095=\"\",ISBLANK(E1095)),\"\",VLOOKUP(E1095,Sheet2!A:F,2,FALSE))","v":""},{"$f":"IF(OR(E1095=\"\",ISBLANK(E1095)),\"\",VLOOKUP(E1095,Sheet2!A:G,4,FALSE))","v":""},"",{"$f":"IF(OR(E1095=\"\",ISBLANK(E1095)),\"\",VLOOKUP(E1095,Sheet2!A:H,3,FALSE))","v":""},null,{"$f":"IF(OR(E1095=\"\",ISBLANK(E1095)),\"\",VLOOKUP(E1095,Sheet2!A:G,6,FALSE))","v":""},""]
[{"$f":"IF(OR(E1096=\"\",ISBLANK(E1096)),\"\",VLOOKUP(E1096,Sheet2!A:F,2,FALSE))","v":""},{"$f":"IF(OR(E1096=\"\",ISBLANK(E1096)),\"\",VLOOKUP(E1096,Sheet2!A:G,4,FALSE))","v":""},"",{"$f":"IF(OR(E1096=\"\",ISBLANK(E1096)),\"\",VLOOKUP(E1096,Sheet2!A:H,3,FALSE))","v":""},null,{"$f":"IF(OR(E1096=\"\",ISBLANK(E1096)),\"\",VLOOKUP(E1096,Sheet2!A:G,6,FALSE))","v":""},""]
[{"$f":"IF(OR(E1097=\"\",ISBLANK(E1097)),\"\",VLOOKUP(E1097,Sheet2!A:F,2,FALSE))","v":""},{"$f":"IF(OR(E1097=\"\",ISBLANK(E1097)),\"\",VLOOKUP(E1097,Sheet2!A:G,4,FALSE))","v":""},"",{"$f":"IF(OR(E1097=\"\",ISBLANK(E1097)),\"\",VLOOKUP(E1097,Sheet2!A:H,3,FALSE))","v":""},null,{"$f":"IF(OR(E1097=\"\",ISBLANK(E1097)),\"\",VLOOKUP(E1097,Sheet2!A:G,6,FALSE))","v":""},""]
[{"$f":"IF(OR(E1098=\"\",ISBLANK(E1098)),\"\",VLOOKUP(E1098,Sheet2!A:F,2,FALSE))","v":""},{"$f":"IF(OR(E1098=\"\",ISBLANK(E1098)),\"\",VLOOKUP(E1098,Sheet2!A:G,4,FALSE))","v":""},"",{"$f":"IF(OR(E1098=\"\",ISBLANK(E1098)),\"\",VLOOKUP(E1098,Sheet2!A:H,3,FALSE))","v":""},null,{"$f":"IF(OR(E1098=\"\",ISBLANK(E1098)),\"\",VLOOKUP(E1098,Sheet2!A:G,6,FALSE))","v":""},""]
[{"$f":"IF(OR(E1099=\"\",ISBLANK(E1099)),\"\",VLOOKUP(E1099,Sheet2!A:F,2,FALSE))","v":""},{"$f":"IF(OR(E1099=\"\",ISBLANK(E1099)),\"\",VLOOKUP(E1099,Sheet2!A:G,4,FALSE))","v":""},"",{"$f":"IF(OR(E1099=\"\",ISBLANK(E1099)),\"\",VLOOKUP(E1099,Sheet2!A:H,3,FALSE))","v":""},null,{"$f":"IF(OR(E1099=\"\",ISBLANK(E1099)),\"\",VLOOKUP(E1099,Sheet2!A:G,6,FALSE))","v":""},""]
[{"$f":"IF(OR(E1100=\"\",ISBLANK(E1100)),\"\",VLOOKUP(E1100,Sheet2!A:F,2,FALSE))","v":""},{"$f":"IF(OR(E1100=\"\",ISBLANK(E1100)),\"\",VLOOKUP(E1100,Sheet2!A:G,4,FALSE))","v":""},"",{"$f":"IF(OR(E1100=\"\",ISBLANK(E1100)),\"\",VLOOKUP(E1100,Sheet2!A:H,3,FALSE))","v":""},null,{"$f":"IF(OR(E1100=\"\",ISBLANK(E1100)),\"\",VLOOKUP(E1100,Sheet2!A:G,6,FALSE))","v":""},""]
[{"$f":"IF(OR(E1101=\"\",ISBLANK(E1101)),\"\",VLOOKUP(E1101,Sheet2!A:F,2,FALSE))","v":""},{"$f":"IF(OR(E1101=\"\",ISBLANK(E1101)),\"\",VLOOKUP(E1101,Sheet2!A:G,4,FALSE))","v":""},"",{"$f":"IF(OR(E1101=\"\",ISBLANK(E1101)),\"\",VLOOKUP(E1101,Sheet2!A:H,3,FALSE))","v":""},null,{"$f":"IF(OR(E1101=\"\",ISBLANK(E1101)),\"\",VLOOKUP(E1101,Sheet2!A:G,6,FALSE))","v":""},""]
[{"$f":"IF(OR(E1102=\"\",ISBLANK(E1102)),\"\",VLOOKUP(E1102,Sheet2!A:F,2,FALSE))","v":""},{"$f":"IF(OR(E1102=\"\",ISBLANK(E1102)),\"\",VLOOKUP(E1102,Sheet2!A:G,4,FALSE))","v":""},"",{"$f":"IF(OR(E1102=\"\",ISBLANK(E1102)),\"\",VLOOKUP(E1102,Sheet2!A:H,3,FALSE))","v":""},null,{"$f":"IF(OR(E1102=\"\",ISBLANK(E1102)),\"\",VLOOKUP(E1102,Sheet2!A:G,6,FALSE))","v":""},""]
[{"$f":"IF(OR(E1103=\"\",ISBLANK(E1103)),\"\",VLOOKUP(E1103,Sheet2!A:F,2,FALSE))","v":""},{"$f":"IF(OR(E1103=\"\",ISBLANK(E1103)),\"\",VLOOKUP(E1103,Sheet2!A:G,4,FALSE))","v":""},"",{"$f":"IF(OR(E1103=\"\",ISBLANK(E1103)),\"\",VLOOKUP(E1103,Sheet2!A:H,3,FALSE))","v":""},null,{"$f":"IF(OR(E1103=\"\",ISBLANK(E1103)),\"\",VLOOKUP(E1103,Sheet2!A:G,6,FALSE))","v":""},""]
[{"$f":"IF(OR(E1104=\"\",ISBLANK(E1104)),\"\",VLOOKUP(E1104,Sheet2!A:F,2,FALSE))","v":""},{"$f":"IF(OR(E1104=\"\",ISBLANK(E1104)),\"\",VLOOKUP(E1104,Sheet2!A:G,4,FALSE))","v":""},"",{"$f":"IF(OR(E1104=\"\",ISBLANK(E1104)),\"\",VLOOKUP(E1104,Sheet2!A:H,3,FALSE))","v":""},null,{"$f":"IF(OR(E1104=\"\",ISBLANK(E1104)),\"\",VLOOKUP(E1104,Sheet2!A:G,6,FALSE))","v":""},""]
[{"$f":"IF(OR(E1105=\"\",ISBLANK(E1105)),\"\",VLOOKUP(E1105,Sheet2!A:F,2,FALSE))","v":""},{"$f":"IF(OR(E1105=\"\",ISBLANK(E1105)),\"\",VLOOKUP(E1105,Sheet2!A:G,4,FALSE))","v":""},"",{"$f":"IF(OR(E1105=\"\",ISBLANK(E1105)),\"\",VLOOKUP(E1105,Sheet2!A:H,3,FALSE))","v":""},null,{"$f":"IF(OR(E1105=\"\",ISBLANK(E1105)),\"\",VLOOKUP(E1105,Sheet2!A:G,6,FALSE))","v":""},""]
[{"$f":"IF(OR(E1106=\"\",ISBLANK(E1106)),\"\",VLOOKUP(E1106,Sheet2!A:F,2,FALSE))","v":""},{"$f":"IF(OR(E1106=\"\",ISBLANK(E1106)),\"\",VLOOKUP(E1106,Sheet2!A:G,4,FALSE))","v":""},"",{"$f":"IF(OR(E1106=\"\",ISBLANK(E1106)),\"\",VLOOKUP(E1106,Sheet2!A:H,3,FALSE))","v":""},null,{"$f":"IF(OR(E1106=\"\",ISBLANK(E1106)),\"\",VLOOKUP(E1106,Sheet2!A:G,6,FALSE))","v":""},""]
[{"$f":"IF(OR(E1107=\"\",ISBLANK(E1107)),\"\",VLOOKUP(E1107,Sheet2!A:F,2,FALSE))","v":""},{"$f":"IF(OR(E1107=\"\",ISBLANK(E1107)),\"\",VLOOKUP(E1107,Sheet2!A:G,4,FALSE))","v":""},"",{"$f":"IF(OR(E1107=\"\",ISBLANK(E1107)),\"\",VLOOKUP(E1107,Sheet2!A:H,3,FALSE))","v":""},null,{"$f":"IF(OR(E1107=\"\",ISBLANK(E1107)),\"\",VLOOKUP(E1107,Sheet2!A:G,6,FALSE))","v":""},""]
[{"$f":"IF(OR(E1108=\"\",ISBLANK(E1108)),\"\",VLOOKUP(E1108,Sheet2!A:F,2,FALSE))","v":""},{"$f":"IF(OR(E1108=\"\",ISBLANK(E1108)),\"\",VLOOKUP(E1108,Sheet2!A:G,4,FALSE))","v":""},"",{"$f":"IF(OR(E1108=\"\",ISBLANK(E1108)),\"\",VLOOKUP(E1108,Sheet2!A:H,3,FALSE))","v":""},null,{"$f":"IF(OR(E1108=\"\",ISBLANK(E1108)),\"\",VLOOKUP(E1108,Sheet2!A:G,6,FALSE))","v":""},""]
[{"$f":"IF(OR(E1109=\"\",ISBLANK(E1109)),\"\",VLOOKUP(E1109,Sheet2!A:F,2,FALSE))","v":""},{"$f":"IF(OR(E1109=\"\",ISBLANK(E1109)),\"\",VLOOKUP(E1109,Sheet2!A:G,4,FALSE))","v":""},"",{"$f":"IF(OR(E1109=\"\",ISBLANK(E1109)),\"\",VLOOKUP(E1109,Sheet2!A:H,3,FALSE))","v":""},null,{"$f":"IF(OR(E1109=\"\",ISBLANK(E1109)),\"\",VLOOKUP(E1109,Sheet2!A:G,6,FALSE))","v":""},""]
[{"$f":"IF(OR(E1110=\"\",ISBLANK(E1110)),\"\",VLOOKUP(E1110,Sheet2!A:F,2,FALSE))","v":""},{"$f":"IF(OR(E1110=\"\",ISBLANK(E1110)),\"\",VLOOKUP(E1110,Sheet2!A:G,4,FALSE))","v":""},"",{"$f":"IF(OR(E1110=\"\",ISBLANK(E1110)),\"\",VLOOKUP(E1110,Sheet2!A:H,3,FALSE))","v":""},null,{"$f":"IF(OR(E1110=\"\",ISBLANK(E1110)),\"\",VLOOKUP(E1110,Sheet2!A:G,6,FALSE))","v":""},""]
[{"$f":"IF(OR(E1111=\"\",ISBLANK(E1111)),\"\",VLOOKUP(E1111,Sheet2!A:F,2,FALSE))","v":""},{"$f":"IF(OR(E1111=\"\",ISBLANK(E1111)),\"\",VLOOKUP(E1111,Sheet2!A:G,4,FALSE))","v":""},"",{"$f":"IF(OR(E1111=\"\",ISBLANK(E1111)),\"\",VLOOKUP(E1111,Sheet2!A:H,3,FALSE))","v":""},null,{"$f":"IF(OR(E1111=\"\",ISBLANK(E1111)),\"\",VLOOKUP(E1111,Sheet2!A:G,6,FALSE))","v":""},""]
[{"$f":"IF(OR(E1112=\"\",ISBLANK(E1112)),\"\",VLOOKUP(E1112,Sheet2!A:F,2,FALSE))","v":""},{"$f":"IF(OR(E1112=\"\",ISBLANK(E1112)),\"\",VLOOKUP(E1112,Sheet2!A:G,4,FALSE))","v":""},"",{"$f":"IF(OR(E1112=\"\",ISBLANK(E1112)),\"\",VLOOKUP(E1112,Sheet2!A:H,3,FALSE))","v":""},null,{"$f":"IF(OR(E1112=\"\",ISBLANK(E1112)),\"\",VLOOKUP(E1112,Sheet2!A:G,6,FALSE))","v":""},""]
[{"$f":"IF(OR(E1113=\"\",ISBLANK(E1113)),\"\",VLOOKUP(E1113,Sheet2!A:F,2,FALSE))","v":""},{"$f":"IF(OR(E1113=\"\",ISBLANK(E1113)),\"\",VLOOKUP(E1113,Sheet2!A:G,4,FALSE))","v":""},"",{"$f":"IF(OR(E1113=\"\",ISBLANK(E1113)),\"\",VLOOKUP(E1113,Sheet2!A:H,3,FALSE))","v":""},null,{"$f":"IF(OR(E1113=\"\",ISBLANK(E1113)),\"\",VLOOKUP(E1113,Sheet2!A:G,6,FALSE))","v":""},""]
[{"$f":"IF(OR(E1114=\"\",ISBLANK(E1114)),\"\",VLOOKUP(E1114,Sheet2!A:F,2,FALSE))","v":""},{"$f":"IF(OR(E1114=\"\",ISBLANK(E1114)),\"\",VLOOKUP(E1114,Sheet2!A:G,4,FALSE))","v":""},"",{"$f":"IF(OR(E1114=\"\",ISBLANK(E1114)),\"\",VLOOKUP(E1114,Sheet2!A:H,3,FALSE))","v":""},null,{"$f":"IF(OR(E1114=\"\",ISBLANK(E1114)),\"\",VLOOKUP(E1114,Sheet2!A:G,6,FALSE))","v":""},""]
[{"$f":"IF(OR(E1115=\"\",ISBLANK(E1115)),\"\",VLOOKUP(E1115,Sheet2!A:F,2,FALSE))","v":""},{"$f":"IF(OR(E1115=\"\",ISBLANK(E1115)),\"\",VLOOKUP(E1115,Sheet2!A:G,4,FALSE))","v":""},"",{"$f":"IF(OR(E1115=\"\",ISBLANK(E1115)),\"\",VLOOKUP(E1115,Sheet2!A:H,3,FALSE))","v":""},null,{"$f":"IF(OR(E1115=\"\",ISBLANK(E1115)),\"\",VLOOKUP(E1115,Sheet2!A:G,6,FALSE))","v":""},""]
[{"$f":"IF(OR(E1116=\"\",ISBLANK(E1116)),\"\",VLOOKUP(E1116,Sheet2!A:F,2,FALSE))","v":""},{"$f":"IF(OR(E1116=\"\",ISBLANK(E1116)),\"\",VLOOKUP(E1116,Sheet2!A:G,4,FALSE))","v":""},"",{"$f":"IF(OR(E1116=\"\",ISBLANK(E1116)),\"\",VLOOKUP(E1116,Sheet2!A:H,3,FALSE))","v":""},null,{"$f":"IF(OR(E1116=\"\",ISBLANK(E1116)),\"\",VLOOKUP(E1116,Sheet2!A:G,6,FALSE))","v":""},""]
[{"$f":"IF(OR(E1117=\"\",ISBLANK(E1117)),\"\",VLOOKUP(E1117,Sheet2!A:F,2,FALSE))","v":""},{"$f":"IF(OR(E1117=\"\",ISBLANK(E1117)),\"\",VLOOKUP(E1117,Sheet2!A:G,4,FALSE))","v":""},"",{"$f":"IF(OR(E1117=\"\",ISBLANK(E1117)),\"\",VLOOKUP(E1117,Sheet2!A:H,3,FALSE))","v":""},null,{"$f":"IF(OR(E1117=\"\",ISBLANK(E1117)),\"\",VLOOKUP(E1117,Sheet2!A:G,6,FALSE))","v":""},""]
[{"$f":"IF(OR(E1118=\"\",ISBLANK(E1118)),\"\",VLOOKUP(E1118,Sheet2!A:F,2,FALSE))","v":""},{"$f":"IF(OR(E1118=\"\",ISBLANK(E1118)),\"\",VLOOKUP(E1118,Sheet2!A:G,4,FALSE))","v":""},"",{"$f":"IF(OR(E1118=\"\",ISBLANK(E1118)),\"\",VLOOKUP(E1118,Sheet2!A:H,3,FALSE))","v":""},null,{"$f":"IF(OR(E1118=\"\",ISBLANK(E1118)),\"\",VLOOKUP(E1118,Sheet2!A:G,6,FALSE))","v":""},""]
[{"$f":"IF(OR(E1119=\"\",ISBLANK(E1119)),\"\",VLOOKUP(E1119,Sheet2!A:F,2,FALSE))","v":""},{"$f":"IF(OR(E1119=\"\",ISBLANK(E1119)),\"\",VLOOKUP(E1119,Sheet2!A:G,4,FALSE))","v":""},"",{"$f":"IF(OR(E1119=\"\",ISBLANK(E1119)),\"\",VLOOKUP(E1119,Sheet2!A:H,3,FALSE))","v":""},null,{"$f":"IF(OR(E1119=\"\",ISBLANK(E1119)),\"\",VLOOKUP(E1119,Sheet2!A:G,6,FALSE))","v":""},""]
[{"$f":"IF(OR(E1120=\"\",ISBLANK(E1120)),\"\",VLOOKUP(E1120,Sheet2!A:F,2,FALSE))","v":""},{"$f":"IF(OR(E1120=\"\",ISBLANK(E1120)),\"\",VLOOKUP(E1120,Sheet2!A:G,4,FALSE))","v":""},"",{"$f":"IF(OR(E1120=\"\",ISBLANK(E1120)),\"\",VLOOKUP(E1120,Sheet2!A:H,3,FALSE))","v":""},null,{"$f":"IF(OR(E1120=\"\",ISBLANK(E1120)),\"\",VLOOKUP(E1120,Sheet2!A:G,6,FALSE))","v":""},""]
[{"$f":"IF(OR(E1121=\"\",ISBLANK(E1121)),\"\",VLOOKUP(E1121,Sheet2!A:F,2,FALSE))","v":""},{"$f":"IF(OR(E1121=\"\",ISBLANK(E1121)),\"\",VLOOKUP(E1121,Sheet2!A:G,4,FALSE))","v":""},"",{"$f":"IF(OR(E1121=\"\",ISBLANK(E1121)),\"\",VLOOKUP(E1121,Sheet2!A:H,3,FALSE))","v":""},null,{"$f":"IF(OR(E1121=\"\",ISBLANK(E1121)),\"\",VLOOKUP(E1121,Sheet2!A:G,6,FALSE))","v":""},""]
[{"$f":"IF(OR(E1122=\"\",ISBLANK(E1122)),\"\",VLOOKUP(E1122,Sheet2!A:F,2,FALSE))","v":""},{"$f":"IF(OR(E1122=\"\",ISBLANK(E1122)),\"\",VLOOKUP(E1122,Sheet2!A:G,4,FALSE))","v":""},"",{"$f":"IF(OR(E1122=\"\",ISBLANK(E1122)),\"\",VLOOKUP(E1122,Sheet2!A:H,3,FALSE))","v":""},null,{"$f":"IF(OR(E1122=\"\",ISBLANK(E1122)),\"\",VLOOKUP(E1122,Sheet2!A:G,6,FALSE))","v":""},""]
[{"$f":"IF(OR(E1123=\"\",ISBLANK(E1123)),\"\",VLOOKUP(E1123,Sheet2!A:F,2,FALSE))","v":""},{"$f":"IF(OR(E1123=\"\",ISBLANK(E1123)),\"\",VLOOKUP(E1123,Sheet2!A:G,4,FALSE))","v":""},"",{"$f":"IF(OR(E1123=\"\",ISBLANK(E1123)),\"\",VLOOKUP(E1123,Sheet2!A:H,3,FALSE))","v":""},null,{"$f":"IF(OR(E1123=\"\",ISBLANK(E1123)),\"\",VLOOKUP(E1123,Sheet2!A:G,6,FALSE))","v":""},""]
[{"$f":"IF(OR(E1124=\"\",ISBLANK(E1124)),\"\",VLOOKUP(E1124,Sheet2!A:F,2,FALSE))","v":""},{"$f":"IF(OR(E1124=\"\",ISBLANK(E1124)),\"\",VLOOKUP(E1124,Sheet2!A:G,4,FALSE))","v":""},"",{"$f":"IF(OR(E1124=\"\",ISBLANK(E1124)),\"\",VLOOKUP(E1124,Sheet2!A:H,3,FALSE))","v":""},null,{"$f":"IF(OR(E1124=\"\",ISBLANK(E1124)),\"\",VLOOKUP(E1124,Sheet2!A:G,6,FALSE))","v":""},""]
[{"$f":"IF(OR(E1125=\"\",ISBLANK(E1125)),\"\",VLOOKUP(E1125,Sheet2!A:F,2,FALSE))","v":""},{"$f":"IF(OR(E1125=\"\",ISBLANK(E1125)),\"\",VLOOKUP(E1125,Sheet2!A:G,4,FALSE))","v":""},"",{"$f":"IF(OR(E1125=\"\",ISBLANK(E1125)),\"\",VLOOKUP(E1125,Sheet2!A:H,3,FALSE))","v":""},null,{"$f":"IF(OR(E1125=\"\",ISBLANK(E1125)),\"\",VLOOKUP(E1125,Sheet2!A:G,6,FALSE))","v":""},""]
[{"$f":"IF(OR(E1126=\"\",ISBLANK(E1126)),\"\",VLOOKUP(E1126,Sheet2!A:F,2,FALSE))","v":""},{"$f":"IF(OR(E1126=\"\",ISBLANK(E1126)),\"\",VLOOKUP(E1126,Sheet2!A:G,4,FALSE))","v":""},"",{"$f":"IF(OR(E1126=\"\",ISBLANK(E1126)),\"\",VLOOKUP(E1126,Sheet2!A:H,3,FALSE))","v":""},null,{"$f":"IF(OR(E1126=\"\",ISBLANK(E1126)),\"\",VLOOKUP(E1126,Sheet2!A:G,6,FALSE))","v":""},""]
[{"$f":"IF(OR(E1127=\"\",ISBLANK(E1127)),\"\",VLOOKUP(E1127,Sheet2!A:F,2,FALSE))","v":""},{"$f":"IF(OR(E1127=\"\",ISBLANK(E1127)),\"\",VLOOKUP(E1127,Sheet2!A:G,4,FALSE))","v":""},"",{"$f":"IF(OR(E1127=\"\",ISBLANK(E1127)),\"\",VLOOKUP(E1127,Sheet2!A:H,3,FALSE))","v":""},null,{"$f":"IF(OR(E1127=\"\",ISBLANK(E1127)),\"\",VLOOKUP(E1127,Sheet2!A:G,6,FALSE))","v":""},""]
[{"$f":"IF(OR(E1128=\"\",ISBLANK(E1128)),\"\",VLOOKUP(E1128,Sheet2!A:F,2,FALSE))","v":""},{"$f":"IF(OR(E1128=\"\",ISBLANK(E1128)),\"\",VLOOKUP(E1128,Sheet2!A:G,4,FALSE))","v":""},"",{"$f":"IF(OR(E1128=\"\",ISBLANK(E1128)),\"\",VLOOKUP(E1128,Sheet2!A:H,3,FALSE))","v":""},null,{"$f":"IF(OR(E1128=\"\",ISBLANK(E1128)),\"\",VLOOKUP(E1128,Sheet2!A:G,6,FALSE))","v":""},""]
[{"$f":"IF(OR(E1129=\"\",ISBLANK(E1129)),\"\",VLOOKUP(E1129,Sheet2!A:F,2,FALSE))","v":""},{"$f":"IF(OR(E1129=\"\",ISBLANK(E1129)),\"\",VLOOKUP(E1129,Sheet2!A:G,4,FALSE))","v":""},"",{"$f":"IF(OR(E1129=\"\",ISBLANK(E1129)),\"\",VLOOKUP(E1129,Sheet2!A:H,3,FALSE))","v":""},null,{"$f":"IF(OR(E1129=\"\",ISBLANK(E1129)),\"\",VLOOKUP(E1129,Sheet2!A:G,6,FALSE))","v":""},""]
[{"$f":"IF(OR(E1130=\"\",ISBLANK(E1130)),\"\",VLOOKUP(E1130,Sheet2!A:F,2,FALSE))","v":""},{"$f":"IF(OR(E1130=\"\",ISBLANK(E1130)),\"\",VLOOKUP(E1130,Sheet2!A:G,4,FALSE))","v":""},"",{"$f":"IF(OR(E1130=\"\",ISBLANK(E1130)),\"\",VLOOKUP(E1130,Sheet2!A:H,3,FALSE))","v":""},null,{"$f":"IF(OR(E1130=\"\",ISBLANK(E1130)),\"\",VLOOKUP(E1130,Sheet2!A:G,6,FALSE))","v":""},""]
[{"$f":"IF(OR(E1131=\"\",ISBLANK(E1131)),\"\",VLOOKUP(E1131,Sheet2!A:F,2,FALSE))","v":""},{"$f":"IF(OR(E1131=\"\",ISBLANK(E1131)),\"\",VLOOKUP(E1131,Sheet2!A:G,4,FALSE))","v":""},"",{"$f":"IF(OR(E1131=\"\",ISBLANK(E1131)),\"\",VLOOKUP(E1131,Sheet2!A:H,3,FALSE))","v":""},null,{"$f":"IF(OR(E1131=\"\",ISBLANK(E1131)),\"\",VLOOKUP(E1131,Sheet2!A:G,6,FALSE))","v":""},""]
[{"$f":"IF(OR(E1132=\"\",ISBLANK(E1132)),\"\",VLOOKUP(E1132,Sheet2!A:F,2,FALSE))","v":""},{"$f":"IF(OR(E1132=\"\",ISBLANK(E1132)),\"\",VLOOKUP(E1132,Sheet2!A:G,4,FALSE))","v":""},"",{"$f":"IF(OR(E1132=\"\",ISBLANK(E1132)),\"\",VLOOKUP(E1132,Sheet2!A:H,3,FALSE))","v":""},null,{"$f":"IF(OR(E1132=\"\",ISBLANK(E1132)),\"\",VLOOKUP(E1132,Sheet2!A:G,6,FALSE))","v":""},""]
[{"$f":"IF(OR(E1133=\"\",ISBLANK(E1133)),\"\",VLOOKUP(E1133,Sheet2!A:F,2,FALSE))","v":""},{"$f":"IF(OR(E1133=\"\",ISBLANK(E1133)),\"\",VLOOKUP(E1133,Sheet2!A:G,4,FALSE))","v":""},"",{"$f":"IF(OR(E1133=\"\",ISBLANK(E1133)),\"\",VLOOKUP(E1133,Sheet2!A:H,3,FALSE))","v":""},null,{"$f":"IF(OR(E1133=\"\",ISBLANK(E1133)),\"\",VLOOKUP(E1133,Sheet2!A:G,6,FALSE))","v":""},""]
[{"$f":"IF(OR(E1134=\"\",ISBLANK(E1134)),\"\",VLOOKUP(E1134,Sheet2!A:F,2,FALSE))","v":""},{"$f":"IF(OR(E1134=\"\",ISBLANK(E1134)),\"\",VLOOKUP(E1134,Sheet2!A:G,4,FALSE))","v":""},"",{"$f":"IF(OR(E1134=\"\",ISBLANK(E1134)),\"\",VLOOKUP(E1134,Sheet2!A:H,3,FALSE))","v":""},null,{"$f":"IF(OR(E1134=\"\",ISBLANK(E1134)),\"\",VLOOKUP(E1134,Sheet2!A:G,6,FALSE))","v":""},""]
[{"$f":"IF(OR(E1135=\"\",ISBLANK(E1135)),\"\",VLOOKUP(E1135,Sheet2!A:F,2,FALSE))","v":""},{"$f":"IF(OR(E1135=\"\",ISBLANK(E1135)),\"\",VLOOKUP(E1135,Sheet2!A:G,4,FALSE))","v":""},"",{"$f":"IF(OR(E1135=\"\",ISBLANK(E1135)),\"\",VLOOKUP(E1135,Sheet2!A:H,3,FALSE))","v":""},null,{"$f":"IF(OR(E1135=\"\",ISBLANK(E1135)),\"\",VLOOKUP(E1135,Sheet2!A:G,6,FALSE))","v":""},""]
[{"$f":"IF(OR(E1136=\"\",ISBLANK(E1136)),\"\",VLOOKUP(E1136,Sheet2!A:F,2,FALSE))","v":""},{"$f":"IF(OR(E1136=\"\",ISBLANK(E1136)),\"\",VLOOKUP(E1136,Sheet2!A:G,4,FALSE))","v":""},"",{"$f":"IF(OR(E1136=\"\",ISBLANK(E1136)),\"\",VLOOKUP(E1136,Sheet2!A:H,3,FALSE))","v":""},null,{"$f":"IF(OR(E1136=\"\",ISBLANK(E1136)),\"\",VLOOKUP(E1136,Sheet2!A:G,6,FALSE))","v":""},""]
[{"$f":"IF(OR(E1137=\"\",ISBLANK(E1137)),\"\",VLOOKUP(E1137,Sheet2!A:F,2,FALSE))","v":""},{"$f":"IF(OR(E1137=\"\",ISBLANK(E1137)),\"\",VLOOKUP(E1137,Sheet2!A:G,4,FALSE))","v":""},"",{"$f":"IF(OR(E1137=\"\",ISBLANK(E1137)),\"\",VLOOKUP(E1137,Sheet2!A:H,3,FALSE))","v":""},null,{"$f":"IF(OR(E1137=\"\",ISBLANK(E1137)),\"\",VLOOKUP(E1137,Sheet2!A:G,6,FALSE))","v":""},""]
[{"$f":"IF(OR(E1138=\"\",ISBLANK(E1138)),\"\",VLOOKUP(E1138,Sheet2!A:F,2,FALSE))","v":""},{"$f":"IF(OR(E1138=\"\",ISBLANK(E1138)),\"\",VLOOKUP(E1138,Sheet2!A:G,4,FALSE))","v":""},"",{"$f":"IF(OR(E1138=\"\",ISBLANK(E1138)),\"\",VLOOKUP(E1138,Sheet2!A:H,3,FALSE))","v":""},null,{"$f":"IF(OR(E1138=\"\",ISBLANK(E1138)),\"\",VLOOKUP(E1138,Sheet2!A:G,6,FALSE))","v":""},""]
[{"$f":"IF(OR(E1139=\"\",ISBLANK(E1139)),\"\",VLOOKUP(E1139,Sheet2!A:F,2,FALSE))","v":""},{"$f":"IF(OR(E1139=\"\",ISBLANK(E1139)),\"\",VLOOKUP(E1139,Sheet2!A:G,4,FALSE))","v":""},"",{"$f":"IF(OR(E1139=\"\",ISBLANK(E1139)),\"\",VLOOKUP(E1139,Sheet2!A:H,3,FALSE))","v":""},null,{"$f":"IF(OR(E1139=\"\",ISBLANK(E1139)),\"\",VLOOKUP(E1139,Sheet2!A:G,6,FALSE))","v":""},""]
[{"$f":"IF(OR(E1140=\"\",ISBLANK(E1140)),\"\",VLOOKUP(E1140,Sheet2!A:F,2,FALSE))","v":""},{"$f":"IF(OR(E1140=\"\",ISBLANK(E1140)),\"\",VLOOKUP(E1140,Sheet2!A:G,4,FALSE))","v":""},"",{"$f":"IF(OR(E1140=\"\",ISBLANK(E1140)),\"\",VLOOKUP(E1140,Sheet2!A:H,3,FALSE))","v":""},null,{"$f":"IF(OR(E1140=\"\",ISBLANK(E1140)),\"\",VLOOKUP(E1140,Sheet2!A:G,6,FALSE))","v":""},""]
[{"$f":"IF(OR(E1141=\"\",ISBLANK(E1141)),\"\",VLOOKUP(E1141,Sheet2!A:F,2,FALSE))","v":""},{"$f":"IF(OR(E1141=\"\",ISBLANK(E1141)),\"\",VLOOKUP(E1141,Sheet2!A:G,4,FALSE))","v":""},"",{"$f":"IF(OR(E1141=\"\",ISBLANK(E1141)),\"\",VLOOKUP(E1141,Sheet2!A:H,3,FALSE))","v":""},null,{"$f":"IF(OR(E1141=\"\",ISBLANK(E1141)),\"\",VLOOKUP(E1141,Sheet2!A:G,6,FALSE))","v":""},""]
[{"$f":"IF(OR(E1142=\"\",ISBLANK(E1142)),\"\",VLOOKUP(E1142,Sheet2!A:F,2,FALSE))","v":""},{"$f":"IF(OR(E1142=\"\",ISBLANK(E1142)),\"\",VLOOKUP(E1142,Sheet2!A:G,4,FALSE))","v":""},"",{"$f":"IF(OR(E1142=\"\",ISBLANK(E1142)),\"\",VLOOKUP(E1142,Sheet2!A:H,3,FALSE))","v":""},null,{"$f":"IF(OR(E1142=\"\",ISBLANK(E1142)),\"\",VLOOKUP(E1142,Sheet2!A:G,6,FALSE))","v":""},""]
[{"$f":"IF(OR(E1143=\"\",ISBLANK(E1143)),\"\",VLOOKUP(E1143,Sheet2!A:F,2,FALSE))","v":""},{"$f":"IF(OR(E1143=\"\",ISBLANK(E1143)),\"\",VLOOKUP(E1143,Sheet2!A:G,4,FALSE))","v":""},"",{"$f":"IF(OR(E1143=\"\",ISBLANK(E1143)),\"\",VLOOKUP(E1143,Sheet2!A:H,3,FALSE))","v":""},null,{"$f":"IF(OR(E1143=\"\",ISBLANK(E1143)),\"\",VLOOKUP(E1143,Sheet2!A:G,6,FALSE))","v":""},""]
[{"$f":"IF(OR(E1144=\"\",ISBLANK(E1144)),\"\",VLOOKUP(E1144,Sheet2!A:F,2,FALSE))","v":""},{"$f":"IF(OR(E1144=\"\",ISBLANK(E1144)),\"\",VLOOKUP(E1144,Sheet2!A:G,4,FALSE))","v":""},"",{"$f":"IF(OR(E1144=\"\",ISBLANK(E1144)),\"\",VLOOKUP(E1144,Sheet2!A:H,3,FALSE))","v":""},null,{"$f":"IF(OR(E1144=\"\",ISBLANK(E1144)),\"\",VLOOKUP(E1144,Sheet2!A:G,6,FALSE))","v":""},""]
[{"$f":"IF(OR(E1145=\"\",ISBLANK(E1145)),\"\",VLOOKUP(E1145,Sheet2!A:F,2,FALSE))","v":""},{"$f":"IF(OR(E1145=\"\",ISBLANK(E1145)),\"\",VLOOKUP(E1145,Sheet2!A:G,4,FALSE))","v":""},"",{"$f":"IF(OR(E1145=\"\",ISBLANK(E1145)),\"\",VLOOKUP(E1145,Sheet2!A:H,3,FALSE))","v":""},null,{"$f":"IF(OR(E1145=\"\",ISBLANK(E1145)),\"\",VLOOKUP(E1145,Sheet2!A:G,6,FALSE))","v":""},""]
[{"$f":"IF(OR(E1146=\"\",ISBLANK(E1146)),\"\",VLOOKUP(E1146,Sheet2!A:F,2,FALSE))","v":""},{"$f":"IF(OR(E1146=\"\",ISBLANK(E1146)),\"\",VLOOKUP(E1146,Sheet2!A:G,4,FALSE))","v":""},"",{"$f":"IF(OR(E1146=\"\",ISBLANK(E1146)),\"\",VLOOKUP(E1146,Sheet2!A:H,3,FALSE))","v":""},null,{"$f":"IF(OR(E1146=\"\",ISBLANK(E1146)),\"\",VLOOKUP(E1146,Sheet2!A:G,6,FALSE))","v":""},""]
[{"$f":"IF(OR(E1147=\"\",ISBLANK(E1147)),\"\",VLOOKUP(E1147,Sheet2!A:F,2,FALSE))","v":""},{"$f":"IF(OR(E1147=\"\",ISBLANK(E1147)),\"\",VLOOKUP(E1147,Sheet2!A:G,4,FALSE))","v":""},"",{"$f":"IF(OR(E1147=\"\",ISBLANK(E1147)),\"\",VLOOKUP(E1147,Sheet2!A:H,3,FALSE))","v":""},null,{"$f":"IF(OR(E1147=\"\",ISBLANK(E1147)),\"\",VLOOKUP(E1147,Sheet2!A:G,6,FALSE))","v":""},""]
[{"$f":"IF(OR(E1148=\"\",ISBLANK(E1148)),\"\",VLOOKUP(E1148,Sheet2!A:F,2,FALSE))","v":""},{"$f":"IF(OR(E1148=\"\",ISBLANK(E1148)),\"\",VLOOKUP(E1148,Sheet2!A:G,4,FALSE))","v":""},"",{"$f":"IF(OR(E1148=\"\",ISBLANK(E1148)),\"\",VLOOKUP(E1148,Sheet2!A:H,3,FALSE))","v":""},null,{"$f":"IF(OR(E1148=\"\",ISBLANK(E1148)),\"\",VLOOKUP(E1148,Sheet2!A:G,6,FALSE))","v":""},""]
[{"$f":"IF(OR(E1149=\"\",ISBLANK(E1149)),\"\",VLOOKUP(E1149,Sheet2!A:F,2,FALSE))","v":""},{"$f":"IF(OR(E1149=\"\",ISBLANK(E1149)),\"\",VLOOKUP(E1149,Sheet2!A:G,4,FALSE))","v":""},"",{"$f":"IF(OR(E1149=\"\",ISBLANK(E1149)),\"\",VLOOKUP(E1149,Sheet2!A:H,3,FALSE))","v":""},null,{"$f":"IF(OR(E1149=\"\",ISBLANK(E1149)),\"\",VLOOKUP(E1149,Sheet2!A:G,6,FALSE))","v":""},""]
[{"$f":"IF(OR(E1150=\"\",ISBLANK(E1150)),\"\",VLOOKUP(E1150,Sheet2!A:F,2,FALSE))","v":""},{"$f":"IF(OR(E1150=\"\",ISBLANK(E1150)),\"\",VLOOKUP(E1150,Sheet2!A:G,4,FALSE))","v":""},"",{"$f":"IF(OR(E1150=\"\",ISBLANK(E1150)),\"\",VLOOKUP(E1150,Sheet2!A:H,3,FALSE))","v":""},null,{"$f":"IF(OR(E1150=\"\",ISBLANK(E1150)),\"\",VLOOKUP(E1150,Sheet2!A:G,6,FALSE))","v":""},""]
[{"$f":"IF(OR(E1151=\"\",ISBLANK(E1151)),\"\",VLOOKUP(E1151,Sheet2!A:F,2,FALSE))","v":""},{"$f":"IF(OR(E1151=\"\",ISBLANK(E1151)),\"\",VLOOKUP(E1151,Sheet2!A:G,4,FALSE))","v":""},"",{"$f":"IF(OR(E1151=\"\",ISBLANK(E1151)),\"\",VLOOKUP(E1151,Sheet2!A:H,3,FALSE))","v":""},null,{"$f":"IF(OR(E1151=\"\",ISBLANK(E1151)),\"\",VLOOKUP(E1151,Sheet2!A:G,6,FALSE))","v":""},""]
[{"$f":"IF(OR(E1152=\"\",ISBLANK(E1152)),\"\",VLOOKUP(E1152,Sheet2!A:F,2,FALSE))","v":""},{"$f":"IF(OR(E1152=\"\",ISBLANK(E1152)),\"\",VLOOKUP(E1152,Sheet2!A:G,4,FALSE))","v":""},"",{"$f":"IF(OR(E1152=\"\",ISBLANK(E1152)),\"\",VLOOKUP(E1152,Sheet2!A:H,3,FALSE))","v":""},null,{"$f":"IF(OR(E1152=\"\",ISBLANK(E1152)),\"\",VLOOKUP(E1152,Sheet2!A:G,6,FALSE))","v":""},""]
[{"$f":"IF(OR(E1153=\"\",ISBLANK(E1153)),\"\",VLOOKUP(E1153,Sheet2!A:F,2,FALSE))","v":""},{"$f":"IF(OR(E1153=\"\",ISBLANK(E1153)),\"\",VLOOKUP(E1153,Sheet2!A:G,4,FALSE))","v":""},"",{"$f":"IF(OR(E1153=\"\",ISBLANK(E1153)),\"\",VLOOKUP(E1153,Sheet2!A:H,3,FALSE))","v":""},null,{"$f":"IF(OR(E1153=\"\",ISBLANK(E1153)),\"\",VLOOKUP(E1153,Sheet2!A:G,6,FALSE))","v":""},""]
[{"$f":"IF(OR(E1154=\"\",ISBLANK(E1154)),\"\",VLOOKUP(E1154,Sheet2!A:F,2,FALSE))","v":""},{"$f":"IF(OR(E1154=\"\",ISBLANK(E1154)),\"\",VLOOKUP(E1154,Sheet2!A:G,4,FALSE))","v":""},"",{"$f":"IF(OR(E1154=\"\",ISBLANK(E1154)),\"\",VLOOKUP(E1154,Sheet2!A:H,3,FALSE))","v":""},null,{"$f":"IF(OR(E1154=\"\",ISBLANK(E1154)),\"\",VLOOKUP(E1154,Sheet2!A:G,6,FALSE))","v":""},""]
[{"$f":"IF(OR(E1155=\"\",ISBLANK(E1155)),\"\",VLOOKUP(E1155,Sheet2!A:F,2,FALSE))","v":""},{"$f":"IF(OR(E1155=\"\",ISBLANK(E1155)),\"\",VLOOKUP(E1155,Sheet2!A:G,4,FALSE))","v":""},{"$f":"IF(D1155=0,\"\",D1155)","v":""},{"$f":"IF(OR(E1155=\"\",ISBLANK(E1155)),\"\",VLOOKUP(E1155,Sheet2!A:H,3,FALSE))","v":""},null,{"$f":"IF(OR(E1155=\"\",ISBLANK(E1155)),\"\",VLOOKUP(E1155,Sheet2!A:G,6,FALSE))","v":""},{"$f":"IF(F1155=0,\"\",F1155)","v":""}]
[{"$f":"IF(OR(E1156=\"\",ISBLANK(E1156)),\"\",VLOOKUP(E1156,Sheet2!A:F,2,FALSE))","v":""},{"$f":"IF(OR(E1156=\"\",ISBLANK(E1156)),\"\",VLOOKUP(E1156,Sheet2!A:G,4,FALSE))","v":""},"",{"$f":"IF(OR(E1156=\"\",ISBLANK(E1156)),\"\",VLOOKUP(E1156,Sheet2!A:H,3,FALSE))","v":""},null,{"$f":"IF(OR(E1156=\"\",ISBLANK(E1156)),\"\",VLOOKUP(E1156,Sheet2!A:G,6,FALSE))","v":""},""]
[{"$f":"IF(OR(E1157=\"\",ISBLANK(E1157)),\"\",VLOOKUP(E1157,Sheet2!A:F,2,FALSE))","v":""},{"$f":"IF(OR(E1157=\"\",ISBLANK(E1157)),\"\",VLOOKUP(E1157,Sheet2!A:G,4,FALSE))","v":""},"",{"$f":"IF(OR(E1157=\"\",ISBLANK(E1157)),\"\",VLOOKUP(E1157,Sheet2!A:H,3,FALSE))","v":""},null,{"$f":"IF(OR(E1157=\"\",ISBLANK(E1157)),\"\",VLOOKUP(E1157,Sheet2!A:G,6,FALSE))","v":""},""]
[{"$f":"IF(OR(E1158=\"\",ISBLANK(E1158)),\"\",VLOOKUP(E1158,Sheet2!A:F,2,FALSE))","v":""},{"$f":"IF(OR(E1158=\"\",ISBLANK(E1158)),\"\",VLOOKUP(E1158,Sheet2!A:G,4,FALSE))","v":""},"",{"$f":"IF(OR(E1158=\"\",ISBLANK(E1158)),\"\",VLOOKUP(E1158,Sheet2!A:H,3,FALSE))","v":""},null,{"$f":"IF(OR(E1158=\"\",ISBLANK(E1158)),\"\",VLOOKUP(E1158,Sheet2!A:G,6,FALSE))","v":""},""]
[{"$f":"IF(OR(E1159=\"\",ISBLANK(E1159)),\"\",VLOOKUP(E1159,Sheet2!A:F,2,FALSE))","v":""},{"$f":"IF(OR(E1159=\"\",ISBLANK(E1159)),\"\",VLOOKUP(E1159,Sheet2!A:G,4,FALSE))","v":""},"",{"$f":"IF(OR(E1159=\"\",ISBLANK(E1159)),\"\",VLOOKUP(E1159,Sheet2!A:H,3,FALSE))","v":""},null,{"$f":"IF(OR(E1159=\"\",ISBLANK(E1159)),\"\",VLOOKUP(E1159,Sheet2!A:G,6,FALSE))","v":""},""]
[{"$f":"IF(OR(E1160=\"\",ISBLANK(E1160)),\"\",VLOOKUP(E1160,Sheet2!A:F,2,FALSE))","v":""},{"$f":"IF(OR(E1160=\"\",ISBLANK(E1160)),\"\",VLOOKUP(E1160,Sheet2!A:G,4,FALSE))","v":""},"",{"$f":"IF(OR(E1160=\"\",ISBLANK(E1160)),\"\",VLOOKUP(E1160,Sheet2!A:H,3,FALSE))","v":""},null,{"$f":"IF(OR(E1160=\"\",ISBLANK(E1160)),\"\",VLOOKUP(E1160,Sheet2!A:G,6,FALSE))","v":""},""]
[{"$f":"IF(OR(E1161=\"\",ISBLANK(E1161)),\"\",VLOOKUP(E1161,Sheet2!A:F,2,FALSE))","v":""},{"$f":"IF(OR(E1161=\"\",ISBLANK(E1161)),\"\",VLOOKUP(E1161,Sheet2!A:G,4,FALSE))","v":""},"",{"$f":"IF(OR(E1161=\"\",ISBLANK(E1161)),\"\",VLOOKUP(E1161,Sheet2!A:H,3,FALSE))","v":""},null,{"$f":"IF(OR(E1161=\"\",ISBLANK(E1161)),\"\",VLOOKUP(E1161,Sheet2!A:G,6,FALSE))","v":""},""]
[{"$f":"IF(OR(E1162=\"\",ISBLANK(E1162)),\"\",VLOOKUP(E1162,Sheet2!A:F,2,FALSE))","v":""},{"$f":"IF(OR(E1162=\"\",ISBLANK(E1162)),\"\",VLOOKUP(E1162,Sheet2!A:G,4,FALSE))","v":""},"",{"$f":"IF(OR(E1162=\"\",ISBLANK(E1162)),\"\",VLOOKUP(E1162,Sheet2!A:H,3,FALSE))","v":""},null,{"$f":"IF(OR(E1162=\"\",ISBLANK(E1162)),\"\",VLOOKUP(E1162,Sheet2!A:G,6,FALSE))","v":""},""]
[{"$f":"IF(OR(E1163=\"\",ISBLANK(E1163)),\"\",VLOOKUP(E1163,Sheet2!A:F,2,FALSE))","v":""},{"$f":"IF(OR(E1163=\"\",ISBLANK(E1163)),\"\",VLOOKUP(E1163,Sheet2!A:G,4,FALSE))","v":""},"",{"$f":"IF(OR(E1163=\"\",ISBLANK(E1163)),\"\",VLOOKUP(E1163,Sheet2!A:H,3,FALSE))","v":""},null,{"$f":"IF(OR(E1163=\"\",ISBLANK(E1163)),\"\",VLOOKUP(E1163,Sheet2!A:G,6,FALSE))","v":""},""]
[{"$f":"IF(OR(E1164=\"\",ISBLANK(E1164)),\"\",VLOOKUP(E1164,Sheet2!A:F,2,FALSE))","v":""},{"$f":"IF(OR(E1164=\"\",ISBLANK(E1164)),\"\",VLOOKUP(E1164,Sheet2!A:G,4,FALSE))","v":""},"",{"$f":"IF(OR(E1164=\"\",ISBLANK(E1164)),\"\",VLOOKUP(E1164,Sheet2!A:H,3,FALSE))","v":""},null,{"$f":"IF(OR(E1164=\"\",ISBLANK(E1164)),\"\",VLOOKUP(E1164,Sheet2!A:G,6,FALSE))","v":""},""]
[{"$f":"IF(OR(E1165=\"\",ISBLANK(E1165)),\"\",VLOOKUP(E1165,Sheet2!A:F,2,FALSE))","v":""},{"$f":"IF(OR(E1165=\"\",ISBLANK(E1165)),\"\",VLOOKUP(E1165,Sheet2!A:G,4,FALSE))","v":""},"",{"$f":"IF(OR(E1165=\"\",ISBLANK(E1165)),\"\",VLOOKUP(E1165,Sheet2!A:H,3,FALSE))","v":""},null,{"$f":"IF(OR(E1165=\"\",ISBLANK(E1165)),\"\",VLOOKUP(E1165,Sheet2!A:G,6,FALSE))","v":""},""]
[{"$f":"IF(OR(E1166=\"\",ISBLANK(E1166)),\"\",VLOOKUP(E1166,Sheet2!A:F,2,FALSE))","v":""},{"$f":"IF(OR(E1166=\"\",ISBLANK(E1166)),\"\",VLOOKUP(E1166,Sheet2!A:G,4,FALSE))","v":""},"",{"$f":"IF(OR(E1166=\"\",ISBLANK(E1166)),\"\",VLOOKUP(E1166,Sheet2!A:H,3,FALSE))","v":""},null,{"$f":"IF(OR(E1166=\"\",ISBLANK(E1166)),\"\",VLOOKUP(E1166,Sheet2!A:G,6,FALSE))","v":""},""]
[{"$f":"IF(OR(E1167=\"\",ISBLANK(E1167)),\"\",VLOOKUP(E1167,Sheet2!A:F,2,FALSE))","v":""},{"$f":"IF(OR(E1167=\"\",ISBLANK(E1167)),\"\",VLOOKUP(E1167,Sheet2!A:G,4,FALSE))","v":""},"",{"$f":"IF(OR(E1167=\"\",ISBLANK(E1167)),\"\",VLOOKUP(E1167,Sheet2!A:H,3,FALSE))","v":""},null,{"$f":"IF(OR(E1167=\"\",ISBLANK(E1167)),\"\",VLOOKUP(E1167,Sheet2!A:G,6,FALSE))","v":""},""]
[{"$f":"IF(OR(E1168=\"\",ISBLANK(E1168)),\"\",VLOOKUP(E1168,Sheet2!A:F,2,FALSE))","v":""},{"$f":"IF(OR(E1168=\"\",ISBLANK(E1168)),\"\",VLOOKUP(E1168,Sheet2!A:G,4,FALSE))","v":""},"",{"$f":"IF(OR(E1168=\"\",ISBLANK(E1168)),\"\",VLOOKUP(E1168,Sheet2!A:H,3,FALSE))","v":""},null,{"$f":"IF(OR(E1168=\"\",ISBLANK(E1168)),\"\",VLOOKUP(E1168,Sheet2!A:G,6,FALSE))","v":""},""]
[{"$f":"IF(OR(E1169=\"\",ISBLANK(E1169)),\"\",VLOOKUP(E1169,Sheet2!A:F,2,FALSE))","v":""},{"$f":"IF(OR(E1169=\"\",ISBLANK(E1169)),\"\",VLOOKUP(E1169,Sheet2!A:G,4,FALSE))","v":""},"",{"$f":"IF(OR(E1169=\"\",ISBLANK(E1169)),\"\",VLOOKUP(E1169,Sheet2!A:H,3,FALSE))","v":""},null,{"$f":"IF(OR(E1169=\"\",ISBLANK(E1169)),\"\",VLOOKUP(E1169,Sheet2!A:G,6,FALSE))","v":""},""]
[{"$f":"IF(OR(E1170=\"\",ISBLANK(E1170)),\"\",VLOOKUP(E1170,Sheet2!A:F,2,FALSE))","v":""},{"$f":"IF(OR(E1170=\"\",ISBLANK(E1170)),\"\",VLOOKUP(E1170,Sheet2!A:G,4,FALSE))","v":""},"",{"$f":"IF(OR(E1170=\"\",ISBLANK(E1170)),\"\",VLOOKUP(E1170,Sheet2!A:H,3,FALSE))","v":""},null,{"$f":"IF(OR(E1170=\"\",ISBLANK(E1170)),\"\",VLOOKUP(E1170,Sheet2!A:G,6,FALSE))","v":""},""]
[{"$f":"IF(OR(E1171=\"\",ISBLANK(E1171)),\"\",VLOOKUP(E1171,Sheet2!A:F,2,FALSE))","v":""},{"$f":"IF(OR(E1171=\"\",ISBLANK(E1171)),\"\",VLOOKUP(E1171,Sheet2!A:G,4,FALSE))","v":""},"",{"$f":"IF(OR(E1171=\"\",ISBLANK(E1171)),\"\",VLOOKUP(E1171,Sheet2!A:H,3,FALSE))","v":""},null,{"$f":"IF(OR(E1171=\"\",ISBLANK(E1171)),\"\",VLOOKUP(E1171,Sheet2!A:G,6,FALSE))","v":""},""]
[{"$f":"IF(OR(E1172=\"\",ISBLANK(E1172)),\"\",VLOOKUP(E1172,Sheet2!A:F,2,FALSE))","v":""},{"$f":"IF(OR(E1172=\"\",ISBLANK(E1172)),\"\",VLOOKUP(E1172,Sheet2!A:G,4,FALSE))","v":""},"",{"$f":"IF(OR(E1172=\"\",ISBLANK(E1172)),\"\",VLOOKUP(E1172,Sheet2!A:H,3,FALSE))","v":""},null,{"$f":"IF(OR(E1172=\"\",ISBLANK(E1172)),\"\",VLOOKUP(E1172,Sheet2!A:G,6,FALSE))","v":""},""]
[{"$f":"IF(OR(E1173=\"\",ISBLANK(E1173)),\"\",VLOOKUP(E1173,Sheet2!A:F,2,FALSE))","v":""},{"$f":"IF(OR(E1173=\"\",ISBLANK(E1173)),\"\",VLOOKUP(E1173,Sheet2!A:G,4,FALSE))","v":""},"",{"$f":"IF(OR(E1173=\"\",ISBLANK(E1173)),\"\",VLOOKUP(E1173,Sheet2!A:H,3,FALSE))","v":""},null,{"$f":"IF(OR(E1173=\"\",ISBLANK(E1173)),\"\",VLOOKUP(E1173,Sheet2!A:G,6,FALSE))","v":""},""]
[{"$f":"IF(OR(E1174=\"\",ISBLANK(E1174)),\"\",VLOOKUP(E1174,Sheet2!A:F,2,FALSE))","v":""},{"$f":"IF(OR(E1174=\"\",ISBLANK(E1174)),\"\",VLOOKUP(E1174,Sheet2!A:G,4,FALSE))","v":""},"",{"$f":"IF(OR(E1174=\"\",ISBLANK(E1174)),\"\",VLOOKUP(E1174,Sheet2!A:H,3,FALSE))","v":""},null,{"$f":"IF(OR(E1174=\"\",ISBLANK(E1174)),\"\",VLOOKUP(E1174,Sheet2!A:G,6,FALSE))","v":""},""]
[{"$f":"IF(OR(E1175=\"\",ISBLANK(E1175)),\"\",VLOOKUP(E1175,Sheet2!A:F,2,FALSE))","v":""},{"$f":"IF(OR(E1175=\"\",ISBLANK(E1175)),\"\",VLOOKUP(E1175,Sheet2!A:G,4,FALSE))","v":""},"",{"$f":"IF(OR(E1175=\"\",ISBLANK(E1175)),\"\",VLOOKUP(E1175,Sheet2!A:H,3,FALSE))","v":""},null,{"$f":"IF(OR(E1175=\"\",ISBLANK(E1175)),\"\",VLOOKUP(E1175,Sheet2!A:G,6,FALSE))","v":""},""]
[{"$f":"IF(OR(E1176=\"\",ISBLANK(E1176)),\"\",VLOOKUP(E1176,Sheet2!A:F,2,FALSE))","v":""},{"$f":"IF(OR(E1176=\"\",ISBLANK(E1176)),\"\",VLOOKUP(E1176,Sheet2!A:G,4,FALSE))","v":""},"",{"$f":"IF(OR(E1176=\"\",ISBLANK(E1176)),\"\",VLOOKUP(E1176,Sheet2!A:H,3,FALSE))","v":""},null,{"$f":"IF(OR(E1176=\"\",ISBLANK(E1176)),\"\",VLOOKUP(E1176,Sheet2!A:G,6,FALSE))","v":""},""]
[{"$f":"IF(OR(E1177=\"\",ISBLANK(E1177)),\"\",VLOOKUP(E1177,Sheet2!A:F,2,FALSE))","v":""},{"$f":"IF(OR(E1177=\"\",ISBLANK(E1177)),\"\",VLOOKUP(E1177,Sheet2!A:G,4,FALSE))","v":""},"",{"$f":"IF(OR(E1177=\"\",ISBLANK(E1177)),\"\",VLOOKUP(E1177,Sheet2!A:H,3,FALSE))","v":""},null,{"$f":"IF(OR(E1177=\"\",ISBLANK(E1177)),\"\",VLOOKUP(E1177,Sheet2!A:G,6,FALSE))","v":""},""]
[{"$f":"IF(OR(E1178=\"\",ISBLANK(E1178)),\"\",VLOOKUP(E1178,Sheet2!A:F,2,FALSE))","v":""},{"$f":"IF(OR(E1178=\"\",ISBLANK(E1178)),\"\",VLOOKUP(E1178,Sheet2!A:G,4,FALSE))","v":""},"",{"$f":"IF(OR(E1178=\"\",ISBLANK(E1178)),\"\",VLOOKUP(E1178,Sheet2!A:H,3,FALSE))","v":""},null,{"$f":"IF(OR(E1178=\"\",ISBLANK(E1178)),\"\",VLOOKUP(E1178,Sheet2!A:G,6,FALSE))","v":""},""]
[{"$f":"IF(OR(E1179=\"\",ISBLANK(E1179)),\"\",VLOOKUP(E1179,Sheet2!A:F,2,FALSE))","v":""},{"$f":"IF(OR(E1179=\"\",ISBLANK(E1179)),\"\",VLOOKUP(E1179,Sheet2!A:G,4,FALSE))","v":""},"",{"$f":"IF(OR(E1179=\"\",ISBLANK(E1179)),\"\",VLOOKUP(E1179,Sheet2!A:H,3,FALSE))","v":""},null,{"$f":"IF(OR(E1179=\"\",ISBLANK(E1179)),\"\",VLOOKUP(E1179,Sheet2!A:G,6,FALSE))","v":""},""]
[{"$f":"IF(OR(E1180=\"\",ISBLANK(E1180)),\"\",VLOOKUP(E1180,Sheet2!A:F,2,FALSE))","v":""},{"$f":"IF(OR(E1180=\"\",ISBLANK(E1180)),\"\",VLOOKUP(E1180,Sheet2!A:G,4,FALSE))","v":""},"",{"$f":"IF(OR(E1180=\"\",ISBLANK(E1180)),\"\",VLOOKUP(E1180,Sheet2!A:H,3,FALSE))","v":""},null,{"$f":"IF(OR(E1180=\"\",ISBLANK(E1180)),\"\",VLOOKUP(E1180,Sheet2!A:G,6,FALSE))","v":""},""]
[{"$f":"IF(OR(E1181=\"\",ISBLANK(E1181)),\"\",VLOOKUP(E1181,Sheet2!A:F,2,FALSE))","v":""},{"$f":"IF(OR(E1181=\"\",ISBLANK(E1181)),\"\",VLOOKUP(E1181,Sheet2!A:G,4,FALSE))","v":""},"",{"$f":"IF(OR(E1181=\"\",ISBLANK(E1181)),\"\",VLOOKUP(E1181,Sheet2!A:H,3,FALSE))","v":""},null,{"$f":"IF(OR(E1181=\"\",ISBLANK(E1181)),\"\",VLOOKUP(E1181,Sheet2!A:G,6,FALSE))","v":""},""]
[{"$f":"IF(OR(E1182=\"\",ISBLANK(E1182)),\"\",VLOOKUP(E1182,Sheet2!A:F,2,FALSE))","v":""},{"$f":"IF(OR(E1182=\"\",ISBLANK(E1182)),\"\",VLOOKUP(E1182,Sheet2!A:G,4,FALSE))","v":""},"",{"$f":"IF(OR(E1182=\"\",ISBLANK(E1182)),\"\",VLOOKUP(E1182,Sheet2!A:H,3,FALSE))","v":""},null,{"$f":"IF(OR(E1182=\"\",ISBLANK(E1182)),\"\",VLOOKUP(E1182,Sheet2!A:G,6,FALSE))","v":""},""]
[{"$f":"IF(OR(E1183=\"\",ISBLANK(E1183)),\"\",VLOOKUP(E1183,Sheet2!A:F,2,FALSE))","v":""},{"$f":"IF(OR(E1183=\"\",ISBLANK(E1183)),\"\",VLOOKUP(E1183,Sheet2!A:G,4,FALSE))","v":""},"",{"$f":"IF(OR(E1183=\"\",ISBLANK(E1183)),\"\",VLOOKUP(E1183,Sheet2!A:H,3,FALSE))","v":""},null,{"$f":"IF(OR(E1183=\"\",ISBLANK(E1183)),\"\",VLOOKUP(E1183,Sheet2!A:G,6,FALSE))","v":""},""]
[{"$f":"IF(OR(E1184=\"\",ISBLANK(E1184)),\"\",VLOOKUP(E1184,Sheet2!A:F,2,FALSE))","v":""},{"$f":"IF(OR(E1184=\"\",ISBLANK(E1184)),\"\",VLOOKUP(E1184,Sheet2!A:G,4,FALSE))","v":""},"",{"$f":"IF(OR(E1184=\"\",ISBLANK(E1184)),\"\",VLOOKUP(E1184,Sheet2!A:H,3,FALSE))","v":""},null,{"$f":"IF(OR(E1184=\"\",ISBLANK(E1184)),\"\",VLOOKUP(E1184,Sheet2!A:G,6,FALSE))","v":""},""]
[{"$f":"IF(OR(E1185=\"\",ISBLANK(E1185)),\"\",VLOOKUP(E1185,Sheet2!A:F,2,FALSE))","v":""},{"$f":"IF(OR(E1185=\"\",ISBLANK(E1185)),\"\",VLOOKUP(E1185,Sheet2!A:G,4,FALSE))","v":""},"",{"$f":"IF(OR(E1185=\"\",ISBLANK(E1185)),\"\",VLOOKUP(E1185,Sheet2!A:H,3,FALSE))","v":""},null,{"$f":"IF(OR(E1185=\"\",ISBLANK(E1185)),\"\",VLOOKUP(E1185,Sheet2!A:G,6,FALSE))","v":""},""]
[{"$f":"IF(OR(E1186=\"\",ISBLANK(E1186)),\"\",VLOOKUP(E1186,Sheet2!A:F,2,FALSE))","v":""},{"$f":"IF(OR(E1186=\"\",ISBLANK(E1186)),\"\",VLOOKUP(E1186,Sheet2!A:G,4,FALSE))","v":""},"",{"$f":"IF(OR(E1186=\"\",ISBLANK(E1186)),\"\",VLOOKUP(E1186,Sheet2!A:H,3,FALSE))","v":""},null,{"$f":"IF(OR(E1186=\"\",ISBLANK(E1186)),\"\",VLOOKUP(E1186,Sheet2!A:G,6,FALSE))","v":""},""]
[{"$f":"IF(OR(E1187=\"\",ISBLANK(E1187)),\"\",VLOOKUP(E1187,Sheet2!A:F,2,FALSE))","v":""},{"$f":"IF(OR(E1187=\"\",ISBLANK(E1187)),\"\",VLOOKUP(E1187,Sheet2!A:G,4,FALSE))","v":""},"",{"$f":"IF(OR(E1187=\"\",ISBLANK(E1187)),\"\",VLOOKUP(E1187,Sheet2!A:H,3,FALSE))","v":""},null,{"$f":"IF(OR(E1187=\"\",ISBLANK(E1187)),\"\",VLOOKUP(E1187,Sheet2!A:G,6,FALSE))","v":""},""]
[{"$f":"IF(OR(E1188=\"\",ISBLANK(E1188)),\"\",VLOOKUP(E1188,Sheet2!A:F,2,FALSE))","v":""},{"$f":"IF(OR(E1188=\"\",ISBLANK(E1188)),\"\",VLOOKUP(E1188,Sheet2!A:G,4,FALSE))","v":""},"",{"$f":"IF(OR(E1188=\"\",ISBLANK(E1188)),\"\",VLOOKUP(E1188,Sheet2!A:H,3,FALSE))","v":""},null,{"$f":"IF(OR(E1188=\"\",ISBLANK(E1188)),\"\",VLOOKUP(E1188,Sheet2!A:G,6,FALSE))","v":""},""]
[{"$f":"IF(OR(E1189=\"\",ISBLANK(E1189)),\"\",VLOOKUP(E1189,Sheet2!A:F,2,FALSE))","v":""},{"$f":"IF(OR(E1189=\"\",ISBLANK(E1189)),\"\",VLOOKUP(E1189,Sheet2!A:G,4,FALSE))","v":""},"",{"$f":"IF(OR(E1189=\"\",ISBLANK(E1189)),\"\",VLOOKUP(E1189,Sheet2!A:H,3,FALSE))","v":""},null,{"$f":"IF(OR(E1189=\"\",ISBLANK(E1189)),\"\",VLOOKUP(E1189,Sheet2!A:G,6,FALSE))","v":""},""]
[{"$f":"IF(OR(E1190=\"\",ISBLANK(E1190)),\"\",VLOOKUP(E1190,Sheet2!A:F,2,FALSE))","v":""},{"$f":"IF(OR(E1190=\"\",ISBLANK(E1190)),\"\",VLOOKUP(E1190,Sheet2!A:G,4,FALSE))","v":""},"",{"$f":"IF(OR(E1190=\"\",ISBLANK(E1190)),\"\",VLOOKUP(E1190,Sheet2!A:H,3,FALSE))","v":""},null,{"$f":"IF(OR(E1190=\"\",ISBLANK(E1190)),\"\",VLOOKUP(E1190,Sheet2!A:G,6,FALSE))","v":""},""]
[{"$f":"IF(OR(E1191=\"\",ISBLANK(E1191)),\"\",VLOOKUP(E1191,Sheet2!A:F,2,FALSE))","v":""},{"$f":"IF(OR(E1191=\"\",ISBLANK(E1191)),\"\",VLOOKUP(E1191,Sheet2!A:G,4,FALSE))","v":""},"",{"$f":"IF(OR(E1191=\"\",ISBLANK(E1191)),\"\",VLOOKUP(E1191,Sheet2!A:H,3,FALSE))","v":""},null,{"$f":"IF(OR(E1191=\"\",ISBLANK(E1191)),\"\",VLOOKUP(E1191,Sheet2!A:G,6,FALSE))","v":""},""]
[{"$f":"IF(OR(E1192=\"\",ISBLANK(E1192)),\"\",VLOOKUP(E1192,Sheet2!A:F,2,FALSE))","v":""},{"$f":"IF(OR(E1192=\"\",ISBLANK(E1192)),\"\",VLOOKUP(E1192,Sheet2!A:G,4,FALSE))","v":""},"",{"$f":"IF(OR(E1192=\"\",ISBLANK(E1192)),\"\",VLOOKUP(E1192,Sheet2!A:H,3,FALSE))","v":""},null,{"$f":"IF(OR(E1192=\"\",ISBLANK(E1192)),\"\",VLOOKUP(E1192,Sheet2!A:G,6,FALSE))","v":""},""]
[{"$f":"IF(OR(E1193=\"\",ISBLANK(E1193)),\"\",VLOOKUP(E1193,Sheet2!A:F,2,FALSE))","v":""},{"$f":"IF(OR(E1193=\"\",ISBLANK(E1193)),\"\",VLOOKUP(E1193,Sheet2!A:G,4,FALSE))","v":""},"",{"$f":"IF(OR(E1193=\"\",ISBLANK(E1193)),\"\",VLOOKUP(E1193,Sheet2!A:H,3,FALSE))","v":""},null,{"$f":"IF(OR(E1193=\"\",ISBLANK(E1193)),\"\",VLOOKUP(E1193,Sheet2!A:G,6,FALSE))","v":""},""]
[{"$f":"IF(OR(E1194=\"\",ISBLANK(E1194)),\"\",VLOOKUP(E1194,Sheet2!A:F,2,FALSE))","v":""},{"$f":"IF(OR(E1194=\"\",ISBLANK(E1194)),\"\",VLOOKUP(E1194,Sheet2!A:G,4,FALSE))","v":""},"",{"$f":"IF(OR(E1194=\"\",ISBLANK(E1194)),\"\",VLOOKUP(E1194,Sheet2!A:H,3,FALSE))","v":""},null,{"$f":"IF(OR(E1194=\"\",ISBLANK(E1194)),\"\",VLOOKUP(E1194,Sheet2!A:G,6,FALSE))","v":""},""]
[{"$f":"IF(OR(E1195=\"\",ISBLANK(E1195)),\"\",VLOOKUP(E1195,Sheet2!A:F,2,FALSE))","v":""},{"$f":"IF(OR(E1195=\"\",ISBLANK(E1195)),\"\",VLOOKUP(E1195,Sheet2!A:G,4,FALSE))","v":""},"",{"$f":"IF(OR(E1195=\"\",ISBLANK(E1195)),\"\",VLOOKUP(E1195,Sheet2!A:H,3,FALSE))","v":""},null,{"$f":"IF(OR(E1195=\"\",ISBLANK(E1195)),\"\",VLOOKUP(E1195,Sheet2!A:G,6,FALSE))","v":""},""]
[{"$f":"IF(OR(E1196=\"\",ISBLANK(E1196)),\"\",VLOOKUP(E1196,Sheet2!A:F,2,FALSE))","v":""},{"$f":"IF(OR(E1196=\"\",ISBLANK(E1196)),\"\",VLOOKUP(E1196,Sheet2!A:G,4,FALSE))","v":""},"",{"$f":"IF(OR(E1196=\"\",ISBLANK(E1196)),\"\",VLOOKUP(E1196,Sheet2!A:H,3,FALSE))","v":""},null,{"$f":"IF(OR(E1196=\"\",ISBLANK(E1196)),\"\",VLOOKUP(E1196,Sheet2!A:G,6,FALSE))","v":""},""]
[{"$f":"IF(OR(E1197=\"\",ISBLANK(E1197)),\"\",VLOOKUP(E1197,Sheet2!A:F,2,FALSE))","v":""},{"$f":"IF(OR(E1197=\"\",ISBLANK(E1197)),\"\",VLOOKUP(E1197,Sheet2!A:G,4,FALSE))","v":""},"",{"$f":"IF(OR(E1197=\"\",ISBLANK(E1197)),\"\",VLOOKUP(E1197,Sheet2!A:H,3,FALSE))","v":""},null,{"$f":"IF(OR(E1197=\"\",ISBLANK(E1197)),\"\",VLOOKUP(E1197,Sheet2!A:G,6,FALSE))","v":""},""]
[{"$f":"IF(OR(E1198=\"\",ISBLANK(E1198)),\"\",VLOOKUP(E1198,Sheet2!A:F,2,FALSE))","v":""},{"$f":"IF(OR(E1198=\"\",ISBLANK(E1198)),\"\",VLOOKUP(E1198,Sheet2!A:G,4,FALSE))","v":""},"",{"$f":"IF(OR(E1198=\"\",ISBLANK(E1198)),\"\",VLOOKUP(E1198,Sheet2!A:H,3,FALSE))","v":""},null,{"$f":"IF(OR(E1198=\"\",ISBLANK(E1198)),\"\",VLOOKUP(E1198,Sheet2!A:G,6,FALSE))","v":""},""]
[{"$f":"IF(OR(E1199=\"\",ISBLANK(E1199)),\"\",VLOOKUP(E1199,Sheet2!A:F,2,FALSE))","v":""},{"$f":"IF(OR(E1199=\"\",ISBLANK(E1199)),\"\",VLOOKUP(E1199,Sheet2!A:G,4,FALSE))","v":""},"",{"$f":"IF(OR(E1199=\"\",ISBLANK(E1199)),\"\",VLOOKUP(E1199,Sheet2!A:H,3,FALSE))","v":""},null,{"$f":"IF(OR(E1199=\"\",ISBLANK(E1199)),\"\",VLOOKUP(E1199,Sheet2!A:G,6,FALSE))","v":""},""]
[{"$f":"IF(OR(E1200=\"\",ISBLANK(E1200)),\"\",VLOOKUP(E1200,Sheet2!A:F,2,FALSE))","v":""},{"$f":"IF(OR(E1200=\"\",ISBLANK(E1200)),\"\",VLOOKUP(E1200,Sheet2!A:G,4,FALSE))","v":""},"",{"$f":"IF(OR(E1200=\"\",ISBLANK(E1200)),\"\",VLOOKUP(E1200,Sheet2!A:H,3,FALSE))","v":""},null,{"$f":"IF(OR(E1200=\"\",ISBLANK(E1200)),\"\",VLOOKUP(E1200,Sheet2!A:G,6,FALSE))","v":""},""]
[{"$f":"IF(OR(E1201=\"\",ISBLANK(E1201)),\"\",VLOOKUP(E1201,Sheet2!A:F,2,FALSE))","v":""},{"$f":"IF(OR(E1201=\"\",ISBLANK(E1201)),\"\",VLOOKUP(E1201,Sheet2!A:G,4,FALSE))","v":""},"",{"$f":"IF(OR(E1201=\"\",ISBLANK(E1201)),\"\",VLOOKUP(E1201,Sheet2!A:H,3,FALSE))","v":""},null,{"$f":"IF(OR(E1201=\"\",ISBLANK(E1201)),\"\",VLOOKUP(E1201,Sheet2!A:G,6,FALSE))","v":""},""]
[{"$f":"IF(OR(E1202=\"\",ISBLANK(E1202)),\"\",VLOOKUP(E1202,Sheet2!A:F,2,FALSE))","v":""},{"$f":"IF(OR(E1202=\"\",ISBLANK(E1202)),\"\",VLOOKUP(E1202,Sheet2!A:G,4,FALSE))","v":""},"",{"$f":"IF(OR(E1202=\"\",ISBLANK(E1202)),\"\",VLOOKUP(E1202,Sheet2!A:H,3,FALSE))","v":""},null,{"$f":"IF(OR(E1202=\"\",ISBLANK(E1202)),\"\",VLOOKUP(E1202,Sheet2!A:G,6,FALSE))","v":""},""]
[{"$f":"IF(OR(E1203=\"\",ISBLANK(E1203)),\"\",VLOOKUP(E1203,Sheet2!A:F,2,FALSE))","v":""},{"$f":"IF(OR(E1203=\"\",ISBLANK(E1203)),\"\",VLOOKUP(E1203,Sheet2!A:G,4,FALSE))","v":""},"",{"$f":"IF(OR(E1203=\"\",ISBLANK(E1203)),\"\",VLOOKUP(E1203,Sheet2!A:H,3,FALSE))","v":""},null,{"$f":"IF(OR(E1203=\"\",ISBLANK(E1203)),\"\",VLOOKUP(E1203,Sheet2!A:G,6,FALSE))","v":""},""]
[{"$f":"IF(OR(E1204=\"\",ISBLANK(E1204)),\"\",VLOOKUP(E1204,Sheet2!A:F,2,FALSE))","v":""},{"$f":"IF(OR(E1204=\"\",ISBLANK(E1204)),\"\",VLOOKUP(E1204,Sheet2!A:G,4,FALSE))","v":""},"",{"$f":"IF(OR(E1204=\"\",ISBLANK(E1204)),\"\",VLOOKUP(E1204,Sheet2!A:H,3,FALSE))","v":""},null,{"$f":"IF(OR(E1204=\"\",ISBLANK(E1204)),\"\",VLOOKUP(E1204,Sheet2!A:G,6,FALSE))","v":""},""]
[{"$f":"IF(OR(E1205=\"\",ISBLANK(E1205)),\"\",VLOOKUP(E1205,Sheet2!A:F,2,FALSE))","v":""},{"$f":"IF(OR(E1205=\"\",ISBLANK(E1205)),\"\",VLOOKUP(E1205,Sheet2!A:G,4,FALSE))","v":""},"",{"$f":"IF(OR(E1205=\"\",ISBLANK(E1205)),\"\",VLOOKUP(E1205,Sheet2!A:H,3,FALSE))","v":""},null,{"$f":"IF(OR(E1205=\"\",ISBLANK(E1205)),\"\",VLOOKUP(E1205,Sheet2!A:G,6,FALSE))","v":""},""]
[{"$f":"IF(OR(E1206=\"\",ISBLANK(E1206)),\"\",VLOOKUP(E1206,Sheet2!A:F,2,FALSE))","v":""},{"$f":"IF(OR(E1206=\"\",ISBLANK(E1206)),\"\",VLOOKUP(E1206,Sheet2!A:G,4,FALSE))","v":""},"",{"$f":"IF(OR(E1206=\"\",ISBLANK(E1206)),\"\",VLOOKUP(E1206,Sheet2!A:H,3,FALSE))","v":""},null,{"$f":"IF(OR(E1206=\"\",ISBLANK(E1206)),\"\",VLOOKUP(E1206,Sheet2!A:G,6,FALSE))","v":""},""]
[{"$f":"IF(OR(E1207=\"\",ISBLANK(E1207)),\"\",VLOOKUP(E1207,Sheet2!A:F,2,FALSE))","v":""},{"$f":"IF(OR(E1207=\"\",ISBLANK(E1207)),\"\",VLOOKUP(E1207,Sheet2!A:G,4,FALSE))","v":""},"",{"$f":"IF(OR(E1207=\"\",ISBLANK(E1207)),\"\",VLOOKUP(E1207,Sheet2!A:H,3,FALSE))","v":""},null,{"$f":"IF(OR(E1207=\"\",ISBLANK(E1207)),\"\",VLOOKUP(E1207,Sheet2!A:G,6,FALSE))","v":""},""]
[{"$f":"IF(OR(E1208=\"\",ISBLANK(E1208)),\"\",VLOOKUP(E1208,Sheet2!A:F,2,FALSE))","v":""},{"$f":"IF(OR(E1208=\"\",ISBLANK(E1208)),\"\",VLOOKUP(E1208,Sheet2!A:G,4,FALSE))","v":""},"",{"$f":"IF(OR(E1208=\"\",ISBLANK(E1208)),\"\",VLOOKUP(E1208,Sheet2!A:H,3,FALSE))","v":""},null,{"$f":"IF(OR(E1208=\"\",ISBLANK(E1208)),\"\",VLOOKUP(E1208,Sheet2!A:G,6,FALSE))","v":""},""]
[{"$f":"IF(OR(E1209=\"\",ISBLANK(E1209)),\"\",VLOOKUP(E1209,Sheet2!A:F,2,FALSE))","v":""},{"$f":"IF(OR(E1209=\"\",ISBLANK(E1209)),\"\",VLOOKUP(E1209,Sheet2!A:G,4,FALSE))","v":""},"",{"$f":"IF(OR(E1209=\"\",ISBLANK(E1209)),\"\",VLOOKUP(E1209,Sheet2!A:H,3,FALSE))","v":""},null,{"$f":"IF(OR(E1209=\"\",ISBLANK(E1209)),\"\",VLOOKUP(E1209,Sheet2!A:G,6,FALSE))","v":""},""]
[{"$f":"IF(OR(E1210=\"\",ISBLANK(E1210)),\"\",VLOOKUP(E1210,Sheet2!A:F,2,FALSE))","v":""},{"$f":"IF(OR(E1210=\"\",ISBLANK(E1210)),\"\",VLOOKUP(E1210,Sheet2!A:G,4,FALSE))","v":""},"",{"$f":"IF(OR(E1210=\"\",ISBLANK(E1210)),\"\",VLOOKUP(E1210,Sheet2!A:H,3,FALSE))","v":""},null,{"$f":"IF(OR(E1210=\"\",ISBLANK(E1210)),\"\",VLOOKUP(E1210,Sheet2!A:G,6,FALSE))","v":""},""]
[{"$f":"IF(OR(E1211=\"\",ISBLANK(E1211)),\"\",VLOOKUP(E1211,Sheet2!A:F,2,FALSE))","v":""},{"$f":"IF(OR(E1211=\"\",ISBLANK(E1211)),\"\",VLOOKUP(E1211,Sheet2!A:G,4,FALSE))","v":""},"",{"$f":"IF(OR(E1211=\"\",ISBLANK(E1211)),\"\",VLOOKUP(E1211,Sheet2!A:H,3,FALSE))","v":""},null,{"$f":"IF(OR(E1211=\"\",ISBLANK(E1211)),\"\",VLOOKUP(E1211,Sheet2!A:G,6,FALSE))","v":""},""]
[{"$f":"IF(OR(E1212=\"\",ISBLANK(E1212)),\"\",VLOOKUP(E1212,Sheet2!A:F,2,FALSE))","v":""},{"$f":"IF(OR(E1212=\"\",ISBLANK(E1212)),\"\",VLOOKUP(E1212,Sheet2!A:G,4,FALSE))","v":""},"",{"$f":"IF(OR(E1212=\"\",ISBLANK(E1212)),\"\",VLOOKUP(E1212,Sheet2!A:H,3,FALSE))","v":""},null,{"$f":"IF(OR(E1212=\"\",ISBLANK(E1212)),\"\",VLOOKUP(E1212,Sheet2!A:G,6,FALSE))","v":""},""]
[{"$f":"IF(OR(E1213=\"\",ISBLANK(E1213)),\"\",VLOOKUP(E1213,Sheet2!A:F,2,FALSE))","v":""},{"$f":"IF(OR(E1213=\"\",ISBLANK(E1213)),\"\",VLOOKUP(E1213,Sheet2!A:G,4,FALSE))","v":""},"",{"$f":"IF(OR(E1213=\"\",ISBLANK(E1213)),\"\",VLOOKUP(E1213,Sheet2!A:H,3,FALSE))","v":""},null,{"$f":"IF(OR(E1213=\"\",ISBLANK(E1213)),\"\",VLOOKUP(E1213,Sheet2!A:G,6,FALSE))","v":""},""]
[{"$f":"IF(OR(E1214=\"\",ISBLANK(E1214)),\"\",VLOOKUP(E1214,Sheet2!A:F,2,FALSE))","v":""},{"$f":"IF(OR(E1214=\"\",ISBLANK(E1214)),\"\",VLOOKUP(E1214,Sheet2!A:G,4,FALSE))","v":""},"",{"$f":"IF(OR(E1214=\"\",ISBLANK(E1214)),\"\",VLOOKUP(E1214,Sheet2!A:H,3,FALSE))","v":""},null,{"$f":"IF(OR(E1214=\"\",ISBLANK(E1214)),\"\",VLOOKUP(E1214,Sheet2!A:G,6,FALSE))","v":""},""]
[{"$f":"IF(OR(E1215=\"\",ISBLANK(E1215)),\"\",VLOOKUP(E1215,Sheet2!A:F,2,FALSE))","v":""},{"$f":"IF(OR(E1215=\"\",ISBLANK(E1215)),\"\",VLOOKUP(E1215,Sheet2!A:G,4,FALSE))","v":""},"",{"$f":"IF(OR(E1215=\"\",ISBLANK(E1215)),\"\",VLOOKUP(E1215,Sheet2!A:H,3,FALSE))","v":""},null,{"$f":"IF(OR(E1215=\"\",ISBLANK(E1215)),\"\",VLOOKUP(E1215,Sheet2!A:G,6,FALSE))","v":""},""]
[{"$f":"IF(OR(E1216=\"\",ISBLANK(E1216)),\"\",VLOOKUP(E1216,Sheet2!A:F,2,FALSE))","v":""},{"$f":"IF(OR(E1216=\"\",ISBLANK(E1216)),\"\",VLOOKUP(E1216,Sheet2!A:G,4,FALSE))","v":""},"",{"$f":"IF(OR(E1216=\"\",ISBLANK(E1216)),\"\",VLOOKUP(E1216,Sheet2!A:H,3,FALSE))","v":""},null,{"$f":"IF(OR(E1216=\"\",ISBLANK(E1216)),\"\",VLOOKUP(E1216,Sheet2!A:G,6,FALSE))","v":""},""]
[{"$f":"IF(OR(E1217=\"\",ISBLANK(E1217)),\"\",VLOOKUP(E1217,Sheet2!A:F,2,FALSE))","v":""},{"$f":"IF(OR(E1217=\"\",ISBLANK(E1217)),\"\",VLOOKUP(E1217,Sheet2!A:G,4,FALSE))","v":""},"",{"$f":"IF(OR(E1217=\"\",ISBLANK(E1217)),\"\",VLOOKUP(E1217,Sheet2!A:H,3,FALSE))","v":""},null,{"$f":"IF(OR(E1217=\"\",ISBLANK(E1217)),\"\",VLOOKUP(E1217,Sheet2!A:G,6,FALSE))","v":""},""]
[{"$f":"IF(OR(E1218=\"\",ISBLANK(E1218)),\"\",VLOOKUP(E1218,Sheet2!A:F,2,FALSE))","v":""},{"$f":"IF(OR(E1218=\"\",ISBLANK(E1218)),\"\",VLOOKUP(E1218,Sheet2!A:G,4,FALSE))","v":""},"",{"$f":"IF(OR(E1218=\"\",ISBLANK(E1218)),\"\",VLOOKUP(E1218,Sheet2!A:H,3,FALSE))","v":""},null,{"$f":"IF(OR(E1218=\"\",ISBLANK(E1218)),\"\",VLOOKUP(E1218,Sheet2!A:G,6,FALSE))","v":""},""]
[{"$f":"IF(OR(E1219=\"\",ISBLANK(E1219)),\"\",VLOOKUP(E1219,Sheet2!A:F,2,FALSE))","v":""},{"$f":"IF(OR(E1219=\"\",ISBLANK(E1219)),\"\",VLOOKUP(E1219,Sheet2!A:G,4,FALSE))","v":""},{"$f":"IF(D1219=0,\"\",D1219)","v":""},{"$f":"IF(OR(E1219=\"\",ISBLANK(E1219)),\"\",VLOOKUP(E1219,Sheet2!A:H,3,FALSE))","v":""},null,{"$f":"IF(OR(E1219=\"\",ISBLANK(E1219)),\"\",VLOOKUP(E1219,Sheet2!A:G,6,FALSE))","v":""},{"$f":"IF(F1219=0,\"\",F1219)","v":""}]
[{"$f":"IF(OR(E1220=\"\",ISBLANK(E1220)),\"\",VLOOKUP(E1220,Sheet2!A:F,2,FALSE))","v":""},{"$f":"IF(OR(E1220=\"\",ISBLANK(E1220)),\"\",VLOOKUP(E1220,Sheet2!A:G,4,FALSE))","v":""},"",{"$f":"IF(OR(E1220=\"\",ISBLANK(E1220)),\"\",VLOOKUP(E1220,Sheet2!A:H,3,FALSE))","v":""},null,{"$f":"IF(OR(E1220=\"\",ISBLANK(E1220)),\"\",VLOOKUP(E1220,Sheet2!A:G,6,FALSE))","v":""},""]
[{"$f":"IF(OR(E1221=\"\",ISBLANK(E1221)),\"\",VLOOKUP(E1221,Sheet2!A:F,2,FALSE))","v":""},{"$f":"IF(OR(E1221=\"\",ISBLANK(E1221)),\"\",VLOOKUP(E1221,Sheet2!A:G,4,FALSE))","v":""},"",{"$f":"IF(OR(E1221=\"\",ISBLANK(E1221)),\"\",VLOOKUP(E1221,Sheet2!A:H,3,FALSE))","v":""},null,{"$f":"IF(OR(E1221=\"\",ISBLANK(E1221)),\"\",VLOOKUP(E1221,Sheet2!A:G,6,FALSE))","v":""},""]
[{"$f":"IF(OR(E1222=\"\",ISBLANK(E1222)),\"\",VLOOKUP(E1222,Sheet2!A:F,2,FALSE))","v":""},{"$f":"IF(OR(E1222=\"\",ISBLANK(E1222)),\"\",VLOOKUP(E1222,Sheet2!A:G,4,FALSE))","v":""},"",{"$f":"IF(OR(E1222=\"\",ISBLANK(E1222)),\"\",VLOOKUP(E1222,Sheet2!A:H,3,FALSE))","v":""},null,{"$f":"IF(OR(E1222=\"\",ISBLANK(E1222)),\"\",VLOOKUP(E1222,Sheet2!A:G,6,FALSE))","v":""},""]
[{"$f":"IF(OR(E1223=\"\",ISBLANK(E1223)),\"\",VLOOKUP(E1223,Sheet2!A:F,2,FALSE))","v":""},{"$f":"IF(OR(E1223=\"\",ISBLANK(E1223)),\"\",VLOOKUP(E1223,Sheet2!A:G,4,FALSE))","v":""},"",{"$f":"IF(OR(E1223=\"\",ISBLANK(E1223)),\"\",VLOOKUP(E1223,Sheet2!A:H,3,FALSE))","v":""},null,{"$f":"IF(OR(E1223=\"\",ISBLANK(E1223)),\"\",VLOOKUP(E1223,Sheet2!A:G,6,FALSE))","v":""},""]
[{"$f":"IF(OR(E1224=\"\",ISBLANK(E1224)),\"\",VLOOKUP(E1224,Sheet2!A:F,2,FALSE))","v":""},{"$f":"IF(OR(E1224=\"\",ISBLANK(E1224)),\"\",VLOOKUP(E1224,Sheet2!A:G,4,FALSE))","v":""},"",{"$f":"IF(OR(E1224=\"\",ISBLANK(E1224)),\"\",VLOOKUP(E1224,Sheet2!A:H,3,FALSE))","v":""},null,{"$f":"IF(OR(E1224=\"\",ISBLANK(E1224)),\"\",VLOOKUP(E1224,Sheet2!A:G,6,FALSE))","v":""},""]
[{"$f":"IF(OR(E1225=\"\",ISBLANK(E1225)),\"\",VLOOKUP(E1225,Sheet2!A:F,2,FALSE))","v":""},{"$f":"IF(OR(E1225=\"\",ISBLANK(E1225)),\"\",VLOOKUP(E1225,Sheet2!A:G,4,FALSE))","v":""},"",{"$f":"IF(OR(E1225=\"\",ISBLANK(E1225)),\"\",VLOOKUP(E1225,Sheet2!A:H,3,FALSE))","v":""},null,{"$f":"IF(OR(E1225=\"\",ISBLANK(E1225)),\"\",VLOOKUP(E1225,Sheet2!A:G,6,FALSE))","v":""},""]
[{"$f":"IF(OR(E1226=\"\",ISBLANK(E1226)),\"\",VLOOKUP(E1226,Sheet2!A:F,2,FALSE))","v":""},{"$f":"IF(OR(E1226=\"\",ISBLANK(E1226)),\"\",VLOOKUP(E1226,Sheet2!A:G,4,FALSE))","v":""},"",{"$f":"IF(OR(E1226=\"\",ISBLANK(E1226)),\"\",VLOOKUP(E1226,Sheet2!A:H,3,FALSE))","v":""},null,{"$f":"IF(OR(E1226=\"\",ISBLANK(E1226)),\"\",VLOOKUP(E1226,Sheet2!A:G,6,FALSE))","v":""},""]
[{"$f":"IF(OR(E1227=\"\",ISBLANK(E1227)),\"\",VLOOKUP(E1227,Sheet2!A:F,2,FALSE))","v":""},{"$f":"IF(OR(E1227=\"\",ISBLANK(E1227)),\"\",VLOOKUP(E1227,Sheet2!A:G,4,FALSE))","v":""},"",{"$f":"IF(OR(E1227=\"\",ISBLANK(E1227)),\"\",VLOOKUP(E1227,Sheet2!A:H,3,FALSE))","v":""},null,{"$f":"IF(OR(E1227=\"\",ISBLANK(E1227)),\"\",VLOOKUP(E1227,Sheet2!A:G,6,FALSE))","v":""},""]
[{"$f":"IF(OR(E1228=\"\",ISBLANK(E1228)),\"\",VLOOKUP(E1228,Sheet2!A:F,2,FALSE))","v":""},{"$f":"IF(OR(E1228=\"\",ISBLANK(E1228)),\"\",VLOOKUP(E1228,Sheet2!A:G,4,FALSE))","v":""},"",{"$f":"IF(OR(E1228=\"\",ISBLANK(E1228)),\"\",VLOOKUP(E1228,Sheet2!A:H,3,FALSE))","v":""},null,{"$f":"IF(OR(E1228=\"\",ISBLANK(E1228)),\"\",VLOOKUP(E1228,Sheet2!A:G,6,FALSE))","v":""},""]
[{"$f":"IF(OR(E1229=\"\",ISBLANK(E1229)),\"\",VLOOKUP(E1229,Sheet2!A:F,2,FALSE))","v":""},{"$f":"IF(OR(E1229=\"\",ISBLANK(E1229)),\"\",VLOOKUP(E1229,Sheet2!A:G,4,FALSE))","v":""},"",{"$f":"IF(OR(E1229=\"\",ISBLANK(E1229)),\"\",VLOOKUP(E1229,Sheet2!A:H,3,FALSE))","v":""},null,{"$f":"IF(OR(E1229=\"\",ISBLANK(E1229)),\"\",VLOOKUP(E1229,Sheet2!A:G,6,FALSE))","v":""},""]
[{"$f":"IF(OR(E1230=\"\",ISBLANK(E1230)),\"\",VLOOKUP(E1230,Sheet2!A:F,2,FALSE))","v":""},{"$f":"IF(OR(E1230=\"\",ISBLANK(E1230)),\"\",VLOOKUP(E1230,Sheet2!A:G,4,FALSE))","v":""},"",{"$f":"IF(OR(E1230=\"\",ISBLANK(E1230)),\"\",VLOOKUP(E1230,Sheet2!A:H,3,FALSE))","v":""},null,{"$f":"IF(OR(E1230=\"\",ISBLANK(E1230)),\"\",VLOOKUP(E1230,Sheet2!A:G,6,FALSE))","v":""},""]
[{"$f":"IF(OR(E1231=\"\",ISBLANK(E1231)),\"\",VLOOKUP(E1231,Sheet2!A:F,2,FALSE))","v":""},{"$f":"IF(OR(E1231=\"\",ISBLANK(E1231)),\"\",VLOOKUP(E1231,Sheet2!A:G,4,FALSE))","v":""},"",{"$f":"IF(OR(E1231=\"\",ISBLANK(E1231)),\"\",VLOOKUP(E1231,Sheet2!A:H,3,FALSE))","v":""},null,{"$f":"IF(OR(E1231=\"\",ISBLANK(E1231)),\"\",VLOOKUP(E1231,Sheet2!A:G,6,FALSE))","v":""},""]
[{"$f":"IF(OR(E1232=\"\",ISBLANK(E1232)),\"\",VLOOKUP(E1232,Sheet2!A:F,2,FALSE))","v":""},{"$f":"IF(OR(E1232=\"\",ISBLANK(E1232)),\"\",VLOOKUP(E1232,Sheet2!A:G,4,FALSE))","v":""},"",{"$f":"IF(OR(E1232=\"\",ISBLANK(E1232)),\"\",VLOOKUP(E1232,Sheet2!A:H,3,FALSE))","v":""},null,{"$f":"IF(OR(E1232=\"\",ISBLANK(E1232)),\"\",VLOOKUP(E1232,Sheet2!A:G,6,FALSE))","v":""},""]
[{"$f":"IF(OR(E1233=\"\",ISBLANK(E1233)),\"\",VLOOKUP(E1233,Sheet2!A:F,2,FALSE))","v":""},{"$f":"IF(OR(E1233=\"\",ISBLANK(E1233)),\"\",VLOOKUP(E1233,Sheet2!A:G,4,FALSE))","v":""},"",{"$f":"IF(OR(E1233=\"\",ISBLANK(E1233)),\"\",VLOOKUP(E1233,Sheet2!A:H,3,FALSE))","v":""},null,{"$f":"IF(OR(E1233=\"\",ISBLANK(E1233)),\"\",VLOOKUP(E1233,Sheet2!A:G,6,FALSE))","v":""},""]
[{"$f":"IF(OR(E1234=\"\",ISBLANK(E1234)),\"\",VLOOKUP(E1234,Sheet2!A:F,2,FALSE))","v":""},{"$f":"IF(OR(E1234=\"\",ISBLANK(E1234)),\"\",VLOOKUP(E1234,Sheet2!A:G,4,FALSE))","v":""},"",{"$f":"IF(OR(E1234=\"\",ISBLANK(E1234)),\"\",VLOOKUP(E1234,Sheet2!A:H,3,FALSE))","v":""},null,{"$f":"IF(OR(E1234=\"\",ISBLANK(E1234)),\"\",VLOOKUP(E1234,Sheet2!A:G,6,FALSE))","v":""},""]
[{"$f":"IF(OR(E1235=\"\",ISBLANK(E1235)),\"\",VLOOKUP(E1235,Sheet2!A:F,2,FALSE))","v":""},{"$f":"IF(OR(E1235=\"\",ISBLANK(E1235)),\"\",VLOOKUP(E1235,Sheet2!A:G,4,FALSE))","v":""},"",{"$f":"IF(OR(E1235=\"\",ISBLANK(E1235)),\"\",VLOOKUP(E1235,Sheet2!A:H,3,FALSE))","v":""},null,{"$f":"IF(OR(E1235=\"\",ISBLANK(E1235)),\"\",VLOOKUP(E1235,Sheet2!A:G,6,FALSE))","v":""},""]
[{"$f":"IF(OR(E1236=\"\",ISBLANK(E1236)),\"\",VLOOKUP(E1236,Sheet2!A:F,2,FALSE))","v":""},{"$f":"IF(OR(E1236=\"\",ISBLANK(E1236)),\"\",VLOOKUP(E1236,Sheet2!A:G,4,FALSE))","v":""},"",{"$f":"IF(OR(E1236=\"\",ISBLANK(E1236)),\"\",VLOOKUP(E1236,Sheet2!A:H,3,FALSE))","v":""},null,{"$f":"IF(OR(E1236=\"\",ISBLANK(E1236)),\"\",VLOOKUP(E1236,Sheet2!A:G,6,FALSE))","v":""},""]
[{"$f":"IF(OR(E1237=\"\",ISBLANK(E1237)),\"\",VLOOKUP(E1237,Sheet2!A:F,2,FALSE))","v":""},{"$f":"IF(OR(E1237=\"\",ISBLANK(E1237)),\"\",VLOOKUP(E1237,Sheet2!A:G,4,FALSE))","v":""},"",{"$f":"IF(OR(E1237=\"\",ISBLANK(E1237)),\"\",VLOOKUP(E1237,Sheet2!A:H,3,FALSE))","v":""},null,{"$f":"IF(OR(E1237=\"\",ISBLANK(E1237)),\"\",VLOOKUP(E1237,Sheet2!A:G,6,FALSE))","v":""},""]
[{"$f":"IF(OR(E1238=\"\",ISBLANK(E1238)),\"\",VLOOKUP(E1238,Sheet2!A:F,2,FALSE))","v":""},{"$f":"IF(OR(E1238=\"\",ISBLANK(E1238)),\"\",VLOOKUP(E1238,Sheet2!A:G,4,FALSE))","v":""},"",{"$f":"IF(OR(E1238=\"\",ISBLANK(E1238)),\"\",VLOOKUP(E1238,Sheet2!A:H,3,FALSE))","v":""},null,{"$f":"IF(OR(E1238=\"\",ISBLANK(E1238)),\"\",VLOOKUP(E1238,Sheet2!A:G,6,FALSE))","v":""},""]
[{"$f":"IF(OR(E1239=\"\",ISBLANK(E1239)),\"\",VLOOKUP(E1239,Sheet2!A:F,2,FALSE))","v":""},{"$f":"IF(OR(E1239=\"\",ISBLANK(E1239)),\"\",VLOOKUP(E1239,Sheet2!A:G,4,FALSE))","v":""},"",{"$f":"IF(OR(E1239=\"\",ISBLANK(E1239)),\"\",VLOOKUP(E1239,Sheet2!A:H,3,FALSE))","v":""},null,{"$f":"IF(OR(E1239=\"\",ISBLANK(E1239)),\"\",VLOOKUP(E1239,Sheet2!A:G,6,FALSE))","v":""},""]
[{"$f":"IF(OR(E1240=\"\",ISBLANK(E1240)),\"\",VLOOKUP(E1240,Sheet2!A:F,2,FALSE))","v":""},{"$f":"IF(OR(E1240=\"\",ISBLANK(E1240)),\"\",VLOOKUP(E1240,Sheet2!A:G,4,FALSE))","v":""},"",{"$f":"IF(OR(E1240=\"\",ISBLANK(E1240)),\"\",VLOOKUP(E1240,Sheet2!A:H,3,FALSE))","v":""},null,{"$f":"IF(OR(E1240=\"\",ISBLANK(E1240)),\"\",VLOOKUP(E1240,Sheet2!A:G,6,FALSE))","v":""},""]
[{"$f":"IF(OR(E1241=\"\",ISBLANK(E1241)),\"\",VLOOKUP(E1241,Sheet2!A:F,2,FALSE))","v":""},{"$f":"IF(OR(E1241=\"\",ISBLANK(E1241)),\"\",VLOOKUP(E1241,Sheet2!A:G,4,FALSE))","v":""},"",{"$f":"IF(OR(E1241=\"\",ISBLANK(E1241)),\"\",VLOOKUP(E1241,Sheet2!A:H,3,FALSE))","v":""},null,{"$f":"IF(OR(E1241=\"\",ISBLANK(E1241)),\"\",VLOOKUP(E1241,Sheet2!A:G,6,FALSE))","v":""},""]
[{"$f":"IF(OR(E1242=\"\",ISBLANK(E1242)),\"\",VLOOKUP(E1242,Sheet2!A:F,2,FALSE))","v":""},{"$f":"IF(OR(E1242=\"\",ISBLANK(E1242)),\"\",VLOOKUP(E1242,Sheet2!A:G,4,FALSE))","v":""},"",{"$f":"IF(OR(E1242=\"\",ISBLANK(E1242)),\"\",VLOOKUP(E1242,Sheet2!A:H,3,FALSE))","v":""},null,{"$f":"IF(OR(E1242=\"\",ISBLANK(E1242)),\"\",VLOOKUP(E1242,Sheet2!A:G,6,FALSE))","v":""},""]
[{"$f":"IF(OR(E1243=\"\",ISBLANK(E1243)),\"\",VLOOKUP(E1243,Sheet2!A:F,2,FALSE))","v":""},{"$f":"IF(OR(E1243=\"\",ISBLANK(E1243)),\"\",VLOOKUP(E1243,Sheet2!A:G,4,FALSE))","v":""},"",{"$f":"IF(OR(E1243=\"\",ISBLANK(E1243)),\"\",VLOOKUP(E1243,Sheet2!A:H,3,FALSE))","v":""},null,{"$f":"IF(OR(E1243=\"\",ISBLANK(E1243)),\"\",VLOOKUP(E1243,Sheet2!A:G,6,FALSE))","v":""},""]
[{"$f":"IF(OR(E1244=\"\",ISBLANK(E1244)),\"\",VLOOKUP(E1244,Sheet2!A:F,2,FALSE))","v":""},{"$f":"IF(OR(E1244=\"\",ISBLANK(E1244)),\"\",VLOOKUP(E1244,Sheet2!A:G,4,FALSE))","v":""},"",{"$f":"IF(OR(E1244=\"\",ISBLANK(E1244)),\"\",VLOOKUP(E1244,Sheet2!A:H,3,FALSE))","v":""},null,{"$f":"IF(OR(E1244=\"\",ISBLANK(E1244)),\"\",VLOOKUP(E1244,Sheet2!A:G,6,FALSE))","v":""},""]
[{"$f":"IF(OR(E1245=\"\",ISBLANK(E1245)),\"\",VLOOKUP(E1245,Sheet2!A:F,2,FALSE))","v":""},{"$f":"IF(OR(E1245=\"\",ISBLANK(E1245)),\"\",VLOOKUP(E1245,Sheet2!A:G,4,FALSE))","v":""},"",{"$f":"IF(OR(E1245=\"\",ISBLANK(E1245)),\"\",VLOOKUP(E1245,Sheet2!A:H,3,FALSE))","v":""},null,{"$f":"IF(OR(E1245=\"\",ISBLANK(E1245)),\"\",VLOOKUP(E1245,Sheet2!A:G,6,FALSE))","v":""},""]
[{"$f":"IF(OR(E1246=\"\",ISBLANK(E1246)),\"\",VLOOKUP(E1246,Sheet2!A:F,2,FALSE))","v":""},{"$f":"IF(OR(E1246=\"\",ISBLANK(E1246)),\"\",VLOOKUP(E1246,Sheet2!A:G,4,FALSE))","v":""},"",{"$f":"IF(OR(E1246=\"\",ISBLANK(E1246)),\"\",VLOOKUP(E1246,Sheet2!A:H,3,FALSE))","v":""},null,{"$f":"IF(OR(E1246=\"\",ISBLANK(E1246)),\"\",VLOOKUP(E1246,Sheet2!A:G,6,FALSE))","v":""},""]
[{"$f":"IF(OR(E1247=\"\",ISBLANK(E1247)),\"\",VLOOKUP(E1247,Sheet2!A:F,2,FALSE))","v":""},{"$f":"IF(OR(E1247=\"\",ISBLANK(E1247)),\"\",VLOOKUP(E1247,Sheet2!A:G,4,FALSE))","v":""},"",{"$f":"IF(OR(E1247=\"\",ISBLANK(E1247)),\"\",VLOOKUP(E1247,Sheet2!A:H,3,FALSE))","v":""},null,{"$f":"IF(OR(E1247=\"\",ISBLANK(E1247)),\"\",VLOOKUP(E1247,Sheet2!A:G,6,FALSE))","v":""},""]
[{"$f":"IF(OR(E1248=\"\",ISBLANK(E1248)),\"\",VLOOKUP(E1248,Sheet2!A:F,2,FALSE))","v":""},{"$f":"IF(OR(E1248=\"\",ISBLANK(E1248)),\"\",VLOOKUP(E1248,Sheet2!A:G,4,FALSE))","v":""},"",{"$f":"IF(OR(E1248=\"\",ISBLANK(E1248)),\"\",VLOOKUP(E1248,Sheet2!A:H,3,FALSE))","v":""},null,{"$f":"IF(OR(E1248=\"\",ISBLANK(E1248)),\"\",VLOOKUP(E1248,Sheet2!A:G,6,FALSE))","v":""},""]
[{"$f":"IF(OR(E1249=\"\",ISBLANK(E1249)),\"\",VLOOKUP(E1249,Sheet2!A:F,2,FALSE))","v":""},{"$f":"IF(OR(E1249=\"\",ISBLANK(E1249)),\"\",VLOOKUP(E1249,Sheet2!A:G,4,FALSE))","v":""},"",{"$f":"IF(OR(E1249=\"\",ISBLANK(E1249)),\"\",VLOOKUP(E1249,Sheet2!A:H,3,FALSE))","v":""},null,{"$f":"IF(OR(E1249=\"\",ISBLANK(E1249)),\"\",VLOOKUP(E1249,Sheet2!A:G,6,FALSE))","v":""},""]
[{"$f":"IF(OR(E1250=\"\",ISBLANK(E1250)),\"\",VLOOKUP(E1250,Sheet2!A:F,2,FALSE))","v":""},{"$f":"IF(OR(E1250=\"\",ISBLANK(E1250)),\"\",VLOOKUP(E1250,Sheet2!A:G,4,FALSE))","v":""},"",{"$f":"IF(OR(E1250=\"\",ISBLANK(E1250)),\"\",VLOOKUP(E1250,Sheet2!A:H,3,FALSE))","v":""},null,{"$f":"IF(OR(E1250=\"\",ISBLANK(E1250)),\"\",VLOOKUP(E1250,Sheet2!A:G,6,FALSE))","v":""},""]
[{"$f":"IF(OR(E1251=\"\",ISBLANK(E1251)),\"\",VLOOKUP(E1251,Sheet2!A:F,2,FALSE))","v":""},{"$f":"IF(OR(E1251=\"\",ISBLANK(E1251)),\"\",VLOOKUP(E1251,Sheet2!A:G,4,FALSE))","v":""},"",{"$f":"IF(OR(E1251=\"\",ISBLANK(E1251)),\"\",VLOOKUP(E1251,Sheet2!A:H,3,FALSE))","v":""},null,{"$f":"IF(OR(E1251=\"\",ISBLANK(E1251)),\"\",VLOOKUP(E1251,Sheet2!A:G,6,FALSE))","v":""},""]
[{"$f":"IF(OR(E1252=\"\",ISBLANK(E1252)),\"\",VLOOKUP(E1252,Sheet2!A:F,2,FALSE))","v":""},{"$f":"IF(OR(E1252=\"\",ISBLANK(E1252)),\"\",VLOOKUP(E1252,Sheet2!A:G,4,FALSE))","v":""},"",{"$f":"IF(OR(E1252=\"\",ISBLANK(E1252)),\"\",VLOOKUP(E1252,Sheet2!A:H,3,FALSE))","v":""},null,{"$f":"IF(OR(E1252=\"\",ISBLANK(E1252)),\"\",VLOOKUP(E1252,Sheet2!A:G,6,FALSE))","v":""},""]
[{"$f":"IF(OR(E1253=\"\",ISBLANK(E1253)),\"\",VLOOKUP(E1253,Sheet2!A:F,2,FALSE))","v":""},{"$f":"IF(OR(E1253=\"\",ISBLANK(E1253)),\"\",VLOOKUP(E1253,Sheet2!A:G,4,FALSE))","v":""},"",{"$f":"IF(OR(E1253=\"\",ISBLANK(E1253)),\"\",VLOOKUP(E1253,Sheet2!A:H,3,FALSE))","v":""},null,{"$f":"IF(OR(E1253=\"\",ISBLANK(E1253)),\"\",VLOOKUP(E1253,Sheet2!A:G,6,FALSE))","v":""},""]
[{"$f":"IF(OR(E1254=\"\",ISBLANK(E1254)),\"\",VLOOKUP(E1254,Sheet2!A:F,2,FALSE))","v":""},{"$f":"IF(OR(E1254=\"\",ISBLANK(E1254)),\"\",VLOOKUP(E1254,Sheet2!A:G,4,FALSE))","v":""},"",{"$f":"IF(OR(E1254=\"\",ISBLANK(E1254)),\"\",VLOOKUP(E1254,Sheet2!A:H,3,FALSE))","v":""},null,{"$f":"IF(OR(E1254=\"\",ISBLANK(E1254)),\"\",VLOOKUP(E1254,Sheet2!A:G,6,FALSE))","v":""},""]
[{"$f":"IF(OR(E1255=\"\",ISBLANK(E1255)),\"\",VLOOKUP(E1255,Sheet2!A:F,2,FALSE))","v":""},{"$f":"IF(OR(E1255=\"\",ISBLANK(E1255)),\"\",VLOOKUP(E1255,Sheet2!A:G,4,FALSE))","v":""},"",{"$f":"IF(OR(E1255=\"\",ISBLANK(E1255)),\"\",VLOOKUP(E1255,Sheet2!A:H,3,FALSE))","v":""},null,{"$f":"IF(OR(E1255=\"\",ISBLANK(E1255)),\"\",VLOOKUP(E1255,Sheet2!A:G,6,FALSE))","v":""},""]
[{"$f":"IF(OR(E1256=\"\",ISBLANK(E1256)),\"\",VLOOKUP(E1256,Sheet2!A:F,2,FALSE))","v":""},{"$f":"IF(OR(E1256=\"\",ISBLANK(E1256)),\"\",VLOOKUP(E1256,Sheet2!A:G,4,FALSE))","v":""},"",{"$f":"IF(OR(E1256=\"\",ISBLANK(E1256)),\"\",VLOOKUP(E1256,Sheet2!A:H,3,FALSE))","v":""},null,{"$f":"IF(OR(E1256=\"\",ISBLANK(E1256)),\"\",VLOOKUP(E1256,Sheet2!A:G,6,FALSE))","v":""},""]
[{"$f":"IF(OR(E1257=\"\",ISBLANK(E1257)),\"\",VLOOKUP(E1257,Sheet2!A:F,2,FALSE))","v":""},{"$f":"IF(OR(E1257=\"\",ISBLANK(E1257)),\"\",VLOOKUP(E1257,Sheet2!A:G,4,FALSE))","v":""},"",{"$f":"IF(OR(E1257=\"\",ISBLANK(E1257)),\"\",VLOOKUP(E1257,Sheet2!A:H,3,FALSE))","v":""},null,{"$f":"IF(OR(E1257=\"\",ISBLANK(E1257)),\"\",VLOOKUP(E1257,Sheet2!A:G,6,FALSE))","v":""},""]
[{"$f":"IF(OR(E1258=\"\",ISBLANK(E1258)),\"\",VLOOKUP(E1258,Sheet2!A:F,2,FALSE))","v":""},{"$f":"IF(OR(E1258=\"\",ISBLANK(E1258)),\"\",VLOOKUP(E1258,Sheet2!A:G,4,FALSE))","v":""},"",{"$f":"IF(OR(E1258=\"\",ISBLANK(E1258)),\"\",VLOOKUP(E1258,Sheet2!A:H,3,FALSE))","v":""},null,{"$f":"IF(OR(E1258=\"\",ISBLANK(E1258)),\"\",VLOOKUP(E1258,Sheet2!A:G,6,FALSE))","v":""},""]
[{"$f":"IF(OR(E1259=\"\",ISBLANK(E1259)),\"\",VLOOKUP(E1259,Sheet2!A:F,2,FALSE))","v":""},{"$f":"IF(OR(E1259=\"\",ISBLANK(E1259)),\"\",VLOOKUP(E1259,Sheet2!A:G,4,FALSE))","v":""},"",{"$f":"IF(OR(E1259=\"\",ISBLANK(E1259)),\"\",VLOOKUP(E1259,Sheet2!A:H,3,FALSE))","v":""},null,{"$f":"IF(OR(E1259=\"\",ISBLANK(E1259)),\"\",VLOOKUP(E1259,Sheet2!A:G,6,FALSE))","v":""},""]
[{"$f":"IF(OR(E1260=\"\",ISBLANK(E1260)),\"\",VLOOKUP(E1260,Sheet2!A:F,2,FALSE))","v":""},{"$f":"IF(OR(E1260=\"\",ISBLANK(E1260)),\"\",VLOOKUP(E1260,Sheet2!A:G,4,FALSE))","v":""},"",{"$f":"IF(OR(E1260=\"\",ISBLANK(E1260)),\"\",VLOOKUP(E1260,Sheet2!A:H,3,FALSE))","v":""},null,{"$f":"IF(OR(E1260=\"\",ISBLANK(E1260)),\"\",VLOOKUP(E1260,Sheet2!A:G,6,FALSE))","v":""},""]
[{"$f":"IF(OR(E1261=\"\",ISBLANK(E1261)),\"\",VLOOKUP(E1261,Sheet2!A:F,2,FALSE))","v":""},{"$f":"IF(OR(E1261=\"\",ISBLANK(E1261)),\"\",VLOOKUP(E1261,Sheet2!A:G,4,FALSE))","v":""},"",{"$f":"IF(OR(E1261=\"\",ISBLANK(E1261)),\"\",VLOOKUP(E1261,Sheet2!A:H,3,FALSE))","v":""},null,{"$f":"IF(OR(E1261=\"\",ISBLANK(E1261)),\"\",VLOOKUP(E1261,Sheet2!A:G,6,FALSE))","v":""},""]
[{"$f":"IF(OR(E1262=\"\",ISBLANK(E1262)),\"\",VLOOKUP(E1262,Sheet2!A:F,2,FALSE))","v":""},{"$f":"IF(OR(E1262=\"\",ISBLANK(E1262)),\"\",VLOOKUP(E1262,Sheet2!A:G,4,FALSE))","v":""},"",{"$f":"IF(OR(E1262=\"\",ISBLANK(E1262)),\"\",VLOOKUP(E1262,Sheet2!A:H,3,FALSE))","v":""},null,{"$f":"IF(OR(E1262=\"\",ISBLANK(E1262)),\"\",VLOOKUP(E1262,Sheet2!A:G,6,FALSE))","v":""},""]
[{"$f":"IF(OR(E1263=\"\",ISBLANK(E1263)),\"\",VLOOKUP(E1263,Sheet2!A:F,2,FALSE))","v":""},{"$f":"IF(OR(E1263=\"\",ISBLANK(E1263)),\"\",VLOOKUP(E1263,Sheet2!A:G,4,FALSE))","v":""},"",{"$f":"IF(OR(E1263=\"\",ISBLANK(E1263)),\"\",VLOOKUP(E1263,Sheet2!A:H,3,FALSE))","v":""},null,{"$f":"IF(OR(E1263=\"\",ISBLANK(E1263)),\"\",VLOOKUP(E1263,Sheet2!A:G,6,FALSE))","v":""},""]
[{"$f":"IF(OR(E1264=\"\",ISBLANK(E1264)),\"\",VLOOKUP(E1264,Sheet2!A:F,2,FALSE))","v":""},{"$f":"IF(OR(E1264=\"\",ISBLANK(E1264)),\"\",VLOOKUP(E1264,Sheet2!A:G,4,FALSE))","v":""},"",{"$f":"IF(OR(E1264=\"\",ISBLANK(E1264)),\"\",VLOOKUP(E1264,Sheet2!A:H,3,FALSE))","v":""},null,{"$f":"IF(OR(E1264=\"\",ISBLANK(E1264)),\"\",VLOOKUP(E1264,Sheet2!A:G,6,FALSE))","v":""},""]
[{"$f":"IF(OR(E1265=\"\",ISBLANK(E1265)),\"\",VLOOKUP(E1265,Sheet2!A:F,2,FALSE))","v":""},{"$f":"IF(OR(E1265=\"\",ISBLANK(E1265)),\"\",VLOOKUP(E1265,Sheet2!A:G,4,FALSE))","v":""},"",{"$f":"IF(OR(E1265=\"\",ISBLANK(E1265)),\"\",VLOOKUP(E1265,Sheet2!A:H,3,FALSE))","v":""},null,{"$f":"IF(OR(E1265=\"\",ISBLANK(E1265)),\"\",VLOOKUP(E1265,Sheet2!A:G,6,FALSE))","v":""},""]
[{"$f":"IF(OR(E1266=\"\",ISBLANK(E1266)),\"\",VLOOKUP(E1266,Sheet2!A:F,2,FALSE))","v":""},{"$f":"IF(OR(E1266=\"\",ISBLANK(E1266)),\"\",VLOOKUP(E1266,Sheet2!A:G,4,FALSE))","v":""},"",{"$f":"IF(OR(E1266=\"\",ISBLANK(E1266)),\"\",VLOOKUP(E1266,Sheet2!A:H,3,FALSE))","v":""},null,{"$f":"IF(OR(E1266=\"\",ISBLANK(E1266)),\"\",VLOOKUP(E1266,Sheet2!A:G,6,FALSE))","v":""},""]
[{"$f":"IF(OR(E1267=\"\",ISBLANK(E1267)),\"\",VLOOKUP(E1267,Sheet2!A:F,2,FALSE))","v":""},{"$f":"IF(OR(E1267=\"\",ISBLANK(E1267)),\"\",VLOOKUP(E1267,Sheet2!A:G,4,FALSE))","v":""},"",{"$f":"IF(OR(E1267=\"\",ISBLANK(E1267)),\"\",VLOOKUP(E1267,Sheet2!A:H,3,FALSE))","v":""},null,{"$f":"IF(OR(E1267=\"\",ISBLANK(E1267)),\"\",VLOOKUP(E1267,Sheet2!A:G,6,FALSE))","v":""},""]
[{"$f":"IF(OR(E1268=\"\",ISBLANK(E1268)),\"\",VLOOKUP(E1268,Sheet2!A:F,2,FALSE))","v":""},{"$f":"IF(OR(E1268=\"\",ISBLANK(E1268)),\"\",VLOOKUP(E1268,Sheet2!A:G,4,FALSE))","v":""},"",{"$f":"IF(OR(E1268=\"\",ISBLANK(E1268)),\"\",VLOOKUP(E1268,Sheet2!A:H,3,FALSE))","v":""},null,{"$f":"IF(OR(E1268=\"\",ISBLANK(E1268)),\"\",VLOOKUP(E1268,Sheet2!A:G,6,FALSE))","v":""},""]
[{"$f":"IF(OR(E1269=\"\",ISBLANK(E1269)),\"\",VLOOKUP(E1269,Sheet2!A:F,2,FALSE))","v":""},{"$f":"IF(OR(E1269=\"\",ISBLANK(E1269)),\"\",VLOOKUP(E1269,Sheet2!A:G,4,FALSE))","v":""},"",{"$f":"IF(OR(E1269=\"\",ISBLANK(E1269)),\"\",VLOOKUP(E1269,Sheet2!A:H,3,FALSE))","v":""},null,{"$f":"IF(OR(E1269=\"\",ISBLANK(E1269)),\"\",VLOOKUP(E1269,Sheet2!A:G,6,FALSE))","v":""},""]
[{"$f":"IF(OR(E1270=\"\",ISBLANK(E1270)),\"\",VLOOKUP(E1270,Sheet2!A:F,2,FALSE))","v":""},{"$f":"IF(OR(E1270=\"\",ISBLANK(E1270)),\"\",VLOOKUP(E1270,Sheet2!A:G,4,FALSE))","v":""},"",{"$f":"IF(OR(E1270=\"\",ISBLANK(E1270)),\"\",VLOOKUP(E1270,Sheet2!A:H,3,FALSE))","v":""},null,{"$f":"IF(OR(E1270=\"\",ISBLANK(E1270)),\"\",VLOOKUP(E1270,Sheet2!A:G,6,FALSE))","v":""},""]
[{"$f":"IF(OR(E1271=\"\",ISBLANK(E1271)),\"\",VLOOKUP(E1271,Sheet2!A:F,2,FALSE))","v":""},{"$f":"IF(OR(E1271=\"\",ISBLANK(E1271)),\"\",VLOOKUP(E1271,Sheet2!A:G,4,FALSE))","v":""},"",{"$f":"IF(OR(E1271=\"\",ISBLANK(E1271)),\"\",VLOOKUP(E1271,Sheet2!A:H,3,FALSE))","v":""},null,{"$f":"IF(OR(E1271=\"\",ISBLANK(E1271)),\"\",VLOOKUP(E1271,Sheet2!A:G,6,FALSE))","v":""},""]
[{"$f":"IF(OR(E1272=\"\",ISBLANK(E1272)),\"\",VLOOKUP(E1272,Sheet2!A:F,2,FALSE))","v":""},{"$f":"IF(OR(E1272=\"\",ISBLANK(E1272)),\"\",VLOOKUP(E1272,Sheet2!A:G,4,FALSE))","v":""},"",{"$f":"IF(OR(E1272=\"\",ISBLANK(E1272)),\"\",VLOOKUP(E1272,Sheet2!A:H,3,FALSE))","v":""},null,{"$f":"IF(OR(E1272=\"\",ISBLANK(E1272)),\"\",VLOOKUP(E1272,Sheet2!A:G,6,FALSE))","v":""},""]
[{"$f":"IF(OR(E1273=\"\",ISBLANK(E1273)),\"\",VLOOKUP(E1273,Sheet2!A:F,2,FALSE))","v":""},{"$f":"IF(OR(E1273=\"\",ISBLANK(E1273)),\"\",VLOOKUP(E1273,Sheet2!A:G,4,FALSE))","v":""},"",{"$f":"IF(OR(E1273=\"\",ISBLANK(E1273)),\"\",VLOOKUP(E1273,Sheet2!A:H,3,FALSE))","v":""},null,{"$f":"IF(OR(E1273=\"\",ISBLANK(E1273)),\"\",VLOOKUP(E1273,Sheet2!A:G,6,FALSE))","v":""},""]
[{"$f":"IF(OR(E1274=\"\",ISBLANK(E1274)),\"\",VLOOKUP(E1274,Sheet2!A:F,2,FALSE))","v":""},{"$f":"IF(OR(E1274=\"\",ISBLANK(E1274)),\"\",VLOOKUP(E1274,Sheet2!A:G,4,FALSE))","v":""},"",{"$f":"IF(OR(E1274=\"\",ISBLANK(E1274)),\"\",VLOOKUP(E1274,Sheet2!A:H,3,FALSE))","v":""},null,{"$f":"IF(OR(E1274=\"\",ISBLANK(E1274)),\"\",VLOOKUP(E1274,Sheet2!A:G,6,FALSE))","v":""},""]
[{"$f":"IF(OR(E1275=\"\",ISBLANK(E1275)),\"\",VLOOKUP(E1275,Sheet2!A:F,2,FALSE))","v":""},{"$f":"IF(OR(E1275=\"\",ISBLANK(E1275)),\"\",VLOOKUP(E1275,Sheet2!A:G,4,FALSE))","v":""},"",{"$f":"IF(OR(E1275=\"\",ISBLANK(E1275)),\"\",VLOOKUP(E1275,Sheet2!A:H,3,FALSE))","v":""},null,{"$f":"IF(OR(E1275=\"\",ISBLANK(E1275)),\"\",VLOOKUP(E1275,Sheet2!A:G,6,FALSE))","v":""},""]
[{"$f":"IF(OR(E1276=\"\",ISBLANK(E1276)),\"\",VLOOKUP(E1276,Sheet2!A:F,2,FALSE))","v":""},{"$f":"IF(OR(E1276=\"\",ISBLANK(E1276)),\"\",VLOOKUP(E1276,Sheet2!A:G,4,FALSE))","v":""},"",{"$f":"IF(OR(E1276=\"\",ISBLANK(E1276)),\"\",VLOOKUP(E1276,Sheet2!A:H,3,FALSE))","v":""},null,{"$f":"IF(OR(E1276=\"\",ISBLANK(E1276)),\"\",VLOOKUP(E1276,Sheet2!A:G,6,FALSE))","v":""},""]
[{"$f":"IF(OR(E1277=\"\",ISBLANK(E1277)),\"\",VLOOKUP(E1277,Sheet2!A:F,2,FALSE))","v":""},{"$f":"IF(OR(E1277=\"\",ISBLANK(E1277)),\"\",VLOOKUP(E1277,Sheet2!A:G,4,FALSE))","v":""},"",{"$f":"IF(OR(E1277=\"\",ISBLANK(E1277)),\"\",VLOOKUP(E1277,Sheet2!A:H,3,FALSE))","v":""},null,{"$f":"IF(OR(E1277=\"\",ISBLANK(E1277)),\"\",VLOOKUP(E1277,Sheet2!A:G,6,FALSE))","v":""},""]
[{"$f":"IF(OR(E1278=\"\",ISBLANK(E1278)),\"\",VLOOKUP(E1278,Sheet2!A:F,2,FALSE))","v":""},{"$f":"IF(OR(E1278=\"\",ISBLANK(E1278)),\"\",VLOOKUP(E1278,Sheet2!A:G,4,FALSE))","v":""},"",{"$f":"IF(OR(E1278=\"\",ISBLANK(E1278)),\"\",VLOOKUP(E1278,Sheet2!A:H,3,FALSE))","v":""},null,{"$f":"IF(OR(E1278=\"\",ISBLANK(E1278)),\"\",VLOOKUP(E1278,Sheet2!A:G,6,FALSE))","v":""},""]
[{"$f":"IF(OR(E1279=\"\",ISBLANK(E1279)),\"\",VLOOKUP(E1279,Sheet2!A:F,2,FALSE))","v":""},{"$f":"IF(OR(E1279=\"\",ISBLANK(E1279)),\"\",VLOOKUP(E1279,Sheet2!A:G,4,FALSE))","v":""},"",{"$f":"IF(OR(E1279=\"\",ISBLANK(E1279)),\"\",VLOOKUP(E1279,Sheet2!A:H,3,FALSE))","v":""},null,{"$f":"IF(OR(E1279=\"\",ISBLANK(E1279)),\"\",VLOOKUP(E1279,Sheet2!A:G,6,FALSE))","v":""},""]
[{"$f":"IF(OR(E1280=\"\",ISBLANK(E1280)),\"\",VLOOKUP(E1280,Sheet2!A:F,2,FALSE))","v":""},{"$f":"IF(OR(E1280=\"\",ISBLANK(E1280)),\"\",VLOOKUP(E1280,Sheet2!A:G,4,FALSE))","v":""},"",{"$f":"IF(OR(E1280=\"\",ISBLANK(E1280)),\"\",VLOOKUP(E1280,Sheet2!A:H,3,FALSE))","v":""},null,{"$f":"IF(OR(E1280=\"\",ISBLANK(E1280)),\"\",VLOOKUP(E1280,Sheet2!A:G,6,FALSE))","v":""},""]
[{"$f":"IF(OR(E1281=\"\",ISBLANK(E1281)),\"\",VLOOKUP(E1281,Sheet2!A:F,2,FALSE))","v":""},{"$f":"IF(OR(E1281=\"\",ISBLANK(E1281)),\"\",VLOOKUP(E1281,Sheet2!A:G,4,FALSE))","v":""},"",{"$f":"IF(OR(E1281=\"\",ISBLANK(E1281)),\"\",VLOOKUP(E1281,Sheet2!A:H,3,FALSE))","v":""},null,{"$f":"IF(OR(E1281=\"\",ISBLANK(E1281)),\"\",VLOOKUP(E1281,Sheet2!A:G,6,FALSE))","v":""},""]
[{"$f":"IF(OR(E1282=\"\",ISBLANK(E1282)),\"\",VLOOKUP(E1282,Sheet2!A:F,2,FALSE))","v":""},{"$f":"IF(OR(E1282=\"\",ISBLANK(E1282)),\"\",VLOOKUP(E1282,Sheet2!A:G,4,FALSE))","v":""},"",{"$f":"IF(OR(E1282=\"\",ISBLANK(E1282)),\"\",VLOOKUP(E1282,Sheet2!A:H,3,FALSE))","v":""},null,{"$f":"IF(OR(E1282=\"\",ISBLANK(E1282)),\"\",VLOOKUP(E1282,Sheet2!A:G,6,FALSE))","v":""},""]
[{"$f":"IF(OR(E1283=\"\",ISBLANK(E1283)),\"\",VLOOKUP(E1283,Sheet2!A:F,2,FALSE))","v":""},{"$f":"IF(OR(E1283=\"\",ISBLANK(E1283)),\"\",VLOOKUP(E1283,Sheet2!A:G,4,FALSE))","v":""},{"$f":"IF(D1283=0,\"\",D1283)","v":""},{"$f":"IF(OR(E1283=\"\",ISBLANK(E1283)),\"\",VLOOKUP(E1283,Sheet2!A:H,3,FALSE))","v":""},null,{"$f":"IF(OR(E1283=\"\",ISBLANK(E1283)),\"\",VLOOKUP(E1283,Sheet2!A:G,6,FALSE))","v":""},{"$f":"IF(F1283=0,\"\",F1283)","v":""}]
[{"$f":"IF(OR(E1284=\"\",ISBLANK(E1284)),\"\",VLOOKUP(E1284,Sheet2!A:F,2,FALSE))","v":""},{"$f":"IF(OR(E1284=\"\",ISBLANK(E1284)),\"\",VLOOKUP(E1284,Sheet2!A:G,4,FALSE))","v":""},"",{"$f":"IF(OR(E1284=\"\",ISBLANK(E1284)),\"\",VLOOKUP(E1284,Sheet2!A:H,3,FALSE))","v":""},null,{"$f":"IF(OR(E1284=\"\",ISBLANK(E1284)),\"\",VLOOKUP(E1284,Sheet2!A:G,6,FALSE))","v":""},""]
[{"$f":"IF(OR(E1285=\"\",ISBLANK(E1285)),\"\",VLOOKUP(E1285,Sheet2!A:F,2,FALSE))","v":""},{"$f":"IF(OR(E1285=\"\",ISBLANK(E1285)),\"\",VLOOKUP(E1285,Sheet2!A:G,4,FALSE))","v":""},"",{"$f":"IF(OR(E1285=\"\",ISBLANK(E1285)),\"\",VLOOKUP(E1285,Sheet2!A:H,3,FALSE))","v":""},null,{"$f":"IF(OR(E1285=\"\",ISBLANK(E1285)),\"\",VLOOKUP(E1285,Sheet2!A:G,6,FALSE))","v":""},""]
[{"$f":"IF(OR(E1286=\"\",ISBLANK(E1286)),\"\",VLOOKUP(E1286,Sheet2!A:F,2,FALSE))","v":""},{"$f":"IF(OR(E1286=\"\",ISBLANK(E1286)),\"\",VLOOKUP(E1286,Sheet2!A:G,4,FALSE))","v":""},"",{"$f":"IF(OR(E1286=\"\",ISBLANK(E1286)),\"\",VLOOKUP(E1286,Sheet2!A:H,3,FALSE))","v":""},null,{"$f":"IF(OR(E1286=\"\",ISBLANK(E1286)),\"\",VLOOKUP(E1286,Sheet2!A:G,6,FALSE))","v":""},""]
[{"$f":"IF(OR(E1287=\"\",ISBLANK(E1287)),\"\",VLOOKUP(E1287,Sheet2!A:F,2,FALSE))","v":""},{"$f":"IF(OR(E1287=\"\",ISBLANK(E1287)),\"\",VLOOKUP(E1287,Sheet2!A:G,4,FALSE))","v":""},"",{"$f":"IF(OR(E1287=\"\",ISBLANK(E1287)),\"\",VLOOKUP(E1287,Sheet2!A:H,3,FALSE))","v":""},null,{"$f":"IF(OR(E1287=\"\",ISBLANK(E1287)),\"\",VLOOKUP(E1287,Sheet2!A:G,6,FALSE))","v":""},""]
[{"$f":"IF(OR(E1288=\"\",ISBLANK(E1288)),\"\",VLOOKUP(E1288,Sheet2!A:F,2,FALSE))","v":""},{"$f":"IF(OR(E1288=\"\",ISBLANK(E1288)),\"\",VLOOKUP(E1288,Sheet2!A:G,4,FALSE))","v":""},"",{"$f":"IF(OR(E1288=\"\",ISBLANK(E1288)),\"\",VLOOKUP(E1288,Sheet2!A:H,3,FALSE))","v":""},null,{"$f":"IF(OR(E1288=\"\",ISBLANK(E1288)),\"\",VLOOKUP(E1288,Sheet2!A:G,6,FALSE))","v":""},""]
[{"$f":"IF(OR(E1289=\"\",ISBLANK(E1289)),\"\",VLOOKUP(E1289,Sheet2!A:F,2,FALSE))","v":""},{"$f":"IF(OR(E1289=\"\",ISBLANK(E1289)),\"\",VLOOKUP(E1289,Sheet2!A:G,4,FALSE))","v":""},"",{"$f":"IF(OR(E1289=\"\",ISBLANK(E1289)),\"\",VLOOKUP(E1289,Sheet2!A:H,3,FALSE))","v":""},null,{"$f":"IF(OR(E1289=\"\",ISBLANK(E1289)),\"\",VLOOKUP(E1289,Sheet2!A:G,6,FALSE))","v":""},""]
[{"$f":"IF(OR(E1290=\"\",ISBLANK(E1290)),\"\",VLOOKUP(E1290,Sheet2!A:F,2,FALSE))","v":""},{"$f":"IF(OR(E1290=\"\",ISBLANK(E1290)),\"\",VLOOKUP(E1290,Sheet2!A:G,4,FALSE))","v":""},"",{"$f":"IF(OR(E1290=\"\",ISBLANK(E1290)),\"\",VLOOKUP(E1290,Sheet2!A:H,3,FALSE))","v":""},null,{"$f":"IF(OR(E1290=\"\",ISBLANK(E1290)),\"\",VLOOKUP(E1290,Sheet2!A:G,6,FALSE))","v":""},""]
[{"$f":"IF(OR(E1291=\"\",ISBLANK(E1291)),\"\",VLOOKUP(E1291,Sheet2!A:F,2,FALSE))","v":""},{"$f":"IF(OR(E1291=\"\",ISBLANK(E1291)),\"\",VLOOKUP(E1291,Sheet2!A:G,4,FALSE))","v":""},"",{"$f":"IF(OR(E1291=\"\",ISBLANK(E1291)),\"\",VLOOKUP(E1291,Sheet2!A:H,3,FALSE))","v":""},null,{"$f":"IF(OR(E1291=\"\",ISBLANK(E1291)),\"\",VLOOKUP(E1291,Sheet2!A:G,6,FALSE))","v":""},""]
[{"$f":"IF(OR(E1292=\"\",ISBLANK(E1292)),\"\",VLOOKUP(E1292,Sheet2!A:F,2,FALSE))","v":""},{"$f":"IF(OR(E1292=\"\",ISBLANK(E1292)),\"\",VLOOKUP(E1292,Sheet2!A:G,4,FALSE))","v":""},"",{"$f":"IF(OR(E1292=\"\",ISBLANK(E1292)),\"\",VLOOKUP(E1292,Sheet2!A:H,3,FALSE))","v":""},null,{"$f":"IF(OR(E1292=\"\",ISBLANK(E1292)),\"\",VLOOKUP(E1292,Sheet2!A:G,6,FALSE))","v":""},""]
[{"$f":"IF(OR(E1293=\"\",ISBLANK(E1293)),\"\",VLOOKUP(E1293,Sheet2!A:F,2,FALSE))","v":""},{"$f":"IF(OR(E1293=\"\",ISBLANK(E1293)),\"\",VLOOKUP(E1293,Sheet2!A:G,4,FALSE))","v":""},"",{"$f":"IF(OR(E1293=\"\",ISBLANK(E1293)),\"\",VLOOKUP(E1293,Sheet2!A:H,3,FALSE))","v":""},null,{"$f":"IF(OR(E1293=\"\",ISBLANK(E1293)),\"\",VLOOKUP(E1293,Sheet2!A:G,6,FALSE))","v":""},""]
[{"$f":"IF(OR(E1294=\"\",ISBLANK(E1294)),\"\",VLOOKUP(E1294,Sheet2!A:F,2,FALSE))","v":""},{"$f":"IF(OR(E1294=\"\",ISBLANK(E1294)),\"\",VLOOKUP(E1294,Sheet2!A:G,4,FALSE))","v":""},"",{"$f":"IF(OR(E1294=\"\",ISBLANK(E1294)),\"\",VLOOKUP(E1294,Sheet2!A:H,3,FALSE))","v":""},null,{"$f":"IF(OR(E1294=\"\",ISBLANK(E1294)),\"\",VLOOKUP(E1294,Sheet2!A:G,6,FALSE))","v":""},""]
[{"$f":"IF(OR(E1295=\"\",ISBLANK(E1295)),\"\",VLOOKUP(E1295,Sheet2!A:F,2,FALSE))","v":""},{"$f":"IF(OR(E1295=\"\",ISBLANK(E1295)),\"\",VLOOKUP(E1295,Sheet2!A:G,4,FALSE))","v":""},"",{"$f":"IF(OR(E1295=\"\",ISBLANK(E1295)),\"\",VLOOKUP(E1295,Sheet2!A:H,3,FALSE))","v":""},null,{"$f":"IF(OR(E1295=\"\",ISBLANK(E1295)),\"\",VLOOKUP(E1295,Sheet2!A:G,6,FALSE))","v":""},""]
[{"$f":"IF(OR(E1296=\"\",ISBLANK(E1296)),\"\",VLOOKUP(E1296,Sheet2!A:F,2,FALSE))","v":""},{"$f":"IF(OR(E1296=\"\",ISBLANK(E1296)),\"\",VLOOKUP(E1296,Sheet2!A:G,4,FALSE))","v":""},"",{"$f":"IF(OR(E1296=\"\",ISBLANK(E1296)),\"\",VLOOKUP(E1296,Sheet2!A:H,3,FALSE))","v":""},null,{"$f":"IF(OR(E1296=\"\",ISBLANK(E1296)),\"\",VLOOKUP(E1296,Sheet2!A:G,6,FALSE))","v":""},""]
[{"$f":"IF(OR(E1297=\"\",ISBLANK(E1297)),\"\",VLOOKUP(E1297,Sheet2!A:F,2,FALSE))","v":""},{"$f":"IF(OR(E1297=\"\",ISBLANK(E1297)),\"\",VLOOKUP(E1297,Sheet2!A:G,4,FALSE))","v":""},"",{"$f":"IF(OR(E1297=\"\",ISBLANK(E1297)),\"\",VLOOKUP(E1297,Sheet2!A:H,3,FALSE))","v":""},null,{"$f":"IF(OR(E1297=\"\",ISBLANK(E1297)),\"\",VLOOKUP(E1297,Sheet2!A:G,6,FALSE))","v":""},""]
[{"$f":"IF(OR(E1298=\"\",ISBLANK(E1298)),\"\",VLOOKUP(E1298,Sheet2!A:F,2,FALSE))","v":""},{"$f":"IF(OR(E1298=\"\",ISBLANK(E1298)),\"\",VLOOKUP(E1298,Sheet2!A:G,4,FALSE))","v":""},"",{"$f":"IF(OR(E1298=\"\",ISBLANK(E1298)),\"\",VLOOKUP(E1298,Sheet2!A:H,3,FALSE))","v":""},null,{"$f":"IF(OR(E1298=\"\",ISBLANK(E1298)),\"\",VLOOKUP(E1298,Sheet2!A:G,6,FALSE))","v":""},""]
[{"$f":"IF(OR(E1299=\"\",ISBLANK(E1299)),\"\",VLOOKUP(E1299,Sheet2!A:F,2,FALSE))","v":""},{"$f":"IF(OR(E1299=\"\",ISBLANK(E1299)),\"\",VLOOKUP(E1299,Sheet2!A:G,4,FALSE))","v":""},"",{"$f":"IF(OR(E1299=\"\",ISBLANK(E1299)),\"\",VLOOKUP(E1299,Sheet2!A:H,3,FALSE))","v":""},null,{"$f":"IF(OR(E1299=\"\",ISBLANK(E1299)),\"\",VLOOKUP(E1299,Sheet2!A:G,6,FALSE))","v":""},""]
[{"$f":"IF(OR(E1300=\"\",ISBLANK(E1300)),\"\",VLOOKUP(E1300,Sheet2!A:F,2,FALSE))","v":""},{"$f":"IF(OR(E1300=\"\",ISBLANK(E1300)),\"\",VLOOKUP(E1300,Sheet2!A:G,4,FALSE))","v":""},"",{"$f":"IF(OR(E1300=\"\",ISBLANK(E1300)),\"\",VLOOKUP(E1300,Sheet2!A:H,3,FALSE))","v":""},null,{"$f":"IF(OR(E1300=\"\",ISBLANK(E1300)),\"\",VLOOKUP(E1300,Sheet2!A:G,6,FALSE))","v":""},""]
[{"$f":"IF(OR(E1301=\"\",ISBLANK(E1301)),\"\",VLOOKUP(E1301,Sheet2!A:F,2,FALSE))","v":""},{"$f":"IF(OR(E1301=\"\",ISBLANK(E1301)),\"\",VLOOKUP(E1301,Sheet2!A:G,4,FALSE))","v":""},"",{"$f":"IF(OR(E1301=\"\",ISBLANK(E1301)),\"\",VLOOKUP(E1301,Sheet2!A:H,3,FALSE))","v":""},null,{"$f":"IF(OR(E1301=\"\",ISBLANK(E1301)),\"\",VLOOKUP(E1301,Sheet2!A:G,6,FALSE))","v":""},""]
[{"$f":"IF(OR(E1302=\"\",ISBLANK(E1302)),\"\",VLOOKUP(E1302,Sheet2!A:F,2,FALSE))","v":""},{"$f":"IF(OR(E1302=\"\",ISBLANK(E1302)),\"\",VLOOKUP(E1302,Sheet2!A:G,4,FALSE))","v":""},"",{"$f":"IF(OR(E1302=\"\",ISBLANK(E1302)),\"\",VLOOKUP(E1302,Sheet2!A:H,3,FALSE))","v":""},null,{"$f":"IF(OR(E1302=\"\",ISBLANK(E1302)),\"\",VLOOKUP(E1302,Sheet2!A:G,6,FALSE))","v":""},""]
[{"$f":"IF(OR(E1303=\"\",ISBLANK(E1303)),\"\",VLOOKUP(E1303,Sheet2!A:F,2,FALSE))","v":""},{"$f":"IF(OR(E1303=\"\",ISBLANK(E1303)),\"\",VLOOKUP(E1303,Sheet2!A:G,4,FALSE))","v":""},"",{"$f":"IF(OR(E1303=\"\",ISBLANK(E1303)),\"\",VLOOKUP(E1303,Sheet2!A:H,3,FALSE))","v":""},null,{"$f":"IF(OR(E1303=\"\",ISBLANK(E1303)),\"\",VLOOKUP(E1303,Sheet2!A:G,6,FALSE))","v":""},""]
[{"$f":"IF(OR(E1304=\"\",ISBLANK(E1304)),\"\",VLOOKUP(E1304,Sheet2!A:F,2,FALSE))","v":""},{"$f":"IF(OR(E1304=\"\",ISBLANK(E1304)),\"\",VLOOKUP(E1304,Sheet2!A:G,4,FALSE))","v":""},"",{"$f":"IF(OR(E1304=\"\",ISBLANK(E1304)),\"\",VLOOKUP(E1304,Sheet2!A:H,3,FALSE))","v":""},null,{"$f":"IF(OR(E1304=\"\",ISBLANK(E1304)),\"\",VLOOKUP(E1304,Sheet2!A:G,6,FALSE))","v":""},""]
[{"$f":"IF(OR(E1305=\"\",ISBLANK(E1305)),\"\",VLOOKUP(E1305,Sheet2!A:F,2,FALSE))","v":""},{"$f":"IF(OR(E1305=\"\",ISBLANK(E1305)),\"\",VLOOKUP(E1305,Sheet2!A:G,4,FALSE))","v":""},"",{"$f":"IF(OR(E1305=\"\",ISBLANK(E1305)),\"\",VLOOKUP(E1305,Sheet2!A:H,3,FALSE))","v":""},null,{"$f":"IF(OR(E1305=\"\",ISBLANK(E1305)),\"\",VLOOKUP(E1305,Sheet2!A:G,6,FALSE))","v":""},""]
[{"$f":"IF(OR(E1306=\"\",ISBLANK(E1306)),\"\",VLOOKUP(E1306,Sheet2!A:F,2,FALSE))","v":""},{"$f":"IF(OR(E1306=\"\",ISBLANK(E1306)),\"\",VLOOKUP(E1306,Sheet2!A:G,4,FALSE))","v":""},"",{"$f":"IF(OR(E1306=\"\",ISBLANK(E1306)),\"\",VLOOKUP(E1306,Sheet2!A:H,3,FALSE))","v":""},null,{"$f":"IF(OR(E1306=\"\",ISBLANK(E1306)),\"\",VLOOKUP(E1306,Sheet2!A:G,6,FALSE))","v":""},""]
[{"$f":"IF(OR(E1307=\"\",ISBLANK(E1307)),\"\",VLOOKUP(E1307,Sheet2!A:F,2,FALSE))","v":""},{"$f":"IF(OR(E1307=\"\",ISBLANK(E1307)),\"\",VLOOKUP(E1307,Sheet2!A:G,4,FALSE))","v":""},"",{"$f":"IF(OR(E1307=\"\",ISBLANK(E1307)),\"\",VLOOKUP(E1307,Sheet2!A:H,3,FALSE))","v":""},null,{"$f":"IF(OR(E1307=\"\",ISBLANK(E1307)),\"\",VLOOKUP(E1307,Sheet2!A:G,6,FALSE))","v":""},""]
[{"$f":"IF(OR(E1308=\"\",ISBLANK(E1308)),\"\",VLOOKUP(E1308,Sheet2!A:F,2,FALSE))","v":""},{"$f":"IF(OR(E1308=\"\",ISBLANK(E1308)),\"\",VLOOKUP(E1308,Sheet2!A:G,4,FALSE))","v":""},"",{"$f":"IF(OR(E1308=\"\",ISBLANK(E1308)),\"\",VLOOKUP(E1308,Sheet2!A:H,3,FALSE))","v":""},null,{"$f":"IF(OR(E1308=\"\",ISBLANK(E1308)),\"\",VLOOKUP(E1308,Sheet2!A:G,6,FALSE))","v":""},""]
[{"$f":"IF(OR(E1309=\"\",ISBLANK(E1309)),\"\",VLOOKUP(E1309,Sheet2!A:F,2,FALSE))","v":""},{"$f":"IF(OR(E1309=\"\",ISBLANK(E1309)),\"\",VLOOKUP(E1309,Sheet2!A:G,4,FALSE))","v":""},"",{"$f":"IF(OR(E1309=\"\",ISBLANK(E1309)),\"\",VLOOKUP(E1309,Sheet2!A:H,3,FALSE))","v":""},null,{"$f":"IF(OR(E1309=\"\",ISBLANK(E1309)),\"\",VLOOKUP(E1309,Sheet2!A:G,6,FALSE))","v":""},""]
[{"$f":"IF(OR(E1310=\"\",ISBLANK(E1310)),\"\",VLOOKUP(E1310,Sheet2!A:F,2,FALSE))","v":""},{"$f":"IF(OR(E1310=\"\",ISBLANK(E1310)),\"\",VLOOKUP(E1310,Sheet2!A:G,4,FALSE))","v":""},"",{"$f":"IF(OR(E1310=\"\",ISBLANK(E1310)),\"\",VLOOKUP(E1310,Sheet2!A:H,3,FALSE))","v":""},null,{"$f":"IF(OR(E1310=\"\",ISBLANK(E1310)),\"\",VLOOKUP(E1310,Sheet2!A:G,6,FALSE))","v":""},""]
[{"$f":"IF(OR(E1311=\"\",ISBLANK(E1311)),\"\",VLOOKUP(E1311,Sheet2!A:F,2,FALSE))","v":""},{"$f":"IF(OR(E1311=\"\",ISBLANK(E1311)),\"\",VLOOKUP(E1311,Sheet2!A:G,4,FALSE))","v":""},"",{"$f":"IF(OR(E1311=\"\",ISBLANK(E1311)),\"\",VLOOKUP(E1311,Sheet2!A:H,3,FALSE))","v":""},null,{"$f":"IF(OR(E1311=\"\",ISBLANK(E1311)),\"\",VLOOKUP(E1311,Sheet2!A:G,6,FALSE))","v":""},""]
[{"$f":"IF(OR(E1312=\"\",ISBLANK(E1312)),\"\",VLOOKUP(E1312,Sheet2!A:F,2,FALSE))","v":""},{"$f":"IF(OR(E1312=\"\",ISBLANK(E1312)),\"\",VLOOKUP(E1312,Sheet2!A:G,4,FALSE))","v":""},"",{"$f":"IF(OR(E1312=\"\",ISBLANK(E1312)),\"\",VLOOKUP(E1312,Sheet2!A:H,3,FALSE))","v":""},null,{"$f":"IF(OR(E1312=\"\",ISBLANK(E1312)),\"\",VLOOKUP(E1312,Sheet2!A:G,6,FALSE))","v":""},""]
[{"$f":"IF(OR(E1313=\"\",ISBLANK(E1313)),\"\",VLOOKUP(E1313,Sheet2!A:F,2,FALSE))","v":""},{"$f":"IF(OR(E1313=\"\",ISBLANK(E1313)),\"\",VLOOKUP(E1313,Sheet2!A:G,4,FALSE))","v":""},"",{"$f":"IF(OR(E1313=\"\",ISBLANK(E1313)),\"\",VLOOKUP(E1313,Sheet2!A:H,3,FALSE))","v":""},null,{"$f":"IF(OR(E1313=\"\",ISBLANK(E1313)),\"\",VLOOKUP(E1313,Sheet2!A:G,6,FALSE))","v":""},""]
[{"$f":"IF(OR(E1314=\"\",ISBLANK(E1314)),\"\",VLOOKUP(E1314,Sheet2!A:F,2,FALSE))","v":""},{"$f":"IF(OR(E1314=\"\",ISBLANK(E1314)),\"\",VLOOKUP(E1314,Sheet2!A:G,4,FALSE))","v":""},"",{"$f":"IF(OR(E1314=\"\",ISBLANK(E1314)),\"\",VLOOKUP(E1314,Sheet2!A:H,3,FALSE))","v":""},null,{"$f":"IF(OR(E1314=\"\",ISBLANK(E1314)),\"\",VLOOKUP(E1314,Sheet2!A:G,6,FALSE))","v":""},""]
[{"$f":"IF(OR(E1315=\"\",ISBLANK(E1315)),\"\",VLOOKUP(E1315,Sheet2!A:F,2,FALSE))","v":""},{"$f":"IF(OR(E1315=\"\",ISBLANK(E1315)),\"\",VLOOKUP(E1315,Sheet2!A:G,4,FALSE))","v":""},"",{"$f":"IF(OR(E1315=\"\",ISBLANK(E1315)),\"\",VLOOKUP(E1315,Sheet2!A:H,3,FALSE))","v":""},null,{"$f":"IF(OR(E1315=\"\",ISBLANK(E1315)),\"\",VLOOKUP(E1315,Sheet2!A:G,6,FALSE))","v":""},""]
[{"$f":"IF(OR(E1316=\"\",ISBLANK(E1316)),\"\",VLOOKUP(E1316,Sheet2!A:F,2,FALSE))","v":""},{"$f":"IF(OR(E1316=\"\",ISBLANK(E1316)),\"\",VLOOKUP(E1316,Sheet2!A:G,4,FALSE))","v":""},"",{"$f":"IF(OR(E1316=\"\",ISBLANK(E1316)),\"\",VLOOKUP(E1316,Sheet2!A:H,3,FALSE))","v":""},null,{"$f":"IF(OR(E1316=\"\",ISBLANK(E1316)),\"\",VLOOKUP(E1316,Sheet2!A:G,6,FALSE))","v":""},""]
[{"$f":"IF(OR(E1317=\"\",ISBLANK(E1317)),\"\",VLOOKUP(E1317,Sheet2!A:F,2,FALSE))","v":""},{"$f":"IF(OR(E1317=\"\",ISBLANK(E1317)),\"\",VLOOKUP(E1317,Sheet2!A:G,4,FALSE))","v":""},"",{"$f":"IF(OR(E1317=\"\",ISBLANK(E1317)),\"\",VLOOKUP(E1317,Sheet2!A:H,3,FALSE))","v":""},null,{"$f":"IF(OR(E1317=\"\",ISBLANK(E1317)),\"\",VLOOKUP(E1317,Sheet2!A:G,6,FALSE))","v":""},""]
[{"$f":"IF(OR(E1318=\"\",ISBLANK(E1318)),\"\",VLOOKUP(E1318,Sheet2!A:F,2,FALSE))","v":""},{"$f":"IF(OR(E1318=\"\",ISBLANK(E1318)),\"\",VLOOKUP(E1318,Sheet2!A:G,4,FALSE))","v":""},"",{"$f":"IF(OR(E1318=\"\",ISBLANK(E1318)),\"\",VLOOKUP(E1318,Sheet2!A:H,3,FALSE))","v":""},null,{"$f":"IF(OR(E1318=\"\",ISBLANK(E1318)),\"\",VLOOKUP(E1318,Sheet2!A:G,6,FALSE))","v":""},""]
[{"$f":"IF(OR(E1319=\"\",ISBLANK(E1319)),\"\",VLOOKUP(E1319,Sheet2!A:F,2,FALSE))","v":""},{"$f":"IF(OR(E1319=\"\",ISBLANK(E1319)),\"\",VLOOKUP(E1319,Sheet2!A:G,4,FALSE))","v":""},"",{"$f":"IF(OR(E1319=\"\",ISBLANK(E1319)),\"\",VLOOKUP(E1319,Sheet2!A:H,3,FALSE))","v":""},null,{"$f":"IF(OR(E1319=\"\",ISBLANK(E1319)),\"\",VLOOKUP(E1319,Sheet2!A:G,6,FALSE))","v":""},""]
[{"$f":"IF(OR(E1320=\"\",ISBLANK(E1320)),\"\",VLOOKUP(E1320,Sheet2!A:F,2,FALSE))","v":""},{"$f":"IF(OR(E1320=\"\",ISBLANK(E1320)),\"\",VLOOKUP(E1320,Sheet2!A:G,4,FALSE))","v":""},"",{"$f":"IF(OR(E1320=\"\",ISBLANK(E1320)),\"\",VLOOKUP(E1320,Sheet2!A:H,3,FALSE))","v":""},null,{"$f":"IF(OR(E1320=\"\",ISBLANK(E1320)),\"\",VLOOKUP(E1320,Sheet2!A:G,6,FALSE))","v":""},""]
[{"$f":"IF(OR(E1321=\"\",ISBLANK(E1321)),\"\",VLOOKUP(E1321,Sheet2!A:F,2,FALSE))","v":""},{"$f":"IF(OR(E1321=\"\",ISBLANK(E1321)),\"\",VLOOKUP(E1321,Sheet2!A:G,4,FALSE))","v":""},"",{"$f":"IF(OR(E1321=\"\",ISBLANK(E1321)),\"\",VLOOKUP(E1321,Sheet2!A:H,3,FALSE))","v":""},null,{"$f":"IF(OR(E1321=\"\",ISBLANK(E1321)),\"\",VLOOKUP(E1321,Sheet2!A:G,6,FALSE))","v":""},""]
[{"$f":"IF(OR(E1322=\"\",ISBLANK(E1322)),\"\",VLOOKUP(E1322,Sheet2!A:F,2,FALSE))","v":""},{"$f":"IF(OR(E1322=\"\",ISBLANK(E1322)),\"\",VLOOKUP(E1322,Sheet2!A:G,4,FALSE))","v":""},"",{"$f":"IF(OR(E1322=\"\",ISBLANK(E1322)),\"\",VLOOKUP(E1322,Sheet2!A:H,3,FALSE))","v":""},null,{"$f":"IF(OR(E1322=\"\",ISBLANK(E1322)),\"\",VLOOKUP(E1322,Sheet2!A:G,6,FALSE))","v":""},""]
[{"$f":"IF(OR(E1323=\"\",ISBLANK(E1323)),\"\",VLOOKUP(E1323,Sheet2!A:F,2,FALSE))","v":""},{"$f":"IF(OR(E1323=\"\",ISBLANK(E1323)),\"\",VLOOKUP(E1323,Sheet2!A:G,4,FALSE))","v":""},"",{"$f":"IF(OR(E1323=\"\",ISBLANK(E1323)),\"\",VLOOKUP(E1323,Sheet2!A:H,3,FALSE))","v":""},null,{"$f":"IF(OR(E1323=\"\",ISBLANK(E1323)),\"\",VLOOKUP(E1323,Sheet2!A:G,6,FALSE))","v":""},""]
[{"$f":"IF(OR(E1324=\"\",ISBLANK(E1324)),\"\",VLOOKUP(E1324,Sheet2!A:F,2,FALSE))","v":""},{"$f":"IF(OR(E1324=\"\",ISBLANK(E1324)),\"\",VLOOKUP(E1324,Sheet2!A:G,4,FALSE))","v":""},"",{"$f":"IF(OR(E1324=\"\",ISBLANK(E1324)),\"\",VLOOKUP(E1324,Sheet2!A:H,3,FALSE))","v":""},null,{"$f":"IF(OR(E1324=\"\",ISBLANK(E1324)),\"\",VLOOKUP(E1324,Sheet2!A:G,6,FALSE))","v":""},""]
[{"$f":"IF(OR(E1325=\"\",ISBLANK(E1325)),\"\",VLOOKUP(E1325,Sheet2!A:F,2,FALSE))","v":""},{"$f":"IF(OR(E1325=\"\",ISBLANK(E1325)),\"\",VLOOKUP(E1325,Sheet2!A:G,4,FALSE))","v":""},"",{"$f":"IF(OR(E1325=\"\",ISBLANK(E1325)),\"\",VLOOKUP(E1325,Sheet2!A:H,3,FALSE))","v":""},null,{"$f":"IF(OR(E1325=\"\",ISBLANK(E1325)),\"\",VLOOKUP(E1325,Sheet2!A:G,6,FALSE))","v":""},""]
[{"$f":"IF(OR(E1326=\"\",ISBLANK(E1326)),\"\",VLOOKUP(E1326,Sheet2!A:F,2,FALSE))","v":""},{"$f":"IF(OR(E1326=\"\",ISBLANK(E1326)),\"\",VLOOKUP(E1326,Sheet2!A:G,4,FALSE))","v":""},"",{"$f":"IF(OR(E1326=\"\",ISBLANK(E1326)),\"\",VLOOKUP(E1326,Sheet2!A:H,3,FALSE))","v":""},null,{"$f":"IF(OR(E1326=\"\",ISBLANK(E1326)),\"\",VLOOKUP(E1326,Sheet2!A:G,6,FALSE))","v":""},""]
[{"$f":"IF(OR(E1327=\"\",ISBLANK(E1327)),\"\",VLOOKUP(E1327,Sheet2!A:F,2,FALSE))","v":""},{"$f":"IF(OR(E1327=\"\",ISBLANK(E1327)),\"\",VLOOKUP(E1327,Sheet2!A:G,4,FALSE))","v":""},"",{"$f":"IF(OR(E1327=\"\",ISBLANK(E1327)),\"\",VLOOKUP(E1327,Sheet2!A:H,3,FALSE))","v":""},null,{"$f":"IF(OR(E1327=\"\",ISBLANK(E1327)),\"\",VLOOKUP(E1327,Sheet2!A:G,6,FALSE))","v":""},""]
[{"$f":"IF(OR(E1328=\"\",ISBLANK(E1328)),\"\",VLOOKUP(E1328,Sheet2!A:F,2,FALSE))","v":""},{"$f":"IF(OR(E1328=\"\",ISBLANK(E1328)),\"\",VLOOKUP(E1328,Sheet2!A:G,4,FALSE))","v":""},"",{"$f":"IF(OR(E1328=\"\",ISBLANK(E1328)),\"\",VLOOKUP(E1328,Sheet2!A:H,3,FALSE))","v":""},null,{"$f":"IF(OR(E1328=\"\",ISBLANK(E1328)),\"\",VLOOKUP(E1328,Sheet2!A:G,6,FALSE))","v":""},""]
[{"$f":"IF(OR(E1329=\"\",ISBLANK(E1329)),\"\",VLOOKUP(E1329,Sheet2!A:F,2,FALSE))","v":""},{"$f":"IF(OR(E1329=\"\",ISBLANK(E1329)),\"\",VLOOKUP(E1329,Sheet2!A:G,4,FALSE))","v":""},"",{"$f":"IF(OR(E1329=\"\",ISBLANK(E1329)),\"\",VLOOKUP(E1329,Sheet2!A:H,3,FALSE))","v":""},null,{"$f":"IF(OR(E1329=\"\",ISBLANK(E1329)),\"\",VLOOKUP(E1329,Sheet2!A:G,6,FALSE))","v":""},""]
[{"$f":"IF(OR(E1330=\"\",ISBLANK(E1330)),\"\",VLOOKUP(E1330,Sheet2!A:F,2,FALSE))","v":""},{"$f":"IF(OR(E1330=\"\",ISBLANK(E1330)),\"\",VLOOKUP(E1330,Sheet2!A:G,4,FALSE))","v":""},"",{"$f":"IF(OR(E1330=\"\",ISBLANK(E1330)),\"\",VLOOKUP(E1330,Sheet2!A:H,3,FALSE))","v":""},null,{"$f":"IF(OR(E1330=\"\",ISBLANK(E1330)),\"\",VLOOKUP(E1330,Sheet2!A:G,6,FALSE))","v":""},""]
[{"$f":"IF(OR(E1331=\"\",ISBLANK(E1331)),\"\",VLOOKUP(E1331,Sheet2!A:F,2,FALSE))","v":""},{"$f":"IF(OR(E1331=\"\",ISBLANK(E1331)),\"\",VLOOKUP(E1331,Sheet2!A:G,4,FALSE))","v":""},"",{"$f":"IF(OR(E1331=\"\",ISBLANK(E1331)),\"\",VLOOKUP(E1331,Sheet2!A:H,3,FALSE))","v":""},null,{"$f":"IF(OR(E1331=\"\",ISBLANK(E1331)),\"\",VLOOKUP(E1331,Sheet2!A:G,6,FALSE))","v":""},""]
[{"$f":"IF(OR(E1332=\"\",ISBLANK(E1332)),\"\",VLOOKUP(E1332,Sheet2!A:F,2,FALSE))","v":""},{"$f":"IF(OR(E1332=\"\",ISBLANK(E1332)),\"\",VLOOKUP(E1332,Sheet2!A:G,4,FALSE))","v":""},"",{"$f":"IF(OR(E1332=\"\",ISBLANK(E1332)),\"\",VLOOKUP(E1332,Sheet2!A:H,3,FALSE))","v":""},null,{"$f":"IF(OR(E1332=\"\",ISBLANK(E1332)),\"\",VLOOKUP(E1332,Sheet2!A:G,6,FALSE))","v":""},""]
[{"$f":"IF(OR(E1333=\"\",ISBLANK(E1333)),\"\",VLOOKUP(E1333,Sheet2!A:F,2,FALSE))","v":""},{"$f":"IF(OR(E1333=\"\",ISBLANK(E1333)),\"\",VLOOKUP(E1333,Sheet2!A:G,4,FALSE))","v":""},"",{"$f":"IF(OR(E1333=\"\",ISBLANK(E1333)),\"\",VLOOKUP(E1333,Sheet2!A:H,3,FALSE))","v":""},null,{"$f":"IF(OR(E1333=\"\",ISBLANK(E1333)),\"\",VLOOKUP(E1333,Sheet2!A:G,6,FALSE))","v":""},""]
[{"$f":"IF(OR(E1334=\"\",ISBLANK(E1334)),\"\",VLOOKUP(E1334,Sheet2!A:F,2,FALSE))","v":""},{"$f":"IF(OR(E1334=\"\",ISBLANK(E1334)),\"\",VLOOKUP(E1334,Sheet2!A:G,4,FALSE))","v":""},"",{"$f":"IF(OR(E1334=\"\",ISBLANK(E1334)),\"\",VLOOKUP(E1334,Sheet2!A:H,3,FALSE))","v":""},null,{"$f":"IF(OR(E1334=\"\",ISBLANK(E1334)),\"\",VLOOKUP(E1334,Sheet2!A:G,6,FALSE))","v":""},""]
[{"$f":"IF(OR(E1335=\"\",ISBLANK(E1335)),\"\",VLOOKUP(E1335,Sheet2!A:F,2,FALSE))","v":""},{"$f":"IF(OR(E1335=\"\",ISBLANK(E1335)),\"\",VLOOKUP(E1335,Sheet2!A:G,4,FALSE))","v":""},"",{"$f":"IF(OR(E1335=\"\",ISBLANK(E1335)),\"\",VLOOKUP(E1335,Sheet2!A:H,3,FALSE))","v":""},null,{"$f":"IF(OR(E1335=\"\",ISBLANK(E1335)),\"\",VLOOKUP(E1335,Sheet2!A:G,6,FALSE))","v":""},""]
[{"$f":"IF(OR(E1336=\"\",ISBLANK(E1336)),\"\",VLOOKUP(E1336,Sheet2!A:F,2,FALSE))","v":""},{"$f":"IF(OR(E1336=\"\",ISBLANK(E1336)),\"\",VLOOKUP(E1336,Sheet2!A:G,4,FALSE))","v":""},"",{"$f":"IF(OR(E1336=\"\",ISBLANK(E1336)),\"\",VLOOKUP(E1336,Sheet2!A:H,3,FALSE))","v":""},null,{"$f":"IF(OR(E1336=\"\",ISBLANK(E1336)),\"\",VLOOKUP(E1336,Sheet2!A:G,6,FALSE))","v":""},""]
[{"$f":"IF(OR(E1337=\"\",ISBLANK(E1337)),\"\",VLOOKUP(E1337,Sheet2!A:F,2,FALSE))","v":""},{"$f":"IF(OR(E1337=\"\",ISBLANK(E1337)),\"\",VLOOKUP(E1337,Sheet2!A:G,4,FALSE))","v":""},"",{"$f":"IF(OR(E1337=\"\",ISBLANK(E1337)),\"\",VLOOKUP(E1337,Sheet2!A:H,3,FALSE))","v":""},null,{"$f":"IF(OR(E1337=\"\",ISBLANK(E1337)),\"\",VLOOKUP(E1337,Sheet2!A:G,6,FALSE))","v":""},""]
[{"$f":"IF(OR(E1338=\"\",ISBLANK(E1338)),\"\",VLOOKUP(E1338,Sheet2!A:F,2,FALSE))","v":""},{"$f":"IF(OR(E1338=\"\",ISBLANK(E1338)),\"\",VLOOKUP(E1338,Sheet2!A:G,4,FALSE))","v":""},"",{"$f":"IF(OR(E1338=\"\",ISBLANK(E1338)),\"\",VLOOKUP(E1338,Sheet2!A:H,3,FALSE))","v":""},null,{"$f":"IF(OR(E1338=\"\",ISBLANK(E1338)),\"\",VLOOKUP(E1338,Sheet2!A:G,6,FALSE))","v":""},""]
[{"$f":"IF(OR(E1339=\"\",ISBLANK(E1339)),\"\",VLOOKUP(E1339,Sheet2!A:F,2,FALSE))","v":""},{"$f":"IF(OR(E1339=\"\",ISBLANK(E1339)),\"\",VLOOKUP(E1339,Sheet2!A:G,4,FALSE))","v":""},"",{"$f":"IF(OR(E1339=\"\",ISBLANK(E1339)),\"\",VLOOKUP(E1339,Sheet2!A:H,3,FALSE))","v":""},null,{"$f":"IF(OR(E1339=\"\",ISBLANK(E1339)),\"\",VLOOKUP(E1339,Sheet2!A:G,6,FALSE))","v":""},""]
[{"$f":"IF(OR(E1340=\"\",ISBLANK(E1340)),\"\",VLOOKUP(E1340,Sheet2!A:F,2,FALSE))","v":""},{"$f":"IF(OR(E1340=\"\",ISBLANK(E1340)),\"\",VLOOKUP(E1340,Sheet2!A:G,4,FALSE))","v":""},"",{"$f":"IF(OR(E1340=\"\",ISBLANK(E1340)),\"\",VLOOKUP(E1340,Sheet2!A:H,3,FALSE))","v":""},null,{"$f":"IF(OR(E1340=\"\",ISBLANK(E1340)),\"\",VLOOKUP(E1340,Sheet2!A:G,6,FALSE))","v":""},""]
[{"$f":"IF(OR(E1341=\"\",ISBLANK(E1341)),\"\",VLOOKUP(E1341,Sheet2!A:F,2,FALSE))","v":""},{"$f":"IF(OR(E1341=\"\",ISBLANK(E1341)),\"\",VLOOKUP(E1341,Sheet2!A:G,4,FALSE))","v":""},"",{"$f":"IF(OR(E1341=\"\",ISBLANK(E1341)),\"\",VLOOKUP(E1341,Sheet2!A:H,3,FALSE))","v":""},null,{"$f":"IF(OR(E1341=\"\",ISBLANK(E1341)),\"\",VLOOKUP(E1341,Sheet2!A:G,6,FALSE))","v":""},""]
[{"$f":"IF(OR(E1342=\"\",ISBLANK(E1342)),\"\",VLOOKUP(E1342,Sheet2!A:F,2,FALSE))","v":""},{"$f":"IF(OR(E1342=\"\",ISBLANK(E1342)),\"\",VLOOKUP(E1342,Sheet2!A:G,4,FALSE))","v":""},"",{"$f":"IF(OR(E1342=\"\",ISBLANK(E1342)),\"\",VLOOKUP(E1342,Sheet2!A:H,3,FALSE))","v":""},null,{"$f":"IF(OR(E1342=\"\",ISBLANK(E1342)),\"\",VLOOKUP(E1342,Sheet2!A:G,6,FALSE))","v":""},""]
[{"$f":"IF(OR(E1343=\"\",ISBLANK(E1343)),\"\",VLOOKUP(E1343,Sheet2!A:F,2,FALSE))","v":""},{"$f":"IF(OR(E1343=\"\",ISBLANK(E1343)),\"\",VLOOKUP(E1343,Sheet2!A:G,4,FALSE))","v":""},"",{"$f":"IF(OR(E1343=\"\",ISBLANK(E1343)),\"\",VLOOKUP(E1343,Sheet2!A:H,3,FALSE))","v":""},null,{"$f":"IF(OR(E1343=\"\",ISBLANK(E1343)),\"\",VLOOKUP(E1343,Sheet2!A:G,6,FALSE))","v":""},""]
[{"$f":"IF(OR(E1344=\"\",ISBLANK(E1344)),\"\",VLOOKUP(E1344,Sheet2!A:F,2,FALSE))","v":""},{"$f":"IF(OR(E1344=\"\",ISBLANK(E1344)),\"\",VLOOKUP(E1344,Sheet2!A:G,4,FALSE))","v":""},"",{"$f":"IF(OR(E1344=\"\",ISBLANK(E1344)),\"\",VLOOKUP(E1344,Sheet2!A:H,3,FALSE))","v":""},null,{"$f":"IF(OR(E1344=\"\",ISBLANK(E1344)),\"\",VLOOKUP(E1344,Sheet2!A:G,6,FALSE))","v":""},""]
[{"$f":"IF(OR(E1345=\"\",ISBLANK(E1345)),\"\",VLOOKUP(E1345,Sheet2!A:F,2,FALSE))","v":""},{"$f":"IF(OR(E1345=\"\",ISBLANK(E1345)),\"\",VLOOKUP(E1345,Sheet2!A:G,4,FALSE))","v":""},"",{"$f":"IF(OR(E1345=\"\",ISBLANK(E1345)),\"\",VLOOKUP(E1345,Sheet2!A:H,3,FALSE))","v":""},null,{"$f":"IF(OR(E1345=\"\",ISBLANK(E1345)),\"\",VLOOKUP(E1345,Sheet2!A:G,6,FALSE))","v":""},""]
[{"$f":"IF(OR(E1346=\"\",ISBLANK(E1346)),\"\",VLOOKUP(E1346,Sheet2!A:F,2,FALSE))","v":""},{"$f":"IF(OR(E1346=\"\",ISBLANK(E1346)),\"\",VLOOKUP(E1346,Sheet2!A:G,4,FALSE))","v":""},"",{"$f":"IF(OR(E1346=\"\",ISBLANK(E1346)),\"\",VLOOKUP(E1346,Sheet2!A:H,3,FALSE))","v":""},null,{"$f":"IF(OR(E1346=\"\",ISBLANK(E1346)),\"\",VLOOKUP(E1346,Sheet2!A:G,6,FALSE))","v":""},""]
[{"$f":"IF(OR(E1347=\"\",ISBLANK(E1347)),\"\",VLOOKUP(E1347,Sheet2!A:F,2,FALSE))","v":""},{"$f":"IF(OR(E1347=\"\",ISBLANK(E1347)),\"\",VLOOKUP(E1347,Sheet2!A:G,4,FALSE))","v":""},{"$f":"IF(D1347=0,\"\",D1347)","v":""},{"$f":"IF(OR(E1347=\"\",ISBLANK(E1347)),\"\",VLOOKUP(E1347,Sheet2!A:H,3,FALSE))","v":""},null,{"$f":"IF(OR(E1347=\"\",ISBLANK(E1347)),\"\",VLOOKUP(E1347,Sheet2!A:G,6,FALSE))","v":""},{"$f":"IF(F1347=0,\"\",F1347)","v":""}]
[{"$f":"IF(OR(E1348=\"\",ISBLANK(E1348)),\"\",VLOOKUP(E1348,Sheet2!A:F,2,FALSE))","v":""},{"$f":"IF(OR(E1348=\"\",ISBLANK(E1348)),\"\",VLOOKUP(E1348,Sheet2!A:G,4,FALSE))","v":""},"",{"$f":"IF(OR(E1348=\"\",ISBLANK(E1348)),\"\",VLOOKUP(E1348,Sheet2!A:H,3,FALSE))","v":""},null,{"$f":"IF(OR(E1348=\"\",ISBLANK(E1348)),\"\",VLOOKUP(E1348,Sheet2!A:G,6,FALSE))","v":""},""]
[{"$f":"IF(OR(E1349=\"\",ISBLANK(E1349)),\"\",VLOOKUP(E1349,Sheet2!A:F,2,FALSE))","v":""},{"$f":"IF(OR(E1349=\"\",ISBLANK(E1349)),\"\",VLOOKUP(E1349,Sheet2!A:G,4,FALSE))","v":""},"",{"$f":"IF(OR(E1349=\"\",ISBLANK(E1349)),\"\",VLOOKUP(E1349,Sheet2!A:H,3,FALSE))","v":""},null,{"$f":"IF(OR(E1349=\"\",ISBLANK(E1349)),\"\",VLOOKUP(E1349,Sheet2!A:G,6,FALSE))","v":""},""]
[{"$f":"IF(OR(E1350=\"\",ISBLANK(E1350)),\"\",VLOOKUP(E1350,Sheet2!A:F,2,FALSE))","v":""},{"$f":"IF(OR(E1350=\"\",ISBLANK(E1350)),\"\",VLOOKUP(E1350,Sheet2!A:G,4,FALSE))","v":""},"",{"$f":"IF(OR(E1350=\"\",ISBLANK(E1350)),\"\",VLOOKUP(E1350,Sheet2!A:H,3,FALSE))","v":""},null,{"$f":"IF(OR(E1350=\"\",ISBLANK(E1350)),\"\",VLOOKUP(E1350,Sheet2!A:G,6,FALSE))","v":""},""]
[{"$f":"IF(OR(E1351=\"\",ISBLANK(E1351)),\"\",VLOOKUP(E1351,Sheet2!A:F,2,FALSE))","v":""},{"$f":"IF(OR(E1351=\"\",ISBLANK(E1351)),\"\",VLOOKUP(E1351,Sheet2!A:G,4,FALSE))","v":""},"",{"$f":"IF(OR(E1351=\"\",ISBLANK(E1351)),\"\",VLOOKUP(E1351,Sheet2!A:H,3,FALSE))","v":""},null,{"$f":"IF(OR(E1351=\"\",ISBLANK(E1351)),\"\",VLOOKUP(E1351,Sheet2!A:G,6,FALSE))","v":""},""]
[{"$f":"IF(OR(E1352=\"\",ISBLANK(E1352)),\"\",VLOOKUP(E1352,Sheet2!A:F,2,FALSE))","v":""},{"$f":"IF(OR(E1352=\"\",ISBLANK(E1352)),\"\",VLOOKUP(E1352,Sheet2!A:G,4,FALSE))","v":""},"",{"$f":"IF(OR(E1352=\"\",ISBLANK(E1352)),\"\",VLOOKUP(E1352,Sheet2!A:H,3,FALSE))","v":""},null,{"$f":"IF(OR(E1352=\"\",ISBLANK(E1352)),\"\",VLOOKUP(E1352,Sheet2!A:G,6,FALSE))","v":""},""]
[{"$f":"IF(OR(E1353=\"\",ISBLANK(E1353)),\"\",VLOOKUP(E1353,Sheet2!A:F,2,FALSE))","v":""},{"$f":"IF(OR(E1353=\"\",ISBLANK(E1353)),\"\",VLOOKUP(E1353,Sheet2!A:G,4,FALSE))","v":""},"",{"$f":"IF(OR(E1353=\"\",ISBLANK(E1353)),\"\",VLOOKUP(E1353,Sheet2!A:H,3,FALSE))","v":""},null,{"$f":"IF(OR(E1353=\"\",ISBLANK(E1353)),\"\",VLOOKUP(E1353,Sheet2!A:G,6,FALSE))","v":""},""]
[{"$f":"IF(OR(E1354=\"\",ISBLANK(E1354)),\"\",VLOOKUP(E1354,Sheet2!A:F,2,FALSE))","v":""},{"$f":"IF(OR(E1354=\"\",ISBLANK(E1354)),\"\",VLOOKUP(E1354,Sheet2!A:G,4,FALSE))","v":""},"",{"$f":"IF(OR(E1354=\"\",ISBLANK(E1354)),\"\",VLOOKUP(E1354,Sheet2!A:H,3,FALSE))","v":""},null,{"$f":"IF(OR(E1354=\"\",ISBLANK(E1354)),\"\",VLOOKUP(E1354,Sheet2!A:G,6,FALSE))","v":""},""]
[{"$f":"IF(OR(E1355=\"\",ISBLANK(E1355)),\"\",VLOOKUP(E1355,Sheet2!A:F,2,FALSE))","v":""},{"$f":"IF(OR(E1355=\"\",ISBLANK(E1355)),\"\",VLOOKUP(E1355,Sheet2!A:G,4,FALSE))","v":""},"",{"$f":"IF(OR(E1355=\"\",ISBLANK(E1355)),\"\",VLOOKUP(E1355,Sheet2!A:H,3,FALSE))","v":""},null,{"$f":"IF(OR(E1355=\"\",ISBLANK(E1355)),\"\",VLOOKUP(E1355,Sheet2!A:G,6,FALSE))","v":""},""]
[{"$f":"IF(OR(E1356=\"\",ISBLANK(E1356)),\"\",VLOOKUP(E1356,Sheet2!A:F,2,FALSE))","v":""},{"$f":"IF(OR(E1356=\"\",ISBLANK(E1356)),\"\",VLOOKUP(E1356,Sheet2!A:G,4,FALSE))","v":""},"",{"$f":"IF(OR(E1356=\"\",ISBLANK(E1356)),\"\",VLOOKUP(E1356,Sheet2!A:H,3,FALSE))","v":""},null,{"$f":"IF(OR(E1356=\"\",ISBLANK(E1356)),\"\",VLOOKUP(E1356,Sheet2!A:G,6,FALSE))","v":""},""]
[{"$f":"IF(OR(E1357=\"\",ISBLANK(E1357)),\"\",VLOOKUP(E1357,Sheet2!A:F,2,FALSE))","v":""},{"$f":"IF(OR(E1357=\"\",ISBLANK(E1357)),\"\",VLOOKUP(E1357,Sheet2!A:G,4,FALSE))","v":""},"",{"$f":"IF(OR(E1357=\"\",ISBLANK(E1357)),\"\",VLOOKUP(E1357,Sheet2!A:H,3,FALSE))","v":""},null,{"$f":"IF(OR(E1357=\"\",ISBLANK(E1357)),\"\",VLOOKUP(E1357,Sheet2!A:G,6,FALSE))","v":""},""]
[{"$f":"IF(OR(E1358=\"\",ISBLANK(E1358)),\"\",VLOOKUP(E1358,Sheet2!A:F,2,FALSE))","v":""},{"$f":"IF(OR(E1358=\"\",ISBLANK(E1358)),\"\",VLOOKUP(E1358,Sheet2!A:G,4,FALSE))","v":""},"",{"$f":"IF(OR(E1358=\"\",ISBLANK(E1358)),\"\",VLOOKUP(E1358,Sheet2!A:H,3,FALSE))","v":""},null,{"$f":"IF(OR(E1358=\"\",ISBLANK(E1358)),\"\",VLOOKUP(E1358,Sheet2!A:G,6,FALSE))","v":""},""]
[{"$f":"IF(OR(E1359=\"\",ISBLANK(E1359)),\"\",VLOOKUP(E1359,Sheet2!A:F,2,FALSE))","v":""},{"$f":"IF(OR(E1359=\"\",ISBLANK(E1359)),\"\",VLOOKUP(E1359,Sheet2!A:G,4,FALSE))","v":""},"",{"$f":"IF(OR(E1359=\"\",ISBLANK(E1359)),\"\",VLOOKUP(E1359,Sheet2!A:H,3,FALSE))","v":""},null,{"$f":"IF(OR(E1359=\"\",ISBLANK(E1359)),\"\",VLOOKUP(E1359,Sheet2!A:G,6,FALSE))","v":""},""]
[{"$f":"IF(OR(E1360=\"\",ISBLANK(E1360)),\"\",VLOOKUP(E1360,Sheet2!A:F,2,FALSE))","v":""},{"$f":"IF(OR(E1360=\"\",ISBLANK(E1360)),\"\",VLOOKUP(E1360,Sheet2!A:G,4,FALSE))","v":""},"",{"$f":"IF(OR(E1360=\"\",ISBLANK(E1360)),\"\",VLOOKUP(E1360,Sheet2!A:H,3,FALSE))","v":""},null,{"$f":"IF(OR(E1360=\"\",ISBLANK(E1360)),\"\",VLOOKUP(E1360,Sheet2!A:G,6,FALSE))","v":""},""]
[{"$f":"IF(OR(E1361=\"\",ISBLANK(E1361)),\"\",VLOOKUP(E1361,Sheet2!A:F,2,FALSE))","v":""},{"$f":"IF(OR(E1361=\"\",ISBLANK(E1361)),\"\",VLOOKUP(E1361,Sheet2!A:G,4,FALSE))","v":""},"",{"$f":"IF(OR(E1361=\"\",ISBLANK(E1361)),\"\",VLOOKUP(E1361,Sheet2!A:H,3,FALSE))","v":""},null,{"$f":"IF(OR(E1361=\"\",ISBLANK(E1361)),\"\",VLOOKUP(E1361,Sheet2!A:G,6,FALSE))","v":""},""]
[{"$f":"IF(OR(E1362=\"\",ISBLANK(E1362)),\"\",VLOOKUP(E1362,Sheet2!A:F,2,FALSE))","v":""},{"$f":"IF(OR(E1362=\"\",ISBLANK(E1362)),\"\",VLOOKUP(E1362,Sheet2!A:G,4,FALSE))","v":""},"",{"$f":"IF(OR(E1362=\"\",ISBLANK(E1362)),\"\",VLOOKUP(E1362,Sheet2!A:H,3,FALSE))","v":""},null,{"$f":"IF(OR(E1362=\"\",ISBLANK(E1362)),\"\",VLOOKUP(E1362,Sheet2!A:G,6,FALSE))","v":""},""]
[{"$f":"IF(OR(E1363=\"\",ISBLANK(E1363)),\"\",VLOOKUP(E1363,Sheet2!A:F,2,FALSE))","v":""},{"$f":"IF(OR(E1363=\"\",ISBLANK(E1363)),\"\",VLOOKUP(E1363,Sheet2!A:G,4,FALSE))","v":""},"",{"$f":"IF(OR(E1363=\"\",ISBLANK(E1363)),\"\",VLOOKUP(E1363,Sheet2!A:H,3,FALSE))","v":""},null,{"$f":"IF(OR(E1363=\"\",ISBLANK(E1363)),\"\",VLOOKUP(E1363,Sheet2!A:G,6,FALSE))","v":""},""]
[{"$f":"IF(OR(E1364=\"\",ISBLANK(E1364)),\"\",VLOOKUP(E1364,Sheet2!A:F,2,FALSE))","v":""},{"$f":"IF(OR(E1364=\"\",ISBLANK(E1364)),\"\",VLOOKUP(E1364,Sheet2!A:G,4,FALSE))","v":""},"",{"$f":"IF(OR(E1364=\"\",ISBLANK(E1364)),\"\",VLOOKUP(E1364,Sheet2!A:H,3,FALSE))","v":""},null,{"$f":"IF(OR(E1364=\"\",ISBLANK(E1364)),\"\",VLOOKUP(E1364,Sheet2!A:G,6,FALSE))","v":""},""]
[{"$f":"IF(OR(E1365=\"\",ISBLANK(E1365)),\"\",VLOOKUP(E1365,Sheet2!A:F,2,FALSE))","v":""},{"$f":"IF(OR(E1365=\"\",ISBLANK(E1365)),\"\",VLOOKUP(E1365,Sheet2!A:G,4,FALSE))","v":""},"",{"$f":"IF(OR(E1365=\"\",ISBLANK(E1365)),\"\",VLOOKUP(E1365,Sheet2!A:H,3,FALSE))","v":""},null,{"$f":"IF(OR(E1365=\"\",ISBLANK(E1365)),\"\",VLOOKUP(E1365,Sheet2!A:G,6,FALSE))","v":""},""]
[{"$f":"IF(OR(E1366=\"\",ISBLANK(E1366)),\"\",VLOOKUP(E1366,Sheet2!A:F,2,FALSE))","v":""},{"$f":"IF(OR(E1366=\"\",ISBLANK(E1366)),\"\",VLOOKUP(E1366,Sheet2!A:G,4,FALSE))","v":""},"",{"$f":"IF(OR(E1366=\"\",ISBLANK(E1366)),\"\",VLOOKUP(E1366,Sheet2!A:H,3,FALSE))","v":""},null,{"$f":"IF(OR(E1366=\"\",ISBLANK(E1366)),\"\",VLOOKUP(E1366,Sheet2!A:G,6,FALSE))","v":""},""]
[{"$f":"IF(OR(E1367=\"\",ISBLANK(E1367)),\"\",VLOOKUP(E1367,Sheet2!A:F,2,FALSE))","v":""},{"$f":"IF(OR(E1367=\"\",ISBLANK(E1367)),\"\",VLOOKUP(E1367,Sheet2!A:G,4,FALSE))","v":""},"",{"$f":"IF(OR(E1367=\"\",ISBLANK(E1367)),\"\",VLOOKUP(E1367,Sheet2!A:H,3,FALSE))","v":""},null,{"$f":"IF(OR(E1367=\"\",ISBLANK(E1367)),\"\",VLOOKUP(E1367,Sheet2!A:G,6,FALSE))","v":""},""]
[{"$f":"IF(OR(E1368=\"\",ISBLANK(E1368)),\"\",VLOOKUP(E1368,Sheet2!A:F,2,FALSE))","v":""},{"$f":"IF(OR(E1368=\"\",ISBLANK(E1368)),\"\",VLOOKUP(E1368,Sheet2!A:G,4,FALSE))","v":""},"",{"$f":"IF(OR(E1368=\"\",ISBLANK(E1368)),\"\",VLOOKUP(E1368,Sheet2!A:H,3,FALSE))","v":""},null,{"$f":"IF(OR(E1368=\"\",ISBLANK(E1368)),\"\",VLOOKUP(E1368,Sheet2!A:G,6,FALSE))","v":""},""]
[{"$f":"IF(OR(E1369=\"\",ISBLANK(E1369)),\"\",VLOOKUP(E1369,Sheet2!A:F,2,FALSE))","v":""},{"$f":"IF(OR(E1369=\"\",ISBLANK(E1369)),\"\",VLOOKUP(E1369,Sheet2!A:G,4,FALSE))","v":""},"",{"$f":"IF(OR(E1369=\"\",ISBLANK(E1369)),\"\",VLOOKUP(E1369,Sheet2!A:H,3,FALSE))","v":""},null,{"$f":"IF(OR(E1369=\"\",ISBLANK(E1369)),\"\",VLOOKUP(E1369,Sheet2!A:G,6,FALSE))","v":""},""]
[{"$f":"IF(OR(E1370=\"\",ISBLANK(E1370)),\"\",VLOOKUP(E1370,Sheet2!A:F,2,FALSE))","v":""},{"$f":"IF(OR(E1370=\"\",ISBLANK(E1370)),\"\",VLOOKUP(E1370,Sheet2!A:G,4,FALSE))","v":""},"",{"$f":"IF(OR(E1370=\"\",ISBLANK(E1370)),\"\",VLOOKUP(E1370,Sheet2!A:H,3,FALSE))","v":""},null,{"$f":"IF(OR(E1370=\"\",ISBLANK(E1370)),\"\",VLOOKUP(E1370,Sheet2!A:G,6,FALSE))","v":""},""]
[{"$f":"IF(OR(E1371=\"\",ISBLANK(E1371)),\"\",VLOOKUP(E1371,Sheet2!A:F,2,FALSE))","v":""},{"$f":"IF(OR(E1371=\"\",ISBLANK(E1371)),\"\",VLOOKUP(E1371,Sheet2!A:G,4,FALSE))","v":""},"",{"$f":"IF(OR(E1371=\"\",ISBLANK(E1371)),\"\",VLOOKUP(E1371,Sheet2!A:H,3,FALSE))","v":""},null,{"$f":"IF(OR(E1371=\"\",ISBLANK(E1371)),\"\",VLOOKUP(E1371,Sheet2!A:G,6,FALSE))","v":""},""]
[{"$f":"IF(OR(E1372=\"\",ISBLANK(E1372)),\"\",VLOOKUP(E1372,Sheet2!A:F,2,FALSE))","v":""},{"$f":"IF(OR(E1372=\"\",ISBLANK(E1372)),\"\",VLOOKUP(E1372,Sheet2!A:G,4,FALSE))","v":""},"",{"$f":"IF(OR(E1372=\"\",ISBLANK(E1372)),\"\",VLOOKUP(E1372,Sheet2!A:H,3,FALSE))","v":""},null,{"$f":"IF(OR(E1372=\"\",ISBLANK(E1372)),\"\",VLOOKUP(E1372,Sheet2!A:G,6,FALSE))","v":""},""]
[{"$f":"IF(OR(E1373=\"\",ISBLANK(E1373)),\"\",VLOOKUP(E1373,Sheet2!A:F,2,FALSE))","v":""},{"$f":"IF(OR(E1373=\"\",ISBLANK(E1373)),\"\",VLOOKUP(E1373,Sheet2!A:G,4,FALSE))","v":""},"",{"$f":"IF(OR(E1373=\"\",ISBLANK(E1373)),\"\",VLOOKUP(E1373,Sheet2!A:H,3,FALSE))","v":""},null,{"$f":"IF(OR(E1373=\"\",ISBLANK(E1373)),\"\",VLOOKUP(E1373,Sheet2!A:G,6,FALSE))","v":""},""]
[{"$f":"IF(OR(E1374=\"\",ISBLANK(E1374)),\"\",VLOOKUP(E1374,Sheet2!A:F,2,FALSE))","v":""},{"$f":"IF(OR(E1374=\"\",ISBLANK(E1374)),\"\",VLOOKUP(E1374,Sheet2!A:G,4,FALSE))","v":""},"",{"$f":"IF(OR(E1374=\"\",ISBLANK(E1374)),\"\",VLOOKUP(E1374,Sheet2!A:H,3,FALSE))","v":""},null,{"$f":"IF(OR(E1374=\"\",ISBLANK(E1374)),\"\",VLOOKUP(E1374,Sheet2!A:G,6,FALSE))","v":""},""]
[{"$f":"IF(OR(E1375=\"\",ISBLANK(E1375)),\"\",VLOOKUP(E1375,Sheet2!A:F,2,FALSE))","v":""},{"$f":"IF(OR(E1375=\"\",ISBLANK(E1375)),\"\",VLOOKUP(E1375,Sheet2!A:G,4,FALSE))","v":""},"",{"$f":"IF(OR(E1375=\"\",ISBLANK(E1375)),\"\",VLOOKUP(E1375,Sheet2!A:H,3,FALSE))","v":""},null,{"$f":"IF(OR(E1375=\"\",ISBLANK(E1375)),\"\",VLOOKUP(E1375,Sheet2!A:G,6,FALSE))","v":""},""]
[{"$f":"IF(OR(E1376=\"\",ISBLANK(E1376)),\"\",VLOOKUP(E1376,Sheet2!A:F,2,FALSE))","v":""},{"$f":"IF(OR(E1376=\"\",ISBLANK(E1376)),\"\",VLOOKUP(E1376,Sheet2!A:G,4,FALSE))","v":""},"",{"$f":"IF(OR(E1376=\"\",ISBLANK(E1376)),\"\",VLOOKUP(E1376,Sheet2!A:H,3,FALSE))","v":""},null,{"$f":"IF(OR(E1376=\"\",ISBLANK(E1376)),\"\",VLOOKUP(E1376,Sheet2!A:G,6,FALSE))","v":""},""]
[{"$f":"IF(OR(E1377=\"\",ISBLANK(E1377)),\"\",VLOOKUP(E1377,Sheet2!A:F,2,FALSE))","v":""},{"$f":"IF(OR(E1377=\"\",ISBLANK(E1377)),\"\",VLOOKUP(E1377,Sheet2!A:G,4,FALSE))","v":""},"",{"$f":"IF(OR(E1377=\"\",ISBLANK(E1377)),\"\",VLOOKUP(E1377,Sheet2!A:H,3,FALSE))","v":""},null,{"$f":"IF(OR(E1377=\"\",ISBLANK(E1377)),\"\",VLOOKUP(E1377,Sheet2!A:G,6,FALSE))","v":""},""]
[{"$f":"IF(OR(E1378=\"\",ISBLANK(E1378)),\"\",VLOOKUP(E1378,Sheet2!A:F,2,FALSE))","v":""},{"$f":"IF(OR(E1378=\"\",ISBLANK(E1378)),\"\",VLOOKUP(E1378,Sheet2!A:G,4,FALSE))","v":""},"",{"$f":"IF(OR(E1378=\"\",ISBLANK(E1378)),\"\",VLOOKUP(E1378,Sheet2!A:H,3,FALSE))","v":""},null,{"$f":"IF(OR(E1378=\"\",ISBLANK(E1378)),\"\",VLOOKUP(E1378,Sheet2!A:G,6,FALSE))","v":""},""]
[{"$f":"IF(OR(E1379=\"\",ISBLANK(E1379)),\"\",VLOOKUP(E1379,Sheet2!A:F,2,FALSE))","v":""},{"$f":"IF(OR(E1379=\"\",ISBLANK(E1379)),\"\",VLOOKUP(E1379,Sheet2!A:G,4,FALSE))","v":""},"",{"$f":"IF(OR(E1379=\"\",ISBLANK(E1379)),\"\",VLOOKUP(E1379,Sheet2!A:H,3,FALSE))","v":""},null,{"$f":"IF(OR(E1379=\"\",ISBLANK(E1379)),\"\",VLOOKUP(E1379,Sheet2!A:G,6,FALSE))","v":""},""]
[{"$f":"IF(OR(E1380=\"\",ISBLANK(E1380)),\"\",VLOOKUP(E1380,Sheet2!A:F,2,FALSE))","v":""},{"$f":"IF(OR(E1380=\"\",ISBLANK(E1380)),\"\",VLOOKUP(E1380,Sheet2!A:G,4,FALSE))","v":""},"",{"$f":"IF(OR(E1380=\"\",ISBLANK(E1380)),\"\",VLOOKUP(E1380,Sheet2!A:H,3,FALSE))","v":""},null,{"$f":"IF(OR(E1380=\"\",ISBLANK(E1380)),\"\",VLOOKUP(E1380,Sheet2!A:G,6,FALSE))","v":""},""]
[{"$f":"IF(OR(E1381=\"\",ISBLANK(E1381)),\"\",VLOOKUP(E1381,Sheet2!A:F,2,FALSE))","v":""},{"$f":"IF(OR(E1381=\"\",ISBLANK(E1381)),\"\",VLOOKUP(E1381,Sheet2!A:G,4,FALSE))","v":""},"",{"$f":"IF(OR(E1381=\"\",ISBLANK(E1381)),\"\",VLOOKUP(E1381,Sheet2!A:H,3,FALSE))","v":""},null,{"$f":"IF(OR(E1381=\"\",ISBLANK(E1381)),\"\",VLOOKUP(E1381,Sheet2!A:G,6,FALSE))","v":""},""]
[{"$f":"IF(OR(E1382=\"\",ISBLANK(E1382)),\"\",VLOOKUP(E1382,Sheet2!A:F,2,FALSE))","v":""},{"$f":"IF(OR(E1382=\"\",ISBLANK(E1382)),\"\",VLOOKUP(E1382,Sheet2!A:G,4,FALSE))","v":""},"",{"$f":"IF(OR(E1382=\"\",ISBLANK(E1382)),\"\",VLOOKUP(E1382,Sheet2!A:H,3,FALSE))","v":""},null,{"$f":"IF(OR(E1382=\"\",ISBLANK(E1382)),\"\",VLOOKUP(E1382,Sheet2!A:G,6,FALSE))","v":""},""]
[{"$f":"IF(OR(E1383=\"\",ISBLANK(E1383)),\"\",VLOOKUP(E1383,Sheet2!A:F,2,FALSE))","v":""},{"$f":"IF(OR(E1383=\"\",ISBLANK(E1383)),\"\",VLOOKUP(E1383,Sheet2!A:G,4,FALSE))","v":""},"",{"$f":"IF(OR(E1383=\"\",ISBLANK(E1383)),\"\",VLOOKUP(E1383,Sheet2!A:H,3,FALSE))","v":""},null,{"$f":"IF(OR(E1383=\"\",ISBLANK(E1383)),\"\",VLOOKUP(E1383,Sheet2!A:G,6,FALSE))","v":""},""]
[{"$f":"IF(OR(E1384=\"\",ISBLANK(E1384)),\"\",VLOOKUP(E1384,Sheet2!A:F,2,FALSE))","v":""},{"$f":"IF(OR(E1384=\"\",ISBLANK(E1384)),\"\",VLOOKUP(E1384,Sheet2!A:G,4,FALSE))","v":""},"",{"$f":"IF(OR(E1384=\"\",ISBLANK(E1384)),\"\",VLOOKUP(E1384,Sheet2!A:H,3,FALSE))","v":""},null,{"$f":"IF(OR(E1384=\"\",ISBLANK(E1384)),\"\",VLOOKUP(E1384,Sheet2!A:G,6,FALSE))","v":""},""]
[{"$f":"IF(OR(E1385=\"\",ISBLANK(E1385)),\"\",VLOOKUP(E1385,Sheet2!A:F,2,FALSE))","v":""},{"$f":"IF(OR(E1385=\"\",ISBLANK(E1385)),\"\",VLOOKUP(E1385,Sheet2!A:G,4,FALSE))","v":""},"",{"$f":"IF(OR(E1385=\"\",ISBLANK(E1385)),\"\",VLOOKUP(E1385,Sheet2!A:H,3,FALSE))","v":""},null,{"$f":"IF(OR(E1385=\"\",ISBLANK(E1385)),\"\",VLOOKUP(E1385,Sheet2!A:G,6,FALSE))","v":""},""]
[{"$f":"IF(OR(E1386=\"\",ISBLANK(E1386)),\"\",VLOOKUP(E1386,Sheet2!A:F,2,FALSE))","v":""},{"$f":"IF(OR(E1386=\"\",ISBLANK(E1386)),\"\",VLOOKUP(E1386,Sheet2!A:G,4,FALSE))","v":""},"",{"$f":"IF(OR(E1386=\"\",ISBLANK(E1386)),\"\",VLOOKUP(E1386,Sheet2!A:H,3,FALSE))","v":""},null,{"$f":"IF(OR(E1386=\"\",ISBLANK(E1386)),\"\",VLOOKUP(E1386,Sheet2!A:G,6,FALSE))","v":""},""]
[{"$f":"IF(OR(E1387=\"\",ISBLANK(E1387)),\"\",VLOOKUP(E1387,Sheet2!A:F,2,FALSE))","v":""},{"$f":"IF(OR(E1387=\"\",ISBLANK(E1387)),\"\",VLOOKUP(E1387,Sheet2!A:G,4,FALSE))","v":""},"",{"$f":"IF(OR(E1387=\"\",ISBLANK(E1387)),\"\",VLOOKUP(E1387,Sheet2!A:H,3,FALSE))","v":""},null,{"$f":"IF(OR(E1387=\"\",ISBLANK(E1387)),\"\",VLOOKUP(E1387,Sheet2!A:G,6,FALSE))","v":""},""]
[{"$f":"IF(OR(E1388=\"\",ISBLANK(E1388)),\"\",VLOOKUP(E1388,Sheet2!A:F,2,FALSE))","v":""},{"$f":"IF(OR(E1388=\"\",ISBLANK(E1388)),\"\",VLOOKUP(E1388,Sheet2!A:G,4,FALSE))","v":""},"",{"$f":"IF(OR(E1388=\"\",ISBLANK(E1388)),\"\",VLOOKUP(E1388,Sheet2!A:H,3,FALSE))","v":""},null,{"$f":"IF(OR(E1388=\"\",ISBLANK(E1388)),\"\",VLOOKUP(E1388,Sheet2!A:G,6,FALSE))","v":""},""]
[{"$f":"IF(OR(E1389=\"\",ISBLANK(E1389)),\"\",VLOOKUP(E1389,Sheet2!A:F,2,FALSE))","v":""},{"$f":"IF(OR(E1389=\"\",ISBLANK(E1389)),\"\",VLOOKUP(E1389,Sheet2!A:G,4,FALSE))","v":""},"",{"$f":"IF(OR(E1389=\"\",ISBLANK(E1389)),\"\",VLOOKUP(E1389,Sheet2!A:H,3,FALSE))","v":""},null,{"$f":"IF(OR(E1389=\"\",ISBLANK(E1389)),\"\",VLOOKUP(E1389,Sheet2!A:G,6,FALSE))","v":""},""]
[{"$f":"IF(OR(E1390=\"\",ISBLANK(E1390)),\"\",VLOOKUP(E1390,Sheet2!A:F,2,FALSE))","v":""},{"$f":"IF(OR(E1390=\"\",ISBLANK(E1390)),\"\",VLOOKUP(E1390,Sheet2!A:G,4,FALSE))","v":""},"",{"$f":"IF(OR(E1390=\"\",ISBLANK(E1390)),\"\",VLOOKUP(E1390,Sheet2!A:H,3,FALSE))","v":""},null,{"$f":"IF(OR(E1390=\"\",ISBLANK(E1390)),\"\",VLOOKUP(E1390,Sheet2!A:G,6,FALSE))","v":""},""]
[{"$f":"IF(OR(E1391=\"\",ISBLANK(E1391)),\"\",VLOOKUP(E1391,Sheet2!A:F,2,FALSE))","v":""},{"$f":"IF(OR(E1391=\"\",ISBLANK(E1391)),\"\",VLOOKUP(E1391,Sheet2!A:G,4,FALSE))","v":""},"",{"$f":"IF(OR(E1391=\"\",ISBLANK(E1391)),\"\",VLOOKUP(E1391,Sheet2!A:H,3,FALSE))","v":""},null,{"$f":"IF(OR(E1391=\"\",ISBLANK(E1391)),\"\",VLOOKUP(E1391,Sheet2!A:G,6,FALSE))","v":""},""]
[{"$f":"IF(OR(E1392=\"\",ISBLANK(E1392)),\"\",VLOOKUP(E1392,Sheet2!A:F,2,FALSE))","v":""},{"$f":"IF(OR(E1392=\"\",ISBLANK(E1392)),\"\",VLOOKUP(E1392,Sheet2!A:G,4,FALSE))","v":""},"",{"$f":"IF(OR(E1392=\"\",ISBLANK(E1392)),\"\",VLOOKUP(E1392,Sheet2!A:H,3,FALSE))","v":""},null,{"$f":"IF(OR(E1392=\"\",ISBLANK(E1392)),\"\",VLOOKUP(E1392,Sheet2!A:G,6,FALSE))","v":""},""]
[{"$f":"IF(OR(E1393=\"\",ISBLANK(E1393)),\"\",VLOOKUP(E1393,Sheet2!A:F,2,FALSE))","v":""},{"$f":"IF(OR(E1393=\"\",ISBLANK(E1393)),\"\",VLOOKUP(E1393,Sheet2!A:G,4,FALSE))","v":""},"",{"$f":"IF(OR(E1393=\"\",ISBLANK(E1393)),\"\",VLOOKUP(E1393,Sheet2!A:H,3,FALSE))","v":""},null,{"$f":"IF(OR(E1393=\"\",ISBLANK(E1393)),\"\",VLOOKUP(E1393,Sheet2!A:G,6,FALSE))","v":""},""]
[{"$f":"IF(OR(E1394=\"\",ISBLANK(E1394)),\"\",VLOOKUP(E1394,Sheet2!A:F,2,FALSE))","v":""},{"$f":"IF(OR(E1394=\"\",ISBLANK(E1394)),\"\",VLOOKUP(E1394,Sheet2!A:G,4,FALSE))","v":""},"",{"$f":"IF(OR(E1394=\"\",ISBLANK(E1394)),\"\",VLOOKUP(E1394,Sheet2!A:H,3,FALSE))","v":""},null,{"$f":"IF(OR(E1394=\"\",ISBLANK(E1394)),\"\",VLOOKUP(E1394,Sheet2!A:G,6,FALSE))","v":""},""]
[{"$f":"IF(OR(E1395=\"\",ISBLANK(E1395)),\"\",VLOOKUP(E1395,Sheet2!A:F,2,FALSE))","v":""},{"$f":"IF(OR(E1395=\"\",ISBLANK(E1395)),\"\",VLOOKUP(E1395,Sheet2!A:G,4,FALSE))","v":""},"",{"$f":"IF(OR(E1395=\"\",ISBLANK(E1395)),\"\",VLOOKUP(E1395,Sheet2!A:H,3,FALSE))","v":""},null,{"$f":"IF(OR(E1395=\"\",ISBLANK(E1395)),\"\",VLOOKUP(E1395,Sheet2!A:G,6,FALSE))","v":""},""]
[{"$f":"IF(OR(E1396=\"\",ISBLANK(E1396)),\"\",VLOOKUP(E1396,Sheet2!A:F,2,FALSE))","v":""},{"$f":"IF(OR(E1396=\"\",ISBLANK(E1396)),\"\",VLOOKUP(E1396,Sheet2!A:G,4,FALSE))","v":""},"",{"$f":"IF(OR(E1396=\"\",ISBLANK(E1396)),\"\",VLOOKUP(E1396,Sheet2!A:H,3,FALSE))","v":""},null,{"$f":"IF(OR(E1396=\"\",ISBLANK(E1396)),\"\",VLOOKUP(E1396,Sheet2!A:G,6,FALSE))","v":""},""]
[{"$f":"IF(OR(E1397=\"\",ISBLANK(E1397)),\"\",VLOOKUP(E1397,Sheet2!A:F,2,FALSE))","v":""},{"$f":"IF(OR(E1397=\"\",ISBLANK(E1397)),\"\",VLOOKUP(E1397,Sheet2!A:G,4,FALSE))","v":""},"",{"$f":"IF(OR(E1397=\"\",ISBLANK(E1397)),\"\",VLOOKUP(E1397,Sheet2!A:H,3,FALSE))","v":""},null,{"$f":"IF(OR(E1397=\"\",ISBLANK(E1397)),\"\",VLOOKUP(E1397,Sheet2!A:G,6,FALSE))","v":""},""]
[{"$f":"IF(OR(E1398=\"\",ISBLANK(E1398)),\"\",VLOOKUP(E1398,Sheet2!A:F,2,FALSE))","v":""},{"$f":"IF(OR(E1398=\"\",ISBLANK(E1398)),\"\",VLOOKUP(E1398,Sheet2!A:G,4,FALSE))","v":""},"",{"$f":"IF(OR(E1398=\"\",ISBLANK(E1398)),\"\",VLOOKUP(E1398,Sheet2!A:H,3,FALSE))","v":""},null,{"$f":"IF(OR(E1398=\"\",ISBLANK(E1398)),\"\",VLOOKUP(E1398,Sheet2!A:G,6,FALSE))","v":""},""]
[{"$f":"IF(OR(E1399=\"\",ISBLANK(E1399)),\"\",VLOOKUP(E1399,Sheet2!A:F,2,FALSE))","v":""},{"$f":"IF(OR(E1399=\"\",ISBLANK(E1399)),\"\",VLOOKUP(E1399,Sheet2!A:G,4,FALSE))","v":""},"",{"$f":"IF(OR(E1399=\"\",ISBLANK(E1399)),\"\",VLOOKUP(E1399,Sheet2!A:H,3,FALSE))","v":""},null,{"$f":"IF(OR(E1399=\"\",ISBLANK(E1399)),\"\",VLOOKUP(E1399,Sheet2!A:G,6,FALSE))","v":""},""]
[{"$f":"IF(OR(E1400=\"\",ISBLANK(E1400)),\"\",VLOOKUP(E1400,Sheet2!A:F,2,FALSE))","v":""},{"$f":"IF(OR(E1400=\"\",ISBLANK(E1400)),\"\",VLOOKUP(E1400,Sheet2!A:G,4,FALSE))","v":""},"",{"$f":"IF(OR(E1400=\"\",ISBLANK(E1400)),\"\",VLOOKUP(E1400,Sheet2!A:H,3,FALSE))","v":""},null,{"$f":"IF(OR(E1400=\"\",ISBLANK(E1400)),\"\",VLOOKUP(E1400,Sheet2!A:G,6,FALSE))","v":""},""]
[{"$f":"IF(OR(E1401=\"\",ISBLANK(E1401)),\"\",VLOOKUP(E1401,Sheet2!A:F,2,FALSE))","v":""},{"$f":"IF(OR(E1401=\"\",ISBLANK(E1401)),\"\",VLOOKUP(E1401,Sheet2!A:G,4,FALSE))","v":""},"",{"$f":"IF(OR(E1401=\"\",ISBLANK(E1401)),\"\",VLOOKUP(E1401,Sheet2!A:H,3,FALSE))","v":""},null,{"$f":"IF(OR(E1401=\"\",ISBLANK(E1401)),\"\",VLOOKUP(E1401,Sheet2!A:G,6,FALSE))","v":""},""]
[{"$f":"IF(OR(E1402=\"\",ISBLANK(E1402)),\"\",VLOOKUP(E1402,Sheet2!A:F,2,FALSE))","v":""},{"$f":"IF(OR(E1402=\"\",ISBLANK(E1402)),\"\",VLOOKUP(E1402,Sheet2!A:G,4,FALSE))","v":""},"",{"$f":"IF(OR(E1402=\"\",ISBLANK(E1402)),\"\",VLOOKUP(E1402,Sheet2!A:H,3,FALSE))","v":""},null,{"$f":"IF(OR(E1402=\"\",ISBLANK(E1402)),\"\",VLOOKUP(E1402,Sheet2!A:G,6,FALSE))","v":""},""]
[{"$f":"IF(OR(E1403=\"\",ISBLANK(E1403)),\"\",VLOOKUP(E1403,Sheet2!A:F,2,FALSE))","v":""},{"$f":"IF(OR(E1403=\"\",ISBLANK(E1403)),\"\",VLOOKUP(E1403,Sheet2!A:G,4,FALSE))","v":""},"",{"$f":"IF(OR(E1403=\"\",ISBLANK(E1403)),\"\",VLOOKUP(E1403,Sheet2!A:H,3,FALSE))","v":""},null,{"$f":"IF(OR(E1403=\"\",ISBLANK(E1403)),\"\",VLOOKUP(E1403,Sheet2!A:G,6,FALSE))","v":""},""]
[{"$f":"IF(OR(E1404=\"\",ISBLANK(E1404)),\"\",VLOOKUP(E1404,Sheet2!A:F,2,FALSE))","v":""},{"$f":"IF(OR(E1404=\"\",ISBLANK(E1404)),\"\",VLOOKUP(E1404,Sheet2!A:G,4,FALSE))","v":""},"",{"$f":"IF(OR(E1404=\"\",ISBLANK(E1404)),\"\",VLOOKUP(E1404,Sheet2!A:H,3,FALSE))","v":""},null,{"$f":"IF(OR(E1404=\"\",ISBLANK(E1404)),\"\",VLOOKUP(E1404,Sheet2!A:G,6,FALSE))","v":""},""]
[{"$f":"IF(OR(E1405=\"\",ISBLANK(E1405)),\"\",VLOOKUP(E1405,Sheet2!A:F,2,FALSE))","v":""},{"$f":"IF(OR(E1405=\"\",ISBLANK(E1405)),\"\",VLOOKUP(E1405,Sheet2!A:G,4,FALSE))","v":""},"",{"$f":"IF(OR(E1405=\"\",ISBLANK(E1405)),\"\",VLOOKUP(E1405,Sheet2!A:H,3,FALSE))","v":""},null,{"$f":"IF(OR(E1405=\"\",ISBLANK(E1405)),\"\",VLOOKUP(E1405,Sheet2!A:G,6,FALSE))","v":""},""]
[{"$f":"IF(OR(E1406=\"\",ISBLANK(E1406)),\"\",VLOOKUP(E1406,Sheet2!A:F,2,FALSE))","v":""},{"$f":"IF(OR(E1406=\"\",ISBLANK(E1406)),\"\",VLOOKUP(E1406,Sheet2!A:G,4,FALSE))","v":""},"",{"$f":"IF(OR(E1406=\"\",ISBLANK(E1406)),\"\",VLOOKUP(E1406,Sheet2!A:H,3,FALSE))","v":""},null,{"$f":"IF(OR(E1406=\"\",ISBLANK(E1406)),\"\",VLOOKUP(E1406,Sheet2!A:G,6,FALSE))","v":""},""]
[{"$f":"IF(OR(E1407=\"\",ISBLANK(E1407)),\"\",VLOOKUP(E1407,Sheet2!A:F,2,FALSE))","v":""},{"$f":"IF(OR(E1407=\"\",ISBLANK(E1407)),\"\",VLOOKUP(E1407,Sheet2!A:G,4,FALSE))","v":""},"",{"$f":"IF(OR(E1407=\"\",ISBLANK(E1407)),\"\",VLOOKUP(E1407,Sheet2!A:H,3,FALSE))","v":""},null,{"$f":"IF(OR(E1407=\"\",ISBLANK(E1407)),\"\",VLOOKUP(E1407,Sheet2!A:G,6,FALSE))","v":""},""]
[{"$f":"IF(OR(E1408=\"\",ISBLANK(E1408)),\"\",VLOOKUP(E1408,Sheet2!A:F,2,FALSE))","v":""},{"$f":"IF(OR(E1408=\"\",ISBLANK(E1408)),\"\",VLOOKUP(E1408,Sheet2!A:G,4,FALSE))","v":""},"",{"$f":"IF(OR(E1408=\"\",ISBLANK(E1408)),\"\",VLOOKUP(E1408,Sheet2!A:H,3,FALSE))","v":""},null,{"$f":"IF(OR(E1408=\"\",ISBLANK(E1408)),\"\",VLOOKUP(E1408,Sheet2!A:G,6,FALSE))","v":""},""]
[{"$f":"IF(OR(E1409=\"\",ISBLANK(E1409)),\"\",VLOOKUP(E1409,Sheet2!A:F,2,FALSE))","v":""},{"$f":"IF(OR(E1409=\"\",ISBLANK(E1409)),\"\",VLOOKUP(E1409,Sheet2!A:G,4,FALSE))","v":""},"",{"$f":"IF(OR(E1409=\"\",ISBLANK(E1409)),\"\",VLOOKUP(E1409,Sheet2!A:H,3,FALSE))","v":""},null,{"$f":"IF(OR(E1409=\"\",ISBLANK(E1409)),\"\",VLOOKUP(E1409,Sheet2!A:G,6,FALSE))","v":""},""]
[{"$f":"IF(OR(E1410=\"\",ISBLANK(E1410)),\"\",VLOOKUP(E1410,Sheet2!A:F,2,FALSE))","v":""},{"$f":"IF(OR(E1410=\"\",ISBLANK(E1410)),\"\",VLOOKUP(E1410,Sheet2!A:G,4,FALSE))","v":""},"",{"$f":"IF(OR(E1410=\"\",ISBLANK(E1410)),\"\",VLOOKUP(E1410,Sheet2!A:H,3,FALSE))","v":""},null,{"$f":"IF(OR(E1410=\"\",ISBLANK(E1410)),\"\",VLOOKUP(E1410,Sheet2!A:G,6,FALSE))","v":""},""]
[{"$f":"IF(OR(E1411=\"\",ISBLANK(E1411)),\"\",VLOOKUP(E1411,Sheet2!A:F,2,FALSE))","v":""},{"$f":"IF(OR(E1411=\"\",ISBLANK(E1411)),\"\",VLOOKUP(E1411,Sheet2!A:G,4,FALSE))","v":""},{"$f":"IF(D1411=0,\"\",D1411)","v":""},{"$f":"IF(OR(E1411=\"\",ISBLANK(E1411)),\"\",VLOOKUP(E1411,Sheet2!A:H,3,FALSE))","v":""},null,{"$f":"IF(OR(E1411=\"\",ISBLANK(E1411)),\"\",VLOOKUP(E1411,Sheet2!A:G,6,FALSE))","v":""},{"$f":"IF(F1411=0,\"\",F1411)","v":""}]
[{"$f":"IF(OR(E1412=\"\",ISBLANK(E1412)),\"\",VLOOKUP(E1412,Sheet2!A:F,2,FALSE))","v":""},{"$f":"IF(OR(E1412=\"\",ISBLANK(E1412)),\"\",VLOOKUP(E1412,Sheet2!A:G,4,FALSE))","v":""},"",{"$f":"IF(OR(E1412=\"\",ISBLANK(E1412)),\"\",VLOOKUP(E1412,Sheet2!A:H,3,FALSE))","v":""},null,{"$f":"IF(OR(E1412=\"\",ISBLANK(E1412)),\"\",VLOOKUP(E1412,Sheet2!A:G,6,FALSE))","v":""},""]
[{"$f":"IF(OR(E1413=\"\",ISBLANK(E1413)),\"\",VLOOKUP(E1413,Sheet2!A:F,2,FALSE))","v":""},{"$f":"IF(OR(E1413=\"\",ISBLANK(E1413)),\"\",VLOOKUP(E1413,Sheet2!A:G,4,FALSE))","v":""},"",{"$f":"IF(OR(E1413=\"\",ISBLANK(E1413)),\"\",VLOOKUP(E1413,Sheet2!A:H,3,FALSE))","v":""},null,{"$f":"IF(OR(E1413=\"\",ISBLANK(E1413)),\"\",VLOOKUP(E1413,Sheet2!A:G,6,FALSE))","v":""},""]
[{"$f":"IF(OR(E1414=\"\",ISBLANK(E1414)),\"\",VLOOKUP(E1414,Sheet2!A:F,2,FALSE))","v":""},{"$f":"IF(OR(E1414=\"\",ISBLANK(E1414)),\"\",VLOOKUP(E1414,Sheet2!A:G,4,FALSE))","v":""},"",{"$f":"IF(OR(E1414=\"\",ISBLANK(E1414)),\"\",VLOOKUP(E1414,Sheet2!A:H,3,FALSE))","v":""},null,{"$f":"IF(OR(E1414=\"\",ISBLANK(E1414)),\"\",VLOOKUP(E1414,Sheet2!A:G,6,FALSE))","v":""},""]
[{"$f":"IF(OR(E1415=\"\",ISBLANK(E1415)),\"\",VLOOKUP(E1415,Sheet2!A:F,2,FALSE))","v":""},{"$f":"IF(OR(E1415=\"\",ISBLANK(E1415)),\"\",VLOOKUP(E1415,Sheet2!A:G,4,FALSE))","v":""},"",{"$f":"IF(OR(E1415=\"\",ISBLANK(E1415)),\"\",VLOOKUP(E1415,Sheet2!A:H,3,FALSE))","v":""},null,{"$f":"IF(OR(E1415=\"\",ISBLANK(E1415)),\"\",VLOOKUP(E1415,Sheet2!A:G,6,FALSE))","v":""},""]
[{"$f":"IF(OR(E1416=\"\",ISBLANK(E1416)),\"\",VLOOKUP(E1416,Sheet2!A:F,2,FALSE))","v":""},{"$f":"IF(OR(E1416=\"\",ISBLANK(E1416)),\"\",VLOOKUP(E1416,Sheet2!A:G,4,FALSE))","v":""},"",{"$f":"IF(OR(E1416=\"\",ISBLANK(E1416)),\"\",VLOOKUP(E1416,Sheet2!A:H,3,FALSE))","v":""},null,{"$f":"IF(OR(E1416=\"\",ISBLANK(E1416)),\"\",VLOOKUP(E1416,Sheet2!A:G,6,FALSE))","v":""},""]
[{"$f":"IF(OR(E1417=\"\",ISBLANK(E1417)),\"\",VLOOKUP(E1417,Sheet2!A:F,2,FALSE))","v":""},{"$f":"IF(OR(E1417=\"\",ISBLANK(E1417)),\"\",VLOOKUP(E1417,Sheet2!A:G,4,FALSE))","v":""},"",{"$f":"IF(OR(E1417=\"\",ISBLANK(E1417)),\"\",VLOOKUP(E1417,Sheet2!A:H,3,FALSE))","v":""},null,{"$f":"IF(OR(E1417=\"\",ISBLANK(E1417)),\"\",VLOOKUP(E1417,Sheet2!A:G,6,FALSE))","v":""},""]
[{"$f":"IF(OR(E1418=\"\",ISBLANK(E1418)),\"\",VLOOKUP(E1418,Sheet2!A:F,2,FALSE))","v":""},{"$f":"IF(OR(E1418=\"\",ISBLANK(E1418)),\"\",VLOOKUP(E1418,Sheet2!A:G,4,FALSE))","v":""},"",{"$f":"IF(OR(E1418=\"\",ISBLANK(E1418)),\"\",VLOOKUP(E1418,Sheet2!A:H,3,FALSE))","v":""},null,{"$f":"IF(OR(E1418=\"\",ISBLANK(E1418)),\"\",VLOOKUP(E1418,Sheet2!A:G,6,FALSE))","v":""},""]
[{"$f":"IF(OR(E1419=\"\",ISBLANK(E1419)),\"\",VLOOKUP(E1419,Sheet2!A:F,2,FALSE))","v":""},{"$f":"IF(OR(E1419=\"\",ISBLANK(E1419)),\"\",VLOOKUP(E1419,Sheet2!A:G,4,FALSE))","v":""},"",{"$f":"IF(OR(E1419=\"\",ISBLANK(E1419)),\"\",VLOOKUP(E1419,Sheet2!A:H,3,FALSE))","v":""},null,{"$f":"IF(OR(E1419=\"\",ISBLANK(E1419)),\"\",VLOOKUP(E1419,Sheet2!A:G,6,FALSE))","v":""},""]
[{"$f":"IF(OR(E1420=\"\",ISBLANK(E1420)),\"\",VLOOKUP(E1420,Sheet2!A:F,2,FALSE))","v":""},{"$f":"IF(OR(E1420=\"\",ISBLANK(E1420)),\"\",VLOOKUP(E1420,Sheet2!A:G,4,FALSE))","v":""},"",{"$f":"IF(OR(E1420=\"\",ISBLANK(E1420)),\"\",VLOOKUP(E1420,Sheet2!A:H,3,FALSE))","v":""},null,{"$f":"IF(OR(E1420=\"\",ISBLANK(E1420)),\"\",VLOOKUP(E1420,Sheet2!A:G,6,FALSE))","v":""},""]
[{"$f":"IF(OR(E1421=\"\",ISBLANK(E1421)),\"\",VLOOKUP(E1421,Sheet2!A:F,2,FALSE))","v":""},{"$f":"IF(OR(E1421=\"\",ISBLANK(E1421)),\"\",VLOOKUP(E1421,Sheet2!A:G,4,FALSE))","v":""},"",{"$f":"IF(OR(E1421=\"\",ISBLANK(E1421)),\"\",VLOOKUP(E1421,Sheet2!A:H,3,FALSE))","v":""},null,{"$f":"IF(OR(E1421=\"\",ISBLANK(E1421)),\"\",VLOOKUP(E1421,Sheet2!A:G,6,FALSE))","v":""},""]
[{"$f":"IF(OR(E1422=\"\",ISBLANK(E1422)),\"\",VLOOKUP(E1422,Sheet2!A:F,2,FALSE))","v":""},{"$f":"IF(OR(E1422=\"\",ISBLANK(E1422)),\"\",VLOOKUP(E1422,Sheet2!A:G,4,FALSE))","v":""},"",{"$f":"IF(OR(E1422=\"\",ISBLANK(E1422)),\"\",VLOOKUP(E1422,Sheet2!A:H,3,FALSE))","v":""},null,{"$f":"IF(OR(E1422=\"\",ISBLANK(E1422)),\"\",VLOOKUP(E1422,Sheet2!A:G,6,FALSE))","v":""},""]
[{"$f":"IF(OR(E1423=\"\",ISBLANK(E1423)),\"\",VLOOKUP(E1423,Sheet2!A:F,2,FALSE))","v":""},{"$f":"IF(OR(E1423=\"\",ISBLANK(E1423)),\"\",VLOOKUP(E1423,Sheet2!A:G,4,FALSE))","v":""},"",{"$f":"IF(OR(E1423=\"\",ISBLANK(E1423)),\"\",VLOOKUP(E1423,Sheet2!A:H,3,FALSE))","v":""},null,{"$f":"IF(OR(E1423=\"\",ISBLANK(E1423)),\"\",VLOOKUP(E1423,Sheet2!A:G,6,FALSE))","v":""},""]
[{"$f":"IF(OR(E1424=\"\",ISBLANK(E1424)),\"\",VLOOKUP(E1424,Sheet2!A:F,2,FALSE))","v":""},{"$f":"IF(OR(E1424=\"\",ISBLANK(E1424)),\"\",VLOOKUP(E1424,Sheet2!A:G,4,FALSE))","v":""},"",{"$f":"IF(OR(E1424=\"\",ISBLANK(E1424)),\"\",VLOOKUP(E1424,Sheet2!A:H,3,FALSE))","v":""},null,{"$f":"IF(OR(E1424=\"\",ISBLANK(E1424)),\"\",VLOOKUP(E1424,Sheet2!A:G,6,FALSE))","v":""},""]
[{"$f":"IF(OR(E1425=\"\",ISBLANK(E1425)),\"\",VLOOKUP(E1425,Sheet2!A:F,2,FALSE))","v":""},{"$f":"IF(OR(E1425=\"\",ISBLANK(E1425)),\"\",VLOOKUP(E1425,Sheet2!A:G,4,FALSE))","v":""},"",{"$f":"IF(OR(E1425=\"\",ISBLANK(E1425)),\"\",VLOOKUP(E1425,Sheet2!A:H,3,FALSE))","v":""},null,{"$f":"IF(OR(E1425=\"\",ISBLANK(E1425)),\"\",VLOOKUP(E1425,Sheet2!A:G,6,FALSE))","v":""},""]
[{"$f":"IF(OR(E1426=\"\",ISBLANK(E1426)),\"\",VLOOKUP(E1426,Sheet2!A:F,2,FALSE))","v":""},{"$f":"IF(OR(E1426=\"\",ISBLANK(E1426)),\"\",VLOOKUP(E1426,Sheet2!A:G,4,FALSE))","v":""},"",{"$f":"IF(OR(E1426=\"\",ISBLANK(E1426)),\"\",VLOOKUP(E1426,Sheet2!A:H,3,FALSE))","v":""},null,{"$f":"IF(OR(E1426=\"\",ISBLANK(E1426)),\"\",VLOOKUP(E1426,Sheet2!A:G,6,FALSE))","v":""},""]
[{"$f":"IF(OR(E1427=\"\",ISBLANK(E1427)),\"\",VLOOKUP(E1427,Sheet2!A:F,2,FALSE))","v":""},{"$f":"IF(OR(E1427=\"\",ISBLANK(E1427)),\"\",VLOOKUP(E1427,Sheet2!A:G,4,FALSE))","v":""},"",{"$f":"IF(OR(E1427=\"\",ISBLANK(E1427)),\"\",VLOOKUP(E1427,Sheet2!A:H,3,FALSE))","v":""},null,{"$f":"IF(OR(E1427=\"\",ISBLANK(E1427)),\"\",VLOOKUP(E1427,Sheet2!A:G,6,FALSE))","v":""},""]
[{"$f":"IF(OR(E1428=\"\",ISBLANK(E1428)),\"\",VLOOKUP(E1428,Sheet2!A:F,2,FALSE))","v":""},{"$f":"IF(OR(E1428=\"\",ISBLANK(E1428)),\"\",VLOOKUP(E1428,Sheet2!A:G,4,FALSE))","v":""},"",{"$f":"IF(OR(E1428=\"\",ISBLANK(E1428)),\"\",VLOOKUP(E1428,Sheet2!A:H,3,FALSE))","v":""},null,{"$f":"IF(OR(E1428=\"\",ISBLANK(E1428)),\"\",VLOOKUP(E1428,Sheet2!A:G,6,FALSE))","v":""},""]
[{"$f":"IF(OR(E1429=\"\",ISBLANK(E1429)),\"\",VLOOKUP(E1429,Sheet2!A:F,2,FALSE))","v":""},{"$f":"IF(OR(E1429=\"\",ISBLANK(E1429)),\"\",VLOOKUP(E1429,Sheet2!A:G,4,FALSE))","v":""},"",{"$f":"IF(OR(E1429=\"\",ISBLANK(E1429)),\"\",VLOOKUP(E1429,Sheet2!A:H,3,FALSE))","v":""},null,{"$f":"IF(OR(E1429=\"\",ISBLANK(E1429)),\"\",VLOOKUP(E1429,Sheet2!A:G,6,FALSE))","v":""},""]
[{"$f":"IF(OR(E1430=\"\",ISBLANK(E1430)),\"\",VLOOKUP(E1430,Sheet2!A:F,2,FALSE))","v":""},{"$f":"IF(OR(E1430=\"\",ISBLANK(E1430)),\"\",VLOOKUP(E1430,Sheet2!A:G,4,FALSE))","v":""},"",{"$f":"IF(OR(E1430=\"\",ISBLANK(E1430)),\"\",VLOOKUP(E1430,Sheet2!A:H,3,FALSE))","v":""},null,{"$f":"IF(OR(E1430=\"\",ISBLANK(E1430)),\"\",VLOOKUP(E1430,Sheet2!A:G,6,FALSE))","v":""},""]
[{"$f":"IF(OR(E1431=\"\",ISBLANK(E1431)),\"\",VLOOKUP(E1431,Sheet2!A:F,2,FALSE))","v":""},{"$f":"IF(OR(E1431=\"\",ISBLANK(E1431)),\"\",VLOOKUP(E1431,Sheet2!A:G,4,FALSE))","v":""},"",{"$f":"IF(OR(E1431=\"\",ISBLANK(E1431)),\"\",VLOOKUP(E1431,Sheet2!A:H,3,FALSE))","v":""},null,{"$f":"IF(OR(E1431=\"\",ISBLANK(E1431)),\"\",VLOOKUP(E1431,Sheet2!A:G,6,FALSE))","v":""},""]
[{"$f":"IF(OR(E1432=\"\",ISBLANK(E1432)),\"\",VLOOKUP(E1432,Sheet2!A:F,2,FALSE))","v":""},{"$f":"IF(OR(E1432=\"\",ISBLANK(E1432)),\"\",VLOOKUP(E1432,Sheet2!A:G,4,FALSE))","v":""},"",{"$f":"IF(OR(E1432=\"\",ISBLANK(E1432)),\"\",VLOOKUP(E1432,Sheet2!A:H,3,FALSE))","v":""},null,{"$f":"IF(OR(E1432=\"\",ISBLANK(E1432)),\"\",VLOOKUP(E1432,Sheet2!A:G,6,FALSE))","v":""},""]
[{"$f":"IF(OR(E1433=\"\",ISBLANK(E1433)),\"\",VLOOKUP(E1433,Sheet2!A:F,2,FALSE))","v":""},{"$f":"IF(OR(E1433=\"\",ISBLANK(E1433)),\"\",VLOOKUP(E1433,Sheet2!A:G,4,FALSE))","v":""},"",{"$f":"IF(OR(E1433=\"\",ISBLANK(E1433)),\"\",VLOOKUP(E1433,Sheet2!A:H,3,FALSE))","v":""},null,{"$f":"IF(OR(E1433=\"\",ISBLANK(E1433)),\"\",VLOOKUP(E1433,Sheet2!A:G,6,FALSE))","v":""},""]
[{"$f":"IF(OR(E1434=\"\",ISBLANK(E1434)),\"\",VLOOKUP(E1434,Sheet2!A:F,2,FALSE))","v":""},{"$f":"IF(OR(E1434=\"\",ISBLANK(E1434)),\"\",VLOOKUP(E1434,Sheet2!A:G,4,FALSE))","v":""},"",{"$f":"IF(OR(E1434=\"\",ISBLANK(E1434)),\"\",VLOOKUP(E1434,Sheet2!A:H,3,FALSE))","v":""},null,{"$f":"IF(OR(E1434=\"\",ISBLANK(E1434)),\"\",VLOOKUP(E1434,Sheet2!A:G,6,FALSE))","v":""},""]
[{"$f":"IF(OR(E1435=\"\",ISBLANK(E1435)),\"\",VLOOKUP(E1435,Sheet2!A:F,2,FALSE))","v":""},{"$f":"IF(OR(E1435=\"\",ISBLANK(E1435)),\"\",VLOOKUP(E1435,Sheet2!A:G,4,FALSE))","v":""},"",{"$f":"IF(OR(E1435=\"\",ISBLANK(E1435)),\"\",VLOOKUP(E1435,Sheet2!A:H,3,FALSE))","v":""},null,{"$f":"IF(OR(E1435=\"\",ISBLANK(E1435)),\"\",VLOOKUP(E1435,Sheet2!A:G,6,FALSE))","v":""},""]
[{"$f":"IF(OR(E1436=\"\",ISBLANK(E1436)),\"\",VLOOKUP(E1436,Sheet2!A:F,2,FALSE))","v":""},{"$f":"IF(OR(E1436=\"\",ISBLANK(E1436)),\"\",VLOOKUP(E1436,Sheet2!A:G,4,FALSE))","v":""},"",{"$f":"IF(OR(E1436=\"\",ISBLANK(E1436)),\"\",VLOOKUP(E1436,Sheet2!A:H,3,FALSE))","v":""},null,{"$f":"IF(OR(E1436=\"\",ISBLANK(E1436)),\"\",VLOOKUP(E1436,Sheet2!A:G,6,FALSE))","v":""},""]
[{"$f":"IF(OR(E1437=\"\",ISBLANK(E1437)),\"\",VLOOKUP(E1437,Sheet2!A:F,2,FALSE))","v":""},{"$f":"IF(OR(E1437=\"\",ISBLANK(E1437)),\"\",VLOOKUP(E1437,Sheet2!A:G,4,FALSE))","v":""},"",{"$f":"IF(OR(E1437=\"\",ISBLANK(E1437)),\"\",VLOOKUP(E1437,Sheet2!A:H,3,FALSE))","v":""},null,{"$f":"IF(OR(E1437=\"\",ISBLANK(E1437)),\"\",VLOOKUP(E1437,Sheet2!A:G,6,FALSE))","v":""},""]
[{"$f":"IF(OR(E1438=\"\",ISBLANK(E1438)),\"\",VLOOKUP(E1438,Sheet2!A:F,2,FALSE))","v":""},{"$f":"IF(OR(E1438=\"\",ISBLANK(E1438)),\"\",VLOOKUP(E1438,Sheet2!A:G,4,FALSE))","v":""},"",{"$f":"IF(OR(E1438=\"\",ISBLANK(E1438)),\"\",VLOOKUP(E1438,Sheet2!A:H,3,FALSE))","v":""},null,{"$f":"IF(OR(E1438=\"\",ISBLANK(E1438)),\"\",VLOOKUP(E1438,Sheet2!A:G,6,FALSE))","v":""},""]
[{"$f":"IF(OR(E1439=\"\",ISBLANK(E1439)),\"\",VLOOKUP(E1439,Sheet2!A:F,2,FALSE))","v":""},{"$f":"IF(OR(E1439=\"\",ISBLANK(E1439)),\"\",VLOOKUP(E1439,Sheet2!A:G,4,FALSE))","v":""},"",{"$f":"IF(OR(E1439=\"\",ISBLANK(E1439)),\"\",VLOOKUP(E1439,Sheet2!A:H,3,FALSE))","v":""},null,{"$f":"IF(OR(E1439=\"\",ISBLANK(E1439)),\"\",VLOOKUP(E1439,Sheet2!A:G,6,FALSE))","v":""},""]
[{"$f":"IF(OR(E1440=\"\",ISBLANK(E1440)),\"\",VLOOKUP(E1440,Sheet2!A:F,2,FALSE))","v":""},{"$f":"IF(OR(E1440=\"\",ISBLANK(E1440)),\"\",VLOOKUP(E1440,Sheet2!A:G,4,FALSE))","v":""},"",{"$f":"IF(OR(E1440=\"\",ISBLANK(E1440)),\"\",VLOOKUP(E1440,Sheet2!A:H,3,FALSE))","v":""},null,{"$f":"IF(OR(E1440=\"\",ISBLANK(E1440)),\"\",VLOOKUP(E1440,Sheet2!A:G,6,FALSE))","v":""},""]
[{"$f":"IF(OR(E1441=\"\",ISBLANK(E1441)),\"\",VLOOKUP(E1441,Sheet2!A:F,2,FALSE))","v":""},{"$f":"IF(OR(E1441=\"\",ISBLANK(E1441)),\"\",VLOOKUP(E1441,Sheet2!A:G,4,FALSE))","v":""},"",{"$f":"IF(OR(E1441=\"\",ISBLANK(E1441)),\"\",VLOOKUP(E1441,Sheet2!A:H,3,FALSE))","v":""},null,{"$f":"IF(OR(E1441=\"\",ISBLANK(E1441)),\"\",VLOOKUP(E1441,Sheet2!A:G,6,FALSE))","v":""},""]
[{"$f":"IF(OR(E1442=\"\",ISBLANK(E1442)),\"\",VLOOKUP(E1442,Sheet2!A:F,2,FALSE))","v":""},{"$f":"IF(OR(E1442=\"\",ISBLANK(E1442)),\"\",VLOOKUP(E1442,Sheet2!A:G,4,FALSE))","v":""},"",{"$f":"IF(OR(E1442=\"\",ISBLANK(E1442)),\"\",VLOOKUP(E1442,Sheet2!A:H,3,FALSE))","v":""},null,{"$f":"IF(OR(E1442=\"\",ISBLANK(E1442)),\"\",VLOOKUP(E1442,Sheet2!A:G,6,FALSE))","v":""},""]
[{"$f":"IF(OR(E1443=\"\",ISBLANK(E1443)),\"\",VLOOKUP(E1443,Sheet2!A:F,2,FALSE))","v":""},{"$f":"IF(OR(E1443=\"\",ISBLANK(E1443)),\"\",VLOOKUP(E1443,Sheet2!A:G,4,FALSE))","v":""},"",{"$f":"IF(OR(E1443=\"\",ISBLANK(E1443)),\"\",VLOOKUP(E1443,Sheet2!A:H,3,FALSE))","v":""},null,{"$f":"IF(OR(E1443=\"\",ISBLANK(E1443)),\"\",VLOOKUP(E1443,Sheet2!A:G,6,FALSE))","v":""},""]
[{"$f":"IF(OR(E1444=\"\",ISBLANK(E1444)),\"\",VLOOKUP(E1444,Sheet2!A:F,2,FALSE))","v":""},{"$f":"IF(OR(E1444=\"\",ISBLANK(E1444)),\"\",VLOOKUP(E1444,Sheet2!A:G,4,FALSE))","v":""},"",{"$f":"IF(OR(E1444=\"\",ISBLANK(E1444)),\"\",VLOOKUP(E1444,Sheet2!A:H,3,FALSE))","v":""},null,{"$f":"IF(OR(E1444=\"\",ISBLANK(E1444)),\"\",VLOOKUP(E1444,Sheet2!A:G,6,FALSE))","v":""},""]
[{"$f":"IF(OR(E1445=\"\",ISBLANK(E1445)),\"\",VLOOKUP(E1445,Sheet2!A:F,2,FALSE))","v":""},{"$f":"IF(OR(E1445=\"\",ISBLANK(E1445)),\"\",VLOOKUP(E1445,Sheet2!A:G,4,FALSE))","v":""},"",{"$f":"IF(OR(E1445=\"\",ISBLANK(E1445)),\"\",VLOOKUP(E1445,Sheet2!A:H,3,FALSE))","v":""},null,{"$f":"IF(OR(E1445=\"\",ISBLANK(E1445)),\"\",VLOOKUP(E1445,Sheet2!A:G,6,FALSE))","v":""},""]
[{"$f":"IF(OR(E1446=\"\",ISBLANK(E1446)),\"\",VLOOKUP(E1446,Sheet2!A:F,2,FALSE))","v":""},{"$f":"IF(OR(E1446=\"\",ISBLANK(E1446)),\"\",VLOOKUP(E1446,Sheet2!A:G,4,FALSE))","v":""},"",{"$f":"IF(OR(E1446=\"\",ISBLANK(E1446)),\"\",VLOOKUP(E1446,Sheet2!A:H,3,FALSE))","v":""},null,{"$f":"IF(OR(E1446=\"\",ISBLANK(E1446)),\"\",VLOOKUP(E1446,Sheet2!A:G,6,FALSE))","v":""},""]
[{"$f":"IF(OR(E1447=\"\",ISBLANK(E1447)),\"\",VLOOKUP(E1447,Sheet2!A:F,2,FALSE))","v":""},{"$f":"IF(OR(E1447=\"\",ISBLANK(E1447)),\"\",VLOOKUP(E1447,Sheet2!A:G,4,FALSE))","v":""},"",{"$f":"IF(OR(E1447=\"\",ISBLANK(E1447)),\"\",VLOOKUP(E1447,Sheet2!A:H,3,FALSE))","v":""},null,{"$f":"IF(OR(E1447=\"\",ISBLANK(E1447)),\"\",VLOOKUP(E1447,Sheet2!A:G,6,FALSE))","v":""},""]
[{"$f":"IF(OR(E1448=\"\",ISBLANK(E1448)),\"\",VLOOKUP(E1448,Sheet2!A:F,2,FALSE))","v":""},{"$f":"IF(OR(E1448=\"\",ISBLANK(E1448)),\"\",VLOOKUP(E1448,Sheet2!A:G,4,FALSE))","v":""},"",{"$f":"IF(OR(E1448=\"\",ISBLANK(E1448)),\"\",VLOOKUP(E1448,Sheet2!A:H,3,FALSE))","v":""},null,{"$f":"IF(OR(E1448=\"\",ISBLANK(E1448)),\"\",VLOOKUP(E1448,Sheet2!A:G,6,FALSE))","v":""},""]
[{"$f":"IF(OR(E1449=\"\",ISBLANK(E1449)),\"\",VLOOKUP(E1449,Sheet2!A:F,2,FALSE))","v":""},{"$f":"IF(OR(E1449=\"\",ISBLANK(E1449)),\"\",VLOOKUP(E1449,Sheet2!A:G,4,FALSE))","v":""},"",{"$f":"IF(OR(E1449=\"\",ISBLANK(E1449)),\"\",VLOOKUP(E1449,Sheet2!A:H,3,FALSE))","v":""},null,{"$f":"IF(OR(E1449=\"\",ISBLANK(E1449)),\"\",VLOOKUP(E1449,Sheet2!A:G,6,FALSE))","v":""},""]
[{"$f":"IF(OR(E1450=\"\",ISBLANK(E1450)),\"\",VLOOKUP(E1450,Sheet2!A:F,2,FALSE))","v":""},{"$f":"IF(OR(E1450=\"\",ISBLANK(E1450)),\"\",VLOOKUP(E1450,Sheet2!A:G,4,FALSE))","v":""},"",{"$f":"IF(OR(E1450=\"\",ISBLANK(E1450)),\"\",VLOOKUP(E1450,Sheet2!A:H,3,FALSE))","v":""},null,{"$f":"IF(OR(E1450=\"\",ISBLANK(E1450)),\"\",VLOOKUP(E1450,Sheet2!A:G,6,FALSE))","v":""},""]
[{"$f":"IF(OR(E1451=\"\",ISBLANK(E1451)),\"\",VLOOKUP(E1451,Sheet2!A:F,2,FALSE))","v":""},{"$f":"IF(OR(E1451=\"\",ISBLANK(E1451)),\"\",VLOOKUP(E1451,Sheet2!A:G,4,FALSE))","v":""},"",{"$f":"IF(OR(E1451=\"\",ISBLANK(E1451)),\"\",VLOOKUP(E1451,Sheet2!A:H,3,FALSE))","v":""},null,{"$f":"IF(OR(E1451=\"\",ISBLANK(E1451)),\"\",VLOOKUP(E1451,Sheet2!A:G,6,FALSE))","v":""},""]
[{"$f":"IF(OR(E1452=\"\",ISBLANK(E1452)),\"\",VLOOKUP(E1452,Sheet2!A:F,2,FALSE))","v":""},{"$f":"IF(OR(E1452=\"\",ISBLANK(E1452)),\"\",VLOOKUP(E1452,Sheet2!A:G,4,FALSE))","v":""},"",{"$f":"IF(OR(E1452=\"\",ISBLANK(E1452)),\"\",VLOOKUP(E1452,Sheet2!A:H,3,FALSE))","v":""},null,{"$f":"IF(OR(E1452=\"\",ISBLANK(E1452)),\"\",VLOOKUP(E1452,Sheet2!A:G,6,FALSE))","v":""},""]
[{"$f":"IF(OR(E1453=\"\",ISBLANK(E1453)),\"\",VLOOKUP(E1453,Sheet2!A:F,2,FALSE))","v":""},{"$f":"IF(OR(E1453=\"\",ISBLANK(E1453)),\"\",VLOOKUP(E1453,Sheet2!A:G,4,FALSE))","v":""},"",{"$f":"IF(OR(E1453=\"\",ISBLANK(E1453)),\"\",VLOOKUP(E1453,Sheet2!A:H,3,FALSE))","v":""},null,{"$f":"IF(OR(E1453=\"\",ISBLANK(E1453)),\"\",VLOOKUP(E1453,Sheet2!A:G,6,FALSE))","v":""},""]
[{"$f":"IF(OR(E1454=\"\",ISBLANK(E1454)),\"\",VLOOKUP(E1454,Sheet2!A:F,2,FALSE))","v":""},{"$f":"IF(OR(E1454=\"\",ISBLANK(E1454)),\"\",VLOOKUP(E1454,Sheet2!A:G,4,FALSE))","v":""},"",{"$f":"IF(OR(E1454=\"\",ISBLANK(E1454)),\"\",VLOOKUP(E1454,Sheet2!A:H,3,FALSE))","v":""},null,{"$f":"IF(OR(E1454=\"\",ISBLANK(E1454)),\"\",VLOOKUP(E1454,Sheet2!A:G,6,FALSE))","v":""},""]
[{"$f":"IF(OR(E1455=\"\",ISBLANK(E1455)),\"\",VLOOKUP(E1455,Sheet2!A:F,2,FALSE))","v":""},{"$f":"IF(OR(E1455=\"\",ISBLANK(E1455)),\"\",VLOOKUP(E1455,Sheet2!A:G,4,FALSE))","v":""},"",{"$f":"IF(OR(E1455=\"\",ISBLANK(E1455)),\"\",VLOOKUP(E1455,Sheet2!A:H,3,FALSE))","v":""},null,{"$f":"IF(OR(E1455=\"\",ISBLANK(E1455)),\"\",VLOOKUP(E1455,Sheet2!A:G,6,FALSE))","v":""},""]
[{"$f":"IF(OR(E1456=\"\",ISBLANK(E1456)),\"\",VLOOKUP(E1456,Sheet2!A:F,2,FALSE))","v":""},{"$f":"IF(OR(E1456=\"\",ISBLANK(E1456)),\"\",VLOOKUP(E1456,Sheet2!A:G,4,FALSE))","v":""},"",{"$f":"IF(OR(E1456=\"\",ISBLANK(E1456)),\"\",VLOOKUP(E1456,Sheet2!A:H,3,FALSE))","v":""},null,{"$f":"IF(OR(E1456=\"\",ISBLANK(E1456)),\"\",VLOOKUP(E1456,Sheet2!A:G,6,FALSE))","v":""},""]
[{"$f":"IF(OR(E1457=\"\",ISBLANK(E1457)),\"\",VLOOKUP(E1457,Sheet2!A:F,2,FALSE))","v":""},{"$f":"IF(OR(E1457=\"\",ISBLANK(E1457)),\"\",VLOOKUP(E1457,Sheet2!A:G,4,FALSE))","v":""},"",{"$f":"IF(OR(E1457=\"\",ISBLANK(E1457)),\"\",VLOOKUP(E1457,Sheet2!A:H,3,FALSE))","v":""},null,{"$f":"IF(OR(E1457=\"\",ISBLANK(E1457)),\"\",VLOOKUP(E1457,Sheet2!A:G,6,FALSE))","v":""},""]
[{"$f":"IF(OR(E1458=\"\",ISBLANK(E1458)),\"\",VLOOKUP(E1458,Sheet2!A:F,2,FALSE))","v":""},{"$f":"IF(OR(E1458=\"\",ISBLANK(E1458)),\"\",VLOOKUP(E1458,Sheet2!A:G,4,FALSE))","v":""},"",{"$f":"IF(OR(E1458=\"\",ISBLANK(E1458)),\"\",VLOOKUP(E1458,Sheet2!A:H,3,FALSE))","v":""},null,{"$f":"IF(OR(E1458=\"\",ISBLANK(E1458)),\"\",VLOOKUP(E1458,Sheet2!A:G,6,FALSE))","v":""},""]
[{"$f":"IF(OR(E1459=\"\",ISBLANK(E1459)),\"\",VLOOKUP(E1459,Sheet2!A:F,2,FALSE))","v":""},{"$f":"IF(OR(E1459=\"\",ISBLANK(E1459)),\"\",VLOOKUP(E1459,Sheet2!A:G,4,FALSE))","v":""},"",{"$f":"IF(OR(E1459=\"\",ISBLANK(E1459)),\"\",VLOOKUP(E1459,Sheet2!A:H,3,FALSE))","v":""},null,{"$f":"IF(OR(E1459=\"\",ISBLANK(E1459)),\"\",VLOOKUP(E1459,Sheet2!A:G,6,FALSE))","v":""},""]
[{"$f":"IF(OR(E1460=\"\",ISBLANK(E1460)),\"\",VLOOKUP(E1460,Sheet2!A:F,2,FALSE))","v":""},{"$f":"IF(OR(E1460=\"\",ISBLANK(E1460)),\"\",VLOOKUP(E1460,Sheet2!A:G,4,FALSE))","v":""},"",{"$f":"IF(OR(E1460=\"\",ISBLANK(E1460)),\"\",VLOOKUP(E1460,Sheet2!A:H,3,FALSE))","v":""},null,{"$f":"IF(OR(E1460=\"\",ISBLANK(E1460)),\"\",VLOOKUP(E1460,Sheet2!A:G,6,FALSE))","v":""},""]
[{"$f":"IF(OR(E1461=\"\",ISBLANK(E1461)),\"\",VLOOKUP(E1461,Sheet2!A:F,2,FALSE))","v":""},{"$f":"IF(OR(E1461=\"\",ISBLANK(E1461)),\"\",VLOOKUP(E1461,Sheet2!A:G,4,FALSE))","v":""},"",{"$f":"IF(OR(E1461=\"\",ISBLANK(E1461)),\"\",VLOOKUP(E1461,Sheet2!A:H,3,FALSE))","v":""},null,{"$f":"IF(OR(E1461=\"\",ISBLANK(E1461)),\"\",VLOOKUP(E1461,Sheet2!A:G,6,FALSE))","v":""},""]
[{"$f":"IF(OR(E1462=\"\",ISBLANK(E1462)),\"\",VLOOKUP(E1462,Sheet2!A:F,2,FALSE))","v":""},{"$f":"IF(OR(E1462=\"\",ISBLANK(E1462)),\"\",VLOOKUP(E1462,Sheet2!A:G,4,FALSE))","v":""},"",{"$f":"IF(OR(E1462=\"\",ISBLANK(E1462)),\"\",VLOOKUP(E1462,Sheet2!A:H,3,FALSE))","v":""},null,{"$f":"IF(OR(E1462=\"\",ISBLANK(E1462)),\"\",VLOOKUP(E1462,Sheet2!A:G,6,FALSE))","v":""},""]
[{"$f":"IF(OR(E1463=\"\",ISBLANK(E1463)),\"\",VLOOKUP(E1463,Sheet2!A:F,2,FALSE))","v":""},{"$f":"IF(OR(E1463=\"\",ISBLANK(E1463)),\"\",VLOOKUP(E1463,Sheet2!A:G,4,FALSE))","v":""},"",{"$f":"IF(OR(E1463=\"\",ISBLANK(E1463)),\"\",VLOOKUP(E1463,Sheet2!A:H,3,FALSE))","v":""},null,{"$f":"IF(OR(E1463=\"\",ISBLANK(E1463)),\"\",VLOOKUP(E1463,Sheet2!A:G,6,FALSE))","v":""},""]
[{"$f":"IF(OR(E1464=\"\",ISBLANK(E1464)),\"\",VLOOKUP(E1464,Sheet2!A:F,2,FALSE))","v":""},{"$f":"IF(OR(E1464=\"\",ISBLANK(E1464)),\"\",VLOOKUP(E1464,Sheet2!A:G,4,FALSE))","v":""},"",{"$f":"IF(OR(E1464=\"\",ISBLANK(E1464)),\"\",VLOOKUP(E1464,Sheet2!A:H,3,FALSE))","v":""},null,{"$f":"IF(OR(E1464=\"\",ISBLANK(E1464)),\"\",VLOOKUP(E1464,Sheet2!A:G,6,FALSE))","v":""},""]
[{"$f":"IF(OR(E1465=\"\",ISBLANK(E1465)),\"\",VLOOKUP(E1465,Sheet2!A:F,2,FALSE))","v":""},{"$f":"IF(OR(E1465=\"\",ISBLANK(E1465)),\"\",VLOOKUP(E1465,Sheet2!A:G,4,FALSE))","v":""},"",{"$f":"IF(OR(E1465=\"\",ISBLANK(E1465)),\"\",VLOOKUP(E1465,Sheet2!A:H,3,FALSE))","v":""},null,{"$f":"IF(OR(E1465=\"\",ISBLANK(E1465)),\"\",VLOOKUP(E1465,Sheet2!A:G,6,FALSE))","v":""},""]
[{"$f":"IF(OR(E1466=\"\",ISBLANK(E1466)),\"\",VLOOKUP(E1466,Sheet2!A:F,2,FALSE))","v":""},{"$f":"IF(OR(E1466=\"\",ISBLANK(E1466)),\"\",VLOOKUP(E1466,Sheet2!A:G,4,FALSE))","v":""},"",{"$f":"IF(OR(E1466=\"\",ISBLANK(E1466)),\"\",VLOOKUP(E1466,Sheet2!A:H,3,FALSE))","v":""},null,{"$f":"IF(OR(E1466=\"\",ISBLANK(E1466)),\"\",VLOOKUP(E1466,Sheet2!A:G,6,FALSE))","v":""},""]
[{"$f":"IF(OR(E1467=\"\",ISBLANK(E1467)),\"\",VLOOKUP(E1467,Sheet2!A:F,2,FALSE))","v":""},{"$f":"IF(OR(E1467=\"\",ISBLANK(E1467)),\"\",VLOOKUP(E1467,Sheet2!A:G,4,FALSE))","v":""},"",{"$f":"IF(OR(E1467=\"\",ISBLANK(E1467)),\"\",VLOOKUP(E1467,Sheet2!A:H,3,FALSE))","v":""},null,{"$f":"IF(OR(E1467=\"\",ISBLANK(E1467)),\"\",VLOOKUP(E1467,Sheet2!A:G,6,FALSE))","v":""},""]
[{"$f":"IF(OR(E1468=\"\",ISBLANK(E1468)),\"\",VLOOKUP(E1468,Sheet2!A:F,2,FALSE))","v":""},{"$f":"IF(OR(E1468=\"\",ISBLANK(E1468)),\"\",VLOOKUP(E1468,Sheet2!A:G,4,FALSE))","v":""},"",{"$f":"IF(OR(E1468=\"\",ISBLANK(E1468)),\"\",VLOOKUP(E1468,Sheet2!A:H,3,FALSE))","v":""},null,{"$f":"IF(OR(E1468=\"\",ISBLANK(E1468)),\"\",VLOOKUP(E1468,Sheet2!A:G,6,FALSE))","v":""},""]
[{"$f":"IF(OR(E1469=\"\",ISBLANK(E1469)),\"\",VLOOKUP(E1469,Sheet2!A:F,2,FALSE))","v":""},{"$f":"IF(OR(E1469=\"\",ISBLANK(E1469)),\"\",VLOOKUP(E1469,Sheet2!A:G,4,FALSE))","v":""},"",{"$f":"IF(OR(E1469=\"\",ISBLANK(E1469)),\"\",VLOOKUP(E1469,Sheet2!A:H,3,FALSE))","v":""},null,{"$f":"IF(OR(E1469=\"\",ISBLANK(E1469)),\"\",VLOOKUP(E1469,Sheet2!A:G,6,FALSE))","v":""},""]
[{"$f":"IF(OR(E1470=\"\",ISBLANK(E1470)),\"\",VLOOKUP(E1470,Sheet2!A:F,2,FALSE))","v":""},{"$f":"IF(OR(E1470=\"\",ISBLANK(E1470)),\"\",VLOOKUP(E1470,Sheet2!A:G,4,FALSE))","v":""},"",{"$f":"IF(OR(E1470=\"\",ISBLANK(E1470)),\"\",VLOOKUP(E1470,Sheet2!A:H,3,FALSE))","v":""},null,{"$f":"IF(OR(E1470=\"\",ISBLANK(E1470)),\"\",VLOOKUP(E1470,Sheet2!A:G,6,FALSE))","v":""},""]
[{"$f":"IF(OR(E1471=\"\",ISBLANK(E1471)),\"\",VLOOKUP(E1471,Sheet2!A:F,2,FALSE))","v":""},{"$f":"IF(OR(E1471=\"\",ISBLANK(E1471)),\"\",VLOOKUP(E1471,Sheet2!A:G,4,FALSE))","v":""},"",{"$f":"IF(OR(E1471=\"\",ISBLANK(E1471)),\"\",VLOOKUP(E1471,Sheet2!A:H,3,FALSE))","v":""},null,{"$f":"IF(OR(E1471=\"\",ISBLANK(E1471)),\"\",VLOOKUP(E1471,Sheet2!A:G,6,FALSE))","v":""},""]
[{"$f":"IF(OR(E1472=\"\",ISBLANK(E1472)),\"\",VLOOKUP(E1472,Sheet2!A:F,2,FALSE))","v":""},{"$f":"IF(OR(E1472=\"\",ISBLANK(E1472)),\"\",VLOOKUP(E1472,Sheet2!A:G,4,FALSE))","v":""},"",{"$f":"IF(OR(E1472=\"\",ISBLANK(E1472)),\"\",VLOOKUP(E1472,Sheet2!A:H,3,FALSE))","v":""},null,{"$f":"IF(OR(E1472=\"\",ISBLANK(E1472)),\"\",VLOOKUP(E1472,Sheet2!A:G,6,FALSE))","v":""},""]
[{"$f":"IF(OR(E1473=\"\",ISBLANK(E1473)),\"\",VLOOKUP(E1473,Sheet2!A:F,2,FALSE))","v":""},{"$f":"IF(OR(E1473=\"\",ISBLANK(E1473)),\"\",VLOOKUP(E1473,Sheet2!A:G,4,FALSE))","v":""},"",{"$f":"IF(OR(E1473=\"\",ISBLANK(E1473)),\"\",VLOOKUP(E1473,Sheet2!A:H,3,FALSE))","v":""},null,{"$f":"IF(OR(E1473=\"\",ISBLANK(E1473)),\"\",VLOOKUP(E1473,Sheet2!A:G,6,FALSE))","v":""},""]
[{"$f":"IF(OR(E1474=\"\",ISBLANK(E1474)),\"\",VLOOKUP(E1474,Sheet2!A:F,2,FALSE))","v":""},{"$f":"IF(OR(E1474=\"\",ISBLANK(E1474)),\"\",VLOOKUP(E1474,Sheet2!A:G,4,FALSE))","v":""},"",{"$f":"IF(OR(E1474=\"\",ISBLANK(E1474)),\"\",VLOOKUP(E1474,Sheet2!A:H,3,FALSE))","v":""},null,{"$f":"IF(OR(E1474=\"\",ISBLANK(E1474)),\"\",VLOOKUP(E1474,Sheet2!A:G,6,FALSE))","v":""},""]
[{"$f":"IF(OR(E1475=\"\",ISBLANK(E1475)),\"\",VLOOKUP(E1475,Sheet2!A:F,2,FALSE))","v":""},{"$f":"IF(OR(E1475=\"\",ISBLANK(E1475)),\"\",VLOOKUP(E1475,Sheet2!A:G,4,FALSE))","v":""},{"$f":"IF(D1475=0,\"\",D1475)","v":""},{"$f":"IF(OR(E1475=\"\",ISBLANK(E1475)),\"\",VLOOKUP(E1475,Sheet2!A:H,3,FALSE))","v":""},null,{"$f":"IF(OR(E1475=\"\",ISBLANK(E1475)),\"\",VLOOKUP(E1475,Sheet2!A:G,6,FALSE))","v":""},{"$f":"IF(F1475=0,\"\",F1475)","v":""}]
[{"$f":"IF(OR(E1476=\"\",ISBLANK(E1476)),\"\",VLOOKUP(E1476,Sheet2!A:F,2,FALSE))","v":""},{"$f":"IF(OR(E1476=\"\",ISBLANK(E1476)),\"\",VLOOKUP(E1476,Sheet2!A:G,4,FALSE))","v":""},"",{"$f":"IF(OR(E1476=\"\",ISBLANK(E1476)),\"\",VLOOKUP(E1476,Sheet2!A:H,3,FALSE))","v":""},null,{"$f":"IF(OR(E1476=\"\",ISBLANK(E1476)),\"\",VLOOKUP(E1476,Sheet2!A:G,6,FALSE))","v":""},""]
[{"$f":"IF(OR(E1477=\"\",ISBLANK(E1477)),\"\",VLOOKUP(E1477,Sheet2!A:F,2,FALSE))","v":""},{"$f":"IF(OR(E1477=\"\",ISBLANK(E1477)),\"\",VLOOKUP(E1477,Sheet2!A:G,4,FALSE))","v":""},"",{"$f":"IF(OR(E1477=\"\",ISBLANK(E1477)),\"\",VLOOKUP(E1477,Sheet2!A:H,3,FALSE))","v":""},null,{"$f":"IF(OR(E1477=\"\",ISBLANK(E1477)),\"\",VLOOKUP(E1477,Sheet2!A:G,6,FALSE))","v":""},""]
[{"$f":"IF(OR(E1478=\"\",ISBLANK(E1478)),\"\",VLOOKUP(E1478,Sheet2!A:F,2,FALSE))","v":""},{"$f":"IF(OR(E1478=\"\",ISBLANK(E1478)),\"\",VLOOKUP(E1478,Sheet2!A:G,4,FALSE))","v":""},"",{"$f":"IF(OR(E1478=\"\",ISBLANK(E1478)),\"\",VLOOKUP(E1478,Sheet2!A:H,3,FALSE))","v":""},null,{"$f":"IF(OR(E1478=\"\",ISBLANK(E1478)),\"\",VLOOKUP(E1478,Sheet2!A:G,6,FALSE))","v":""},""]
[{"$f":"IF(OR(E1479=\"\",ISBLANK(E1479)),\"\",VLOOKUP(E1479,Sheet2!A:F,2,FALSE))","v":""},{"$f":"IF(OR(E1479=\"\",ISBLANK(E1479)),\"\",VLOOKUP(E1479,Sheet2!A:G,4,FALSE))","v":""},"",{"$f":"IF(OR(E1479=\"\",ISBLANK(E1479)),\"\",VLOOKUP(E1479,Sheet2!A:H,3,FALSE))","v":""},null,{"$f":"IF(OR(E1479=\"\",ISBLANK(E1479)),\"\",VLOOKUP(E1479,Sheet2!A:G,6,FALSE))","v":""},""]
[{"$f":"IF(OR(E1480=\"\",ISBLANK(E1480)),\"\",VLOOKUP(E1480,Sheet2!A:F,2,FALSE))","v":""},{"$f":"IF(OR(E1480=\"\",ISBLANK(E1480)),\"\",VLOOKUP(E1480,Sheet2!A:G,4,FALSE))","v":""},"",{"$f":"IF(OR(E1480=\"\",ISBLANK(E1480)),\"\",VLOOKUP(E1480,Sheet2!A:H,3,FALSE))","v":""},null,{"$f":"IF(OR(E1480=\"\",ISBLANK(E1480)),\"\",VLOOKUP(E1480,Sheet2!A:G,6,FALSE))","v":""},""]
[{"$f":"IF(OR(E1481=\"\",ISBLANK(E1481)),\"\",VLOOKUP(E1481,Sheet2!A:F,2,FALSE))","v":""},{"$f":"IF(OR(E1481=\"\",ISBLANK(E1481)),\"\",VLOOKUP(E1481,Sheet2!A:G,4,FALSE))","v":""},"",{"$f":"IF(OR(E1481=\"\",ISBLANK(E1481)),\"\",VLOOKUP(E1481,Sheet2!A:H,3,FALSE))","v":""},null,{"$f":"IF(OR(E1481=\"\",ISBLANK(E1481)),\"\",VLOOKUP(E1481,Sheet2!A:G,6,FALSE))","v":""},""]
[{"$f":"IF(OR(E1482=\"\",ISBLANK(E1482)),\"\",VLOOKUP(E1482,Sheet2!A:F,2,FALSE))","v":""},{"$f":"IF(OR(E1482=\"\",ISBLANK(E1482)),\"\",VLOOKUP(E1482,Sheet2!A:G,4,FALSE))","v":""},"",{"$f":"IF(OR(E1482=\"\",ISBLANK(E1482)),\"\",VLOOKUP(E1482,Sheet2!A:H,3,FALSE))","v":""},null,{"$f":"IF(OR(E1482=\"\",ISBLANK(E1482)),\"\",VLOOKUP(E1482,Sheet2!A:G,6,FALSE))","v":""},""]
[{"$f":"IF(OR(E1483=\"\",ISBLANK(E1483)),\"\",VLOOKUP(E1483,Sheet2!A:F,2,FALSE))","v":""},{"$f":"IF(OR(E1483=\"\",ISBLANK(E1483)),\"\",VLOOKUP(E1483,Sheet2!A:G,4,FALSE))","v":""},"",{"$f":"IF(OR(E1483=\"\",ISBLANK(E1483)),\"\",VLOOKUP(E1483,Sheet2!A:H,3,FALSE))","v":""},null,{"$f":"IF(OR(E1483=\"\",ISBLANK(E1483)),\"\",VLOOKUP(E1483,Sheet2!A:G,6,FALSE))","v":""},""]
[{"$f":"IF(OR(E1484=\"\",ISBLANK(E1484)),\"\",VLOOKUP(E1484,Sheet2!A:F,2,FALSE))","v":""},{"$f":"IF(OR(E1484=\"\",ISBLANK(E1484)),\"\",VLOOKUP(E1484,Sheet2!A:G,4,FALSE))","v":""},"",{"$f":"IF(OR(E1484=\"\",ISBLANK(E1484)),\"\",VLOOKUP(E1484,Sheet2!A:H,3,FALSE))","v":""},null,{"$f":"IF(OR(E1484=\"\",ISBLANK(E1484)),\"\",VLOOKUP(E1484,Sheet2!A:G,6,FALSE))","v":""},""]
[{"$f":"IF(OR(E1485=\"\",ISBLANK(E1485)),\"\",VLOOKUP(E1485,Sheet2!A:F,2,FALSE))","v":""},{"$f":"IF(OR(E1485=\"\",ISBLANK(E1485)),\"\",VLOOKUP(E1485,Sheet2!A:G,4,FALSE))","v":""},"",{"$f":"IF(OR(E1485=\"\",ISBLANK(E1485)),\"\",VLOOKUP(E1485,Sheet2!A:H,3,FALSE))","v":""},null,{"$f":"IF(OR(E1485=\"\",ISBLANK(E1485)),\"\",VLOOKUP(E1485,Sheet2!A:G,6,FALSE))","v":""},""]
[{"$f":"IF(OR(E1486=\"\",ISBLANK(E1486)),\"\",VLOOKUP(E1486,Sheet2!A:F,2,FALSE))","v":""},{"$f":"IF(OR(E1486=\"\",ISBLANK(E1486)),\"\",VLOOKUP(E1486,Sheet2!A:G,4,FALSE))","v":""},"",{"$f":"IF(OR(E1486=\"\",ISBLANK(E1486)),\"\",VLOOKUP(E1486,Sheet2!A:H,3,FALSE))","v":""},null,{"$f":"IF(OR(E1486=\"\",ISBLANK(E1486)),\"\",VLOOKUP(E1486,Sheet2!A:G,6,FALSE))","v":""},""]
[{"$f":"IF(OR(E1487=\"\",ISBLANK(E1487)),\"\",VLOOKUP(E1487,Sheet2!A:F,2,FALSE))","v":""},{"$f":"IF(OR(E1487=\"\",ISBLANK(E1487)),\"\",VLOOKUP(E1487,Sheet2!A:G,4,FALSE))","v":""},"",{"$f":"IF(OR(E1487=\"\",ISBLANK(E1487)),\"\",VLOOKUP(E1487,Sheet2!A:H,3,FALSE))","v":""},null,{"$f":"IF(OR(E1487=\"\",ISBLANK(E1487)),\"\",VLOOKUP(E1487,Sheet2!A:G,6,FALSE))","v":""},""]
[{"$f":"IF(OR(E1488=\"\",ISBLANK(E1488)),\"\",VLOOKUP(E1488,Sheet2!A:F,2,FALSE))","v":""},{"$f":"IF(OR(E1488=\"\",ISBLANK(E1488)),\"\",VLOOKUP(E1488,Sheet2!A:G,4,FALSE))","v":""},"",{"$f":"IF(OR(E1488=\"\",ISBLANK(E1488)),\"\",VLOOKUP(E1488,Sheet2!A:H,3,FALSE))","v":""},null,{"$f":"IF(OR(E1488=\"\",ISBLANK(E1488)),\"\",VLOOKUP(E1488,Sheet2!A:G,6,FALSE))","v":""},""]
[{"$f":"IF(OR(E1489=\"\",ISBLANK(E1489)),\"\",VLOOKUP(E1489,Sheet2!A:F,2,FALSE))","v":""},{"$f":"IF(OR(E1489=\"\",ISBLANK(E1489)),\"\",VLOOKUP(E1489,Sheet2!A:G,4,FALSE))","v":""},"",{"$f":"IF(OR(E1489=\"\",ISBLANK(E1489)),\"\",VLOOKUP(E1489,Sheet2!A:H,3,FALSE))","v":""},null,{"$f":"IF(OR(E1489=\"\",ISBLANK(E1489)),\"\",VLOOKUP(E1489,Sheet2!A:G,6,FALSE))","v":""},""]
[{"$f":"IF(OR(E1490=\"\",ISBLANK(E1490)),\"\",VLOOKUP(E1490,Sheet2!A:F,2,FALSE))","v":""},{"$f":"IF(OR(E1490=\"\",ISBLANK(E1490)),\"\",VLOOKUP(E1490,Sheet2!A:G,4,FALSE))","v":""},"",{"$f":"IF(OR(E1490=\"\",ISBLANK(E1490)),\"\",VLOOKUP(E1490,Sheet2!A:H,3,FALSE))","v":""},null,{"$f":"IF(OR(E1490=\"\",ISBLANK(E1490)),\"\",VLOOKUP(E1490,Sheet2!A:G,6,FALSE))","v":""},""]
[{"$f":"IF(OR(E1491=\"\",ISBLANK(E1491)),\"\",VLOOKUP(E1491,Sheet2!A:F,2,FALSE))","v":""},{"$f":"IF(OR(E1491=\"\",ISBLANK(E1491)),\"\",VLOOKUP(E1491,Sheet2!A:G,4,FALSE))","v":""},"",{"$f":"IF(OR(E1491=\"\",ISBLANK(E1491)),\"\",VLOOKUP(E1491,Sheet2!A:H,3,FALSE))","v":""},null,{"$f":"IF(OR(E1491=\"\",ISBLANK(E1491)),\"\",VLOOKUP(E1491,Sheet2!A:G,6,FALSE))","v":""},""]
[{"$f":"IF(OR(E1492=\"\",ISBLANK(E1492)),\"\",VLOOKUP(E1492,Sheet2!A:F,2,FALSE))","v":""},{"$f":"IF(OR(E1492=\"\",ISBLANK(E1492)),\"\",VLOOKUP(E1492,Sheet2!A:G,4,FALSE))","v":""},"",{"$f":"IF(OR(E1492=\"\",ISBLANK(E1492)),\"\",VLOOKUP(E1492,Sheet2!A:H,3,FALSE))","v":""},null,{"$f":"IF(OR(E1492=\"\",ISBLANK(E1492)),\"\",VLOOKUP(E1492,Sheet2!A:G,6,FALSE))","v":""},""]
[{"$f":"IF(OR(E1493=\"\",ISBLANK(E1493)),\"\",VLOOKUP(E1493,Sheet2!A:F,2,FALSE))","v":""},{"$f":"IF(OR(E1493=\"\",ISBLANK(E1493)),\"\",VLOOKUP(E1493,Sheet2!A:G,4,FALSE))","v":""},"",{"$f":"IF(OR(E1493=\"\",ISBLANK(E1493)),\"\",VLOOKUP(E1493,Sheet2!A:H,3,FALSE))","v":""},null,{"$f":"IF(OR(E1493=\"\",ISBLANK(E1493)),\"\",VLOOKUP(E1493,Sheet2!A:G,6,FALSE))","v":""},""]
[{"$f":"IF(OR(E1494=\"\",ISBLANK(E1494)),\"\",VLOOKUP(E1494,Sheet2!A:F,2,FALSE))","v":""},{"$f":"IF(OR(E1494=\"\",ISBLANK(E1494)),\"\",VLOOKUP(E1494,Sheet2!A:G,4,FALSE))","v":""},"",{"$f":"IF(OR(E1494=\"\",ISBLANK(E1494)),\"\",VLOOKUP(E1494,Sheet2!A:H,3,FALSE))","v":""},null,{"$f":"IF(OR(E1494=\"\",ISBLANK(E1494)),\"\",VLOOKUP(E1494,Sheet2!A:G,6,FALSE))","v":""},""]
[{"$f":"IF(OR(E1495=\"\",ISBLANK(E1495)),\"\",VLOOKUP(E1495,Sheet2!A:F,2,FALSE))","v":""},{"$f":"IF(OR(E1495=\"\",ISBLANK(E1495)),\"\",VLOOKUP(E1495,Sheet2!A:G,4,FALSE))","v":""},"",{"$f":"IF(OR(E1495=\"\",ISBLANK(E1495)),\"\",VLOOKUP(E1495,Sheet2!A:H,3,FALSE))","v":""},null,{"$f":"IF(OR(E1495=\"\",ISBLANK(E1495)),\"\",VLOOKUP(E1495,Sheet2!A:G,6,FALSE))","v":""},""]
[{"$f":"IF(OR(E1496=\"\",ISBLANK(E1496)),\"\",VLOOKUP(E1496,Sheet2!A:F,2,FALSE))","v":""},{"$f":"IF(OR(E1496=\"\",ISBLANK(E1496)),\"\",VLOOKUP(E1496,Sheet2!A:G,4,FALSE))","v":""},"",{"$f":"IF(OR(E1496=\"\",ISBLANK(E1496)),\"\",VLOOKUP(E1496,Sheet2!A:H,3,FALSE))","v":""},null,{"$f":"IF(OR(E1496=\"\",ISBLANK(E1496)),\"\",VLOOKUP(E1496,Sheet2!A:G,6,FALSE))","v":""},""]
[{"$f":"IF(OR(E1497=\"\",ISBLANK(E1497)),\"\",VLOOKUP(E1497,Sheet2!A:F,2,FALSE))","v":""},{"$f":"IF(OR(E1497=\"\",ISBLANK(E1497)),\"\",VLOOKUP(E1497,Sheet2!A:G,4,FALSE))","v":""},"",{"$f":"IF(OR(E1497=\"\",ISBLANK(E1497)),\"\",VLOOKUP(E1497,Sheet2!A:H,3,FALSE))","v":""},null,{"$f":"IF(OR(E1497=\"\",ISBLANK(E1497)),\"\",VLOOKUP(E1497,Sheet2!A:G,6,FALSE))","v":""},""]
[{"$f":"IF(OR(E1498=\"\",ISBLANK(E1498)),\"\",VLOOKUP(E1498,Sheet2!A:F,2,FALSE))","v":""},{"$f":"IF(OR(E1498=\"\",ISBLANK(E1498)),\"\",VLOOKUP(E1498,Sheet2!A:G,4,FALSE))","v":""},"",{"$f":"IF(OR(E1498=\"\",ISBLANK(E1498)),\"\",VLOOKUP(E1498,Sheet2!A:H,3,FALSE))","v":""},null,{"$f":"IF(OR(E1498=\"\",ISBLANK(E1498)),\"\",VLOOKUP(E1498,Sheet2!A:G,6,FALSE))","v":""},""]
[{"$f":"IF(OR(E1499=\"\",ISBLANK(E1499)),\"\",VLOOKUP(E1499,Sheet2!A:F,2,FALSE))","v":""},{"$f":"IF(OR(E1499=\"\",ISBLANK(E1499)),\"\",VLOOKUP(E1499,Sheet2!A:G,4,FALSE))","v":""},"",{"$f":"IF(OR(E1499=\"\",ISBLANK(E1499)),\"\",VLOOKUP(E1499,Sheet2!A:H,3,FALSE))","v":""},null,{"$f":"IF(OR(E1499=\"\",ISBLANK(E1499)),\"\",VLOOKUP(E1499,Sheet2!A:G,6,FALSE))","v":""},""]
[{"$f":"IF(OR(E1500=\"\",ISBLANK(E1500)),\"\",VLOOKUP(E1500,Sheet2!A:F,2,FALSE))","v":""},{"$f":"IF(OR(E1500=\"\",ISBLANK(E1500)),\"\",VLOOKUP(E1500,Sheet2!A:G,4,FALSE))","v":""},"",{"$f":"IF(OR(E1500=\"\",ISBLANK(E1500)),\"\",VLOOKUP(E1500,Sheet2!A:H,3,FALSE))","v":""},null,{"$f":"IF(OR(E1500=\"\",ISBLANK(E1500)),\"\",VLOOKUP(E1500,Sheet2!A:G,6,FALSE))","v":""},""]
[{"$f":"IF(OR(E1501=\"\",ISBLANK(E1501)),\"\",VLOOKUP(E1501,Sheet2!A:F,2,FALSE))","v":""},{"$f":"IF(OR(E1501=\"\",ISBLANK(E1501)),\"\",VLOOKUP(E1501,Sheet2!A:G,4,FALSE))","v":""},"",{"$f":"IF(OR(E1501=\"\",ISBLANK(E1501)),\"\",VLOOKUP(E1501,Sheet2!A:H,3,FALSE))","v":""},null,{"$f":"IF(OR(E1501=\"\",ISBLANK(E1501)),\"\",VLOOKUP(E1501,Sheet2!A:G,6,FALSE))","v":""},""]
[{"$f":"IF(OR(E1502=\"\",ISBLANK(E1502)),\"\",VLOOKUP(E1502,Sheet2!A:F,2,FALSE))","v":""},{"$f":"IF(OR(E1502=\"\",ISBLANK(E1502)),\"\",VLOOKUP(E1502,Sheet2!A:G,4,FALSE))","v":""},"",{"$f":"IF(OR(E1502=\"\",ISBLANK(E1502)),\"\",VLOOKUP(E1502,Sheet2!A:H,3,FALSE))","v":""},null,{"$f":"IF(OR(E1502=\"\",ISBLANK(E1502)),\"\",VLOOKUP(E1502,Sheet2!A:G,6,FALSE))","v":""},""]
[{"$f":"IF(OR(E1503=\"\",ISBLANK(E1503)),\"\",VLOOKUP(E1503,Sheet2!A:F,2,FALSE))","v":""},{"$f":"IF(OR(E1503=\"\",ISBLANK(E1503)),\"\",VLOOKUP(E1503,Sheet2!A:G,4,FALSE))","v":""},"",{"$f":"IF(OR(E1503=\"\",ISBLANK(E1503)),\"\",VLOOKUP(E1503,Sheet2!A:H,3,FALSE))","v":""},null,{"$f":"IF(OR(E1503=\"\",ISBLANK(E1503)),\"\",VLOOKUP(E1503,Sheet2!A:G,6,FALSE))","v":""},""]
[{"$f":"IF(OR(E1504=\"\",ISBLANK(E1504)),\"\",VLOOKUP(E1504,Sheet2!A:F,2,FALSE))","v":""},{"$f":"IF(OR(E1504=\"\",ISBLANK(E1504)),\"\",VLOOKUP(E1504,Sheet2!A:G,4,FALSE))","v":""},"",{"$f":"IF(OR(E1504=\"\",ISBLANK(E1504)),\"\",VLOOKUP(E1504,Sheet2!A:H,3,FALSE))","v":""},null,{"$f":"IF(OR(E1504=\"\",ISBLANK(E1504)),\"\",VLOOKUP(E1504,Sheet2!A:G,6,FALSE))","v":""},""]
[{"$f":"IF(OR(E1505=\"\",ISBLANK(E1505)),\"\",VLOOKUP(E1505,Sheet2!A:F,2,FALSE))","v":""},{"$f":"IF(OR(E1505=\"\",ISBLANK(E1505)),\"\",VLOOKUP(E1505,Sheet2!A:G,4,FALSE))","v":""},"",{"$f":"IF(OR(E1505=\"\",ISBLANK(E1505)),\"\",VLOOKUP(E1505,Sheet2!A:H,3,FALSE))","v":""},null,{"$f":"IF(OR(E1505=\"\",ISBLANK(E1505)),\"\",VLOOKUP(E1505,Sheet2!A:G,6,FALSE))","v":""},""]
[{"$f":"IF(OR(E1506=\"\",ISBLANK(E1506)),\"\",VLOOKUP(E1506,Sheet2!A:F,2,FALSE))","v":""},{"$f":"IF(OR(E1506=\"\",ISBLANK(E1506)),\"\",VLOOKUP(E1506,Sheet2!A:G,4,FALSE))","v":""},"",{"$f":"IF(OR(E1506=\"\",ISBLANK(E1506)),\"\",VLOOKUP(E1506,Sheet2!A:H,3,FALSE))","v":""},null,{"$f":"IF(OR(E1506=\"\",ISBLANK(E1506)),\"\",VLOOKUP(E1506,Sheet2!A:G,6,FALSE))","v":""},""]
[{"$f":"IF(OR(E1507=\"\",ISBLANK(E1507)),\"\",VLOOKUP(E1507,Sheet2!A:F,2,FALSE))","v":""},{"$f":"IF(OR(E1507=\"\",ISBLANK(E1507)),\"\",VLOOKUP(E1507,Sheet2!A:G,4,FALSE))","v":""},"",{"$f":"IF(OR(E1507=\"\",ISBLANK(E1507)),\"\",VLOOKUP(E1507,Sheet2!A:H,3,FALSE))","v":""},null,{"$f":"IF(OR(E1507=\"\",ISBLANK(E1507)),\"\",VLOOKUP(E1507,Sheet2!A:G,6,FALSE))","v":""},""]
[{"$f":"IF(OR(E1508=\"\",ISBLANK(E1508)),\"\",VLOOKUP(E1508,Sheet2!A:F,2,FALSE))","v":""},{"$f":"IF(OR(E1508=\"\",ISBLANK(E1508)),\"\",VLOOKUP(E1508,Sheet2!A:G,4,FALSE))","v":""},"",{"$f":"IF(OR(E1508=\"\",ISBLANK(E1508)),\"\",VLOOKUP(E1508,Sheet2!A:H,3,FALSE))","v":""},null,{"$f":"IF(OR(E1508=\"\",ISBLANK(E1508)),\"\",VLOOKUP(E1508,Sheet2!A:G,6,FALSE))","v":""},""]
[{"$f":"IF(OR(E1509=\"\",ISBLANK(E1509)),\"\",VLOOKUP(E1509,Sheet2!A:F,2,FALSE))","v":""},{"$f":"IF(OR(E1509=\"\",ISBLANK(E1509)),\"\",VLOOKUP(E1509,Sheet2!A:G,4,FALSE))","v":""},"",{"$f":"IF(OR(E1509=\"\",ISBLANK(E1509)),\"\",VLOOKUP(E1509,Sheet2!A:H,3,FALSE))","v":""},null,{"$f":"IF(OR(E1509=\"\",ISBLANK(E1509)),\"\",VLOOKUP(E1509,Sheet2!A:G,6,FALSE))","v":""},""]
[{"$f":"IF(OR(E1510=\"\",ISBLANK(E1510)),\"\",VLOOKUP(E1510,Sheet2!A:F,2,FALSE))","v":""},{"$f":"IF(OR(E1510=\"\",ISBLANK(E1510)),\"\",VLOOKUP(E1510,Sheet2!A:G,4,FALSE))","v":""},"",{"$f":"IF(OR(E1510=\"\",ISBLANK(E1510)),\"\",VLOOKUP(E1510,Sheet2!A:H,3,FALSE))","v":""},null,{"$f":"IF(OR(E1510=\"\",ISBLANK(E1510)),\"\",VLOOKUP(E1510,Sheet2!A:G,6,FALSE))","v":""},""]
[{"$f":"IF(OR(E1511=\"\",ISBLANK(E1511)),\"\",VLOOKUP(E1511,Sheet2!A:F,2,FALSE))","v":""},{"$f":"IF(OR(E1511=\"\",ISBLANK(E1511)),\"\",VLOOKUP(E1511,Sheet2!A:G,4,FALSE))","v":""},"",{"$f":"IF(OR(E1511=\"\",ISBLANK(E1511)),\"\",VLOOKUP(E1511,Sheet2!A:H,3,FALSE))","v":""},null,{"$f":"IF(OR(E1511=\"\",ISBLANK(E1511)),\"\",VLOOKUP(E1511,Sheet2!A:G,6,FALSE))","v":""},""]
[{"$f":"IF(OR(E1512=\"\",ISBLANK(E1512)),\"\",VLOOKUP(E1512,Sheet2!A:F,2,FALSE))","v":""},{"$f":"IF(OR(E1512=\"\",ISBLANK(E1512)),\"\",VLOOKUP(E1512,Sheet2!A:G,4,FALSE))","v":""},"",{"$f":"IF(OR(E1512=\"\",ISBLANK(E1512)),\"\",VLOOKUP(E1512,Sheet2!A:H,3,FALSE))","v":""},null,{"$f":"IF(OR(E1512=\"\",ISBLANK(E1512)),\"\",VLOOKUP(E1512,Sheet2!A:G,6,FALSE))","v":""},""]
[{"$f":"IF(OR(E1513=\"\",ISBLANK(E1513)),\"\",VLOOKUP(E1513,Sheet2!A:F,2,FALSE))","v":""},{"$f":"IF(OR(E1513=\"\",ISBLANK(E1513)),\"\",VLOOKUP(E1513,Sheet2!A:G,4,FALSE))","v":""},"",{"$f":"IF(OR(E1513=\"\",ISBLANK(E1513)),\"\",VLOOKUP(E1513,Sheet2!A:H,3,FALSE))","v":""},null,{"$f":"IF(OR(E1513=\"\",ISBLANK(E1513)),\"\",VLOOKUP(E1513,Sheet2!A:G,6,FALSE))","v":""},""]
[{"$f":"IF(OR(E1514=\"\",ISBLANK(E1514)),\"\",VLOOKUP(E1514,Sheet2!A:F,2,FALSE))","v":""},{"$f":"IF(OR(E1514=\"\",ISBLANK(E1514)),\"\",VLOOKUP(E1514,Sheet2!A:G,4,FALSE))","v":""},"",{"$f":"IF(OR(E1514=\"\",ISBLANK(E1514)),\"\",VLOOKUP(E1514,Sheet2!A:H,3,FALSE))","v":""},null,{"$f":"IF(OR(E1514=\"\",ISBLANK(E1514)),\"\",VLOOKUP(E1514,Sheet2!A:G,6,FALSE))","v":""},""]
[{"$f":"IF(OR(E1515=\"\",ISBLANK(E1515)),\"\",VLOOKUP(E1515,Sheet2!A:F,2,FALSE))","v":""},{"$f":"IF(OR(E1515=\"\",ISBLANK(E1515)),\"\",VLOOKUP(E1515,Sheet2!A:G,4,FALSE))","v":""},"",{"$f":"IF(OR(E1515=\"\",ISBLANK(E1515)),\"\",VLOOKUP(E1515,Sheet2!A:H,3,FALSE))","v":""},null,{"$f":"IF(OR(E1515=\"\",ISBLANK(E1515)),\"\",VLOOKUP(E1515,Sheet2!A:G,6,FALSE))","v":""},""]
[{"$f":"IF(OR(E1516=\"\",ISBLANK(E1516)),\"\",VLOOKUP(E1516,Sheet2!A:F,2,FALSE))","v":""},{"$f":"IF(OR(E1516=\"\",ISBLANK(E1516)),\"\",VLOOKUP(E1516,Sheet2!A:G,4,FALSE))","v":""},"",{"$f":"IF(OR(E1516=\"\",ISBLANK(E1516)),\"\",VLOOKUP(E1516,Sheet2!A:H,3,FALSE))","v":""},null,{"$f":"IF(OR(E1516=\"\",ISBLANK(E1516)),\"\",VLOOKUP(E1516,Sheet2!A:G,6,FALSE))","v":""},""]
[{"$f":"IF(OR(E1517=\"\",ISBLANK(E1517)),\"\",VLOOKUP(E1517,Sheet2!A:F,2,FALSE))","v":""},{"$f":"IF(OR(E1517=\"\",ISBLANK(E1517)),\"\",VLOOKUP(E1517,Sheet2!A:G,4,FALSE))","v":""},"",{"$f":"IF(OR(E1517=\"\",ISBLANK(E1517)),\"\",VLOOKUP(E1517,Sheet2!A:H,3,FALSE))","v":""},null,{"$f":"IF(OR(E1517=\"\",ISBLANK(E1517)),\"\",VLOOKUP(E1517,Sheet2!A:G,6,FALSE))","v":""},""]
[{"$f":"IF(OR(E1518=\"\",ISBLANK(E1518)),\"\",VLOOKUP(E1518,Sheet2!A:F,2,FALSE))","v":""},{"$f":"IF(OR(E1518=\"\",ISBLANK(E1518)),\"\",VLOOKUP(E1518,Sheet2!A:G,4,FALSE))","v":""},"",{"$f":"IF(OR(E1518=\"\",ISBLANK(E1518)),\"\",VLOOKUP(E1518,Sheet2!A:H,3,FALSE))","v":""},null,{"$f":"IF(OR(E1518=\"\",ISBLANK(E1518)),\"\",VLOOKUP(E1518,Sheet2!A:G,6,FALSE))","v":""},""]
[{"$f":"IF(OR(E1519=\"\",ISBLANK(E1519)),\"\",VLOOKUP(E1519,Sheet2!A:F,2,FALSE))","v":""},{"$f":"IF(OR(E1519=\"\",ISBLANK(E1519)),\"\",VLOOKUP(E1519,Sheet2!A:G,4,FALSE))","v":""},"",{"$f":"IF(OR(E1519=\"\",ISBLANK(E1519)),\"\",VLOOKUP(E1519,Sheet2!A:H,3,FALSE))","v":""},null,{"$f":"IF(OR(E1519=\"\",ISBLANK(E1519)),\"\",VLOOKUP(E1519,Sheet2!A:G,6,FALSE))","v":""},""]
[{"$f":"IF(OR(E1520=\"\",ISBLANK(E1520)),\"\",VLOOKUP(E1520,Sheet2!A:F,2,FALSE))","v":""},{"$f":"IF(OR(E1520=\"\",ISBLANK(E1520)),\"\",VLOOKUP(E1520,Sheet2!A:G,4,FALSE))","v":""},"",{"$f":"IF(OR(E1520=\"\",ISBLANK(E1520)),\"\",VLOOKUP(E1520,Sheet2!A:H,3,FALSE))","v":""},null,{"$f":"IF(OR(E1520=\"\",ISBLANK(E1520)),\"\",VLOOKUP(E1520,Sheet2!A:G,6,FALSE))","v":""},""]
[{"$f":"IF(OR(E1521=\"\",ISBLANK(E1521)),\"\",VLOOKUP(E1521,Sheet2!A:F,2,FALSE))","v":""},{"$f":"IF(OR(E1521=\"\",ISBLANK(E1521)),\"\",VLOOKUP(E1521,Sheet2!A:G,4,FALSE))","v":""},"",{"$f":"IF(OR(E1521=\"\",ISBLANK(E1521)),\"\",VLOOKUP(E1521,Sheet2!A:H,3,FALSE))","v":""},null,{"$f":"IF(OR(E1521=\"\",ISBLANK(E1521)),\"\",VLOOKUP(E1521,Sheet2!A:G,6,FALSE))","v":""},""]
[{"$f":"IF(OR(E1522=\"\",ISBLANK(E1522)),\"\",VLOOKUP(E1522,Sheet2!A:F,2,FALSE))","v":""},{"$f":"IF(OR(E1522=\"\",ISBLANK(E1522)),\"\",VLOOKUP(E1522,Sheet2!A:G,4,FALSE))","v":""},"",{"$f":"IF(OR(E1522=\"\",ISBLANK(E1522)),\"\",VLOOKUP(E1522,Sheet2!A:H,3,FALSE))","v":""},null,{"$f":"IF(OR(E1522=\"\",ISBLANK(E1522)),\"\",VLOOKUP(E1522,Sheet2!A:G,6,FALSE))","v":""},""]
[{"$f":"IF(OR(E1523=\"\",ISBLANK(E1523)),\"\",VLOOKUP(E1523,Sheet2!A:F,2,FALSE))","v":""},{"$f":"IF(OR(E1523=\"\",ISBLANK(E1523)),\"\",VLOOKUP(E1523,Sheet2!A:G,4,FALSE))","v":""},"",{"$f":"IF(OR(E1523=\"\",ISBLANK(E1523)),\"\",VLOOKUP(E1523,Sheet2!A:H,3,FALSE))","v":""},null,{"$f":"IF(OR(E1523=\"\",ISBLANK(E1523)),\"\",VLOOKUP(E1523,Sheet2!A:G,6,FALSE))","v":""},""]
[{"$f":"IF(OR(E1524=\"\",ISBLANK(E1524)),\"\",VLOOKUP(E1524,Sheet2!A:F,2,FALSE))","v":""},{"$f":"IF(OR(E1524=\"\",ISBLANK(E1524)),\"\",VLOOKUP(E1524,Sheet2!A:G,4,FALSE))","v":""},"",{"$f":"IF(OR(E1524=\"\",ISBLANK(E1524)),\"\",VLOOKUP(E1524,Sheet2!A:H,3,FALSE))","v":""},null,{"$f":"IF(OR(E1524=\"\",ISBLANK(E1524)),\"\",VLOOKUP(E1524,Sheet2!A:G,6,FALSE))","v":""},""]
[{"$f":"IF(OR(E1525=\"\",ISBLANK(E1525)),\"\",VLOOKUP(E1525,Sheet2!A:F,2,FALSE))","v":""},{"$f":"IF(OR(E1525=\"\",ISBLANK(E1525)),\"\",VLOOKUP(E1525,Sheet2!A:G,4,FALSE))","v":""},"",{"$f":"IF(OR(E1525=\"\",ISBLANK(E1525)),\"\",VLOOKUP(E1525,Sheet2!A:H,3,FALSE))","v":""},null,{"$f":"IF(OR(E1525=\"\",ISBLANK(E1525)),\"\",VLOOKUP(E1525,Sheet2!A:G,6,FALSE))","v":""},""]
[{"$f":"IF(OR(E1526=\"\",ISBLANK(E1526)),\"\",VLOOKUP(E1526,Sheet2!A:F,2,FALSE))","v":""},{"$f":"IF(OR(E1526=\"\",ISBLANK(E1526)),\"\",VLOOKUP(E1526,Sheet2!A:G,4,FALSE))","v":""},"",{"$f":"IF(OR(E1526=\"\",ISBLANK(E1526)),\"\",VLOOKUP(E1526,Sheet2!A:H,3,FALSE))","v":""},null,{"$f":"IF(OR(E1526=\"\",ISBLANK(E1526)),\"\",VLOOKUP(E1526,Sheet2!A:G,6,FALSE))","v":""},""]
[{"$f":"IF(OR(E1527=\"\",ISBLANK(E1527)),\"\",VLOOKUP(E1527,Sheet2!A:F,2,FALSE))","v":""},{"$f":"IF(OR(E1527=\"\",ISBLANK(E1527)),\"\",VLOOKUP(E1527,Sheet2!A:G,4,FALSE))","v":""},"",{"$f":"IF(OR(E1527=\"\",ISBLANK(E1527)),\"\",VLOOKUP(E1527,Sheet2!A:H,3,FALSE))","v":""},null,{"$f":"IF(OR(E1527=\"\",ISBLANK(E1527)),\"\",VLOOKUP(E1527,Sheet2!A:G,6,FALSE))","v":""},""]
[{"$f":"IF(OR(E1528=\"\",ISBLANK(E1528)),\"\",VLOOKUP(E1528,Sheet2!A:F,2,FALSE))","v":""},{"$f":"IF(OR(E1528=\"\",ISBLANK(E1528)),\"\",VLOOKUP(E1528,Sheet2!A:G,4,FALSE))","v":""},"",{"$f":"IF(OR(E1528=\"\",ISBLANK(E1528)),\"\",VLOOKUP(E1528,Sheet2!A:H,3,FALSE))","v":""},null,{"$f":"IF(OR(E1528=\"\",ISBLANK(E1528)),\"\",VLOOKUP(E1528,Sheet2!A:G,6,FALSE))","v":""},""]
[{"$f":"IF(OR(E1529=\"\",ISBLANK(E1529)),\"\",VLOOKUP(E1529,Sheet2!A:F,2,FALSE))","v":""},{"$f":"IF(OR(E1529=\"\",ISBLANK(E1529)),\"\",VLOOKUP(E1529,Sheet2!A:G,4,FALSE))","v":""},"",{"$f":"IF(OR(E1529=\"\",ISBLANK(E1529)),\"\",VLOOKUP(E1529,Sheet2!A:H,3,FALSE))","v":""},null,{"$f":"IF(OR(E1529=\"\",ISBLANK(E1529)),\"\",VLOOKUP(E1529,Sheet2!A:G,6,FALSE))","v":""},""]
[{"$f":"IF(OR(E1530=\"\",ISBLANK(E1530)),\"\",VLOOKUP(E1530,Sheet2!A:F,2,FALSE))","v":""},{"$f":"IF(OR(E1530=\"\",ISBLANK(E1530)),\"\",VLOOKUP(E1530,Sheet2!A:G,4,FALSE))","v":""},"",{"$f":"IF(OR(E1530=\"\",ISBLANK(E1530)),\"\",VLOOKUP(E1530,Sheet2!A:H,3,FALSE))","v":""},null,{"$f":"IF(OR(E1530=\"\",ISBLANK(E1530)),\"\",VLOOKUP(E1530,Sheet2!A:G,6,FALSE))","v":""},""]
[{"$f":"IF(OR(E1531=\"\",ISBLANK(E1531)),\"\",VLOOKUP(E1531,Sheet2!A:F,2,FALSE))","v":""},{"$f":"IF(OR(E1531=\"\",ISBLANK(E1531)),\"\",VLOOKUP(E1531,Sheet2!A:G,4,FALSE))","v":""},"",{"$f":"IF(OR(E1531=\"\",ISBLANK(E1531)),\"\",VLOOKUP(E1531,Sheet2!A:H,3,FALSE))","v":""},null,{"$f":"IF(OR(E1531=\"\",ISBLANK(E1531)),\"\",VLOOKUP(E1531,Sheet2!A:G,6,FALSE))","v":""},""]
[{"$f":"IF(OR(E1532=\"\",ISBLANK(E1532)),\"\",VLOOKUP(E1532,Sheet2!A:F,2,FALSE))","v":""},{"$f":"IF(OR(E1532=\"\",ISBLANK(E1532)),\"\",VLOOKUP(E1532,Sheet2!A:G,4,FALSE))","v":""},"",{"$f":"IF(OR(E1532=\"\",ISBLANK(E1532)),\"\",VLOOKUP(E1532,Sheet2!A:H,3,FALSE))","v":""},null,{"$f":"IF(OR(E1532=\"\",ISBLANK(E1532)),\"\",VLOOKUP(E1532,Sheet2!A:G,6,FALSE))","v":""},""]
[{"$f":"IF(OR(E1533=\"\",ISBLANK(E1533)),\"\",VLOOKUP(E1533,Sheet2!A:F,2,FALSE))","v":""},{"$f":"IF(OR(E1533=\"\",ISBLANK(E1533)),\"\",VLOOKUP(E1533,Sheet2!A:G,4,FALSE))","v":""},"",{"$f":"IF(OR(E1533=\"\",ISBLANK(E1533)),\"\",VLOOKUP(E1533,Sheet2!A:H,3,FALSE))","v":""},null,{"$f":"IF(OR(E1533=\"\",ISBLANK(E1533)),\"\",VLOOKUP(E1533,Sheet2!A:G,6,FALSE))","v":""},""]
[{"$f":"IF(OR(E1534=\"\",ISBLANK(E1534)),\"\",VLOOKUP(E1534,Sheet2!A:F,2,FALSE))","v":""},{"$f":"IF(OR(E1534=\"\",ISBLANK(E1534)),\"\",VLOOKUP(E1534,Sheet2!A:G,4,FALSE))","v":""},"",{"$f":"IF(OR(E1534=\"\",ISBLANK(E1534)),\"\",VLOOKUP(E1534,Sheet2!A:H,3,FALSE))","v":""},null,{"$f":"IF(OR(E1534=\"\",ISBLANK(E1534)),\"\",VLOOKUP(E1534,Sheet2!A:G,6,FALSE))","v":""},""]
[{"$f":"IF(OR(E1535=\"\",ISBLANK(E1535)),\"\",VLOOKUP(E1535,Sheet2!A:F,2,FALSE))","v":""},{"$f":"IF(OR(E1535=\"\",ISBLANK(E1535)),\"\",VLOOKUP(E1535,Sheet2!A:G,4,FALSE))","v":""},"",{"$f":"IF(OR(E1535=\"\",ISBLANK(E1535)),\"\",VLOOKUP(E1535,Sheet2!A:H,3,FALSE))","v":""},null,{"$f":"IF(OR(E1535=\"\",ISBLANK(E1535)),\"\",VLOOKUP(E1535,Sheet2!A:G,6,FALSE))","v":""},""]
[{"$f":"IF(OR(E1536=\"\",ISBLANK(E1536)),\"\",VLOOKUP(E1536,Sheet2!A:F,2,FALSE))","v":""},{"$f":"IF(OR(E1536=\"\",ISBLANK(E1536)),\"\",VLOOKUP(E1536,Sheet2!A:G,4,FALSE))","v":""},"",{"$f":"IF(OR(E1536=\"\",ISBLANK(E1536)),\"\",VLOOKUP(E1536,Sheet2!A:H,3,FALSE))","v":""},null,{"$f":"IF(OR(E1536=\"\",ISBLANK(E1536)),\"\",VLOOKUP(E1536,Sheet2!A:G,6,FALSE))","v":""},""]
[{"$f":"IF(OR(E1537=\"\",ISBLANK(E1537)),\"\",VLOOKUP(E1537,Sheet2!A:F,2,FALSE))","v":""},{"$f":"IF(OR(E1537=\"\",ISBLANK(E1537)),\"\",VLOOKUP(E1537,Sheet2!A:G,4,FALSE))","v":""},"",{"$f":"IF(OR(E1537=\"\",ISBLANK(E1537)),\"\",VLOOKUP(E1537,Sheet2!A:H,3,FALSE))","v":""},null,{"$f":"IF(OR(E1537=\"\",ISBLANK(E1537)),\"\",VLOOKUP(E1537,Sheet2!A:G,6,FALSE))","v":""},""]
[{"$f":"IF(OR(E1538=\"\",ISBLANK(E1538)),\"\",VLOOKUP(E1538,Sheet2!A:F,2,FALSE))","v":""},{"$f":"IF(OR(E1538=\"\",ISBLANK(E1538)),\"\",VLOOKUP(E1538,Sheet2!A:G,4,FALSE))","v":""},"",{"$f":"IF(OR(E1538=\"\",ISBLANK(E1538)),\"\",VLOOKUP(E1538,Sheet2!A:H,3,FALSE))","v":""},null,{"$f":"IF(OR(E1538=\"\",ISBLANK(E1538)),\"\",VLOOKUP(E1538,Sheet2!A:G,6,FALSE))","v":""},""]
[{"$f":"IF(OR(E1539=\"\",ISBLANK(E1539)),\"\",VLOOKUP(E1539,Sheet2!A:F,2,FALSE))","v":""},{"$f":"IF(OR(E1539=\"\",ISBLANK(E1539)),\"\",VLOOKUP(E1539,Sheet2!A:G,4,FALSE))","v":""},{"$f":"IF(D1539=0,\"\",D1539)","v":""},{"$f":"IF(OR(E1539=\"\",ISBLANK(E1539)),\"\",VLOOKUP(E1539,Sheet2!A:H,3,FALSE))","v":""},null,{"$f":"IF(OR(E1539=\"\",ISBLANK(E1539)),\"\",VLOOKUP(E1539,Sheet2!A:G,6,FALSE))","v":""},{"$f":"IF(F1539=0,\"\",F1539)","v":""}]
[{"$f":"IF(OR(E1540=\"\",ISBLANK(E1540)),\"\",VLOOKUP(E1540,Sheet2!A:F,2,FALSE))","v":""},{"$f":"IF(OR(E1540=\"\",ISBLANK(E1540)),\"\",VLOOKUP(E1540,Sheet2!A:G,4,FALSE))","v":""},"",{"$f":"IF(OR(E1540=\"\",ISBLANK(E1540)),\"\",VLOOKUP(E1540,Sheet2!A:H,3,FALSE))","v":""},null,{"$f":"IF(OR(E1540=\"\",ISBLANK(E1540)),\"\",VLOOKUP(E1540,Sheet2!A:G,6,FALSE))","v":""},""]
[{"$f":"IF(OR(E1541=\"\",ISBLANK(E1541)),\"\",VLOOKUP(E1541,Sheet2!A:F,2,FALSE))","v":""},{"$f":"IF(OR(E1541=\"\",ISBLANK(E1541)),\"\",VLOOKUP(E1541,Sheet2!A:G,4,FALSE))","v":""},"",{"$f":"IF(OR(E1541=\"\",ISBLANK(E1541)),\"\",VLOOKUP(E1541,Sheet2!A:H,3,FALSE))","v":""},null,{"$f":"IF(OR(E1541=\"\",ISBLANK(E1541)),\"\",VLOOKUP(E1541,Sheet2!A:G,6,FALSE))","v":""},""]
[{"$f":"IF(OR(E1542=\"\",ISBLANK(E1542)),\"\",VLOOKUP(E1542,Sheet2!A:F,2,FALSE))","v":""},{"$f":"IF(OR(E1542=\"\",ISBLANK(E1542)),\"\",VLOOKUP(E1542,Sheet2!A:G,4,FALSE))","v":""},"",{"$f":"IF(OR(E1542=\"\",ISBLANK(E1542)),\"\",VLOOKUP(E1542,Sheet2!A:H,3,FALSE))","v":""},null,{"$f":"IF(OR(E1542=\"\",ISBLANK(E1542)),\"\",VLOOKUP(E1542,Sheet2!A:G,6,FALSE))","v":""},""]
[{"$f":"IF(OR(E1543=\"\",ISBLANK(E1543)),\"\",VLOOKUP(E1543,Sheet2!A:F,2,FALSE))","v":""},{"$f":"IF(OR(E1543=\"\",ISBLANK(E1543)),\"\",VLOOKUP(E1543,Sheet2!A:G,4,FALSE))","v":""},"",{"$f":"IF(OR(E1543=\"\",ISBLANK(E1543)),\"\",VLOOKUP(E1543,Sheet2!A:H,3,FALSE))","v":""},null,{"$f":"IF(OR(E1543=\"\",ISBLANK(E1543)),\"\",VLOOKUP(E1543,Sheet2!A:G,6,FALSE))","v":""},""]
[{"$f":"IF(OR(E1544=\"\",ISBLANK(E1544)),\"\",VLOOKUP(E1544,Sheet2!A:F,2,FALSE))","v":""},{"$f":"IF(OR(E1544=\"\",ISBLANK(E1544)),\"\",VLOOKUP(E1544,Sheet2!A:G,4,FALSE))","v":""},"",{"$f":"IF(OR(E1544=\"\",ISBLANK(E1544)),\"\",VLOOKUP(E1544,Sheet2!A:H,3,FALSE))","v":""},null,{"$f":"IF(OR(E1544=\"\",ISBLANK(E1544)),\"\",VLOOKUP(E1544,Sheet2!A:G,6,FALSE))","v":""},""]
[{"$f":"IF(OR(E1545=\"\",ISBLANK(E1545)),\"\",VLOOKUP(E1545,Sheet2!A:F,2,FALSE))","v":""},{"$f":"IF(OR(E1545=\"\",ISBLANK(E1545)),\"\",VLOOKUP(E1545,Sheet2!A:G,4,FALSE))","v":""},"",{"$f":"IF(OR(E1545=\"\",ISBLANK(E1545)),\"\",VLOOKUP(E1545,Sheet2!A:H,3,FALSE))","v":""},null,{"$f":"IF(OR(E1545=\"\",ISBLANK(E1545)),\"\",VLOOKUP(E1545,Sheet2!A:G,6,FALSE))","v":""},""]
[{"$f":"IF(OR(E1546=\"\",ISBLANK(E1546)),\"\",VLOOKUP(E1546,Sheet2!A:F,2,FALSE))","v":""},{"$f":"IF(OR(E1546=\"\",ISBLANK(E1546)),\"\",VLOOKUP(E1546,Sheet2!A:G,4,FALSE))","v":""},"",{"$f":"IF(OR(E1546=\"\",ISBLANK(E1546)),\"\",VLOOKUP(E1546,Sheet2!A:H,3,FALSE))","v":""},null,{"$f":"IF(OR(E1546=\"\",ISBLANK(E1546)),\"\",VLOOKUP(E1546,Sheet2!A:G,6,FALSE))","v":""},""]
[{"$f":"IF(OR(E1547=\"\",ISBLANK(E1547)),\"\",VLOOKUP(E1547,Sheet2!A:F,2,FALSE))","v":""},{"$f":"IF(OR(E1547=\"\",ISBLANK(E1547)),\"\",VLOOKUP(E1547,Sheet2!A:G,4,FALSE))","v":""},"",{"$f":"IF(OR(E1547=\"\",ISBLANK(E1547)),\"\",VLOOKUP(E1547,Sheet2!A:H,3,FALSE))","v":""},null,{"$f":"IF(OR(E1547=\"\",ISBLANK(E1547)),\"\",VLOOKUP(E1547,Sheet2!A:G,6,FALSE))","v":""},""]
[{"$f":"IF(OR(E1548=\"\",ISBLANK(E1548)),\"\",VLOOKUP(E1548,Sheet2!A:F,2,FALSE))","v":""},{"$f":"IF(OR(E1548=\"\",ISBLANK(E1548)),\"\",VLOOKUP(E1548,Sheet2!A:G,4,FALSE))","v":""},"",{"$f":"IF(OR(E1548=\"\",ISBLANK(E1548)),\"\",VLOOKUP(E1548,Sheet2!A:H,3,FALSE))","v":""},null,{"$f":"IF(OR(E1548=\"\",ISBLANK(E1548)),\"\",VLOOKUP(E1548,Sheet2!A:G,6,FALSE))","v":""},""]
[{"$f":"IF(OR(E1549=\"\",ISBLANK(E1549)),\"\",VLOOKUP(E1549,Sheet2!A:F,2,FALSE))","v":""},{"$f":"IF(OR(E1549=\"\",ISBLANK(E1549)),\"\",VLOOKUP(E1549,Sheet2!A:G,4,FALSE))","v":""},"",{"$f":"IF(OR(E1549=\"\",ISBLANK(E1549)),\"\",VLOOKUP(E1549,Sheet2!A:H,3,FALSE))","v":""},null,{"$f":"IF(OR(E1549=\"\",ISBLANK(E1549)),\"\",VLOOKUP(E1549,Sheet2!A:G,6,FALSE))","v":""},""]
[{"$f":"IF(OR(E1550=\"\",ISBLANK(E1550)),\"\",VLOOKUP(E1550,Sheet2!A:F,2,FALSE))","v":""},{"$f":"IF(OR(E1550=\"\",ISBLANK(E1550)),\"\",VLOOKUP(E1550,Sheet2!A:G,4,FALSE))","v":""},"",{"$f":"IF(OR(E1550=\"\",ISBLANK(E1550)),\"\",VLOOKUP(E1550,Sheet2!A:H,3,FALSE))","v":""},null,{"$f":"IF(OR(E1550=\"\",ISBLANK(E1550)),\"\",VLOOKUP(E1550,Sheet2!A:G,6,FALSE))","v":""},""]
[{"$f":"IF(OR(E1551=\"\",ISBLANK(E1551)),\"\",VLOOKUP(E1551,Sheet2!A:F,2,FALSE))","v":""},{"$f":"IF(OR(E1551=\"\",ISBLANK(E1551)),\"\",VLOOKUP(E1551,Sheet2!A:G,4,FALSE))","v":""},"",{"$f":"IF(OR(E1551=\"\",ISBLANK(E1551)),\"\",VLOOKUP(E1551,Sheet2!A:H,3,FALSE))","v":""},null,{"$f":"IF(OR(E1551=\"\",ISBLANK(E1551)),\"\",VLOOKUP(E1551,Sheet2!A:G,6,FALSE))","v":""},""]
[{"$f":"IF(OR(E1552=\"\",ISBLANK(E1552)),\"\",VLOOKUP(E1552,Sheet2!A:F,2,FALSE))","v":""},{"$f":"IF(OR(E1552=\"\",ISBLANK(E1552)),\"\",VLOOKUP(E1552,Sheet2!A:G,4,FALSE))","v":""},"",{"$f":"IF(OR(E1552=\"\",ISBLANK(E1552)),\"\",VLOOKUP(E1552,Sheet2!A:H,3,FALSE))","v":""},null,{"$f":"IF(OR(E1552=\"\",ISBLANK(E1552)),\"\",VLOOKUP(E1552,Sheet2!A:G,6,FALSE))","v":""},""]
[{"$f":"IF(OR(E1553=\"\",ISBLANK(E1553)),\"\",VLOOKUP(E1553,Sheet2!A:F,2,FALSE))","v":""},{"$f":"IF(OR(E1553=\"\",ISBLANK(E1553)),\"\",VLOOKUP(E1553,Sheet2!A:G,4,FALSE))","v":""},"",{"$f":"IF(OR(E1553=\"\",ISBLANK(E1553)),\"\",VLOOKUP(E1553,Sheet2!A:H,3,FALSE))","v":""},null,{"$f":"IF(OR(E1553=\"\",ISBLANK(E1553)),\"\",VLOOKUP(E1553,Sheet2!A:G,6,FALSE))","v":""},""]
[{"$f":"IF(OR(E1554=\"\",ISBLANK(E1554)),\"\",VLOOKUP(E1554,Sheet2!A:F,2,FALSE))","v":""},{"$f":"IF(OR(E1554=\"\",ISBLANK(E1554)),\"\",VLOOKUP(E1554,Sheet2!A:G,4,FALSE))","v":""},"",{"$f":"IF(OR(E1554=\"\",ISBLANK(E1554)),\"\",VLOOKUP(E1554,Sheet2!A:H,3,FALSE))","v":""},null,{"$f":"IF(OR(E1554=\"\",ISBLANK(E1554)),\"\",VLOOKUP(E1554,Sheet2!A:G,6,FALSE))","v":""},""]
[{"$f":"IF(OR(E1555=\"\",ISBLANK(E1555)),\"\",VLOOKUP(E1555,Sheet2!A:F,2,FALSE))","v":""},{"$f":"IF(OR(E1555=\"\",ISBLANK(E1555)),\"\",VLOOKUP(E1555,Sheet2!A:G,4,FALSE))","v":""},"",{"$f":"IF(OR(E1555=\"\",ISBLANK(E1555)),\"\",VLOOKUP(E1555,Sheet2!A:H,3,FALSE))","v":""},null,{"$f":"IF(OR(E1555=\"\",ISBLANK(E1555)),\"\",VLOOKUP(E1555,Sheet2!A:G,6,FALSE))","v":""},""]
[{"$f":"IF(OR(E1556=\"\",ISBLANK(E1556)),\"\",VLOOKUP(E1556,Sheet2!A:F,2,FALSE))","v":""},{"$f":"IF(OR(E1556=\"\",ISBLANK(E1556)),\"\",VLOOKUP(E1556,Sheet2!A:G,4,FALSE))","v":""},"",{"$f":"IF(OR(E1556=\"\",ISBLANK(E1556)),\"\",VLOOKUP(E1556,Sheet2!A:H,3,FALSE))","v":""},null,{"$f":"IF(OR(E1556=\"\",ISBLANK(E1556)),\"\",VLOOKUP(E1556,Sheet2!A:G,6,FALSE))","v":""},""]
[{"$f":"IF(OR(E1557=\"\",ISBLANK(E1557)),\"\",VLOOKUP(E1557,Sheet2!A:F,2,FALSE))","v":""},{"$f":"IF(OR(E1557=\"\",ISBLANK(E1557)),\"\",VLOOKUP(E1557,Sheet2!A:G,4,FALSE))","v":""},"",{"$f":"IF(OR(E1557=\"\",ISBLANK(E1557)),\"\",VLOOKUP(E1557,Sheet2!A:H,3,FALSE))","v":""},null,{"$f":"IF(OR(E1557=\"\",ISBLANK(E1557)),\"\",VLOOKUP(E1557,Sheet2!A:G,6,FALSE))","v":""},""]
[{"$f":"IF(OR(E1558=\"\",ISBLANK(E1558)),\"\",VLOOKUP(E1558,Sheet2!A:F,2,FALSE))","v":""},{"$f":"IF(OR(E1558=\"\",ISBLANK(E1558)),\"\",VLOOKUP(E1558,Sheet2!A:G,4,FALSE))","v":""},"",{"$f":"IF(OR(E1558=\"\",ISBLANK(E1558)),\"\",VLOOKUP(E1558,Sheet2!A:H,3,FALSE))","v":""},null,{"$f":"IF(OR(E1558=\"\",ISBLANK(E1558)),\"\",VLOOKUP(E1558,Sheet2!A:G,6,FALSE))","v":""},""]
[{"$f":"IF(OR(E1559=\"\",ISBLANK(E1559)),\"\",VLOOKUP(E1559,Sheet2!A:F,2,FALSE))","v":""},{"$f":"IF(OR(E1559=\"\",ISBLANK(E1559)),\"\",VLOOKUP(E1559,Sheet2!A:G,4,FALSE))","v":""},"",{"$f":"IF(OR(E1559=\"\",ISBLANK(E1559)),\"\",VLOOKUP(E1559,Sheet2!A:H,3,FALSE))","v":""},null,{"$f":"IF(OR(E1559=\"\",ISBLANK(E1559)),\"\",VLOOKUP(E1559,Sheet2!A:G,6,FALSE))","v":""},""]
[{"$f":"IF(OR(E1560=\"\",ISBLANK(E1560)),\"\",VLOOKUP(E1560,Sheet2!A:F,2,FALSE))","v":""},{"$f":"IF(OR(E1560=\"\",ISBLANK(E1560)),\"\",VLOOKUP(E1560,Sheet2!A:G,4,FALSE))","v":""},"",{"$f":"IF(OR(E1560=\"\",ISBLANK(E1560)),\"\",VLOOKUP(E1560,Sheet2!A:H,3,FALSE))","v":""},null,{"$f":"IF(OR(E1560=\"\",ISBLANK(E1560)),\"\",VLOOKUP(E1560,Sheet2!A:G,6,FALSE))","v":""},""]
[{"$f":"IF(OR(E1561=\"\",ISBLANK(E1561)),\"\",VLOOKUP(E1561,Sheet2!A:F,2,FALSE))","v":""},{"$f":"IF(OR(E1561=\"\",ISBLANK(E1561)),\"\",VLOOKUP(E1561,Sheet2!A:G,4,FALSE))","v":""},"",{"$f":"IF(OR(E1561=\"\",ISBLANK(E1561)),\"\",VLOOKUP(E1561,Sheet2!A:H,3,FALSE))","v":""},null,{"$f":"IF(OR(E1561=\"\",ISBLANK(E1561)),\"\",VLOOKUP(E1561,Sheet2!A:G,6,FALSE))","v":""},""]
[{"$f":"IF(OR(E1562=\"\",ISBLANK(E1562)),\"\",VLOOKUP(E1562,Sheet2!A:F,2,FALSE))","v":""},{"$f":"IF(OR(E1562=\"\",ISBLANK(E1562)),\"\",VLOOKUP(E1562,Sheet2!A:G,4,FALSE))","v":""},"",{"$f":"IF(OR(E1562=\"\",ISBLANK(E1562)),\"\",VLOOKUP(E1562,Sheet2!A:H,3,FALSE))","v":""},null,{"$f":"IF(OR(E1562=\"\",ISBLANK(E1562)),\"\",VLOOKUP(E1562,Sheet2!A:G,6,FALSE))","v":""},""]
[{"$f":"IF(OR(E1563=\"\",ISBLANK(E1563)),\"\",VLOOKUP(E1563,Sheet2!A:F,2,FALSE))","v":""},{"$f":"IF(OR(E1563=\"\",ISBLANK(E1563)),\"\",VLOOKUP(E1563,Sheet2!A:G,4,FALSE))","v":""},"",{"$f":"IF(OR(E1563=\"\",ISBLANK(E1563)),\"\",VLOOKUP(E1563,Sheet2!A:H,3,FALSE))","v":""},null,{"$f":"IF(OR(E1563=\"\",ISBLANK(E1563)),\"\",VLOOKUP(E1563,Sheet2!A:G,6,FALSE))","v":""},""]
[{"$f":"IF(OR(E1564=\"\",ISBLANK(E1564)),\"\",VLOOKUP(E1564,Sheet2!A:F,2,FALSE))","v":""},{"$f":"IF(OR(E1564=\"\",ISBLANK(E1564)),\"\",VLOOKUP(E1564,Sheet2!A:G,4,FALSE))","v":""},"",{"$f":"IF(OR(E1564=\"\",ISBLANK(E1564)),\"\",VLOOKUP(E1564,Sheet2!A:H,3,FALSE))","v":""},null,{"$f":"IF(OR(E1564=\"\",ISBLANK(E1564)),\"\",VLOOKUP(E1564,Sheet2!A:G,6,FALSE))","v":""},""]
[{"$f":"IF(OR(E1565=\"\",ISBLANK(E1565)),\"\",VLOOKUP(E1565,Sheet2!A:F,2,FALSE))","v":""},{"$f":"IF(OR(E1565=\"\",ISBLANK(E1565)),\"\",VLOOKUP(E1565,Sheet2!A:G,4,FALSE))","v":""},"",{"$f":"IF(OR(E1565=\"\",ISBLANK(E1565)),\"\",VLOOKUP(E1565,Sheet2!A:H,3,FALSE))","v":""},null,{"$f":"IF(OR(E1565=\"\",ISBLANK(E1565)),\"\",VLOOKUP(E1565,Sheet2!A:G,6,FALSE))","v":""},""]
[{"$f":"IF(OR(E1566=\"\",ISBLANK(E1566)),\"\",VLOOKUP(E1566,Sheet2!A:F,2,FALSE))","v":""},{"$f":"IF(OR(E1566=\"\",ISBLANK(E1566)),\"\",VLOOKUP(E1566,Sheet2!A:G,4,FALSE))","v":""},"",{"$f":"IF(OR(E1566=\"\",ISBLANK(E1566)),\"\",VLOOKUP(E1566,Sheet2!A:H,3,FALSE))","v":""},null,{"$f":"IF(OR(E1566=\"\",ISBLANK(E1566)),\"\",VLOOKUP(E1566,Sheet2!A:G,6,FALSE))","v":""},""]
[{"$f":"IF(OR(E1567=\"\",ISBLANK(E1567)),\"\",VLOOKUP(E1567,Sheet2!A:F,2,FALSE))","v":""},{"$f":"IF(OR(E1567=\"\",ISBLANK(E1567)),\"\",VLOOKUP(E1567,Sheet2!A:G,4,FALSE))","v":""},"",{"$f":"IF(OR(E1567=\"\",ISBLANK(E1567)),\"\",VLOOKUP(E1567,Sheet2!A:H,3,FALSE))","v":""},null,{"$f":"IF(OR(E1567=\"\",ISBLANK(E1567)),\"\",VLOOKUP(E1567,Sheet2!A:G,6,FALSE))","v":""},""]
[{"$f":"IF(OR(E1568=\"\",ISBLANK(E1568)),\"\",VLOOKUP(E1568,Sheet2!A:F,2,FALSE))","v":""},{"$f":"IF(OR(E1568=\"\",ISBLANK(E1568)),\"\",VLOOKUP(E1568,Sheet2!A:G,4,FALSE))","v":""},"",{"$f":"IF(OR(E1568=\"\",ISBLANK(E1568)),\"\",VLOOKUP(E1568,Sheet2!A:H,3,FALSE))","v":""},null,{"$f":"IF(OR(E1568=\"\",ISBLANK(E1568)),\"\",VLOOKUP(E1568,Sheet2!A:G,6,FALSE))","v":""},""]
[{"$f":"IF(OR(E1569=\"\",ISBLANK(E1569)),\"\",VLOOKUP(E1569,Sheet2!A:F,2,FALSE))","v":""},{"$f":"IF(OR(E1569=\"\",ISBLANK(E1569)),\"\",VLOOKUP(E1569,Sheet2!A:G,4,FALSE))","v":""},"",{"$f":"IF(OR(E1569=\"\",ISBLANK(E1569)),\"\",VLOOKUP(E1569,Sheet2!A:H,3,FALSE))","v":""},null,{"$f":"IF(OR(E1569=\"\",ISBLANK(E1569)),\"\",VLOOKUP(E1569,Sheet2!A:G,6,FALSE))","v":""},""]
[{"$f":"IF(OR(E1570=\"\",ISBLANK(E1570)),\"\",VLOOKUP(E1570,Sheet2!A:F,2,FALSE))","v":""},{"$f":"IF(OR(E1570=\"\",ISBLANK(E1570)),\"\",VLOOKUP(E1570,Sheet2!A:G,4,FALSE))","v":""},"",{"$f":"IF(OR(E1570=\"\",ISBLANK(E1570)),\"\",VLOOKUP(E1570,Sheet2!A:H,3,FALSE))","v":""},null,{"$f":"IF(OR(E1570=\"\",ISBLANK(E1570)),\"\",VLOOKUP(E1570,Sheet2!A:G,6,FALSE))","v":""},""]
[{"$f":"IF(OR(E1571=\"\",ISBLANK(E1571)),\"\",VLOOKUP(E1571,Sheet2!A:F,2,FALSE))","v":""},{"$f":"IF(OR(E1571=\"\",ISBLANK(E1571)),\"\",VLOOKUP(E1571,Sheet2!A:G,4,FALSE))","v":""},"",{"$f":"IF(OR(E1571=\"\",ISBLANK(E1571)),\"\",VLOOKUP(E1571,Sheet2!A:H,3,FALSE))","v":""},null,{"$f":"IF(OR(E1571=\"\",ISBLANK(E1571)),\"\",VLOOKUP(E1571,Sheet2!A:G,6,FALSE))","v":""},""]
[{"$f":"IF(OR(E1572=\"\",ISBLANK(E1572)),\"\",VLOOKUP(E1572,Sheet2!A:F,2,FALSE))","v":""},{"$f":"IF(OR(E1572=\"\",ISBLANK(E1572)),\"\",VLOOKUP(E1572,Sheet2!A:G,4,FALSE))","v":""},"",{"$f":"IF(OR(E1572=\"\",ISBLANK(E1572)),\"\",VLOOKUP(E1572,Sheet2!A:H,3,FALSE))","v":""},null,{"$f":"IF(OR(E1572=\"\",ISBLANK(E1572)),\"\",VLOOKUP(E1572,Sheet2!A:G,6,FALSE))","v":""},""]
[{"$f":"IF(OR(E1573=\"\",ISBLANK(E1573)),\"\",VLOOKUP(E1573,Sheet2!A:F,2,FALSE))","v":""},{"$f":"IF(OR(E1573=\"\",ISBLANK(E1573)),\"\",VLOOKUP(E1573,Sheet2!A:G,4,FALSE))","v":""},"",{"$f":"IF(OR(E1573=\"\",ISBLANK(E1573)),\"\",VLOOKUP(E1573,Sheet2!A:H,3,FALSE))","v":""},null,{"$f":"IF(OR(E1573=\"\",ISBLANK(E1573)),\"\",VLOOKUP(E1573,Sheet2!A:G,6,FALSE))","v":""},""]
[{"$f":"IF(OR(E1574=\"\",ISBLANK(E1574)),\"\",VLOOKUP(E1574,Sheet2!A:F,2,FALSE))","v":""},{"$f":"IF(OR(E1574=\"\",ISBLANK(E1574)),\"\",VLOOKUP(E1574,Sheet2!A:G,4,FALSE))","v":""},"",{"$f":"IF(OR(E1574=\"\",ISBLANK(E1574)),\"\",VLOOKUP(E1574,Sheet2!A:H,3,FALSE))","v":""},null,{"$f":"IF(OR(E1574=\"\",ISBLANK(E1574)),\"\",VLOOKUP(E1574,Sheet2!A:G,6,FALSE))","v":""},""]
[{"$f":"IF(OR(E1575=\"\",ISBLANK(E1575)),\"\",VLOOKUP(E1575,Sheet2!A:F,2,FALSE))","v":""},{"$f":"IF(OR(E1575=\"\",ISBLANK(E1575)),\"\",VLOOKUP(E1575,Sheet2!A:G,4,FALSE))","v":""},"",{"$f":"IF(OR(E1575=\"\",ISBLANK(E1575)),\"\",VLOOKUP(E1575,Sheet2!A:H,3,FALSE))","v":""},null,{"$f":"IF(OR(E1575=\"\",ISBLANK(E1575)),\"\",VLOOKUP(E1575,Sheet2!A:G,6,FALSE))","v":""},""]
[{"$f":"IF(OR(E1576=\"\",ISBLANK(E1576)),\"\",VLOOKUP(E1576,Sheet2!A:F,2,FALSE))","v":""},{"$f":"IF(OR(E1576=\"\",ISBLANK(E1576)),\"\",VLOOKUP(E1576,Sheet2!A:G,4,FALSE))","v":""},"",{"$f":"IF(OR(E1576=\"\",ISBLANK(E1576)),\"\",VLOOKUP(E1576,Sheet2!A:H,3,FALSE))","v":""},null,{"$f":"IF(OR(E1576=\"\",ISBLANK(E1576)),\"\",VLOOKUP(E1576,Sheet2!A:G,6,FALSE))","v":""},""]
[{"$f":"IF(OR(E1577=\"\",ISBLANK(E1577)),\"\",VLOOKUP(E1577,Sheet2!A:F,2,FALSE))","v":""},{"$f":"IF(OR(E1577=\"\",ISBLANK(E1577)),\"\",VLOOKUP(E1577,Sheet2!A:G,4,FALSE))","v":""},"",{"$f":"IF(OR(E1577=\"\",ISBLANK(E1577)),\"\",VLOOKUP(E1577,Sheet2!A:H,3,FALSE))","v":""},null,{"$f":"IF(OR(E1577=\"\",ISBLANK(E1577)),\"\",VLOOKUP(E1577,Sheet2!A:G,6,FALSE))","v":""},""]
[{"$f":"IF(OR(E1578=\"\",ISBLANK(E1578)),\"\",VLOOKUP(E1578,Sheet2!A:F,2,FALSE))","v":""},{"$f":"IF(OR(E1578=\"\",ISBLANK(E1578)),\"\",VLOOKUP(E1578,Sheet2!A:G,4,FALSE))","v":""},"",{"$f":"IF(OR(E1578=\"\",ISBLANK(E1578)),\"\",VLOOKUP(E1578,Sheet2!A:H,3,FALSE))","v":""},null,{"$f":"IF(OR(E1578=\"\",ISBLANK(E1578)),\"\",VLOOKUP(E1578,Sheet2!A:G,6,FALSE))","v":""},""]
[{"$f":"IF(OR(E1579=\"\",ISBLANK(E1579)),\"\",VLOOKUP(E1579,Sheet2!A:F,2,FALSE))","v":""},{"$f":"IF(OR(E1579=\"\",ISBLANK(E1579)),\"\",VLOOKUP(E1579,Sheet2!A:G,4,FALSE))","v":""},"",{"$f":"IF(OR(E1579=\"\",ISBLANK(E1579)),\"\",VLOOKUP(E1579,Sheet2!A:H,3,FALSE))","v":""},null,{"$f":"IF(OR(E1579=\"\",ISBLANK(E1579)),\"\",VLOOKUP(E1579,Sheet2!A:G,6,FALSE))","v":""},""]
[{"$f":"IF(OR(E1580=\"\",ISBLANK(E1580)),\"\",VLOOKUP(E1580,Sheet2!A:F,2,FALSE))","v":""},{"$f":"IF(OR(E1580=\"\",ISBLANK(E1580)),\"\",VLOOKUP(E1580,Sheet2!A:G,4,FALSE))","v":""},"",{"$f":"IF(OR(E1580=\"\",ISBLANK(E1580)),\"\",VLOOKUP(E1580,Sheet2!A:H,3,FALSE))","v":""},null,{"$f":"IF(OR(E1580=\"\",ISBLANK(E1580)),\"\",VLOOKUP(E1580,Sheet2!A:G,6,FALSE))","v":""},""]
[{"$f":"IF(OR(E1581=\"\",ISBLANK(E1581)),\"\",VLOOKUP(E1581,Sheet2!A:F,2,FALSE))","v":""},{"$f":"IF(OR(E1581=\"\",ISBLANK(E1581)),\"\",VLOOKUP(E1581,Sheet2!A:G,4,FALSE))","v":""},"",{"$f":"IF(OR(E1581=\"\",ISBLANK(E1581)),\"\",VLOOKUP(E1581,Sheet2!A:H,3,FALSE))","v":""},null,{"$f":"IF(OR(E1581=\"\",ISBLANK(E1581)),\"\",VLOOKUP(E1581,Sheet2!A:G,6,FALSE))","v":""},""]
[{"$f":"IF(OR(E1582=\"\",ISBLANK(E1582)),\"\",VLOOKUP(E1582,Sheet2!A:F,2,FALSE))","v":""},{"$f":"IF(OR(E1582=\"\",ISBLANK(E1582)),\"\",VLOOKUP(E1582,Sheet2!A:G,4,FALSE))","v":""},"",{"$f":"IF(OR(E1582=\"\",ISBLANK(E1582)),\"\",VLOOKUP(E1582,Sheet2!A:H,3,FALSE))","v":""},null,{"$f":"IF(OR(E1582=\"\",ISBLANK(E1582)),\"\",VLOOKUP(E1582,Sheet2!A:G,6,FALSE))","v":""},""]
[{"$f":"IF(OR(E1583=\"\",ISBLANK(E1583)),\"\",VLOOKUP(E1583,Sheet2!A:F,2,FALSE))","v":""},{"$f":"IF(OR(E1583=\"\",ISBLANK(E1583)),\"\",VLOOKUP(E1583,Sheet2!A:G,4,FALSE))","v":""},"",{"$f":"IF(OR(E1583=\"\",ISBLANK(E1583)),\"\",VLOOKUP(E1583,Sheet2!A:H,3,FALSE))","v":""},null,{"$f":"IF(OR(E1583=\"\",ISBLANK(E1583)),\"\",VLOOKUP(E1583,Sheet2!A:G,6,FALSE))","v":""},""]
[{"$f":"IF(OR(E1584=\"\",ISBLANK(E1584)),\"\",VLOOKUP(E1584,Sheet2!A:F,2,FALSE))","v":""},{"$f":"IF(OR(E1584=\"\",ISBLANK(E1584)),\"\",VLOOKUP(E1584,Sheet2!A:G,4,FALSE))","v":""},"",{"$f":"IF(OR(E1584=\"\",ISBLANK(E1584)),\"\",VLOOKUP(E1584,Sheet2!A:H,3,FALSE))","v":""},null,{"$f":"IF(OR(E1584=\"\",ISBLANK(E1584)),\"\",VLOOKUP(E1584,Sheet2!A:G,6,FALSE))","v":""},""]
[{"$f":"IF(OR(E1585=\"\",ISBLANK(E1585)),\"\",VLOOKUP(E1585,Sheet2!A:F,2,FALSE))","v":""},{"$f":"IF(OR(E1585=\"\",ISBLANK(E1585)),\"\",VLOOKUP(E1585,Sheet2!A:G,4,FALSE))","v":""},"",{"$f":"IF(OR(E1585=\"\",ISBLANK(E1585)),\"\",VLOOKUP(E1585,Sheet2!A:H,3,FALSE))","v":""},null,{"$f":"IF(OR(E1585=\"\",ISBLANK(E1585)),\"\",VLOOKUP(E1585,Sheet2!A:G,6,FALSE))","v":""},""]
[{"$f":"IF(OR(E1586=\"\",ISBLANK(E1586)),\"\",VLOOKUP(E1586,Sheet2!A:F,2,FALSE))","v":""},{"$f":"IF(OR(E1586=\"\",ISBLANK(E1586)),\"\",VLOOKUP(E1586,Sheet2!A:G,4,FALSE))","v":""},"",{"$f":"IF(OR(E1586=\"\",ISBLANK(E1586)),\"\",VLOOKUP(E1586,Sheet2!A:H,3,FALSE))","v":""},null,{"$f":"IF(OR(E1586=\"\",ISBLANK(E1586)),\"\",VLOOKUP(E1586,Sheet2!A:G,6,FALSE))","v":""},""]
[{"$f":"IF(OR(E1587=\"\",ISBLANK(E1587)),\"\",VLOOKUP(E1587,Sheet2!A:F,2,FALSE))","v":""},{"$f":"IF(OR(E1587=\"\",ISBLANK(E1587)),\"\",VLOOKUP(E1587,Sheet2!A:G,4,FALSE))","v":""},"",{"$f":"IF(OR(E1587=\"\",ISBLANK(E1587)),\"\",VLOOKUP(E1587,Sheet2!A:H,3,FALSE))","v":""},null,{"$f":"IF(OR(E1587=\"\",ISBLANK(E1587)),\"\",VLOOKUP(E1587,Sheet2!A:G,6,FALSE))","v":""},""]
[{"$f":"IF(OR(E1588=\"\",ISBLANK(E1588)),\"\",VLOOKUP(E1588,Sheet2!A:F,2,FALSE))","v":""},{"$f":"IF(OR(E1588=\"\",ISBLANK(E1588)),\"\",VLOOKUP(E1588,Sheet2!A:G,4,FALSE))","v":""},"",{"$f":"IF(OR(E1588=\"\",ISBLANK(E1588)),\"\",VLOOKUP(E1588,Sheet2!A:H,3,FALSE))","v":""},null,{"$f":"IF(OR(E1588=\"\",ISBLANK(E1588)),\"\",VLOOKUP(E1588,Sheet2!A:G,6,FALSE))","v":""},""]
[{"$f":"IF(OR(E1589=\"\",ISBLANK(E1589)),\"\",VLOOKUP(E1589,Sheet2!A:F,2,FALSE))","v":""},{"$f":"IF(OR(E1589=\"\",ISBLANK(E1589)),\"\",VLOOKUP(E1589,Sheet2!A:G,4,FALSE))","v":""},"",{"$f":"IF(OR(E1589=\"\",ISBLANK(E1589)),\"\",VLOOKUP(E1589,Sheet2!A:H,3,FALSE))","v":""},null,{"$f":"IF(OR(E1589=\"\",ISBLANK(E1589)),\"\",VLOOKUP(E1589,Sheet2!A:G,6,FALSE))","v":""},""]
[{"$f":"IF(OR(E1590=\"\",ISBLANK(E1590)),\"\",VLOOKUP(E1590,Sheet2!A:F,2,FALSE))","v":""},{"$f":"IF(OR(E1590=\"\",ISBLANK(E1590)),\"\",VLOOKUP(E1590,Sheet2!A:G,4,FALSE))","v":""},"",{"$f":"IF(OR(E1590=\"\",ISBLANK(E1590)),\"\",VLOOKUP(E1590,Sheet2!A:H,3,FALSE))","v":""},null,{"$f":"IF(OR(E1590=\"\",ISBLANK(E1590)),\"\",VLOOKUP(E1590,Sheet2!A:G,6,FALSE))","v":""},""]
[{"$f":"IF(OR(E1591=\"\",ISBLANK(E1591)),\"\",VLOOKUP(E1591,Sheet2!A:F,2,FALSE))","v":""},{"$f":"IF(OR(E1591=\"\",ISBLANK(E1591)),\"\",VLOOKUP(E1591,Sheet2!A:G,4,FALSE))","v":""},"",{"$f":"IF(OR(E1591=\"\",ISBLANK(E1591)),\"\",VLOOKUP(E1591,Sheet2!A:H,3,FALSE))","v":""},null,{"$f":"IF(OR(E1591=\"\",ISBLANK(E1591)),\"\",VLOOKUP(E1591,Sheet2!A:G,6,FALSE))","v":""},""]
[{"$f":"IF(OR(E1592=\"\",ISBLANK(E1592)),\"\",VLOOKUP(E1592,Sheet2!A:F,2,FALSE))","v":""},{"$f":"IF(OR(E1592=\"\",ISBLANK(E1592)),\"\",VLOOKUP(E1592,Sheet2!A:G,4,FALSE))","v":""},"",{"$f":"IF(OR(E1592=\"\",ISBLANK(E1592)),\"\",VLOOKUP(E1592,Sheet2!A:H,3,FALSE))","v":""},null,{"$f":"IF(OR(E1592=\"\",ISBLANK(E1592)),\"\",VLOOKUP(E1592,Sheet2!A:G,6,FALSE))","v":""},""]
[{"$f":"IF(OR(E1593=\"\",ISBLANK(E1593)),\"\",VLOOKUP(E1593,Sheet2!A:F,2,FALSE))","v":""},{"$f":"IF(OR(E1593=\"\",ISBLANK(E1593)),\"\",VLOOKUP(E1593,Sheet2!A:G,4,FALSE))","v":""},"",{"$f":"IF(OR(E1593=\"\",ISBLANK(E1593)),\"\",VLOOKUP(E1593,Sheet2!A:H,3,FALSE))","v":""},null,{"$f":"IF(OR(E1593=\"\",ISBLANK(E1593)),\"\",VLOOKUP(E1593,Sheet2!A:G,6,FALSE))","v":""},""]
[{"$f":"IF(OR(E1594=\"\",ISBLANK(E1594)),\"\",VLOOKUP(E1594,Sheet2!A:F,2,FALSE))","v":""},{"$f":"IF(OR(E1594=\"\",ISBLANK(E1594)),\"\",VLOOKUP(E1594,Sheet2!A:G,4,FALSE))","v":""},"",{"$f":"IF(OR(E1594=\"\",ISBLANK(E1594)),\"\",VLOOKUP(E1594,Sheet2!A:H,3,FALSE))","v":""},null,{"$f":"IF(OR(E1594=\"\",ISBLANK(E1594)),\"\",VLOOKUP(E1594,Sheet2!A:G,6,FALSE))","v":""},""]
[{"$f":"IF(OR(E1595=\"\",ISBLANK(E1595)),\"\",VLOOKUP(E1595,Sheet2!A:F,2,FALSE))","v":""},{"$f":"IF(OR(E1595=\"\",ISBLANK(E1595)),\"\",VLOOKUP(E1595,Sheet2!A:G,4,FALSE))","v":""},"",{"$f":"IF(OR(E1595=\"\",ISBLANK(E1595)),\"\",VLOOKUP(E1595,Sheet2!A:H,3,FALSE))","v":""},null,{"$f":"IF(OR(E1595=\"\",ISBLANK(E1595)),\"\",VLOOKUP(E1595,Sheet2!A:G,6,FALSE))","v":""},""]
[{"$f":"IF(OR(E1596=\"\",ISBLANK(E1596)),\"\",VLOOKUP(E1596,Sheet2!A:F,2,FALSE))","v":""},{"$f":"IF(OR(E1596=\"\",ISBLANK(E1596)),\"\",VLOOKUP(E1596,Sheet2!A:G,4,FALSE))","v":""},"",{"$f":"IF(OR(E1596=\"\",ISBLANK(E1596)),\"\",VLOOKUP(E1596,Sheet2!A:H,3,FALSE))","v":""},null,{"$f":"IF(OR(E1596=\"\",ISBLANK(E1596)),\"\",VLOOKUP(E1596,Sheet2!A:G,6,FALSE))","v":""},""]
[{"$f":"IF(OR(E1597=\"\",ISBLANK(E1597)),\"\",VLOOKUP(E1597,Sheet2!A:F,2,FALSE))","v":""},{"$f":"IF(OR(E1597=\"\",ISBLANK(E1597)),\"\",VLOOKUP(E1597,Sheet2!A:G,4,FALSE))","v":""},"",{"$f":"IF(OR(E1597=\"\",ISBLANK(E1597)),\"\",VLOOKUP(E1597,Sheet2!A:H,3,FALSE))","v":""},null,{"$f":"IF(OR(E1597=\"\",ISBLANK(E1597)),\"\",VLOOKUP(E1597,Sheet2!A:G,6,FALSE))","v":""},""]
[{"$f":"IF(OR(E1598=\"\",ISBLANK(E1598)),\"\",VLOOKUP(E1598,Sheet2!A:F,2,FALSE))","v":""},{"$f":"IF(OR(E1598=\"\",ISBLANK(E1598)),\"\",VLOOKUP(E1598,Sheet2!A:G,4,FALSE))","v":""},"",{"$f":"IF(OR(E1598=\"\",ISBLANK(E1598)),\"\",VLOOKUP(E1598,Sheet2!A:H,3,FALSE))","v":""},null,{"$f":"IF(OR(E1598=\"\",ISBLANK(E1598)),\"\",VLOOKUP(E1598,Sheet2!A:G,6,FALSE))","v":""},""]
[{"$f":"IF(OR(E1599=\"\",ISBLANK(E1599)),\"\",VLOOKUP(E1599,Sheet2!A:F,2,FALSE))","v":""},{"$f":"IF(OR(E1599=\"\",ISBLANK(E1599)),\"\",VLOOKUP(E1599,Sheet2!A:G,4,FALSE))","v":""},"",{"$f":"IF(OR(E1599=\"\",ISBLANK(E1599)),\"\",VLOOKUP(E1599,Sheet2!A:H,3,FALSE))","v":""},null,{"$f":"IF(OR(E1599=\"\",ISBLANK(E1599)),\"\",VLOOKUP(E1599,Sheet2!A:G,6,FALSE))","v":""},""]
[{"$f":"IF(OR(E1600=\"\",ISBLANK(E1600)),\"\",VLOOKUP(E1600,Sheet2!A:F,2,FALSE))","v":""},{"$f":"IF(OR(E1600=\"\",ISBLANK(E1600)),\"\",VLOOKUP(E1600,Sheet2!A:G,4,FALSE))","v":""},"",{"$f":"IF(OR(E1600=\"\",ISBLANK(E1600)),\"\",VLOOKUP(E1600,Sheet2!A:H,3,FALSE))","v":""},null,{"$f":"IF(OR(E1600=\"\",ISBLANK(E1600)),\"\",VLOOKUP(E1600,Sheet2!A:G,6,FALSE))","v":""},""]
[{"$f":"IF(OR(E1601=\"\",ISBLANK(E1601)),\"\",VLOOKUP(E1601,Sheet2!A:F,2,FALSE))","v":""},{"$f":"IF(OR(E1601=\"\",ISBLANK(E1601)),\"\",VLOOKUP(E1601,Sheet2!A:G,4,FALSE))","v":""},"",{"$f":"IF(OR(E1601=\"\",ISBLANK(E1601)),\"\",VLOOKUP(E1601,Sheet2!A:H,3,FALSE))","v":""},null,{"$f":"IF(OR(E1601=\"\",ISBLANK(E1601)),\"\",VLOOKUP(E1601,Sheet2!A:G,6,FALSE))","v":""},""]
[{"$f":"IF(OR(E1602=\"\",ISBLANK(E1602)),\"\",VLOOKUP(E1602,Sheet2!A:F,2,FALSE))","v":""},{"$f":"IF(OR(E1602=\"\",ISBLANK(E1602)),\"\",VLOOKUP(E1602,Sheet2!A:G,4,FALSE))","v":""},"",{"$f":"IF(OR(E1602=\"\",ISBLANK(E1602)),\"\",VLOOKUP(E1602,Sheet2!A:H,3,FALSE))","v":""},null,{"$f":"IF(OR(E1602=\"\",ISBLANK(E1602)),\"\",VLOOKUP(E1602,Sheet2!A:G,6,FALSE))","v":""},""]
[{"$f":"IF(OR(E1603=\"\",ISBLANK(E1603)),\"\",VLOOKUP(E1603,Sheet2!A:F,2,FALSE))","v":""},{"$f":"IF(OR(E1603=\"\",ISBLANK(E1603)),\"\",VLOOKUP(E1603,Sheet2!A:G,4,FALSE))","v":""},{"$f":"IF(D1603=0,\"\",D1603)","v":""},{"$f":"IF(OR(E1603=\"\",ISBLANK(E1603)),\"\",VLOOKUP(E1603,Sheet2!A:H,3,FALSE))","v":""},null,{"$f":"IF(OR(E1603=\"\",ISBLANK(E1603)),\"\",VLOOKUP(E1603,Sheet2!A:G,6,FALSE))","v":""},{"$f":"IF(F1603=0,\"\",F1603)","v":""}]
[{"$f":"IF(OR(E1604=\"\",ISBLANK(E1604)),\"\",VLOOKUP(E1604,Sheet2!A:F,2,FALSE))","v":""},{"$f":"IF(OR(E1604=\"\",ISBLANK(E1604)),\"\",VLOOKUP(E1604,Sheet2!A:G,4,FALSE))","v":""},"",{"$f":"IF(OR(E1604=\"\",ISBLANK(E1604)),\"\",VLOOKUP(E1604,Sheet2!A:H,3,FALSE))","v":""},null,{"$f":"IF(OR(E1604=\"\",ISBLANK(E1604)),\"\",VLOOKUP(E1604,Sheet2!A:G,6,FALSE))","v":""},""]
[{"$f":"IF(OR(E1605=\"\",ISBLANK(E1605)),\"\",VLOOKUP(E1605,Sheet2!A:F,2,FALSE))","v":""},{"$f":"IF(OR(E1605=\"\",ISBLANK(E1605)),\"\",VLOOKUP(E1605,Sheet2!A:G,4,FALSE))","v":""},"",{"$f":"IF(OR(E1605=\"\",ISBLANK(E1605)),\"\",VLOOKUP(E1605,Sheet2!A:H,3,FALSE))","v":""},null,{"$f":"IF(OR(E1605=\"\",ISBLANK(E1605)),\"\",VLOOKUP(E1605,Sheet2!A:G,6,FALSE))","v":""},""]
[{"$f":"IF(OR(E1606=\"\",ISBLANK(E1606)),\"\",VLOOKUP(E1606,Sheet2!A:F,2,FALSE))","v":""},{"$f":"IF(OR(E1606=\"\",ISBLANK(E1606)),\"\",VLOOKUP(E1606,Sheet2!A:G,4,FALSE))","v":""},"",{"$f":"IF(OR(E1606=\"\",ISBLANK(E1606)),\"\",VLOOKUP(E1606,Sheet2!A:H,3,FALSE))","v":""},null,{"$f":"IF(OR(E1606=\"\",ISBLANK(E1606)),\"\",VLOOKUP(E1606,Sheet2!A:G,6,FALSE))","v":""},""]
[{"$f":"IF(OR(E1607=\"\",ISBLANK(E1607)),\"\",VLOOKUP(E1607,Sheet2!A:F,2,FALSE))","v":""},{"$f":"IF(OR(E1607=\"\",ISBLANK(E1607)),\"\",VLOOKUP(E1607,Sheet2!A:G,4,FALSE))","v":""},"",{"$f":"IF(OR(E1607=\"\",ISBLANK(E1607)),\"\",VLOOKUP(E1607,Sheet2!A:H,3,FALSE))","v":""},null,{"$f":"IF(OR(E1607=\"\",ISBLANK(E1607)),\"\",VLOOKUP(E1607,Sheet2!A:G,6,FALSE))","v":""},""]
[{"$f":"IF(OR(E1608=\"\",ISBLANK(E1608)),\"\",VLOOKUP(E1608,Sheet2!A:F,2,FALSE))","v":""},{"$f":"IF(OR(E1608=\"\",ISBLANK(E1608)),\"\",VLOOKUP(E1608,Sheet2!A:G,4,FALSE))","v":""},"",{"$f":"IF(OR(E1608=\"\",ISBLANK(E1608)),\"\",VLOOKUP(E1608,Sheet2!A:H,3,FALSE))","v":""},null,{"$f":"IF(OR(E1608=\"\",ISBLANK(E1608)),\"\",VLOOKUP(E1608,Sheet2!A:G,6,FALSE))","v":""},""]
[{"$f":"IF(OR(E1609=\"\",ISBLANK(E1609)),\"\",VLOOKUP(E1609,Sheet2!A:F,2,FALSE))","v":""},{"$f":"IF(OR(E1609=\"\",ISBLANK(E1609)),\"\",VLOOKUP(E1609,Sheet2!A:G,4,FALSE))","v":""},"",{"$f":"IF(OR(E1609=\"\",ISBLANK(E1609)),\"\",VLOOKUP(E1609,Sheet2!A:H,3,FALSE))","v":""},null,{"$f":"IF(OR(E1609=\"\",ISBLANK(E1609)),\"\",VLOOKUP(E1609,Sheet2!A:G,6,FALSE))","v":""},""]
[{"$f":"IF(OR(E1610=\"\",ISBLANK(E1610)),\"\",VLOOKUP(E1610,Sheet2!A:F,2,FALSE))","v":""},{"$f":"IF(OR(E1610=\"\",ISBLANK(E1610)),\"\",VLOOKUP(E1610,Sheet2!A:G,4,FALSE))","v":""},"",{"$f":"IF(OR(E1610=\"\",ISBLANK(E1610)),\"\",VLOOKUP(E1610,Sheet2!A:H,3,FALSE))","v":""},null,{"$f":"IF(OR(E1610=\"\",ISBLANK(E1610)),\"\",VLOOKUP(E1610,Sheet2!A:G,6,FALSE))","v":""},""]
[{"$f":"IF(OR(E1611=\"\",ISBLANK(E1611)),\"\",VLOOKUP(E1611,Sheet2!A:F,2,FALSE))","v":""},{"$f":"IF(OR(E1611=\"\",ISBLANK(E1611)),\"\",VLOOKUP(E1611,Sheet2!A:G,4,FALSE))","v":""},"",{"$f":"IF(OR(E1611=\"\",ISBLANK(E1611)),\"\",VLOOKUP(E1611,Sheet2!A:H,3,FALSE))","v":""},null,{"$f":"IF(OR(E1611=\"\",ISBLANK(E1611)),\"\",VLOOKUP(E1611,Sheet2!A:G,6,FALSE))","v":""},""]
[{"$f":"IF(OR(E1612=\"\",ISBLANK(E1612)),\"\",VLOOKUP(E1612,Sheet2!A:F,2,FALSE))","v":""},{"$f":"IF(OR(E1612=\"\",ISBLANK(E1612)),\"\",VLOOKUP(E1612,Sheet2!A:G,4,FALSE))","v":""},"",{"$f":"IF(OR(E1612=\"\",ISBLANK(E1612)),\"\",VLOOKUP(E1612,Sheet2!A:H,3,FALSE))","v":""},null,{"$f":"IF(OR(E1612=\"\",ISBLANK(E1612)),\"\",VLOOKUP(E1612,Sheet2!A:G,6,FALSE))","v":""},""]
[{"$f":"IF(OR(E1613=\"\",ISBLANK(E1613)),\"\",VLOOKUP(E1613,Sheet2!A:F,2,FALSE))","v":""},{"$f":"IF(OR(E1613=\"\",ISBLANK(E1613)),\"\",VLOOKUP(E1613,Sheet2!A:G,4,FALSE))","v":""},"",{"$f":"IF(OR(E1613=\"\",ISBLANK(E1613)),\"\",VLOOKUP(E1613,Sheet2!A:H,3,FALSE))","v":""},null,{"$f":"IF(OR(E1613=\"\",ISBLANK(E1613)),\"\",VLOOKUP(E1613,Sheet2!A:G,6,FALSE))","v":""},""]
[{"$f":"IF(OR(E1614=\"\",ISBLANK(E1614)),\"\",VLOOKUP(E1614,Sheet2!A:F,2,FALSE))","v":""},{"$f":"IF(OR(E1614=\"\",ISBLANK(E1614)),\"\",VLOOKUP(E1614,Sheet2!A:G,4,FALSE))","v":""},"",{"$f":"IF(OR(E1614=\"\",ISBLANK(E1614)),\"\",VLOOKUP(E1614,Sheet2!A:H,3,FALSE))","v":""},null,{"$f":"IF(OR(E1614=\"\",ISBLANK(E1614)),\"\",VLOOKUP(E1614,Sheet2!A:G,6,FALSE))","v":""},""]
[{"$f":"IF(OR(E1615=\"\",ISBLANK(E1615)),\"\",VLOOKUP(E1615,Sheet2!A:F,2,FALSE))","v":""},{"$f":"IF(OR(E1615=\"\",ISBLANK(E1615)),\"\",VLOOKUP(E1615,Sheet2!A:G,4,FALSE))","v":""},"",{"$f":"IF(OR(E1615=\"\",ISBLANK(E1615)),\"\",VLOOKUP(E1615,Sheet2!A:H,3,FALSE))","v":""},null,{"$f":"IF(OR(E1615=\"\",ISBLANK(E1615)),\"\",VLOOKUP(E1615,Sheet2!A:G,6,FALSE))","v":""},""]
[{"$f":"IF(OR(E1616=\"\",ISBLANK(E1616)),\"\",VLOOKUP(E1616,Sheet2!A:F,2,FALSE))","v":""},{"$f":"IF(OR(E1616=\"\",ISBLANK(E1616)),\"\",VLOOKUP(E1616,Sheet2!A:G,4,FALSE))","v":""},"",{"$f":"IF(OR(E1616=\"\",ISBLANK(E1616)),\"\",VLOOKUP(E1616,Sheet2!A:H,3,FALSE))","v":""},null,{"$f":"IF(OR(E1616=\"\",ISBLANK(E1616)),\"\",VLOOKUP(E1616,Sheet2!A:G,6,FALSE))","v":""},""]
[{"$f":"IF(OR(E1617=\"\",ISBLANK(E1617)),\"\",VLOOKUP(E1617,Sheet2!A:F,2,FALSE))","v":""},{"$f":"IF(OR(E1617=\"\",ISBLANK(E1617)),\"\",VLOOKUP(E1617,Sheet2!A:G,4,FALSE))","v":""},"",{"$f":"IF(OR(E1617=\"\",ISBLANK(E1617)),\"\",VLOOKUP(E1617,Sheet2!A:H,3,FALSE))","v":""},null,{"$f":"IF(OR(E1617=\"\",ISBLANK(E1617)),\"\",VLOOKUP(E1617,Sheet2!A:G,6,FALSE))","v":""},""]
[{"$f":"IF(OR(E1618=\"\",ISBLANK(E1618)),\"\",VLOOKUP(E1618,Sheet2!A:F,2,FALSE))","v":""},{"$f":"IF(OR(E1618=\"\",ISBLANK(E1618)),\"\",VLOOKUP(E1618,Sheet2!A:G,4,FALSE))","v":""},"",{"$f":"IF(OR(E1618=\"\",ISBLANK(E1618)),\"\",VLOOKUP(E1618,Sheet2!A:H,3,FALSE))","v":""},null,{"$f":"IF(OR(E1618=\"\",ISBLANK(E1618)),\"\",VLOOKUP(E1618,Sheet2!A:G,6,FALSE))","v":""},""]
[{"$f":"IF(OR(E1619=\"\",ISBLANK(E1619)),\"\",VLOOKUP(E1619,Sheet2!A:F,2,FALSE))","v":""},{"$f":"IF(OR(E1619=\"\",ISBLANK(E1619)),\"\",VLOOKUP(E1619,Sheet2!A:G,4,FALSE))","v":""},"",{"$f":"IF(OR(E1619=\"\",ISBLANK(E1619)),\"\",VLOOKUP(E1619,Sheet2!A:H,3,FALSE))","v":""},null,{"$f":"IF(OR(E1619=\"\",ISBLANK(E1619)),\"\",VLOOKUP(E1619,Sheet2!A:G,6,FALSE))","v":""},""]
[{"$f":"IF(OR(E1620=\"\",ISBLANK(E1620)),\"\",VLOOKUP(E1620,Sheet2!A:F,2,FALSE))","v":""},{"$f":"IF(OR(E1620=\"\",ISBLANK(E1620)),\"\",VLOOKUP(E1620,Sheet2!A:G,4,FALSE))","v":""},"",{"$f":"IF(OR(E1620=\"\",ISBLANK(E1620)),\"\",VLOOKUP(E1620,Sheet2!A:H,3,FALSE))","v":""},null,{"$f":"IF(OR(E1620=\"\",ISBLANK(E1620)),\"\",VLOOKUP(E1620,Sheet2!A:G,6,FALSE))","v":""},""]
[{"$f":"IF(OR(E1621=\"\",ISBLANK(E1621)),\"\",VLOOKUP(E1621,Sheet2!A:F,2,FALSE))","v":""},{"$f":"IF(OR(E1621=\"\",ISBLANK(E1621)),\"\",VLOOKUP(E1621,Sheet2!A:G,4,FALSE))","v":""},"",{"$f":"IF(OR(E1621=\"\",ISBLANK(E1621)),\"\",VLOOKUP(E1621,Sheet2!A:H,3,FALSE))","v":""},null,{"$f":"IF(OR(E1621=\"\",ISBLANK(E1621)),\"\",VLOOKUP(E1621,Sheet2!A:G,6,FALSE))","v":""},""]
[{"$f":"IF(OR(E1622=\"\",ISBLANK(E1622)),\"\",VLOOKUP(E1622,Sheet2!A:F,2,FALSE))","v":""},{"$f":"IF(OR(E1622=\"\",ISBLANK(E1622)),\"\",VLOOKUP(E1622,Sheet2!A:G,4,FALSE))","v":""},"",{"$f":"IF(OR(E1622=\"\",ISBLANK(E1622)),\"\",VLOOKUP(E1622,Sheet2!A:H,3,FALSE))","v":""},null,{"$f":"IF(OR(E1622=\"\",ISBLANK(E1622)),\"\",VLOOKUP(E1622,Sheet2!A:G,6,FALSE))","v":""},""]
[{"$f":"IF(OR(E1623=\"\",ISBLANK(E1623)),\"\",VLOOKUP(E1623,Sheet2!A:F,2,FALSE))","v":""},{"$f":"IF(OR(E1623=\"\",ISBLANK(E1623)),\"\",VLOOKUP(E1623,Sheet2!A:G,4,FALSE))","v":""},"",{"$f":"IF(OR(E1623=\"\",ISBLANK(E1623)),\"\",VLOOKUP(E1623,Sheet2!A:H,3,FALSE))","v":""},null,{"$f":"IF(OR(E1623=\"\",ISBLANK(E1623)),\"\",VLOOKUP(E1623,Sheet2!A:G,6,FALSE))","v":""},""]
[{"$f":"IF(OR(E1624=\"\",ISBLANK(E1624)),\"\",VLOOKUP(E1624,Sheet2!A:F,2,FALSE))","v":""},{"$f":"IF(OR(E1624=\"\",ISBLANK(E1624)),\"\",VLOOKUP(E1624,Sheet2!A:G,4,FALSE))","v":""},"",{"$f":"IF(OR(E1624=\"\",ISBLANK(E1624)),\"\",VLOOKUP(E1624,Sheet2!A:H,3,FALSE))","v":""},null,{"$f":"IF(OR(E1624=\"\",ISBLANK(E1624)),\"\",VLOOKUP(E1624,Sheet2!A:G,6,FALSE))","v":""},""]
[{"$f":"IF(OR(E1625=\"\",ISBLANK(E1625)),\"\",VLOOKUP(E1625,Sheet2!A:F,2,FALSE))","v":""},{"$f":"IF(OR(E1625=\"\",ISBLANK(E1625)),\"\",VLOOKUP(E1625,Sheet2!A:G,4,FALSE))","v":""},"",{"$f":"IF(OR(E1625=\"\",ISBLANK(E1625)),\"\",VLOOKUP(E1625,Sheet2!A:H,3,FALSE))","v":""},null,{"$f":"IF(OR(E1625=\"\",ISBLANK(E1625)),\"\",VLOOKUP(E1625,Sheet2!A:G,6,FALSE))","v":""},""]
[{"$f":"IF(OR(E1626=\"\",ISBLANK(E1626)),\"\",VLOOKUP(E1626,Sheet2!A:F,2,FALSE))","v":""},{"$f":"IF(OR(E1626=\"\",ISBLANK(E1626)),\"\",VLOOKUP(E1626,Sheet2!A:G,4,FALSE))","v":""},"",{"$f":"IF(OR(E1626=\"\",ISBLANK(E1626)),\"\",VLOOKUP(E1626,Sheet2!A:H,3,FALSE))","v":""},null,{"$f":"IF(OR(E1626=\"\",ISBLANK(E1626)),\"\",VLOOKUP(E1626,Sheet2!A:G,6,FALSE))","v":""},""]
[{"$f":"IF(OR(E1627=\"\",ISBLANK(E1627)),\"\",VLOOKUP(E1627,Sheet2!A:F,2,FALSE))","v":""},{"$f":"IF(OR(E1627=\"\",ISBLANK(E1627)),\"\",VLOOKUP(E1627,Sheet2!A:G,4,FALSE))","v":""},"",{"$f":"IF(OR(E1627=\"\",ISBLANK(E1627)),\"\",VLOOKUP(E1627,Sheet2!A:H,3,FALSE))","v":""},null,{"$f":"IF(OR(E1627=\"\",ISBLANK(E1627)),\"\",VLOOKUP(E1627,Sheet2!A:G,6,FALSE))","v":""},""]
[{"$f":"IF(OR(E1628=\"\",ISBLANK(E1628)),\"\",VLOOKUP(E1628,Sheet2!A:F,2,FALSE))","v":""},{"$f":"IF(OR(E1628=\"\",ISBLANK(E1628)),\"\",VLOOKUP(E1628,Sheet2!A:G,4,FALSE))","v":""},"",{"$f":"IF(OR(E1628=\"\",ISBLANK(E1628)),\"\",VLOOKUP(E1628,Sheet2!A:H,3,FALSE))","v":""},null,{"$f":"IF(OR(E1628=\"\",ISBLANK(E1628)),\"\",VLOOKUP(E1628,Sheet2!A:G,6,FALSE))","v":""},""]
[{"$f":"IF(OR(E1629=\"\",ISBLANK(E1629)),\"\",VLOOKUP(E1629,Sheet2!A:F,2,FALSE))","v":""},{"$f":"IF(OR(E1629=\"\",ISBLANK(E1629)),\"\",VLOOKUP(E1629,Sheet2!A:G,4,FALSE))","v":""},"",{"$f":"IF(OR(E1629=\"\",ISBLANK(E1629)),\"\",VLOOKUP(E1629,Sheet2!A:H,3,FALSE))","v":""},null,{"$f":"IF(OR(E1629=\"\",ISBLANK(E1629)),\"\",VLOOKUP(E1629,Sheet2!A:G,6,FALSE))","v":""},""]
[{"$f":"IF(OR(E1630=\"\",ISBLANK(E1630)),\"\",VLOOKUP(E1630,Sheet2!A:F,2,FALSE))","v":""},{"$f":"IF(OR(E1630=\"\",ISBLANK(E1630)),\"\",VLOOKUP(E1630,Sheet2!A:G,4,FALSE))","v":""},"",{"$f":"IF(OR(E1630=\"\",ISBLANK(E1630)),\"\",VLOOKUP(E1630,Sheet2!A:H,3,FALSE))","v":""},null,{"$f":"IF(OR(E1630=\"\",ISBLANK(E1630)),\"\",VLOOKUP(E1630,Sheet2!A:G,6,FALSE))","v":""},""]
[{"$f":"IF(OR(E1631=\"\",ISBLANK(E1631)),\"\",VLOOKUP(E1631,Sheet2!A:F,2,FALSE))","v":""},{"$f":"IF(OR(E1631=\"\",ISBLANK(E1631)),\"\",VLOOKUP(E1631,Sheet2!A:G,4,FALSE))","v":""},"",{"$f":"IF(OR(E1631=\"\",ISBLANK(E1631)),\"\",VLOOKUP(E1631,Sheet2!A:H,3,FALSE))","v":""},null,{"$f":"IF(OR(E1631=\"\",ISBLANK(E1631)),\"\",VLOOKUP(E1631,Sheet2!A:G,6,FALSE))","v":""},""]
[{"$f":"IF(OR(E1632=\"\",ISBLANK(E1632)),\"\",VLOOKUP(E1632,Sheet2!A:F,2,FALSE))","v":""},{"$f":"IF(OR(E1632=\"\",ISBLANK(E1632)),\"\",VLOOKUP(E1632,Sheet2!A:G,4,FALSE))","v":""},"",{"$f":"IF(OR(E1632=\"\",ISBLANK(E1632)),\"\",VLOOKUP(E1632,Sheet2!A:H,3,FALSE))","v":""},null,{"$f":"IF(OR(E1632=\"\",ISBLANK(E1632)),\"\",VLOOKUP(E1632,Sheet2!A:G,6,FALSE))","v":""},""]
[{"$f":"IF(OR(E1633=\"\",ISBLANK(E1633)),\"\",VLOOKUP(E1633,Sheet2!A:F,2,FALSE))","v":""},{"$f":"IF(OR(E1633=\"\",ISBLANK(E1633)),\"\",VLOOKUP(E1633,Sheet2!A:G,4,FALSE))","v":""},"",{"$f":"IF(OR(E1633=\"\",ISBLANK(E1633)),\"\",VLOOKUP(E1633,Sheet2!A:H,3,FALSE))","v":""},null,{"$f":"IF(OR(E1633=\"\",ISBLANK(E1633)),\"\",VLOOKUP(E1633,Sheet2!A:G,6,FALSE))","v":""},""]
[{"$f":"IF(OR(E1634=\"\",ISBLANK(E1634)),\"\",VLOOKUP(E1634,Sheet2!A:F,2,FALSE))","v":""},{"$f":"IF(OR(E1634=\"\",ISBLANK(E1634)),\"\",VLOOKUP(E1634,Sheet2!A:G,4,FALSE))","v":""},"",{"$f":"IF(OR(E1634=\"\",ISBLANK(E1634)),\"\",VLOOKUP(E1634,Sheet2!A:H,3,FALSE))","v":""},null,{"$f":"IF(OR(E1634=\"\",ISBLANK(E1634)),\"\",VLOOKUP(E1634,Sheet2!A:G,6,FALSE))","v":""},""]
[{"$f":"IF(OR(E1635=\"\",ISBLANK(E1635)),\"\",VLOOKUP(E1635,Sheet2!A:F,2,FALSE))","v":""},{"$f":"IF(OR(E1635=\"\",ISBLANK(E1635)),\"\",VLOOKUP(E1635,Sheet2!A:G,4,FALSE))","v":""},"",{"$f":"IF(OR(E1635=\"\",ISBLANK(E1635)),\"\",VLOOKUP(E1635,Sheet2!A:H,3,FALSE))","v":""},null,{"$f":"IF(OR(E1635=\"\",ISBLANK(E1635)),\"\",VLOOKUP(E1635,Sheet2!A:G,6,FALSE))","v":""},""]
[{"$f":"IF(OR(E1636=\"\",ISBLANK(E1636)),\"\",VLOOKUP(E1636,Sheet2!A:F,2,FALSE))","v":""},{"$f":"IF(OR(E1636=\"\",ISBLANK(E1636)),\"\",VLOOKUP(E1636,Sheet2!A:G,4,FALSE))","v":""},"",{"$f":"IF(OR(E1636=\"\",ISBLANK(E1636)),\"\",VLOOKUP(E1636,Sheet2!A:H,3,FALSE))","v":""},null,{"$f":"IF(OR(E1636=\"\",ISBLANK(E1636)),\"\",VLOOKUP(E1636,Sheet2!A:G,6,FALSE))","v":""},""]
[{"$f":"IF(OR(E1637=\"\",ISBLANK(E1637)),\"\",VLOOKUP(E1637,Sheet2!A:F,2,FALSE))","v":""},{"$f":"IF(OR(E1637=\"\",ISBLANK(E1637)),\"\",VLOOKUP(E1637,Sheet2!A:G,4,FALSE))","v":""},"",{"$f":"IF(OR(E1637=\"\",ISBLANK(E1637)),\"\",VLOOKUP(E1637,Sheet2!A:H,3,FALSE))","v":""},null,{"$f":"IF(OR(E1637=\"\",ISBLANK(E1637)),\"\",VLOOKUP(E1637,Sheet2!A:G,6,FALSE))","v":""},""]
[{"$f":"IF(OR(E1638=\"\",ISBLANK(E1638)),\"\",VLOOKUP(E1638,Sheet2!A:F,2,FALSE))","v":""},{"$f":"IF(OR(E1638=\"\",ISBLANK(E1638)),\"\",VLOOKUP(E1638,Sheet2!A:G,4,FALSE))","v":""},"",{"$f":"IF(OR(E1638=\"\",ISBLANK(E1638)),\"\",VLOOKUP(E1638,Sheet2!A:H,3,FALSE))","v":""},null,{"$f":"IF(OR(E1638=\"\",ISBLANK(E1638)),\"\",VLOOKUP(E1638,Sheet2!A:G,6,FALSE))","v":""},""]
[{"$f":"IF(OR(E1639=\"\",ISBLANK(E1639)),\"\",VLOOKUP(E1639,Sheet2!A:F,2,FALSE))","v":""},{"$f":"IF(OR(E1639=\"\",ISBLANK(E1639)),\"\",VLOOKUP(E1639,Sheet2!A:G,4,FALSE))","v":""},"",{"$f":"IF(OR(E1639=\"\",ISBLANK(E1639)),\"\",VLOOKUP(E1639,Sheet2!A:H,3,FALSE))","v":""},null,{"$f":"IF(OR(E1639=\"\",ISBLANK(E1639)),\"\",VLOOKUP(E1639,Sheet2!A:G,6,FALSE))","v":""},""]
[{"$f":"IF(OR(E1640=\"\",ISBLANK(E1640)),\"\",VLOOKUP(E1640,Sheet2!A:F,2,FALSE))","v":""},{"$f":"IF(OR(E1640=\"\",ISBLANK(E1640)),\"\",VLOOKUP(E1640,Sheet2!A:G,4,FALSE))","v":""},"",{"$f":"IF(OR(E1640=\"\",ISBLANK(E1640)),\"\",VLOOKUP(E1640,Sheet2!A:H,3,FALSE))","v":""},null,{"$f":"IF(OR(E1640=\"\",ISBLANK(E1640)),\"\",VLOOKUP(E1640,Sheet2!A:G,6,FALSE))","v":""},""]
[{"$f":"IF(OR(E1641=\"\",ISBLANK(E1641)),\"\",VLOOKUP(E1641,Sheet2!A:F,2,FALSE))","v":""},{"$f":"IF(OR(E1641=\"\",ISBLANK(E1641)),\"\",VLOOKUP(E1641,Sheet2!A:G,4,FALSE))","v":""},"",{"$f":"IF(OR(E1641=\"\",ISBLANK(E1641)),\"\",VLOOKUP(E1641,Sheet2!A:H,3,FALSE))","v":""},null,{"$f":"IF(OR(E1641=\"\",ISBLANK(E1641)),\"\",VLOOKUP(E1641,Sheet2!A:G,6,FALSE))","v":""},""]
[{"$f":"IF(OR(E1642=\"\",ISBLANK(E1642)),\"\",VLOOKUP(E1642,Sheet2!A:F,2,FALSE))","v":""},{"$f":"IF(OR(E1642=\"\",ISBLANK(E1642)),\"\",VLOOKUP(E1642,Sheet2!A:G,4,FALSE))","v":""},"",{"$f":"IF(OR(E1642=\"\",ISBLANK(E1642)),\"\",VLOOKUP(E1642,Sheet2!A:H,3,FALSE))","v":""},null,{"$f":"IF(OR(E1642=\"\",ISBLANK(E1642)),\"\",VLOOKUP(E1642,Sheet2!A:G,6,FALSE))","v":""},""]
[{"$f":"IF(OR(E1643=\"\",ISBLANK(E1643)),\"\",VLOOKUP(E1643,Sheet2!A:F,2,FALSE))","v":""},{"$f":"IF(OR(E1643=\"\",ISBLANK(E1643)),\"\",VLOOKUP(E1643,Sheet2!A:G,4,FALSE))","v":""},"",{"$f":"IF(OR(E1643=\"\",ISBLANK(E1643)),\"\",VLOOKUP(E1643,Sheet2!A:H,3,FALSE))","v":""},null,{"$f":"IF(OR(E1643=\"\",ISBLANK(E1643)),\"\",VLOOKUP(E1643,Sheet2!A:G,6,FALSE))","v":""},""]
[{"$f":"IF(OR(E1644=\"\",ISBLANK(E1644)),\"\",VLOOKUP(E1644,Sheet2!A:F,2,FALSE))","v":""},{"$f":"IF(OR(E1644=\"\",ISBLANK(E1644)),\"\",VLOOKUP(E1644,Sheet2!A:G,4,FALSE))","v":""},"",{"$f":"IF(OR(E1644=\"\",ISBLANK(E1644)),\"\",VLOOKUP(E1644,Sheet2!A:H,3,FALSE))","v":""},null,{"$f":"IF(OR(E1644=\"\",ISBLANK(E1644)),\"\",VLOOKUP(E1644,Sheet2!A:G,6,FALSE))","v":""},""]
[{"$f":"IF(OR(E1645=\"\",ISBLANK(E1645)),\"\",VLOOKUP(E1645,Sheet2!A:F,2,FALSE))","v":""},{"$f":"IF(OR(E1645=\"\",ISBLANK(E1645)),\"\",VLOOKUP(E1645,Sheet2!A:G,4,FALSE))","v":""},"",{"$f":"IF(OR(E1645=\"\",ISBLANK(E1645)),\"\",VLOOKUP(E1645,Sheet2!A:H,3,FALSE))","v":""},null,{"$f":"IF(OR(E1645=\"\",ISBLANK(E1645)),\"\",VLOOKUP(E1645,Sheet2!A:G,6,FALSE))","v":""},""]
[{"$f":"IF(OR(E1646=\"\",ISBLANK(E1646)),\"\",VLOOKUP(E1646,Sheet2!A:F,2,FALSE))","v":""},{"$f":"IF(OR(E1646=\"\",ISBLANK(E1646)),\"\",VLOOKUP(E1646,Sheet2!A:G,4,FALSE))","v":""},"",{"$f":"IF(OR(E1646=\"\",ISBLANK(E1646)),\"\",VLOOKUP(E1646,Sheet2!A:H,3,FALSE))","v":""},null,{"$f":"IF(OR(E1646=\"\",ISBLANK(E1646)),\"\",VLOOKUP(E1646,Sheet2!A:G,6,FALSE))","v":""},""]
[{"$f":"IF(OR(E1647=\"\",ISBLANK(E1647)),\"\",VLOOKUP(E1647,Sheet2!A:F,2,FALSE))","v":""},{"$f":"IF(OR(E1647=\"\",ISBLANK(E1647)),\"\",VLOOKUP(E1647,Sheet2!A:G,4,FALSE))","v":""},"",{"$f":"IF(OR(E1647=\"\",ISBLANK(E1647)),\"\",VLOOKUP(E1647,Sheet2!A:H,3,FALSE))","v":""},null,{"$f":"IF(OR(E1647=\"\",ISBLANK(E1647)),\"\",VLOOKUP(E1647,Sheet2!A:G,6,FALSE))","v":""},""]
[{"$f":"IF(OR(E1648=\"\",ISBLANK(E1648)),\"\",VLOOKUP(E1648,Sheet2!A:F,2,FALSE))","v":""},{"$f":"IF(OR(E1648=\"\",ISBLANK(E1648)),\"\",VLOOKUP(E1648,Sheet2!A:G,4,FALSE))","v":""},"",{"$f":"IF(OR(E1648=\"\",ISBLANK(E1648)),\"\",VLOOKUP(E1648,Sheet2!A:H,3,FALSE))","v":""},null,{"$f":"IF(OR(E1648=\"\",ISBLANK(E1648)),\"\",VLOOKUP(E1648,Sheet2!A:G,6,FALSE))","v":""},""]
[{"$f":"IF(OR(E1649=\"\",ISBLANK(E1649)),\"\",VLOOKUP(E1649,Sheet2!A:F,2,FALSE))","v":""},{"$f":"IF(OR(E1649=\"\",ISBLANK(E1649)),\"\",VLOOKUP(E1649,Sheet2!A:G,4,FALSE))","v":""},"",{"$f":"IF(OR(E1649=\"\",ISBLANK(E1649)),\"\",VLOOKUP(E1649,Sheet2!A:H,3,FALSE))","v":""},null,{"$f":"IF(OR(E1649=\"\",ISBLANK(E1649)),\"\",VLOOKUP(E1649,Sheet2!A:G,6,FALSE))","v":""},""]
[{"$f":"IF(OR(E1650=\"\",ISBLANK(E1650)),\"\",VLOOKUP(E1650,Sheet2!A:F,2,FALSE))","v":""},{"$f":"IF(OR(E1650=\"\",ISBLANK(E1650)),\"\",VLOOKUP(E1650,Sheet2!A:G,4,FALSE))","v":""},"",{"$f":"IF(OR(E1650=\"\",ISBLANK(E1650)),\"\",VLOOKUP(E1650,Sheet2!A:H,3,FALSE))","v":""},null,{"$f":"IF(OR(E1650=\"\",ISBLANK(E1650)),\"\",VLOOKUP(E1650,Sheet2!A:G,6,FALSE))","v":""},""]
[{"$f":"IF(OR(E1651=\"\",ISBLANK(E1651)),\"\",VLOOKUP(E1651,Sheet2!A:F,2,FALSE))","v":""},{"$f":"IF(OR(E1651=\"\",ISBLANK(E1651)),\"\",VLOOKUP(E1651,Sheet2!A:G,4,FALSE))","v":""},"",{"$f":"IF(OR(E1651=\"\",ISBLANK(E1651)),\"\",VLOOKUP(E1651,Sheet2!A:H,3,FALSE))","v":""},null,{"$f":"IF(OR(E1651=\"\",ISBLANK(E1651)),\"\",VLOOKUP(E1651,Sheet2!A:G,6,FALSE))","v":""},""]
[{"$f":"IF(OR(E1652=\"\",ISBLANK(E1652)),\"\",VLOOKUP(E1652,Sheet2!A:F,2,FALSE))","v":""},{"$f":"IF(OR(E1652=\"\",ISBLANK(E1652)),\"\",VLOOKUP(E1652,Sheet2!A:G,4,FALSE))","v":""},"",{"$f":"IF(OR(E1652=\"\",ISBLANK(E1652)),\"\",VLOOKUP(E1652,Sheet2!A:H,3,FALSE))","v":""},null,{"$f":"IF(OR(E1652=\"\",ISBLANK(E1652)),\"\",VLOOKUP(E1652,Sheet2!A:G,6,FALSE))","v":""},""]
[{"$f":"IF(OR(E1653=\"\",ISBLANK(E1653)),\"\",VLOOKUP(E1653,Sheet2!A:F,2,FALSE))","v":""},{"$f":"IF(OR(E1653=\"\",ISBLANK(E1653)),\"\",VLOOKUP(E1653,Sheet2!A:G,4,FALSE))","v":""},"",{"$f":"IF(OR(E1653=\"\",ISBLANK(E1653)),\"\",VLOOKUP(E1653,Sheet2!A:H,3,FALSE))","v":""},null,{"$f":"IF(OR(E1653=\"\",ISBLANK(E1653)),\"\",VLOOKUP(E1653,Sheet2!A:G,6,FALSE))","v":""},""]
[{"$f":"IF(OR(E1654=\"\",ISBLANK(E1654)),\"\",VLOOKUP(E1654,Sheet2!A:F,2,FALSE))","v":""},{"$f":"IF(OR(E1654=\"\",ISBLANK(E1654)),\"\",VLOOKUP(E1654,Sheet2!A:G,4,FALSE))","v":""},"",{"$f":"IF(OR(E1654=\"\",ISBLANK(E1654)),\"\",VLOOKUP(E1654,Sheet2!A:H,3,FALSE))","v":""},null,{"$f":"IF(OR(E1654=\"\",ISBLANK(E1654)),\"\",VLOOKUP(E1654,Sheet2!A:G,6,FALSE))","v":""},""]
[{"$f":"IF(OR(E1655=\"\",ISBLANK(E1655)),\"\",VLOOKUP(E1655,Sheet2!A:F,2,FALSE))","v":""},{"$f":"IF(OR(E1655=\"\",ISBLANK(E1655)),\"\",VLOOKUP(E1655,Sheet2!A:G,4,FALSE))","v":""},"",{"$f":"IF(OR(E1655=\"\",ISBLANK(E1655)),\"\",VLOOKUP(E1655,Sheet2!A:H,3,FALSE))","v":""},null,{"$f":"IF(OR(E1655=\"\",ISBLANK(E1655)),\"\",VLOOKUP(E1655,Sheet2!A:G,6,FALSE))","v":""},""]
[{"$f":"IF(OR(E1656=\"\",ISBLANK(E1656)),\"\",VLOOKUP(E1656,Sheet2!A:F,2,FALSE))","v":""},{"$f":"IF(OR(E1656=\"\",ISBLANK(E1656)),\"\",VLOOKUP(E1656,Sheet2!A:G,4,FALSE))","v":""},"",{"$f":"IF(OR(E1656=\"\",ISBLANK(E1656)),\"\",VLOOKUP(E1656,Sheet2!A:H,3,FALSE))","v":""},null,{"$f":"IF(OR(E1656=\"\",ISBLANK(E1656)),\"\",VLOOKUP(E1656,Sheet2!A:G,6,FALSE))","v":""},""]
[{"$f":"IF(OR(E1657=\"\",ISBLANK(E1657)),\"\",VLOOKUP(E1657,Sheet2!A:F,2,FALSE))","v":""},{"$f":"IF(OR(E1657=\"\",ISBLANK(E1657)),\"\",VLOOKUP(E1657,Sheet2!A:G,4,FALSE))","v":""},"",{"$f":"IF(OR(E1657=\"\",ISBLANK(E1657)),\"\",VLOOKUP(E1657,Sheet2!A:H,3,FALSE))","v":""},null,{"$f":"IF(OR(E1657=\"\",ISBLANK(E1657)),\"\",VLOOKUP(E1657,Sheet2!A:G,6,FALSE))","v":""},""]
[{"$f":"IF(OR(E1658=\"\",ISBLANK(E1658)),\"\",VLOOKUP(E1658,Sheet2!A:F,2,FALSE))","v":""},{"$f":"IF(OR(E1658=\"\",ISBLANK(E1658)),\"\",VLOOKUP(E1658,Sheet2!A:G,4,FALSE))","v":""},"",{"$f":"IF(OR(E1658=\"\",ISBLANK(E1658)),\"\",VLOOKUP(E1658,Sheet2!A:H,3,FALSE))","v":""},null,{"$f":"IF(OR(E1658=\"\",ISBLANK(E1658)),\"\",VLOOKUP(E1658,Sheet2!A:G,6,FALSE))","v":""},""]
[{"$f":"IF(OR(E1659=\"\",ISBLANK(E1659)),\"\",VLOOKUP(E1659,Sheet2!A:F,2,FALSE))","v":""},{"$f":"IF(OR(E1659=\"\",ISBLANK(E1659)),\"\",VLOOKUP(E1659,Sheet2!A:G,4,FALSE))","v":""},"",{"$f":"IF(OR(E1659=\"\",ISBLANK(E1659)),\"\",VLOOKUP(E1659,Sheet2!A:H,3,FALSE))","v":""},null,{"$f":"IF(OR(E1659=\"\",ISBLANK(E1659)),\"\",VLOOKUP(E1659,Sheet2!A:G,6,FALSE))","v":""},""]
[{"$f":"IF(OR(E1660=\"\",ISBLANK(E1660)),\"\",VLOOKUP(E1660,Sheet2!A:F,2,FALSE))","v":""},{"$f":"IF(OR(E1660=\"\",ISBLANK(E1660)),\"\",VLOOKUP(E1660,Sheet2!A:G,4,FALSE))","v":""},"",{"$f":"IF(OR(E1660=\"\",ISBLANK(E1660)),\"\",VLOOKUP(E1660,Sheet2!A:H,3,FALSE))","v":""},null,{"$f":"IF(OR(E1660=\"\",ISBLANK(E1660)),\"\",VLOOKUP(E1660,Sheet2!A:G,6,FALSE))","v":""},""]
[{"$f":"IF(OR(E1661=\"\",ISBLANK(E1661)),\"\",VLOOKUP(E1661,Sheet2!A:F,2,FALSE))","v":""},{"$f":"IF(OR(E1661=\"\",ISBLANK(E1661)),\"\",VLOOKUP(E1661,Sheet2!A:G,4,FALSE))","v":""},"",{"$f":"IF(OR(E1661=\"\",ISBLANK(E1661)),\"\",VLOOKUP(E1661,Sheet2!A:H,3,FALSE))","v":""},null,{"$f":"IF(OR(E1661=\"\",ISBLANK(E1661)),\"\",VLOOKUP(E1661,Sheet2!A:G,6,FALSE))","v":""},""]
[{"$f":"IF(OR(E1662=\"\",ISBLANK(E1662)),\"\",VLOOKUP(E1662,Sheet2!A:F,2,FALSE))","v":""},{"$f":"IF(OR(E1662=\"\",ISBLANK(E1662)),\"\",VLOOKUP(E1662,Sheet2!A:G,4,FALSE))","v":""},"",{"$f":"IF(OR(E1662=\"\",ISBLANK(E1662)),\"\",VLOOKUP(E1662,Sheet2!A:H,3,FALSE))","v":""},null,{"$f":"IF(OR(E1662=\"\",ISBLANK(E1662)),\"\",VLOOKUP(E1662,Sheet2!A:G,6,FALSE))","v":""},""]
[{"$f":"IF(OR(E1663=\"\",ISBLANK(E1663)),\"\",VLOOKUP(E1663,Sheet2!A:F,2,FALSE))","v":""},{"$f":"IF(OR(E1663=\"\",ISBLANK(E1663)),\"\",VLOOKUP(E1663,Sheet2!A:G,4,FALSE))","v":""},"",{"$f":"IF(OR(E1663=\"\",ISBLANK(E1663)),\"\",VLOOKUP(E1663,Sheet2!A:H,3,FALSE))","v":""},null,{"$f":"IF(OR(E1663=\"\",ISBLANK(E1663)),\"\",VLOOKUP(E1663,Sheet2!A:G,6,FALSE))","v":""},""]
[{"$f":"IF(OR(E1664=\"\",ISBLANK(E1664)),\"\",VLOOKUP(E1664,Sheet2!A:F,2,FALSE))","v":""},{"$f":"IF(OR(E1664=\"\",ISBLANK(E1664)),\"\",VLOOKUP(E1664,Sheet2!A:G,4,FALSE))","v":""},"",{"$f":"IF(OR(E1664=\"\",ISBLANK(E1664)),\"\",VLOOKUP(E1664,Sheet2!A:H,3,FALSE))","v":""},null,{"$f":"IF(OR(E1664=\"\",ISBLANK(E1664)),\"\",VLOOKUP(E1664,Sheet2!A:G,6,FALSE))","v":""},""]
[{"$f":"IF(OR(E1665=\"\",ISBLANK(E1665)),\"\",VLOOKUP(E1665,Sheet2!A:F,2,FALSE))","v":""},{"$f":"IF(OR(E1665=\"\",ISBLANK(E1665)),\"\",VLOOKUP(E1665,Sheet2!A:G,4,FALSE))","v":""},"",{"$f":"IF(OR(E1665=\"\",ISBLANK(E1665)),\"\",VLOOKUP(E1665,Sheet2!A:H,3,FALSE))","v":""},null,{"$f":"IF(OR(E1665=\"\",ISBLANK(E1665)),\"\",VLOOKUP(E1665,Sheet2!A:G,6,FALSE))","v":""},""]
[{"$f":"IF(OR(E1666=\"\",ISBLANK(E1666)),\"\",VLOOKUP(E1666,Sheet2!A:F,2,FALSE))","v":""},{"$f":"IF(OR(E1666=\"\",ISBLANK(E1666)),\"\",VLOOKUP(E1666,Sheet2!A:G,4,FALSE))","v":""},"",{"$f":"IF(OR(E1666=\"\",ISBLANK(E1666)),\"\",VLOOKUP(E1666,Sheet2!A:H,3,FALSE))","v":""},null,{"$f":"IF(OR(E1666=\"\",ISBLANK(E1666)),\"\",VLOOKUP(E1666,Sheet2!A:G,6,FALSE))","v":""},""]
[{"$f":"IF(OR(E1667=\"\",ISBLANK(E1667)),\"\",VLOOKUP(E1667,Sheet2!A:F,2,FALSE))","v":""},{"$f":"IF(OR(E1667=\"\",ISBLANK(E1667)),\"\",VLOOKUP(E1667,Sheet2!A:G,4,FALSE))","v":""},{"$f":"IF(D1667=0,\"\",D1667)","v":""},{"$f":"IF(OR(E1667=\"\",ISBLANK(E1667)),\"\",VLOOKUP(E1667,Sheet2!A:H,3,FALSE))","v":""},null,{"$f":"IF(OR(E1667=\"\",ISBLANK(E1667)),\"\",VLOOKUP(E1667,Sheet2!A:G,6,FALSE))","v":""},{"$f":"IF(F1667=0,\"\",F1667)","v":""}]
[{"$f":"IF(OR(E1668=\"\",ISBLANK(E1668)),\"\",VLOOKUP(E1668,Sheet2!A:F,2,FALSE))","v":""},{"$f":"IF(OR(E1668=\"\",ISBLANK(E1668)),\"\",VLOOKUP(E1668,Sheet2!A:G,4,FALSE))","v":""},"",{"$f":"IF(OR(E1668=\"\",ISBLANK(E1668)),\"\",VLOOKUP(E1668,Sheet2!A:H,3,FALSE))","v":""},null,{"$f":"IF(OR(E1668=\"\",ISBLANK(E1668)),\"\",VLOOKUP(E1668,Sheet2!A:G,6,FALSE))","v":""},""]
[{"$f":"IF(OR(E1669=\"\",ISBLANK(E1669)),\"\",VLOOKUP(E1669,Sheet2!A:F,2,FALSE))","v":""},{"$f":"IF(OR(E1669=\"\",ISBLANK(E1669)),\"\",VLOOKUP(E1669,Sheet2!A:G,4,FALSE))","v":""},"",{"$f":"IF(OR(E1669=\"\",ISBLANK(E1669)),\"\",VLOOKUP(E1669,Sheet2!A:H,3,FALSE))","v":""},null,{"$f":"IF(OR(E1669=\"\",ISBLANK(E1669)),\"\",VLOOKUP(E1669,Sheet2!A:G,6,FALSE))","v":""},""]
[{"$f":"IF(OR(E1670=\"\",ISBLANK(E1670)),\"\",VLOOKUP(E1670,Sheet2!A:F,2,FALSE))","v":""},{"$f":"IF(OR(E1670=\"\",ISBLANK(E1670)),\"\",VLOOKUP(E1670,Sheet2!A:G,4,FALSE))","v":""},"",{"$f":"IF(OR(E1670=\"\",ISBLANK(E1670)),\"\",VLOOKUP(E1670,Sheet2!A:H,3,FALSE))","v":""},null,{"$f":"IF(OR(E1670=\"\",ISBLANK(E1670)),\"\",VLOOKUP(E1670,Sheet2!A:G,6,FALSE))","v":""},""]
[{"$f":"IF(OR(E1671=\"\",ISBLANK(E1671)),\"\",VLOOKUP(E1671,Sheet2!A:F,2,FALSE))","v":""},{"$f":"IF(OR(E1671=\"\",ISBLANK(E1671)),\"\",VLOOKUP(E1671,Sheet2!A:G,4,FALSE))","v":""},"",{"$f":"IF(OR(E1671=\"\",ISBLANK(E1671)),\"\",VLOOKUP(E1671,Sheet2!A:H,3,FALSE))","v":""},null,{"$f":"IF(OR(E1671=\"\",ISBLANK(E1671)),\"\",VLOOKUP(E1671,Sheet2!A:G,6,FALSE))","v":""},""]
[{"$f":"IF(OR(E1672=\"\",ISBLANK(E1672)),\"\",VLOOKUP(E1672,Sheet2!A:F,2,FALSE))","v":""},{"$f":"IF(OR(E1672=\"\",ISBLANK(E1672)),\"\",VLOOKUP(E1672,Sheet2!A:G,4,FALSE))","v":""},"",{"$f":"IF(OR(E1672=\"\",ISBLANK(E1672)),\"\",VLOOKUP(E1672,Sheet2!A:H,3,FALSE))","v":""},null,{"$f":"IF(OR(E1672=\"\",ISBLANK(E1672)),\"\",VLOOKUP(E1672,Sheet2!A:G,6,FALSE))","v":""},""]
[{"$f":"IF(OR(E1673=\"\",ISBLANK(E1673)),\"\",VLOOKUP(E1673,Sheet2!A:F,2,FALSE))","v":""},{"$f":"IF(OR(E1673=\"\",ISBLANK(E1673)),\"\",VLOOKUP(E1673,Sheet2!A:G,4,FALSE))","v":""},"",{"$f":"IF(OR(E1673=\"\",ISBLANK(E1673)),\"\",VLOOKUP(E1673,Sheet2!A:H,3,FALSE))","v":""},null,{"$f":"IF(OR(E1673=\"\",ISBLANK(E1673)),\"\",VLOOKUP(E1673,Sheet2!A:G,6,FALSE))","v":""},""]
[{"$f":"IF(OR(E1674=\"\",ISBLANK(E1674)),\"\",VLOOKUP(E1674,Sheet2!A:F,2,FALSE))","v":""},{"$f":"IF(OR(E1674=\"\",ISBLANK(E1674)),\"\",VLOOKUP(E1674,Sheet2!A:G,4,FALSE))","v":""},"",{"$f":"IF(OR(E1674=\"\",ISBLANK(E1674)),\"\",VLOOKUP(E1674,Sheet2!A:H,3,FALSE))","v":""},null,{"$f":"IF(OR(E1674=\"\",ISBLANK(E1674)),\"\",VLOOKUP(E1674,Sheet2!A:G,6,FALSE))","v":""},""]
[{"$f":"IF(OR(E1675=\"\",ISBLANK(E1675)),\"\",VLOOKUP(E1675,Sheet2!A:F,2,FALSE))","v":""},{"$f":"IF(OR(E1675=\"\",ISBLANK(E1675)),\"\",VLOOKUP(E1675,Sheet2!A:G,4,FALSE))","v":""},"",{"$f":"IF(OR(E1675=\"\",ISBLANK(E1675)),\"\",VLOOKUP(E1675,Sheet2!A:H,3,FALSE))","v":""},null,{"$f":"IF(OR(E1675=\"\",ISBLANK(E1675)),\"\",VLOOKUP(E1675,Sheet2!A:G,6,FALSE))","v":""},""]
[{"$f":"IF(OR(E1676=\"\",ISBLANK(E1676)),\"\",VLOOKUP(E1676,Sheet2!A:F,2,FALSE))","v":""},{"$f":"IF(OR(E1676=\"\",ISBLANK(E1676)),\"\",VLOOKUP(E1676,Sheet2!A:G,4,FALSE))","v":""},"",{"$f":"IF(OR(E1676=\"\",ISBLANK(E1676)),\"\",VLOOKUP(E1676,Sheet2!A:H,3,FALSE))","v":""},null,{"$f":"IF(OR(E1676=\"\",ISBLANK(E1676)),\"\",VLOOKUP(E1676,Sheet2!A:G,6,FALSE))","v":""},""]
[{"$f":"IF(OR(E1677=\"\",ISBLANK(E1677)),\"\",VLOOKUP(E1677,Sheet2!A:F,2,FALSE))","v":""},{"$f":"IF(OR(E1677=\"\",ISBLANK(E1677)),\"\",VLOOKUP(E1677,Sheet2!A:G,4,FALSE))","v":""},"",{"$f":"IF(OR(E1677=\"\",ISBLANK(E1677)),\"\",VLOOKUP(E1677,Sheet2!A:H,3,FALSE))","v":""},null,{"$f":"IF(OR(E1677=\"\",ISBLANK(E1677)),\"\",VLOOKUP(E1677,Sheet2!A:G,6,FALSE))","v":""},""]
[{"$f":"IF(OR(E1678=\"\",ISBLANK(E1678)),\"\",VLOOKUP(E1678,Sheet2!A:F,2,FALSE))","v":""},{"$f":"IF(OR(E1678=\"\",ISBLANK(E1678)),\"\",VLOOKUP(E1678,Sheet2!A:G,4,FALSE))","v":""},"",{"$f":"IF(OR(E1678=\"\",ISBLANK(E1678)),\"\",VLOOKUP(E1678,Sheet2!A:H,3,FALSE))","v":""},null,{"$f":"IF(OR(E1678=\"\",ISBLANK(E1678)),\"\",VLOOKUP(E1678,Sheet2!A:G,6,FALSE))","v":""},""]
[{"$f":"IF(OR(E1679=\"\",ISBLANK(E1679)),\"\",VLOOKUP(E1679,Sheet2!A:F,2,FALSE))","v":""},{"$f":"IF(OR(E1679=\"\",ISBLANK(E1679)),\"\",VLOOKUP(E1679,Sheet2!A:G,4,FALSE))","v":""},"",{"$f":"IF(OR(E1679=\"\",ISBLANK(E1679)),\"\",VLOOKUP(E1679,Sheet2!A:H,3,FALSE))","v":""},null,{"$f":"IF(OR(E1679=\"\",ISBLANK(E1679)),\"\",VLOOKUP(E1679,Sheet2!A:G,6,FALSE))","v":""},""]
[{"$f":"IF(OR(E1680=\"\",ISBLANK(E1680)),\"\",VLOOKUP(E1680,Sheet2!A:F,2,FALSE))","v":""},{"$f":"IF(OR(E1680=\"\",ISBLANK(E1680)),\"\",VLOOKUP(E1680,Sheet2!A:G,4,FALSE))","v":""},"",{"$f":"IF(OR(E1680=\"\",ISBLANK(E1680)),\"\",VLOOKUP(E1680,Sheet2!A:H,3,FALSE))","v":""},null,{"$f":"IF(OR(E1680=\"\",ISBLANK(E1680)),\"\",VLOOKUP(E1680,Sheet2!A:G,6,FALSE))","v":""},""]
[{"$f":"IF(OR(E1681=\"\",ISBLANK(E1681)),\"\",VLOOKUP(E1681,Sheet2!A:F,2,FALSE))","v":""},{"$f":"IF(OR(E1681=\"\",ISBLANK(E1681)),\"\",VLOOKUP(E1681,Sheet2!A:G,4,FALSE))","v":""},"",{"$f":"IF(OR(E1681=\"\",ISBLANK(E1681)),\"\",VLOOKUP(E1681,Sheet2!A:H,3,FALSE))","v":""},null,{"$f":"IF(OR(E1681=\"\",ISBLANK(E1681)),\"\",VLOOKUP(E1681,Sheet2!A:G,6,FALSE))","v":""},""]
[{"$f":"IF(OR(E1682=\"\",ISBLANK(E1682)),\"\",VLOOKUP(E1682,Sheet2!A:F,2,FALSE))","v":""},{"$f":"IF(OR(E1682=\"\",ISBLANK(E1682)),\"\",VLOOKUP(E1682,Sheet2!A:G,4,FALSE))","v":""},"",{"$f":"IF(OR(E1682=\"\",ISBLANK(E1682)),\"\",VLOOKUP(E1682,Sheet2!A:H,3,FALSE))","v":""},null,{"$f":"IF(OR(E1682=\"\",ISBLANK(E1682)),\"\",VLOOKUP(E1682,Sheet2!A:G,6,FALSE))","v":""},""]
[{"$f":"IF(OR(E1683=\"\",ISBLANK(E1683)),\"\",VLOOKUP(E1683,Sheet2!A:F,2,FALSE))","v":""},{"$f":"IF(OR(E1683=\"\",ISBLANK(E1683)),\"\",VLOOKUP(E1683,Sheet2!A:G,4,FALSE))","v":""},"",{"$f":"IF(OR(E1683=\"\",ISBLANK(E1683)),\"\",VLOOKUP(E1683,Sheet2!A:H,3,FALSE))","v":""},null,{"$f":"IF(OR(E1683=\"\",ISBLANK(E1683)),\"\",VLOOKUP(E1683,Sheet2!A:G,6,FALSE))","v":""},""]
[{"$f":"IF(OR(E1684=\"\",ISBLANK(E1684)),\"\",VLOOKUP(E1684,Sheet2!A:F,2,FALSE))","v":""},{"$f":"IF(OR(E1684=\"\",ISBLANK(E1684)),\"\",VLOOKUP(E1684,Sheet2!A:G,4,FALSE))","v":""},"",{"$f":"IF(OR(E1684=\"\",ISBLANK(E1684)),\"\",VLOOKUP(E1684,Sheet2!A:H,3,FALSE))","v":""},null,{"$f":"IF(OR(E1684=\"\",ISBLANK(E1684)),\"\",VLOOKUP(E1684,Sheet2!A:G,6,FALSE))","v":""},""]
[{"$f":"IF(OR(E1685=\"\",ISBLANK(E1685)),\"\",VLOOKUP(E1685,Sheet2!A:F,2,FALSE))","v":""},{"$f":"IF(OR(E1685=\"\",ISBLANK(E1685)),\"\",VLOOKUP(E1685,Sheet2!A:G,4,FALSE))","v":""},"",{"$f":"IF(OR(E1685=\"\",ISBLANK(E1685)),\"\",VLOOKUP(E1685,Sheet2!A:H,3,FALSE))","v":""},null,{"$f":"IF(OR(E1685=\"\",ISBLANK(E1685)),\"\",VLOOKUP(E1685,Sheet2!A:G,6,FALSE))","v":""},""]
[{"$f":"IF(OR(E1686=\"\",ISBLANK(E1686)),\"\",VLOOKUP(E1686,Sheet2!A:F,2,FALSE))","v":""},{"$f":"IF(OR(E1686=\"\",ISBLANK(E1686)),\"\",VLOOKUP(E1686,Sheet2!A:G,4,FALSE))","v":""},"",{"$f":"IF(OR(E1686=\"\",ISBLANK(E1686)),\"\",VLOOKUP(E1686,Sheet2!A:H,3,FALSE))","v":""},null,{"$f":"IF(OR(E1686=\"\",ISBLANK(E1686)),\"\",VLOOKUP(E1686,Sheet2!A:G,6,FALSE))","v":""},""]
[{"$f":"IF(OR(E1687=\"\",ISBLANK(E1687)),\"\",VLOOKUP(E1687,Sheet2!A:F,2,FALSE))","v":""},{"$f":"IF(OR(E1687=\"\",ISBLANK(E1687)),\"\",VLOOKUP(E1687,Sheet2!A:G,4,FALSE))","v":""},"",{"$f":"IF(OR(E1687=\"\",ISBLANK(E1687)),\"\",VLOOKUP(E1687,Sheet2!A:H,3,FALSE))","v":""},null,{"$f":"IF(OR(E1687=\"\",ISBLANK(E1687)),\"\",VLOOKUP(E1687,Sheet2!A:G,6,FALSE))","v":""},""]
[{"$f":"IF(OR(E1688=\"\",ISBLANK(E1688)),\"\",VLOOKUP(E1688,Sheet2!A:F,2,FALSE))","v":""},{"$f":"IF(OR(E1688=\"\",ISBLANK(E1688)),\"\",VLOOKUP(E1688,Sheet2!A:G,4,FALSE))","v":""},"",{"$f":"IF(OR(E1688=\"\",ISBLANK(E1688)),\"\",VLOOKUP(E1688,Sheet2!A:H,3,FALSE))","v":""},null,{"$f":"IF(OR(E1688=\"\",ISBLANK(E1688)),\"\",VLOOKUP(E1688,Sheet2!A:G,6,FALSE))","v":""},""]
[{"$f":"IF(OR(E1689=\"\",ISBLANK(E1689)),\"\",VLOOKUP(E1689,Sheet2!A:F,2,FALSE))","v":""},{"$f":"IF(OR(E1689=\"\",ISBLANK(E1689)),\"\",VLOOKUP(E1689,Sheet2!A:G,4,FALSE))","v":""},"",{"$f":"IF(OR(E1689=\"\",ISBLANK(E1689)),\"\",VLOOKUP(E1689,Sheet2!A:H,3,FALSE))","v":""},null,{"$f":"IF(OR(E1689=\"\",ISBLANK(E1689)),\"\",VLOOKUP(E1689,Sheet2!A:G,6,FALSE))","v":""},""]
[{"$f":"IF(OR(E1690=\"\",ISBLANK(E1690)),\"\",VLOOKUP(E1690,Sheet2!A:F,2,FALSE))","v":""},{"$f":"IF(OR(E1690=\"\",ISBLANK(E1690)),\"\",VLOOKUP(E1690,Sheet2!A:G,4,FALSE))","v":""},"",{"$f":"IF(OR(E1690=\"\",ISBLANK(E1690)),\"\",VLOOKUP(E1690,Sheet2!A:H,3,FALSE))","v":""},null,{"$f":"IF(OR(E1690=\"\",ISBLANK(E1690)),\"\",VLOOKUP(E1690,Sheet2!A:G,6,FALSE))","v":""},""]
[{"$f":"IF(OR(E1691=\"\",ISBLANK(E1691)),\"\",VLOOKUP(E1691,Sheet2!A:F,2,FALSE))","v":""},{"$f":"IF(OR(E1691=\"\",ISBLANK(E1691)),\"\",VLOOKUP(E1691,Sheet2!A:G,4,FALSE))","v":""},"",{"$f":"IF(OR(E1691=\"\",ISBLANK(E1691)),\"\",VLOOKUP(E1691,Sheet2!A:H,3,FALSE))","v":""},null,{"$f":"IF(OR(E1691=\"\",ISBLANK(E1691)),\"\",VLOOKUP(E1691,Sheet2!A:G,6,FALSE))","v":""},""]
[{"$f":"IF(OR(E1692=\"\",ISBLANK(E1692)),\"\",VLOOKUP(E1692,Sheet2!A:F,2,FALSE))","v":""},{"$f":"IF(OR(E1692=\"\",ISBLANK(E1692)),\"\",VLOOKUP(E1692,Sheet2!A:G,4,FALSE))","v":""},"",{"$f":"IF(OR(E1692=\"\",ISBLANK(E1692)),\"\",VLOOKUP(E1692,Sheet2!A:H,3,FALSE))","v":""},null,{"$f":"IF(OR(E1692=\"\",ISBLANK(E1692)),\"\",VLOOKUP(E1692,Sheet2!A:G,6,FALSE))","v":""},""]
[{"$f":"IF(OR(E1693=\"\",ISBLANK(E1693)),\"\",VLOOKUP(E1693,Sheet2!A:F,2,FALSE))","v":""},{"$f":"IF(OR(E1693=\"\",ISBLANK(E1693)),\"\",VLOOKUP(E1693,Sheet2!A:G,4,FALSE))","v":""},"",{"$f":"IF(OR(E1693=\"\",ISBLANK(E1693)),\"\",VLOOKUP(E1693,Sheet2!A:H,3,FALSE))","v":""},null,{"$f":"IF(OR(E1693=\"\",ISBLANK(E1693)),\"\",VLOOKUP(E1693,Sheet2!A:G,6,FALSE))","v":""},""]
[{"$f":"IF(OR(E1694=\"\",ISBLANK(E1694)),\"\",VLOOKUP(E1694,Sheet2!A:F,2,FALSE))","v":""},{"$f":"IF(OR(E1694=\"\",ISBLANK(E1694)),\"\",VLOOKUP(E1694,Sheet2!A:G,4,FALSE))","v":""},"",{"$f":"IF(OR(E1694=\"\",ISBLANK(E1694)),\"\",VLOOKUP(E1694,Sheet2!A:H,3,FALSE))","v":""},null,{"$f":"IF(OR(E1694=\"\",ISBLANK(E1694)),\"\",VLOOKUP(E1694,Sheet2!A:G,6,FALSE))","v":""},""]
[{"$f":"IF(OR(E1695=\"\",ISBLANK(E1695)),\"\",VLOOKUP(E1695,Sheet2!A:F,2,FALSE))","v":""},{"$f":"IF(OR(E1695=\"\",ISBLANK(E1695)),\"\",VLOOKUP(E1695,Sheet2!A:G,4,FALSE))","v":""},"",{"$f":"IF(OR(E1695=\"\",ISBLANK(E1695)),\"\",VLOOKUP(E1695,Sheet2!A:H,3,FALSE))","v":""},null,{"$f":"IF(OR(E1695=\"\",ISBLANK(E1695)),\"\",VLOOKUP(E1695,Sheet2!A:G,6,FALSE))","v":""},""]
[{"$f":"IF(OR(E1696=\"\",ISBLANK(E1696)),\"\",VLOOKUP(E1696,Sheet2!A:F,2,FALSE))","v":""},{"$f":"IF(OR(E1696=\"\",ISBLANK(E1696)),\"\",VLOOKUP(E1696,Sheet2!A:G,4,FALSE))","v":""},"",{"$f":"IF(OR(E1696=\"\",ISBLANK(E1696)),\"\",VLOOKUP(E1696,Sheet2!A:H,3,FALSE))","v":""},null,{"$f":"IF(OR(E1696=\"\",ISBLANK(E1696)),\"\",VLOOKUP(E1696,Sheet2!A:G,6,FALSE))","v":""},""]
[{"$f":"IF(OR(E1697=\"\",ISBLANK(E1697)),\"\",VLOOKUP(E1697,Sheet2!A:F,2,FALSE))","v":""},{"$f":"IF(OR(E1697=\"\",ISBLANK(E1697)),\"\",VLOOKUP(E1697,Sheet2!A:G,4,FALSE))","v":""},"",{"$f":"IF(OR(E1697=\"\",ISBLANK(E1697)),\"\",VLOOKUP(E1697,Sheet2!A:H,3,FALSE))","v":""},null,{"$f":"IF(OR(E1697=\"\",ISBLANK(E1697)),\"\",VLOOKUP(E1697,Sheet2!A:G,6,FALSE))","v":""},""]
[{"$f":"IF(OR(E1698=\"\",ISBLANK(E1698)),\"\",VLOOKUP(E1698,Sheet2!A:F,2,FALSE))","v":""},{"$f":"IF(OR(E1698=\"\",ISBLANK(E1698)),\"\",VLOOKUP(E1698,Sheet2!A:G,4,FALSE))","v":""},"",{"$f":"IF(OR(E1698=\"\",ISBLANK(E1698)),\"\",VLOOKUP(E1698,Sheet2!A:H,3,FALSE))","v":""},null,{"$f":"IF(OR(E1698=\"\",ISBLANK(E1698)),\"\",VLOOKUP(E1698,Sheet2!A:G,6,FALSE))","v":""},""]
[{"$f":"IF(OR(E1699=\"\",ISBLANK(E1699)),\"\",VLOOKUP(E1699,Sheet2!A:F,2,FALSE))","v":""},{"$f":"IF(OR(E1699=\"\",ISBLANK(E1699)),\"\",VLOOKUP(E1699,Sheet2!A:G,4,FALSE))","v":""},"",{"$f":"IF(OR(E1699=\"\",ISBLANK(E1699)),\"\",VLOOKUP(E1699,Sheet2!A:H,3,FALSE))","v":""},null,{"$f":"IF(OR(E1699=\"\",ISBLANK(E1699)),\"\",VLOOKUP(E1699,Sheet2!A:G,6,FALSE))","v":""},""]
[{"$f":"IF(OR(E1700=\"\",ISBLANK(E1700)),\"\",VLOOKUP(E1700,Sheet2!A:F,2,FALSE))","v":""},{"$f":"IF(OR(E1700=\"\",ISBLANK(E1700)),\"\",VLOOKUP(E1700,Sheet2!A:G,4,FALSE))","v":""},"",{"$f":"IF(OR(E1700=\"\",ISBLANK(E1700)),\"\",VLOOKUP(E1700,Sheet2!A:H,3,FALSE))","v":""},null,{"$f":"IF(OR(E1700=\"\",ISBLANK(E1700)),\"\",VLOOKUP(E1700,Sheet2!A:G,6,FALSE))","v":""},""]
[{"$f":"IF(OR(E1701=\"\",ISBLANK(E1701)),\"\",VLOOKUP(E1701,Sheet2!A:F,2,FALSE))","v":""},{"$f":"IF(OR(E1701=\"\",ISBLANK(E1701)),\"\",VLOOKUP(E1701,Sheet2!A:G,4,FALSE))","v":""},"",{"$f":"IF(OR(E1701=\"\",ISBLANK(E1701)),\"\",VLOOKUP(E1701,Sheet2!A:H,3,FALSE))","v":""},null,{"$f":"IF(OR(E1701=\"\",ISBLANK(E1701)),\"\",VLOOKUP(E1701,Sheet2!A:G,6,FALSE))","v":""},""]
[{"$f":"IF(OR(E1702=\"\",ISBLANK(E1702)),\"\",VLOOKUP(E1702,Sheet2!A:F,2,FALSE))","v":""},{"$f":"IF(OR(E1702=\"\",ISBLANK(E1702)),\"\",VLOOKUP(E1702,Sheet2!A:G,4,FALSE))","v":""},"",{"$f":"IF(OR(E1702=\"\",ISBLANK(E1702)),\"\",VLOOKUP(E1702,Sheet2!A:H,3,FALSE))","v":""},null,{"$f":"IF(OR(E1702=\"\",ISBLANK(E1702)),\"\",VLOOKUP(E1702,Sheet2!A:G,6,FALSE))","v":""},""]
[{"$f":"IF(OR(E1703=\"\",ISBLANK(E1703)),\"\",VLOOKUP(E1703,Sheet2!A:F,2,FALSE))","v":""},{"$f":"IF(OR(E1703=\"\",ISBLANK(E1703)),\"\",VLOOKUP(E1703,Sheet2!A:G,4,FALSE))","v":""},"",{"$f":"IF(OR(E1703=\"\",ISBLANK(E1703)),\"\",VLOOKUP(E1703,Sheet2!A:H,3,FALSE))","v":""},null,{"$f":"IF(OR(E1703=\"\",ISBLANK(E1703)),\"\",VLOOKUP(E1703,Sheet2!A:G,6,FALSE))","v":""},""]
[{"$f":"IF(OR(E1704=\"\",ISBLANK(E1704)),\"\",VLOOKUP(E1704,Sheet2!A:F,2,FALSE))","v":""},{"$f":"IF(OR(E1704=\"\",ISBLANK(E1704)),\"\",VLOOKUP(E1704,Sheet2!A:G,4,FALSE))","v":""},"",{"$f":"IF(OR(E1704=\"\",ISBLANK(E1704)),\"\",VLOOKUP(E1704,Sheet2!A:H,3,FALSE))","v":""},null,{"$f":"IF(OR(E1704=\"\",ISBLANK(E1704)),\"\",VLOOKUP(E1704,Sheet2!A:G,6,FALSE))","v":""},""]
[{"$f":"IF(OR(E1705=\"\",ISBLANK(E1705)),\"\",VLOOKUP(E1705,Sheet2!A:F,2,FALSE))","v":""},{"$f":"IF(OR(E1705=\"\",ISBLANK(E1705)),\"\",VLOOKUP(E1705,Sheet2!A:G,4,FALSE))","v":""},"",{"$f":"IF(OR(E1705=\"\",ISBLANK(E1705)),\"\",VLOOKUP(E1705,Sheet2!A:H,3,FALSE))","v":""},null,{"$f":"IF(OR(E1705=\"\",ISBLANK(E1705)),\"\",VLOOKUP(E1705,Sheet2!A:G,6,FALSE))","v":""},""]
[{"$f":"IF(OR(E1706=\"\",ISBLANK(E1706)),\"\",VLOOKUP(E1706,Sheet2!A:F,2,FALSE))","v":""},{"$f":"IF(OR(E1706=\"\",ISBLANK(E1706)),\"\",VLOOKUP(E1706,Sheet2!A:G,4,FALSE))","v":""},"",{"$f":"IF(OR(E1706=\"\",ISBLANK(E1706)),\"\",VLOOKUP(E1706,Sheet2!A:H,3,FALSE))","v":""},null,{"$f":"IF(OR(E1706=\"\",ISBLANK(E1706)),\"\",VLOOKUP(E1706,Sheet2!A:G,6,FALSE))","v":""},""]
[{"$f":"IF(OR(E1707=\"\",ISBLANK(E1707)),\"\",VLOOKUP(E1707,Sheet2!A:F,2,FALSE))","v":""},{"$f":"IF(OR(E1707=\"\",ISBLANK(E1707)),\"\",VLOOKUP(E1707,Sheet2!A:G,4,FALSE))","v":""},"",{"$f":"IF(OR(E1707=\"\",ISBLANK(E1707)),\"\",VLOOKUP(E1707,Sheet2!A:H,3,FALSE))","v":""},null,{"$f":"IF(OR(E1707=\"\",ISBLANK(E1707)),\"\",VLOOKUP(E1707,Sheet2!A:G,6,FALSE))","v":""},""]
[{"$f":"IF(OR(E1708=\"\",ISBLANK(E1708)),\"\",VLOOKUP(E1708,Sheet2!A:F,2,FALSE))","v":""},{"$f":"IF(OR(E1708=\"\",ISBLANK(E1708)),\"\",VLOOKUP(E1708,Sheet2!A:G,4,FALSE))","v":""},"",{"$f":"IF(OR(E1708=\"\",ISBLANK(E1708)),\"\",VLOOKUP(E1708,Sheet2!A:H,3,FALSE))","v":""},null,{"$f":"IF(OR(E1708=\"\",ISBLANK(E1708)),\"\",VLOOKUP(E1708,Sheet2!A:G,6,FALSE))","v":""},""]
[{"$f":"IF(OR(E1709=\"\",ISBLANK(E1709)),\"\",VLOOKUP(E1709,Sheet2!A:F,2,FALSE))","v":""},{"$f":"IF(OR(E1709=\"\",ISBLANK(E1709)),\"\",VLOOKUP(E1709,Sheet2!A:G,4,FALSE))","v":""},"",{"$f":"IF(OR(E1709=\"\",ISBLANK(E1709)),\"\",VLOOKUP(E1709,Sheet2!A:H,3,FALSE))","v":""},null,{"$f":"IF(OR(E1709=\"\",ISBLANK(E1709)),\"\",VLOOKUP(E1709,Sheet2!A:G,6,FALSE))","v":""},""]
[{"$f":"IF(OR(E1710=\"\",ISBLANK(E1710)),\"\",VLOOKUP(E1710,Sheet2!A:F,2,FALSE))","v":""},{"$f":"IF(OR(E1710=\"\",ISBLANK(E1710)),\"\",VLOOKUP(E1710,Sheet2!A:G,4,FALSE))","v":""},"",{"$f":"IF(OR(E1710=\"\",ISBLANK(E1710)),\"\",VLOOKUP(E1710,Sheet2!A:H,3,FALSE))","v":""},null,{"$f":"IF(OR(E1710=\"\",ISBLANK(E1710)),\"\",VLOOKUP(E1710,Sheet2!A:G,6,FALSE))","v":""},""]
[{"$f":"IF(OR(E1711=\"\",ISBLANK(E1711)),\"\",VLOOKUP(E1711,Sheet2!A:F,2,FALSE))","v":""},{"$f":"IF(OR(E1711=\"\",ISBLANK(E1711)),\"\",VLOOKUP(E1711,Sheet2!A:G,4,FALSE))","v":""},"",{"$f":"IF(OR(E1711=\"\",ISBLANK(E1711)),\"\",VLOOKUP(E1711,Sheet2!A:H,3,FALSE))","v":""},null,{"$f":"IF(OR(E1711=\"\",ISBLANK(E1711)),\"\",VLOOKUP(E1711,Sheet2!A:G,6,FALSE))","v":""},""]
[{"$f":"IF(OR(E1712=\"\",ISBLANK(E1712)),\"\",VLOOKUP(E1712,Sheet2!A:F,2,FALSE))","v":""},{"$f":"IF(OR(E1712=\"\",ISBLANK(E1712)),\"\",VLOOKUP(E1712,Sheet2!A:G,4,FALSE))","v":""},"",{"$f":"IF(OR(E1712=\"\",ISBLANK(E1712)),\"\",VLOOKUP(E1712,Sheet2!A:H,3,FALSE))","v":""},null,{"$f":"IF(OR(E1712=\"\",ISBLANK(E1712)),\"\",VLOOKUP(E1712,Sheet2!A:G,6,FALSE))","v":""},""]
[{"$f":"IF(OR(E1713=\"\",ISBLANK(E1713)),\"\",VLOOKUP(E1713,Sheet2!A:F,2,FALSE))","v":""},{"$f":"IF(OR(E1713=\"\",ISBLANK(E1713)),\"\",VLOOKUP(E1713,Sheet2!A:G,4,FALSE))","v":""},"",{"$f":"IF(OR(E1713=\"\",ISBLANK(E1713)),\"\",VLOOKUP(E1713,Sheet2!A:H,3,FALSE))","v":""},null,{"$f":"IF(OR(E1713=\"\",ISBLANK(E1713)),\"\",VLOOKUP(E1713,Sheet2!A:G,6,FALSE))","v":""},""]
[{"$f":"IF(OR(E1714=\"\",ISBLANK(E1714)),\"\",VLOOKUP(E1714,Sheet2!A:F,2,FALSE))","v":""},{"$f":"IF(OR(E1714=\"\",ISBLANK(E1714)),\"\",VLOOKUP(E1714,Sheet2!A:G,4,FALSE))","v":""},"",{"$f":"IF(OR(E1714=\"\",ISBLANK(E1714)),\"\",VLOOKUP(E1714,Sheet2!A:H,3,FALSE))","v":""},null,{"$f":"IF(OR(E1714=\"\",ISBLANK(E1714)),\"\",VLOOKUP(E1714,Sheet2!A:G,6,FALSE))","v":""},""]
[{"$f":"IF(OR(E1715=\"\",ISBLANK(E1715)),\"\",VLOOKUP(E1715,Sheet2!A:F,2,FALSE))","v":""},{"$f":"IF(OR(E1715=\"\",ISBLANK(E1715)),\"\",VLOOKUP(E1715,Sheet2!A:G,4,FALSE))","v":""},"",{"$f":"IF(OR(E1715=\"\",ISBLANK(E1715)),\"\",VLOOKUP(E1715,Sheet2!A:H,3,FALSE))","v":""},null,{"$f":"IF(OR(E1715=\"\",ISBLANK(E1715)),\"\",VLOOKUP(E1715,Sheet2!A:G,6,FALSE))","v":""},""]
[{"$f":"IF(OR(E1716=\"\",ISBLANK(E1716)),\"\",VLOOKUP(E1716,Sheet2!A:F,2,FALSE))","v":""},{"$f":"IF(OR(E1716=\"\",ISBLANK(E1716)),\"\",VLOOKUP(E1716,Sheet2!A:G,4,FALSE))","v":""},"",{"$f":"IF(OR(E1716=\"\",ISBLANK(E1716)),\"\",VLOOKUP(E1716,Sheet2!A:H,3,FALSE))","v":""},null,{"$f":"IF(OR(E1716=\"\",ISBLANK(E1716)),\"\",VLOOKUP(E1716,Sheet2!A:G,6,FALSE))","v":""},""]
[{"$f":"IF(OR(E1717=\"\",ISBLANK(E1717)),\"\",VLOOKUP(E1717,Sheet2!A:F,2,FALSE))","v":""},{"$f":"IF(OR(E1717=\"\",ISBLANK(E1717)),\"\",VLOOKUP(E1717,Sheet2!A:G,4,FALSE))","v":""},"",{"$f":"IF(OR(E1717=\"\",ISBLANK(E1717)),\"\",VLOOKUP(E1717,Sheet2!A:H,3,FALSE))","v":""},null,{"$f":"IF(OR(E1717=\"\",ISBLANK(E1717)),\"\",VLOOKUP(E1717,Sheet2!A:G,6,FALSE))","v":""},""]
[{"$f":"IF(OR(E1718=\"\",ISBLANK(E1718)),\"\",VLOOKUP(E1718,Sheet2!A:F,2,FALSE))","v":""},{"$f":"IF(OR(E1718=\"\",ISBLANK(E1718)),\"\",VLOOKUP(E1718,Sheet2!A:G,4,FALSE))","v":""},"",{"$f":"IF(OR(E1718=\"\",ISBLANK(E1718)),\"\",VLOOKUP(E1718,Sheet2!A:H,3,FALSE))","v":""},null,{"$f":"IF(OR(E1718=\"\",ISBLANK(E1718)),\"\",VLOOKUP(E1718,Sheet2!A:G,6,FALSE))","v":""},""]
[{"$f":"IF(OR(E1719=\"\",ISBLANK(E1719)),\"\",VLOOKUP(E1719,Sheet2!A:F,2,FALSE))","v":""},{"$f":"IF(OR(E1719=\"\",ISBLANK(E1719)),\"\",VLOOKUP(E1719,Sheet2!A:G,4,FALSE))","v":""},"",{"$f":"IF(OR(E1719=\"\",ISBLANK(E1719)),\"\",VLOOKUP(E1719,Sheet2!A:H,3,FALSE))","v":""},null,{"$f":"IF(OR(E1719=\"\",ISBLANK(E1719)),\"\",VLOOKUP(E1719,Sheet2!A:G,6,FALSE))","v":""},""]
[{"$f":"IF(OR(E1720=\"\",ISBLANK(E1720)),\"\",VLOOKUP(E1720,Sheet2!A:F,2,FALSE))","v":""},{"$f":"IF(OR(E1720=\"\",ISBLANK(E1720)),\"\",VLOOKUP(E1720,Sheet2!A:G,4,FALSE))","v":""},"",{"$f":"IF(OR(E1720=\"\",ISBLANK(E1720)),\"\",VLOOKUP(E1720,Sheet2!A:H,3,FALSE))","v":""},null,{"$f":"IF(OR(E1720=\"\",ISBLANK(E1720)),\"\",VLOOKUP(E1720,Sheet2!A:G,6,FALSE))","v":""},""]
[{"$f":"IF(OR(E1721=\"\",ISBLANK(E1721)),\"\",VLOOKUP(E1721,Sheet2!A:F,2,FALSE))","v":""},{"$f":"IF(OR(E1721=\"\",ISBLANK(E1721)),\"\",VLOOKUP(E1721,Sheet2!A:G,4,FALSE))","v":""},"",{"$f":"IF(OR(E1721=\"\",ISBLANK(E1721)),\"\",VLOOKUP(E1721,Sheet2!A:H,3,FALSE))","v":""},null,{"$f":"IF(OR(E1721=\"\",ISBLANK(E1721)),\"\",VLOOKUP(E1721,Sheet2!A:G,6,FALSE))","v":""},""]
[{"$f":"IF(OR(E1722=\"\",ISBLANK(E1722)),\"\",VLOOKUP(E1722,Sheet2!A:F,2,FALSE))","v":""},{"$f":"IF(OR(E1722=\"\",ISBLANK(E1722)),\"\",VLOOKUP(E1722,Sheet2!A:G,4,FALSE))","v":""},"",{"$f":"IF(OR(E1722=\"\",ISBLANK(E1722)),\"\",VLOOKUP(E1722,Sheet2!A:H,3,FALSE))","v":""},null,{"$f":"IF(OR(E1722=\"\",ISBLANK(E1722)),\"\",VLOOKUP(E1722,Sheet2!A:G,6,FALSE))","v":""},""]
[{"$f":"IF(OR(E1723=\"\",ISBLANK(E1723)),\"\",VLOOKUP(E1723,Sheet2!A:F,2,FALSE))","v":""},{"$f":"IF(OR(E1723=\"\",ISBLANK(E1723)),\"\",VLOOKUP(E1723,Sheet2!A:G,4,FALSE))","v":""},"",{"$f":"IF(OR(E1723=\"\",ISBLANK(E1723)),\"\",VLOOKUP(E1723,Sheet2!A:H,3,FALSE))","v":""},null,{"$f":"IF(OR(E1723=\"\",ISBLANK(E1723)),\"\",VLOOKUP(E1723,Sheet2!A:G,6,FALSE))","v":""},""]
[{"$f":"IF(OR(E1724=\"\",ISBLANK(E1724)),\"\",VLOOKUP(E1724,Sheet2!A:F,2,FALSE))","v":""},{"$f":"IF(OR(E1724=\"\",ISBLANK(E1724)),\"\",VLOOKUP(E1724,Sheet2!A:G,4,FALSE))","v":""},"",{"$f":"IF(OR(E1724=\"\",ISBLANK(E1724)),\"\",VLOOKUP(E1724,Sheet2!A:H,3,FALSE))","v":""},null,{"$f":"IF(OR(E1724=\"\",ISBLANK(E1724)),\"\",VLOOKUP(E1724,Sheet2!A:G,6,FALSE))","v":""},""]
[{"$f":"IF(OR(E1725=\"\",ISBLANK(E1725)),\"\",VLOOKUP(E1725,Sheet2!A:F,2,FALSE))","v":""},{"$f":"IF(OR(E1725=\"\",ISBLANK(E1725)),\"\",VLOOKUP(E1725,Sheet2!A:G,4,FALSE))","v":""},"",{"$f":"IF(OR(E1725=\"\",ISBLANK(E1725)),\"\",VLOOKUP(E1725,Sheet2!A:H,3,FALSE))","v":""},null,{"$f":"IF(OR(E1725=\"\",ISBLANK(E1725)),\"\",VLOOKUP(E1725,Sheet2!A:G,6,FALSE))","v":""},""]
[{"$f":"IF(OR(E1726=\"\",ISBLANK(E1726)),\"\",VLOOKUP(E1726,Sheet2!A:F,2,FALSE))","v":""},{"$f":"IF(OR(E1726=\"\",ISBLANK(E1726)),\"\",VLOOKUP(E1726,Sheet2!A:G,4,FALSE))","v":""},"",{"$f":"IF(OR(E1726=\"\",ISBLANK(E1726)),\"\",VLOOKUP(E1726,Sheet2!A:H,3,FALSE))","v":""},null,{"$f":"IF(OR(E1726=\"\",ISBLANK(E1726)),\"\",VLOOKUP(E1726,Sheet2!A:G,6,FALSE))","v":""},""]
[{"$f":"IF(OR(E1727=\"\",ISBLANK(E1727)),\"\",VLOOKUP(E1727,Sheet2!A:F,2,FALSE))","v":""},{"$f":"IF(OR(E1727=\"\",ISBLANK(E1727)),\"\",VLOOKUP(E1727,Sheet2!A:G,4,FALSE))","v":""},"",{"$f":"IF(OR(E1727=\"\",ISBLANK(E1727)),\"\",VLOOKUP(E1727,Sheet2!A:H,3,FALSE))","v":""},null,{"$f":"IF(OR(E1727=\"\",ISBLANK(E1727)),\"\",VLOOKUP(E1727,Sheet2!A:G,6,FALSE))","v":""},""]
[{"$f":"IF(OR(E1728=\"\",ISBLANK(E1728)),\"\",VLOOKUP(E1728,Sheet2!A:F,2,FALSE))","v":""},{"$f":"IF(OR(E1728=\"\",ISBLANK(E1728)),\"\",VLOOKUP(E1728,Sheet2!A:G,4,FALSE))","v":""},"",{"$f":"IF(OR(E1728=\"\",ISBLANK(E1728)),\"\",VLOOKUP(E1728,Sheet2!A:H,3,FALSE))","v":""},null,{"$f":"IF(OR(E1728=\"\",ISBLANK(E1728)),\"\",VLOOKUP(E1728,Sheet2!A:G,6,FALSE))","v":""},""]
[{"$f":"IF(OR(E1729=\"\",ISBLANK(E1729)),\"\",VLOOKUP(E1729,Sheet2!A:F,2,FALSE))","v":""},{"$f":"IF(OR(E1729=\"\",ISBLANK(E1729)),\"\",VLOOKUP(E1729,Sheet2!A:G,4,FALSE))","v":""},"",{"$f":"IF(OR(E1729=\"\",ISBLANK(E1729)),\"\",VLOOKUP(E1729,Sheet2!A:H,3,FALSE))","v":""},null,{"$f":"IF(OR(E1729=\"\",ISBLANK(E1729)),\"\",VLOOKUP(E1729,Sheet2!A:G,6,FALSE))","v":""},""]
[{"$f":"IF(OR(E1730=\"\",ISBLANK(E1730)),\"\",VLOOKUP(E1730,Sheet2!A:F,2,FALSE))","v":""},{"$f":"IF(OR(E1730=\"\",ISBLANK(E1730)),\"\",VLOOKUP(E1730,Sheet2!A:G,4,FALSE))","v":""},"",{"$f":"IF(OR(E1730=\"\",ISBLANK(E1730)),\"\",VLOOKUP(E1730,Sheet2!A:H,3,FALSE))","v":""},null,{"$f":"IF(OR(E1730=\"\",ISBLANK(E1730)),\"\",VLOOKUP(E1730,Sheet2!A:G,6,FALSE))","v":""},""]
[{"$f":"IF(OR(E1731=\"\",ISBLANK(E1731)),\"\",VLOOKUP(E1731,Sheet2!A:F,2,FALSE))","v":""},{"$f":"IF(OR(E1731=\"\",ISBLANK(E1731)),\"\",VLOOKUP(E1731,Sheet2!A:G,4,FALSE))","v":""},{"$f":"IF(D1731=0,\"\",D1731)","v":""},{"$f":"IF(OR(E1731=\"\",ISBLANK(E1731)),\"\",VLOOKUP(E1731,Sheet2!A:H,3,FALSE))","v":""},null,{"$f":"IF(OR(E1731=\"\",ISBLANK(E1731)),\"\",VLOOKUP(E1731,Sheet2!A:G,6,FALSE))","v":""},{"$f":"IF(F1731=0,\"\",F1731)","v":""}]
[{"$f":"IF(OR(E1732=\"\",ISBLANK(E1732)),\"\",VLOOKUP(E1732,Sheet2!A:F,2,FALSE))","v":""},{"$f":"IF(OR(E1732=\"\",ISBLANK(E1732)),\"\",VLOOKUP(E1732,Sheet2!A:G,4,FALSE))","v":""},"",{"$f":"IF(OR(E1732=\"\",ISBLANK(E1732)),\"\",VLOOKUP(E1732,Sheet2!A:H,3,FALSE))","v":""},null,{"$f":"IF(OR(E1732=\"\",ISBLANK(E1732)),\"\",VLOOKUP(E1732,Sheet2!A:G,6,FALSE))","v":""},""]
[{"$f":"IF(OR(E1733=\"\",ISBLANK(E1733)),\"\",VLOOKUP(E1733,Sheet2!A:F,2,FALSE))","v":""},{"$f":"IF(OR(E1733=\"\",ISBLANK(E1733)),\"\",VLOOKUP(E1733,Sheet2!A:G,4,FALSE))","v":""},"",{"$f":"IF(OR(E1733=\"\",ISBLANK(E1733)),\"\",VLOOKUP(E1733,Sheet2!A:H,3,FALSE))","v":""},null,{"$f":"IF(OR(E1733=\"\",ISBLANK(E1733)),\"\",VLOOKUP(E1733,Sheet2!A:G,6,FALSE))","v":""},""]
[{"$f":"IF(OR(E1734=\"\",ISBLANK(E1734)),\"\",VLOOKUP(E1734,Sheet2!A:F,2,FALSE))","v":""},{"$f":"IF(OR(E1734=\"\",ISBLANK(E1734)),\"\",VLOOKUP(E1734,Sheet2!A:G,4,FALSE))","v":""},"",{"$f":"IF(OR(E1734=\"\",ISBLANK(E1734)),\"\",VLOOKUP(E1734,Sheet2!A:H,3,FALSE))","v":""},null,{"$f":"IF(OR(E1734=\"\",ISBLANK(E1734)),\"\",VLOOKUP(E1734,Sheet2!A:G,6,FALSE))","v":""},""]
[{"$f":"IF(OR(E1735=\"\",ISBLANK(E1735)),\"\",VLOOKUP(E1735,Sheet2!A:F,2,FALSE))","v":""},{"$f":"IF(OR(E1735=\"\",ISBLANK(E1735)),\"\",VLOOKUP(E1735,Sheet2!A:G,4,FALSE))","v":""},"",{"$f":"IF(OR(E1735=\"\",ISBLANK(E1735)),\"\",VLOOKUP(E1735,Sheet2!A:H,3,FALSE))","v":""},null,{"$f":"IF(OR(E1735=\"\",ISBLANK(E1735)),\"\",VLOOKUP(E1735,Sheet2!A:G,6,FALSE))","v":""},""]
[{"$f":"IF(OR(E1736=\"\",ISBLANK(E1736)),\"\",VLOOKUP(E1736,Sheet2!A:F,2,FALSE))","v":""},{"$f":"IF(OR(E1736=\"\",ISBLANK(E1736)),\"\",VLOOKUP(E1736,Sheet2!A:G,4,FALSE))","v":""},"",{"$f":"IF(OR(E1736=\"\",ISBLANK(E1736)),\"\",VLOOKUP(E1736,Sheet2!A:H,3,FALSE))","v":""},null,{"$f":"IF(OR(E1736=\"\",ISBLANK(E1736)),\"\",VLOOKUP(E1736,Sheet2!A:G,6,FALSE))","v":""},""]
[{"$f":"IF(OR(E1737=\"\",ISBLANK(E1737)),\"\",VLOOKUP(E1737,Sheet2!A:F,2,FALSE))","v":""},{"$f":"IF(OR(E1737=\"\",ISBLANK(E1737)),\"\",VLOOKUP(E1737,Sheet2!A:G,4,FALSE))","v":""},"",{"$f":"IF(OR(E1737=\"\",ISBLANK(E1737)),\"\",VLOOKUP(E1737,Sheet2!A:H,3,FALSE))","v":""},null,{"$f":"IF(OR(E1737=\"\",ISBLANK(E1737)),\"\",VLOOKUP(E1737,Sheet2!A:G,6,FALSE))","v":""},""]
[{"$f":"IF(OR(E1738=\"\",ISBLANK(E1738)),\"\",VLOOKUP(E1738,Sheet2!A:F,2,FALSE))","v":""},{"$f":"IF(OR(E1738=\"\",ISBLANK(E1738)),\"\",VLOOKUP(E1738,Sheet2!A:G,4,FALSE))","v":""},"",{"$f":"IF(OR(E1738=\"\",ISBLANK(E1738)),\"\",VLOOKUP(E1738,Sheet2!A:H,3,FALSE))","v":""},null,{"$f":"IF(OR(E1738=\"\",ISBLANK(E1738)),\"\",VLOOKUP(E1738,Sheet2!A:G,6,FALSE))","v":""},""]
[{"$f":"IF(OR(E1739=\"\",ISBLANK(E1739)),\"\",VLOOKUP(E1739,Sheet2!A:F,2,FALSE))","v":""},{"$f":"IF(OR(E1739=\"\",ISBLANK(E1739)),\"\",VLOOKUP(E1739,Sheet2!A:G,4,FALSE))","v":""},"",{"$f":"IF(OR(E1739=\"\",ISBLANK(E1739)),\"\",VLOOKUP(E1739,Sheet2!A:H,3,FALSE))","v":""},null,{"$f":"IF(OR(E1739=\"\",ISBLANK(E1739)),\"\",VLOOKUP(E1739,Sheet2!A:G,6,FALSE))","v":""},""]
[{"$f":"IF(OR(E1740=\"\",ISBLANK(E1740)),\"\",VLOOKUP(E1740,Sheet2!A:F,2,FALSE))","v":""},{"$f":"IF(OR(E1740=\"\",ISBLANK(E1740)),\"\",VLOOKUP(E1740,Sheet2!A:G,4,FALSE))","v":""},"",{"$f":"IF(OR(E1740=\"\",ISBLANK(E1740)),\"\",VLOOKUP(E1740,Sheet2!A:H,3,FALSE))","v":""},null,{"$f":"IF(OR(E1740=\"\",ISBLANK(E1740)),\"\",VLOOKUP(E1740,Sheet2!A:G,6,FALSE))","v":""},""]
[{"$f":"IF(OR(E1741=\"\",ISBLANK(E1741)),\"\",VLOOKUP(E1741,Sheet2!A:F,2,FALSE))","v":""},{"$f":"IF(OR(E1741=\"\",ISBLANK(E1741)),\"\",VLOOKUP(E1741,Sheet2!A:G,4,FALSE))","v":""},"",{"$f":"IF(OR(E1741=\"\",ISBLANK(E1741)),\"\",VLOOKUP(E1741,Sheet2!A:H,3,FALSE))","v":""},null,{"$f":"IF(OR(E1741=\"\",ISBLANK(E1741)),\"\",VLOOKUP(E1741,Sheet2!A:G,6,FALSE))","v":""},""]
[{"$f":"IF(OR(E1742=\"\",ISBLANK(E1742)),\"\",VLOOKUP(E1742,Sheet2!A:F,2,FALSE))","v":""},{"$f":"IF(OR(E1742=\"\",ISBLANK(E1742)),\"\",VLOOKUP(E1742,Sheet2!A:G,4,FALSE))","v":""},"",{"$f":"IF(OR(E1742=\"\",ISBLANK(E1742)),\"\",VLOOKUP(E1742,Sheet2!A:H,3,FALSE))","v":""},null,{"$f":"IF(OR(E1742=\"\",ISBLANK(E1742)),\"\",VLOOKUP(E1742,Sheet2!A:G,6,FALSE))","v":""},""]
[{"$f":"IF(OR(E1743=\"\",ISBLANK(E1743)),\"\",VLOOKUP(E1743,Sheet2!A:F,2,FALSE))","v":""},{"$f":"IF(OR(E1743=\"\",ISBLANK(E1743)),\"\",VLOOKUP(E1743,Sheet2!A:G,4,FALSE))","v":""},"",{"$f":"IF(OR(E1743=\"\",ISBLANK(E1743)),\"\",VLOOKUP(E1743,Sheet2!A:H,3,FALSE))","v":""},null,{"$f":"IF(OR(E1743=\"\",ISBLANK(E1743)),\"\",VLOOKUP(E1743,Sheet2!A:G,6,FALSE))","v":""},""]
[{"$f":"IF(OR(E1744=\"\",ISBLANK(E1744)),\"\",VLOOKUP(E1744,Sheet2!A:F,2,FALSE))","v":""},{"$f":"IF(OR(E1744=\"\",ISBLANK(E1744)),\"\",VLOOKUP(E1744,Sheet2!A:G,4,FALSE))","v":""},"",{"$f":"IF(OR(E1744=\"\",ISBLANK(E1744)),\"\",VLOOKUP(E1744,Sheet2!A:H,3,FALSE))","v":""},null,{"$f":"IF(OR(E1744=\"\",ISBLANK(E1744)),\"\",VLOOKUP(E1744,Sheet2!A:G,6,FALSE))","v":""},""]
[{"$f":"IF(OR(E1745=\"\",ISBLANK(E1745)),\"\",VLOOKUP(E1745,Sheet2!A:F,2,FALSE))","v":""},{"$f":"IF(OR(E1745=\"\",ISBLANK(E1745)),\"\",VLOOKUP(E1745,Sheet2!A:G,4,FALSE))","v":""},"",{"$f":"IF(OR(E1745=\"\",ISBLANK(E1745)),\"\",VLOOKUP(E1745,Sheet2!A:H,3,FALSE))","v":""},null,{"$f":"IF(OR(E1745=\"\",ISBLANK(E1745)),\"\",VLOOKUP(E1745,Sheet2!A:G,6,FALSE))","v":""},""]
[{"$f":"IF(OR(E1746=\"\",ISBLANK(E1746)),\"\",VLOOKUP(E1746,Sheet2!A:F,2,FALSE))","v":""},{"$f":"IF(OR(E1746=\"\",ISBLANK(E1746)),\"\",VLOOKUP(E1746,Sheet2!A:G,4,FALSE))","v":""},"",{"$f":"IF(OR(E1746=\"\",ISBLANK(E1746)),\"\",VLOOKUP(E1746,Sheet2!A:H,3,FALSE))","v":""},null,{"$f":"IF(OR(E1746=\"\",ISBLANK(E1746)),\"\",VLOOKUP(E1746,Sheet2!A:G,6,FALSE))","v":""},""]
[{"$f":"IF(OR(E1747=\"\",ISBLANK(E1747)),\"\",VLOOKUP(E1747,Sheet2!A:F,2,FALSE))","v":""},{"$f":"IF(OR(E1747=\"\",ISBLANK(E1747)),\"\",VLOOKUP(E1747,Sheet2!A:G,4,FALSE))","v":""},"",{"$f":"IF(OR(E1747=\"\",ISBLANK(E1747)),\"\",VLOOKUP(E1747,Sheet2!A:H,3,FALSE))","v":""},null,{"$f":"IF(OR(E1747=\"\",ISBLANK(E1747)),\"\",VLOOKUP(E1747,Sheet2!A:G,6,FALSE))","v":""},""]
[{"$f":"IF(OR(E1748=\"\",ISBLANK(E1748)),\"\",VLOOKUP(E1748,Sheet2!A:F,2,FALSE))","v":""},{"$f":"IF(OR(E1748=\"\",ISBLANK(E1748)),\"\",VLOOKUP(E1748,Sheet2!A:G,4,FALSE))","v":""},"",{"$f":"IF(OR(E1748=\"\",ISBLANK(E1748)),\"\",VLOOKUP(E1748,Sheet2!A:H,3,FALSE))","v":""},null,{"$f":"IF(OR(E1748=\"\",ISBLANK(E1748)),\"\",VLOOKUP(E1748,Sheet2!A:G,6,FALSE))","v":""},""]
[{"$f":"IF(OR(E1749=\"\",ISBLANK(E1749)),\"\",VLOOKUP(E1749,Sheet2!A:F,2,FALSE))","v":""},{"$f":"IF(OR(E1749=\"\",ISBLANK(E1749)),\"\",VLOOKUP(E1749,Sheet2!A:G,4,FALSE))","v":""},"",{"$f":"IF(OR(E1749=\"\",ISBLANK(E1749)),\"\",VLOOKUP(E1749,Sheet2!A:H,3,FALSE))","v":""},null,{"$f":"IF(OR(E1749=\"\",ISBLANK(E1749)),\"\",VLOOKUP(E1749,Sheet2!A:G,6,FALSE))","v":""},""]
[{"$f":"IF(OR(E1750=\"\",ISBLANK(E1750)),\"\",VLOOKUP(E1750,Sheet2!A:F,2,FALSE))","v":""},{"$f":"IF(OR(E1750=\"\",ISBLANK(E1750)),\"\",VLOOKUP(E1750,Sheet2!A:G,4,FALSE))","v":""},"",{"$f":"IF(OR(E1750=\"\",ISBLANK(E1750)),\"\",VLOOKUP(E1750,Sheet2!A:H,3,FALSE))","v":""},null,{"$f":"IF(OR(E1750=\"\",ISBLANK(E1750)),\"\",VLOOKUP(E1750,Sheet2!A:G,6,FALSE))","v":""},""]
[{"$f":"IF(OR(E1751=\"\",ISBLANK(E1751)),\"\",VLOOKUP(E1751,Sheet2!A:F,2,FALSE))","v":""},{"$f":"IF(OR(E1751=\"\",ISBLANK(E1751)),\"\",VLOOKUP(E1751,Sheet2!A:G,4,FALSE))","v":""},"",{"$f":"IF(OR(E1751=\"\",ISBLANK(E1751)),\"\",VLOOKUP(E1751,Sheet2!A:H,3,FALSE))","v":""},null,{"$f":"IF(OR(E1751=\"\",ISBLANK(E1751)),\"\",VLOOKUP(E1751,Sheet2!A:G,6,FALSE))","v":""},""]
[{"$f":"IF(OR(E1752=\"\",ISBLANK(E1752)),\"\",VLOOKUP(E1752,Sheet2!A:F,2,FALSE))","v":""},{"$f":"IF(OR(E1752=\"\",ISBLANK(E1752)),\"\",VLOOKUP(E1752,Sheet2!A:G,4,FALSE))","v":""},"",{"$f":"IF(OR(E1752=\"\",ISBLANK(E1752)),\"\",VLOOKUP(E1752,Sheet2!A:H,3,FALSE))","v":""},null,{"$f":"IF(OR(E1752=\"\",ISBLANK(E1752)),\"\",VLOOKUP(E1752,Sheet2!A:G,6,FALSE))","v":""},""]
[{"$f":"IF(OR(E1753=\"\",ISBLANK(E1753)),\"\",VLOOKUP(E1753,Sheet2!A:F,2,FALSE))","v":""},{"$f":"IF(OR(E1753=\"\",ISBLANK(E1753)),\"\",VLOOKUP(E1753,Sheet2!A:G,4,FALSE))","v":""},"",{"$f":"IF(OR(E1753=\"\",ISBLANK(E1753)),\"\",VLOOKUP(E1753,Sheet2!A:H,3,FALSE))","v":""},null,{"$f":"IF(OR(E1753=\"\",ISBLANK(E1753)),\"\",VLOOKUP(E1753,Sheet2!A:G,6,FALSE))","v":""},""]
[{"$f":"IF(OR(E1754=\"\",ISBLANK(E1754)),\"\",VLOOKUP(E1754,Sheet2!A:F,2,FALSE))","v":""},{"$f":"IF(OR(E1754=\"\",ISBLANK(E1754)),\"\",VLOOKUP(E1754,Sheet2!A:G,4,FALSE))","v":""},"",{"$f":"IF(OR(E1754=\"\",ISBLANK(E1754)),\"\",VLOOKUP(E1754,Sheet2!A:H,3,FALSE))","v":""},null,{"$f":"IF(OR(E1754=\"\",ISBLANK(E1754)),\"\",VLOOKUP(E1754,Sheet2!A:G,6,FALSE))","v":""},""]
[{"$f":"IF(OR(E1755=\"\",ISBLANK(E1755)),\"\",VLOOKUP(E1755,Sheet2!A:F,2,FALSE))","v":""},{"$f":"IF(OR(E1755=\"\",ISBLANK(E1755)),\"\",VLOOKUP(E1755,Sheet2!A:G,4,FALSE))","v":""},"",{"$f":"IF(OR(E1755=\"\",ISBLANK(E1755)),\"\",VLOOKUP(E1755,Sheet2!A:H,3,FALSE))","v":""},null,{"$f":"IF(OR(E1755=\"\",ISBLANK(E1755)),\"\",VLOOKUP(E1755,Sheet2!A:G,6,FALSE))","v":""},""]
[{"$f":"IF(OR(E1756=\"\",ISBLANK(E1756)),\"\",VLOOKUP(E1756,Sheet2!A:F,2,FALSE))","v":""},{"$f":"IF(OR(E1756=\"\",ISBLANK(E1756)),\"\",VLOOKUP(E1756,Sheet2!A:G,4,FALSE))","v":""},"",{"$f":"IF(OR(E1756=\"\",ISBLANK(E1756)),\"\",VLOOKUP(E1756,Sheet2!A:H,3,FALSE))","v":""},null,{"$f":"IF(OR(E1756=\"\",ISBLANK(E1756)),\"\",VLOOKUP(E1756,Sheet2!A:G,6,FALSE))","v":""},""]
[{"$f":"IF(OR(E1757=\"\",ISBLANK(E1757)),\"\",VLOOKUP(E1757,Sheet2!A:F,2,FALSE))","v":""},{"$f":"IF(OR(E1757=\"\",ISBLANK(E1757)),\"\",VLOOKUP(E1757,Sheet2!A:G,4,FALSE))","v":""},"",{"$f":"IF(OR(E1757=\"\",ISBLANK(E1757)),\"\",VLOOKUP(E1757,Sheet2!A:H,3,FALSE))","v":""},null,{"$f":"IF(OR(E1757=\"\",ISBLANK(E1757)),\"\",VLOOKUP(E1757,Sheet2!A:G,6,FALSE))","v":""},""]
[{"$f":"IF(OR(E1758=\"\",ISBLANK(E1758)),\"\",VLOOKUP(E1758,Sheet2!A:F,2,FALSE))","v":""},{"$f":"IF(OR(E1758=\"\",ISBLANK(E1758)),\"\",VLOOKUP(E1758,Sheet2!A:G,4,FALSE))","v":""},"",{"$f":"IF(OR(E1758=\"\",ISBLANK(E1758)),\"\",VLOOKUP(E1758,Sheet2!A:H,3,FALSE))","v":""},null,{"$f":"IF(OR(E1758=\"\",ISBLANK(E1758)),\"\",VLOOKUP(E1758,Sheet2!A:G,6,FALSE))","v":""},""]
[{"$f":"IF(OR(E1759=\"\",ISBLANK(E1759)),\"\",VLOOKUP(E1759,Sheet2!A:F,2,FALSE))","v":""},{"$f":"IF(OR(E1759=\"\",ISBLANK(E1759)),\"\",VLOOKUP(E1759,Sheet2!A:G,4,FALSE))","v":""},"",{"$f":"IF(OR(E1759=\"\",ISBLANK(E1759)),\"\",VLOOKUP(E1759,Sheet2!A:H,3,FALSE))","v":""},null,{"$f":"IF(OR(E1759=\"\",ISBLANK(E1759)),\"\",VLOOKUP(E1759,Sheet2!A:G,6,FALSE))","v":""},""]
[{"$f":"IF(OR(E1760=\"\",ISBLANK(E1760)),\"\",VLOOKUP(E1760,Sheet2!A:F,2,FALSE))","v":""},{"$f":"IF(OR(E1760=\"\",ISBLANK(E1760)),\"\",VLOOKUP(E1760,Sheet2!A:G,4,FALSE))","v":""},"",{"$f":"IF(OR(E1760=\"\",ISBLANK(E1760)),\"\",VLOOKUP(E1760,Sheet2!A:H,3,FALSE))","v":""},null,{"$f":"IF(OR(E1760=\"\",ISBLANK(E1760)),\"\",VLOOKUP(E1760,Sheet2!A:G,6,FALSE))","v":""},""]
[{"$f":"IF(OR(E1761=\"\",ISBLANK(E1761)),\"\",VLOOKUP(E1761,Sheet2!A:F,2,FALSE))","v":""},{"$f":"IF(OR(E1761=\"\",ISBLANK(E1761)),\"\",VLOOKUP(E1761,Sheet2!A:G,4,FALSE))","v":""},"",{"$f":"IF(OR(E1761=\"\",ISBLANK(E1761)),\"\",VLOOKUP(E1761,Sheet2!A:H,3,FALSE))","v":""},null,{"$f":"IF(OR(E1761=\"\",ISBLANK(E1761)),\"\",VLOOKUP(E1761,Sheet2!A:G,6,FALSE))","v":""},""]
[{"$f":"IF(OR(E1762=\"\",ISBLANK(E1762)),\"\",VLOOKUP(E1762,Sheet2!A:F,2,FALSE))","v":""},{"$f":"IF(OR(E1762=\"\",ISBLANK(E1762)),\"\",VLOOKUP(E1762,Sheet2!A:G,4,FALSE))","v":""},"",{"$f":"IF(OR(E1762=\"\",ISBLANK(E1762)),\"\",VLOOKUP(E1762,Sheet2!A:H,3,FALSE))","v":""},null,{"$f":"IF(OR(E1762=\"\",ISBLANK(E1762)),\"\",VLOOKUP(E1762,Sheet2!A:G,6,FALSE))","v":""},""]
[{"$f":"IF(OR(E1763=\"\",ISBLANK(E1763)),\"\",VLOOKUP(E1763,Sheet2!A:F,2,FALSE))","v":""},{"$f":"IF(OR(E1763=\"\",ISBLANK(E1763)),\"\",VLOOKUP(E1763,Sheet2!A:G,4,FALSE))","v":""},"",{"$f":"IF(OR(E1763=\"\",ISBLANK(E1763)),\"\",VLOOKUP(E1763,Sheet2!A:H,3,FALSE))","v":""},null,{"$f":"IF(OR(E1763=\"\",ISBLANK(E1763)),\"\",VLOOKUP(E1763,Sheet2!A:G,6,FALSE))","v":""},""]
[{"$f":"IF(OR(E1764=\"\",ISBLANK(E1764)),\"\",VLOOKUP(E1764,Sheet2!A:F,2,FALSE))","v":""},{"$f":"IF(OR(E1764=\"\",ISBLANK(E1764)),\"\",VLOOKUP(E1764,Sheet2!A:G,4,FALSE))","v":""},"",{"$f":"IF(OR(E1764=\"\",ISBLANK(E1764)),\"\",VLOOKUP(E1764,Sheet2!A:H,3,FALSE))","v":""},null,{"$f":"IF(OR(E1764=\"\",ISBLANK(E1764)),\"\",VLOOKUP(E1764,Sheet2!A:G,6,FALSE))","v":""},""]
[{"$f":"IF(OR(E1765=\"\",ISBLANK(E1765)),\"\",VLOOKUP(E1765,Sheet2!A:F,2,FALSE))","v":""},{"$f":"IF(OR(E1765=\"\",ISBLANK(E1765)),\"\",VLOOKUP(E1765,Sheet2!A:G,4,FALSE))","v":""},"",{"$f":"IF(OR(E1765=\"\",ISBLANK(E1765)),\"\",VLOOKUP(E1765,Sheet2!A:H,3,FALSE))","v":""},null,{"$f":"IF(OR(E1765=\"\",ISBLANK(E1765)),\"\",VLOOKUP(E1765,Sheet2!A:G,6,FALSE))","v":""},""]
[{"$f":"IF(OR(E1766=\"\",ISBLANK(E1766)),\"\",VLOOKUP(E1766,Sheet2!A:F,2,FALSE))","v":""},{"$f":"IF(OR(E1766=\"\",ISBLANK(E1766)),\"\",VLOOKUP(E1766,Sheet2!A:G,4,FALSE))","v":""},"",{"$f":"IF(OR(E1766=\"\",ISBLANK(E1766)),\"\",VLOOKUP(E1766,Sheet2!A:H,3,FALSE))","v":""},null,{"$f":"IF(OR(E1766=\"\",ISBLANK(E1766)),\"\",VLOOKUP(E1766,Sheet2!A:G,6,FALSE))","v":""},""]
[{"$f":"IF(OR(E1767=\"\",ISBLANK(E1767)),\"\",VLOOKUP(E1767,Sheet2!A:F,2,FALSE))","v":""},{"$f":"IF(OR(E1767=\"\",ISBLANK(E1767)),\"\",VLOOKUP(E1767,Sheet2!A:G,4,FALSE))","v":""},"",{"$f":"IF(OR(E1767=\"\",ISBLANK(E1767)),\"\",VLOOKUP(E1767,Sheet2!A:H,3,FALSE))","v":""},null,{"$f":"IF(OR(E1767=\"\",ISBLANK(E1767)),\"\",VLOOKUP(E1767,Sheet2!A:G,6,FALSE))","v":""},""]
[{"$f":"IF(OR(E1768=\"\",ISBLANK(E1768)),\"\",VLOOKUP(E1768,Sheet2!A:F,2,FALSE))","v":""},{"$f":"IF(OR(E1768=\"\",ISBLANK(E1768)),\"\",VLOOKUP(E1768,Sheet2!A:G,4,FALSE))","v":""},"",{"$f":"IF(OR(E1768=\"\",ISBLANK(E1768)),\"\",VLOOKUP(E1768,Sheet2!A:H,3,FALSE))","v":""},null,{"$f":"IF(OR(E1768=\"\",ISBLANK(E1768)),\"\",VLOOKUP(E1768,Sheet2!A:G,6,FALSE))","v":""},""]
[{"$f":"IF(OR(E1769=\"\",ISBLANK(E1769)),\"\",VLOOKUP(E1769,Sheet2!A:F,2,FALSE))","v":""},{"$f":"IF(OR(E1769=\"\",ISBLANK(E1769)),\"\",VLOOKUP(E1769,Sheet2!A:G,4,FALSE))","v":""},"",{"$f":"IF(OR(E1769=\"\",ISBLANK(E1769)),\"\",VLOOKUP(E1769,Sheet2!A:H,3,FALSE))","v":""},null,{"$f":"IF(OR(E1769=\"\",ISBLANK(E1769)),\"\",VLOOKUP(E1769,Sheet2!A:G,6,FALSE))","v":""},""]
[{"$f":"IF(OR(E1770=\"\",ISBLANK(E1770)),\"\",VLOOKUP(E1770,Sheet2!A:F,2,FALSE))","v":""},{"$f":"IF(OR(E1770=\"\",ISBLANK(E1770)),\"\",VLOOKUP(E1770,Sheet2!A:G,4,FALSE))","v":""},"",{"$f":"IF(OR(E1770=\"\",ISBLANK(E1770)),\"\",VLOOKUP(E1770,Sheet2!A:H,3,FALSE))","v":""},null,{"$f":"IF(OR(E1770=\"\",ISBLANK(E1770)),\"\",VLOOKUP(E1770,Sheet2!A:G,6,FALSE))","v":""},""]
[{"$f":"IF(OR(E1771=\"\",ISBLANK(E1771)),\"\",VLOOKUP(E1771,Sheet2!A:F,2,FALSE))","v":""},{"$f":"IF(OR(E1771=\"\",ISBLANK(E1771)),\"\",VLOOKUP(E1771,Sheet2!A:G,4,FALSE))","v":""},"",{"$f":"IF(OR(E1771=\"\",ISBLANK(E1771)),\"\",VLOOKUP(E1771,Sheet2!A:H,3,FALSE))","v":""},null,{"$f":"IF(OR(E1771=\"\",ISBLANK(E1771)),\"\",VLOOKUP(E1771,Sheet2!A:G,6,FALSE))","v":""},""]
[{"$f":"IF(OR(E1772=\"\",ISBLANK(E1772)),\"\",VLOOKUP(E1772,Sheet2!A:F,2,FALSE))","v":""},{"$f":"IF(OR(E1772=\"\",ISBLANK(E1772)),\"\",VLOOKUP(E1772,Sheet2!A:G,4,FALSE))","v":""},"",{"$f":"IF(OR(E1772=\"\",ISBLANK(E1772)),\"\",VLOOKUP(E1772,Sheet2!A:H,3,FALSE))","v":""},null,{"$f":"IF(OR(E1772=\"\",ISBLANK(E1772)),\"\",VLOOKUP(E1772,Sheet2!A:G,6,FALSE))","v":""},""]
[{"$f":"IF(OR(E1773=\"\",ISBLANK(E1773)),\"\",VLOOKUP(E1773,Sheet2!A:F,2,FALSE))","v":""},{"$f":"IF(OR(E1773=\"\",ISBLANK(E1773)),\"\",VLOOKUP(E1773,Sheet2!A:G,4,FALSE))","v":""},"",{"$f":"IF(OR(E1773=\"\",ISBLANK(E1773)),\"\",VLOOKUP(E1773,Sheet2!A:H,3,FALSE))","v":""},null,{"$f":"IF(OR(E1773=\"\",ISBLANK(E1773)),\"\",VLOOKUP(E1773,Sheet2!A:G,6,FALSE))","v":""},""]
[{"$f":"IF(OR(E1774=\"\",ISBLANK(E1774)),\"\",VLOOKUP(E1774,Sheet2!A:F,2,FALSE))","v":""},{"$f":"IF(OR(E1774=\"\",ISBLANK(E1774)),\"\",VLOOKUP(E1774,Sheet2!A:G,4,FALSE))","v":""},"",{"$f":"IF(OR(E1774=\"\",ISBLANK(E1774)),\"\",VLOOKUP(E1774,Sheet2!A:H,3,FALSE))","v":""},null,{"$f":"IF(OR(E1774=\"\",ISBLANK(E1774)),\"\",VLOOKUP(E1774,Sheet2!A:G,6,FALSE))","v":""},""]
[{"$f":"IF(OR(E1775=\"\",ISBLANK(E1775)),\"\",VLOOKUP(E1775,Sheet2!A:F,2,FALSE))","v":""},{"$f":"IF(OR(E1775=\"\",ISBLANK(E1775)),\"\",VLOOKUP(E1775,Sheet2!A:G,4,FALSE))","v":""},"",{"$f":"IF(OR(E1775=\"\",ISBLANK(E1775)),\"\",VLOOKUP(E1775,Sheet2!A:H,3,FALSE))","v":""},null,{"$f":"IF(OR(E1775=\"\",ISBLANK(E1775)),\"\",VLOOKUP(E1775,Sheet2!A:G,6,FALSE))","v":""},""]
[{"$f":"IF(OR(E1776=\"\",ISBLANK(E1776)),\"\",VLOOKUP(E1776,Sheet2!A:F,2,FALSE))","v":""},{"$f":"IF(OR(E1776=\"\",ISBLANK(E1776)),\"\",VLOOKUP(E1776,Sheet2!A:G,4,FALSE))","v":""},"",{"$f":"IF(OR(E1776=\"\",ISBLANK(E1776)),\"\",VLOOKUP(E1776,Sheet2!A:H,3,FALSE))","v":""},null,{"$f":"IF(OR(E1776=\"\",ISBLANK(E1776)),\"\",VLOOKUP(E1776,Sheet2!A:G,6,FALSE))","v":""},""]
[{"$f":"IF(OR(E1777=\"\",ISBLANK(E1777)),\"\",VLOOKUP(E1777,Sheet2!A:F,2,FALSE))","v":""},{"$f":"IF(OR(E1777=\"\",ISBLANK(E1777)),\"\",VLOOKUP(E1777,Sheet2!A:G,4,FALSE))","v":""},"",{"$f":"IF(OR(E1777=\"\",ISBLANK(E1777)),\"\",VLOOKUP(E1777,Sheet2!A:H,3,FALSE))","v":""},null,{"$f":"IF(OR(E1777=\"\",ISBLANK(E1777)),\"\",VLOOKUP(E1777,Sheet2!A:G,6,FALSE))","v":""},""]
[{"$f":"IF(OR(E1778=\"\",ISBLANK(E1778)),\"\",VLOOKUP(E1778,Sheet2!A:F,2,FALSE))","v":""},{"$f":"IF(OR(E1778=\"\",ISBLANK(E1778)),\"\",VLOOKUP(E1778,Sheet2!A:G,4,FALSE))","v":""},"",{"$f":"IF(OR(E1778=\"\",ISBLANK(E1778)),\"\",VLOOKUP(E1778,Sheet2!A:H,3,FALSE))","v":""},null,{"$f":"IF(OR(E1778=\"\",ISBLANK(E1778)),\"\",VLOOKUP(E1778,Sheet2!A:G,6,FALSE))","v":""},""]
[{"$f":"IF(OR(E1779=\"\",ISBLANK(E1779)),\"\",VLOOKUP(E1779,Sheet2!A:F,2,FALSE))","v":""},{"$f":"IF(OR(E1779=\"\",ISBLANK(E1779)),\"\",VLOOKUP(E1779,Sheet2!A:G,4,FALSE))","v":""},"",{"$f":"IF(OR(E1779=\"\",ISBLANK(E1779)),\"\",VLOOKUP(E1779,Sheet2!A:H,3,FALSE))","v":""},null,{"$f":"IF(OR(E1779=\"\",ISBLANK(E1779)),\"\",VLOOKUP(E1779,Sheet2!A:G,6,FALSE))","v":""},""]
[{"$f":"IF(OR(E1780=\"\",ISBLANK(E1780)),\"\",VLOOKUP(E1780,Sheet2!A:F,2,FALSE))","v":""},{"$f":"IF(OR(E1780=\"\",ISBLANK(E1780)),\"\",VLOOKUP(E1780,Sheet2!A:G,4,FALSE))","v":""},"",{"$f":"IF(OR(E1780=\"\",ISBLANK(E1780)),\"\",VLOOKUP(E1780,Sheet2!A:H,3,FALSE))","v":""},null,{"$f":"IF(OR(E1780=\"\",ISBLANK(E1780)),\"\",VLOOKUP(E1780,Sheet2!A:G,6,FALSE))","v":""},""]
[{"$f":"IF(OR(E1781=\"\",ISBLANK(E1781)),\"\",VLOOKUP(E1781,Sheet2!A:F,2,FALSE))","v":""},{"$f":"IF(OR(E1781=\"\",ISBLANK(E1781)),\"\",VLOOKUP(E1781,Sheet2!A:G,4,FALSE))","v":""},"",{"$f":"IF(OR(E1781=\"\",ISBLANK(E1781)),\"\",VLOOKUP(E1781,Sheet2!A:H,3,FALSE))","v":""},null,{"$f":"IF(OR(E1781=\"\",ISBLANK(E1781)),\"\",VLOOKUP(E1781,Sheet2!A:G,6,FALSE))","v":""},""]
[{"$f":"IF(OR(E1782=\"\",ISBLANK(E1782)),\"\",VLOOKUP(E1782,Sheet2!A:F,2,FALSE))","v":""},{"$f":"IF(OR(E1782=\"\",ISBLANK(E1782)),\"\",VLOOKUP(E1782,Sheet2!A:G,4,FALSE))","v":""},"",{"$f":"IF(OR(E1782=\"\",ISBLANK(E1782)),\"\",VLOOKUP(E1782,Sheet2!A:H,3,FALSE))","v":""},null,{"$f":"IF(OR(E1782=\"\",ISBLANK(E1782)),\"\",VLOOKUP(E1782,Sheet2!A:G,6,FALSE))","v":""},""]
[{"$f":"IF(OR(E1783=\"\",ISBLANK(E1783)),\"\",VLOOKUP(E1783,Sheet2!A:F,2,FALSE))","v":""},{"$f":"IF(OR(E1783=\"\",ISBLANK(E1783)),\"\",VLOOKUP(E1783,Sheet2!A:G,4,FALSE))","v":""},"",{"$f":"IF(OR(E1783=\"\",ISBLANK(E1783)),\"\",VLOOKUP(E1783,Sheet2!A:H,3,FALSE))","v":""},null,{"$f":"IF(OR(E1783=\"\",ISBLANK(E1783)),\"\",VLOOKUP(E1783,Sheet2!A:G,6,FALSE))","v":""},""]
[{"$f":"IF(OR(E1784=\"\",ISBLANK(E1784)),\"\",VLOOKUP(E1784,Sheet2!A:F,2,FALSE))","v":""},{"$f":"IF(OR(E1784=\"\",ISBLANK(E1784)),\"\",VLOOKUP(E1784,Sheet2!A:G,4,FALSE))","v":""},"",{"$f":"IF(OR(E1784=\"\",ISBLANK(E1784)),\"\",VLOOKUP(E1784,Sheet2!A:H,3,FALSE))","v":""},null,{"$f":"IF(OR(E1784=\"\",ISBLANK(E1784)),\"\",VLOOKUP(E1784,Sheet2!A:G,6,FALSE))","v":""},""]
[{"$f":"IF(OR(E1785=\"\",ISBLANK(E1785)),\"\",VLOOKUP(E1785,Sheet2!A:F,2,FALSE))","v":""},{"$f":"IF(OR(E1785=\"\",ISBLANK(E1785)),\"\",VLOOKUP(E1785,Sheet2!A:G,4,FALSE))","v":""},"",{"$f":"IF(OR(E1785=\"\",ISBLANK(E1785)),\"\",VLOOKUP(E1785,Sheet2!A:H,3,FALSE))","v":""},null,{"$f":"IF(OR(E1785=\"\",ISBLANK(E1785)),\"\",VLOOKUP(E1785,Sheet2!A:G,6,FALSE))","v":""},""]
[{"$f":"IF(OR(E1786=\"\",ISBLANK(E1786)),\"\",VLOOKUP(E1786,Sheet2!A:F,2,FALSE))","v":""},{"$f":"IF(OR(E1786=\"\",ISBLANK(E1786)),\"\",VLOOKUP(E1786,Sheet2!A:G,4,FALSE))","v":""},"",{"$f":"IF(OR(E1786=\"\",ISBLANK(E1786)),\"\",VLOOKUP(E1786,Sheet2!A:H,3,FALSE))","v":""},null,{"$f":"IF(OR(E1786=\"\",ISBLANK(E1786)),\"\",VLOOKUP(E1786,Sheet2!A:G,6,FALSE))","v":""},""]
[{"$f":"IF(OR(E1787=\"\",ISBLANK(E1787)),\"\",VLOOKUP(E1787,Sheet2!A:F,2,FALSE))","v":""},{"$f":"IF(OR(E1787=\"\",ISBLANK(E1787)),\"\",VLOOKUP(E1787,Sheet2!A:G,4,FALSE))","v":""},"",{"$f":"IF(OR(E1787=\"\",ISBLANK(E1787)),\"\",VLOOKUP(E1787,Sheet2!A:H,3,FALSE))","v":""},null,{"$f":"IF(OR(E1787=\"\",ISBLANK(E1787)),\"\",VLOOKUP(E1787,Sheet2!A:G,6,FALSE))","v":""},""]
[{"$f":"IF(OR(E1788=\"\",ISBLANK(E1788)),\"\",VLOOKUP(E1788,Sheet2!A:F,2,FALSE))","v":""},{"$f":"IF(OR(E1788=\"\",ISBLANK(E1788)),\"\",VLOOKUP(E1788,Sheet2!A:G,4,FALSE))","v":""},"",{"$f":"IF(OR(E1788=\"\",ISBLANK(E1788)),\"\",VLOOKUP(E1788,Sheet2!A:H,3,FALSE))","v":""},null,{"$f":"IF(OR(E1788=\"\",ISBLANK(E1788)),\"\",VLOOKUP(E1788,Sheet2!A:G,6,FALSE))","v":""},""]
[{"$f":"IF(OR(E1789=\"\",ISBLANK(E1789)),\"\",VLOOKUP(E1789,Sheet2!A:F,2,FALSE))","v":""},{"$f":"IF(OR(E1789=\"\",ISBLANK(E1789)),\"\",VLOOKUP(E1789,Sheet2!A:G,4,FALSE))","v":""},"",{"$f":"IF(OR(E1789=\"\",ISBLANK(E1789)),\"\",VLOOKUP(E1789,Sheet2!A:H,3,FALSE))","v":""},null,{"$f":"IF(OR(E1789=\"\",ISBLANK(E1789)),\"\",VLOOKUP(E1789,Sheet2!A:G,6,FALSE))","v":""},""]
[{"$f":"IF(OR(E1790=\"\",ISBLANK(E1790)),\"\",VLOOKUP(E1790,Sheet2!A:F,2,FALSE))","v":""},{"$f":"IF(OR(E1790=\"\",ISBLANK(E1790)),\"\",VLOOKUP(E1790,Sheet2!A:G,4,FALSE))","v":""},"",{"$f":"IF(OR(E1790=\"\",ISBLANK(E1790)),\"\",VLOOKUP(E1790,Sheet2!A:H,3,FALSE))","v":""},null,{"$f":"IF(OR(E1790=\"\",ISBLANK(E1790)),\"\",VLOOKUP(E1790,Sheet2!A:G,6,FALSE))","v":""},""]
[{"$f":"IF(OR(E1791=\"\",ISBLANK(E1791)),\"\",VLOOKUP(E1791,Sheet2!A:F,2,FALSE))","v":""},{"$f":"IF(OR(E1791=\"\",ISBLANK(E1791)),\"\",VLOOKUP(E1791,Sheet2!A:G,4,FALSE))","v":""},"",{"$f":"IF(OR(E1791=\"\",ISBLANK(E1791)),\"\",VLOOKUP(E1791,Sheet2!A:H,3,FALSE))","v":""},null,{"$f":"IF(OR(E1791=\"\",ISBLANK(E1791)),\"\",VLOOKUP(E1791,Sheet2!A:G,6,FALSE))","v":""},""]
[{"$f":"IF(OR(E1792=\"\",ISBLANK(E1792)),\"\",VLOOKUP(E1792,Sheet2!A:F,2,FALSE))","v":""},{"$f":"IF(OR(E1792=\"\",ISBLANK(E1792)),\"\",VLOOKUP(E1792,Sheet2!A:G,4,FALSE))","v":""},"",{"$f":"IF(OR(E1792=\"\",ISBLANK(E1792)),\"\",VLOOKUP(E1792,Sheet2!A:H,3,FALSE))","v":""},null,{"$f":"IF(OR(E1792=\"\",ISBLANK(E1792)),\"\",VLOOKUP(E1792,Sheet2!A:G,6,FALSE))","v":""},""]
[{"$f":"IF(OR(E1793=\"\",ISBLANK(E1793)),\"\",VLOOKUP(E1793,Sheet2!A:F,2,FALSE))","v":""},{"$f":"IF(OR(E1793=\"\",ISBLANK(E1793)),\"\",VLOOKUP(E1793,Sheet2!A:G,4,FALSE))","v":""},"",{"$f":"IF(OR(E1793=\"\",ISBLANK(E1793)),\"\",VLOOKUP(E1793,Sheet2!A:H,3,FALSE))","v":""},null,{"$f":"IF(OR(E1793=\"\",ISBLANK(E1793)),\"\",VLOOKUP(E1793,Sheet2!A:G,6,FALSE))","v":""},""]
[{"$f":"IF(OR(E1794=\"\",ISBLANK(E1794)),\"\",VLOOKUP(E1794,Sheet2!A:F,2,FALSE))","v":""},{"$f":"IF(OR(E1794=\"\",ISBLANK(E1794)),\"\",VLOOKUP(E1794,Sheet2!A:G,4,FALSE))","v":""},"",{"$f":"IF(OR(E1794=\"\",ISBLANK(E1794)),\"\",VLOOKUP(E1794,Sheet2!A:H,3,FALSE))","v":""},null,{"$f":"IF(OR(E1794=\"\",ISBLANK(E1794)),\"\",VLOOKUP(E1794,Sheet2!A:G,6,FALSE))","v":""},""]
[{"$f":"IF(OR(E1795=\"\",ISBLANK(E1795)),\"\",VLOOKUP(E1795,Sheet2!A:F,2,FALSE))","v":""},{"$f":"IF(OR(E1795=\"\",ISBLANK(E1795)),\"\",VLOOKUP(E1795,Sheet2!A:G,4,FALSE))","v":""},{"$f":"IF(D1795=0,\"\",D1795)","v":""},{"$f":"IF(OR(E1795=\"\",ISBLANK(E1795)),\"\",VLOOKUP(E1795,Sheet2!A:H,3,FALSE))","v":""},null,{"$f":"IF(OR(E1795=\"\",ISBLANK(E1795)),\"\",VLOOKUP(E1795,Sheet2!A:G,6,FALSE))","v":""},{"$f":"IF(F1795=0,\"\",F1795)","v":""}]
[{"$f":"IF(OR(E1796=\"\",ISBLANK(E1796)),\"\",VLOOKUP(E1796,Sheet2!A:F,2,FALSE))","v":""},{"$f":"IF(OR(E1796=\"\",ISBLANK(E1796)),\"\",VLOOKUP(E1796,Sheet2!A:G,4,FALSE))","v":""},"",{"$f":"IF(OR(E1796=\"\",ISBLANK(E1796)),\"\",VLOOKUP(E1796,Sheet2!A:H,3,FALSE))","v":""},null,{"$f":"IF(OR(E1796=\"\",ISBLANK(E1796)),\"\",VLOOKUP(E1796,Sheet2!A:G,6,FALSE))","v":""},""]
[{"$f":"IF(OR(E1797=\"\",ISBLANK(E1797)),\"\",VLOOKUP(E1797,Sheet2!A:F,2,FALSE))","v":""},{"$f":"IF(OR(E1797=\"\",ISBLANK(E1797)),\"\",VLOOKUP(E1797,Sheet2!A:G,4,FALSE))","v":""},"",{"$f":"IF(OR(E1797=\"\",ISBLANK(E1797)),\"\",VLOOKUP(E1797,Sheet2!A:H,3,FALSE))","v":""},null,{"$f":"IF(OR(E1797=\"\",ISBLANK(E1797)),\"\",VLOOKUP(E1797,Sheet2!A:G,6,FALSE))","v":""},""]
[{"$f":"IF(OR(E1798=\"\",ISBLANK(E1798)),\"\",VLOOKUP(E1798,Sheet2!A:F,2,FALSE))","v":""},{"$f":"IF(OR(E1798=\"\",ISBLANK(E1798)),\"\",VLOOKUP(E1798,Sheet2!A:G,4,FALSE))","v":""},"",{"$f":"IF(OR(E1798=\"\",ISBLANK(E1798)),\"\",VLOOKUP(E1798,Sheet2!A:H,3,FALSE))","v":""},null,{"$f":"IF(OR(E1798=\"\",ISBLANK(E1798)),\"\",VLOOKUP(E1798,Sheet2!A:G,6,FALSE))","v":""},""]
[{"$f":"IF(OR(E1799=\"\",ISBLANK(E1799)),\"\",VLOOKUP(E1799,Sheet2!A:F,2,FALSE))","v":""},{"$f":"IF(OR(E1799=\"\",ISBLANK(E1799)),\"\",VLOOKUP(E1799,Sheet2!A:G,4,FALSE))","v":""},"",{"$f":"IF(OR(E1799=\"\",ISBLANK(E1799)),\"\",VLOOKUP(E1799,Sheet2!A:H,3,FALSE))","v":""},null,{"$f":"IF(OR(E1799=\"\",ISBLANK(E1799)),\"\",VLOOKUP(E1799,Sheet2!A:G,6,FALSE))","v":""},""]
[{"$f":"IF(OR(E1800=\"\",ISBLANK(E1800)),\"\",VLOOKUP(E1800,Sheet2!A:F,2,FALSE))","v":""},{"$f":"IF(OR(E1800=\"\",ISBLANK(E1800)),\"\",VLOOKUP(E1800,Sheet2!A:G,4,FALSE))","v":""},"",{"$f":"IF(OR(E1800=\"\",ISBLANK(E1800)),\"\",VLOOKUP(E1800,Sheet2!A:H,3,FALSE))","v":""},null,{"$f":"IF(OR(E1800=\"\",ISBLANK(E1800)),\"\",VLOOKUP(E1800,Sheet2!A:G,6,FALSE))","v":""},""]
[{"$f":"IF(OR(E1801=\"\",ISBLANK(E1801)),\"\",VLOOKUP(E1801,Sheet2!A:F,2,FALSE))","v":""},{"$f":"IF(OR(E1801=\"\",ISBLANK(E1801)),\"\",VLOOKUP(E1801,Sheet2!A:G,4,FALSE))","v":""},"",{"$f":"IF(OR(E1801=\"\",ISBLANK(E1801)),\"\",VLOOKUP(E1801,Sheet2!A:H,3,FALSE))","v":""},null,{"$f":"IF(OR(E1801=\"\",ISBLANK(E1801)),\"\",VLOOKUP(E1801,Sheet2!A:G,6,FALSE))","v":""},""]
[{"$f":"IF(OR(E1802=\"\",ISBLANK(E1802)),\"\",VLOOKUP(E1802,Sheet2!A:F,2,FALSE))","v":""},{"$f":"IF(OR(E1802=\"\",ISBLANK(E1802)),\"\",VLOOKUP(E1802,Sheet2!A:G,4,FALSE))","v":""},"",{"$f":"IF(OR(E1802=\"\",ISBLANK(E1802)),\"\",VLOOKUP(E1802,Sheet2!A:H,3,FALSE))","v":""},null,{"$f":"IF(OR(E1802=\"\",ISBLANK(E1802)),\"\",VLOOKUP(E1802,Sheet2!A:G,6,FALSE))","v":""},""]
[{"$f":"IF(OR(E1803=\"\",ISBLANK(E1803)),\"\",VLOOKUP(E1803,Sheet2!A:F,2,FALSE))","v":""},{"$f":"IF(OR(E1803=\"\",ISBLANK(E1803)),\"\",VLOOKUP(E1803,Sheet2!A:G,4,FALSE))","v":""},"",{"$f":"IF(OR(E1803=\"\",ISBLANK(E1803)),\"\",VLOOKUP(E1803,Sheet2!A:H,3,FALSE))","v":""},null,{"$f":"IF(OR(E1803=\"\",ISBLANK(E1803)),\"\",VLOOKUP(E1803,Sheet2!A:G,6,FALSE))","v":""},""]
[{"$f":"IF(OR(E1804=\"\",ISBLANK(E1804)),\"\",VLOOKUP(E1804,Sheet2!A:F,2,FALSE))","v":""},{"$f":"IF(OR(E1804=\"\",ISBLANK(E1804)),\"\",VLOOKUP(E1804,Sheet2!A:G,4,FALSE))","v":""},"",{"$f":"IF(OR(E1804=\"\",ISBLANK(E1804)),\"\",VLOOKUP(E1804,Sheet2!A:H,3,FALSE))","v":""},null,{"$f":"IF(OR(E1804=\"\",ISBLANK(E1804)),\"\",VLOOKUP(E1804,Sheet2!A:G,6,FALSE))","v":""},""]
[{"$f":"IF(OR(E1805=\"\",ISBLANK(E1805)),\"\",VLOOKUP(E1805,Sheet2!A:F,2,FALSE))","v":""},{"$f":"IF(OR(E1805=\"\",ISBLANK(E1805)),\"\",VLOOKUP(E1805,Sheet2!A:G,4,FALSE))","v":""},"",{"$f":"IF(OR(E1805=\"\",ISBLANK(E1805)),\"\",VLOOKUP(E1805,Sheet2!A:H,3,FALSE))","v":""},null,{"$f":"IF(OR(E1805=\"\",ISBLANK(E1805)),\"\",VLOOKUP(E1805,Sheet2!A:G,6,FALSE))","v":""},""]
[{"$f":"IF(OR(E1806=\"\",ISBLANK(E1806)),\"\",VLOOKUP(E1806,Sheet2!A:F,2,FALSE))","v":""},{"$f":"IF(OR(E1806=\"\",ISBLANK(E1806)),\"\",VLOOKUP(E1806,Sheet2!A:G,4,FALSE))","v":""},"",{"$f":"IF(OR(E1806=\"\",ISBLANK(E1806)),\"\",VLOOKUP(E1806,Sheet2!A:H,3,FALSE))","v":""},null,{"$f":"IF(OR(E1806=\"\",ISBLANK(E1806)),\"\",VLOOKUP(E1806,Sheet2!A:G,6,FALSE))","v":""},""]
[{"$f":"IF(OR(E1807=\"\",ISBLANK(E1807)),\"\",VLOOKUP(E1807,Sheet2!A:F,2,FALSE))","v":""},{"$f":"IF(OR(E1807=\"\",ISBLANK(E1807)),\"\",VLOOKUP(E1807,Sheet2!A:G,4,FALSE))","v":""},"",{"$f":"IF(OR(E1807=\"\",ISBLANK(E1807)),\"\",VLOOKUP(E1807,Sheet2!A:H,3,FALSE))","v":""},null,{"$f":"IF(OR(E1807=\"\",ISBLANK(E1807)),\"\",VLOOKUP(E1807,Sheet2!A:G,6,FALSE))","v":""},""]
[{"$f":"IF(OR(E1808=\"\",ISBLANK(E1808)),\"\",VLOOKUP(E1808,Sheet2!A:F,2,FALSE))","v":""},{"$f":"IF(OR(E1808=\"\",ISBLANK(E1808)),\"\",VLOOKUP(E1808,Sheet2!A:G,4,FALSE))","v":""},"",{"$f":"IF(OR(E1808=\"\",ISBLANK(E1808)),\"\",VLOOKUP(E1808,Sheet2!A:H,3,FALSE))","v":""},null,{"$f":"IF(OR(E1808=\"\",ISBLANK(E1808)),\"\",VLOOKUP(E1808,Sheet2!A:G,6,FALSE))","v":""},""]
[{"$f":"IF(OR(E1809=\"\",ISBLANK(E1809)),\"\",VLOOKUP(E1809,Sheet2!A:F,2,FALSE))","v":""},{"$f":"IF(OR(E1809=\"\",ISBLANK(E1809)),\"\",VLOOKUP(E1809,Sheet2!A:G,4,FALSE))","v":""},"",{"$f":"IF(OR(E1809=\"\",ISBLANK(E1809)),\"\",VLOOKUP(E1809,Sheet2!A:H,3,FALSE))","v":""},null,{"$f":"IF(OR(E1809=\"\",ISBLANK(E1809)),\"\",VLOOKUP(E1809,Sheet2!A:G,6,FALSE))","v":""},""]
[{"$f":"IF(OR(E1810=\"\",ISBLANK(E1810)),\"\",VLOOKUP(E1810,Sheet2!A:F,2,FALSE))","v":""},{"$f":"IF(OR(E1810=\"\",ISBLANK(E1810)),\"\",VLOOKUP(E1810,Sheet2!A:G,4,FALSE))","v":""},"",{"$f":"IF(OR(E1810=\"\",ISBLANK(E1810)),\"\",VLOOKUP(E1810,Sheet2!A:H,3,FALSE))","v":""},null,{"$f":"IF(OR(E1810=\"\",ISBLANK(E1810)),\"\",VLOOKUP(E1810,Sheet2!A:G,6,FALSE))","v":""},""]
[{"$f":"IF(OR(E1811=\"\",ISBLANK(E1811)),\"\",VLOOKUP(E1811,Sheet2!A:F,2,FALSE))","v":""},{"$f":"IF(OR(E1811=\"\",ISBLANK(E1811)),\"\",VLOOKUP(E1811,Sheet2!A:G,4,FALSE))","v":""},"",{"$f":"IF(OR(E1811=\"\",ISBLANK(E1811)),\"\",VLOOKUP(E1811,Sheet2!A:H,3,FALSE))","v":""},null,{"$f":"IF(OR(E1811=\"\",ISBLANK(E1811)),\"\",VLOOKUP(E1811,Sheet2!A:G,6,FALSE))","v":""},""]
[{"$f":"IF(OR(E1812=\"\",ISBLANK(E1812)),\"\",VLOOKUP(E1812,Sheet2!A:F,2,FALSE))","v":""},{"$f":"IF(OR(E1812=\"\",ISBLANK(E1812)),\"\",VLOOKUP(E1812,Sheet2!A:G,4,FALSE))","v":""},"",{"$f":"IF(OR(E1812=\"\",ISBLANK(E1812)),\"\",VLOOKUP(E1812,Sheet2!A:H,3,FALSE))","v":""},null,{"$f":"IF(OR(E1812=\"\",ISBLANK(E1812)),\"\",VLOOKUP(E1812,Sheet2!A:G,6,FALSE))","v":""},""]
[{"$f":"IF(OR(E1813=\"\",ISBLANK(E1813)),\"\",VLOOKUP(E1813,Sheet2!A:F,2,FALSE))","v":""},{"$f":"IF(OR(E1813=\"\",ISBLANK(E1813)),\"\",VLOOKUP(E1813,Sheet2!A:G,4,FALSE))","v":""},"",{"$f":"IF(OR(E1813=\"\",ISBLANK(E1813)),\"\",VLOOKUP(E1813,Sheet2!A:H,3,FALSE))","v":""},null,{"$f":"IF(OR(E1813=\"\",ISBLANK(E1813)),\"\",VLOOKUP(E1813,Sheet2!A:G,6,FALSE))","v":""},""]
[{"$f":"IF(OR(E1814=\"\",ISBLANK(E1814)),\"\",VLOOKUP(E1814,Sheet2!A:F,2,FALSE))","v":""},{"$f":"IF(OR(E1814=\"\",ISBLANK(E1814)),\"\",VLOOKUP(E1814,Sheet2!A:G,4,FALSE))","v":""},"",{"$f":"IF(OR(E1814=\"\",ISBLANK(E1814)),\"\",VLOOKUP(E1814,Sheet2!A:H,3,FALSE))","v":""},null,{"$f":"IF(OR(E1814=\"\",ISBLANK(E1814)),\"\",VLOOKUP(E1814,Sheet2!A:G,6,FALSE))","v":""},""]
[{"$f":"IF(OR(E1815=\"\",ISBLANK(E1815)),\"\",VLOOKUP(E1815,Sheet2!A:F,2,FALSE))","v":""},{"$f":"IF(OR(E1815=\"\",ISBLANK(E1815)),\"\",VLOOKUP(E1815,Sheet2!A:G,4,FALSE))","v":""},"",{"$f":"IF(OR(E1815=\"\",ISBLANK(E1815)),\"\",VLOOKUP(E1815,Sheet2!A:H,3,FALSE))","v":""},null,{"$f":"IF(OR(E1815=\"\",ISBLANK(E1815)),\"\",VLOOKUP(E1815,Sheet2!A:G,6,FALSE))","v":""},""]
[{"$f":"IF(OR(E1816=\"\",ISBLANK(E1816)),\"\",VLOOKUP(E1816,Sheet2!A:F,2,FALSE))","v":""},{"$f":"IF(OR(E1816=\"\",ISBLANK(E1816)),\"\",VLOOKUP(E1816,Sheet2!A:G,4,FALSE))","v":""},"",{"$f":"IF(OR(E1816=\"\",ISBLANK(E1816)),\"\",VLOOKUP(E1816,Sheet2!A:H,3,FALSE))","v":""},null,{"$f":"IF(OR(E1816=\"\",ISBLANK(E1816)),\"\",VLOOKUP(E1816,Sheet2!A:G,6,FALSE))","v":""},""]
[{"$f":"IF(OR(E1817=\"\",ISBLANK(E1817)),\"\",VLOOKUP(E1817,Sheet2!A:F,2,FALSE))","v":""},{"$f":"IF(OR(E1817=\"\",ISBLANK(E1817)),\"\",VLOOKUP(E1817,Sheet2!A:G,4,FALSE))","v":""},"",{"$f":"IF(OR(E1817=\"\",ISBLANK(E1817)),\"\",VLOOKUP(E1817,Sheet2!A:H,3,FALSE))","v":""},null,{"$f":"IF(OR(E1817=\"\",ISBLANK(E1817)),\"\",VLOOKUP(E1817,Sheet2!A:G,6,FALSE))","v":""},""]
[{"$f":"IF(OR(E1818=\"\",ISBLANK(E1818)),\"\",VLOOKUP(E1818,Sheet2!A:F,2,FALSE))","v":""},{"$f":"IF(OR(E1818=\"\",ISBLANK(E1818)),\"\",VLOOKUP(E1818,Sheet2!A:G,4,FALSE))","v":""},"",{"$f":"IF(OR(E1818=\"\",ISBLANK(E1818)),\"\",VLOOKUP(E1818,Sheet2!A:H,3,FALSE))","v":""},null,{"$f":"IF(OR(E1818=\"\",ISBLANK(E1818)),\"\",VLOOKUP(E1818,Sheet2!A:G,6,FALSE))","v":""},""]
[{"$f":"IF(OR(E1819=\"\",ISBLANK(E1819)),\"\",VLOOKUP(E1819,Sheet2!A:F,2,FALSE))","v":""},{"$f":"IF(OR(E1819=\"\",ISBLANK(E1819)),\"\",VLOOKUP(E1819,Sheet2!A:G,4,FALSE))","v":""},"",{"$f":"IF(OR(E1819=\"\",ISBLANK(E1819)),\"\",VLOOKUP(E1819,Sheet2!A:H,3,FALSE))","v":""},null,{"$f":"IF(OR(E1819=\"\",ISBLANK(E1819)),\"\",VLOOKUP(E1819,Sheet2!A:G,6,FALSE))","v":""},""]
[{"$f":"IF(OR(E1820=\"\",ISBLANK(E1820)),\"\",VLOOKUP(E1820,Sheet2!A:F,2,FALSE))","v":""},{"$f":"IF(OR(E1820=\"\",ISBLANK(E1820)),\"\",VLOOKUP(E1820,Sheet2!A:G,4,FALSE))","v":""},"",{"$f":"IF(OR(E1820=\"\",ISBLANK(E1820)),\"\",VLOOKUP(E1820,Sheet2!A:H,3,FALSE))","v":""},null,{"$f":"IF(OR(E1820=\"\",ISBLANK(E1820)),\"\",VLOOKUP(E1820,Sheet2!A:G,6,FALSE))","v":""},""]
[{"$f":"IF(OR(E1821=\"\",ISBLANK(E1821)),\"\",VLOOKUP(E1821,Sheet2!A:F,2,FALSE))","v":""},{"$f":"IF(OR(E1821=\"\",ISBLANK(E1821)),\"\",VLOOKUP(E1821,Sheet2!A:G,4,FALSE))","v":""},"",{"$f":"IF(OR(E1821=\"\",ISBLANK(E1821)),\"\",VLOOKUP(E1821,Sheet2!A:H,3,FALSE))","v":""},null,{"$f":"IF(OR(E1821=\"\",ISBLANK(E1821)),\"\",VLOOKUP(E1821,Sheet2!A:G,6,FALSE))","v":""},""]
[{"$f":"IF(OR(E1822=\"\",ISBLANK(E1822)),\"\",VLOOKUP(E1822,Sheet2!A:F,2,FALSE))","v":""},{"$f":"IF(OR(E1822=\"\",ISBLANK(E1822)),\"\",VLOOKUP(E1822,Sheet2!A:G,4,FALSE))","v":""},"",{"$f":"IF(OR(E1822=\"\",ISBLANK(E1822)),\"\",VLOOKUP(E1822,Sheet2!A:H,3,FALSE))","v":""},null,{"$f":"IF(OR(E1822=\"\",ISBLANK(E1822)),\"\",VLOOKUP(E1822,Sheet2!A:G,6,FALSE))","v":""},""]
[{"$f":"IF(OR(E1823=\"\",ISBLANK(E1823)),\"\",VLOOKUP(E1823,Sheet2!A:F,2,FALSE))","v":""},{"$f":"IF(OR(E1823=\"\",ISBLANK(E1823)),\"\",VLOOKUP(E1823,Sheet2!A:G,4,FALSE))","v":""},"",{"$f":"IF(OR(E1823=\"\",ISBLANK(E1823)),\"\",VLOOKUP(E1823,Sheet2!A:H,3,FALSE))","v":""},null,{"$f":"IF(OR(E1823=\"\",ISBLANK(E1823)),\"\",VLOOKUP(E1823,Sheet2!A:G,6,FALSE))","v":""},""]
[{"$f":"IF(OR(E1824=\"\",ISBLANK(E1824)),\"\",VLOOKUP(E1824,Sheet2!A:F,2,FALSE))","v":""},{"$f":"IF(OR(E1824=\"\",ISBLANK(E1824)),\"\",VLOOKUP(E1824,Sheet2!A:G,4,FALSE))","v":""},"",{"$f":"IF(OR(E1824=\"\",ISBLANK(E1824)),\"\",VLOOKUP(E1824,Sheet2!A:H,3,FALSE))","v":""},null,{"$f":"IF(OR(E1824=\"\",ISBLANK(E1824)),\"\",VLOOKUP(E1824,Sheet2!A:G,6,FALSE))","v":""},""]
[{"$f":"IF(OR(E1825=\"\",ISBLANK(E1825)),\"\",VLOOKUP(E1825,Sheet2!A:F,2,FALSE))","v":""},{"$f":"IF(OR(E1825=\"\",ISBLANK(E1825)),\"\",VLOOKUP(E1825,Sheet2!A:G,4,FALSE))","v":""},"",{"$f":"IF(OR(E1825=\"\",ISBLANK(E1825)),\"\",VLOOKUP(E1825,Sheet2!A:H,3,FALSE))","v":""},null,{"$f":"IF(OR(E1825=\"\",ISBLANK(E1825)),\"\",VLOOKUP(E1825,Sheet2!A:G,6,FALSE))","v":""},""]
[{"$f":"IF(OR(E1826=\"\",ISBLANK(E1826)),\"\",VLOOKUP(E1826,Sheet2!A:F,2,FALSE))","v":""},{"$f":"IF(OR(E1826=\"\",ISBLANK(E1826)),\"\",VLOOKUP(E1826,Sheet2!A:G,4,FALSE))","v":""},"",{"$f":"IF(OR(E1826=\"\",ISBLANK(E1826)),\"\",VLOOKUP(E1826,Sheet2!A:H,3,FALSE))","v":""},null,{"$f":"IF(OR(E1826=\"\",ISBLANK(E1826)),\"\",VLOOKUP(E1826,Sheet2!A:G,6,FALSE))","v":""},""]
[{"$f":"IF(OR(E1827=\"\",ISBLANK(E1827)),\"\",VLOOKUP(E1827,Sheet2!A:F,2,FALSE))","v":""},{"$f":"IF(OR(E1827=\"\",ISBLANK(E1827)),\"\",VLOOKUP(E1827,Sheet2!A:G,4,FALSE))","v":""},"",{"$f":"IF(OR(E1827=\"\",ISBLANK(E1827)),\"\",VLOOKUP(E1827,Sheet2!A:H,3,FALSE))","v":""},null,{"$f":"IF(OR(E1827=\"\",ISBLANK(E1827)),\"\",VLOOKUP(E1827,Sheet2!A:G,6,FALSE))","v":""},""]
[{"$f":"IF(OR(E1828=\"\",ISBLANK(E1828)),\"\",VLOOKUP(E1828,Sheet2!A:F,2,FALSE))","v":""},{"$f":"IF(OR(E1828=\"\",ISBLANK(E1828)),\"\",VLOOKUP(E1828,Sheet2!A:G,4,FALSE))","v":""},"",{"$f":"IF(OR(E1828=\"\",ISBLANK(E1828)),\"\",VLOOKUP(E1828,Sheet2!A:H,3,FALSE))","v":""},null,{"$f":"IF(OR(E1828=\"\",ISBLANK(E1828)),\"\",VLOOKUP(E1828,Sheet2!A:G,6,FALSE))","v":""},""]
[{"$f":"IF(OR(E1829=\"\",ISBLANK(E1829)),\"\",VLOOKUP(E1829,Sheet2!A:F,2,FALSE))","v":""},{"$f":"IF(OR(E1829=\"\",ISBLANK(E1829)),\"\",VLOOKUP(E1829,Sheet2!A:G,4,FALSE))","v":""},"",{"$f":"IF(OR(E1829=\"\",ISBLANK(E1829)),\"\",VLOOKUP(E1829,Sheet2!A:H,3,FALSE))","v":""},null,{"$f":"IF(OR(E1829=\"\",ISBLANK(E1829)),\"\",VLOOKUP(E1829,Sheet2!A:G,6,FALSE))","v":""},""]
[{"$f":"IF(OR(E1830=\"\",ISBLANK(E1830)),\"\",VLOOKUP(E1830,Sheet2!A:F,2,FALSE))","v":""},{"$f":"IF(OR(E1830=\"\",ISBLANK(E1830)),\"\",VLOOKUP(E1830,Sheet2!A:G,4,FALSE))","v":""},"",{"$f":"IF(OR(E1830=\"\",ISBLANK(E1830)),\"\",VLOOKUP(E1830,Sheet2!A:H,3,FALSE))","v":""},null,{"$f":"IF(OR(E1830=\"\",ISBLANK(E1830)),\"\",VLOOKUP(E1830,Sheet2!A:G,6,FALSE))","v":""},""]
[{"$f":"IF(OR(E1831=\"\",ISBLANK(E1831)),\"\",VLOOKUP(E1831,Sheet2!A:F,2,FALSE))","v":""},{"$f":"IF(OR(E1831=\"\",ISBLANK(E1831)),\"\",VLOOKUP(E1831,Sheet2!A:G,4,FALSE))","v":""},"",{"$f":"IF(OR(E1831=\"\",ISBLANK(E1831)),\"\",VLOOKUP(E1831,Sheet2!A:H,3,FALSE))","v":""},null,{"$f":"IF(OR(E1831=\"\",ISBLANK(E1831)),\"\",VLOOKUP(E1831,Sheet2!A:G,6,FALSE))","v":""},""]
[{"$f":"IF(OR(E1832=\"\",ISBLANK(E1832)),\"\",VLOOKUP(E1832,Sheet2!A:F,2,FALSE))","v":""},{"$f":"IF(OR(E1832=\"\",ISBLANK(E1832)),\"\",VLOOKUP(E1832,Sheet2!A:G,4,FALSE))","v":""},"",{"$f":"IF(OR(E1832=\"\",ISBLANK(E1832)),\"\",VLOOKUP(E1832,Sheet2!A:H,3,FALSE))","v":""},null,{"$f":"IF(OR(E1832=\"\",ISBLANK(E1832)),\"\",VLOOKUP(E1832,Sheet2!A:G,6,FALSE))","v":""},""]
[{"$f":"IF(OR(E1833=\"\",ISBLANK(E1833)),\"\",VLOOKUP(E1833,Sheet2!A:F,2,FALSE))","v":""},{"$f":"IF(OR(E1833=\"\",ISBLANK(E1833)),\"\",VLOOKUP(E1833,Sheet2!A:G,4,FALSE))","v":""},"",{"$f":"IF(OR(E1833=\"\",ISBLANK(E1833)),\"\",VLOOKUP(E1833,Sheet2!A:H,3,FALSE))","v":""},null,{"$f":"IF(OR(E1833=\"\",ISBLANK(E1833)),\"\",VLOOKUP(E1833,Sheet2!A:G,6,FALSE))","v":""},""]
[{"$f":"IF(OR(E1834=\"\",ISBLANK(E1834)),\"\",VLOOKUP(E1834,Sheet2!A:F,2,FALSE))","v":""},{"$f":"IF(OR(E1834=\"\",ISBLANK(E1834)),\"\",VLOOKUP(E1834,Sheet2!A:G,4,FALSE))","v":""},"",{"$f":"IF(OR(E1834=\"\",ISBLANK(E1834)),\"\",VLOOKUP(E1834,Sheet2!A:H,3,FALSE))","v":""},null,{"$f":"IF(OR(E1834=\"\",ISBLANK(E1834)),\"\",VLOOKUP(E1834,Sheet2!A:G,6,FALSE))","v":""},""]
[{"$f":"IF(OR(E1835=\"\",ISBLANK(E1835)),\"\",VLOOKUP(E1835,Sheet2!A:F,2,FALSE))","v":""},{"$f":"IF(OR(E1835=\"\",ISBLANK(E1835)),\"\",VLOOKUP(E1835,Sheet2!A:G,4,FALSE))","v":""},"",{"$f":"IF(OR(E1835=\"\",ISBLANK(E1835)),\"\",VLOOKUP(E1835,Sheet2!A:H,3,FALSE))","v":""},null,{"$f":"IF(OR(E1835=\"\",ISBLANK(E1835)),\"\",VLOOKUP(E1835,Sheet2!A:G,6,FALSE))","v":""},""]
[{"$f":"IF(OR(E1836=\"\",ISBLANK(E1836)),\"\",VLOOKUP(E1836,Sheet2!A:F,2,FALSE))","v":""},{"$f":"IF(OR(E1836=\"\",ISBLANK(E1836)),\"\",VLOOKUP(E1836,Sheet2!A:G,4,FALSE))","v":""},"",{"$f":"IF(OR(E1836=\"\",ISBLANK(E1836)),\"\",VLOOKUP(E1836,Sheet2!A:H,3,FALSE))","v":""},null,{"$f":"IF(OR(E1836=\"\",ISBLANK(E1836)),\"\",VLOOKUP(E1836,Sheet2!A:G,6,FALSE))","v":""},""]
[{"$f":"IF(OR(E1837=\"\",ISBLANK(E1837)),\"\",VLOOKUP(E1837,Sheet2!A:F,2,FALSE))","v":""},{"$f":"IF(OR(E1837=\"\",ISBLANK(E1837)),\"\",VLOOKUP(E1837,Sheet2!A:G,4,FALSE))","v":""},"",{"$f":"IF(OR(E1837=\"\",ISBLANK(E1837)),\"\",VLOOKUP(E1837,Sheet2!A:H,3,FALSE))","v":""},null,{"$f":"IF(OR(E1837=\"\",ISBLANK(E1837)),\"\",VLOOKUP(E1837,Sheet2!A:G,6,FALSE))","v":""},""]
[{"$f":"IF(OR(E1838=\"\",ISBLANK(E1838)),\"\",VLOOKUP(E1838,Sheet2!A:F,2,FALSE))","v":""},{"$f":"IF(OR(E1838=\"\",ISBLANK(E1838)),\"\",VLOOKUP(E1838,Sheet2!A:G,4,FALSE))","v":""},"",{"$f":"IF(OR(E1838=\"\",ISBLANK(E1838)),\"\",VLOOKUP(E1838,Sheet2!A:H,3,FALSE))","v":""},null,{"$f":"IF(OR(E1838=\"\",ISBLANK(E1838)),\"\",VLOOKUP(E1838,Sheet2!A:G,6,FALSE))","v":""},""]
[{"$f":"IF(OR(E1839=\"\",ISBLANK(E1839)),\"\",VLOOKUP(E1839,Sheet2!A:F,2,FALSE))","v":""},{"$f":"IF(OR(E1839=\"\",ISBLANK(E1839)),\"\",VLOOKUP(E1839,Sheet2!A:G,4,FALSE))","v":""},"",{"$f":"IF(OR(E1839=\"\",ISBLANK(E1839)),\"\",VLOOKUP(E1839,Sheet2!A:H,3,FALSE))","v":""},null,{"$f":"IF(OR(E1839=\"\",ISBLANK(E1839)),\"\",VLOOKUP(E1839,Sheet2!A:G,6,FALSE))","v":""},""]
[{"$f":"IF(OR(E1840=\"\",ISBLANK(E1840)),\"\",VLOOKUP(E1840,Sheet2!A:F,2,FALSE))","v":""},{"$f":"IF(OR(E1840=\"\",ISBLANK(E1840)),\"\",VLOOKUP(E1840,Sheet2!A:G,4,FALSE))","v":""},"",{"$f":"IF(OR(E1840=\"\",ISBLANK(E1840)),\"\",VLOOKUP(E1840,Sheet2!A:H,3,FALSE))","v":""},null,{"$f":"IF(OR(E1840=\"\",ISBLANK(E1840)),\"\",VLOOKUP(E1840,Sheet2!A:G,6,FALSE))","v":""},""]
[{"$f":"IF(OR(E1841=\"\",ISBLANK(E1841)),\"\",VLOOKUP(E1841,Sheet2!A:F,2,FALSE))","v":""},{"$f":"IF(OR(E1841=\"\",ISBLANK(E1841)),\"\",VLOOKUP(E1841,Sheet2!A:G,4,FALSE))","v":""},"",{"$f":"IF(OR(E1841=\"\",ISBLANK(E1841)),\"\",VLOOKUP(E1841,Sheet2!A:H,3,FALSE))","v":""},null,{"$f":"IF(OR(E1841=\"\",ISBLANK(E1841)),\"\",VLOOKUP(E1841,Sheet2!A:G,6,FALSE))","v":""},""]
[{"$f":"IF(OR(E1842=\"\",ISBLANK(E1842)),\"\",VLOOKUP(E1842,Sheet2!A:F,2,FALSE))","v":""},{"$f":"IF(OR(E1842=\"\",ISBLANK(E1842)),\"\",VLOOKUP(E1842,Sheet2!A:G,4,FALSE))","v":""},"",{"$f":"IF(OR(E1842=\"\",ISBLANK(E1842)),\"\",VLOOKUP(E1842,Sheet2!A:H,3,FALSE))","v":""},null,{"$f":"IF(OR(E1842=\"\",ISBLANK(E1842)),\"\",VLOOKUP(E1842,Sheet2!A:G,6,FALSE))","v":""},""]
[{"$f":"IF(OR(E1843=\"\",ISBLANK(E1843)),\"\",VLOOKUP(E1843,Sheet2!A:F,2,FALSE))","v":""},{"$f":"IF(OR(E1843=\"\",ISBLANK(E1843)),\"\",VLOOKUP(E1843,Sheet2!A:G,4,FALSE))","v":""},"",{"$f":"IF(OR(E1843=\"\",ISBLANK(E1843)),\"\",VLOOKUP(E1843,Sheet2!A:H,3,FALSE))","v":""},null,{"$f":"IF(OR(E1843=\"\",ISBLANK(E1843)),\"\",VLOOKUP(E1843,Sheet2!A:G,6,FALSE))","v":""},""]
[{"$f":"IF(OR(E1844=\"\",ISBLANK(E1844)),\"\",VLOOKUP(E1844,Sheet2!A:F,2,FALSE))","v":""},{"$f":"IF(OR(E1844=\"\",ISBLANK(E1844)),\"\",VLOOKUP(E1844,Sheet2!A:G,4,FALSE))","v":""},"",{"$f":"IF(OR(E1844=\"\",ISBLANK(E1844)),\"\",VLOOKUP(E1844,Sheet2!A:H,3,FALSE))","v":""},null,{"$f":"IF(OR(E1844=\"\",ISBLANK(E1844)),\"\",VLOOKUP(E1844,Sheet2!A:G,6,FALSE))","v":""},""]
[{"$f":"IF(OR(E1845=\"\",ISBLANK(E1845)),\"\",VLOOKUP(E1845,Sheet2!A:F,2,FALSE))","v":""},{"$f":"IF(OR(E1845=\"\",ISBLANK(E1845)),\"\",VLOOKUP(E1845,Sheet2!A:G,4,FALSE))","v":""},"",{"$f":"IF(OR(E1845=\"\",ISBLANK(E1845)),\"\",VLOOKUP(E1845,Sheet2!A:H,3,FALSE))","v":""},null,{"$f":"IF(OR(E1845=\"\",ISBLANK(E1845)),\"\",VLOOKUP(E1845,Sheet2!A:G,6,FALSE))","v":""},""]
[{"$f":"IF(OR(E1846=\"\",ISBLANK(E1846)),\"\",VLOOKUP(E1846,Sheet2!A:F,2,FALSE))","v":""},{"$f":"IF(OR(E1846=\"\",ISBLANK(E1846)),\"\",VLOOKUP(E1846,Sheet2!A:G,4,FALSE))","v":""},"",{"$f":"IF(OR(E1846=\"\",ISBLANK(E1846)),\"\",VLOOKUP(E1846,Sheet2!A:H,3,FALSE))","v":""},null,{"$f":"IF(OR(E1846=\"\",ISBLANK(E1846)),\"\",VLOOKUP(E1846,Sheet2!A:G,6,FALSE))","v":""},""]
[{"$f":"IF(OR(E1847=\"\",ISBLANK(E1847)),\"\",VLOOKUP(E1847,Sheet2!A:F,2,FALSE))","v":""},{"$f":"IF(OR(E1847=\"\",ISBLANK(E1847)),\"\",VLOOKUP(E1847,Sheet2!A:G,4,FALSE))","v":""},"",{"$f":"IF(OR(E1847=\"\",ISBLANK(E1847)),\"\",VLOOKUP(E1847,Sheet2!A:H,3,FALSE))","v":""},null,{"$f":"IF(OR(E1847=\"\",ISBLANK(E1847)),\"\",VLOOKUP(E1847,Sheet2!A:G,6,FALSE))","v":""},""]
[{"$f":"IF(OR(E1848=\"\",ISBLANK(E1848)),\"\",VLOOKUP(E1848,Sheet2!A:F,2,FALSE))","v":""},{"$f":"IF(OR(E1848=\"\",ISBLANK(E1848)),\"\",VLOOKUP(E1848,Sheet2!A:G,4,FALSE))","v":""},"",{"$f":"IF(OR(E1848=\"\",ISBLANK(E1848)),\"\",VLOOKUP(E1848,Sheet2!A:H,3,FALSE))","v":""},null,{"$f":"IF(OR(E1848=\"\",ISBLANK(E1848)),\"\",VLOOKUP(E1848,Sheet2!A:G,6,FALSE))","v":""},""]
[{"$f":"IF(OR(E1849=\"\",ISBLANK(E1849)),\"\",VLOOKUP(E1849,Sheet2!A:F,2,FALSE))","v":""},{"$f":"IF(OR(E1849=\"\",ISBLANK(E1849)),\"\",VLOOKUP(E1849,Sheet2!A:G,4,FALSE))","v":""},"",{"$f":"IF(OR(E1849=\"\",ISBLANK(E1849)),\"\",VLOOKUP(E1849,Sheet2!A:H,3,FALSE))","v":""},null,{"$f":"IF(OR(E1849=\"\",ISBLANK(E1849)),\"\",VLOOKUP(E1849,Sheet2!A:G,6,FALSE))","v":""},""]
[{"$f":"IF(OR(E1850=\"\",ISBLANK(E1850)),\"\",VLOOKUP(E1850,Sheet2!A:F,2,FALSE))","v":""},{"$f":"IF(OR(E1850=\"\",ISBLANK(E1850)),\"\",VLOOKUP(E1850,Sheet2!A:G,4,FALSE))","v":""},"",{"$f":"IF(OR(E1850=\"\",ISBLANK(E1850)),\"\",VLOOKUP(E1850,Sheet2!A:H,3,FALSE))","v":""},null,{"$f":"IF(OR(E1850=\"\",ISBLANK(E1850)),\"\",VLOOKUP(E1850,Sheet2!A:G,6,FALSE))","v":""},""]
[{"$f":"IF(OR(E1851=\"\",ISBLANK(E1851)),\"\",VLOOKUP(E1851,Sheet2!A:F,2,FALSE))","v":""},{"$f":"IF(OR(E1851=\"\",ISBLANK(E1851)),\"\",VLOOKUP(E1851,Sheet2!A:G,4,FALSE))","v":""},"",{"$f":"IF(OR(E1851=\"\",ISBLANK(E1851)),\"\",VLOOKUP(E1851,Sheet2!A:H,3,FALSE))","v":""},null,{"$f":"IF(OR(E1851=\"\",ISBLANK(E1851)),\"\",VLOOKUP(E1851,Sheet2!A:G,6,FALSE))","v":""},""]
[{"$f":"IF(OR(E1852=\"\",ISBLANK(E1852)),\"\",VLOOKUP(E1852,Sheet2!A:F,2,FALSE))","v":""},{"$f":"IF(OR(E1852=\"\",ISBLANK(E1852)),\"\",VLOOKUP(E1852,Sheet2!A:G,4,FALSE))","v":""},"",{"$f":"IF(OR(E1852=\"\",ISBLANK(E1852)),\"\",VLOOKUP(E1852,Sheet2!A:H,3,FALSE))","v":""},null,{"$f":"IF(OR(E1852=\"\",ISBLANK(E1852)),\"\",VLOOKUP(E1852,Sheet2!A:G,6,FALSE))","v":""},""]
[{"$f":"IF(OR(E1853=\"\",ISBLANK(E1853)),\"\",VLOOKUP(E1853,Sheet2!A:F,2,FALSE))","v":""},{"$f":"IF(OR(E1853=\"\",ISBLANK(E1853)),\"\",VLOOKUP(E1853,Sheet2!A:G,4,FALSE))","v":""},"",{"$f":"IF(OR(E1853=\"\",ISBLANK(E1853)),\"\",VLOOKUP(E1853,Sheet2!A:H,3,FALSE))","v":""},null,{"$f":"IF(OR(E1853=\"\",ISBLANK(E1853)),\"\",VLOOKUP(E1853,Sheet2!A:G,6,FALSE))","v":""},""]
[{"$f":"IF(OR(E1854=\"\",ISBLANK(E1854)),\"\",VLOOKUP(E1854,Sheet2!A:F,2,FALSE))","v":""},{"$f":"IF(OR(E1854=\"\",ISBLANK(E1854)),\"\",VLOOKUP(E1854,Sheet2!A:G,4,FALSE))","v":""},"",{"$f":"IF(OR(E1854=\"\",ISBLANK(E1854)),\"\",VLOOKUP(E1854,Sheet2!A:H,3,FALSE))","v":""},null,{"$f":"IF(OR(E1854=\"\",ISBLANK(E1854)),\"\",VLOOKUP(E1854,Sheet2!A:G,6,FALSE))","v":""},""]
[{"$f":"IF(OR(E1855=\"\",ISBLANK(E1855)),\"\",VLOOKUP(E1855,Sheet2!A:F,2,FALSE))","v":""},{"$f":"IF(OR(E1855=\"\",ISBLANK(E1855)),\"\",VLOOKUP(E1855,Sheet2!A:G,4,FALSE))","v":""},"",{"$f":"IF(OR(E1855=\"\",ISBLANK(E1855)),\"\",VLOOKUP(E1855,Sheet2!A:H,3,FALSE))","v":""},null,{"$f":"IF(OR(E1855=\"\",ISBLANK(E1855)),\"\",VLOOKUP(E1855,Sheet2!A:G,6,FALSE))","v":""},""]
[{"$f":"IF(OR(E1856=\"\",ISBLANK(E1856)),\"\",VLOOKUP(E1856,Sheet2!A:F,2,FALSE))","v":""},{"$f":"IF(OR(E1856=\"\",ISBLANK(E1856)),\"\",VLOOKUP(E1856,Sheet2!A:G,4,FALSE))","v":""},"",{"$f":"IF(OR(E1856=\"\",ISBLANK(E1856)),\"\",VLOOKUP(E1856,Sheet2!A:H,3,FALSE))","v":""},null,{"$f":"IF(OR(E1856=\"\",ISBLANK(E1856)),\"\",VLOOKUP(E1856,Sheet2!A:G,6,FALSE))","v":""},""]
[{"$f":"IF(OR(E1857=\"\",ISBLANK(E1857)),\"\",VLOOKUP(E1857,Sheet2!A:F,2,FALSE))","v":""},{"$f":"IF(OR(E1857=\"\",ISBLANK(E1857)),\"\",VLOOKUP(E1857,Sheet2!A:G,4,FALSE))","v":""},"",{"$f":"IF(OR(E1857=\"\",ISBLANK(E1857)),\"\",VLOOKUP(E1857,Sheet2!A:H,3,FALSE))","v":""},null,{"$f":"IF(OR(E1857=\"\",ISBLANK(E1857)),\"\",VLOOKUP(E1857,Sheet2!A:G,6,FALSE))","v":""},""]
[{"$f":"IF(OR(E1858=\"\",ISBLANK(E1858)),\"\",VLOOKUP(E1858,Sheet2!A:F,2,FALSE))","v":""},{"$f":"IF(OR(E1858=\"\",ISBLANK(E1858)),\"\",VLOOKUP(E1858,Sheet2!A:G,4,FALSE))","v":""},"",{"$f":"IF(OR(E1858=\"\",ISBLANK(E1858)),\"\",VLOOKUP(E1858,Sheet2!A:H,3,FALSE))","v":""},null,{"$f":"IF(OR(E1858=\"\",ISBLANK(E1858)),\"\",VLOOKUP(E1858,Sheet2!A:G,6,FALSE))","v":""},""]
[{"$f":"IF(OR(E1859=\"\",ISBLANK(E1859)),\"\",VLOOKUP(E1859,Sheet2!A:F,2,FALSE))","v":""},{"$f":"IF(OR(E1859=\"\",ISBLANK(E1859)),\"\",VLOOKUP(E1859,Sheet2!A:G,4,FALSE))","v":""},{"$f":"IF(D1859=0,\"\",D1859)","v":""},{"$f":"IF(OR(E1859=\"\",ISBLANK(E1859)),\"\",VLOOKUP(E1859,Sheet2!A:H,3,FALSE))","v":""},null,{"$f":"IF(OR(E1859=\"\",ISBLANK(E1859)),\"\",VLOOKUP(E1859,Sheet2!A:G,6,FALSE))","v":""},{"$f":"IF(F1859=0,\"\",F1859)","v":""}]
[{"$f":"IF(OR(E1860=\"\",ISBLANK(E1860)),\"\",VLOOKUP(E1860,Sheet2!A:F,2,FALSE))","v":""},{"$f":"IF(OR(E1860=\"\",ISBLANK(E1860)),\"\",VLOOKUP(E1860,Sheet2!A:G,4,FALSE))","v":""},"",{"$f":"IF(OR(E1860=\"\",ISBLANK(E1860)),\"\",VLOOKUP(E1860,Sheet2!A:H,3,FALSE))","v":""},null,{"$f":"IF(OR(E1860=\"\",ISBLANK(E1860)),\"\",VLOOKUP(E1860,Sheet2!A:G,6,FALSE))","v":""},""]
[{"$f":"IF(OR(E1861=\"\",ISBLANK(E1861)),\"\",VLOOKUP(E1861,Sheet2!A:F,2,FALSE))","v":""},{"$f":"IF(OR(E1861=\"\",ISBLANK(E1861)),\"\",VLOOKUP(E1861,Sheet2!A:G,4,FALSE))","v":""},"",{"$f":"IF(OR(E1861=\"\",ISBLANK(E1861)),\"\",VLOOKUP(E1861,Sheet2!A:H,3,FALSE))","v":""},null,{"$f":"IF(OR(E1861=\"\",ISBLANK(E1861)),\"\",VLOOKUP(E1861,Sheet2!A:G,6,FALSE))","v":""},""]
[{"$f":"IF(OR(E1862=\"\",ISBLANK(E1862)),\"\",VLOOKUP(E1862,Sheet2!A:F,2,FALSE))","v":""},{"$f":"IF(OR(E1862=\"\",ISBLANK(E1862)),\"\",VLOOKUP(E1862,Sheet2!A:G,4,FALSE))","v":""},"",{"$f":"IF(OR(E1862=\"\",ISBLANK(E1862)),\"\",VLOOKUP(E1862,Sheet2!A:H,3,FALSE))","v":""},null,{"$f":"IF(OR(E1862=\"\",ISBLANK(E1862)),\"\",VLOOKUP(E1862,Sheet2!A:G,6,FALSE))","v":""},""]
[{"$f":"IF(OR(E1863=\"\",ISBLANK(E1863)),\"\",VLOOKUP(E1863,Sheet2!A:F,2,FALSE))","v":""},{"$f":"IF(OR(E1863=\"\",ISBLANK(E1863)),\"\",VLOOKUP(E1863,Sheet2!A:G,4,FALSE))","v":""},"",{"$f":"IF(OR(E1863=\"\",ISBLANK(E1863)),\"\",VLOOKUP(E1863,Sheet2!A:H,3,FALSE))","v":""},null,{"$f":"IF(OR(E1863=\"\",ISBLANK(E1863)),\"\",VLOOKUP(E1863,Sheet2!A:G,6,FALSE))","v":""},""]
[{"$f":"IF(OR(E1864=\"\",ISBLANK(E1864)),\"\",VLOOKUP(E1864,Sheet2!A:F,2,FALSE))","v":""},{"$f":"IF(OR(E1864=\"\",ISBLANK(E1864)),\"\",VLOOKUP(E1864,Sheet2!A:G,4,FALSE))","v":""},"",{"$f":"IF(OR(E1864=\"\",ISBLANK(E1864)),\"\",VLOOKUP(E1864,Sheet2!A:H,3,FALSE))","v":""},null,{"$f":"IF(OR(E1864=\"\",ISBLANK(E1864)),\"\",VLOOKUP(E1864,Sheet2!A:G,6,FALSE))","v":""},""]
[{"$f":"IF(OR(E1865=\"\",ISBLANK(E1865)),\"\",VLOOKUP(E1865,Sheet2!A:F,2,FALSE))","v":""},{"$f":"IF(OR(E1865=\"\",ISBLANK(E1865)),\"\",VLOOKUP(E1865,Sheet2!A:G,4,FALSE))","v":""},"",{"$f":"IF(OR(E1865=\"\",ISBLANK(E1865)),\"\",VLOOKUP(E1865,Sheet2!A:H,3,FALSE))","v":""},null,{"$f":"IF(OR(E1865=\"\",ISBLANK(E1865)),\"\",VLOOKUP(E1865,Sheet2!A:G,6,FALSE))","v":""},""]
[{"$f":"IF(OR(E1866=\"\",ISBLANK(E1866)),\"\",VLOOKUP(E1866,Sheet2!A:F,2,FALSE))","v":""},{"$f":"IF(OR(E1866=\"\",ISBLANK(E1866)),\"\",VLOOKUP(E1866,Sheet2!A:G,4,FALSE))","v":""},"",{"$f":"IF(OR(E1866=\"\",ISBLANK(E1866)),\"\",VLOOKUP(E1866,Sheet2!A:H,3,FALSE))","v":""},null,{"$f":"IF(OR(E1866=\"\",ISBLANK(E1866)),\"\",VLOOKUP(E1866,Sheet2!A:G,6,FALSE))","v":""},""]
[{"$f":"IF(OR(E1867=\"\",ISBLANK(E1867)),\"\",VLOOKUP(E1867,Sheet2!A:F,2,FALSE))","v":""},{"$f":"IF(OR(E1867=\"\",ISBLANK(E1867)),\"\",VLOOKUP(E1867,Sheet2!A:G,4,FALSE))","v":""},"",{"$f":"IF(OR(E1867=\"\",ISBLANK(E1867)),\"\",VLOOKUP(E1867,Sheet2!A:H,3,FALSE))","v":""},null,{"$f":"IF(OR(E1867=\"\",ISBLANK(E1867)),\"\",VLOOKUP(E1867,Sheet2!A:G,6,FALSE))","v":""},""]
[{"$f":"IF(OR(E1868=\"\",ISBLANK(E1868)),\"\",VLOOKUP(E1868,Sheet2!A:F,2,FALSE))","v":""},{"$f":"IF(OR(E1868=\"\",ISBLANK(E1868)),\"\",VLOOKUP(E1868,Sheet2!A:G,4,FALSE))","v":""},"",{"$f":"IF(OR(E1868=\"\",ISBLANK(E1868)),\"\",VLOOKUP(E1868,Sheet2!A:H,3,FALSE))","v":""},null,{"$f":"IF(OR(E1868=\"\",ISBLANK(E1868)),\"\",VLOOKUP(E1868,Sheet2!A:G,6,FALSE))","v":""},""]
[{"$f":"IF(OR(E1869=\"\",ISBLANK(E1869)),\"\",VLOOKUP(E1869,Sheet2!A:F,2,FALSE))","v":""},{"$f":"IF(OR(E1869=\"\",ISBLANK(E1869)),\"\",VLOOKUP(E1869,Sheet2!A:G,4,FALSE))","v":""},"",{"$f":"IF(OR(E1869=\"\",ISBLANK(E1869)),\"\",VLOOKUP(E1869,Sheet2!A:H,3,FALSE))","v":""},null,{"$f":"IF(OR(E1869=\"\",ISBLANK(E1869)),\"\",VLOOKUP(E1869,Sheet2!A:G,6,FALSE))","v":""},""]
[{"$f":"IF(OR(E1870=\"\",ISBLANK(E1870)),\"\",VLOOKUP(E1870,Sheet2!A:F,2,FALSE))","v":""},{"$f":"IF(OR(E1870=\"\",ISBLANK(E1870)),\"\",VLOOKUP(E1870,Sheet2!A:G,4,FALSE))","v":""},"",{"$f":"IF(OR(E1870=\"\",ISBLANK(E1870)),\"\",VLOOKUP(E1870,Sheet2!A:H,3,FALSE))","v":""},null,{"$f":"IF(OR(E1870=\"\",ISBLANK(E1870)),\"\",VLOOKUP(E1870,Sheet2!A:G,6,FALSE))","v":""},""]
[{"$f":"IF(OR(E1871=\"\",ISBLANK(E1871)),\"\",VLOOKUP(E1871,Sheet2!A:F,2,FALSE))","v":""},{"$f":"IF(OR(E1871=\"\",ISBLANK(E1871)),\"\",VLOOKUP(E1871,Sheet2!A:G,4,FALSE))","v":""},"",{"$f":"IF(OR(E1871=\"\",ISBLANK(E1871)),\"\",VLOOKUP(E1871,Sheet2!A:H,3,FALSE))","v":""},null,{"$f":"IF(OR(E1871=\"\",ISBLANK(E1871)),\"\",VLOOKUP(E1871,Sheet2!A:G,6,FALSE))","v":""},""]
[{"$f":"IF(OR(E1872=\"\",ISBLANK(E1872)),\"\",VLOOKUP(E1872,Sheet2!A:F,2,FALSE))","v":""},{"$f":"IF(OR(E1872=\"\",ISBLANK(E1872)),\"\",VLOOKUP(E1872,Sheet2!A:G,4,FALSE))","v":""},"",{"$f":"IF(OR(E1872=\"\",ISBLANK(E1872)),\"\",VLOOKUP(E1872,Sheet2!A:H,3,FALSE))","v":""},null,{"$f":"IF(OR(E1872=\"\",ISBLANK(E1872)),\"\",VLOOKUP(E1872,Sheet2!A:G,6,FALSE))","v":""},""]
[{"$f":"IF(OR(E1873=\"\",ISBLANK(E1873)),\"\",VLOOKUP(E1873,Sheet2!A:F,2,FALSE))","v":""},{"$f":"IF(OR(E1873=\"\",ISBLANK(E1873)),\"\",VLOOKUP(E1873,Sheet2!A:G,4,FALSE))","v":""},"",{"$f":"IF(OR(E1873=\"\",ISBLANK(E1873)),\"\",VLOOKUP(E1873,Sheet2!A:H,3,FALSE))","v":""},null,{"$f":"IF(OR(E1873=\"\",ISBLANK(E1873)),\"\",VLOOKUP(E1873,Sheet2!A:G,6,FALSE))","v":""},""]
[{"$f":"IF(OR(E1874=\"\",ISBLANK(E1874)),\"\",VLOOKUP(E1874,Sheet2!A:F,2,FALSE))","v":""},{"$f":"IF(OR(E1874=\"\",ISBLANK(E1874)),\"\",VLOOKUP(E1874,Sheet2!A:G,4,FALSE))","v":""},"",{"$f":"IF(OR(E1874=\"\",ISBLANK(E1874)),\"\",VLOOKUP(E1874,Sheet2!A:H,3,FALSE))","v":""},null,{"$f":"IF(OR(E1874=\"\",ISBLANK(E1874)),\"\",VLOOKUP(E1874,Sheet2!A:G,6,FALSE))","v":""},""]
[{"$f":"IF(OR(E1875=\"\",ISBLANK(E1875)),\"\",VLOOKUP(E1875,Sheet2!A:F,2,FALSE))","v":""},{"$f":"IF(OR(E1875=\"\",ISBLANK(E1875)),\"\",VLOOKUP(E1875,Sheet2!A:G,4,FALSE))","v":""},"",{"$f":"IF(OR(E1875=\"\",ISBLANK(E1875)),\"\",VLOOKUP(E1875,Sheet2!A:H,3,FALSE))","v":""},null,{"$f":"IF(OR(E1875=\"\",ISBLANK(E1875)),\"\",VLOOKUP(E1875,Sheet2!A:G,6,FALSE))","v":""},""]
[{"$f":"IF(OR(E1876=\"\",ISBLANK(E1876)),\"\",VLOOKUP(E1876,Sheet2!A:F,2,FALSE))","v":""},{"$f":"IF(OR(E1876=\"\",ISBLANK(E1876)),\"\",VLOOKUP(E1876,Sheet2!A:G,4,FALSE))","v":""},"",{"$f":"IF(OR(E1876=\"\",ISBLANK(E1876)),\"\",VLOOKUP(E1876,Sheet2!A:H,3,FALSE))","v":""},null,{"$f":"IF(OR(E1876=\"\",ISBLANK(E1876)),\"\",VLOOKUP(E1876,Sheet2!A:G,6,FALSE))","v":""},""]
[{"$f":"IF(OR(E1877=\"\",ISBLANK(E1877)),\"\",VLOOKUP(E1877,Sheet2!A:F,2,FALSE))","v":""},{"$f":"IF(OR(E1877=\"\",ISBLANK(E1877)),\"\",VLOOKUP(E1877,Sheet2!A:G,4,FALSE))","v":""},"",{"$f":"IF(OR(E1877=\"\",ISBLANK(E1877)),\"\",VLOOKUP(E1877,Sheet2!A:H,3,FALSE))","v":""},null,{"$f":"IF(OR(E1877=\"\",ISBLANK(E1877)),\"\",VLOOKUP(E1877,Sheet2!A:G,6,FALSE))","v":""},""]
[{"$f":"IF(OR(E1878=\"\",ISBLANK(E1878)),\"\",VLOOKUP(E1878,Sheet2!A:F,2,FALSE))","v":""},{"$f":"IF(OR(E1878=\"\",ISBLANK(E1878)),\"\",VLOOKUP(E1878,Sheet2!A:G,4,FALSE))","v":""},"",{"$f":"IF(OR(E1878=\"\",ISBLANK(E1878)),\"\",VLOOKUP(E1878,Sheet2!A:H,3,FALSE))","v":""},null,{"$f":"IF(OR(E1878=\"\",ISBLANK(E1878)),\"\",VLOOKUP(E1878,Sheet2!A:G,6,FALSE))","v":""},""]
[{"$f":"IF(OR(E1879=\"\",ISBLANK(E1879)),\"\",VLOOKUP(E1879,Sheet2!A:F,2,FALSE))","v":""},{"$f":"IF(OR(E1879=\"\",ISBLANK(E1879)),\"\",VLOOKUP(E1879,Sheet2!A:G,4,FALSE))","v":""},"",{"$f":"IF(OR(E1879=\"\",ISBLANK(E1879)),\"\",VLOOKUP(E1879,Sheet2!A:H,3,FALSE))","v":""},null,{"$f":"IF(OR(E1879=\"\",ISBLANK(E1879)),\"\",VLOOKUP(E1879,Sheet2!A:G,6,FALSE))","v":""},""]
[{"$f":"IF(OR(E1880=\"\",ISBLANK(E1880)),\"\",VLOOKUP(E1880,Sheet2!A:F,2,FALSE))","v":""},{"$f":"IF(OR(E1880=\"\",ISBLANK(E1880)),\"\",VLOOKUP(E1880,Sheet2!A:G,4,FALSE))","v":""},"",{"$f":"IF(OR(E1880=\"\",ISBLANK(E1880)),\"\",VLOOKUP(E1880,Sheet2!A:H,3,FALSE))","v":""},null,{"$f":"IF(OR(E1880=\"\",ISBLANK(E1880)),\"\",VLOOKUP(E1880,Sheet2!A:G,6,FALSE))","v":""},""]
[{"$f":"IF(OR(E1881=\"\",ISBLANK(E1881)),\"\",VLOOKUP(E1881,Sheet2!A:F,2,FALSE))","v":""},{"$f":"IF(OR(E1881=\"\",ISBLANK(E1881)),\"\",VLOOKUP(E1881,Sheet2!A:G,4,FALSE))","v":""},"",{"$f":"IF(OR(E1881=\"\",ISBLANK(E1881)),\"\",VLOOKUP(E1881,Sheet2!A:H,3,FALSE))","v":""},null,{"$f":"IF(OR(E1881=\"\",ISBLANK(E1881)),\"\",VLOOKUP(E1881,Sheet2!A:G,6,FALSE))","v":""},""]
[{"$f":"IF(OR(E1882=\"\",ISBLANK(E1882)),\"\",VLOOKUP(E1882,Sheet2!A:F,2,FALSE))","v":""},{"$f":"IF(OR(E1882=\"\",ISBLANK(E1882)),\"\",VLOOKUP(E1882,Sheet2!A:G,4,FALSE))","v":""},"",{"$f":"IF(OR(E1882=\"\",ISBLANK(E1882)),\"\",VLOOKUP(E1882,Sheet2!A:H,3,FALSE))","v":""},null,{"$f":"IF(OR(E1882=\"\",ISBLANK(E1882)),\"\",VLOOKUP(E1882,Sheet2!A:G,6,FALSE))","v":""},""]
[{"$f":"IF(OR(E1883=\"\",ISBLANK(E1883)),\"\",VLOOKUP(E1883,Sheet2!A:F,2,FALSE))","v":""},{"$f":"IF(OR(E1883=\"\",ISBLANK(E1883)),\"\",VLOOKUP(E1883,Sheet2!A:G,4,FALSE))","v":""},"",{"$f":"IF(OR(E1883=\"\",ISBLANK(E1883)),\"\",VLOOKUP(E1883,Sheet2!A:H,3,FALSE))","v":""},null,{"$f":"IF(OR(E1883=\"\",ISBLANK(E1883)),\"\",VLOOKUP(E1883,Sheet2!A:G,6,FALSE))","v":""},""]
[{"$f":"IF(OR(E1884=\"\",ISBLANK(E1884)),\"\",VLOOKUP(E1884,Sheet2!A:F,2,FALSE))","v":""},{"$f":"IF(OR(E1884=\"\",ISBLANK(E1884)),\"\",VLOOKUP(E1884,Sheet2!A:G,4,FALSE))","v":""},"",{"$f":"IF(OR(E1884=\"\",ISBLANK(E1884)),\"\",VLOOKUP(E1884,Sheet2!A:H,3,FALSE))","v":""},null,{"$f":"IF(OR(E1884=\"\",ISBLANK(E1884)),\"\",VLOOKUP(E1884,Sheet2!A:G,6,FALSE))","v":""},""]
[{"$f":"IF(OR(E1885=\"\",ISBLANK(E1885)),\"\",VLOOKUP(E1885,Sheet2!A:F,2,FALSE))","v":""},{"$f":"IF(OR(E1885=\"\",ISBLANK(E1885)),\"\",VLOOKUP(E1885,Sheet2!A:G,4,FALSE))","v":""},"",{"$f":"IF(OR(E1885=\"\",ISBLANK(E1885)),\"\",VLOOKUP(E1885,Sheet2!A:H,3,FALSE))","v":""},null,{"$f":"IF(OR(E1885=\"\",ISBLANK(E1885)),\"\",VLOOKUP(E1885,Sheet2!A:G,6,FALSE))","v":""},""]
[{"$f":"IF(OR(E1886=\"\",ISBLANK(E1886)),\"\",VLOOKUP(E1886,Sheet2!A:F,2,FALSE))","v":""},{"$f":"IF(OR(E1886=\"\",ISBLANK(E1886)),\"\",VLOOKUP(E1886,Sheet2!A:G,4,FALSE))","v":""},"",{"$f":"IF(OR(E1886=\"\",ISBLANK(E1886)),\"\",VLOOKUP(E1886,Sheet2!A:H,3,FALSE))","v":""},null,{"$f":"IF(OR(E1886=\"\",ISBLANK(E1886)),\"\",VLOOKUP(E1886,Sheet2!A:G,6,FALSE))","v":""},""]
[{"$f":"IF(OR(E1887=\"\",ISBLANK(E1887)),\"\",VLOOKUP(E1887,Sheet2!A:F,2,FALSE))","v":""},{"$f":"IF(OR(E1887=\"\",ISBLANK(E1887)),\"\",VLOOKUP(E1887,Sheet2!A:G,4,FALSE))","v":""},"",{"$f":"IF(OR(E1887=\"\",ISBLANK(E1887)),\"\",VLOOKUP(E1887,Sheet2!A:H,3,FALSE))","v":""},null,{"$f":"IF(OR(E1887=\"\",ISBLANK(E1887)),\"\",VLOOKUP(E1887,Sheet2!A:G,6,FALSE))","v":""},""]
[{"$f":"IF(OR(E1888=\"\",ISBLANK(E1888)),\"\",VLOOKUP(E1888,Sheet2!A:F,2,FALSE))","v":""},{"$f":"IF(OR(E1888=\"\",ISBLANK(E1888)),\"\",VLOOKUP(E1888,Sheet2!A:G,4,FALSE))","v":""},"",{"$f":"IF(OR(E1888=\"\",ISBLANK(E1888)),\"\",VLOOKUP(E1888,Sheet2!A:H,3,FALSE))","v":""},null,{"$f":"IF(OR(E1888=\"\",ISBLANK(E1888)),\"\",VLOOKUP(E1888,Sheet2!A:G,6,FALSE))","v":""},""]
[{"$f":"IF(OR(E1889=\"\",ISBLANK(E1889)),\"\",VLOOKUP(E1889,Sheet2!A:F,2,FALSE))","v":""},{"$f":"IF(OR(E1889=\"\",ISBLANK(E1889)),\"\",VLOOKUP(E1889,Sheet2!A:G,4,FALSE))","v":""},"",{"$f":"IF(OR(E1889=\"\",ISBLANK(E1889)),\"\",VLOOKUP(E1889,Sheet2!A:H,3,FALSE))","v":""},null,{"$f":"IF(OR(E1889=\"\",ISBLANK(E1889)),\"\",VLOOKUP(E1889,Sheet2!A:G,6,FALSE))","v":""},""]
[{"$f":"IF(OR(E1890=\"\",ISBLANK(E1890)),\"\",VLOOKUP(E1890,Sheet2!A:F,2,FALSE))","v":""},{"$f":"IF(OR(E1890=\"\",ISBLANK(E1890)),\"\",VLOOKUP(E1890,Sheet2!A:G,4,FALSE))","v":""},"",{"$f":"IF(OR(E1890=\"\",ISBLANK(E1890)),\"\",VLOOKUP(E1890,Sheet2!A:H,3,FALSE))","v":""},null,{"$f":"IF(OR(E1890=\"\",ISBLANK(E1890)),\"\",VLOOKUP(E1890,Sheet2!A:G,6,FALSE))","v":""},""]
[{"$f":"IF(OR(E1891=\"\",ISBLANK(E1891)),\"\",VLOOKUP(E1891,Sheet2!A:F,2,FALSE))","v":""},{"$f":"IF(OR(E1891=\"\",ISBLANK(E1891)),\"\",VLOOKUP(E1891,Sheet2!A:G,4,FALSE))","v":""},"",{"$f":"IF(OR(E1891=\"\",ISBLANK(E1891)),\"\",VLOOKUP(E1891,Sheet2!A:H,3,FALSE))","v":""},null,{"$f":"IF(OR(E1891=\"\",ISBLANK(E1891)),\"\",VLOOKUP(E1891,Sheet2!A:G,6,FALSE))","v":""},""]
[{"$f":"IF(OR(E1892=\"\",ISBLANK(E1892)),\"\",VLOOKUP(E1892,Sheet2!A:F,2,FALSE))","v":""},{"$f":"IF(OR(E1892=\"\",ISBLANK(E1892)),\"\",VLOOKUP(E1892,Sheet2!A:G,4,FALSE))","v":""},"",{"$f":"IF(OR(E1892=\"\",ISBLANK(E1892)),\"\",VLOOKUP(E1892,Sheet2!A:H,3,FALSE))","v":""},null,{"$f":"IF(OR(E1892=\"\",ISBLANK(E1892)),\"\",VLOOKUP(E1892,Sheet2!A:G,6,FALSE))","v":""},""]
[{"$f":"IF(OR(E1893=\"\",ISBLANK(E1893)),\"\",VLOOKUP(E1893,Sheet2!A:F,2,FALSE))","v":""},{"$f":"IF(OR(E1893=\"\",ISBLANK(E1893)),\"\",VLOOKUP(E1893,Sheet2!A:G,4,FALSE))","v":""},"",{"$f":"IF(OR(E1893=\"\",ISBLANK(E1893)),\"\",VLOOKUP(E1893,Sheet2!A:H,3,FALSE))","v":""},null,{"$f":"IF(OR(E1893=\"\",ISBLANK(E1893)),\"\",VLOOKUP(E1893,Sheet2!A:G,6,FALSE))","v":""},""]
[{"$f":"IF(OR(E1894=\"\",ISBLANK(E1894)),\"\",VLOOKUP(E1894,Sheet2!A:F,2,FALSE))","v":""},{"$f":"IF(OR(E1894=\"\",ISBLANK(E1894)),\"\",VLOOKUP(E1894,Sheet2!A:G,4,FALSE))","v":""},"",{"$f":"IF(OR(E1894=\"\",ISBLANK(E1894)),\"\",VLOOKUP(E1894,Sheet2!A:H,3,FALSE))","v":""},null,{"$f":"IF(OR(E1894=\"\",ISBLANK(E1894)),\"\",VLOOKUP(E1894,Sheet2!A:G,6,FALSE))","v":""},""]
[{"$f":"IF(OR(E1895=\"\",ISBLANK(E1895)),\"\",VLOOKUP(E1895,Sheet2!A:F,2,FALSE))","v":""},{"$f":"IF(OR(E1895=\"\",ISBLANK(E1895)),\"\",VLOOKUP(E1895,Sheet2!A:G,4,FALSE))","v":""},"",{"$f":"IF(OR(E1895=\"\",ISBLANK(E1895)),\"\",VLOOKUP(E1895,Sheet2!A:H,3,FALSE))","v":""},null,{"$f":"IF(OR(E1895=\"\",ISBLANK(E1895)),\"\",VLOOKUP(E1895,Sheet2!A:G,6,FALSE))","v":""},""]
[{"$f":"IF(OR(E1896=\"\",ISBLANK(E1896)),\"\",VLOOKUP(E1896,Sheet2!A:F,2,FALSE))","v":""},{"$f":"IF(OR(E1896=\"\",ISBLANK(E1896)),\"\",VLOOKUP(E1896,Sheet2!A:G,4,FALSE))","v":""},"",{"$f":"IF(OR(E1896=\"\",ISBLANK(E1896)),\"\",VLOOKUP(E1896,Sheet2!A:H,3,FALSE))","v":""},null,{"$f":"IF(OR(E1896=\"\",ISBLANK(E1896)),\"\",VLOOKUP(E1896,Sheet2!A:G,6,FALSE))","v":""},""]
[{"$f":"IF(OR(E1897=\"\",ISBLANK(E1897)),\"\",VLOOKUP(E1897,Sheet2!A:F,2,FALSE))","v":""},{"$f":"IF(OR(E1897=\"\",ISBLANK(E1897)),\"\",VLOOKUP(E1897,Sheet2!A:G,4,FALSE))","v":""},"",{"$f":"IF(OR(E1897=\"\",ISBLANK(E1897)),\"\",VLOOKUP(E1897,Sheet2!A:H,3,FALSE))","v":""},null,{"$f":"IF(OR(E1897=\"\",ISBLANK(E1897)),\"\",VLOOKUP(E1897,Sheet2!A:G,6,FALSE))","v":""},""]
[{"$f":"IF(OR(E1898=\"\",ISBLANK(E1898)),\"\",VLOOKUP(E1898,Sheet2!A:F,2,FALSE))","v":""},{"$f":"IF(OR(E1898=\"\",ISBLANK(E1898)),\"\",VLOOKUP(E1898,Sheet2!A:G,4,FALSE))","v":""},"",{"$f":"IF(OR(E1898=\"\",ISBLANK(E1898)),\"\",VLOOKUP(E1898,Sheet2!A:H,3,FALSE))","v":""},null,{"$f":"IF(OR(E1898=\"\",ISBLANK(E1898)),\"\",VLOOKUP(E1898,Sheet2!A:G,6,FALSE))","v":""},""]
[{"$f":"IF(OR(E1899=\"\",ISBLANK(E1899)),\"\",VLOOKUP(E1899,Sheet2!A:F,2,FALSE))","v":""},{"$f":"IF(OR(E1899=\"\",ISBLANK(E1899)),\"\",VLOOKUP(E1899,Sheet2!A:G,4,FALSE))","v":""},"",{"$f":"IF(OR(E1899=\"\",ISBLANK(E1899)),\"\",VLOOKUP(E1899,Sheet2!A:H,3,FALSE))","v":""},null,{"$f":"IF(OR(E1899=\"\",ISBLANK(E1899)),\"\",VLOOKUP(E1899,Sheet2!A:G,6,FALSE))","v":""},""]
[{"$f":"IF(OR(E1900=\"\",ISBLANK(E1900)),\"\",VLOOKUP(E1900,Sheet2!A:F,2,FALSE))","v":""},{"$f":"IF(OR(E1900=\"\",ISBLANK(E1900)),\"\",VLOOKUP(E1900,Sheet2!A:G,4,FALSE))","v":""},"",{"$f":"IF(OR(E1900=\"\",ISBLANK(E1900)),\"\",VLOOKUP(E1900,Sheet2!A:H,3,FALSE))","v":""},null,{"$f":"IF(OR(E1900=\"\",ISBLANK(E1900)),\"\",VLOOKUP(E1900,Sheet2!A:G,6,FALSE))","v":""},""]
[{"$f":"IF(OR(E1901=\"\",ISBLANK(E1901)),\"\",VLOOKUP(E1901,Sheet2!A:F,2,FALSE))","v":""},{"$f":"IF(OR(E1901=\"\",ISBLANK(E1901)),\"\",VLOOKUP(E1901,Sheet2!A:G,4,FALSE))","v":""},"",{"$f":"IF(OR(E1901=\"\",ISBLANK(E1901)),\"\",VLOOKUP(E1901,Sheet2!A:H,3,FALSE))","v":""},null,{"$f":"IF(OR(E1901=\"\",ISBLANK(E1901)),\"\",VLOOKUP(E1901,Sheet2!A:G,6,FALSE))","v":""},""]
[{"$f":"IF(OR(E1902=\"\",ISBLANK(E1902)),\"\",VLOOKUP(E1902,Sheet2!A:F,2,FALSE))","v":""},{"$f":"IF(OR(E1902=\"\",ISBLANK(E1902)),\"\",VLOOKUP(E1902,Sheet2!A:G,4,FALSE))","v":""},"",{"$f":"IF(OR(E1902=\"\",ISBLANK(E1902)),\"\",VLOOKUP(E1902,Sheet2!A:H,3,FALSE))","v":""},null,{"$f":"IF(OR(E1902=\"\",ISBLANK(E1902)),\"\",VLOOKUP(E1902,Sheet2!A:G,6,FALSE))","v":""},""]
[{"$f":"IF(OR(E1903=\"\",ISBLANK(E1903)),\"\",VLOOKUP(E1903,Sheet2!A:F,2,FALSE))","v":""},{"$f":"IF(OR(E1903=\"\",ISBLANK(E1903)),\"\",VLOOKUP(E1903,Sheet2!A:G,4,FALSE))","v":""},"",{"$f":"IF(OR(E1903=\"\",ISBLANK(E1903)),\"\",VLOOKUP(E1903,Sheet2!A:H,3,FALSE))","v":""},null,{"$f":"IF(OR(E1903=\"\",ISBLANK(E1903)),\"\",VLOOKUP(E1903,Sheet2!A:G,6,FALSE))","v":""},""]
[{"$f":"IF(OR(E1904=\"\",ISBLANK(E1904)),\"\",VLOOKUP(E1904,Sheet2!A:F,2,FALSE))","v":""},{"$f":"IF(OR(E1904=\"\",ISBLANK(E1904)),\"\",VLOOKUP(E1904,Sheet2!A:G,4,FALSE))","v":""},"",{"$f":"IF(OR(E1904=\"\",ISBLANK(E1904)),\"\",VLOOKUP(E1904,Sheet2!A:H,3,FALSE))","v":""},null,{"$f":"IF(OR(E1904=\"\",ISBLANK(E1904)),\"\",VLOOKUP(E1904,Sheet2!A:G,6,FALSE))","v":""},""]
[{"$f":"IF(OR(E1905=\"\",ISBLANK(E1905)),\"\",VLOOKUP(E1905,Sheet2!A:F,2,FALSE))","v":""},{"$f":"IF(OR(E1905=\"\",ISBLANK(E1905)),\"\",VLOOKUP(E1905,Sheet2!A:G,4,FALSE))","v":""},"",{"$f":"IF(OR(E1905=\"\",ISBLANK(E1905)),\"\",VLOOKUP(E1905,Sheet2!A:H,3,FALSE))","v":""},null,{"$f":"IF(OR(E1905=\"\",ISBLANK(E1905)),\"\",VLOOKUP(E1905,Sheet2!A:G,6,FALSE))","v":""},""]
[{"$f":"IF(OR(E1906=\"\",ISBLANK(E1906)),\"\",VLOOKUP(E1906,Sheet2!A:F,2,FALSE))","v":""},{"$f":"IF(OR(E1906=\"\",ISBLANK(E1906)),\"\",VLOOKUP(E1906,Sheet2!A:G,4,FALSE))","v":""},"",{"$f":"IF(OR(E1906=\"\",ISBLANK(E1906)),\"\",VLOOKUP(E1906,Sheet2!A:H,3,FALSE))","v":""},null,{"$f":"IF(OR(E1906=\"\",ISBLANK(E1906)),\"\",VLOOKUP(E1906,Sheet2!A:G,6,FALSE))","v":""},""]
[{"$f":"IF(OR(E1907=\"\",ISBLANK(E1907)),\"\",VLOOKUP(E1907,Sheet2!A:F,2,FALSE))","v":""},{"$f":"IF(OR(E1907=\"\",ISBLANK(E1907)),\"\",VLOOKUP(E1907,Sheet2!A:G,4,FALSE))","v":""},"",{"$f":"IF(OR(E1907=\"\",ISBLANK(E1907)),\"\",VLOOKUP(E1907,Sheet2!A:H,3,FALSE))","v":""},null,{"$f":"IF(OR(E1907=\"\",ISBLANK(E1907)),\"\",VLOOKUP(E1907,Sheet2!A:G,6,FALSE))","v":""},""]
[{"$f":"IF(OR(E1908=\"\",ISBLANK(E1908)),\"\",VLOOKUP(E1908,Sheet2!A:F,2,FALSE))","v":""},{"$f":"IF(OR(E1908=\"\",ISBLANK(E1908)),\"\",VLOOKUP(E1908,Sheet2!A:G,4,FALSE))","v":""},"",{"$f":"IF(OR(E1908=\"\",ISBLANK(E1908)),\"\",VLOOKUP(E1908,Sheet2!A:H,3,FALSE))","v":""},null,{"$f":"IF(OR(E1908=\"\",ISBLANK(E1908)),\"\",VLOOKUP(E1908,Sheet2!A:G,6,FALSE))","v":""},""]
[{"$f":"IF(OR(E1909=\"\",ISBLANK(E1909)),\"\",VLOOKUP(E1909,Sheet2!A:F,2,FALSE))","v":""},{"$f":"IF(OR(E1909=\"\",ISBLANK(E1909)),\"\",VLOOKUP(E1909,Sheet2!A:G,4,FALSE))","v":""},"",{"$f":"IF(OR(E1909=\"\",ISBLANK(E1909)),\"\",VLOOKUP(E1909,Sheet2!A:H,3,FALSE))","v":""},null,{"$f":"IF(OR(E1909=\"\",ISBLANK(E1909)),\"\",VLOOKUP(E1909,Sheet2!A:G,6,FALSE))","v":""},""]
[{"$f":"IF(OR(E1910=\"\",ISBLANK(E1910)),\"\",VLOOKUP(E1910,Sheet2!A:F,2,FALSE))","v":""},{"$f":"IF(OR(E1910=\"\",ISBLANK(E1910)),\"\",VLOOKUP(E1910,Sheet2!A:G,4,FALSE))","v":""},"",{"$f":"IF(OR(E1910=\"\",ISBLANK(E1910)),\"\",VLOOKUP(E1910,Sheet2!A:H,3,FALSE))","v":""},null,{"$f":"IF(OR(E1910=\"\",ISBLANK(E1910)),\"\",VLOOKUP(E1910,Sheet2!A:G,6,FALSE))","v":""},""]
[{"$f":"IF(OR(E1911=\"\",ISBLANK(E1911)),\"\",VLOOKUP(E1911,Sheet2!A:F,2,FALSE))","v":""},{"$f":"IF(OR(E1911=\"\",ISBLANK(E1911)),\"\",VLOOKUP(E1911,Sheet2!A:G,4,FALSE))","v":""},"",{"$f":"IF(OR(E1911=\"\",ISBLANK(E1911)),\"\",VLOOKUP(E1911,Sheet2!A:H,3,FALSE))","v":""},null,{"$f":"IF(OR(E1911=\"\",ISBLANK(E1911)),\"\",VLOOKUP(E1911,Sheet2!A:G,6,FALSE))","v":""},""]
[{"$f":"IF(OR(E1912=\"\",ISBLANK(E1912)),\"\",VLOOKUP(E1912,Sheet2!A:F,2,FALSE))","v":""},{"$f":"IF(OR(E1912=\"\",ISBLANK(E1912)),\"\",VLOOKUP(E1912,Sheet2!A:G,4,FALSE))","v":""},"",{"$f":"IF(OR(E1912=\"\",ISBLANK(E1912)),\"\",VLOOKUP(E1912,Sheet2!A:H,3,FALSE))","v":""},null,{"$f":"IF(OR(E1912=\"\",ISBLANK(E1912)),\"\",VLOOKUP(E1912,Sheet2!A:G,6,FALSE))","v":""},""]
[{"$f":"IF(OR(E1913=\"\",ISBLANK(E1913)),\"\",VLOOKUP(E1913,Sheet2!A:F,2,FALSE))","v":""},{"$f":"IF(OR(E1913=\"\",ISBLANK(E1913)),\"\",VLOOKUP(E1913,Sheet2!A:G,4,FALSE))","v":""},"",{"$f":"IF(OR(E1913=\"\",ISBLANK(E1913)),\"\",VLOOKUP(E1913,Sheet2!A:H,3,FALSE))","v":""},null,{"$f":"IF(OR(E1913=\"\",ISBLANK(E1913)),\"\",VLOOKUP(E1913,Sheet2!A:G,6,FALSE))","v":""},""]
[{"$f":"IF(OR(E1914=\"\",ISBLANK(E1914)),\"\",VLOOKUP(E1914,Sheet2!A:F,2,FALSE))","v":""},{"$f":"IF(OR(E1914=\"\",ISBLANK(E1914)),\"\",VLOOKUP(E1914,Sheet2!A:G,4,FALSE))","v":""},"",{"$f":"IF(OR(E1914=\"\",ISBLANK(E1914)),\"\",VLOOKUP(E1914,Sheet2!A:H,3,FALSE))","v":""},null,{"$f":"IF(OR(E1914=\"\",ISBLANK(E1914)),\"\",VLOOKUP(E1914,Sheet2!A:G,6,FALSE))","v":""},""]
[{"$f":"IF(OR(E1915=\"\",ISBLANK(E1915)),\"\",VLOOKUP(E1915,Sheet2!A:F,2,FALSE))","v":""},{"$f":"IF(OR(E1915=\"\",ISBLANK(E1915)),\"\",VLOOKUP(E1915,Sheet2!A:G,4,FALSE))","v":""},"",{"$f":"IF(OR(E1915=\"\",ISBLANK(E1915)),\"\",VLOOKUP(E1915,Sheet2!A:H,3,FALSE))","v":""},null,{"$f":"IF(OR(E1915=\"\",ISBLANK(E1915)),\"\",VLOOKUP(E1915,Sheet2!A:G,6,FALSE))","v":""},""]
[{"$f":"IF(OR(E1916=\"\",ISBLANK(E1916)),\"\",VLOOKUP(E1916,Sheet2!A:F,2,FALSE))","v":""},{"$f":"IF(OR(E1916=\"\",ISBLANK(E1916)),\"\",VLOOKUP(E1916,Sheet2!A:G,4,FALSE))","v":""},"",{"$f":"IF(OR(E1916=\"\",ISBLANK(E1916)),\"\",VLOOKUP(E1916,Sheet2!A:H,3,FALSE))","v":""},null,{"$f":"IF(OR(E1916=\"\",ISBLANK(E1916)),\"\",VLOOKUP(E1916,Sheet2!A:G,6,FALSE))","v":""},""]
[{"$f":"IF(OR(E1917=\"\",ISBLANK(E1917)),\"\",VLOOKUP(E1917,Sheet2!A:F,2,FALSE))","v":""},{"$f":"IF(OR(E1917=\"\",ISBLANK(E1917)),\"\",VLOOKUP(E1917,Sheet2!A:G,4,FALSE))","v":""},"",{"$f":"IF(OR(E1917=\"\",ISBLANK(E1917)),\"\",VLOOKUP(E1917,Sheet2!A:H,3,FALSE))","v":""},null,{"$f":"IF(OR(E1917=\"\",ISBLANK(E1917)),\"\",VLOOKUP(E1917,Sheet2!A:G,6,FALSE))","v":""},""]
[{"$f":"IF(OR(E1918=\"\",ISBLANK(E1918)),\"\",VLOOKUP(E1918,Sheet2!A:F,2,FALSE))","v":""},{"$f":"IF(OR(E1918=\"\",ISBLANK(E1918)),\"\",VLOOKUP(E1918,Sheet2!A:G,4,FALSE))","v":""},"",{"$f":"IF(OR(E1918=\"\",ISBLANK(E1918)),\"\",VLOOKUP(E1918,Sheet2!A:H,3,FALSE))","v":""},null,{"$f":"IF(OR(E1918=\"\",ISBLANK(E1918)),\"\",VLOOKUP(E1918,Sheet2!A:G,6,FALSE))","v":""},""]
[{"$f":"IF(OR(E1919=\"\",ISBLANK(E1919)),\"\",VLOOKUP(E1919,Sheet2!A:F,2,FALSE))","v":""},{"$f":"IF(OR(E1919=\"\",ISBLANK(E1919)),\"\",VLOOKUP(E1919,Sheet2!A:G,4,FALSE))","v":""},"",{"$f":"IF(OR(E1919=\"\",ISBLANK(E1919)),\"\",VLOOKUP(E1919,Sheet2!A:H,3,FALSE))","v":""},null,{"$f":"IF(OR(E1919=\"\",ISBLANK(E1919)),\"\",VLOOKUP(E1919,Sheet2!A:G,6,FALSE))","v":""},""]
[{"$f":"IF(OR(E1920=\"\",ISBLANK(E1920)),\"\",VLOOKUP(E1920,Sheet2!A:F,2,FALSE))","v":""},{"$f":"IF(OR(E1920=\"\",ISBLANK(E1920)),\"\",VLOOKUP(E1920,Sheet2!A:G,4,FALSE))","v":""},"",{"$f":"IF(OR(E1920=\"\",ISBLANK(E1920)),\"\",VLOOKUP(E1920,Sheet2!A:H,3,FALSE))","v":""},null,{"$f":"IF(OR(E1920=\"\",ISBLANK(E1920)),\"\",VLOOKUP(E1920,Sheet2!A:G,6,FALSE))","v":""},""]
[{"$f":"IF(OR(E1921=\"\",ISBLANK(E1921)),\"\",VLOOKUP(E1921,Sheet2!A:F,2,FALSE))","v":""},{"$f":"IF(OR(E1921=\"\",ISBLANK(E1921)),\"\",VLOOKUP(E1921,Sheet2!A:G,4,FALSE))","v":""},"",{"$f":"IF(OR(E1921=\"\",ISBLANK(E1921)),\"\",VLOOKUP(E1921,Sheet2!A:H,3,FALSE))","v":""},null,{"$f":"IF(OR(E1921=\"\",ISBLANK(E1921)),\"\",VLOOKUP(E1921,Sheet2!A:G,6,FALSE))","v":""},""]
[{"$f":"IF(OR(E1922=\"\",ISBLANK(E1922)),\"\",VLOOKUP(E1922,Sheet2!A:F,2,FALSE))","v":""},{"$f":"IF(OR(E1922=\"\",ISBLANK(E1922)),\"\",VLOOKUP(E1922,Sheet2!A:G,4,FALSE))","v":""},"",{"$f":"IF(OR(E1922=\"\",ISBLANK(E1922)),\"\",VLOOKUP(E1922,Sheet2!A:H,3,FALSE))","v":""},null,{"$f":"IF(OR(E1922=\"\",ISBLANK(E1922)),\"\",VLOOKUP(E1922,Sheet2!A:G,6,FALSE))","v":""},""]
[{"$f":"IF(OR(E1923=\"\",ISBLANK(E1923)),\"\",VLOOKUP(E1923,Sheet2!A:F,2,FALSE))","v":""},{"$f":"IF(OR(E1923=\"\",ISBLANK(E1923)),\"\",VLOOKUP(E1923,Sheet2!A:G,4,FALSE))","v":""},{"$f":"IF(D1923=0,\"\",D1923)","v":""},{"$f":"IF(OR(E1923=\"\",ISBLANK(E1923)),\"\",VLOOKUP(E1923,Sheet2!A:H,3,FALSE))","v":""},null,{"$f":"IF(OR(E1923=\"\",ISBLANK(E1923)),\"\",VLOOKUP(E1923,Sheet2!A:G,6,FALSE))","v":""},{"$f":"IF(F1923=0,\"\",F1923)","v":""}]
[{"$f":"IF(OR(E1924=\"\",ISBLANK(E1924)),\"\",VLOOKUP(E1924,Sheet2!A:F,2,FALSE))","v":""},{"$f":"IF(OR(E1924=\"\",ISBLANK(E1924)),\"\",VLOOKUP(E1924,Sheet2!A:G,4,FALSE))","v":""},"",{"$f":"IF(OR(E1924=\"\",ISBLANK(E1924)),\"\",VLOOKUP(E1924,Sheet2!A:H,3,FALSE))","v":""},null,{"$f":"IF(OR(E1924=\"\",ISBLANK(E1924)),\"\",VLOOKUP(E1924,Sheet2!A:G,6,FALSE))","v":""},""]
[{"$f":"IF(OR(E1925=\"\",ISBLANK(E1925)),\"\",VLOOKUP(E1925,Sheet2!A:F,2,FALSE))","v":""},{"$f":"IF(OR(E1925=\"\",ISBLANK(E1925)),\"\",VLOOKUP(E1925,Sheet2!A:G,4,FALSE))","v":""},"",{"$f":"IF(OR(E1925=\"\",ISBLANK(E1925)),\"\",VLOOKUP(E1925,Sheet2!A:H,3,FALSE))","v":""},null,{"$f":"IF(OR(E1925=\"\",ISBLANK(E1925)),\"\",VLOOKUP(E1925,Sheet2!A:G,6,FALSE))","v":""},""]
[{"$f":"IF(OR(E1926=\"\",ISBLANK(E1926)),\"\",VLOOKUP(E1926,Sheet2!A:F,2,FALSE))","v":""},{"$f":"IF(OR(E1926=\"\",ISBLANK(E1926)),\"\",VLOOKUP(E1926,Sheet2!A:G,4,FALSE))","v":""},"",{"$f":"IF(OR(E1926=\"\",ISBLANK(E1926)),\"\",VLOOKUP(E1926,Sheet2!A:H,3,FALSE))","v":""},null,{"$f":"IF(OR(E1926=\"\",ISBLANK(E1926)),\"\",VLOOKUP(E1926,Sheet2!A:G,6,FALSE))","v":""},""]
[{"$f":"IF(OR(E1927=\"\",ISBLANK(E1927)),\"\",VLOOKUP(E1927,Sheet2!A:F,2,FALSE))","v":""},{"$f":"IF(OR(E1927=\"\",ISBLANK(E1927)),\"\",VLOOKUP(E1927,Sheet2!A:G,4,FALSE))","v":""},"",{"$f":"IF(OR(E1927=\"\",ISBLANK(E1927)),\"\",VLOOKUP(E1927,Sheet2!A:H,3,FALSE))","v":""},null,{"$f":"IF(OR(E1927=\"\",ISBLANK(E1927)),\"\",VLOOKUP(E1927,Sheet2!A:G,6,FALSE))","v":""},""]
[{"$f":"IF(OR(E1928=\"\",ISBLANK(E1928)),\"\",VLOOKUP(E1928,Sheet2!A:F,2,FALSE))","v":""},{"$f":"IF(OR(E1928=\"\",ISBLANK(E1928)),\"\",VLOOKUP(E1928,Sheet2!A:G,4,FALSE))","v":""},"",{"$f":"IF(OR(E1928=\"\",ISBLANK(E1928)),\"\",VLOOKUP(E1928,Sheet2!A:H,3,FALSE))","v":""},null,{"$f":"IF(OR(E1928=\"\",ISBLANK(E1928)),\"\",VLOOKUP(E1928,Sheet2!A:G,6,FALSE))","v":""},""]
[{"$f":"IF(OR(E1929=\"\",ISBLANK(E1929)),\"\",VLOOKUP(E1929,Sheet2!A:F,2,FALSE))","v":""},{"$f":"IF(OR(E1929=\"\",ISBLANK(E1929)),\"\",VLOOKUP(E1929,Sheet2!A:G,4,FALSE))","v":""},"",{"$f":"IF(OR(E1929=\"\",ISBLANK(E1929)),\"\",VLOOKUP(E1929,Sheet2!A:H,3,FALSE))","v":""},null,{"$f":"IF(OR(E1929=\"\",ISBLANK(E1929)),\"\",VLOOKUP(E1929,Sheet2!A:G,6,FALSE))","v":""},""]
[{"$f":"IF(OR(E1930=\"\",ISBLANK(E1930)),\"\",VLOOKUP(E1930,Sheet2!A:F,2,FALSE))","v":""},{"$f":"IF(OR(E1930=\"\",ISBLANK(E1930)),\"\",VLOOKUP(E1930,Sheet2!A:G,4,FALSE))","v":""},"",{"$f":"IF(OR(E1930=\"\",ISBLANK(E1930)),\"\",VLOOKUP(E1930,Sheet2!A:H,3,FALSE))","v":""},null,{"$f":"IF(OR(E1930=\"\",ISBLANK(E1930)),\"\",VLOOKUP(E1930,Sheet2!A:G,6,FALSE))","v":""},""]
[{"$f":"IF(OR(E1931=\"\",ISBLANK(E1931)),\"\",VLOOKUP(E1931,Sheet2!A:F,2,FALSE))","v":""},{"$f":"IF(OR(E1931=\"\",ISBLANK(E1931)),\"\",VLOOKUP(E1931,Sheet2!A:G,4,FALSE))","v":""},"",{"$f":"IF(OR(E1931=\"\",ISBLANK(E1931)),\"\",VLOOKUP(E1931,Sheet2!A:H,3,FALSE))","v":""},null,{"$f":"IF(OR(E1931=\"\",ISBLANK(E1931)),\"\",VLOOKUP(E1931,Sheet2!A:G,6,FALSE))","v":""},""]
[{"$f":"IF(OR(E1932=\"\",ISBLANK(E1932)),\"\",VLOOKUP(E1932,Sheet2!A:F,2,FALSE))","v":""},{"$f":"IF(OR(E1932=\"\",ISBLANK(E1932)),\"\",VLOOKUP(E1932,Sheet2!A:G,4,FALSE))","v":""},"",{"$f":"IF(OR(E1932=\"\",ISBLANK(E1932)),\"\",VLOOKUP(E1932,Sheet2!A:H,3,FALSE))","v":""},null,{"$f":"IF(OR(E1932=\"\",ISBLANK(E1932)),\"\",VLOOKUP(E1932,Sheet2!A:G,6,FALSE))","v":""},""]
[{"$f":"IF(OR(E1933=\"\",ISBLANK(E1933)),\"\",VLOOKUP(E1933,Sheet2!A:F,2,FALSE))","v":""},{"$f":"IF(OR(E1933=\"\",ISBLANK(E1933)),\"\",VLOOKUP(E1933,Sheet2!A:G,4,FALSE))","v":""},"",{"$f":"IF(OR(E1933=\"\",ISBLANK(E1933)),\"\",VLOOKUP(E1933,Sheet2!A:H,3,FALSE))","v":""},null,{"$f":"IF(OR(E1933=\"\",ISBLANK(E1933)),\"\",VLOOKUP(E1933,Sheet2!A:G,6,FALSE))","v":""},""]
[{"$f":"IF(OR(E1934=\"\",ISBLANK(E1934)),\"\",VLOOKUP(E1934,Sheet2!A:F,2,FALSE))","v":""},{"$f":"IF(OR(E1934=\"\",ISBLANK(E1934)),\"\",VLOOKUP(E1934,Sheet2!A:G,4,FALSE))","v":""},"",{"$f":"IF(OR(E1934=\"\",ISBLANK(E1934)),\"\",VLOOKUP(E1934,Sheet2!A:H,3,FALSE))","v":""},null,{"$f":"IF(OR(E1934=\"\",ISBLANK(E1934)),\"\",VLOOKUP(E1934,Sheet2!A:G,6,FALSE))","v":""},""]
[{"$f":"IF(OR(E1935=\"\",ISBLANK(E1935)),\"\",VLOOKUP(E1935,Sheet2!A:F,2,FALSE))","v":""},{"$f":"IF(OR(E1935=\"\",ISBLANK(E1935)),\"\",VLOOKUP(E1935,Sheet2!A:G,4,FALSE))","v":""},"",{"$f":"IF(OR(E1935=\"\",ISBLANK(E1935)),\"\",VLOOKUP(E1935,Sheet2!A:H,3,FALSE))","v":""},null,{"$f":"IF(OR(E1935=\"\",ISBLANK(E1935)),\"\",VLOOKUP(E1935,Sheet2!A:G,6,FALSE))","v":""},""]
[{"$f":"IF(OR(E1936=\"\",ISBLANK(E1936)),\"\",VLOOKUP(E1936,Sheet2!A:F,2,FALSE))","v":""},{"$f":"IF(OR(E1936=\"\",ISBLANK(E1936)),\"\",VLOOKUP(E1936,Sheet2!A:G,4,FALSE))","v":""},"",{"$f":"IF(OR(E1936=\"\",ISBLANK(E1936)),\"\",VLOOKUP(E1936,Sheet2!A:H,3,FALSE))","v":""},null,{"$f":"IF(OR(E1936=\"\",ISBLANK(E1936)),\"\",VLOOKUP(E1936,Sheet2!A:G,6,FALSE))","v":""},""]
[{"$f":"IF(OR(E1937=\"\",ISBLANK(E1937)),\"\",VLOOKUP(E1937,Sheet2!A:F,2,FALSE))","v":""},{"$f":"IF(OR(E1937=\"\",ISBLANK(E1937)),\"\",VLOOKUP(E1937,Sheet2!A:G,4,FALSE))","v":""},"",{"$f":"IF(OR(E1937=\"\",ISBLANK(E1937)),\"\",VLOOKUP(E1937,Sheet2!A:H,3,FALSE))","v":""},null,{"$f":"IF(OR(E1937=\"\",ISBLANK(E1937)),\"\",VLOOKUP(E1937,Sheet2!A:G,6,FALSE))","v":""},""]
[{"$f":"IF(OR(E1938=\"\",ISBLANK(E1938)),\"\",VLOOKUP(E1938,Sheet2!A:F,2,FALSE))","v":""},{"$f":"IF(OR(E1938=\"\",ISBLANK(E1938)),\"\",VLOOKUP(E1938,Sheet2!A:G,4,FALSE))","v":""},"",{"$f":"IF(OR(E1938=\"\",ISBLANK(E1938)),\"\",VLOOKUP(E1938,Sheet2!A:H,3,FALSE))","v":""},null,{"$f":"IF(OR(E1938=\"\",ISBLANK(E1938)),\"\",VLOOKUP(E1938,Sheet2!A:G,6,FALSE))","v":""},""]
[{"$f":"IF(OR(E1939=\"\",ISBLANK(E1939)),\"\",VLOOKUP(E1939,Sheet2!A:F,2,FALSE))","v":""},{"$f":"IF(OR(E1939=\"\",ISBLANK(E1939)),\"\",VLOOKUP(E1939,Sheet2!A:G,4,FALSE))","v":""},"",{"$f":"IF(OR(E1939=\"\",ISBLANK(E1939)),\"\",VLOOKUP(E1939,Sheet2!A:H,3,FALSE))","v":""},null,{"$f":"IF(OR(E1939=\"\",ISBLANK(E1939)),\"\",VLOOKUP(E1939,Sheet2!A:G,6,FALSE))","v":""},""]
[{"$f":"IF(OR(E1940=\"\",ISBLANK(E1940)),\"\",VLOOKUP(E1940,Sheet2!A:F,2,FALSE))","v":""},{"$f":"IF(OR(E1940=\"\",ISBLANK(E1940)),\"\",VLOOKUP(E1940,Sheet2!A:G,4,FALSE))","v":""},"",{"$f":"IF(OR(E1940=\"\",ISBLANK(E1940)),\"\",VLOOKUP(E1940,Sheet2!A:H,3,FALSE))","v":""},null,{"$f":"IF(OR(E1940=\"\",ISBLANK(E1940)),\"\",VLOOKUP(E1940,Sheet2!A:G,6,FALSE))","v":""},""]
[{"$f":"IF(OR(E1941=\"\",ISBLANK(E1941)),\"\",VLOOKUP(E1941,Sheet2!A:F,2,FALSE))","v":""},{"$f":"IF(OR(E1941=\"\",ISBLANK(E1941)),\"\",VLOOKUP(E1941,Sheet2!A:G,4,FALSE))","v":""},"",{"$f":"IF(OR(E1941=\"\",ISBLANK(E1941)),\"\",VLOOKUP(E1941,Sheet2!A:H,3,FALSE))","v":""},null,{"$f":"IF(OR(E1941=\"\",ISBLANK(E1941)),\"\",VLOOKUP(E1941,Sheet2!A:G,6,FALSE))","v":""},""]
[{"$f":"IF(OR(E1942=\"\",ISBLANK(E1942)),\"\",VLOOKUP(E1942,Sheet2!A:F,2,FALSE))","v":""},{"$f":"IF(OR(E1942=\"\",ISBLANK(E1942)),\"\",VLOOKUP(E1942,Sheet2!A:G,4,FALSE))","v":""},"",{"$f":"IF(OR(E1942=\"\",ISBLANK(E1942)),\"\",VLOOKUP(E1942,Sheet2!A:H,3,FALSE))","v":""},null,{"$f":"IF(OR(E1942=\"\",ISBLANK(E1942)),\"\",VLOOKUP(E1942,Sheet2!A:G,6,FALSE))","v":""},""]
[{"$f":"IF(OR(E1943=\"\",ISBLANK(E1943)),\"\",VLOOKUP(E1943,Sheet2!A:F,2,FALSE))","v":""},{"$f":"IF(OR(E1943=\"\",ISBLANK(E1943)),\"\",VLOOKUP(E1943,Sheet2!A:G,4,FALSE))","v":""},"",{"$f":"IF(OR(E1943=\"\",ISBLANK(E1943)),\"\",VLOOKUP(E1943,Sheet2!A:H,3,FALSE))","v":""},null,{"$f":"IF(OR(E1943=\"\",ISBLANK(E1943)),\"\",VLOOKUP(E1943,Sheet2!A:G,6,FALSE))","v":""},""]
[{"$f":"IF(OR(E1944=\"\",ISBLANK(E1944)),\"\",VLOOKUP(E1944,Sheet2!A:F,2,FALSE))","v":""},{"$f":"IF(OR(E1944=\"\",ISBLANK(E1944)),\"\",VLOOKUP(E1944,Sheet2!A:G,4,FALSE))","v":""},"",{"$f":"IF(OR(E1944=\"\",ISBLANK(E1944)),\"\",VLOOKUP(E1944,Sheet2!A:H,3,FALSE))","v":""},null,{"$f":"IF(OR(E1944=\"\",ISBLANK(E1944)),\"\",VLOOKUP(E1944,Sheet2!A:G,6,FALSE))","v":""},""]
[{"$f":"IF(OR(E1945=\"\",ISBLANK(E1945)),\"\",VLOOKUP(E1945,Sheet2!A:F,2,FALSE))","v":""},{"$f":"IF(OR(E1945=\"\",ISBLANK(E1945)),\"\",VLOOKUP(E1945,Sheet2!A:G,4,FALSE))","v":""},"",{"$f":"IF(OR(E1945=\"\",ISBLANK(E1945)),\"\",VLOOKUP(E1945,Sheet2!A:H,3,FALSE))","v":""},null,{"$f":"IF(OR(E1945=\"\",ISBLANK(E1945)),\"\",VLOOKUP(E1945,Sheet2!A:G,6,FALSE))","v":""},""]
[{"$f":"IF(OR(E1946=\"\",ISBLANK(E1946)),\"\",VLOOKUP(E1946,Sheet2!A:F,2,FALSE))","v":""},{"$f":"IF(OR(E1946=\"\",ISBLANK(E1946)),\"\",VLOOKUP(E1946,Sheet2!A:G,4,FALSE))","v":""},"",{"$f":"IF(OR(E1946=\"\",ISBLANK(E1946)),\"\",VLOOKUP(E1946,Sheet2!A:H,3,FALSE))","v":""},null,{"$f":"IF(OR(E1946=\"\",ISBLANK(E1946)),\"\",VLOOKUP(E1946,Sheet2!A:G,6,FALSE))","v":""},""]
[{"$f":"IF(OR(E1947=\"\",ISBLANK(E1947)),\"\",VLOOKUP(E1947,Sheet2!A:F,2,FALSE))","v":""},{"$f":"IF(OR(E1947=\"\",ISBLANK(E1947)),\"\",VLOOKUP(E1947,Sheet2!A:G,4,FALSE))","v":""},"",{"$f":"IF(OR(E1947=\"\",ISBLANK(E1947)),\"\",VLOOKUP(E1947,Sheet2!A:H,3,FALSE))","v":""},null,{"$f":"IF(OR(E1947=\"\",ISBLANK(E1947)),\"\",VLOOKUP(E1947,Sheet2!A:G,6,FALSE))","v":""},""]
[{"$f":"IF(OR(E1948=\"\",ISBLANK(E1948)),\"\",VLOOKUP(E1948,Sheet2!A:F,2,FALSE))","v":""},{"$f":"IF(OR(E1948=\"\",ISBLANK(E1948)),\"\",VLOOKUP(E1948,Sheet2!A:G,4,FALSE))","v":""},"",{"$f":"IF(OR(E1948=\"\",ISBLANK(E1948)),\"\",VLOOKUP(E1948,Sheet2!A:H,3,FALSE))","v":""},null,{"$f":"IF(OR(E1948=\"\",ISBLANK(E1948)),\"\",VLOOKUP(E1948,Sheet2!A:G,6,FALSE))","v":""},""]
[{"$f":"IF(OR(E1949=\"\",ISBLANK(E1949)),\"\",VLOOKUP(E1949,Sheet2!A:F,2,FALSE))","v":""},{"$f":"IF(OR(E1949=\"\",ISBLANK(E1949)),\"\",VLOOKUP(E1949,Sheet2!A:G,4,FALSE))","v":""},"",{"$f":"IF(OR(E1949=\"\",ISBLANK(E1949)),\"\",VLOOKUP(E1949,Sheet2!A:H,3,FALSE))","v":""},null,{"$f":"IF(OR(E1949=\"\",ISBLANK(E1949)),\"\",VLOOKUP(E1949,Sheet2!A:G,6,FALSE))","v":""},""]
[{"$f":"IF(OR(E1950=\"\",ISBLANK(E1950)),\"\",VLOOKUP(E1950,Sheet2!A:F,2,FALSE))","v":""},{"$f":"IF(OR(E1950=\"\",ISBLANK(E1950)),\"\",VLOOKUP(E1950,Sheet2!A:G,4,FALSE))","v":""},"",{"$f":"IF(OR(E1950=\"\",ISBLANK(E1950)),\"\",VLOOKUP(E1950,Sheet2!A:H,3,FALSE))","v":""},null,{"$f":"IF(OR(E1950=\"\",ISBLANK(E1950)),\"\",VLOOKUP(E1950,Sheet2!A:G,6,FALSE))","v":""},""]
[{"$f":"IF(OR(E1951=\"\",ISBLANK(E1951)),\"\",VLOOKUP(E1951,Sheet2!A:F,2,FALSE))","v":""},{"$f":"IF(OR(E1951=\"\",ISBLANK(E1951)),\"\",VLOOKUP(E1951,Sheet2!A:G,4,FALSE))","v":""},"",{"$f":"IF(OR(E1951=\"\",ISBLANK(E1951)),\"\",VLOOKUP(E1951,Sheet2!A:H,3,FALSE))","v":""},null,{"$f":"IF(OR(E1951=\"\",ISBLANK(E1951)),\"\",VLOOKUP(E1951,Sheet2!A:G,6,FALSE))","v":""},""]
[{"$f":"IF(OR(E1952=\"\",ISBLANK(E1952)),\"\",VLOOKUP(E1952,Sheet2!A:F,2,FALSE))","v":""},{"$f":"IF(OR(E1952=\"\",ISBLANK(E1952)),\"\",VLOOKUP(E1952,Sheet2!A:G,4,FALSE))","v":""},"",{"$f":"IF(OR(E1952=\"\",ISBLANK(E1952)),\"\",VLOOKUP(E1952,Sheet2!A:H,3,FALSE))","v":""},null,{"$f":"IF(OR(E1952=\"\",ISBLANK(E1952)),\"\",VLOOKUP(E1952,Sheet2!A:G,6,FALSE))","v":""},""]
[{"$f":"IF(OR(E1953=\"\",ISBLANK(E1953)),\"\",VLOOKUP(E1953,Sheet2!A:F,2,FALSE))","v":""},{"$f":"IF(OR(E1953=\"\",ISBLANK(E1953)),\"\",VLOOKUP(E1953,Sheet2!A:G,4,FALSE))","v":""},"",{"$f":"IF(OR(E1953=\"\",ISBLANK(E1953)),\"\",VLOOKUP(E1953,Sheet2!A:H,3,FALSE))","v":""},null,{"$f":"IF(OR(E1953=\"\",ISBLANK(E1953)),\"\",VLOOKUP(E1953,Sheet2!A:G,6,FALSE))","v":""},""]
[{"$f":"IF(OR(E1954=\"\",ISBLANK(E1954)),\"\",VLOOKUP(E1954,Sheet2!A:F,2,FALSE))","v":""},{"$f":"IF(OR(E1954=\"\",ISBLANK(E1954)),\"\",VLOOKUP(E1954,Sheet2!A:G,4,FALSE))","v":""},"",{"$f":"IF(OR(E1954=\"\",ISBLANK(E1954)),\"\",VLOOKUP(E1954,Sheet2!A:H,3,FALSE))","v":""},null,{"$f":"IF(OR(E1954=\"\",ISBLANK(E1954)),\"\",VLOOKUP(E1954,Sheet2!A:G,6,FALSE))","v":""},""]
[{"$f":"IF(OR(E1955=\"\",ISBLANK(E1955)),\"\",VLOOKUP(E1955,Sheet2!A:F,2,FALSE))","v":""},{"$f":"IF(OR(E1955=\"\",ISBLANK(E1955)),\"\",VLOOKUP(E1955,Sheet2!A:G,4,FALSE))","v":""},"",{"$f":"IF(OR(E1955=\"\",ISBLANK(E1955)),\"\",VLOOKUP(E1955,Sheet2!A:H,3,FALSE))","v":""},null,{"$f":"IF(OR(E1955=\"\",ISBLANK(E1955)),\"\",VLOOKUP(E1955,Sheet2!A:G,6,FALSE))","v":""},""]
[{"$f":"IF(OR(E1956=\"\",ISBLANK(E1956)),\"\",VLOOKUP(E1956,Sheet2!A:F,2,FALSE))","v":""},{"$f":"IF(OR(E1956=\"\",ISBLANK(E1956)),\"\",VLOOKUP(E1956,Sheet2!A:G,4,FALSE))","v":""},"",{"$f":"IF(OR(E1956=\"\",ISBLANK(E1956)),\"\",VLOOKUP(E1956,Sheet2!A:H,3,FALSE))","v":""},null,{"$f":"IF(OR(E1956=\"\",ISBLANK(E1956)),\"\",VLOOKUP(E1956,Sheet2!A:G,6,FALSE))","v":""},""]
[{"$f":"IF(OR(E1957=\"\",ISBLANK(E1957)),\"\",VLOOKUP(E1957,Sheet2!A:F,2,FALSE))","v":""},{"$f":"IF(OR(E1957=\"\",ISBLANK(E1957)),\"\",VLOOKUP(E1957,Sheet2!A:G,4,FALSE))","v":""},"",{"$f":"IF(OR(E1957=\"\",ISBLANK(E1957)),\"\",VLOOKUP(E1957,Sheet2!A:H,3,FALSE))","v":""},null,{"$f":"IF(OR(E1957=\"\",ISBLANK(E1957)),\"\",VLOOKUP(E1957,Sheet2!A:G,6,FALSE))","v":""},""]
[{"$f":"IF(OR(E1958=\"\",ISBLANK(E1958)),\"\",VLOOKUP(E1958,Sheet2!A:F,2,FALSE))","v":""},{"$f":"IF(OR(E1958=\"\",ISBLANK(E1958)),\"\",VLOOKUP(E1958,Sheet2!A:G,4,FALSE))","v":""},"",{"$f":"IF(OR(E1958=\"\",ISBLANK(E1958)),\"\",VLOOKUP(E1958,Sheet2!A:H,3,FALSE))","v":""},null,{"$f":"IF(OR(E1958=\"\",ISBLANK(E1958)),\"\",VLOOKUP(E1958,Sheet2!A:G,6,FALSE))","v":""},""]
[{"$f":"IF(OR(E1959=\"\",ISBLANK(E1959)),\"\",VLOOKUP(E1959,Sheet2!A:F,2,FALSE))","v":""},{"$f":"IF(OR(E1959=\"\",ISBLANK(E1959)),\"\",VLOOKUP(E1959,Sheet2!A:G,4,FALSE))","v":""},"",{"$f":"IF(OR(E1959=\"\",ISBLANK(E1959)),\"\",VLOOKUP(E1959,Sheet2!A:H,3,FALSE))","v":""},null,{"$f":"IF(OR(E1959=\"\",ISBLANK(E1959)),\"\",VLOOKUP(E1959,Sheet2!A:G,6,FALSE))","v":""},""]
[{"$f":"IF(OR(E1960=\"\",ISBLANK(E1960)),\"\",VLOOKUP(E1960,Sheet2!A:F,2,FALSE))","v":""},{"$f":"IF(OR(E1960=\"\",ISBLANK(E1960)),\"\",VLOOKUP(E1960,Sheet2!A:G,4,FALSE))","v":""},"",{"$f":"IF(OR(E1960=\"\",ISBLANK(E1960)),\"\",VLOOKUP(E1960,Sheet2!A:H,3,FALSE))","v":""},null,{"$f":"IF(OR(E1960=\"\",ISBLANK(E1960)),\"\",VLOOKUP(E1960,Sheet2!A:G,6,FALSE))","v":""},""]
[{"$f":"IF(OR(E1961=\"\",ISBLANK(E1961)),\"\",VLOOKUP(E1961,Sheet2!A:F,2,FALSE))","v":""},{"$f":"IF(OR(E1961=\"\",ISBLANK(E1961)),\"\",VLOOKUP(E1961,Sheet2!A:G,4,FALSE))","v":""},"",{"$f":"IF(OR(E1961=\"\",ISBLANK(E1961)),\"\",VLOOKUP(E1961,Sheet2!A:H,3,FALSE))","v":""},null,{"$f":"IF(OR(E1961=\"\",ISBLANK(E1961)),\"\",VLOOKUP(E1961,Sheet2!A:G,6,FALSE))","v":""},""]
[{"$f":"IF(OR(E1962=\"\",ISBLANK(E1962)),\"\",VLOOKUP(E1962,Sheet2!A:F,2,FALSE))","v":""},{"$f":"IF(OR(E1962=\"\",ISBLANK(E1962)),\"\",VLOOKUP(E1962,Sheet2!A:G,4,FALSE))","v":""},"",{"$f":"IF(OR(E1962=\"\",ISBLANK(E1962)),\"\",VLOOKUP(E1962,Sheet2!A:H,3,FALSE))","v":""},null,{"$f":"IF(OR(E1962=\"\",ISBLANK(E1962)),\"\",VLOOKUP(E1962,Sheet2!A:G,6,FALSE))","v":""},""]
[{"$f":"IF(OR(E1963=\"\",ISBLANK(E1963)),\"\",VLOOKUP(E1963,Sheet2!A:F,2,FALSE))","v":""},{"$f":"IF(OR(E1963=\"\",ISBLANK(E1963)),\"\",VLOOKUP(E1963,Sheet2!A:G,4,FALSE))","v":""},"",{"$f":"IF(OR(E1963=\"\",ISBLANK(E1963)),\"\",VLOOKUP(E1963,Sheet2!A:H,3,FALSE))","v":""},null,{"$f":"IF(OR(E1963=\"\",ISBLANK(E1963)),\"\",VLOOKUP(E1963,Sheet2!A:G,6,FALSE))","v":""},""]
[{"$f":"IF(OR(E1964=\"\",ISBLANK(E1964)),\"\",VLOOKUP(E1964,Sheet2!A:F,2,FALSE))","v":""},{"$f":"IF(OR(E1964=\"\",ISBLANK(E1964)),\"\",VLOOKUP(E1964,Sheet2!A:G,4,FALSE))","v":""},"",{"$f":"IF(OR(E1964=\"\",ISBLANK(E1964)),\"\",VLOOKUP(E1964,Sheet2!A:H,3,FALSE))","v":""},null,{"$f":"IF(OR(E1964=\"\",ISBLANK(E1964)),\"\",VLOOKUP(E1964,Sheet2!A:G,6,FALSE))","v":""},""]
[{"$f":"IF(OR(E1965=\"\",ISBLANK(E1965)),\"\",VLOOKUP(E1965,Sheet2!A:F,2,FALSE))","v":""},{"$f":"IF(OR(E1965=\"\",ISBLANK(E1965)),\"\",VLOOKUP(E1965,Sheet2!A:G,4,FALSE))","v":""},"",{"$f":"IF(OR(E1965=\"\",ISBLANK(E1965)),\"\",VLOOKUP(E1965,Sheet2!A:H,3,FALSE))","v":""},null,{"$f":"IF(OR(E1965=\"\",ISBLANK(E1965)),\"\",VLOOKUP(E1965,Sheet2!A:G,6,FALSE))","v":""},""]
[{"$f":"IF(OR(E1966=\"\",ISBLANK(E1966)),\"\",VLOOKUP(E1966,Sheet2!A:F,2,FALSE))","v":""},{"$f":"IF(OR(E1966=\"\",ISBLANK(E1966)),\"\",VLOOKUP(E1966,Sheet2!A:G,4,FALSE))","v":""},"",{"$f":"IF(OR(E1966=\"\",ISBLANK(E1966)),\"\",VLOOKUP(E1966,Sheet2!A:H,3,FALSE))","v":""},null,{"$f":"IF(OR(E1966=\"\",ISBLANK(E1966)),\"\",VLOOKUP(E1966,Sheet2!A:G,6,FALSE))","v":""},""]
[{"$f":"IF(OR(E1967=\"\",ISBLANK(E1967)),\"\",VLOOKUP(E1967,Sheet2!A:F,2,FALSE))","v":""},{"$f":"IF(OR(E1967=\"\",ISBLANK(E1967)),\"\",VLOOKUP(E1967,Sheet2!A:G,4,FALSE))","v":""},"",{"$f":"IF(OR(E1967=\"\",ISBLANK(E1967)),\"\",VLOOKUP(E1967,Sheet2!A:H,3,FALSE))","v":""},null,{"$f":"IF(OR(E1967=\"\",ISBLANK(E1967)),\"\",VLOOKUP(E1967,Sheet2!A:G,6,FALSE))","v":""},""]
[{"$f":"IF(OR(E1968=\"\",ISBLANK(E1968)),\"\",VLOOKUP(E1968,Sheet2!A:F,2,FALSE))","v":""},{"$f":"IF(OR(E1968=\"\",ISBLANK(E1968)),\"\",VLOOKUP(E1968,Sheet2!A:G,4,FALSE))","v":""},"",{"$f":"IF(OR(E1968=\"\",ISBLANK(E1968)),\"\",VLOOKUP(E1968,Sheet2!A:H,3,FALSE))","v":""},null,{"$f":"IF(OR(E1968=\"\",ISBLANK(E1968)),\"\",VLOOKUP(E1968,Sheet2!A:G,6,FALSE))","v":""},""]
[{"$f":"IF(OR(E1969=\"\",ISBLANK(E1969)),\"\",VLOOKUP(E1969,Sheet2!A:F,2,FALSE))","v":""},{"$f":"IF(OR(E1969=\"\",ISBLANK(E1969)),\"\",VLOOKUP(E1969,Sheet2!A:G,4,FALSE))","v":""},"",{"$f":"IF(OR(E1969=\"\",ISBLANK(E1969)),\"\",VLOOKUP(E1969,Sheet2!A:H,3,FALSE))","v":""},null,{"$f":"IF(OR(E1969=\"\",ISBLANK(E1969)),\"\",VLOOKUP(E1969,Sheet2!A:G,6,FALSE))","v":""},""]
[{"$f":"IF(OR(E1970=\"\",ISBLANK(E1970)),\"\",VLOOKUP(E1970,Sheet2!A:F,2,FALSE))","v":""},{"$f":"IF(OR(E1970=\"\",ISBLANK(E1970)),\"\",VLOOKUP(E1970,Sheet2!A:G,4,FALSE))","v":""},"",{"$f":"IF(OR(E1970=\"\",ISBLANK(E1970)),\"\",VLOOKUP(E1970,Sheet2!A:H,3,FALSE))","v":""},null,{"$f":"IF(OR(E1970=\"\",ISBLANK(E1970)),\"\",VLOOKUP(E1970,Sheet2!A:G,6,FALSE))","v":""},""]
[{"$f":"IF(OR(E1971=\"\",ISBLANK(E1971)),\"\",VLOOKUP(E1971,Sheet2!A:F,2,FALSE))","v":""},{"$f":"IF(OR(E1971=\"\",ISBLANK(E1971)),\"\",VLOOKUP(E1971,Sheet2!A:G,4,FALSE))","v":""},"",{"$f":"IF(OR(E1971=\"\",ISBLANK(E1971)),\"\",VLOOKUP(E1971,Sheet2!A:H,3,FALSE))","v":""},null,{"$f":"IF(OR(E1971=\"\",ISBLANK(E1971)),\"\",VLOOKUP(E1971,Sheet2!A:G,6,FALSE))","v":""},""]
[{"$f":"IF(OR(E1972=\"\",ISBLANK(E1972)),\"\",VLOOKUP(E1972,Sheet2!A:F,2,FALSE))","v":""},{"$f":"IF(OR(E1972=\"\",ISBLANK(E1972)),\"\",VLOOKUP(E1972,Sheet2!A:G,4,FALSE))","v":""},"",{"$f":"IF(OR(E1972=\"\",ISBLANK(E1972)),\"\",VLOOKUP(E1972,Sheet2!A:H,3,FALSE))","v":""},null,{"$f":"IF(OR(E1972=\"\",ISBLANK(E1972)),\"\",VLOOKUP(E1972,Sheet2!A:G,6,FALSE))","v":""},""]
[{"$f":"IF(OR(E1973=\"\",ISBLANK(E1973)),\"\",VLOOKUP(E1973,Sheet2!A:F,2,FALSE))","v":""},{"$f":"IF(OR(E1973=\"\",ISBLANK(E1973)),\"\",VLOOKUP(E1973,Sheet2!A:G,4,FALSE))","v":""},"",{"$f":"IF(OR(E1973=\"\",ISBLANK(E1973)),\"\",VLOOKUP(E1973,Sheet2!A:H,3,FALSE))","v":""},null,{"$f":"IF(OR(E1973=\"\",ISBLANK(E1973)),\"\",VLOOKUP(E1973,Sheet2!A:G,6,FALSE))","v":""},""]
[{"$f":"IF(OR(E1974=\"\",ISBLANK(E1974)),\"\",VLOOKUP(E1974,Sheet2!A:F,2,FALSE))","v":""},{"$f":"IF(OR(E1974=\"\",ISBLANK(E1974)),\"\",VLOOKUP(E1974,Sheet2!A:G,4,FALSE))","v":""},"",{"$f":"IF(OR(E1974=\"\",ISBLANK(E1974)),\"\",VLOOKUP(E1974,Sheet2!A:H,3,FALSE))","v":""},null,{"$f":"IF(OR(E1974=\"\",ISBLANK(E1974)),\"\",VLOOKUP(E1974,Sheet2!A:G,6,FALSE))","v":""},""]
[{"$f":"IF(OR(E1975=\"\",ISBLANK(E1975)),\"\",VLOOKUP(E1975,Sheet2!A:F,2,FALSE))","v":""},{"$f":"IF(OR(E1975=\"\",ISBLANK(E1975)),\"\",VLOOKUP(E1975,Sheet2!A:G,4,FALSE))","v":""},"",{"$f":"IF(OR(E1975=\"\",ISBLANK(E1975)),\"\",VLOOKUP(E1975,Sheet2!A:H,3,FALSE))","v":""},null,{"$f":"IF(OR(E1975=\"\",ISBLANK(E1975)),\"\",VLOOKUP(E1975,Sheet2!A:G,6,FALSE))","v":""},""]
[{"$f":"IF(OR(E1976=\"\",ISBLANK(E1976)),\"\",VLOOKUP(E1976,Sheet2!A:F,2,FALSE))","v":""},{"$f":"IF(OR(E1976=\"\",ISBLANK(E1976)),\"\",VLOOKUP(E1976,Sheet2!A:G,4,FALSE))","v":""},"",{"$f":"IF(OR(E1976=\"\",ISBLANK(E1976)),\"\",VLOOKUP(E1976,Sheet2!A:H,3,FALSE))","v":""},null,{"$f":"IF(OR(E1976=\"\",ISBLANK(E1976)),\"\",VLOOKUP(E1976,Sheet2!A:G,6,FALSE))","v":""},""]
[{"$f":"IF(OR(E1977=\"\",ISBLANK(E1977)),\"\",VLOOKUP(E1977,Sheet2!A:F,2,FALSE))","v":""},{"$f":"IF(OR(E1977=\"\",ISBLANK(E1977)),\"\",VLOOKUP(E1977,Sheet2!A:G,4,FALSE))","v":""},"",{"$f":"IF(OR(E1977=\"\",ISBLANK(E1977)),\"\",VLOOKUP(E1977,Sheet2!A:H,3,FALSE))","v":""},null,{"$f":"IF(OR(E1977=\"\",ISBLANK(E1977)),\"\",VLOOKUP(E1977,Sheet2!A:G,6,FALSE))","v":""},""]
[{"$f":"IF(OR(E1978=\"\",ISBLANK(E1978)),\"\",VLOOKUP(E1978,Sheet2!A:F,2,FALSE))","v":""},{"$f":"IF(OR(E1978=\"\",ISBLANK(E1978)),\"\",VLOOKUP(E1978,Sheet2!A:G,4,FALSE))","v":""},"",{"$f":"IF(OR(E1978=\"\",ISBLANK(E1978)),\"\",VLOOKUP(E1978,Sheet2!A:H,3,FALSE))","v":""},null,{"$f":"IF(OR(E1978=\"\",ISBLANK(E1978)),\"\",VLOOKUP(E1978,Sheet2!A:G,6,FALSE))","v":""},""]
[{"$f":"IF(OR(E1979=\"\",ISBLANK(E1979)),\"\",VLOOKUP(E1979,Sheet2!A:F,2,FALSE))","v":""},{"$f":"IF(OR(E1979=\"\",ISBLANK(E1979)),\"\",VLOOKUP(E1979,Sheet2!A:G,4,FALSE))","v":""},"",{"$f":"IF(OR(E1979=\"\",ISBLANK(E1979)),\"\",VLOOKUP(E1979,Sheet2!A:H,3,FALSE))","v":""},null,{"$f":"IF(OR(E1979=\"\",ISBLANK(E1979)),\"\",VLOOKUP(E1979,Sheet2!A:G,6,FALSE))","v":""},""]
[{"$f":"IF(OR(E1980=\"\",ISBLANK(E1980)),\"\",VLOOKUP(E1980,Sheet2!A:F,2,FALSE))","v":""},{"$f":"IF(OR(E1980=\"\",ISBLANK(E1980)),\"\",VLOOKUP(E1980,Sheet2!A:G,4,FALSE))","v":""},"",{"$f":"IF(OR(E1980=\"\",ISBLANK(E1980)),\"\",VLOOKUP(E1980,Sheet2!A:H,3,FALSE))","v":""},null,{"$f":"IF(OR(E1980=\"\",ISBLANK(E1980)),\"\",VLOOKUP(E1980,Sheet2!A:G,6,FALSE))","v":""},""]
[{"$f":"IF(OR(E1981=\"\",ISBLANK(E1981)),\"\",VLOOKUP(E1981,Sheet2!A:F,2,FALSE))","v":""},{"$f":"IF(OR(E1981=\"\",ISBLANK(E1981)),\"\",VLOOKUP(E1981,Sheet2!A:G,4,FALSE))","v":""},"",{"$f":"IF(OR(E1981=\"\",ISBLANK(E1981)),\"\",VLOOKUP(E1981,Sheet2!A:H,3,FALSE))","v":""},null,{"$f":"IF(OR(E1981=\"\",ISBLANK(E1981)),\"\",VLOOKUP(E1981,Sheet2!A:G,6,FALSE))","v":""},""]
[{"$f":"IF(OR(E1982=\"\",ISBLANK(E1982)),\"\",VLOOKUP(E1982,Sheet2!A:F,2,FALSE))","v":""},{"$f":"IF(OR(E1982=\"\",ISBLANK(E1982)),\"\",VLOOKUP(E1982,Sheet2!A:G,4,FALSE))","v":""},"",{"$f":"IF(OR(E1982=\"\",ISBLANK(E1982)),\"\",VLOOKUP(E1982,Sheet2!A:H,3,FALSE))","v":""},null,{"$f":"IF(OR(E1982=\"\",ISBLANK(E1982)),\"\",VLOOKUP(E1982,Sheet2!A:G,6,FALSE))","v":""},""]
[{"$f":"IF(OR(E1983=\"\",ISBLANK(E1983)),\"\",VLOOKUP(E1983,Sheet2!A:F,2,FALSE))","v":""},{"$f":"IF(OR(E1983=\"\",ISBLANK(E1983)),\"\",VLOOKUP(E1983,Sheet2!A:G,4,FALSE))","v":""},"",{"$f":"IF(OR(E1983=\"\",ISBLANK(E1983)),\"\",VLOOKUP(E1983,Sheet2!A:H,3,FALSE))","v":""},null,{"$f":"IF(OR(E1983=\"\",ISBLANK(E1983)),\"\",VLOOKUP(E1983,Sheet2!A:G,6,FALSE))","v":""},""]
[{"$f":"IF(OR(E1984=\"\",ISBLANK(E1984)),\"\",VLOOKUP(E1984,Sheet2!A:F,2,FALSE))","v":""},{"$f":"IF(OR(E1984=\"\",ISBLANK(E1984)),\"\",VLOOKUP(E1984,Sheet2!A:G,4,FALSE))","v":""},"",{"$f":"IF(OR(E1984=\"\",ISBLANK(E1984)),\"\",VLOOKUP(E1984,Sheet2!A:H,3,FALSE))","v":""},null,{"$f":"IF(OR(E1984=\"\",ISBLANK(E1984)),\"\",VLOOKUP(E1984,Sheet2!A:G,6,FALSE))","v":""},""]
[{"$f":"IF(OR(E1985=\"\",ISBLANK(E1985)),\"\",VLOOKUP(E1985,Sheet2!A:F,2,FALSE))","v":""},{"$f":"IF(OR(E1985=\"\",ISBLANK(E1985)),\"\",VLOOKUP(E1985,Sheet2!A:G,4,FALSE))","v":""},"",{"$f":"IF(OR(E1985=\"\",ISBLANK(E1985)),\"\",VLOOKUP(E1985,Sheet2!A:H,3,FALSE))","v":""},null,{"$f":"IF(OR(E1985=\"\",ISBLANK(E1985)),\"\",VLOOKUP(E1985,Sheet2!A:G,6,FALSE))","v":""},""]
[{"$f":"IF(OR(E1986=\"\",ISBLANK(E1986)),\"\",VLOOKUP(E1986,Sheet2!A:F,2,FALSE))","v":""},{"$f":"IF(OR(E1986=\"\",ISBLANK(E1986)),\"\",VLOOKUP(E1986,Sheet2!A:G,4,FALSE))","v":""},"",{"$f":"IF(OR(E1986=\"\",ISBLANK(E1986)),\"\",VLOOKUP(E1986,Sheet2!A:H,3,FALSE))","v":""},null,{"$f":"IF(OR(E1986=\"\",ISBLANK(E1986)),\"\",VLOOKUP(E1986,Sheet2!A:G,6,FALSE))","v":""},""]
[{"$f":"IF(OR(E1987=\"\",ISBLANK(E1987)),\"\",VLOOKUP(E1987,Sheet2!A:F,2,FALSE))","v":""},{"$f":"IF(OR(E1987=\"\",ISBLANK(E1987)),\"\",VLOOKUP(E1987,Sheet2!A:G,4,FALSE))","v":""},{"$f":"IF(D1987=0,\"\",D1987)","v":""},{"$f":"IF(OR(E1987=\"\",ISBLANK(E1987)),\"\",VLOOKUP(E1987,Sheet2!A:H,3,FALSE))","v":""},null,{"$f":"IF(OR(E1987=\"\",ISBLANK(E1987)),\"\",VLOOKUP(E1987,Sheet2!A:G,6,FALSE))","v":""},{"$f":"IF(F1987=0,\"\",F1987)","v":""}]
[{"$f":"IF(OR(E1988=\"\",ISBLANK(E1988)),\"\",VLOOKUP(E1988,Sheet2!A:F,2,FALSE))","v":""},{"$f":"IF(OR(E1988=\"\",ISBLANK(E1988)),\"\",VLOOKUP(E1988,Sheet2!A:G,4,FALSE))","v":""},"",{"$f":"IF(OR(E1988=\"\",ISBLANK(E1988)),\"\",VLOOKUP(E1988,Sheet2!A:H,3,FALSE))","v":""},null,{"$f":"IF(OR(E1988=\"\",ISBLANK(E1988)),\"\",VLOOKUP(E1988,Sheet2!A:G,6,FALSE))","v":""},""]
[{"$f":"IF(OR(E1989=\"\",ISBLANK(E1989)),\"\",VLOOKUP(E1989,Sheet2!A:F,2,FALSE))","v":""},{"$f":"IF(OR(E1989=\"\",ISBLANK(E1989)),\"\",VLOOKUP(E1989,Sheet2!A:G,4,FALSE))","v":""},"",{"$f":"IF(OR(E1989=\"\",ISBLANK(E1989)),\"\",VLOOKUP(E1989,Sheet2!A:H,3,FALSE))","v":""},null,{"$f":"IF(OR(E1989=\"\",ISBLANK(E1989)),\"\",VLOOKUP(E1989,Sheet2!A:G,6,FALSE))","v":""},""]
[{"$f":"IF(OR(E1990=\"\",ISBLANK(E1990)),\"\",VLOOKUP(E1990,Sheet2!A:F,2,FALSE))","v":""},{"$f":"IF(OR(E1990=\"\",ISBLANK(E1990)),\"\",VLOOKUP(E1990,Sheet2!A:G,4,FALSE))","v":""},"",{"$f":"IF(OR(E1990=\"\",ISBLANK(E1990)),\"\",VLOOKUP(E1990,Sheet2!A:H,3,FALSE))","v":""},null,{"$f":"IF(OR(E1990=\"\",ISBLANK(E1990)),\"\",VLOOKUP(E1990,Sheet2!A:G,6,FALSE))","v":""},""]
[{"$f":"IF(OR(E1991=\"\",ISBLANK(E1991)),\"\",VLOOKUP(E1991,Sheet2!A:F,2,FALSE))","v":""},{"$f":"IF(OR(E1991=\"\",ISBLANK(E1991)),\"\",VLOOKUP(E1991,Sheet2!A:G,4,FALSE))","v":""},"",{"$f":"IF(OR(E1991=\"\",ISBLANK(E1991)),\"\",VLOOKUP(E1991,Sheet2!A:H,3,FALSE))","v":""},null,{"$f":"IF(OR(E1991=\"\",ISBLANK(E1991)),\"\",VLOOKUP(E1991,Sheet2!A:G,6,FALSE))","v":""},""]
[{"$f":"IF(OR(E1992=\"\",ISBLANK(E1992)),\"\",VLOOKUP(E1992,Sheet2!A:F,2,FALSE))","v":""},{"$f":"IF(OR(E1992=\"\",ISBLANK(E1992)),\"\",VLOOKUP(E1992,Sheet2!A:G,4,FALSE))","v":""},"",{"$f":"IF(OR(E1992=\"\",ISBLANK(E1992)),\"\",VLOOKUP(E1992,Sheet2!A:H,3,FALSE))","v":""},null,{"$f":"IF(OR(E1992=\"\",ISBLANK(E1992)),\"\",VLOOKUP(E1992,Sheet2!A:G,6,FALSE))","v":""},""]
[{"$f":"IF(OR(E1993=\"\",ISBLANK(E1993)),\"\",VLOOKUP(E1993,Sheet2!A:F,2,FALSE))","v":""},{"$f":"IF(OR(E1993=\"\",ISBLANK(E1993)),\"\",VLOOKUP(E1993,Sheet2!A:G,4,FALSE))","v":""},"",{"$f":"IF(OR(E1993=\"\",ISBLANK(E1993)),\"\",VLOOKUP(E1993,Sheet2!A:H,3,FALSE))","v":""},null,{"$f":"IF(OR(E1993=\"\",ISBLANK(E1993)),\"\",VLOOKUP(E1993,Sheet2!A:G,6,FALSE))","v":""},""]
[{"$f":"IF(OR(E1994=\"\",ISBLANK(E1994)),\"\",VLOOKUP(E1994,Sheet2!A:F,2,FALSE))","v":""},{"$f":"IF(OR(E1994=\"\",ISBLANK(E1994)),\"\",VLOOKUP(E1994,Sheet2!A:G,4,FALSE))","v":""},"",{"$f":"IF(OR(E1994=\"\",ISBLANK(E1994)),\"\",VLOOKUP(E1994,Sheet2!A:H,3,FALSE))","v":""},null,{"$f":"IF(OR(E1994=\"\",ISBLANK(E1994)),\"\",VLOOKUP(E1994,Sheet2!A:G,6,FALSE))","v":""},""]
[{"$f":"IF(OR(E1995=\"\",ISBLANK(E1995)),\"\",VLOOKUP(E1995,Sheet2!A:F,2,FALSE))","v":""},{"$f":"IF(OR(E1995=\"\",ISBLANK(E1995)),\"\",VLOOKUP(E1995,Sheet2!A:G,4,FALSE))","v":""},"",{"$f":"IF(OR(E1995=\"\",ISBLANK(E1995)),\"\",VLOOKUP(E1995,Sheet2!A:H,3,FALSE))","v":""},null,{"$f":"IF(OR(E1995=\"\",ISBLANK(E1995)),\"\",VLOOKUP(E1995,Sheet2!A:G,6,FALSE))","v":""},""]
[{"$f":"IF(OR(E1996=\"\",ISBLANK(E1996)),\"\",VLOOKUP(E1996,Sheet2!A:F,2,FALSE))","v":""},{"$f":"IF(OR(E1996=\"\",ISBLANK(E1996)),\"\",VLOOKUP(E1996,Sheet2!A:G,4,FALSE))","v":""},"",{"$f":"IF(OR(E1996=\"\",ISBLANK(E1996)),\"\",VLOOKUP(E1996,Sheet2!A:H,3,FALSE))","v":""},null,{"$f":"IF(OR(E1996=\"\",ISBLANK(E1996)),\"\",VLOOKUP(E1996,Sheet2!A:G,6,FALSE))","v":""},""]
[{"$f":"IF(OR(E1997=\"\",ISBLANK(E1997)),\"\",VLOOKUP(E1997,Sheet2!A:F,2,FALSE))","v":""},{"$f":"IF(OR(E1997=\"\",ISBLANK(E1997)),\"\",VLOOKUP(E1997,Sheet2!A:G,4,FALSE))","v":""},"",{"$f":"IF(OR(E1997=\"\",ISBLANK(E1997)),\"\",VLOOKUP(E1997,Sheet2!A:H,3,FALSE))","v":""},null,{"$f":"IF(OR(E1997=\"\",ISBLANK(E1997)),\"\",VLOOKUP(E1997,Sheet2!A:G,6,FALSE))","v":""},""]
[{"$f":"IF(OR(E1998=\"\",ISBLANK(E1998)),\"\",VLOOKUP(E1998,Sheet2!A:F,2,FALSE))","v":""},{"$f":"IF(OR(E1998=\"\",ISBLANK(E1998)),\"\",VLOOKUP(E1998,Sheet2!A:G,4,FALSE))","v":""},"",{"$f":"IF(OR(E1998=\"\",ISBLANK(E1998)),\"\",VLOOKUP(E1998,Sheet2!A:H,3,FALSE))","v":""},null,{"$f":"IF(OR(E1998=\"\",ISBLANK(E1998)),\"\",VLOOKUP(E1998,Sheet2!A:G,6,FALSE))","v":""},""]
[{"$f":"IF(OR(E1999=\"\",ISBLANK(E1999)),\"\",VLOOKUP(E1999,Sheet2!A:F,2,FALSE))","v":""},{"$f":"IF(OR(E1999=\"\",ISBLANK(E1999)),\"\",VLOOKUP(E1999,Sheet2!A:G,4,FALSE))","v":""},"",{"$f":"IF(OR(E1999=\"\",ISBLANK(E1999)),\"\",VLOOKUP(E1999,Sheet2!A:H,3,FALSE))","v":""},null,{"$f":"IF(OR(E1999=\"\",ISBLANK(E1999)),\"\",VLOOKUP(E1999,Sheet2!A:G,6,FALSE))","v":""},""]
[{"$f":"IF(OR(E2000=\"\",ISBLANK(E2000)),\"\",VLOOKUP(E2000,Sheet2!A:F,2,FALSE))","v":""},{"$f":"IF(OR(E2000=\"\",ISBLANK(E2000)),\"\",VLOOKUP(E2000,Sheet2!A:G,4,FALSE))","v":""},"",{"$f":"IF(OR(E2000=\"\",ISBLANK(E2000)),\"\",VLOOKUP(E2000,Sheet2!A:H,3,FALSE))","v":""},null,{"$f":"IF(OR(E2000=\"\",ISBLANK(E2000)),\"\",VLOOKUP(E2000,Sheet2!A:G,6,FALSE))","v":""},""]
[{"$f":"IF(OR(E2010=\"\",ISBLANK(E2010)),\"\",VLOOKUP(E2010,Sheet2!A:F,2,FALSE))","v":""},{"$f":"IF(OR(E2010=\"\",ISBLANK(E2010)),\"\",VLOOKUP(E2010,Sheet2!A:G,4,FALSE))","v":""},"",{"$f":"IF(OR(E2010=\"\",ISBLANK(E2010)),\"\",VLOOKUP(E2010,Sheet2!A:H,3,FALSE))","v":""},null,{"$f":"IF(OR(E2010=\"\",ISBLANK(E2010)),\"\",VLOOKUP(E2010,Sheet2!A:G,6,FALSE))","v":""},""]
[{"$f":"IF(OR(E2035=\"\",ISBLANK(E2035)),\"\",VLOOKUP(E2035,Sheet2!A:F,2,FALSE))","v":""},{"$f":"IF(OR(E2035=\"\",ISBLANK(E2035)),\"\",VLOOKUP(E2035,Sheet2!A:G,4,FALSE))","v":""},"",{"$f":"IF(OR(E2035=\"\",ISBLANK(E2035)),\"\",VLOOKUP(E2035,Sheet2!A:H,3,FALSE))","v":""},null,{"$f":"IF(OR(E2035=\"\",ISBLANK(E2035)),\"\",VLOOKUP(E2035,Sheet2!A:G,6,FALSE))","v":""},""]
[{"$f":"IF(OR(E2070=\"\",ISBLANK(E2070)),\"\",VLOOKUP(E2070,Sheet2!A:F,2,FALSE))","v":""},{"$f":"IF(OR(E2070=\"\",ISBLANK(E2070)),\"\",VLOOKUP(E2070,Sheet2!A:G,4,FALSE))","v":""},"",{"$f":"IF(OR(E2070=\"\",ISBLANK(E2070)),\"\",VLOOKUP(E2070,Sheet2!A:H,3,FALSE))","v":""},null,{"$f":"IF(OR(E2070=\"\",ISBLANK(E2070)),\"\",VLOOKUP(E2070,Sheet2!A:G,6,FALSE))","v":""},""]
[{"$f":"IF(OR(E2094=\"\",ISBLANK(E2094)),\"\",VLOOKUP(E2094,Sheet2!A:F,2,FALSE))","v":""},{"$f":"IF(OR(E2094=\"\",ISBLANK(E2094)),\"\",VLOOKUP(E2094,Sheet2!A:G,4,FALSE))","v":""},"",{"$f":"IF(OR(E2094=\"\",ISBLANK(E2094)),\"\",VLOOKUP(E2094,Sheet2!A:H,3,FALSE))","v":""},null,{"$f":"IF(OR(E2094=\"\",ISBLANK(E2094)),\"\",VLOOKUP(E2094,Sheet2!A:G,6,FALSE))","v":""},""]
[{"$f":"IF(OR(E2103=\"\",ISBLANK(E2103)),\"\",VLOOKUP(E2103,Sheet2!A:F,2,FALSE))","v":""},{"$f":"IF(OR(E2103=\"\",ISBLANK(E2103)),\"\",VLOOKUP(E2103,Sheet2!A:G,4,FALSE))","v":""},"",{"$f":"IF(OR(E2103=\"\",ISBLANK(E2103)),\"\",VLOOKUP(E2103,Sheet2!A:H,3,FALSE))","v":""},null,{"$f":"IF(OR(E2103=\"\",ISBLANK(E2103)),\"\",VLOOKUP(E2103,Sheet2!A:G,6,FALSE))","v":""},""]
[{"$f":"IF(OR(E2134=\"\",ISBLANK(E2134)),\"\",VLOOKUP(E2134,Sheet2!A:F,2,FALSE))","v":""},{"$f":"IF(OR(E2134=\"\",ISBLANK(E2134)),\"\",VLOOKUP(E2134,Sheet2!A:G,4,FALSE))","v":""},"",{"$f":"IF(OR(E2134=\"\",ISBLANK(E2134)),\"\",VLOOKUP(E2134,Sheet2!A:H,3,FALSE))","v":""},null,{"$f":"IF(OR(E2134=\"\",ISBLANK(E2134)),\"\",VLOOKUP(E2134,Sheet2!A:G,6,FALSE))","v":""},""]
[{"$f":"IF(OR(E2162=\"\",ISBLANK(E2162)),\"\",VLOOKUP(E2162,Sheet2!A:F,2,FALSE))","v":""},{"$f":"IF(OR(E2162=\"\",ISBLANK(E2162)),\"\",VLOOKUP(E2162,Sheet2!A:G,4,FALSE))","v":""},"",{"$f":"IF(OR(E2162=\"\",ISBLANK(E2162)),\"\",VLOOKUP(E2162,Sheet2!A:H,3,FALSE))","v":""},null,{"$f":"IF(OR(E2162=\"\",ISBLANK(E2162)),\"\",VLOOKUP(E2162,Sheet2!A:G,6,FALSE))","v":""},""]
[{"$f":"IF(OR(E2184=\"\",ISBLANK(E2184)),\"\",VLOOKUP(E2184,Sheet2!A:F,2,FALSE))","v":""},{"$f":"IF(OR(E2184=\"\",ISBLANK(E2184)),\"\",VLOOKUP(E2184,Sheet2!A:G,4,FALSE))","v":""},"",{"$f":"IF(OR(E2184=\"\",ISBLANK(E2184)),\"\",VLOOKUP(E2184,Sheet2!A:H,3,FALSE))","v":""},null,{"$f":"IF(OR(E2184=\"\",ISBLANK(E2184)),\"\",VLOOKUP(E2184,Sheet2!A:G,6,FALSE))","v":""},""]
[{"$f":"IF(OR(E2197=\"\",ISBLANK(E2197)),\"\",VLOOKUP(E2197,Sheet2!A:F,2,FALSE))","v":""},{"$f":"IF(OR(E2197=\"\",ISBLANK(E2197)),\"\",VLOOKUP(E2197,Sheet2!A:G,4,FALSE))","v":""},"",{"$f":"IF(OR(E2197=\"\",ISBLANK(E2197)),\"\",VLOOKUP(E2197,Sheet2!A:H,3,FALSE))","v":""},null,{"$f":"IF(OR(E2197=\"\",ISBLANK(E2197)),\"\",VLOOKUP(E2197,Sheet2!A:G,6,FALSE))","v":""},""]
[{"$f":"IF(OR(E2230=\"\",ISBLANK(E2230)),\"\",VLOOKUP(E2230,Sheet2!A:F,2,FALSE))","v":""},{"$f":"IF(OR(E2230=\"\",ISBLANK(E2230)),\"\",VLOOKUP(E2230,Sheet2!A:G,4,FALSE))","v":""},"",{"$f":"IF(OR(E2230=\"\",ISBLANK(E2230)),\"\",VLOOKUP(E2230,Sheet2!A:H,3,FALSE))","v":""},null,{"$f":"IF(OR(E2230=\"\",ISBLANK(E2230)),\"\",VLOOKUP(E2230,Sheet2!A:G,6,FALSE))","v":""},""]
[{"$f":"IF(OR(E2248=\"\",ISBLANK(E2248)),\"\",VLOOKUP(E2248,Sheet2!A:F,2,FALSE))","v":""},{"$f":"IF(OR(E2248=\"\",ISBLANK(E2248)),\"\",VLOOKUP(E2248,Sheet2!A:G,4,FALSE))","v":""},"",{"$f":"IF(OR(E2248=\"\",ISBLANK(E2248)),\"\",VLOOKUP(E2248,Sheet2!A:H,3,FALSE))","v":""},null,{"$f":"IF(OR(E2248=\"\",ISBLANK(E2248)),\"\",VLOOKUP(E2248,Sheet2!A:G,6,FALSE))","v":""},""]
[{"$f":"IF(OR(E2289=\"\",ISBLANK(E2289)),\"\",VLOOKUP(E2289,Sheet2!A:F,2,FALSE))","v":""},{"$f":"IF(OR(E2289=\"\",ISBLANK(E2289)),\"\",VLOOKUP(E2289,Sheet2!A:G,4,FALSE))","v":""},"",{"$f":"IF(OR(E2289=\"\",ISBLANK(E2289)),\"\",VLOOKUP(E2289,Sheet2!A:H,3,FALSE))","v":""},null,{"$f":"IF(OR(E2289=\"\",ISBLANK(E2289)),\"\",VLOOKUP(E2289,Sheet2!A:G,6,FALSE))","v":""},""]
[{"$f":"IF(OR(E2298=\"\",ISBLANK(E2298)),\"\",VLOOKUP(E2298,Sheet2!A:F,2,FALSE))","v":""},{"$f":"IF(OR(E2298=\"\",ISBLANK(E2298)),\"\",VLOOKUP(E2298,Sheet2!A:G,4,FALSE))","v":""},"",{"$f":"IF(OR(E2298=\"\",ISBLANK(E2298)),\"\",VLOOKUP(E2298,Sheet2!A:H,3,FALSE))","v":""},null,{"$f":"IF(OR(E2298=\"\",ISBLANK(E2298)),\"\",VLOOKUP(E2298,Sheet2!A:G,6,FALSE))","v":""},""]
[{"$f":"IF(OR(E2332=\"\",ISBLANK(E2332)),\"\",VLOOKUP(E2332,Sheet2!A:F,2,FALSE))","v":""},{"$f":"IF(OR(E2332=\"\",ISBLANK(E2332)),\"\",VLOOKUP(E2332,Sheet2!A:G,4,FALSE))","v":""},"",{"$f":"IF(OR(E2332=\"\",ISBLANK(E2332)),\"\",VLOOKUP(E2332,Sheet2!A:H,3,FALSE))","v":""},null,{"$f":"IF(OR(E2332=\"\",ISBLANK(E2332)),\"\",VLOOKUP(E2332,Sheet2!A:G,6,FALSE))","v":""},""]
[{"$f":"IF(OR(E2357=\"\",ISBLANK(E2357)),\"\",VLOOKUP(E2357,Sheet2!A:F,2,FALSE))","v":""},{"$f":"IF(OR(E2357=\"\",ISBLANK(E2357)),\"\",VLOOKUP(E2357,Sheet2!A:G,4,FALSE))","v":""},"",{"$f":"IF(OR(E2357=\"\",ISBLANK(E2357)),\"\",VLOOKUP(E2357,Sheet2!A:H,3,FALSE))","v":""},null,{"$f":"IF(OR(E2357=\"\",ISBLANK(E2357)),\"\",VLOOKUP(E2357,Sheet2!A:G,6,FALSE))","v":""},""]
[{"$f":"IF(OR(E2387=\"\",ISBLANK(E2387)),\"\",VLOOKUP(E2387,Sheet2!A:F,2,FALSE))","v":""},{"$f":"IF(OR(E2387=\"\",ISBLANK(E2387)),\"\",VLOOKUP(E2387,Sheet2!A:G,4,FALSE))","v":""},"",{"$f":"IF(OR(E2387=\"\",ISBLANK(E2387)),\"\",VLOOKUP(E2387,Sheet2!A:H,3,FALSE))","v":""},null,{"$f":"IF(OR(E2387=\"\",ISBLANK(E2387)),\"\",VLOOKUP(E2387,Sheet2!A:G,6,FALSE))","v":""},""]
[{"$f":"IF(OR(E2392=\"\",ISBLANK(E2392)),\"\",VLOOKUP(E2392,Sheet2!A:F,2,FALSE))","v":""},{"$f":"IF(OR(E2392=\"\",ISBLANK(E2392)),\"\",VLOOKUP(E2392,Sheet2!A:G,4,FALSE))","v":""},"",{"$f":"IF(OR(E2392=\"\",ISBLANK(E2392)),\"\",VLOOKUP(E2392,Sheet2!A:H,3,FALSE))","v":""},null,{"$f":"IF(OR(E2392=\"\",ISBLANK(E2392)),\"\",VLOOKUP(E2392,Sheet2!A:G,6,FALSE))","v":""},""]
[{"$f":"IF(OR(E2425=\"\",ISBLANK(E2425)),\"\",VLOOKUP(E2425,Sheet2!A:F,2,FALSE))","v":""},{"$f":"IF(OR(E2425=\"\",ISBLANK(E2425)),\"\",VLOOKUP(E2425,Sheet2!A:G,4,FALSE))","v":""},"",{"$f":"IF(OR(E2425=\"\",ISBLANK(E2425)),\"\",VLOOKUP(E2425,Sheet2!A:H,3,FALSE))","v":""},null,{"$f":"IF(OR(E2425=\"\",ISBLANK(E2425)),\"\",VLOOKUP(E2425,Sheet2!A:G,6,FALSE))","v":""},""]
[{"$f":"IF(OR(E2451=\"\",ISBLANK(E2451)),\"\",VLOOKUP(E2451,Sheet2!A:F,2,FALSE))","v":""},{"$f":"IF(OR(E2451=\"\",ISBLANK(E2451)),\"\",VLOOKUP(E2451,Sheet2!A:G,4,FALSE))","v":""},"",{"$f":"IF(OR(E2451=\"\",ISBLANK(E2451)),\"\",VLOOKUP(E2451,Sheet2!A:H,3,FALSE))","v":""},null,{"$f":"IF(OR(E2451=\"\",ISBLANK(E2451)),\"\",VLOOKUP(E2451,Sheet2!A:G,6,FALSE))","v":""},""]
[{"$f":"IF(OR(E2484=\"\",ISBLANK(E2484)),\"\",VLOOKUP(E2484,Sheet2!A:F,2,FALSE))","v":""},{"$f":"IF(OR(E2484=\"\",ISBLANK(E2484)),\"\",VLOOKUP(E2484,Sheet2!A:G,4,FALSE))","v":""},"",{"$f":"IF(OR(E2484=\"\",ISBLANK(E2484)),\"\",VLOOKUP(E2484,Sheet2!A:H,3,FALSE))","v":""},null,{"$f":"IF(OR(E2484=\"\",ISBLANK(E2484)),\"\",VLOOKUP(E2484,Sheet2!A:G,6,FALSE))","v":""},""]
[{"$f":"IF(OR(E2501=\"\",ISBLANK(E2501)),\"\",VLOOKUP(E2501,Sheet2!A:F,2,FALSE))","v":""},{"$f":"IF(OR(E2501=\"\",ISBLANK(E2501)),\"\",VLOOKUP(E2501,Sheet2!A:G,4,FALSE))","v":""},"",{"$f":"IF(OR(E2501=\"\",ISBLANK(E2501)),\"\",VLOOKUP(E2501,Sheet2!A:H,3,FALSE))","v":""},null,{"$f":"IF(OR(E2501=\"\",ISBLANK(E2501)),\"\",VLOOKUP(E2501,Sheet2!A:G,6,FALSE))","v":""},""]
[{"$f":"IF(OR(E2519=\"\",ISBLANK(E2519)),\"\",VLOOKUP(E2519,Sheet2!A:F,2,FALSE))","v":""},{"$f":"IF(OR(E2519=\"\",ISBLANK(E2519)),\"\",VLOOKUP(E2519,Sheet2!A:G,4,FALSE))","v":""},"",{"$f":"IF(OR(E2519=\"\",ISBLANK(E2519)),\"\",VLOOKUP(E2519,Sheet2!A:H,3,FALSE))","v":""},null,{"$f":"IF(OR(E2519=\"\",ISBLANK(E2519)),\"\",VLOOKUP(E2519,Sheet2!A:G,6,FALSE))","v":""},""]
[{"$f":"IF(OR(E2552=\"\",ISBLANK(E2552)),\"\",VLOOKUP(E2552,Sheet2!A:F,2,FALSE))","v":""},{"$f":"IF(OR(E2552=\"\",ISBLANK(E2552)),\"\",VLOOKUP(E2552,Sheet2!A:G,4,FALSE))","v":""},"",{"$f":"IF(OR(E2552=\"\",ISBLANK(E2552)),\"\",VLOOKUP(E2552,Sheet2!A:H,3,FALSE))","v":""},null,{"$f":"IF(OR(E2552=\"\",ISBLANK(E2552)),\"\",VLOOKUP(E2552,Sheet2!A:G,6,FALSE))","v":""},""]
[{"$f":"IF(OR(E2565=\"\",ISBLANK(E2565)),\"\",VLOOKUP(E2565,Sheet2!A:F,2,FALSE))","v":""},{"$f":"IF(OR(E2565=\"\",ISBLANK(E2565)),\"\",VLOOKUP(E2565,Sheet2!A:G,4,FALSE))","v":""},"",{"$f":"IF(OR(E2565=\"\",ISBLANK(E2565)),\"\",VLOOKUP(E2565,Sheet2!A:H,3,FALSE))","v":""},null,{"$f":"IF(OR(E2565=\"\",ISBLANK(E2565)),\"\",VLOOKUP(E2565,Sheet2!A:G,6,FALSE))","v":""},""]
[{"$f":"IF(OR(E2587=\"\",ISBLANK(E2587)),\"\",VLOOKUP(E2587,Sheet2!A:F,2,FALSE))","v":""},{"$f":"IF(OR(E2587=\"\",ISBLANK(E2587)),\"\",VLOOKUP(E2587,Sheet2!A:G,4,FALSE))","v":""},"",{"$f":"IF(OR(E2587=\"\",ISBLANK(E2587)),\"\",VLOOKUP(E2587,Sheet2!A:H,3,FALSE))","v":""},null,{"$f":"IF(OR(E2587=\"\",ISBLANK(E2587)),\"\",VLOOKUP(E2587,Sheet2!A:G,6,FALSE))","v":""},""]
[{"$f":"IF(OR(E2615=\"\",ISBLANK(E2615)),\"\",VLOOKUP(E2615,Sheet2!A:F,2,FALSE))","v":""},{"$f":"IF(OR(E2615=\"\",ISBLANK(E2615)),\"\",VLOOKUP(E2615,Sheet2!A:G,4,FALSE))","v":""},"",{"$f":"IF(OR(E2615=\"\",ISBLANK(E2615)),\"\",VLOOKUP(E2615,Sheet2!A:H,3,FALSE))","v":""},null,{"$f":"IF(OR(E2615=\"\",ISBLANK(E2615)),\"\",VLOOKUP(E2615,Sheet2!A:G,6,FALSE))","v":""},""]
[{"$f":"IF(OR(E2654=\"\",ISBLANK(E2654)),\"\",VLOOKUP(E2654,Sheet2!A:F,2,FALSE))","v":""},{"$f":"IF(OR(E2654=\"\",ISBLANK(E2654)),\"\",VLOOKUP(E2654,Sheet2!A:G,4,FALSE))","v":""},"",{"$f":"IF(OR(E2654=\"\",ISBLANK(E2654)),\"\",VLOOKUP(E2654,Sheet2!A:H,3,FALSE))","v":""},null,{"$f":"IF(OR(E2654=\"\",ISBLANK(E2654)),\"\",VLOOKUP(E2654,Sheet2!A:G,6,FALSE))","v":""},""]
[{"$f":"IF(OR(E2679=\"\",ISBLANK(E2679)),\"\",VLOOKUP(E2679,Sheet2!A:F,2,FALSE))","v":""},{"$f":"IF(OR(E2679=\"\",ISBLANK(E2679)),\"\",VLOOKUP(E2679,Sheet2!A:G,4,FALSE))","v":""},"",{"$f":"IF(OR(E2679=\"\",ISBLANK(E2679)),\"\",VLOOKUP(E2679,Sheet2!A:H,3,FALSE))","v":""},null,{"$f":"IF(OR(E2679=\"\",ISBLANK(E2679)),\"\",VLOOKUP(E2679,Sheet2!A:G,6,FALSE))","v":""},""]
[{"$f":"IF(OR(E2704=\"\",ISBLANK(E2704)),\"\",VLOOKUP(E2704,Sheet2!A:F,2,FALSE))","v":""},{"$f":"IF(OR(E2704=\"\",ISBLANK(E2704)),\"\",VLOOKUP(E2704,Sheet2!A:G,4,FALSE))","v":""},"",{"$f":"IF(OR(E2704=\"\",ISBLANK(E2704)),\"\",VLOOKUP(E2704,Sheet2!A:H,3,FALSE))","v":""},null,{"$f":"IF(OR(E2704=\"\",ISBLANK(E2704)),\"\",VLOOKUP(E2704,Sheet2!A:G,6,FALSE))","v":""},""]
[{"$f":"IF(OR(E2714=\"\",ISBLANK(E2714)),\"\",VLOOKUP(E2714,Sheet2!A:F,2,FALSE))","v":""},{"$f":"IF(OR(E2714=\"\",ISBLANK(E2714)),\"\",VLOOKUP(E2714,Sheet2!A:G,4,FALSE))","v":""},"",{"$f":"IF(OR(E2714=\"\",ISBLANK(E2714)),\"\",VLOOKUP(E2714,Sheet2!A:H,3,FALSE))","v":""},null,{"$f":"IF(OR(E2714=\"\",ISBLANK(E2714)),\"\",VLOOKUP(E2714,Sheet2!A:G,6,FALSE))","v":""},""]
[{"$f":"IF(OR(E2754=\"\",ISBLANK(E2754)),\"\",VLOOKUP(E2754,Sheet2!A:F,2,FALSE))","v":""},{"$f":"IF(OR(E2754=\"\",ISBLANK(E2754)),\"\",VLOOKUP(E2754,Sheet2!A:G,4,FALSE))","v":""},"",{"$f":"IF(OR(E2754=\"\",ISBLANK(E2754)),\"\",VLOOKUP(E2754,Sheet2!A:H,3,FALSE))","v":""},null,{"$f":"IF(OR(E2754=\"\",ISBLANK(E2754)),\"\",VLOOKUP(E2754,Sheet2!A:G,6,FALSE))","v":""},""]
[{"$f":"IF(OR(E2757=\"\",ISBLANK(E2757)),\"\",VLOOKUP(E2757,Sheet2!A:F,2,FALSE))","v":""},{"$f":"IF(OR(E2757=\"\",ISBLANK(E2757)),\"\",VLOOKUP(E2757,Sheet2!A:G,4,FALSE))","v":""},"",{"$f":"IF(OR(E2757=\"\",ISBLANK(E2757)),\"\",VLOOKUP(E2757,Sheet2!A:H,3,FALSE))","v":""},null,{"$f":"IF(OR(E2757=\"\",ISBLANK(E2757)),\"\",VLOOKUP(E2757,Sheet2!A:G,6,FALSE))","v":""},""]
[{"$f":"IF(OR(E2782=\"\",ISBLANK(E2782)),\"\",VLOOKUP(E2782,Sheet2!A:F,2,FALSE))","v":""},{"$f":"IF(OR(E2782=\"\",ISBLANK(E2782)),\"\",VLOOKUP(E2782,Sheet2!A:G,4,FALSE))","v":""},"",{"$f":"IF(OR(E2782=\"\",ISBLANK(E2782)),\"\",VLOOKUP(E2782,Sheet2!A:H,3,FALSE))","v":""},null,{"$f":"IF(OR(E2782=\"\",ISBLANK(E2782)),\"\",VLOOKUP(E2782,Sheet2!A:G,6,FALSE))","v":""},""]
[{"$f":"IF(OR(E2818=\"\",ISBLANK(E2818)),\"\",VLOOKUP(E2818,Sheet2!A:F,2,FALSE))","v":""},{"$f":"IF(OR(E2818=\"\",ISBLANK(E2818)),\"\",VLOOKUP(E2818,Sheet2!A:G,4,FALSE))","v":""},"",{"$f":"IF(OR(E2818=\"\",ISBLANK(E2818)),\"\",VLOOKUP(E2818,Sheet2!A:H,3,FALSE))","v":""},null,{"$f":"IF(OR(E2818=\"\",ISBLANK(E2818)),\"\",VLOOKUP(E2818,Sheet2!A:G,6,FALSE))","v":""},""]
[{"$f":"IF(OR(E2849=\"\",ISBLANK(E2849)),\"\",VLOOKUP(E2849,Sheet2!A:F,2,FALSE))","v":""},{"$f":"IF(OR(E2849=\"\",ISBLANK(E2849)),\"\",VLOOKUP(E2849,Sheet2!A:G,4,FALSE))","v":""},"",{"$f":"IF(OR(E2849=\"\",ISBLANK(E2849)),\"\",VLOOKUP(E2849,Sheet2!A:H,3,FALSE))","v":""},null,{"$f":"IF(OR(E2849=\"\",ISBLANK(E2849)),\"\",VLOOKUP(E2849,Sheet2!A:G,6,FALSE))","v":""},""]
[{"$f":"IF(OR(E2874=\"\",ISBLANK(E2874)),\"\",VLOOKUP(E2874,Sheet2!A:F,2,FALSE))","v":""},{"$f":"IF(OR(E2874=\"\",ISBLANK(E2874)),\"\",VLOOKUP(E2874,Sheet2!A:G,4,FALSE))","v":""},"",{"$f":"IF(OR(E2874=\"\",ISBLANK(E2874)),\"\",VLOOKUP(E2874,Sheet2!A:H,3,FALSE))","v":""},null,{"$f":"IF(OR(E2874=\"\",ISBLANK(E2874)),\"\",VLOOKUP(E2874,Sheet2!A:G,6,FALSE))","v":""},""]
[{"$f":"IF(OR(E2882=\"\",ISBLANK(E2882)),\"\",VLOOKUP(E2882,Sheet2!A:F,2,FALSE))","v":""},{"$f":"IF(OR(E2882=\"\",ISBLANK(E2882)),\"\",VLOOKUP(E2882,Sheet2!A:G,4,FALSE))","v":""},"",{"$f":"IF(OR(E2882=\"\",ISBLANK(E2882)),\"\",VLOOKUP(E2882,Sheet2!A:H,3,FALSE))","v":""},null,{"$f":"IF(OR(E2882=\"\",ISBLANK(E2882)),\"\",VLOOKUP(E2882,Sheet2!A:G,6,FALSE))","v":""},""]
[{"$f":"IF(OR(E2909=\"\",ISBLANK(E2909)),\"\",VLOOKUP(E2909,Sheet2!A:F,2,FALSE))","v":""},{"$f":"IF(OR(E2909=\"\",ISBLANK(E2909)),\"\",VLOOKUP(E2909,Sheet2!A:G,4,FALSE))","v":""},"",{"$f":"IF(OR(E2909=\"\",ISBLANK(E2909)),\"\",VLOOKUP(E2909,Sheet2!A:H,3,FALSE))","v":""},null,{"$f":"IF(OR(E2909=\"\",ISBLANK(E2909)),\"\",VLOOKUP(E2909,Sheet2!A:G,6,FALSE))","v":""},""]
[{"$f":"IF(OR(E2932=\"\",ISBLANK(E2932)),\"\",VLOOKUP(E2932,Sheet2!A:F,2,FALSE))","v":""},{"$f":"IF(OR(E2932=\"\",ISBLANK(E2932)),\"\",VLOOKUP(E2932,Sheet2!A:G,4,FALSE))","v":""},"",{"$f":"IF(OR(E2932=\"\",ISBLANK(E2932)),\"\",VLOOKUP(E2932,Sheet2!A:H,3,FALSE))","v":""},null,{"$f":"IF(OR(E2932=\"\",ISBLANK(E2932)),\"\",VLOOKUP(E2932,Sheet2!A:G,6,FALSE))","v":""},""]
[{"$f":"IF(OR(E2952=\"\",ISBLANK(E2952)),\"\",VLOOKUP(E2952,Sheet2!A:F,2,FALSE))","v":""},{"$f":"IF(OR(E2952=\"\",ISBLANK(E2952)),\"\",VLOOKUP(E2952,Sheet2!A:G,4,FALSE))","v":""},"",{"$f":"IF(OR(E2952=\"\",ISBLANK(E2952)),\"\",VLOOKUP(E2952,Sheet2!A:H,3,FALSE))","v":""},null,{"$f":"IF(OR(E2952=\"\",ISBLANK(E2952)),\"\",VLOOKUP(E2952,Sheet2!A:G,6,FALSE))","v":""},""]
[{"$f":"IF(OR(E2977=\"\",ISBLANK(E2977)),\"\",VLOOKUP(E2977,Sheet2!A:F,2,FALSE))","v":""},{"$f":"IF(OR(E2977=\"\",ISBLANK(E2977)),\"\",VLOOKUP(E2977,Sheet2!A:G,4,FALSE))","v":""},"",{"$f":"IF(OR(E2977=\"\",ISBLANK(E2977)),\"\",VLOOKUP(E2977,Sheet2!A:H,3,FALSE))","v":""},null,{"$f":"IF(OR(E2977=\"\",ISBLANK(E2977)),\"\",VLOOKUP(E2977,Sheet2!A:G,6,FALSE))","v":""},""]
[{"$f":"IF(OR(E3021=\"\",ISBLANK(E3021)),\"\",VLOOKUP(E3021,Sheet2!A:F,2,FALSE))","v":""},{"$f":"IF(OR(E3021=\"\",ISBLANK(E3021)),\"\",VLOOKUP(E3021,Sheet2!A:G,4,FALSE))","v":""},"",{"$f":"IF(OR(E3021=\"\",ISBLANK(E3021)),\"\",VLOOKUP(E3021,Sheet2!A:H,3,FALSE))","v":""},null,{"$f":"IF(OR(E3021=\"\",ISBLANK(E3021)),\"\",VLOOKUP(E3021,Sheet2!A:G,6,FALSE))","v":""},""]
[{"$f":"IF(OR(E3036=\"\",ISBLANK(E3036)),\"\",VLOOKUP(E3036,Sheet2!A:F,2,FALSE))","v":""},{"$f":"IF(OR(E3036=\"\",ISBLANK(E3036)),\"\",VLOOKUP(E3036,Sheet2!A:G,4,FALSE))","v":""},"",{"$f":"IF(OR(E3036=\"\",ISBLANK(E3036)),\"\",VLOOKUP(E3036,Sheet2!A:H,3,FALSE))","v":""},null,{"$f":"IF(OR(E3036=\"\",ISBLANK(E3036)),\"\",VLOOKUP(E3036,Sheet2!A:G,6,FALSE))","v":""},""]
[{"$f":"IF(OR(E3071=\"\",ISBLANK(E3071)),\"\",VLOOKUP(E3071,Sheet2!A:F,2,FALSE))","v":""},{"$f":"IF(OR(E3071=\"\",ISBLANK(E3071)),\"\",VLOOKUP(E3071,Sheet2!A:G,4,FALSE))","v":""},"",{"$f":"IF(OR(E3071=\"\",ISBLANK(E3071)),\"\",VLOOKUP(E3071,Sheet2!A:H,3,FALSE))","v":""},null,{"$f":"IF(OR(E3071=\"\",ISBLANK(E3071)),\"\",VLOOKUP(E3071,Sheet2!A:G,6,FALSE))","v":""},""]
[{"$f":"IF(OR(E3079=\"\",ISBLANK(E3079)),\"\",VLOOKUP(E3079,Sheet2!A:F,2,FALSE))","v":""},{"$f":"IF(OR(E3079=\"\",ISBLANK(E3079)),\"\",VLOOKUP(E3079,Sheet2!A:G,4,FALSE))","v":""},"",{"$f":"IF(OR(E3079=\"\",ISBLANK(E3079)),\"\",VLOOKUP(E3079,Sheet2!A:H,3,FALSE))","v":""},null,{"$f":"IF(OR(E3079=\"\",ISBLANK(E3079)),\"\",VLOOKUP(E3079,Sheet2!A:G,6,FALSE))","v":""},""]
[{"$f":"IF(OR(E3104=\"\",ISBLANK(E3104)),\"\",VLOOKUP(E3104,Sheet2!A:F,2,FALSE))","v":""},{"$f":"IF(OR(E3104=\"\",ISBLANK(E3104)),\"\",VLOOKUP(E3104,Sheet2!A:G,4,FALSE))","v":""},"",{"$f":"IF(OR(E3104=\"\",ISBLANK(E3104)),\"\",VLOOKUP(E3104,Sheet2!A:H,3,FALSE))","v":""},null,{"$f":"IF(OR(E3104=\"\",ISBLANK(E3104)),\"\",VLOOKUP(E3104,Sheet2!A:G,6,FALSE))","v":""},""]
[{"$f":"IF(OR(E3135=\"\",ISBLANK(E3135)),\"\",VLOOKUP(E3135,Sheet2!A:F,2,FALSE))","v":""},{"$f":"IF(OR(E3135=\"\",ISBLANK(E3135)),\"\",VLOOKUP(E3135,Sheet2!A:G,4,FALSE))","v":""},"",{"$f":"IF(OR(E3135=\"\",ISBLANK(E3135)),\"\",VLOOKUP(E3135,Sheet2!A:H,3,FALSE))","v":""},null,{"$f":"IF(OR(E3135=\"\",ISBLANK(E3135)),\"\",VLOOKUP(E3135,Sheet2!A:G,6,FALSE))","v":""},""]
[{"$f":"IF(OR(E3147=\"\",ISBLANK(E3147)),\"\",VLOOKUP(E3147,Sheet2!A:F,2,FALSE))","v":""},{"$f":"IF(OR(E3147=\"\",ISBLANK(E3147)),\"\",VLOOKUP(E3147,Sheet2!A:G,4,FALSE))","v":""},"",{"$f":"IF(OR(E3147=\"\",ISBLANK(E3147)),\"\",VLOOKUP(E3147,Sheet2!A:H,3,FALSE))","v":""},null,{"$f":"IF(OR(E3147=\"\",ISBLANK(E3147)),\"\",VLOOKUP(E3147,Sheet2!A:G,6,FALSE))","v":""},""]
[{"$f":"IF(OR(E3185=\"\",ISBLANK(E3185)),\"\",VLOOKUP(E3185,Sheet2!A:F,2,FALSE))","v":""},{"$f":"IF(OR(E3185=\"\",ISBLANK(E3185)),\"\",VLOOKUP(E3185,Sheet2!A:G,4,FALSE))","v":""},"",{"$f":"IF(OR(E3185=\"\",ISBLANK(E3185)),\"\",VLOOKUP(E3185,Sheet2!A:H,3,FALSE))","v":""},null,{"$f":"IF(OR(E3185=\"\",ISBLANK(E3185)),\"\",VLOOKUP(E3185,Sheet2!A:G,6,FALSE))","v":""},""]
[{"$f":"IF(OR(E3206=\"\",ISBLANK(E3206)),\"\",VLOOKUP(E3206,Sheet2!A:F,2,FALSE))","v":""},{"$f":"IF(OR(E3206=\"\",ISBLANK(E3206)),\"\",VLOOKUP(E3206,Sheet2!A:G,4,FALSE))","v":""},"",{"$f":"IF(OR(E3206=\"\",ISBLANK(E3206)),\"\",VLOOKUP(E3206,Sheet2!A:H,3,FALSE))","v":""},null,{"$f":"IF(OR(E3206=\"\",ISBLANK(E3206)),\"\",VLOOKUP(E3206,Sheet2!A:G,6,FALSE))","v":""},""]
[{"$f":"IF(OR(E3231=\"\",ISBLANK(E3231)),\"\",VLOOKUP(E3231,Sheet2!A:F,2,FALSE))","v":""},{"$f":"IF(OR(E3231=\"\",ISBLANK(E3231)),\"\",VLOOKUP(E3231,Sheet2!A:G,4,FALSE))","v":""},"",{"$f":"IF(OR(E3231=\"\",ISBLANK(E3231)),\"\",VLOOKUP(E3231,Sheet2!A:H,3,FALSE))","v":""},null,{"$f":"IF(OR(E3231=\"\",ISBLANK(E3231)),\"\",VLOOKUP(E3231,Sheet2!A:G,6,FALSE))","v":""},""]
[{"$f":"IF(OR(E3249=\"\",ISBLANK(E3249)),\"\",VLOOKUP(E3249,Sheet2!A:F,2,FALSE))","v":""},{"$f":"IF(OR(E3249=\"\",ISBLANK(E3249)),\"\",VLOOKUP(E3249,Sheet2!A:G,4,FALSE))","v":""},"",{"$f":"IF(OR(E3249=\"\",ISBLANK(E3249)),\"\",VLOOKUP(E3249,Sheet2!A:H,3,FALSE))","v":""},null,{"$f":"IF(OR(E3249=\"\",ISBLANK(E3249)),\"\",VLOOKUP(E3249,Sheet2!A:G,6,FALSE))","v":""},""]
[{"$f":"IF(OR(E3274=\"\",ISBLANK(E3274)),\"\",VLOOKUP(E3274,Sheet2!A:F,2,FALSE))","v":""},{"$f":"IF(OR(E3274=\"\",ISBLANK(E3274)),\"\",VLOOKUP(E3274,Sheet2!A:G,4,FALSE))","v":""},"",{"$f":"IF(OR(E3274=\"\",ISBLANK(E3274)),\"\",VLOOKUP(E3274,Sheet2!A:H,3,FALSE))","v":""},null,{"$f":"IF(OR(E3274=\"\",ISBLANK(E3274)),\"\",VLOOKUP(E3274,Sheet2!A:G,6,FALSE))","v":""},""]
[{"$f":"IF(OR(E3299=\"\",ISBLANK(E3299)),\"\",VLOOKUP(E3299,Sheet2!A:F,2,FALSE))","v":""},{"$f":"IF(OR(E3299=\"\",ISBLANK(E3299)),\"\",VLOOKUP(E3299,Sheet2!A:G,4,FALSE))","v":""},"",{"$f":"IF(OR(E3299=\"\",ISBLANK(E3299)),\"\",VLOOKUP(E3299,Sheet2!A:H,3,FALSE))","v":""},null,{"$f":"IF(OR(E3299=\"\",ISBLANK(E3299)),\"\",VLOOKUP(E3299,Sheet2!A:G,6,FALSE))","v":""},""]
[{"$f":"IF(OR(E3338=\"\",ISBLANK(E3338)),\"\",VLOOKUP(E3338,Sheet2!A:F,2,FALSE))","v":""},{"$f":"IF(OR(E3338=\"\",ISBLANK(E3338)),\"\",VLOOKUP(E3338,Sheet2!A:G,4,FALSE))","v":""},"",{"$f":"IF(OR(E3338=\"\",ISBLANK(E3338)),\"\",VLOOKUP(E3338,Sheet2!A:H,3,FALSE))","v":""},null,{"$f":"IF(OR(E3338=\"\",ISBLANK(E3338)),\"\",VLOOKUP(E3338,Sheet2!A:G,6,FALSE))","v":""},""]
[{"$f":"IF(OR(E3358=\"\",ISBLANK(E3358)),\"\",VLOOKUP(E3358,Sheet2!A:F,2,FALSE))","v":""},{"$f":"IF(OR(E3358=\"\",ISBLANK(E3358)),\"\",VLOOKUP(E3358,Sheet2!A:G,4,FALSE))","v":""},"",{"$f":"IF(OR(E3358=\"\",ISBLANK(E3358)),\"\",VLOOKUP(E3358,Sheet2!A:H,3,FALSE))","v":""},null,{"$f":"IF(OR(E3358=\"\",ISBLANK(E3358)),\"\",VLOOKUP(E3358,Sheet2!A:G,6,FALSE))","v":""},""]
[{"$f":"IF(OR(E3388=\"\",ISBLANK(E3388)),\"\",VLOOKUP(E3388,Sheet2!A:F,2,FALSE))","v":""},{"$f":"IF(OR(E3388=\"\",ISBLANK(E3388)),\"\",VLOOKUP(E3388,Sheet2!A:G,4,FALSE))","v":""},"",{"$f":"IF(OR(E3388=\"\",ISBLANK(E3388)),\"\",VLOOKUP(E3388,Sheet2!A:H,3,FALSE))","v":""},null,{"$f":"IF(OR(E3388=\"\",ISBLANK(E3388)),\"\",VLOOKUP(E3388,Sheet2!A:G,6,FALSE))","v":""},""]
[{"$f":"IF(OR(E3401=\"\",ISBLANK(E3401)),\"\",VLOOKUP(E3401,Sheet2!A:F,2,FALSE))","v":""},{"$f":"IF(OR(E3401=\"\",ISBLANK(E3401)),\"\",VLOOKUP(E3401,Sheet2!A:G,4,FALSE))","v":""},"",{"$f":"IF(OR(E3401=\"\",ISBLANK(E3401)),\"\",VLOOKUP(E3401,Sheet2!A:H,3,FALSE))","v":""},null,{"$f":"IF(OR(E3401=\"\",ISBLANK(E3401)),\"\",VLOOKUP(E3401,Sheet2!A:G,6,FALSE))","v":""},""]
[{"$f":"IF(OR(E3426=\"\",ISBLANK(E3426)),\"\",VLOOKUP(E3426,Sheet2!A:F,2,FALSE))","v":""},{"$f":"IF(OR(E3426=\"\",ISBLANK(E3426)),\"\",VLOOKUP(E3426,Sheet2!A:G,4,FALSE))","v":""},"",{"$f":"IF(OR(E3426=\"\",ISBLANK(E3426)),\"\",VLOOKUP(E3426,Sheet2!A:H,3,FALSE))","v":""},null,{"$f":"IF(OR(E3426=\"\",ISBLANK(E3426)),\"\",VLOOKUP(E3426,Sheet2!A:G,6,FALSE))","v":""},""]
[{"$f":"IF(OR(E3452=\"\",ISBLANK(E3452)),\"\",VLOOKUP(E3452,Sheet2!A:F,2,FALSE))","v":""},{"$f":"IF(OR(E3452=\"\",ISBLANK(E3452)),\"\",VLOOKUP(E3452,Sheet2!A:G,4,FALSE))","v":""},"",{"$f":"IF(OR(E3452=\"\",ISBLANK(E3452)),\"\",VLOOKUP(E3452,Sheet2!A:H,3,FALSE))","v":""},null,{"$f":"IF(OR(E3452=\"\",ISBLANK(E3452)),\"\",VLOOKUP(E3452,Sheet2!A:G,6,FALSE))","v":""},""]
[{"$f":"IF(OR(E3469=\"\",ISBLANK(E3469)),\"\",VLOOKUP(E3469,Sheet2!A:F,2,FALSE))","v":""},{"$f":"IF(OR(E3469=\"\",ISBLANK(E3469)),\"\",VLOOKUP(E3469,Sheet2!A:G,4,FALSE))","v":""},"",{"$f":"IF(OR(E3469=\"\",ISBLANK(E3469)),\"\",VLOOKUP(E3469,Sheet2!A:H,3,FALSE))","v":""},null,{"$f":"IF(OR(E3469=\"\",ISBLANK(E3469)),\"\",VLOOKUP(E3469,Sheet2!A:G,6,FALSE))","v":""},""]
[{"$f":"IF(OR(E3502=\"\",ISBLANK(E3502)),\"\",VLOOKUP(E3502,Sheet2!A:F,2,FALSE))","v":""},{"$f":"IF(OR(E3502=\"\",ISBLANK(E3502)),\"\",VLOOKUP(E3502,Sheet2!A:G,4,FALSE))","v":""},"",{"$f":"IF(OR(E3502=\"\",ISBLANK(E3502)),\"\",VLOOKUP(E3502,Sheet2!A:H,3,FALSE))","v":""},null,{"$f":"IF(OR(E3502=\"\",ISBLANK(E3502)),\"\",VLOOKUP(E3502,Sheet2!A:G,6,FALSE))","v":""},""]
[{"$f":"IF(OR(E3528=\"\",ISBLANK(E3528)),\"\",VLOOKUP(E3528,Sheet2!A:F,2,FALSE))","v":""},{"$f":"IF(OR(E3528=\"\",ISBLANK(E3528)),\"\",VLOOKUP(E3528,Sheet2!A:G,4,FALSE))","v":""},"",{"$f":"IF(OR(E3528=\"\",ISBLANK(E3528)),\"\",VLOOKUP(E3528,Sheet2!A:H,3,FALSE))","v":""},null,{"$f":"IF(OR(E3528=\"\",ISBLANK(E3528)),\"\",VLOOKUP(E3528,Sheet2!A:G,6,FALSE))","v":""},""]
[{"$f":"IF(OR(E3553=\"\",ISBLANK(E3553)),\"\",VLOOKUP(E3553,Sheet2!A:F,2,FALSE))","v":""},{"$f":"IF(OR(E3553=\"\",ISBLANK(E3553)),\"\",VLOOKUP(E3553,Sheet2!A:G,4,FALSE))","v":""},"",{"$f":"IF(OR(E3553=\"\",ISBLANK(E3553)),\"\",VLOOKUP(E3553,Sheet2!A:H,3,FALSE))","v":""},null,{"$f":"IF(OR(E3553=\"\",ISBLANK(E3553)),\"\",VLOOKUP(E3553,Sheet2!A:G,6,FALSE))","v":""},""]
[{"$f":"IF(OR(E3566=\"\",ISBLANK(E3566)),\"\",VLOOKUP(E3566,Sheet2!A:F,2,FALSE))","v":""},{"$f":"IF(OR(E3566=\"\",ISBLANK(E3566)),\"\",VLOOKUP(E3566,Sheet2!A:G,4,FALSE))","v":""},"",{"$f":"IF(OR(E3566=\"\",ISBLANK(E3566)),\"\",VLOOKUP(E3566,Sheet2!A:H,3,FALSE))","v":""},null,{"$f":"IF(OR(E3566=\"\",ISBLANK(E3566)),\"\",VLOOKUP(E3566,Sheet2!A:G,6,FALSE))","v":""},""]
[{"$f":"IF(OR(E3596=\"\",ISBLANK(E3596)),\"\",VLOOKUP(E3596,Sheet2!A:F,2,FALSE))","v":""},{"$f":"IF(OR(E3596=\"\",ISBLANK(E3596)),\"\",VLOOKUP(E3596,Sheet2!A:G,4,FALSE))","v":""},"",{"$f":"IF(OR(E3596=\"\",ISBLANK(E3596)),\"\",VLOOKUP(E3596,Sheet2!A:H,3,FALSE))","v":""},null,{"$f":"IF(OR(E3596=\"\",ISBLANK(E3596)),\"\",VLOOKUP(E3596,Sheet2!A:G,6,FALSE))","v":""},""]
[{"$f":"IF(OR(E3616=\"\",ISBLANK(E3616)),\"\",VLOOKUP(E3616,Sheet2!A:F,2,FALSE))","v":""},{"$f":"IF(OR(E3616=\"\",ISBLANK(E3616)),\"\",VLOOKUP(E3616,Sheet2!A:G,4,FALSE))","v":""},"",{"$f":"IF(OR(E3616=\"\",ISBLANK(E3616)),\"\",VLOOKUP(E3616,Sheet2!A:H,3,FALSE))","v":""},null,{"$f":"IF(OR(E3616=\"\",ISBLANK(E3616)),\"\",VLOOKUP(E3616,Sheet2!A:G,6,FALSE))","v":""},""]
[{"$f":"IF(OR(E3655=\"\",ISBLANK(E3655)),\"\",VLOOKUP(E3655,Sheet2!A:F,2,FALSE))","v":""},{"$f":"IF(OR(E3655=\"\",ISBLANK(E3655)),\"\",VLOOKUP(E3655,Sheet2!A:G,4,FALSE))","v":""},"",{"$f":"IF(OR(E3655=\"\",ISBLANK(E3655)),\"\",VLOOKUP(E3655,Sheet2!A:H,3,FALSE))","v":""},null,{"$f":"IF(OR(E3655=\"\",ISBLANK(E3655)),\"\",VLOOKUP(E3655,Sheet2!A:G,6,FALSE))","v":""},""]
[{"$f":"IF(OR(E3664=\"\",ISBLANK(E3664)),\"\",VLOOKUP(E3664,Sheet2!A:F,2,FALSE))","v":""},{"$f":"IF(OR(E3664=\"\",ISBLANK(E3664)),\"\",VLOOKUP(E3664,Sheet2!A:G,4,FALSE))","v":""},"",{"$f":"IF(OR(E3664=\"\",ISBLANK(E3664)),\"\",VLOOKUP(E3664,Sheet2!A:H,3,FALSE))","v":""},null,{"$f":"IF(OR(E3664=\"\",ISBLANK(E3664)),\"\",VLOOKUP(E3664,Sheet2!A:G,6,FALSE))","v":""},""]
[{"$f":"IF(OR(E3705=\"\",ISBLANK(E3705)),\"\",VLOOKUP(E3705,Sheet2!A:F,2,FALSE))","v":""},{"$f":"IF(OR(E3705=\"\",ISBLANK(E3705)),\"\",VLOOKUP(E3705,Sheet2!A:G,4,FALSE))","v":""},"",{"$f":"IF(OR(E3705=\"\",ISBLANK(E3705)),\"\",VLOOKUP(E3705,Sheet2!A:H,3,FALSE))","v":""},null,{"$f":"IF(OR(E3705=\"\",ISBLANK(E3705)),\"\",VLOOKUP(E3705,Sheet2!A:G,6,FALSE))","v":""},""]
[{"$f":"IF(OR(E3723=\"\",ISBLANK(E3723)),\"\",VLOOKUP(E3723,Sheet2!A:F,2,FALSE))","v":""},{"$f":"IF(OR(E3723=\"\",ISBLANK(E3723)),\"\",VLOOKUP(E3723,Sheet2!A:G,4,FALSE))","v":""},"",{"$f":"IF(OR(E3723=\"\",ISBLANK(E3723)),\"\",VLOOKUP(E3723,Sheet2!A:H,3,FALSE))","v":""},null,{"$f":"IF(OR(E3723=\"\",ISBLANK(E3723)),\"\",VLOOKUP(E3723,Sheet2!A:G,6,FALSE))","v":""},""]
[{"$f":"IF(OR(E3748=\"\",ISBLANK(E3748)),\"\",VLOOKUP(E3748,Sheet2!A:F,2,FALSE))","v":""},{"$f":"IF(OR(E3748=\"\",ISBLANK(E3748)),\"\",VLOOKUP(E3748,Sheet2!A:G,4,FALSE))","v":""},"",{"$f":"IF(OR(E3748=\"\",ISBLANK(E3748)),\"\",VLOOKUP(E3748,Sheet2!A:H,3,FALSE))","v":""},null,{"$f":"IF(OR(E3748=\"\",ISBLANK(E3748)),\"\",VLOOKUP(E3748,Sheet2!A:G,6,FALSE))","v":""},""]
[{"$f":"IF(OR(E3769=\"\",ISBLANK(E3769)),\"\",VLOOKUP(E3769,Sheet2!A:F,2,FALSE))","v":""},{"$f":"IF(OR(E3769=\"\",ISBLANK(E3769)),\"\",VLOOKUP(E3769,Sheet2!A:G,4,FALSE))","v":""},"",{"$f":"IF(OR(E3769=\"\",ISBLANK(E3769)),\"\",VLOOKUP(E3769,Sheet2!A:H,3,FALSE))","v":""},null,{"$f":"IF(OR(E3769=\"\",ISBLANK(E3769)),\"\",VLOOKUP(E3769,Sheet2!A:G,6,FALSE))","v":""},""]
[{"$f":"IF(OR(E3791=\"\",ISBLANK(E3791)),\"\",VLOOKUP(E3791,Sheet2!A:F,2,FALSE))","v":""},{"$f":"IF(OR(E3791=\"\",ISBLANK(E3791)),\"\",VLOOKUP(E3791,Sheet2!A:G,4,FALSE))","v":""},"",{"$f":"IF(OR(E3791=\"\",ISBLANK(E3791)),\"\",VLOOKUP(E3791,Sheet2!A:H,3,FALSE))","v":""},null,{"$f":"IF(OR(E3791=\"\",ISBLANK(E3791)),\"\",VLOOKUP(E3791,Sheet2!A:G,6,FALSE))","v":""},""]
[{"$f":"IF(OR(E3819=\"\",ISBLANK(E3819)),\"\",VLOOKUP(E3819,Sheet2!A:F,2,FALSE))","v":""},{"$f":"IF(OR(E3819=\"\",ISBLANK(E3819)),\"\",VLOOKUP(E3819,Sheet2!A:G,4,FALSE))","v":""},"",{"$f":"IF(OR(E3819=\"\",ISBLANK(E3819)),\"\",VLOOKUP(E3819,Sheet2!A:H,3,FALSE))","v":""},null,{"$f":"IF(OR(E3819=\"\",ISBLANK(E3819)),\"\",VLOOKUP(E3819,Sheet2!A:G,6,FALSE))","v":""},""]
[{"$f":"IF(OR(E3850=\"\",ISBLANK(E3850)),\"\",VLOOKUP(E3850,Sheet2!A:F,2,FALSE))","v":""},{"$f":"IF(OR(E3850=\"\",ISBLANK(E3850)),\"\",VLOOKUP(E3850,Sheet2!A:G,4,FALSE))","v":""},"",{"$f":"IF(OR(E3850=\"\",ISBLANK(E3850)),\"\",VLOOKUP(E3850,Sheet2!A:H,3,FALSE))","v":""},null,{"$f":"IF(OR(E3850=\"\",ISBLANK(E3850)),\"\",VLOOKUP(E3850,Sheet2!A:G,6,FALSE))","v":""},""]
[{"$f":"IF(OR(E3875=\"\",ISBLANK(E3875)),\"\",VLOOKUP(E3875,Sheet2!A:F,2,FALSE))","v":""},{"$f":"IF(OR(E3875=\"\",ISBLANK(E3875)),\"\",VLOOKUP(E3875,Sheet2!A:G,4,FALSE))","v":""},"",{"$f":"IF(OR(E3875=\"\",ISBLANK(E3875)),\"\",VLOOKUP(E3875,Sheet2!A:H,3,FALSE))","v":""},null,{"$f":"IF(OR(E3875=\"\",ISBLANK(E3875)),\"\",VLOOKUP(E3875,Sheet2!A:G,6,FALSE))","v":""},""]
[{"$f":"IF(OR(E3883=\"\",ISBLANK(E3883)),\"\",VLOOKUP(E3883,Sheet2!A:F,2,FALSE))","v":""},{"$f":"IF(OR(E3883=\"\",ISBLANK(E3883)),\"\",VLOOKUP(E3883,Sheet2!A:G,4,FALSE))","v":""},"",{"$f":"IF(OR(E3883=\"\",ISBLANK(E3883)),\"\",VLOOKUP(E3883,Sheet2!A:H,3,FALSE))","v":""},null,{"$f":"IF(OR(E3883=\"\",ISBLANK(E3883)),\"\",VLOOKUP(E3883,Sheet2!A:G,6,FALSE))","v":""},""]
[{"$f":"IF(OR(E3918=\"\",ISBLANK(E3918)),\"\",VLOOKUP(E3918,Sheet2!A:F,2,FALSE))","v":""},{"$f":"IF(OR(E3918=\"\",ISBLANK(E3918)),\"\",VLOOKUP(E3918,Sheet2!A:G,4,FALSE))","v":""},"",{"$f":"IF(OR(E3918=\"\",ISBLANK(E3918)),\"\",VLOOKUP(E3918,Sheet2!A:H,3,FALSE))","v":""},null,{"$f":"IF(OR(E3918=\"\",ISBLANK(E3918)),\"\",VLOOKUP(E3918,Sheet2!A:G,6,FALSE))","v":""},""]
[{"$f":"IF(OR(E3933=\"\",ISBLANK(E3933)),\"\",VLOOKUP(E3933,Sheet2!A:F,2,FALSE))","v":""},{"$f":"IF(OR(E3933=\"\",ISBLANK(E3933)),\"\",VLOOKUP(E3933,Sheet2!A:G,4,FALSE))","v":""},"",{"$f":"IF(OR(E3933=\"\",ISBLANK(E3933)),\"\",VLOOKUP(E3933,Sheet2!A:H,3,FALSE))","v":""},null,{"$f":"IF(OR(E3933=\"\",ISBLANK(E3933)),\"\",VLOOKUP(E3933,Sheet2!A:G,6,FALSE))","v":""},""]
[{"$f":"IF(OR(E3953=\"\",ISBLANK(E3953)),\"\",VLOOKUP(E3953,Sheet2!A:F,2,FALSE))","v":""},{"$f":"IF(OR(E3953=\"\",ISBLANK(E3953)),\"\",VLOOKUP(E3953,Sheet2!A:G,4,FALSE))","v":""},"",{"$f":"IF(OR(E3953=\"\",ISBLANK(E3953)),\"\",VLOOKUP(E3953,Sheet2!A:H,3,FALSE))","v":""},null,{"$f":"IF(OR(E3953=\"\",ISBLANK(E3953)),\"\",VLOOKUP(E3953,Sheet2!A:G,6,FALSE))","v":""},""]
[{"$f":"IF(OR(E3986=\"\",ISBLANK(E3986)),\"\",VLOOKUP(E3986,Sheet2!A:F,2,FALSE))","v":""},{"$f":"IF(OR(E3986=\"\",ISBLANK(E3986)),\"\",VLOOKUP(E3986,Sheet2!A:G,4,FALSE))","v":""},"",{"$f":"IF(OR(E3986=\"\",ISBLANK(E3986)),\"\",VLOOKUP(E3986,Sheet2!A:H,3,FALSE))","v":""},null,{"$f":"IF(OR(E3986=\"\",ISBLANK(E3986)),\"\",VLOOKUP(E3986,Sheet2!A:G,6,FALSE))","v":""},""]
[{"$f":"IF(OR(E4022=\"\",ISBLANK(E4022)),\"\",VLOOKUP(E4022,Sheet2!A:F,2,FALSE))","v":""},{"$f":"IF(OR(E4022=\"\",ISBLANK(E4022)),\"\",VLOOKUP(E4022,Sheet2!A:G,4,FALSE))","v":""},"",{"$f":"IF(OR(E4022=\"\",ISBLANK(E4022)),\"\",VLOOKUP(E4022,Sheet2!A:H,3,FALSE))","v":""},null,{"$f":"IF(OR(E4022=\"\",ISBLANK(E4022)),\"\",VLOOKUP(E4022,Sheet2!A:G,6,FALSE))","v":""},""]
[{"$f":"IF(OR(E4045=\"\",ISBLANK(E4045)),\"\",VLOOKUP(E4045,Sheet2!A:F,2,FALSE))","v":""},{"$f":"IF(OR(E4045=\"\",ISBLANK(E4045)),\"\",VLOOKUP(E4045,Sheet2!A:G,4,FALSE))","v":""},"",{"$f":"IF(OR(E4045=\"\",ISBLANK(E4045)),\"\",VLOOKUP(E4045,Sheet2!A:H,3,FALSE))","v":""},null,{"$f":"IF(OR(E4045=\"\",ISBLANK(E4045)),\"\",VLOOKUP(E4045,Sheet2!A:G,6,FALSE))","v":""},""]
[{"$f":"IF(OR(E4072=\"\",ISBLANK(E4072)),\"\",VLOOKUP(E4072,Sheet2!A:F,2,FALSE))","v":""},{"$f":"IF(OR(E4072=\"\",ISBLANK(E4072)),\"\",VLOOKUP(E4072,Sheet2!A:G,4,FALSE))","v":""},"",{"$f":"IF(OR(E4072=\"\",ISBLANK(E4072)),\"\",VLOOKUP(E4072,Sheet2!A:H,3,FALSE))","v":""},null,{"$f":"IF(OR(E4072=\"\",ISBLANK(E4072)),\"\",VLOOKUP(E4072,Sheet2!A:G,6,FALSE))","v":""},""]
[{"$f":"IF(OR(E4080=\"\",ISBLANK(E4080)),\"\",VLOOKUP(E4080,Sheet2!A:F,2,FALSE))","v":""},{"$f":"IF(OR(E4080=\"\",ISBLANK(E4080)),\"\",VLOOKUP(E4080,Sheet2!A:G,4,FALSE))","v":""},"",{"$f":"IF(OR(E4080=\"\",ISBLANK(E4080)),\"\",VLOOKUP(E4080,Sheet2!A:H,3,FALSE))","v":""},null,{"$f":"IF(OR(E4080=\"\",ISBLANK(E4080)),\"\",VLOOKUP(E4080,Sheet2!A:G,6,FALSE))","v":""},""]
[{"$f":"IF(OR(E4113=\"\",ISBLANK(E4113)),\"\",VLOOKUP(E4113,Sheet2!A:F,2,FALSE))","v":""},{"$f":"IF(OR(E4113=\"\",ISBLANK(E4113)),\"\",VLOOKUP(E4113,Sheet2!A:G,4,FALSE))","v":""},"",{"$f":"IF(OR(E4113=\"\",ISBLANK(E4113)),\"\",VLOOKUP(E4113,Sheet2!A:H,3,FALSE))","v":""},null,{"$f":"IF(OR(E4113=\"\",ISBLANK(E4113)),\"\",VLOOKUP(E4113,Sheet2!A:G,6,FALSE))","v":""},""]
[{"$f":"IF(OR(E4136=\"\",ISBLANK(E4136)),\"\",VLOOKUP(E4136,Sheet2!A:F,2,FALSE))","v":""},{"$f":"IF(OR(E4136=\"\",ISBLANK(E4136)),\"\",VLOOKUP(E4136,Sheet2!A:G,4,FALSE))","v":""},"",{"$f":"IF(OR(E4136=\"\",ISBLANK(E4136)),\"\",VLOOKUP(E4136,Sheet2!A:H,3,FALSE))","v":""},null,{"$f":"IF(OR(E4136=\"\",ISBLANK(E4136)),\"\",VLOOKUP(E4136,Sheet2!A:G,6,FALSE))","v":""},""]
[{"$f":"IF(OR(E4148=\"\",ISBLANK(E4148)),\"\",VLOOKUP(E4148,Sheet2!A:F,2,FALSE))","v":""},{"$f":"IF(OR(E4148=\"\",ISBLANK(E4148)),\"\",VLOOKUP(E4148,Sheet2!A:G,4,FALSE))","v":""},"",{"$f":"IF(OR(E4148=\"\",ISBLANK(E4148)),\"\",VLOOKUP(E4148,Sheet2!A:H,3,FALSE))","v":""},null,{"$f":"IF(OR(E4148=\"\",ISBLANK(E4148)),\"\",VLOOKUP(E4148,Sheet2!A:G,6,FALSE))","v":""},""]
[{"$f":"IF(OR(E4181=\"\",ISBLANK(E4181)),\"\",VLOOKUP(E4181,Sheet2!A:F,2,FALSE))","v":""},{"$f":"IF(OR(E4181=\"\",ISBLANK(E4181)),\"\",VLOOKUP(E4181,Sheet2!A:G,4,FALSE))","v":""},"",{"$f":"IF(OR(E4181=\"\",ISBLANK(E4181)),\"\",VLOOKUP(E4181,Sheet2!A:H,3,FALSE))","v":""},null,{"$f":"IF(OR(E4181=\"\",ISBLANK(E4181)),\"\",VLOOKUP(E4181,Sheet2!A:G,6,FALSE))","v":""},""]
[{"$f":"IF(OR(E4200=\"\",ISBLANK(E4200)),\"\",VLOOKUP(E4200,Sheet2!A:F,2,FALSE))","v":""},{"$f":"IF(OR(E4200=\"\",ISBLANK(E4200)),\"\",VLOOKUP(E4200,Sheet2!A:G,4,FALSE))","v":""},"",{"$f":"IF(OR(E4200=\"\",ISBLANK(E4200)),\"\",VLOOKUP(E4200,Sheet2!A:H,3,FALSE))","v":""},null,{"$f":"IF(OR(E4200=\"\",ISBLANK(E4200)),\"\",VLOOKUP(E4200,Sheet2!A:G,6,FALSE))","v":""},""]
[{"$f":"IF(OR(E4240=\"\",ISBLANK(E4240)),\"\",VLOOKUP(E4240,Sheet2!A:F,2,FALSE))","v":""},{"$f":"IF(OR(E4240=\"\",ISBLANK(E4240)),\"\",VLOOKUP(E4240,Sheet2!A:G,4,FALSE))","v":""},"",{"$f":"IF(OR(E4240=\"\",ISBLANK(E4240)),\"\",VLOOKUP(E4240,Sheet2!A:H,3,FALSE))","v":""},null,{"$f":"IF(OR(E4240=\"\",ISBLANK(E4240)),\"\",VLOOKUP(E4240,Sheet2!A:G,6,FALSE))","v":""},""]
[{"$f":"IF(OR(E4250=\"\",ISBLANK(E4250)),\"\",VLOOKUP(E4250,Sheet2!A:F,2,FALSE))","v":""},{"$f":"IF(OR(E4250=\"\",ISBLANK(E4250)),\"\",VLOOKUP(E4250,Sheet2!A:G,4,FALSE))","v":""},"",{"$f":"IF(OR(E4250=\"\",ISBLANK(E4250)),\"\",VLOOKUP(E4250,Sheet2!A:H,3,FALSE))","v":""},null,{"$f":"IF(OR(E4250=\"\",ISBLANK(E4250)),\"\",VLOOKUP(E4250,Sheet2!A:G,6,FALSE))","v":""},""]
[{"$f":"IF(OR(E4275=\"\",ISBLANK(E4275)),\"\",VLOOKUP(E4275,Sheet2!A:F,2,FALSE))","v":""},{"$f":"IF(OR(E4275=\"\",ISBLANK(E4275)),\"\",VLOOKUP(E4275,Sheet2!A:G,4,FALSE))","v":""},"",{"$f":"IF(OR(E4275=\"\",ISBLANK(E4275)),\"\",VLOOKUP(E4275,Sheet2!A:H,3,FALSE))","v":""},null,{"$f":"IF(OR(E4275=\"\",ISBLANK(E4275)),\"\",VLOOKUP(E4275,Sheet2!A:G,6,FALSE))","v":""},""]
[{"$f":"IF(OR(E4308=\"\",ISBLANK(E4308)),\"\",VLOOKUP(E4308,Sheet2!A:F,2,FALSE))","v":""},{"$f":"IF(OR(E4308=\"\",ISBLANK(E4308)),\"\",VLOOKUP(E4308,Sheet2!A:G,4,FALSE))","v":""},"",{"$f":"IF(OR(E4308=\"\",ISBLANK(E4308)),\"\",VLOOKUP(E4308,Sheet2!A:H,3,FALSE))","v":""},null,{"$f":"IF(OR(E4308=\"\",ISBLANK(E4308)),\"\",VLOOKUP(E4308,Sheet2!A:G,6,FALSE))","v":""},""]
[{"$f":"IF(OR(E4339=\"\",ISBLANK(E4339)),\"\",VLOOKUP(E4339,Sheet2!A:F,2,FALSE))","v":""},{"$f":"IF(OR(E4339=\"\",ISBLANK(E4339)),\"\",VLOOKUP(E4339,Sheet2!A:G,4,FALSE))","v":""},"",{"$f":"IF(OR(E4339=\"\",ISBLANK(E4339)),\"\",VLOOKUP(E4339,Sheet2!A:H,3,FALSE))","v":""},null,{"$f":"IF(OR(E4339=\"\",ISBLANK(E4339)),\"\",VLOOKUP(E4339,Sheet2!A:G,6,FALSE))","v":""},""]
[{"$f":"IF(OR(E4343=\"\",ISBLANK(E4343)),\"\",VLOOKUP(E4343,Sheet2!A:F,2,FALSE))","v":""},{"$f":"IF(OR(E4343=\"\",ISBLANK(E4343)),\"\",VLOOKUP(E4343,Sheet2!A:G,4,FALSE))","v":""},"",{"$f":"IF(OR(E4343=\"\",ISBLANK(E4343)),\"\",VLOOKUP(E4343,Sheet2!A:H,3,FALSE))","v":""},null,{"$f":"IF(OR(E4343=\"\",ISBLANK(E4343)),\"\",VLOOKUP(E4343,Sheet2!A:G,6,FALSE))","v":""},""]
[{"$f":"IF(OR(E4389=\"\",ISBLANK(E4389)),\"\",VLOOKUP(E4389,Sheet2!A:F,2,FALSE))","v":""},{"$f":"IF(OR(E4389=\"\",ISBLANK(E4389)),\"\",VLOOKUP(E4389,Sheet2!A:G,4,FALSE))","v":""},"",{"$f":"IF(OR(E4389=\"\",ISBLANK(E4389)),\"\",VLOOKUP(E4389,Sheet2!A:H,3,FALSE))","v":""},null,{"$f":"IF(OR(E4389=\"\",ISBLANK(E4389)),\"\",VLOOKUP(E4389,Sheet2!A:G,6,FALSE))","v":""},""]
[{"$f":"IF(OR(E4402=\"\",ISBLANK(E4402)),\"\",VLOOKUP(E4402,Sheet2!A:F,2,FALSE))","v":""},{"$f":"IF(OR(E4402=\"\",ISBLANK(E4402)),\"\",VLOOKUP(E4402,Sheet2!A:G,4,FALSE))","v":""},"",{"$f":"IF(OR(E4402=\"\",ISBLANK(E4402)),\"\",VLOOKUP(E4402,Sheet2!A:H,3,FALSE))","v":""},null,{"$f":"IF(OR(E4402=\"\",ISBLANK(E4402)),\"\",VLOOKUP(E4402,Sheet2!A:G,6,FALSE))","v":""},""]
[{"$f":"IF(OR(E4435=\"\",ISBLANK(E4435)),\"\",VLOOKUP(E4435,Sheet2!A:F,2,FALSE))","v":""},{"$f":"IF(OR(E4435=\"\",ISBLANK(E4435)),\"\",VLOOKUP(E4435,Sheet2!A:G,4,FALSE))","v":""},"",{"$f":"IF(OR(E4435=\"\",ISBLANK(E4435)),\"\",VLOOKUP(E4435,Sheet2!A:H,3,FALSE))","v":""},null,{"$f":"IF(OR(E4435=\"\",ISBLANK(E4435)),\"\",VLOOKUP(E4435,Sheet2!A:G,6,FALSE))","v":""},""]
[{"$f":"IF(OR(E4453=\"\",ISBLANK(E4453)),\"\",VLOOKUP(E4453,Sheet2!A:F,2,FALSE))","v":""},{"$f":"IF(OR(E4453=\"\",ISBLANK(E4453)),\"\",VLOOKUP(E4453,Sheet2!A:G,4,FALSE))","v":""},"",{"$f":"IF(OR(E4453=\"\",ISBLANK(E4453)),\"\",VLOOKUP(E4453,Sheet2!A:H,3,FALSE))","v":""},null,{"$f":"IF(OR(E4453=\"\",ISBLANK(E4453)),\"\",VLOOKUP(E4453,Sheet2!A:G,6,FALSE))","v":""},""]
[{"$f":"IF(OR(E4470=\"\",ISBLANK(E4470)),\"\",VLOOKUP(E4470,Sheet2!A:F,2,FALSE))","v":""},{"$f":"IF(OR(E4470=\"\",ISBLANK(E4470)),\"\",VLOOKUP(E4470,Sheet2!A:G,4,FALSE))","v":""},"",{"$f":"IF(OR(E4470=\"\",ISBLANK(E4470)),\"\",VLOOKUP(E4470,Sheet2!A:H,3,FALSE))","v":""},null,{"$f":"IF(OR(E4470=\"\",ISBLANK(E4470)),\"\",VLOOKUP(E4470,Sheet2!A:G,6,FALSE))","v":""},""]
[{"$f":"IF(OR(E4507=\"\",ISBLANK(E4507)),\"\",VLOOKUP(E4507,Sheet2!A:F,2,FALSE))","v":""},{"$f":"IF(OR(E4507=\"\",ISBLANK(E4507)),\"\",VLOOKUP(E4507,Sheet2!A:G,4,FALSE))","v":""},"",{"$f":"IF(OR(E4507=\"\",ISBLANK(E4507)),\"\",VLOOKUP(E4507,Sheet2!A:H,3,FALSE))","v":""},null,{"$f":"IF(OR(E4507=\"\",ISBLANK(E4507)),\"\",VLOOKUP(E4507,Sheet2!A:G,6,FALSE))","v":""},""]
[{"$f":"IF(OR(E4529=\"\",ISBLANK(E4529)),\"\",VLOOKUP(E4529,Sheet2!A:F,2,FALSE))","v":""},{"$f":"IF(OR(E4529=\"\",ISBLANK(E4529)),\"\",VLOOKUP(E4529,Sheet2!A:G,4,FALSE))","v":""},"",{"$f":"IF(OR(E4529=\"\",ISBLANK(E4529)),\"\",VLOOKUP(E4529,Sheet2!A:H,3,FALSE))","v":""},null,{"$f":"IF(OR(E4529=\"\",ISBLANK(E4529)),\"\",VLOOKUP(E4529,Sheet2!A:G,6,FALSE))","v":""},""]
[{"$f":"IF(OR(E4538=\"\",ISBLANK(E4538)),\"\",VLOOKUP(E4538,Sheet2!A:F,2,FALSE))","v":""},{"$f":"IF(OR(E4538=\"\",ISBLANK(E4538)),\"\",VLOOKUP(E4538,Sheet2!A:G,4,FALSE))","v":""},"",{"$f":"IF(OR(E4538=\"\",ISBLANK(E4538)),\"\",VLOOKUP(E4538,Sheet2!A:H,3,FALSE))","v":""},null,{"$f":"IF(OR(E4538=\"\",ISBLANK(E4538)),\"\",VLOOKUP(E4538,Sheet2!A:G,6,FALSE))","v":""},""]
[{"$f":"IF(OR(E4567=\"\",ISBLANK(E4567)),\"\",VLOOKUP(E4567,Sheet2!A:F,2,FALSE))","v":""},{"$f":"IF(OR(E4567=\"\",ISBLANK(E4567)),\"\",VLOOKUP(E4567,Sheet2!A:G,4,FALSE))","v":""},"",{"$f":"IF(OR(E4567=\"\",ISBLANK(E4567)),\"\",VLOOKUP(E4567,Sheet2!A:H,3,FALSE))","v":""},null,{"$f":"IF(OR(E4567=\"\",ISBLANK(E4567)),\"\",VLOOKUP(E4567,Sheet2!A:G,6,FALSE))","v":""},""]
[{"$f":"IF(OR(E4597=\"\",ISBLANK(E4597)),\"\",VLOOKUP(E4597,Sheet2!A:F,2,FALSE))","v":""},{"$f":"IF(OR(E4597=\"\",ISBLANK(E4597)),\"\",VLOOKUP(E4597,Sheet2!A:G,4,FALSE))","v":""},"",{"$f":"IF(OR(E4597=\"\",ISBLANK(E4597)),\"\",VLOOKUP(E4597,Sheet2!A:H,3,FALSE))","v":""},null,{"$f":"IF(OR(E4597=\"\",ISBLANK(E4597)),\"\",VLOOKUP(E4597,Sheet2!A:G,6,FALSE))","v":""},""]
[{"$f":"IF(OR(E4630=\"\",ISBLANK(E4630)),\"\",VLOOKUP(E4630,Sheet2!A:F,2,FALSE))","v":""},{"$f":"IF(OR(E4630=\"\",ISBLANK(E4630)),\"\",VLOOKUP(E4630,Sheet2!A:G,4,FALSE))","v":""},"",{"$f":"IF(OR(E4630=\"\",ISBLANK(E4630)),\"\",VLOOKUP(E4630,Sheet2!A:H,3,FALSE))","v":""},null,{"$f":"IF(OR(E4630=\"\",ISBLANK(E4630)),\"\",VLOOKUP(E4630,Sheet2!A:G,6,FALSE))","v":""},""]
[{"$f":"IF(OR(E4656=\"\",ISBLANK(E4656)),\"\",VLOOKUP(E4656,Sheet2!A:F,2,FALSE))","v":""},{"$f":"IF(OR(E4656=\"\",ISBLANK(E4656)),\"\",VLOOKUP(E4656,Sheet2!A:G,4,FALSE))","v":""},"",{"$f":"IF(OR(E4656=\"\",ISBLANK(E4656)),\"\",VLOOKUP(E4656,Sheet2!A:H,3,FALSE))","v":""},null,{"$f":"IF(OR(E4656=\"\",ISBLANK(E4656)),\"\",VLOOKUP(E4656,Sheet2!A:G,6,FALSE))","v":""},""]
[{"$f":"IF(OR(E4665=\"\",ISBLANK(E4665)),\"\",VLOOKUP(E4665,Sheet2!A:F,2,FALSE))","v":""},{"$f":"IF(OR(E4665=\"\",ISBLANK(E4665)),\"\",VLOOKUP(E4665,Sheet2!A:G,4,FALSE))","v":""},"",{"$f":"IF(OR(E4665=\"\",ISBLANK(E4665)),\"\",VLOOKUP(E4665,Sheet2!A:H,3,FALSE))","v":""},null,{"$f":"IF(OR(E4665=\"\",ISBLANK(E4665)),\"\",VLOOKUP(E4665,Sheet2!A:G,6,FALSE))","v":""},""]
[{"$f":"IF(OR(E4706=\"\",ISBLANK(E4706)),\"\",VLOOKUP(E4706,Sheet2!A:F,2,FALSE))","v":""},{"$f":"IF(OR(E4706=\"\",ISBLANK(E4706)),\"\",VLOOKUP(E4706,Sheet2!A:G,4,FALSE))","v":""},"",{"$f":"IF(OR(E4706=\"\",ISBLANK(E4706)),\"\",VLOOKUP(E4706,Sheet2!A:H,3,FALSE))","v":""},null,{"$f":"IF(OR(E4706=\"\",ISBLANK(E4706)),\"\",VLOOKUP(E4706,Sheet2!A:G,6,FALSE))","v":""},""]
[{"$f":"IF(OR(E4724=\"\",ISBLANK(E4724)),\"\",VLOOKUP(E4724,Sheet2!A:F,2,FALSE))","v":""},{"$f":"IF(OR(E4724=\"\",ISBLANK(E4724)),\"\",VLOOKUP(E4724,Sheet2!A:G,4,FALSE))","v":""},"",{"$f":"IF(OR(E4724=\"\",ISBLANK(E4724)),\"\",VLOOKUP(E4724,Sheet2!A:H,3,FALSE))","v":""},null,{"$f":"IF(OR(E4724=\"\",ISBLANK(E4724)),\"\",VLOOKUP(E4724,Sheet2!A:G,6,FALSE))","v":""},""]
[{"$f":"IF(OR(E4733=\"\",ISBLANK(E4733)),\"\",VLOOKUP(E4733,Sheet2!A:F,2,FALSE))","v":""},{"$f":"IF(OR(E4733=\"\",ISBLANK(E4733)),\"\",VLOOKUP(E4733,Sheet2!A:G,4,FALSE))","v":""},"",{"$f":"IF(OR(E4733=\"\",ISBLANK(E4733)),\"\",VLOOKUP(E4733,Sheet2!A:H,3,FALSE))","v":""},null,{"$f":"IF(OR(E4733=\"\",ISBLANK(E4733)),\"\",VLOOKUP(E4733,Sheet2!A:G,6,FALSE))","v":""},""]
[{"$f":"IF(OR(E4770=\"\",ISBLANK(E4770)),\"\",VLOOKUP(E4770,Sheet2!A:F,2,FALSE))","v":""},{"$f":"IF(OR(E4770=\"\",ISBLANK(E4770)),\"\",VLOOKUP(E4770,Sheet2!A:G,4,FALSE))","v":""},"",{"$f":"IF(OR(E4770=\"\",ISBLANK(E4770)),\"\",VLOOKUP(E4770,Sheet2!A:H,3,FALSE))","v":""},null,{"$f":"IF(OR(E4770=\"\",ISBLANK(E4770)),\"\",VLOOKUP(E4770,Sheet2!A:G,6,FALSE))","v":""},""]
[{"$f":"IF(OR(E4792=\"\",ISBLANK(E4792)),\"\",VLOOKUP(E4792,Sheet2!A:F,2,FALSE))","v":""},{"$f":"IF(OR(E4792=\"\",ISBLANK(E4792)),\"\",VLOOKUP(E4792,Sheet2!A:G,4,FALSE))","v":""},"",{"$f":"IF(OR(E4792=\"\",ISBLANK(E4792)),\"\",VLOOKUP(E4792,Sheet2!A:H,3,FALSE))","v":""},null,{"$f":"IF(OR(E4792=\"\",ISBLANK(E4792)),\"\",VLOOKUP(E4792,Sheet2!A:G,6,FALSE))","v":""},""]
[{"$f":"IF(OR(E4824=\"\",ISBLANK(E4824)),\"\",VLOOKUP(E4824,Sheet2!A:F,2,FALSE))","v":""},{"$f":"IF(OR(E4824=\"\",ISBLANK(E4824)),\"\",VLOOKUP(E4824,Sheet2!A:G,4,FALSE))","v":""},"",{"$f":"IF(OR(E4824=\"\",ISBLANK(E4824)),\"\",VLOOKUP(E4824,Sheet2!A:H,3,FALSE))","v":""},null,{"$f":"IF(OR(E4824=\"\",ISBLANK(E4824)),\"\",VLOOKUP(E4824,Sheet2!A:G,6,FALSE))","v":""},""]
[{"$f":"IF(OR(E4851=\"\",ISBLANK(E4851)),\"\",VLOOKUP(E4851,Sheet2!A:F,2,FALSE))","v":""},{"$f":"IF(OR(E4851=\"\",ISBLANK(E4851)),\"\",VLOOKUP(E4851,Sheet2!A:G,4,FALSE))","v":""},"",{"$f":"IF(OR(E4851=\"\",ISBLANK(E4851)),\"\",VLOOKUP(E4851,Sheet2!A:H,3,FALSE))","v":""},null,{"$f":"IF(OR(E4851=\"\",ISBLANK(E4851)),\"\",VLOOKUP(E4851,Sheet2!A:G,6,FALSE))","v":""},""]
[{"$f":"IF(OR(E4860=\"\",ISBLANK(E4860)),\"\",VLOOKUP(E4860,Sheet2!A:F,2,FALSE))","v":""},{"$f":"IF(OR(E4860=\"\",ISBLANK(E4860)),\"\",VLOOKUP(E4860,Sheet2!A:G,4,FALSE))","v":""},"",{"$f":"IF(OR(E4860=\"\",ISBLANK(E4860)),\"\",VLOOKUP(E4860,Sheet2!A:H,3,FALSE))","v":""},null,{"$f":"IF(OR(E4860=\"\",ISBLANK(E4860)),\"\",VLOOKUP(E4860,Sheet2!A:G,6,FALSE))","v":""},""]
[{"$f":"IF(OR(E4884=\"\",ISBLANK(E4884)),\"\",VLOOKUP(E4884,Sheet2!A:F,2,FALSE))","v":""},{"$f":"IF(OR(E4884=\"\",ISBLANK(E4884)),\"\",VLOOKUP(E4884,Sheet2!A:G,4,FALSE))","v":""},"",{"$f":"IF(OR(E4884=\"\",ISBLANK(E4884)),\"\",VLOOKUP(E4884,Sheet2!A:H,3,FALSE))","v":""},null,{"$f":"IF(OR(E4884=\"\",ISBLANK(E4884)),\"\",VLOOKUP(E4884,Sheet2!A:G,6,FALSE))","v":""},""]
[{"$f":"IF(OR(E4919=\"\",ISBLANK(E4919)),\"\",VLOOKUP(E4919,Sheet2!A:F,2,FALSE))","v":""},{"$f":"IF(OR(E4919=\"\",ISBLANK(E4919)),\"\",VLOOKUP(E4919,Sheet2!A:G,4,FALSE))","v":""},"",{"$f":"IF(OR(E4919=\"\",ISBLANK(E4919)),\"\",VLOOKUP(E4919,Sheet2!A:H,3,FALSE))","v":""},null,{"$f":"IF(OR(E4919=\"\",ISBLANK(E4919)),\"\",VLOOKUP(E4919,Sheet2!A:G,6,FALSE))","v":""},""]
[{"$f":"IF(OR(E4938=\"\",ISBLANK(E4938)),\"\",VLOOKUP(E4938,Sheet2!A:F,2,FALSE))","v":""},{"$f":"IF(OR(E4938=\"\",ISBLANK(E4938)),\"\",VLOOKUP(E4938,Sheet2!A:G,4,FALSE))","v":""},"",{"$f":"IF(OR(E4938=\"\",ISBLANK(E4938)),\"\",VLOOKUP(E4938,Sheet2!A:H,3,FALSE))","v":""},null,{"$f":"IF(OR(E4938=\"\",ISBLANK(E4938)),\"\",VLOOKUP(E4938,Sheet2!A:G,6,FALSE))","v":""},""]
[{"$f":"IF(OR(E4954=\"\",ISBLANK(E4954)),\"\",VLOOKUP(E4954,Sheet2!A:F,2,FALSE))","v":""},{"$f":"IF(OR(E4954=\"\",ISBLANK(E4954)),\"\",VLOOKUP(E4954,Sheet2!A:G,4,FALSE))","v":""},"",{"$f":"IF(OR(E4954=\"\",ISBLANK(E4954)),\"\",VLOOKUP(E4954,Sheet2!A:H,3,FALSE))","v":""},null,{"$f":"IF(OR(E4954=\"\",ISBLANK(E4954)),\"\",VLOOKUP(E4954,Sheet2!A:G,6,FALSE))","v":""},""]
[{"$f":"IF(OR(E4987=\"\",ISBLANK(E4987)),\"\",VLOOKUP(E4987,Sheet2!A:F,2,FALSE))","v":""},{"$f":"IF(OR(E4987=\"\",ISBLANK(E4987)),\"\",VLOOKUP(E4987,Sheet2!A:G,4,FALSE))","v":""},"",{"$f":"IF(OR(E4987=\"\",ISBLANK(E4987)),\"\",VLOOKUP(E4987,Sheet2!A:H,3,FALSE))","v":""},null,{"$f":"IF(OR(E4987=\"\",ISBLANK(E4987)),\"\",VLOOKUP(E4987,Sheet2!A:G,6,FALSE))","v":""},""]
[{"$f":"IF(OR(E5002=\"\",ISBLANK(E5002)),\"\",VLOOKUP(E5002,Sheet2!A:F,2,FALSE))","v":""},{"$f":"IF(OR(E5002=\"\",ISBLANK(E5002)),\"\",VLOOKUP(E5002,Sheet2!A:G,4,FALSE))","v":""},"",{"$f":"IF(OR(E5002=\"\",ISBLANK(E5002)),\"\",VLOOKUP(E5002,Sheet2!A:H,3,FALSE))","v":""},null,{"$f":"IF(OR(E5002=\"\",ISBLANK(E5002)),\"\",VLOOKUP(E5002,Sheet2!A:G,6,FALSE))","v":""},""]
[{"$f":"IF(OR(E5046=\"\",ISBLANK(E5046)),\"\",VLOOKUP(E5046,Sheet2!A:F,2,FALSE))","v":""},{"$f":"IF(OR(E5046=\"\",ISBLANK(E5046)),\"\",VLOOKUP(E5046,Sheet2!A:G,4,FALSE))","v":""},"",{"$f":"IF(OR(E5046=\"\",ISBLANK(E5046)),\"\",VLOOKUP(E5046,Sheet2!A:H,3,FALSE))","v":""},null,{"$f":"IF(OR(E5046=\"\",ISBLANK(E5046)),\"\",VLOOKUP(E5046,Sheet2!A:G,6,FALSE))","v":""},""]
[{"$f":"IF(OR(E5055=\"\",ISBLANK(E5055)),\"\",VLOOKUP(E5055,Sheet2!A:F,2,FALSE))","v":""},{"$f":"IF(OR(E5055=\"\",ISBLANK(E5055)),\"\",VLOOKUP(E5055,Sheet2!A:G,4,FALSE))","v":""},"",{"$f":"IF(OR(E5055=\"\",ISBLANK(E5055)),\"\",VLOOKUP(E5055,Sheet2!A:H,3,FALSE))","v":""},null,{"$f":"IF(OR(E5055=\"\",ISBLANK(E5055)),\"\",VLOOKUP(E5055,Sheet2!A:G,6,FALSE))","v":""},""]
[{"$f":"IF(OR(E5087=\"\",ISBLANK(E5087)),\"\",VLOOKUP(E5087,Sheet2!A:F,2,FALSE))","v":""},{"$f":"IF(OR(E5087=\"\",ISBLANK(E5087)),\"\",VLOOKUP(E5087,Sheet2!A:G,4,FALSE))","v":""},"",{"$f":"IF(OR(E5087=\"\",ISBLANK(E5087)),\"\",VLOOKUP(E5087,Sheet2!A:H,3,FALSE))","v":""},null,{"$f":"IF(OR(E5087=\"\",ISBLANK(E5087)),\"\",VLOOKUP(E5087,Sheet2!A:G,6,FALSE))","v":""},""]
[{"$f":"IF(OR(E5114=\"\",ISBLANK(E5114)),\"\",VLOOKUP(E5114,Sheet2!A:F,2,FALSE))","v":""},{"$f":"IF(OR(E5114=\"\",ISBLANK(E5114)),\"\",VLOOKUP(E5114,Sheet2!A:G,4,FALSE))","v":""},"",{"$f":"IF(OR(E5114=\"\",ISBLANK(E5114)),\"\",VLOOKUP(E5114,Sheet2!A:H,3,FALSE))","v":""},null,{"$f":"IF(OR(E5114=\"\",ISBLANK(E5114)),\"\",VLOOKUP(E5114,Sheet2!A:G,6,FALSE))","v":""},""]
[{"$f":"IF(OR(E5141=\"\",ISBLANK(E5141)),\"\",VLOOKUP(E5141,Sheet2!A:F,2,FALSE))","v":""},{"$f":"IF(OR(E5141=\"\",ISBLANK(E5141)),\"\",VLOOKUP(E5141,Sheet2!A:G,4,FALSE))","v":""},"",{"$f":"IF(OR(E5141=\"\",ISBLANK(E5141)),\"\",VLOOKUP(E5141,Sheet2!A:H,3,FALSE))","v":""},null,{"$f":"IF(OR(E5141=\"\",ISBLANK(E5141)),\"\",VLOOKUP(E5141,Sheet2!A:G,6,FALSE))","v":""},""]
[{"$f":"IF(OR(E5149=\"\",ISBLANK(E5149)),\"\",VLOOKUP(E5149,Sheet2!A:F,2,FALSE))","v":""},{"$f":"IF(OR(E5149=\"\",ISBLANK(E5149)),\"\",VLOOKUP(E5149,Sheet2!A:G,4,FALSE))","v":""},"",{"$f":"IF(OR(E5149=\"\",ISBLANK(E5149)),\"\",VLOOKUP(E5149,Sheet2!A:H,3,FALSE))","v":""},null,{"$f":"IF(OR(E5149=\"\",ISBLANK(E5149)),\"\",VLOOKUP(E5149,Sheet2!A:G,6,FALSE))","v":""},""]
[{"$f":"IF(OR(E5182=\"\",ISBLANK(E5182)),\"\",VLOOKUP(E5182,Sheet2!A:F,2,FALSE))","v":""},{"$f":"IF(OR(E5182=\"\",ISBLANK(E5182)),\"\",VLOOKUP(E5182,Sheet2!A:G,4,FALSE))","v":""},"",{"$f":"IF(OR(E5182=\"\",ISBLANK(E5182)),\"\",VLOOKUP(E5182,Sheet2!A:H,3,FALSE))","v":""},null,{"$f":"IF(OR(E5182=\"\",ISBLANK(E5182)),\"\",VLOOKUP(E5182,Sheet2!A:G,6,FALSE))","v":""},""]
[{"$f":"IF(OR(E5201=\"\",ISBLANK(E5201)),\"\",VLOOKUP(E5201,Sheet2!A:F,2,FALSE))","v":""},{"$f":"IF(OR(E5201=\"\",ISBLANK(E5201)),\"\",VLOOKUP(E5201,Sheet2!A:G,4,FALSE))","v":""},"",{"$f":"IF(OR(E5201=\"\",ISBLANK(E5201)),\"\",VLOOKUP(E5201,Sheet2!A:H,3,FALSE))","v":""},null,{"$f":"IF(OR(E5201=\"\",ISBLANK(E5201)),\"\",VLOOKUP(E5201,Sheet2!A:G,6,FALSE))","v":""},""]
[{"$f":"IF(OR(E5241=\"\",ISBLANK(E5241)),\"\",VLOOKUP(E5241,Sheet2!A:F,2,FALSE))","v":""},{"$f":"IF(OR(E5241=\"\",ISBLANK(E5241)),\"\",VLOOKUP(E5241,Sheet2!A:G,4,FALSE))","v":""},"",{"$f":"IF(OR(E5241=\"\",ISBLANK(E5241)),\"\",VLOOKUP(E5241,Sheet2!A:H,3,FALSE))","v":""},null,{"$f":"IF(OR(E5241=\"\",ISBLANK(E5241)),\"\",VLOOKUP(E5241,Sheet2!A:G,6,FALSE))","v":""},""]
[{"$f":"IF(OR(E5255=\"\",ISBLANK(E5255)),\"\",VLOOKUP(E5255,Sheet2!A:F,2,FALSE))","v":""},{"$f":"IF(OR(E5255=\"\",ISBLANK(E5255)),\"\",VLOOKUP(E5255,Sheet2!A:G,4,FALSE))","v":""},"",{"$f":"IF(OR(E5255=\"\",ISBLANK(E5255)),\"\",VLOOKUP(E5255,Sheet2!A:H,3,FALSE))","v":""},null,{"$f":"IF(OR(E5255=\"\",ISBLANK(E5255)),\"\",VLOOKUP(E5255,Sheet2!A:G,6,FALSE))","v":""},""]
[{"$f":"IF(OR(E5276=\"\",ISBLANK(E5276)),\"\",VLOOKUP(E5276,Sheet2!A:F,2,FALSE))","v":""},{"$f":"IF(OR(E5276=\"\",ISBLANK(E5276)),\"\",VLOOKUP(E5276,Sheet2!A:G,4,FALSE))","v":""},"",{"$f":"IF(OR(E5276=\"\",ISBLANK(E5276)),\"\",VLOOKUP(E5276,Sheet2!A:H,3,FALSE))","v":""},null,{"$f":"IF(OR(E5276=\"\",ISBLANK(E5276)),\"\",VLOOKUP(E5276,Sheet2!A:G,6,FALSE))","v":""},""]
[{"$f":"IF(OR(E5309=\"\",ISBLANK(E5309)),\"\",VLOOKUP(E5309,Sheet2!A:F,2,FALSE))","v":""},{"$f":"IF(OR(E5309=\"\",ISBLANK(E5309)),\"\",VLOOKUP(E5309,Sheet2!A:G,4,FALSE))","v":""},"",{"$f":"IF(OR(E5309=\"\",ISBLANK(E5309)),\"\",VLOOKUP(E5309,Sheet2!A:H,3,FALSE))","v":""},null,{"$f":"IF(OR(E5309=\"\",ISBLANK(E5309)),\"\",VLOOKUP(E5309,Sheet2!A:G,6,FALSE))","v":""},""]
[{"$f":"IF(OR(E5319=\"\",ISBLANK(E5319)),\"\",VLOOKUP(E5319,Sheet2!A:F,2,FALSE))","v":""},{"$f":"IF(OR(E5319=\"\",ISBLANK(E5319)),\"\",VLOOKUP(E5319,Sheet2!A:G,4,FALSE))","v":""},"",{"$f":"IF(OR(E5319=\"\",ISBLANK(E5319)),\"\",VLOOKUP(E5319,Sheet2!A:H,3,FALSE))","v":""},null,{"$f":"IF(OR(E5319=\"\",ISBLANK(E5319)),\"\",VLOOKUP(E5319,Sheet2!A:G,6,FALSE))","v":""},""]
[{"$f":"IF(OR(E5344=\"\",ISBLANK(E5344)),\"\",VLOOKUP(E5344,Sheet2!A:F,2,FALSE))","v":""},{"$f":"IF(OR(E5344=\"\",ISBLANK(E5344)),\"\",VLOOKUP(E5344,Sheet2!A:G,4,FALSE))","v":""},"",{"$f":"IF(OR(E5344=\"\",ISBLANK(E5344)),\"\",VLOOKUP(E5344,Sheet2!A:H,3,FALSE))","v":""},null,{"$f":"IF(OR(E5344=\"\",ISBLANK(E5344)),\"\",VLOOKUP(E5344,Sheet2!A:G,6,FALSE))","v":""},""]
[{"$f":"IF(OR(E5369=\"\",ISBLANK(E5369)),\"\",VLOOKUP(E5369,Sheet2!A:F,2,FALSE))","v":""},{"$f":"IF(OR(E5369=\"\",ISBLANK(E5369)),\"\",VLOOKUP(E5369,Sheet2!A:G,4,FALSE))","v":""},"",{"$f":"IF(OR(E5369=\"\",ISBLANK(E5369)),\"\",VLOOKUP(E5369,Sheet2!A:H,3,FALSE))","v":""},null,{"$f":"IF(OR(E5369=\"\",ISBLANK(E5369)),\"\",VLOOKUP(E5369,Sheet2!A:G,6,FALSE))","v":""},""]
[{"$f":"IF(OR(E5403=\"\",ISBLANK(E5403)),\"\",VLOOKUP(E5403,Sheet2!A:F,2,FALSE))","v":""},{"$f":"IF(OR(E5403=\"\",ISBLANK(E5403)),\"\",VLOOKUP(E5403,Sheet2!A:G,4,FALSE))","v":""},"",{"$f":"IF(OR(E5403=\"\",ISBLANK(E5403)),\"\",VLOOKUP(E5403,Sheet2!A:H,3,FALSE))","v":""},null,{"$f":"IF(OR(E5403=\"\",ISBLANK(E5403)),\"\",VLOOKUP(E5403,Sheet2!A:G,6,FALSE))","v":""},""]
[{"$f":"IF(OR(E5436=\"\",ISBLANK(E5436)),\"\",VLOOKUP(E5436,Sheet2!A:F,2,FALSE))","v":""},{"$f":"IF(OR(E5436=\"\",ISBLANK(E5436)),\"\",VLOOKUP(E5436,Sheet2!A:G,4,FALSE))","v":""},"",{"$f":"IF(OR(E5436=\"\",ISBLANK(E5436)),\"\",VLOOKUP(E5436,Sheet2!A:H,3,FALSE))","v":""},null,{"$f":"IF(OR(E5436=\"\",ISBLANK(E5436)),\"\",VLOOKUP(E5436,Sheet2!A:G,6,FALSE))","v":""},""]
[{"$f":"IF(OR(E5458=\"\",ISBLANK(E5458)),\"\",VLOOKUP(E5458,Sheet2!A:F,2,FALSE))","v":""},{"$f":"IF(OR(E5458=\"\",ISBLANK(E5458)),\"\",VLOOKUP(E5458,Sheet2!A:G,4,FALSE))","v":""},"",{"$f":"IF(OR(E5458=\"\",ISBLANK(E5458)),\"\",VLOOKUP(E5458,Sheet2!A:H,3,FALSE))","v":""},null,{"$f":"IF(OR(E5458=\"\",ISBLANK(E5458)),\"\",VLOOKUP(E5458,Sheet2!A:G,6,FALSE))","v":""},""]
[{"$f":"IF(OR(E5471=\"\",ISBLANK(E5471)),\"\",VLOOKUP(E5471,Sheet2!A:F,2,FALSE))","v":""},{"$f":"IF(OR(E5471=\"\",ISBLANK(E5471)),\"\",VLOOKUP(E5471,Sheet2!A:G,4,FALSE))","v":""},"",{"$f":"IF(OR(E5471=\"\",ISBLANK(E5471)),\"\",VLOOKUP(E5471,Sheet2!A:H,3,FALSE))","v":""},null,{"$f":"IF(OR(E5471=\"\",ISBLANK(E5471)),\"\",VLOOKUP(E5471,Sheet2!A:G,6,FALSE))","v":""},""]
[{"$f":"IF(OR(E5504=\"\",ISBLANK(E5504)),\"\",VLOOKUP(E5504,Sheet2!A:F,2,FALSE))","v":""},{"$f":"IF(OR(E5504=\"\",ISBLANK(E5504)),\"\",VLOOKUP(E5504,Sheet2!A:G,4,FALSE))","v":""},"",{"$f":"IF(OR(E5504=\"\",ISBLANK(E5504)),\"\",VLOOKUP(E5504,Sheet2!A:H,3,FALSE))","v":""},null,{"$f":"IF(OR(E5504=\"\",ISBLANK(E5504)),\"\",VLOOKUP(E5504,Sheet2!A:G,6,FALSE))","v":""},""]
[{"$f":"IF(OR(E5518=\"\",ISBLANK(E5518)),\"\",VLOOKUP(E5518,Sheet2!A:F,2,FALSE))","v":""},{"$f":"IF(OR(E5518=\"\",ISBLANK(E5518)),\"\",VLOOKUP(E5518,Sheet2!A:G,4,FALSE))","v":""},"",{"$f":"IF(OR(E5518=\"\",ISBLANK(E5518)),\"\",VLOOKUP(E5518,Sheet2!A:H,3,FALSE))","v":""},null,{"$f":"IF(OR(E5518=\"\",ISBLANK(E5518)),\"\",VLOOKUP(E5518,Sheet2!A:G,6,FALSE))","v":""},""]
[{"$f":"IF(OR(E5539=\"\",ISBLANK(E5539)),\"\",VLOOKUP(E5539,Sheet2!A:F,2,FALSE))","v":""},{"$f":"IF(OR(E5539=\"\",ISBLANK(E5539)),\"\",VLOOKUP(E5539,Sheet2!A:G,4,FALSE))","v":""},"",{"$f":"IF(OR(E5539=\"\",ISBLANK(E5539)),\"\",VLOOKUP(E5539,Sheet2!A:H,3,FALSE))","v":""},null,{"$f":"IF(OR(E5539=\"\",ISBLANK(E5539)),\"\",VLOOKUP(E5539,Sheet2!A:G,6,FALSE))","v":""},""]
[{"$f":"IF(OR(E5572=\"\",ISBLANK(E5572)),\"\",VLOOKUP(E5572,Sheet2!A:F,2,FALSE))","v":""},{"$f":"IF(OR(E5572=\"\",ISBLANK(E5572)),\"\",VLOOKUP(E5572,Sheet2!A:G,4,FALSE))","v":""},"",{"$f":"IF(OR(E5572=\"\",ISBLANK(E5572)),\"\",VLOOKUP(E5572,Sheet2!A:H,3,FALSE))","v":""},null,{"$f":"IF(OR(E5572=\"\",ISBLANK(E5572)),\"\",VLOOKUP(E5572,Sheet2!A:G,6,FALSE))","v":""},""]
[{"$f":"IF(OR(E5598=\"\",ISBLANK(E5598)),\"\",VLOOKUP(E5598,Sheet2!A:F,2,FALSE))","v":""},{"$f":"IF(OR(E5598=\"\",ISBLANK(E5598)),\"\",VLOOKUP(E5598,Sheet2!A:G,4,FALSE))","v":""},"",{"$f":"IF(OR(E5598=\"\",ISBLANK(E5598)),\"\",VLOOKUP(E5598,Sheet2!A:H,3,FALSE))","v":""},null,{"$f":"IF(OR(E5598=\"\",ISBLANK(E5598)),\"\",VLOOKUP(E5598,Sheet2!A:G,6,FALSE))","v":""},""]
[{"$f":"IF(OR(E5631=\"\",ISBLANK(E5631)),\"\",VLOOKUP(E5631,Sheet2!A:F,2,FALSE))","v":""},{"$f":"IF(OR(E5631=\"\",ISBLANK(E5631)),\"\",VLOOKUP(E5631,Sheet2!A:G,4,FALSE))","v":""},"",{"$f":"IF(OR(E5631=\"\",ISBLANK(E5631)),\"\",VLOOKUP(E5631,Sheet2!A:H,3,FALSE))","v":""},null,{"$f":"IF(OR(E5631=\"\",ISBLANK(E5631)),\"\",VLOOKUP(E5631,Sheet2!A:G,6,FALSE))","v":""},""]
[{"$f":"IF(OR(E5636=\"\",ISBLANK(E5636)),\"\",VLOOKUP(E5636,Sheet2!A:F,2,FALSE))","v":""},{"$f":"IF(OR(E5636=\"\",ISBLANK(E5636)),\"\",VLOOKUP(E5636,Sheet2!A:G,4,FALSE))","v":""},"",{"$f":"IF(OR(E5636=\"\",ISBLANK(E5636)),\"\",VLOOKUP(E5636,Sheet2!A:H,3,FALSE))","v":""},null,{"$f":"IF(OR(E5636=\"\",ISBLANK(E5636)),\"\",VLOOKUP(E5636,Sheet2!A:G,6,FALSE))","v":""},""]
[{"$f":"IF(OR(E5666=\"\",ISBLANK(E5666)),\"\",VLOOKUP(E5666,Sheet2!A:F,2,FALSE))","v":""},{"$f":"IF(OR(E5666=\"\",ISBLANK(E5666)),\"\",VLOOKUP(E5666,Sheet2!A:G,4,FALSE))","v":""},"",{"$f":"IF(OR(E5666=\"\",ISBLANK(E5666)),\"\",VLOOKUP(E5666,Sheet2!A:H,3,FALSE))","v":""},null,{"$f":"IF(OR(E5666=\"\",ISBLANK(E5666)),\"\",VLOOKUP(E5666,Sheet2!A:G,6,FALSE))","v":""},""]
[{"$f":"IF(OR(E5686=\"\",ISBLANK(E5686)),\"\",VLOOKUP(E5686,Sheet2!A:F,2,FALSE))","v":""},{"$f":"IF(OR(E5686=\"\",ISBLANK(E5686)),\"\",VLOOKUP(E5686,Sheet2!A:G,4,FALSE))","v":""},"",{"$f":"IF(OR(E5686=\"\",ISBLANK(E5686)),\"\",VLOOKUP(E5686,Sheet2!A:H,3,FALSE))","v":""},null,{"$f":"IF(OR(E5686=\"\",ISBLANK(E5686)),\"\",VLOOKUP(E5686,Sheet2!A:G,6,FALSE))","v":""},""]
[{"$f":"IF(OR(E5725=\"\",ISBLANK(E5725)),\"\",VLOOKUP(E5725,Sheet2!A:F,2,FALSE))","v":""},{"$f":"IF(OR(E5725=\"\",ISBLANK(E5725)),\"\",VLOOKUP(E5725,Sheet2!A:G,4,FALSE))","v":""},"",{"$f":"IF(OR(E5725=\"\",ISBLANK(E5725)),\"\",VLOOKUP(E5725,Sheet2!A:H,3,FALSE))","v":""},null,{"$f":"IF(OR(E5725=\"\",ISBLANK(E5725)),\"\",VLOOKUP(E5725,Sheet2!A:G,6,FALSE))","v":""},""]
[{"$f":"IF(OR(E5734=\"\",ISBLANK(E5734)),\"\",VLOOKUP(E5734,Sheet2!A:F,2,FALSE))","v":""},{"$f":"IF(OR(E5734=\"\",ISBLANK(E5734)),\"\",VLOOKUP(E5734,Sheet2!A:G,4,FALSE))","v":""},"",{"$f":"IF(OR(E5734=\"\",ISBLANK(E5734)),\"\",VLOOKUP(E5734,Sheet2!A:H,3,FALSE))","v":""},null,{"$f":"IF(OR(E5734=\"\",ISBLANK(E5734)),\"\",VLOOKUP(E5734,Sheet2!A:G,6,FALSE))","v":""},""]
[{"$f":"IF(OR(E5775=\"\",ISBLANK(E5775)),\"\",VLOOKUP(E5775,Sheet2!A:F,2,FALSE))","v":""},{"$f":"IF(OR(E5775=\"\",ISBLANK(E5775)),\"\",VLOOKUP(E5775,Sheet2!A:G,4,FALSE))","v":""},"",{"$f":"IF(OR(E5775=\"\",ISBLANK(E5775)),\"\",VLOOKUP(E5775,Sheet2!A:H,3,FALSE))","v":""},null,{"$f":"IF(OR(E5775=\"\",ISBLANK(E5775)),\"\",VLOOKUP(E5775,Sheet2!A:G,6,FALSE))","v":""},""]
[{"$f":"IF(OR(E5793=\"\",ISBLANK(E5793)),\"\",VLOOKUP(E5793,Sheet2!A:F,2,FALSE))","v":""},{"$f":"IF(OR(E5793=\"\",ISBLANK(E5793)),\"\",VLOOKUP(E5793,Sheet2!A:G,4,FALSE))","v":""},"",{"$f":"IF(OR(E5793=\"\",ISBLANK(E5793)),\"\",VLOOKUP(E5793,Sheet2!A:H,3,FALSE))","v":""},null,{"$f":"IF(OR(E5793=\"\",ISBLANK(E5793)),\"\",VLOOKUP(E5793,Sheet2!A:G,6,FALSE))","v":""},""]
[{"$f":"IF(OR(E5826=\"\",ISBLANK(E5826)),\"\",VLOOKUP(E5826,Sheet2!A:F,2,FALSE))","v":""},{"$f":"IF(OR(E5826=\"\",ISBLANK(E5826)),\"\",VLOOKUP(E5826,Sheet2!A:G,4,FALSE))","v":""},"",{"$f":"IF(OR(E5826=\"\",ISBLANK(E5826)),\"\",VLOOKUP(E5826,Sheet2!A:H,3,FALSE))","v":""},null,{"$f":"IF(OR(E5826=\"\",ISBLANK(E5826)),\"\",VLOOKUP(E5826,Sheet2!A:G,6,FALSE))","v":""},""]
[{"$f":"IF(OR(E5839=\"\",ISBLANK(E5839)),\"\",VLOOKUP(E5839,Sheet2!A:F,2,FALSE))","v":""},{"$f":"IF(OR(E5839=\"\",ISBLANK(E5839)),\"\",VLOOKUP(E5839,Sheet2!A:G,4,FALSE))","v":""},"",{"$f":"IF(OR(E5839=\"\",ISBLANK(E5839)),\"\",VLOOKUP(E5839,Sheet2!A:H,3,FALSE))","v":""},null,{"$f":"IF(OR(E5839=\"\",ISBLANK(E5839)),\"\",VLOOKUP(E5839,Sheet2!A:G,6,FALSE))","v":""},""]
[{"$f":"IF(OR(E5861=\"\",ISBLANK(E5861)),\"\",VLOOKUP(E5861,Sheet2!A:F,2,FALSE))","v":""},{"$f":"IF(OR(E5861=\"\",ISBLANK(E5861)),\"\",VLOOKUP(E5861,Sheet2!A:G,4,FALSE))","v":""},"",{"$f":"IF(OR(E5861=\"\",ISBLANK(E5861)),\"\",VLOOKUP(E5861,Sheet2!A:H,3,FALSE))","v":""},null,{"$f":"IF(OR(E5861=\"\",ISBLANK(E5861)),\"\",VLOOKUP(E5861,Sheet2!A:G,6,FALSE))","v":""},""]
[{"$f":"IF(OR(E5889=\"\",ISBLANK(E5889)),\"\",VLOOKUP(E5889,Sheet2!A:F,2,FALSE))","v":""},{"$f":"IF(OR(E5889=\"\",ISBLANK(E5889)),\"\",VLOOKUP(E5889,Sheet2!A:G,4,FALSE))","v":""},"",{"$f":"IF(OR(E5889=\"\",ISBLANK(E5889)),\"\",VLOOKUP(E5889,Sheet2!A:H,3,FALSE))","v":""},null,{"$f":"IF(OR(E5889=\"\",ISBLANK(E5889)),\"\",VLOOKUP(E5889,Sheet2!A:G,6,FALSE))","v":""},""]
[{"$f":"IF(OR(E5920=\"\",ISBLANK(E5920)),\"\",VLOOKUP(E5920,Sheet2!A:F,2,FALSE))","v":""},{"$f":"IF(OR(E5920=\"\",ISBLANK(E5920)),\"\",VLOOKUP(E5920,Sheet2!A:G,4,FALSE))","v":""},"",{"$f":"IF(OR(E5920=\"\",ISBLANK(E5920)),\"\",VLOOKUP(E5920,Sheet2!A:H,3,FALSE))","v":""},null,{"$f":"IF(OR(E5920=\"\",ISBLANK(E5920)),\"\",VLOOKUP(E5920,Sheet2!A:G,6,FALSE))","v":""},""]
[{"$f":"IF(OR(E5929=\"\",ISBLANK(E5929)),\"\",VLOOKUP(E5929,Sheet2!A:F,2,FALSE))","v":""},{"$f":"IF(OR(E5929=\"\",ISBLANK(E5929)),\"\",VLOOKUP(E5929,Sheet2!A:G,4,FALSE))","v":""},"",{"$f":"IF(OR(E5929=\"\",ISBLANK(E5929)),\"\",VLOOKUP(E5929,Sheet2!A:H,3,FALSE))","v":""},null,{"$f":"IF(OR(E5929=\"\",ISBLANK(E5929)),\"\",VLOOKUP(E5929,Sheet2!A:G,6,FALSE))","v":""},""]
[{"$f":"IF(OR(E5953=\"\",ISBLANK(E5953)),\"\",VLOOKUP(E5953,Sheet2!A:F,2,FALSE))","v":""},{"$f":"IF(OR(E5953=\"\",ISBLANK(E5953)),\"\",VLOOKUP(E5953,Sheet2!A:G,4,FALSE))","v":""},"",{"$f":"IF(OR(E5953=\"\",ISBLANK(E5953)),\"\",VLOOKUP(E5953,Sheet2!A:H,3,FALSE))","v":""},null,{"$f":"IF(OR(E5953=\"\",ISBLANK(E5953)),\"\",VLOOKUP(E5953,Sheet2!A:G,6,FALSE))","v":""},""]
[{"$f":"IF(OR(E5988=\"\",ISBLANK(E5988)),\"\",VLOOKUP(E5988,Sheet2!A:F,2,FALSE))","v":""},{"$f":"IF(OR(E5988=\"\",ISBLANK(E5988)),\"\",VLOOKUP(E5988,Sheet2!A:G,4,FALSE))","v":""},"",{"$f":"IF(OR(E5988=\"\",ISBLANK(E5988)),\"\",VLOOKUP(E5988,Sheet2!A:H,3,FALSE))","v":""},null,{"$f":"IF(OR(E5988=\"\",ISBLANK(E5988)),\"\",VLOOKUP(E5988,Sheet2!A:G,6,FALSE))","v":""},""]
[{"$f":"IF(OR(E6003=\"\",ISBLANK(E6003)),\"\",VLOOKUP(E6003,Sheet2!A:F,2,FALSE))","v":""},{"$f":"IF(OR(E6003=\"\",ISBLANK(E6003)),\"\",VLOOKUP(E6003,Sheet2!A:G,4,FALSE))","v":""},"",{"$f":"IF(OR(E6003=\"\",ISBLANK(E6003)),\"\",VLOOKUP(E6003,Sheet2!A:H,3,FALSE))","v":""},null,{"$f":"IF(OR(E6003=\"\",ISBLANK(E6003)),\"\",VLOOKUP(E6003,Sheet2!A:G,6,FALSE))","v":""},""]
[{"$f":"IF(OR(E6047=\"\",ISBLANK(E6047)),\"\",VLOOKUP(E6047,Sheet2!A:F,2,FALSE))","v":""},{"$f":"IF(OR(E6047=\"\",ISBLANK(E6047)),\"\",VLOOKUP(E6047,Sheet2!A:G,4,FALSE))","v":""},"",{"$f":"IF(OR(E6047=\"\",ISBLANK(E6047)),\"\",VLOOKUP(E6047,Sheet2!A:H,3,FALSE))","v":""},null,{"$f":"IF(OR(E6047=\"\",ISBLANK(E6047)),\"\",VLOOKUP(E6047,Sheet2!A:G,6,FALSE))","v":""},""]
[{"$f":"IF(OR(E6056=\"\",ISBLANK(E6056)),\"\",VLOOKUP(E6056,Sheet2!A:F,2,FALSE))","v":""},{"$f":"IF(OR(E6056=\"\",ISBLANK(E6056)),\"\",VLOOKUP(E6056,Sheet2!A:G,4,FALSE))","v":""},"",{"$f":"IF(OR(E6056=\"\",ISBLANK(E6056)),\"\",VLOOKUP(E6056,Sheet2!A:H,3,FALSE))","v":""},null,{"$f":"IF(OR(E6056=\"\",ISBLANK(E6056)),\"\",VLOOKUP(E6056,Sheet2!A:G,6,FALSE))","v":""},""]
[{"$f":"IF(OR(E6092=\"\",ISBLANK(E6092)),\"\",VLOOKUP(E6092,Sheet2!A:F,2,FALSE))","v":""},{"$f":"IF(OR(E6092=\"\",ISBLANK(E6092)),\"\",VLOOKUP(E6092,Sheet2!A:G,4,FALSE))","v":""},"",{"$f":"IF(OR(E6092=\"\",ISBLANK(E6092)),\"\",VLOOKUP(E6092,Sheet2!A:H,3,FALSE))","v":""},null,{"$f":"IF(OR(E6092=\"\",ISBLANK(E6092)),\"\",VLOOKUP(E6092,Sheet2!A:G,6,FALSE))","v":""},""]
[{"$f":"IF(OR(E6115=\"\",ISBLANK(E6115)),\"\",VLOOKUP(E6115,Sheet2!A:F,2,FALSE))","v":""},{"$f":"IF(OR(E6115=\"\",ISBLANK(E6115)),\"\",VLOOKUP(E6115,Sheet2!A:G,4,FALSE))","v":""},"",{"$f":"IF(OR(E6115=\"\",ISBLANK(E6115)),\"\",VLOOKUP(E6115,Sheet2!A:H,3,FALSE))","v":""},null,{"$f":"IF(OR(E6115=\"\",ISBLANK(E6115)),\"\",VLOOKUP(E6115,Sheet2!A:G,6,FALSE))","v":""},""]
[{"$f":"IF(OR(E6142=\"\",ISBLANK(E6142)),\"\",VLOOKUP(E6142,Sheet2!A:F,2,FALSE))","v":""},{"$f":"IF(OR(E6142=\"\",ISBLANK(E6142)),\"\",VLOOKUP(E6142,Sheet2!A:G,4,FALSE))","v":""},"",{"$f":"IF(OR(E6142=\"\",ISBLANK(E6142)),\"\",VLOOKUP(E6142,Sheet2!A:H,3,FALSE))","v":""},null,{"$f":"IF(OR(E6142=\"\",ISBLANK(E6142)),\"\",VLOOKUP(E6142,Sheet2!A:G,6,FALSE))","v":""},""]
[{"$f":"IF(OR(E6158=\"\",ISBLANK(E6158)),\"\",VLOOKUP(E6158,Sheet2!A:F,2,FALSE))","v":""},{"$f":"IF(OR(E6158=\"\",ISBLANK(E6158)),\"\",VLOOKUP(E6158,Sheet2!A:G,4,FALSE))","v":""},"",{"$f":"IF(OR(E6158=\"\",ISBLANK(E6158)),\"\",VLOOKUP(E6158,Sheet2!A:H,3,FALSE))","v":""},null,{"$f":"IF(OR(E6158=\"\",ISBLANK(E6158)),\"\",VLOOKUP(E6158,Sheet2!A:G,6,FALSE))","v":""},""]
[{"$f":"IF(OR(E6183=\"\",ISBLANK(E6183)),\"\",VLOOKUP(E6183,Sheet2!A:F,2,FALSE))","v":""},{"$f":"IF(OR(E6183=\"\",ISBLANK(E6183)),\"\",VLOOKUP(E6183,Sheet2!A:G,4,FALSE))","v":""},"",{"$f":"IF(OR(E6183=\"\",ISBLANK(E6183)),\"\",VLOOKUP(E6183,Sheet2!A:H,3,FALSE))","v":""},null,{"$f":"IF(OR(E6183=\"\",ISBLANK(E6183)),\"\",VLOOKUP(E6183,Sheet2!A:G,6,FALSE))","v":""},""]
[{"$f":"IF(OR(E6206=\"\",ISBLANK(E6206)),\"\",VLOOKUP(E6206,Sheet2!A:F,2,FALSE))","v":""},{"$f":"IF(OR(E6206=\"\",ISBLANK(E6206)),\"\",VLOOKUP(E6206,Sheet2!A:G,4,FALSE))","v":""},"",{"$f":"IF(OR(E6206=\"\",ISBLANK(E6206)),\"\",VLOOKUP(E6206,Sheet2!A:H,3,FALSE))","v":""},null,{"$f":"IF(OR(E6206=\"\",ISBLANK(E6206)),\"\",VLOOKUP(E6206,Sheet2!A:G,6,FALSE))","v":""},""]
[{"$f":"IF(OR(E6242=\"\",ISBLANK(E6242)),\"\",VLOOKUP(E6242,Sheet2!A:F,2,FALSE))","v":""},{"$f":"IF(OR(E6242=\"\",ISBLANK(E6242)),\"\",VLOOKUP(E6242,Sheet2!A:G,4,FALSE))","v":""},"",{"$f":"IF(OR(E6242=\"\",ISBLANK(E6242)),\"\",VLOOKUP(E6242,Sheet2!A:H,3,FALSE))","v":""},null,{"$f":"IF(OR(E6242=\"\",ISBLANK(E6242)),\"\",VLOOKUP(E6242,Sheet2!A:G,6,FALSE))","v":""},""]
[{"$f":"IF(OR(E6251=\"\",ISBLANK(E6251)),\"\",VLOOKUP(E6251,Sheet2!A:F,2,FALSE))","v":""},{"$f":"IF(OR(E6251=\"\",ISBLANK(E6251)),\"\",VLOOKUP(E6251,Sheet2!A:G,4,FALSE))","v":""},"",{"$f":"IF(OR(E6251=\"\",ISBLANK(E6251)),\"\",VLOOKUP(E6251,Sheet2!A:H,3,FALSE))","v":""},null,{"$f":"IF(OR(E6251=\"\",ISBLANK(E6251)),\"\",VLOOKUP(E6251,Sheet2!A:G,6,FALSE))","v":""},""]
[{"$f":"IF(OR(E6270=\"\",ISBLANK(E6270)),\"\",VLOOKUP(E6270,Sheet2!A:F,2,FALSE))","v":""},{"$f":"IF(OR(E6270=\"\",ISBLANK(E6270)),\"\",VLOOKUP(E6270,Sheet2!A:G,4,FALSE))","v":""},"",{"$f":"IF(OR(E6270=\"\",ISBLANK(E6270)),\"\",VLOOKUP(E6270,Sheet2!A:H,3,FALSE))","v":""},null,{"$f":"IF(OR(E6270=\"\",ISBLANK(E6270)),\"\",VLOOKUP(E6270,Sheet2!A:G,6,FALSE))","v":""},""]
[{"$f":"IF(OR(E6310=\"\",ISBLANK(E6310)),\"\",VLOOKUP(E6310,Sheet2!A:F,2,FALSE))","v":""},{"$f":"IF(OR(E6310=\"\",ISBLANK(E6310)),\"\",VLOOKUP(E6310,Sheet2!A:G,4,FALSE))","v":""},"",{"$f":"IF(OR(E6310=\"\",ISBLANK(E6310)),\"\",VLOOKUP(E6310,Sheet2!A:H,3,FALSE))","v":""},null,{"$f":"IF(OR(E6310=\"\",ISBLANK(E6310)),\"\",VLOOKUP(E6310,Sheet2!A:G,6,FALSE))","v":""},""]
[{"$f":"IF(OR(E6320=\"\",ISBLANK(E6320)),\"\",VLOOKUP(E6320,Sheet2!A:F,2,FALSE))","v":""},{"$f":"IF(OR(E6320=\"\",ISBLANK(E6320)),\"\",VLOOKUP(E6320,Sheet2!A:G,4,FALSE))","v":""},"",{"$f":"IF(OR(E6320=\"\",ISBLANK(E6320)),\"\",VLOOKUP(E6320,Sheet2!A:H,3,FALSE))","v":""},null,{"$f":"IF(OR(E6320=\"\",ISBLANK(E6320)),\"\",VLOOKUP(E6320,Sheet2!A:G,6,FALSE))","v":""},""]
[{"$f":"IF(OR(E6353=\"\",ISBLANK(E6353)),\"\",VLOOKUP(E6353,Sheet2!A:F,2,FALSE))","v":""},{"$f":"IF(OR(E6353=\"\",ISBLANK(E6353)),\"\",VLOOKUP(E6353,Sheet2!A:G,4,FALSE))","v":""},"",{"$f":"IF(OR(E6353=\"\",ISBLANK(E6353)),\"\",VLOOKUP(E6353,Sheet2!A:H,3,FALSE))","v":""},null,{"$f":"IF(OR(E6353=\"\",ISBLANK(E6353)),\"\",VLOOKUP(E6353,Sheet2!A:G,6,FALSE))","v":""},""]
[{"$f":"IF(OR(E6378=\"\",ISBLANK(E6378)),\"\",VLOOKUP(E6378,Sheet2!A:F,2,FALSE))","v":""},{"$f":"IF(OR(E6378=\"\",ISBLANK(E6378)),\"\",VLOOKUP(E6378,Sheet2!A:G,4,FALSE))","v":""},"",{"$f":"IF(OR(E6378=\"\",ISBLANK(E6378)),\"\",VLOOKUP(E6378,Sheet2!A:H,3,FALSE))","v":""},null,{"$f":"IF(OR(E6378=\"\",ISBLANK(E6378)),\"\",VLOOKUP(E6378,Sheet2!A:G,6,FALSE))","v":""},""]
[{"$f":"IF(OR(E6409=\"\",ISBLANK(E6409)),\"\",VLOOKUP(E6409,Sheet2!A:F,2,FALSE))","v":""},{"$f":"IF(OR(E6409=\"\",ISBLANK(E6409)),\"\",VLOOKUP(E6409,Sheet2!A:G,4,FALSE))","v":""},"",{"$f":"IF(OR(E6409=\"\",ISBLANK(E6409)),\"\",VLOOKUP(E6409,Sheet2!A:H,3,FALSE))","v":""},null,{"$f":"IF(OR(E6409=\"\",ISBLANK(E6409)),\"\",VLOOKUP(E6409,Sheet2!A:G,6,FALSE))","v":""},""]
[{"$f":"IF(OR(E6437=\"\",ISBLANK(E6437)),\"\",VLOOKUP(E6437,Sheet2!A:F,2,FALSE))","v":""},{"$f":"IF(OR(E6437=\"\",ISBLANK(E6437)),\"\",VLOOKUP(E6437,Sheet2!A:G,4,FALSE))","v":""},"",{"$f":"IF(OR(E6437=\"\",ISBLANK(E6437)),\"\",VLOOKUP(E6437,Sheet2!A:H,3,FALSE))","v":""},null,{"$f":"IF(OR(E6437=\"\",ISBLANK(E6437)),\"\",VLOOKUP(E6437,Sheet2!A:G,6,FALSE))","v":""},""]
[{"$f":"IF(OR(E6459=\"\",ISBLANK(E6459)),\"\",VLOOKUP(E6459,Sheet2!A:F,2,FALSE))","v":""},{"$f":"IF(OR(E6459=\"\",ISBLANK(E6459)),\"\",VLOOKUP(E6459,Sheet2!A:G,4,FALSE))","v":""},"",{"$f":"IF(OR(E6459=\"\",ISBLANK(E6459)),\"\",VLOOKUP(E6459,Sheet2!A:H,3,FALSE))","v":""},null,{"$f":"IF(OR(E6459=\"\",ISBLANK(E6459)),\"\",VLOOKUP(E6459,Sheet2!A:G,6,FALSE))","v":""},""]
[{"$f":"IF(OR(E6480=\"\",ISBLANK(E6480)),\"\",VLOOKUP(E6480,Sheet2!A:F,2,FALSE))","v":""},{"$f":"IF(OR(E6480=\"\",ISBLANK(E6480)),\"\",VLOOKUP(E6480,Sheet2!A:G,4,FALSE))","v":""},"",{"$f":"IF(OR(E6480=\"\",ISBLANK(E6480)),\"\",VLOOKUP(E6480,Sheet2!A:H,3,FALSE))","v":""},null,{"$f":"IF(OR(E6480=\"\",ISBLANK(E6480)),\"\",VLOOKUP(E6480,Sheet2!A:G,6,FALSE))","v":""},""]
[{"$f":"IF(OR(E6505=\"\",ISBLANK(E6505)),\"\",VLOOKUP(E6505,Sheet2!A:F,2,FALSE))","v":""},{"$f":"IF(OR(E6505=\"\",ISBLANK(E6505)),\"\",VLOOKUP(E6505,Sheet2!A:G,4,FALSE))","v":""},"",{"$f":"IF(OR(E6505=\"\",ISBLANK(E6505)),\"\",VLOOKUP(E6505,Sheet2!A:H,3,FALSE))","v":""},null,{"$f":"IF(OR(E6505=\"\",ISBLANK(E6505)),\"\",VLOOKUP(E6505,Sheet2!A:G,6,FALSE))","v":""},""]
[{"$f":"IF(OR(E6523=\"\",ISBLANK(E6523)),\"\",VLOOKUP(E6523,Sheet2!A:F,2,FALSE))","v":""},{"$f":"IF(OR(E6523=\"\",ISBLANK(E6523)),\"\",VLOOKUP(E6523,Sheet2!A:G,4,FALSE))","v":""},"",{"$f":"IF(OR(E6523=\"\",ISBLANK(E6523)),\"\",VLOOKUP(E6523,Sheet2!A:H,3,FALSE))","v":""},null,{"$f":"IF(OR(E6523=\"\",ISBLANK(E6523)),\"\",VLOOKUP(E6523,Sheet2!A:G,6,FALSE))","v":""},""]
[{"$f":"IF(OR(E6540=\"\",ISBLANK(E6540)),\"\",VLOOKUP(E6540,Sheet2!A:F,2,FALSE))","v":""},{"$f":"IF(OR(E6540=\"\",ISBLANK(E6540)),\"\",VLOOKUP(E6540,Sheet2!A:G,4,FALSE))","v":""},"",{"$f":"IF(OR(E6540=\"\",ISBLANK(E6540)),\"\",VLOOKUP(E6540,Sheet2!A:H,3,FALSE))","v":""},null,{"$f":"IF(OR(E6540=\"\",ISBLANK(E6540)),\"\",VLOOKUP(E6540,Sheet2!A:G,6,FALSE))","v":""},""]
[{"$f":"IF(OR(E6573=\"\",ISBLANK(E6573)),\"\",VLOOKUP(E6573,Sheet2!A:F,2,FALSE))","v":""},{"$f":"IF(OR(E6573=\"\",ISBLANK(E6573)),\"\",VLOOKUP(E6573,Sheet2!A:G,4,FALSE))","v":""},"",{"$f":"IF(OR(E6573=\"\",ISBLANK(E6573)),\"\",VLOOKUP(E6573,Sheet2!A:H,3,FALSE))","v":""},null,{"$f":"IF(OR(E6573=\"\",ISBLANK(E6573)),\"\",VLOOKUP(E6573,Sheet2!A:G,6,FALSE))","v":""},""]
[{"$f":"IF(OR(E6607=\"\",ISBLANK(E6607)),\"\",VLOOKUP(E6607,Sheet2!A:F,2,FALSE))","v":""},{"$f":"IF(OR(E6607=\"\",ISBLANK(E6607)),\"\",VLOOKUP(E6607,Sheet2!A:G,4,FALSE))","v":""},"",{"$f":"IF(OR(E6607=\"\",ISBLANK(E6607)),\"\",VLOOKUP(E6607,Sheet2!A:H,3,FALSE))","v":""},null,{"$f":"IF(OR(E6607=\"\",ISBLANK(E6607)),\"\",VLOOKUP(E6607,Sheet2!A:G,6,FALSE))","v":""},""]
[{"$f":"IF(OR(E6632=\"\",ISBLANK(E6632)),\"\",VLOOKUP(E6632,Sheet2!A:F,2,FALSE))","v":""},{"$f":"IF(OR(E6632=\"\",ISBLANK(E6632)),\"\",VLOOKUP(E6632,Sheet2!A:G,4,FALSE))","v":""},"",{"$f":"IF(OR(E6632=\"\",ISBLANK(E6632)),\"\",VLOOKUP(E6632,Sheet2!A:H,3,FALSE))","v":""},null,{"$f":"IF(OR(E6632=\"\",ISBLANK(E6632)),\"\",VLOOKUP(E6632,Sheet2!A:G,6,FALSE))","v":""},""]
[{"$f":"IF(OR(E6637=\"\",ISBLANK(E6637)),\"\",VLOOKUP(E6637,Sheet2!A:F,2,FALSE))","v":""},{"$f":"IF(OR(E6637=\"\",ISBLANK(E6637)),\"\",VLOOKUP(E6637,Sheet2!A:G,4,FALSE))","v":""},"",{"$f":"IF(OR(E6637=\"\",ISBLANK(E6637)),\"\",VLOOKUP(E6637,Sheet2!A:H,3,FALSE))","v":""},null,{"$f":"IF(OR(E6637=\"\",ISBLANK(E6637)),\"\",VLOOKUP(E6637,Sheet2!A:G,6,FALSE))","v":""},""]
[{"$f":"IF(OR(E6675=\"\",ISBLANK(E6675)),\"\",VLOOKUP(E6675,Sheet2!A:F,2,FALSE))","v":""},{"$f":"IF(OR(E6675=\"\",ISBLANK(E6675)),\"\",VLOOKUP(E6675,Sheet2!A:G,4,FALSE))","v":""},"",{"$f":"IF(OR(E6675=\"\",ISBLANK(E6675)),\"\",VLOOKUP(E6675,Sheet2!A:H,3,FALSE))","v":""},null,{"$f":"IF(OR(E6675=\"\",ISBLANK(E6675)),\"\",VLOOKUP(E6675,Sheet2!A:G,6,FALSE))","v":""},""]
[{"$f":"IF(OR(E6700=\"\",ISBLANK(E6700)),\"\",VLOOKUP(E6700,Sheet2!A:F,2,FALSE))","v":""},{"$f":"IF(OR(E6700=\"\",ISBLANK(E6700)),\"\",VLOOKUP(E6700,Sheet2!A:G,4,FALSE))","v":""},"",{"$f":"IF(OR(E6700=\"\",ISBLANK(E6700)),\"\",VLOOKUP(E6700,Sheet2!A:H,3,FALSE))","v":""},null,{"$f":"IF(OR(E6700=\"\",ISBLANK(E6700)),\"\",VLOOKUP(E6700,Sheet2!A:G,6,FALSE))","v":""},""]
[{"$f":"IF(OR(E6726=\"\",ISBLANK(E6726)),\"\",VLOOKUP(E6726,Sheet2!A:F,2,FALSE))","v":""},{"$f":"IF(OR(E6726=\"\",ISBLANK(E6726)),\"\",VLOOKUP(E6726,Sheet2!A:G,4,FALSE))","v":""},"",{"$f":"IF(OR(E6726=\"\",ISBLANK(E6726)),\"\",VLOOKUP(E6726,Sheet2!A:H,3,FALSE))","v":""},null,{"$f":"IF(OR(E6726=\"\",ISBLANK(E6726)),\"\",VLOOKUP(E6726,Sheet2!A:G,6,FALSE))","v":""},""]
[{"$f":"IF(OR(E6735=\"\",ISBLANK(E6735)),\"\",VLOOKUP(E6735,Sheet2!A:F,2,FALSE))","v":""},{"$f":"IF(OR(E6735=\"\",ISBLANK(E6735)),\"\",VLOOKUP(E6735,Sheet2!A:G,4,FALSE))","v":""},"",{"$f":"IF(OR(E6735=\"\",ISBLANK(E6735)),\"\",VLOOKUP(E6735,Sheet2!A:H,3,FALSE))","v":""},null,{"$f":"IF(OR(E6735=\"\",ISBLANK(E6735)),\"\",VLOOKUP(E6735,Sheet2!A:G,6,FALSE))","v":""},""]
[{"$f":"IF(OR(E6776=\"\",ISBLANK(E6776)),\"\",VLOOKUP(E6776,Sheet2!A:F,2,FALSE))","v":""},{"$f":"IF(OR(E6776=\"\",ISBLANK(E6776)),\"\",VLOOKUP(E6776,Sheet2!A:G,4,FALSE))","v":""},"",{"$f":"IF(OR(E6776=\"\",ISBLANK(E6776)),\"\",VLOOKUP(E6776,Sheet2!A:H,3,FALSE))","v":""},null,{"$f":"IF(OR(E6776=\"\",ISBLANK(E6776)),\"\",VLOOKUP(E6776,Sheet2!A:G,6,FALSE))","v":""},""]
[{"$f":"IF(OR(E6802=\"\",ISBLANK(E6802)),\"\",VLOOKUP(E6802,Sheet2!A:F,2,FALSE))","v":""},{"$f":"IF(OR(E6802=\"\",ISBLANK(E6802)),\"\",VLOOKUP(E6802,Sheet2!A:G,4,FALSE))","v":""},"",{"$f":"IF(OR(E6802=\"\",ISBLANK(E6802)),\"\",VLOOKUP(E6802,Sheet2!A:H,3,FALSE))","v":""},null,{"$f":"IF(OR(E6802=\"\",ISBLANK(E6802)),\"\",VLOOKUP(E6802,Sheet2!A:G,6,FALSE))","v":""},""]
[{"$f":"IF(OR(E6827=\"\",ISBLANK(E6827)),\"\",VLOOKUP(E6827,Sheet2!A:F,2,FALSE))","v":""},{"$f":"IF(OR(E6827=\"\",ISBLANK(E6827)),\"\",VLOOKUP(E6827,Sheet2!A:G,4,FALSE))","v":""},"",{"$f":"IF(OR(E6827=\"\",ISBLANK(E6827)),\"\",VLOOKUP(E6827,Sheet2!A:H,3,FALSE))","v":""},null,{"$f":"IF(OR(E6827=\"\",ISBLANK(E6827)),\"\",VLOOKUP(E6827,Sheet2!A:G,6,FALSE))","v":""},""]
[{"$f":"IF(OR(E6840=\"\",ISBLANK(E6840)),\"\",VLOOKUP(E6840,Sheet2!A:F,2,FALSE))","v":""},{"$f":"IF(OR(E6840=\"\",ISBLANK(E6840)),\"\",VLOOKUP(E6840,Sheet2!A:G,4,FALSE))","v":""},"",{"$f":"IF(OR(E6840=\"\",ISBLANK(E6840)),\"\",VLOOKUP(E6840,Sheet2!A:H,3,FALSE))","v":""},null,{"$f":"IF(OR(E6840=\"\",ISBLANK(E6840)),\"\",VLOOKUP(E6840,Sheet2!A:G,6,FALSE))","v":""},""]
[{"$f":"IF(OR(E6862=\"\",ISBLANK(E6862)),\"\",VLOOKUP(E6862,Sheet2!A:F,2,FALSE))","v":""},{"$f":"IF(OR(E6862=\"\",ISBLANK(E6862)),\"\",VLOOKUP(E6862,Sheet2!A:G,4,FALSE))","v":""},"",{"$f":"IF(OR(E6862=\"\",ISBLANK(E6862)),\"\",VLOOKUP(E6862,Sheet2!A:H,3,FALSE))","v":""},null,{"$f":"IF(OR(E6862=\"\",ISBLANK(E6862)),\"\",VLOOKUP(E6862,Sheet2!A:G,6,FALSE))","v":""},""]
[{"$f":"IF(OR(E6890=\"\",ISBLANK(E6890)),\"\",VLOOKUP(E6890,Sheet2!A:F,2,FALSE))","v":""},{"$f":"IF(OR(E6890=\"\",ISBLANK(E6890)),\"\",VLOOKUP(E6890,Sheet2!A:G,4,FALSE))","v":""},"",{"$f":"IF(OR(E6890=\"\",ISBLANK(E6890)),\"\",VLOOKUP(E6890,Sheet2!A:H,3,FALSE))","v":""},null,{"$f":"IF(OR(E6890=\"\",ISBLANK(E6890)),\"\",VLOOKUP(E6890,Sheet2!A:G,6,FALSE))","v":""},""]
[{"$f":"IF(OR(E6905=\"\",ISBLANK(E6905)),\"\",VLOOKUP(E6905,Sheet2!A:F,2,FALSE))","v":""},{"$f":"IF(OR(E6905=\"\",ISBLANK(E6905)),\"\",VLOOKUP(E6905,Sheet2!A:G,4,FALSE))","v":""},"",{"$f":"IF(OR(E6905=\"\",ISBLANK(E6905)),\"\",VLOOKUP(E6905,Sheet2!A:H,3,FALSE))","v":""},null,{"$f":"IF(OR(E6905=\"\",ISBLANK(E6905)),\"\",VLOOKUP(E6905,Sheet2!A:G,6,FALSE))","v":""},""]
[{"$f":"IF(OR(E6930=\"\",ISBLANK(E6930)),\"\",VLOOKUP(E6930,Sheet2!A:F,2,FALSE))","v":""},{"$f":"IF(OR(E6930=\"\",ISBLANK(E6930)),\"\",VLOOKUP(E6930,Sheet2!A:G,4,FALSE))","v":""},"",{"$f":"IF(OR(E6930=\"\",ISBLANK(E6930)),\"\",VLOOKUP(E6930,Sheet2!A:H,3,FALSE))","v":""},null,{"$f":"IF(OR(E6930=\"\",ISBLANK(E6930)),\"\",VLOOKUP(E6930,Sheet2!A:G,6,FALSE))","v":""},""]
[{"$f":"IF(OR(E6954=\"\",ISBLANK(E6954)),\"\",VLOOKUP(E6954,Sheet2!A:F,2,FALSE))","v":""},{"$f":"IF(OR(E6954=\"\",ISBLANK(E6954)),\"\",VLOOKUP(E6954,Sheet2!A:G,4,FALSE))","v":""},"",{"$f":"IF(OR(E6954=\"\",ISBLANK(E6954)),\"\",VLOOKUP(E6954,Sheet2!A:H,3,FALSE))","v":""},null,{"$f":"IF(OR(E6954=\"\",ISBLANK(E6954)),\"\",VLOOKUP(E6954,Sheet2!A:G,6,FALSE))","v":""},""]
[{"$f":"IF(OR(E6997=\"\",ISBLANK(E6997)),\"\",VLOOKUP(E6997,Sheet2!A:F,2,FALSE))","v":""},{"$f":"IF(OR(E6997=\"\",ISBLANK(E6997)),\"\",VLOOKUP(E6997,Sheet2!A:G,4,FALSE))","v":""},"",{"$f":"IF(OR(E6997=\"\",ISBLANK(E6997)),\"\",VLOOKUP(E6997,Sheet2!A:H,3,FALSE))","v":""},null,{"$f":"IF(OR(E6997=\"\",ISBLANK(E6997)),\"\",VLOOKUP(E6997,Sheet2!A:G,6,FALSE))","v":""},""]
[{"$f":"IF(OR(E7004=\"\",ISBLANK(E7004)),\"\",VLOOKUP(E7004,Sheet2!A:F,2,FALSE))","v":""},{"$f":"IF(OR(E7004=\"\",ISBLANK(E7004)),\"\",VLOOKUP(E7004,Sheet2!A:G,4,FALSE))","v":""},"",{"$f":"IF(OR(E7004=\"\",ISBLANK(E7004)),\"\",VLOOKUP(E7004,Sheet2!A:H,3,FALSE))","v":""},null,{"$f":"IF(OR(E7004=\"\",ISBLANK(E7004)),\"\",VLOOKUP(E7004,Sheet2!A:G,6,FALSE))","v":""},""]
[{"$f":"IF(OR(E7032=\"\",ISBLANK(E7032)),\"\",VLOOKUP(E7032,Sheet2!A:F,2,FALSE))","v":""},{"$f":"IF(OR(E7032=\"\",ISBLANK(E7032)),\"\",VLOOKUP(E7032,Sheet2!A:G,4,FALSE))","v":""},"",{"$f":"IF(OR(E7032=\"\",ISBLANK(E7032)),\"\",VLOOKUP(E7032,Sheet2!A:H,3,FALSE))","v":""},null,{"$f":"IF(OR(E7032=\"\",ISBLANK(E7032)),\"\",VLOOKUP(E7032,Sheet2!A:G,6,FALSE))","v":""},""]
[{"$f":"IF(OR(E7057=\"\",ISBLANK(E7057)),\"\",VLOOKUP(E7057,Sheet2!A:F,2,FALSE))","v":""},{"$f":"IF(OR(E7057=\"\",ISBLANK(E7057)),\"\",VLOOKUP(E7057,Sheet2!A:G,4,FALSE))","v":""},"",{"$f":"IF(OR(E7057=\"\",ISBLANK(E7057)),\"\",VLOOKUP(E7057,Sheet2!A:H,3,FALSE))","v":""},null,{"$f":"IF(OR(E7057=\"\",ISBLANK(E7057)),\"\",VLOOKUP(E7057,Sheet2!A:G,6,FALSE))","v":""},""]
[{"$f":"IF(OR(E7093=\"\",ISBLANK(E7093)),\"\",VLOOKUP(E7093,Sheet2!A:F,2,FALSE))","v":""},{"$f":"IF(OR(E7093=\"\",ISBLANK(E7093)),\"\",VLOOKUP(E7093,Sheet2!A:G,4,FALSE))","v":""},"",{"$f":"IF(OR(E7093=\"\",ISBLANK(E7093)),\"\",VLOOKUP(E7093,Sheet2!A:H,3,FALSE))","v":""},null,{"$f":"IF(OR(E7093=\"\",ISBLANK(E7093)),\"\",VLOOKUP(E7093,Sheet2!A:G,6,FALSE))","v":""},""]
[{"$f":"IF(OR(E7100=\"\",ISBLANK(E7100)),\"\",VLOOKUP(E7100,Sheet2!A:F,2,FALSE))","v":""},{"$f":"IF(OR(E7100=\"\",ISBLANK(E7100)),\"\",VLOOKUP(E7100,Sheet2!A:G,4,FALSE))","v":""},"",{"$f":"IF(OR(E7100=\"\",ISBLANK(E7100)),\"\",VLOOKUP(E7100,Sheet2!A:H,3,FALSE))","v":""},null,{"$f":"IF(OR(E7100=\"\",ISBLANK(E7100)),\"\",VLOOKUP(E7100,Sheet2!A:G,6,FALSE))","v":""},""]
[{"$f":"IF(OR(E7125=\"\",ISBLANK(E7125)),\"\",VLOOKUP(E7125,Sheet2!A:F,2,FALSE))","v":""},{"$f":"IF(OR(E7125=\"\",ISBLANK(E7125)),\"\",VLOOKUP(E7125,Sheet2!A:G,4,FALSE))","v":""},"",{"$f":"IF(OR(E7125=\"\",ISBLANK(E7125)),\"\",VLOOKUP(E7125,Sheet2!A:H,3,FALSE))","v":""},null,{"$f":"IF(OR(E7125=\"\",ISBLANK(E7125)),\"\",VLOOKUP(E7125,Sheet2!A:G,6,FALSE))","v":""},""]
[{"$f":"IF(OR(E7157=\"\",ISBLANK(E7157)),\"\",VLOOKUP(E7157,Sheet2!A:F,2,FALSE))","v":""},{"$f":"IF(OR(E7157=\"\",ISBLANK(E7157)),\"\",VLOOKUP(E7157,Sheet2!A:G,4,FALSE))","v":""},"",{"$f":"IF(OR(E7157=\"\",ISBLANK(E7157)),\"\",VLOOKUP(E7157,Sheet2!A:H,3,FALSE))","v":""},null,{"$f":"IF(OR(E7157=\"\",ISBLANK(E7157)),\"\",VLOOKUP(E7157,Sheet2!A:G,6,FALSE))","v":""},""]
[{"$f":"IF(OR(E7192=\"\",ISBLANK(E7192)),\"\",VLOOKUP(E7192,Sheet2!A:F,2,FALSE))","v":""},{"$f":"IF(OR(E7192=\"\",ISBLANK(E7192)),\"\",VLOOKUP(E7192,Sheet2!A:G,4,FALSE))","v":""},"",{"$f":"IF(OR(E7192=\"\",ISBLANK(E7192)),\"\",VLOOKUP(E7192,Sheet2!A:H,3,FALSE))","v":""},null,{"$f":"IF(OR(E7192=\"\",ISBLANK(E7192)),\"\",VLOOKUP(E7192,Sheet2!A:G,6,FALSE))","v":""},""]
[{"$f":"IF(OR(E7207=\"\",ISBLANK(E7207)),\"\",VLOOKUP(E7207,Sheet2!A:F,2,FALSE))","v":""},{"$f":"IF(OR(E7207=\"\",ISBLANK(E7207)),\"\",VLOOKUP(E7207,Sheet2!A:G,4,FALSE))","v":""},"",{"$f":"IF(OR(E7207=\"\",ISBLANK(E7207)),\"\",VLOOKUP(E7207,Sheet2!A:H,3,FALSE))","v":""},null,{"$f":"IF(OR(E7207=\"\",ISBLANK(E7207)),\"\",VLOOKUP(E7207,Sheet2!A:G,6,FALSE))","v":""},""]
[{"$f":"IF(OR(E7227=\"\",ISBLANK(E7227)),\"\",VLOOKUP(E7227,Sheet2!A:F,2,FALSE))","v":""},{"$f":"IF(OR(E7227=\"\",ISBLANK(E7227)),\"\",VLOOKUP(E7227,Sheet2!A:G,4,FALSE))","v":""},"",{"$f":"IF(OR(E7227=\"\",ISBLANK(E7227)),\"\",VLOOKUP(E7227,Sheet2!A:H,3,FALSE))","v":""},null,{"$f":"IF(OR(E7227=\"\",ISBLANK(E7227)),\"\",VLOOKUP(E7227,Sheet2!A:G,6,FALSE))","v":""},""]
[{"$f":"IF(OR(E7252=\"\",ISBLANK(E7252)),\"\",VLOOKUP(E7252,Sheet2!A:F,2,FALSE))","v":""},{"$f":"IF(OR(E7252=\"\",ISBLANK(E7252)),\"\",VLOOKUP(E7252,Sheet2!A:G,4,FALSE))","v":""},"",{"$f":"IF(OR(E7252=\"\",ISBLANK(E7252)),\"\",VLOOKUP(E7252,Sheet2!A:H,3,FALSE))","v":""},null,{"$f":"IF(OR(E7252=\"\",ISBLANK(E7252)),\"\",VLOOKUP(E7252,Sheet2!A:G,6,FALSE))","v":""},""]
[{"$f":"IF(OR(E7271=\"\",ISBLANK(E7271)),\"\",VLOOKUP(E7271,Sheet2!A:F,2,FALSE))","v":""},{"$f":"IF(OR(E7271=\"\",ISBLANK(E7271)),\"\",VLOOKUP(E7271,Sheet2!A:G,4,FALSE))","v":""},"",{"$f":"IF(OR(E7271=\"\",ISBLANK(E7271)),\"\",VLOOKUP(E7271,Sheet2!A:H,3,FALSE))","v":""},null,{"$f":"IF(OR(E7271=\"\",ISBLANK(E7271)),\"\",VLOOKUP(E7271,Sheet2!A:G,6,FALSE))","v":""},""]
[{"$f":"IF(OR(E7295=\"\",ISBLANK(E7295)),\"\",VLOOKUP(E7295,Sheet2!A:F,2,FALSE))","v":""},{"$f":"IF(OR(E7295=\"\",ISBLANK(E7295)),\"\",VLOOKUP(E7295,Sheet2!A:G,4,FALSE))","v":""},"",{"$f":"IF(OR(E7295=\"\",ISBLANK(E7295)),\"\",VLOOKUP(E7295,Sheet2!A:H,3,FALSE))","v":""},null,{"$f":"IF(OR(E7295=\"\",ISBLANK(E7295)),\"\",VLOOKUP(E7295,Sheet2!A:G,6,FALSE))","v":""},""]
[{"$f":"IF(OR(E7321=\"\",ISBLANK(E7321)),\"\",VLOOKUP(E7321,Sheet2!A:F,2,FALSE))","v":""},{"$f":"IF(OR(E7321=\"\",ISBLANK(E7321)),\"\",VLOOKUP(E7321,Sheet2!A:G,4,FALSE))","v":""},"",{"$f":"IF(OR(E7321=\"\",ISBLANK(E7321)),\"\",VLOOKUP(E7321,Sheet2!A:H,3,FALSE))","v":""},null,{"$f":"IF(OR(E7321=\"\",ISBLANK(E7321)),\"\",VLOOKUP(E7321,Sheet2!A:G,6,FALSE))","v":""},""]
[{"$f":"IF(OR(E7354=\"\",ISBLANK(E7354)),\"\",VLOOKUP(E7354,Sheet2!A:F,2,FALSE))","v":""},{"$f":"IF(OR(E7354=\"\",ISBLANK(E7354)),\"\",VLOOKUP(E7354,Sheet2!A:G,4,FALSE))","v":""},"",{"$f":"IF(OR(E7354=\"\",ISBLANK(E7354)),\"\",VLOOKUP(E7354,Sheet2!A:H,3,FALSE))","v":""},null,{"$f":"IF(OR(E7354=\"\",ISBLANK(E7354)),\"\",VLOOKUP(E7354,Sheet2!A:G,6,FALSE))","v":""},""]
[{"$f":"IF(OR(E7379=\"\",ISBLANK(E7379)),\"\",VLOOKUP(E7379,Sheet2!A:F,2,FALSE))","v":""},{"$f":"IF(OR(E7379=\"\",ISBLANK(E7379)),\"\",VLOOKUP(E7379,Sheet2!A:G,4,FALSE))","v":""},"",{"$f":"IF(OR(E7379=\"\",ISBLANK(E7379)),\"\",VLOOKUP(E7379,Sheet2!A:H,3,FALSE))","v":""},null,{"$f":"IF(OR(E7379=\"\",ISBLANK(E7379)),\"\",VLOOKUP(E7379,Sheet2!A:G,6,FALSE))","v":""},""]
[{"$f":"IF(OR(E7410=\"\",ISBLANK(E7410)),\"\",VLOOKUP(E7410,Sheet2!A:F,2,FALSE))","v":""},{"$f":"IF(OR(E7410=\"\",ISBLANK(E7410)),\"\",VLOOKUP(E7410,Sheet2!A:G,4,FALSE))","v":""},"",{"$f":"IF(OR(E7410=\"\",ISBLANK(E7410)),\"\",VLOOKUP(E7410,Sheet2!A:H,3,FALSE))","v":""},null,{"$f":"IF(OR(E7410=\"\",ISBLANK(E7410)),\"\",VLOOKUP(E7410,Sheet2!A:G,6,FALSE))","v":""},""]
[{"$f":"IF(OR(E7422=\"\",ISBLANK(E7422)),\"\",VLOOKUP(E7422,Sheet2!A:F,2,FALSE))","v":""},{"$f":"IF(OR(E7422=\"\",ISBLANK(E7422)),\"\",VLOOKUP(E7422,Sheet2!A:G,4,FALSE))","v":""},"",{"$f":"IF(OR(E7422=\"\",ISBLANK(E7422)),\"\",VLOOKUP(E7422,Sheet2!A:H,3,FALSE))","v":""},null,{"$f":"IF(OR(E7422=\"\",ISBLANK(E7422)),\"\",VLOOKUP(E7422,Sheet2!A:G,6,FALSE))","v":""},""]
[{"$f":"IF(OR(E7460=\"\",ISBLANK(E7460)),\"\",VLOOKUP(E7460,Sheet2!A:F,2,FALSE))","v":""},{"$f":"IF(OR(E7460=\"\",ISBLANK(E7460)),\"\",VLOOKUP(E7460,Sheet2!A:G,4,FALSE))","v":""},"",{"$f":"IF(OR(E7460=\"\",ISBLANK(E7460)),\"\",VLOOKUP(E7460,Sheet2!A:H,3,FALSE))","v":""},null,{"$f":"IF(OR(E7460=\"\",ISBLANK(E7460)),\"\",VLOOKUP(E7460,Sheet2!A:G,6,FALSE))","v":""},""]
[{"$f":"IF(OR(E7481=\"\",ISBLANK(E7481)),\"\",VLOOKUP(E7481,Sheet2!A:F,2,FALSE))","v":""},{"$f":"IF(OR(E7481=\"\",ISBLANK(E7481)),\"\",VLOOKUP(E7481,Sheet2!A:G,4,FALSE))","v":""},"",{"$f":"IF(OR(E7481=\"\",ISBLANK(E7481)),\"\",VLOOKUP(E7481,Sheet2!A:H,3,FALSE))","v":""},null,{"$f":"IF(OR(E7481=\"\",ISBLANK(E7481)),\"\",VLOOKUP(E7481,Sheet2!A:G,6,FALSE))","v":""},""]
[{"$f":"IF(OR(E7490=\"\",ISBLANK(E7490)),\"\",VLOOKUP(E7490,Sheet2!A:F,2,FALSE))","v":""},{"$f":"IF(OR(E7490=\"\",ISBLANK(E7490)),\"\",VLOOKUP(E7490,Sheet2!A:G,4,FALSE))","v":""},"",{"$f":"IF(OR(E7490=\"\",ISBLANK(E7490)),\"\",VLOOKUP(E7490,Sheet2!A:H,3,FALSE))","v":""},null,{"$f":"IF(OR(E7490=\"\",ISBLANK(E7490)),\"\",VLOOKUP(E7490,Sheet2!A:G,6,FALSE))","v":""},""]
[{"$f":"IF(OR(E7524=\"\",ISBLANK(E7524)),\"\",VLOOKUP(E7524,Sheet2!A:F,2,FALSE))","v":""},{"$f":"IF(OR(E7524=\"\",ISBLANK(E7524)),\"\",VLOOKUP(E7524,Sheet2!A:G,4,FALSE))","v":""},"",{"$f":"IF(OR(E7524=\"\",ISBLANK(E7524)),\"\",VLOOKUP(E7524,Sheet2!A:H,3,FALSE))","v":""},null,{"$f":"IF(OR(E7524=\"\",ISBLANK(E7524)),\"\",VLOOKUP(E7524,Sheet2!A:G,6,FALSE))","v":""},""]
[{"$f":"IF(OR(E7549=\"\",ISBLANK(E7549)),\"\",VLOOKUP(E7549,Sheet2!A:F,2,FALSE))","v":""},{"$f":"IF(OR(E7549=\"\",ISBLANK(E7549)),\"\",VLOOKUP(E7549,Sheet2!A:G,4,FALSE))","v":""},"",{"$f":"IF(OR(E7549=\"\",ISBLANK(E7549)),\"\",VLOOKUP(E7549,Sheet2!A:H,3,FALSE))","v":""},null,{"$f":"IF(OR(E7549=\"\",ISBLANK(E7549)),\"\",VLOOKUP(E7549,Sheet2!A:G,6,FALSE))","v":""},""]
[{"$f":"IF(OR(E7574=\"\",ISBLANK(E7574)),\"\",VLOOKUP(E7574,Sheet2!A:F,2,FALSE))","v":""},{"$f":"IF(OR(E7574=\"\",ISBLANK(E7574)),\"\",VLOOKUP(E7574,Sheet2!A:G,4,FALSE))","v":""},"",{"$f":"IF(OR(E7574=\"\",ISBLANK(E7574)),\"\",VLOOKUP(E7574,Sheet2!A:H,3,FALSE))","v":""},null,{"$f":"IF(OR(E7574=\"\",ISBLANK(E7574)),\"\",VLOOKUP(E7574,Sheet2!A:G,6,FALSE))","v":""},""]
[{"$f":"IF(OR(E7588=\"\",ISBLANK(E7588)),\"\",VLOOKUP(E7588,Sheet2!A:F,2,FALSE))","v":""},{"$f":"IF(OR(E7588=\"\",ISBLANK(E7588)),\"\",VLOOKUP(E7588,Sheet2!A:G,4,FALSE))","v":""},"",{"$f":"IF(OR(E7588=\"\",ISBLANK(E7588)),\"\",VLOOKUP(E7588,Sheet2!A:H,3,FALSE))","v":""},null,{"$f":"IF(OR(E7588=\"\",ISBLANK(E7588)),\"\",VLOOKUP(E7588,Sheet2!A:G,6,FALSE))","v":""},""]
[{"$f":"IF(OR(E7617=\"\",ISBLANK(E7617)),\"\",VLOOKUP(E7617,Sheet2!A:F,2,FALSE))","v":""},{"$f":"IF(OR(E7617=\"\",ISBLANK(E7617)),\"\",VLOOKUP(E7617,Sheet2!A:G,4,FALSE))","v":""},"",{"$f":"IF(OR(E7617=\"\",ISBLANK(E7617)),\"\",VLOOKUP(E7617,Sheet2!A:H,3,FALSE))","v":""},null,{"$f":"IF(OR(E7617=\"\",ISBLANK(E7617)),\"\",VLOOKUP(E7617,Sheet2!A:G,6,FALSE))","v":""},""]
[{"$f":"IF(OR(E7638=\"\",ISBLANK(E7638)),\"\",VLOOKUP(E7638,Sheet2!A:F,2,FALSE))","v":""},{"$f":"IF(OR(E7638=\"\",ISBLANK(E7638)),\"\",VLOOKUP(E7638,Sheet2!A:G,4,FALSE))","v":""},"",{"$f":"IF(OR(E7638=\"\",ISBLANK(E7638)),\"\",VLOOKUP(E7638,Sheet2!A:H,3,FALSE))","v":""},null,{"$f":"IF(OR(E7638=\"\",ISBLANK(E7638)),\"\",VLOOKUP(E7638,Sheet2!A:G,6,FALSE))","v":""},""]
[{"$f":"IF(OR(E7676=\"\",ISBLANK(E7676)),\"\",VLOOKUP(E7676,Sheet2!A:F,2,FALSE))","v":""},{"$f":"IF(OR(E7676=\"\",ISBLANK(E7676)),\"\",VLOOKUP(E7676,Sheet2!A:G,4,FALSE))","v":""},"",{"$f":"IF(OR(E7676=\"\",ISBLANK(E7676)),\"\",VLOOKUP(E7676,Sheet2!A:H,3,FALSE))","v":""},null,{"$f":"IF(OR(E7676=\"\",ISBLANK(E7676)),\"\",VLOOKUP(E7676,Sheet2!A:G,6,FALSE))","v":""},""]
[{"$f":"IF(OR(E7685=\"\",ISBLANK(E7685)),\"\",VLOOKUP(E7685,Sheet2!A:F,2,FALSE))","v":""},{"$f":"IF(OR(E7685=\"\",ISBLANK(E7685)),\"\",VLOOKUP(E7685,Sheet2!A:G,4,FALSE))","v":""},"",{"$f":"IF(OR(E7685=\"\",ISBLANK(E7685)),\"\",VLOOKUP(E7685,Sheet2!A:H,3,FALSE))","v":""},null,{"$f":"IF(OR(E7685=\"\",ISBLANK(E7685)),\"\",VLOOKUP(E7685,Sheet2!A:G,6,FALSE))","v":""},""]
[{"$f":"IF(OR(E7727=\"\",ISBLANK(E7727)),\"\",VLOOKUP(E7727,Sheet2!A:F,2,FALSE))","v":""},{"$f":"IF(OR(E7727=\"\",ISBLANK(E7727)),\"\",VLOOKUP(E7727,Sheet2!A:G,4,FALSE))","v":""},"",{"$f":"IF(OR(E7727=\"\",ISBLANK(E7727)),\"\",VLOOKUP(E7727,Sheet2!A:H,3,FALSE))","v":""},null,{"$f":"IF(OR(E7727=\"\",ISBLANK(E7727)),\"\",VLOOKUP(E7727,Sheet2!A:G,6,FALSE))","v":""},""]
[{"$f":"IF(OR(E7744=\"\",ISBLANK(E7744)),\"\",VLOOKUP(E7744,Sheet2!A:F,2,FALSE))","v":""},{"$f":"IF(OR(E7744=\"\",ISBLANK(E7744)),\"\",VLOOKUP(E7744,Sheet2!A:G,4,FALSE))","v":""},"",{"$f":"IF(OR(E7744=\"\",ISBLANK(E7744)),\"\",VLOOKUP(E7744,Sheet2!A:H,3,FALSE))","v":""},null,{"$f":"IF(OR(E7744=\"\",ISBLANK(E7744)),\"\",VLOOKUP(E7744,Sheet2!A:G,6,FALSE))","v":""},""]
[{"$f":"IF(OR(E7777=\"\",ISBLANK(E7777)),\"\",VLOOKUP(E7777,Sheet2!A:F,2,FALSE))","v":""},{"$f":"IF(OR(E7777=\"\",ISBLANK(E7777)),\"\",VLOOKUP(E7777,Sheet2!A:G,4,FALSE))","v":""},"",{"$f":"IF(OR(E7777=\"\",ISBLANK(E7777)),\"\",VLOOKUP(E7777,Sheet2!A:H,3,FALSE))","v":""},null,{"$f":"IF(OR(E7777=\"\",ISBLANK(E7777)),\"\",VLOOKUP(E7777,Sheet2!A:G,6,FALSE))","v":""},""]
[{"$f":"IF(OR(E7803=\"\",ISBLANK(E7803)),\"\",VLOOKUP(E7803,Sheet2!A:F,2,FALSE))","v":""},{"$f":"IF(OR(E7803=\"\",ISBLANK(E7803)),\"\",VLOOKUP(E7803,Sheet2!A:G,4,FALSE))","v":""},"",{"$f":"IF(OR(E7803=\"\",ISBLANK(E7803)),\"\",VLOOKUP(E7803,Sheet2!A:H,3,FALSE))","v":""},null,{"$f":"IF(OR(E7803=\"\",ISBLANK(E7803)),\"\",VLOOKUP(E7803,Sheet2!A:G,6,FALSE))","v":""},""]
[{"$f":"IF(OR(E7812=\"\",ISBLANK(E7812)),\"\",VLOOKUP(E7812,Sheet2!A:F,2,FALSE))","v":""},{"$f":"IF(OR(E7812=\"\",ISBLANK(E7812)),\"\",VLOOKUP(E7812,Sheet2!A:G,4,FALSE))","v":""},"",{"$f":"IF(OR(E7812=\"\",ISBLANK(E7812)),\"\",VLOOKUP(E7812,Sheet2!A:H,3,FALSE))","v":""},null,{"$f":"IF(OR(E7812=\"\",ISBLANK(E7812)),\"\",VLOOKUP(E7812,Sheet2!A:G,6,FALSE))","v":""},""]
[{"$f":"IF(OR(E7841=\"\",ISBLANK(E7841)),\"\",VLOOKUP(E7841,Sheet2!A:F,2,FALSE))","v":""},{"$f":"IF(OR(E7841=\"\",ISBLANK(E7841)),\"\",VLOOKUP(E7841,Sheet2!A:G,4,FALSE))","v":""},"",{"$f":"IF(OR(E7841=\"\",ISBLANK(E7841)),\"\",VLOOKUP(E7841,Sheet2!A:H,3,FALSE))","v":""},null,{"$f":"IF(OR(E7841=\"\",ISBLANK(E7841)),\"\",VLOOKUP(E7841,Sheet2!A:G,6,FALSE))","v":""},""]
[{"$f":"IF(OR(E7871=\"\",ISBLANK(E7871)),\"\",VLOOKUP(E7871,Sheet2!A:F,2,FALSE))","v":""},{"$f":"IF(OR(E7871=\"\",ISBLANK(E7871)),\"\",VLOOKUP(E7871,Sheet2!A:G,4,FALSE))","v":""},"",{"$f":"IF(OR(E7871=\"\",ISBLANK(E7871)),\"\",VLOOKUP(E7871,Sheet2!A:H,3,FALSE))","v":""},null,{"$f":"IF(OR(E7871=\"\",ISBLANK(E7871)),\"\",VLOOKUP(E7871,Sheet2!A:G,6,FALSE))","v":""},""]
[{"$f":"IF(OR(E7891=\"\",ISBLANK(E7891)),\"\",VLOOKUP(E7891,Sheet2!A:F,2,FALSE))","v":""},{"$f":"IF(OR(E7891=\"\",ISBLANK(E7891)),\"\",VLOOKUP(E7891,Sheet2!A:G,4,FALSE))","v":""},"",{"$f":"IF(OR(E7891=\"\",ISBLANK(E7891)),\"\",VLOOKUP(E7891,Sheet2!A:H,3,FALSE))","v":""},null,{"$f":"IF(OR(E7891=\"\",ISBLANK(E7891)),\"\",VLOOKUP(E7891,Sheet2!A:G,6,FALSE))","v":""},""]
[{"$f":"IF(OR(E7906=\"\",ISBLANK(E7906)),\"\",VLOOKUP(E7906,Sheet2!A:F,2,FALSE))","v":""},{"$f":"IF(OR(E7906=\"\",ISBLANK(E7906)),\"\",VLOOKUP(E7906,Sheet2!A:G,4,FALSE))","v":""},"",{"$f":"IF(OR(E7906=\"\",ISBLANK(E7906)),\"\",VLOOKUP(E7906,Sheet2!A:H,3,FALSE))","v":""},null,{"$f":"IF(OR(E7906=\"\",ISBLANK(E7906)),\"\",VLOOKUP(E7906,Sheet2!A:G,6,FALSE))","v":""},""]
[{"$f":"IF(OR(E7939=\"\",ISBLANK(E7939)),\"\",VLOOKUP(E7939,Sheet2!A:F,2,FALSE))","v":""},{"$f":"IF(OR(E7939=\"\",ISBLANK(E7939)),\"\",VLOOKUP(E7939,Sheet2!A:G,4,FALSE))","v":""},{"$f":"IF(D7939=0,\"\",D7939)","v":""},{"$f":"IF(OR(E7939=\"\",ISBLANK(E7939)),\"\",VLOOKUP(E7939,Sheet2!A:H,3,FALSE))","v":""},null,{"$f":"IF(OR(E7939=\"\",ISBLANK(E7939)),\"\",VLOOKUP(E7939,Sheet2!A:G,6,FALSE))","v":""},{"$f":"IF(F7939=0,\"\",F7939)","v":""}]
[{"$f":"IF(OR(E7955=\"\",ISBLANK(E7955)),\"\",VLOOKUP(E7955,Sheet2!A:F,2,FALSE))","v":""},{"$f":"IF(OR(E7955=\"\",ISBLANK(E7955)),\"\",VLOOKUP(E7955,Sheet2!A:G,4,FALSE))","v":""},"",{"$f":"IF(OR(E7955=\"\",ISBLANK(E7955)),\"\",VLOOKUP(E7955,Sheet2!A:H,3,FALSE))","v":""},null,{"$f":"IF(OR(E7955=\"\",ISBLANK(E7955)),\"\",VLOOKUP(E7955,Sheet2!A:G,6,FALSE))","v":""},""]
[{"$f":"IF(OR(E7998=\"\",ISBLANK(E7998)),\"\",VLOOKUP(E7998,Sheet2!A:F,2,FALSE))","v":""},{"$f":"IF(OR(E7998=\"\",ISBLANK(E7998)),\"\",VLOOKUP(E7998,Sheet2!A:G,4,FALSE))","v":""},"",{"$f":"IF(OR(E7998=\"\",ISBLANK(E7998)),\"\",VLOOKUP(E7998,Sheet2!A:H,3,FALSE))","v":""},null,{"$f":"IF(OR(E7998=\"\",ISBLANK(E7998)),\"\",VLOOKUP(E7998,Sheet2!A:G,6,FALSE))","v":""},""]
[{"$f":"IF(OR(E8007=\"\",ISBLANK(E8007)),\"\",VLOOKUP(E8007,Sheet2!A:F,2,FALSE))","v":""},{"$f":"IF(OR(E8007=\"\",ISBLANK(E8007)),\"\",VLOOKUP(E8007,Sheet2!A:G,4,FALSE))","v":""},"",{"$f":"IF(OR(E8007=\"\",ISBLANK(E8007)),\"\",VLOOKUP(E8007,Sheet2!A:H,3,FALSE))","v":""},null,{"$f":"IF(OR(E8007=\"\",ISBLANK(E8007)),\"\",VLOOKUP(E8007,Sheet2!A:G,6,FALSE))","v":""},""]
[{"$f":"IF(OR(E8044=\"\",ISBLANK(E8044)),\"\",VLOOKUP(E8044,Sheet2!A:F,2,FALSE))","v":""},{"$f":"IF(OR(E8044=\"\",ISBLANK(E8044)),\"\",VLOOKUP(E8044,Sheet2!A:G,4,FALSE))","v":""},"",{"$f":"IF(OR(E8044=\"\",ISBLANK(E8044)),\"\",VLOOKUP(E8044,Sheet2!A:H,3,FALSE))","v":""},null,{"$f":"IF(OR(E8044=\"\",ISBLANK(E8044)),\"\",VLOOKUP(E8044,Sheet2!A:G,6,FALSE))","v":""},""]
[{"$f":"IF(OR(E8066=\"\",ISBLANK(E8066)),\"\",VLOOKUP(E8066,Sheet2!A:F,2,FALSE))","v":""},{"$f":"IF(OR(E8066=\"\",ISBLANK(E8066)),\"\",VLOOKUP(E8066,Sheet2!A:G,4,FALSE))","v":""},"",{"$f":"IF(OR(E8066=\"\",ISBLANK(E8066)),\"\",VLOOKUP(E8066,Sheet2!A:H,3,FALSE))","v":""},null,{"$f":"IF(OR(E8066=\"\",ISBLANK(E8066)),\"\",VLOOKUP(E8066,Sheet2!A:G,6,FALSE))","v":""},""]
[{"$f":"IF(OR(E8094=\"\",ISBLANK(E8094)),\"\",VLOOKUP(E8094,Sheet2!A:F,2,FALSE))","v":""},{"$f":"IF(OR(E8094=\"\",ISBLANK(E8094)),\"\",VLOOKUP(E8094,Sheet2!A:G,4,FALSE))","v":""},"",{"$f":"IF(OR(E8094=\"\",ISBLANK(E8094)),\"\",VLOOKUP(E8094,Sheet2!A:H,3,FALSE))","v":""},null,{"$f":"IF(OR(E8094=\"\",ISBLANK(E8094)),\"\",VLOOKUP(E8094,Sheet2!A:G,6,FALSE))","v":""},""]
[{"$f":"IF(OR(E8101=\"\",ISBLANK(E8101)),\"\",VLOOKUP(E8101,Sheet2!A:F,2,FALSE))","v":""},{"$f":"IF(OR(E8101=\"\",ISBLANK(E8101)),\"\",VLOOKUP(E8101,Sheet2!A:G,4,FALSE))","v":""},"",{"$f":"IF(OR(E8101=\"\",ISBLANK(E8101)),\"\",VLOOKUP(E8101,Sheet2!A:H,3,FALSE))","v":""},null,{"$f":"IF(OR(E8101=\"\",ISBLANK(E8101)),\"\",VLOOKUP(E8101,Sheet2!A:G,6,FALSE))","v":""},""]
[{"$f":"IF(OR(E8134=\"\",ISBLANK(E8134)),\"\",VLOOKUP(E8134,Sheet2!A:F,2,FALSE))","v":""},{"$f":"IF(OR(E8134=\"\",ISBLANK(E8134)),\"\",VLOOKUP(E8134,Sheet2!A:G,4,FALSE))","v":""},"",{"$f":"IF(OR(E8134=\"\",ISBLANK(E8134)),\"\",VLOOKUP(E8134,Sheet2!A:H,3,FALSE))","v":""},null,{"$f":"IF(OR(E8134=\"\",ISBLANK(E8134)),\"\",VLOOKUP(E8134,Sheet2!A:G,6,FALSE))","v":""},""]
[{"$f":"IF(OR(E8158=\"\",ISBLANK(E8158)),\"\",VLOOKUP(E8158,Sheet2!A:F,2,FALSE))","v":""},{"$f":"IF(OR(E8158=\"\",ISBLANK(E8158)),\"\",VLOOKUP(E8158,Sheet2!A:G,4,FALSE))","v":""},"",{"$f":"IF(OR(E8158=\"\",ISBLANK(E8158)),\"\",VLOOKUP(E8158,Sheet2!A:H,3,FALSE))","v":""},null,{"$f":"IF(OR(E8158=\"\",ISBLANK(E8158)),\"\",VLOOKUP(E8158,Sheet2!A:G,6,FALSE))","v":""},""]
[{"$f":"IF(OR(E8193=\"\",ISBLANK(E8193)),\"\",VLOOKUP(E8193,Sheet2!A:F,2,FALSE))","v":""},{"$f":"IF(OR(E8193=\"\",ISBLANK(E8193)),\"\",VLOOKUP(E8193,Sheet2!A:G,4,FALSE))","v":""},"",{"$f":"IF(OR(E8193=\"\",ISBLANK(E8193)),\"\",VLOOKUP(E8193,Sheet2!A:H,3,FALSE))","v":""},null,{"$f":"IF(OR(E8193=\"\",ISBLANK(E8193)),\"\",VLOOKUP(E8193,Sheet2!A:G,6,FALSE))","v":""},""]
[{"$f":"IF(OR(E8208=\"\",ISBLANK(E8208)),\"\",VLOOKUP(E8208,Sheet2!A:F,2,FALSE))","v":""},{"$f":"IF(OR(E8208=\"\",ISBLANK(E8208)),\"\",VLOOKUP(E8208,Sheet2!A:G,4,FALSE))","v":""},"",{"$f":"IF(OR(E8208=\"\",ISBLANK(E8208)),\"\",VLOOKUP(E8208,Sheet2!A:H,3,FALSE))","v":""},null,{"$f":"IF(OR(E8208=\"\",ISBLANK(E8208)),\"\",VLOOKUP(E8208,Sheet2!A:G,6,FALSE))","v":""},""]
[{"$f":"IF(OR(E8228=\"\",ISBLANK(E8228)),\"\",VLOOKUP(E8228,Sheet2!A:F,2,FALSE))","v":""},{"$f":"IF(OR(E8228=\"\",ISBLANK(E8228)),\"\",VLOOKUP(E8228,Sheet2!A:G,4,FALSE))","v":""},"",{"$f":"IF(OR(E8228=\"\",ISBLANK(E8228)),\"\",VLOOKUP(E8228,Sheet2!A:H,3,FALSE))","v":""},null,{"$f":"IF(OR(E8228=\"\",ISBLANK(E8228)),\"\",VLOOKUP(E8228,Sheet2!A:G,6,FALSE))","v":""},""]
[{"$f":"IF(OR(E8261=\"\",ISBLANK(E8261)),\"\",VLOOKUP(E8261,Sheet2!A:F,2,FALSE))","v":""},{"$f":"IF(OR(E8261=\"\",ISBLANK(E8261)),\"\",VLOOKUP(E8261,Sheet2!A:G,4,FALSE))","v":""},"",{"$f":"IF(OR(E8261=\"\",ISBLANK(E8261)),\"\",VLOOKUP(E8261,Sheet2!A:H,3,FALSE))","v":""},null,{"$f":"IF(OR(E8261=\"\",ISBLANK(E8261)),\"\",VLOOKUP(E8261,Sheet2!A:G,6,FALSE))","v":""},""]
[{"$f":"IF(OR(E8272=\"\",ISBLANK(E8272)),\"\",VLOOKUP(E8272,Sheet2!A:F,2,FALSE))","v":""},{"$f":"IF(OR(E8272=\"\",ISBLANK(E8272)),\"\",VLOOKUP(E8272,Sheet2!A:G,4,FALSE))","v":""},"",{"$f":"IF(OR(E8272=\"\",ISBLANK(E8272)),\"\",VLOOKUP(E8272,Sheet2!A:H,3,FALSE))","v":""},null,{"$f":"IF(OR(E8272=\"\",ISBLANK(E8272)),\"\",VLOOKUP(E8272,Sheet2!A:G,6,FALSE))","v":""},""]
[{"$f":"IF(OR(E8296=\"\",ISBLANK(E8296)),\"\",VLOOKUP(E8296,Sheet2!A:F,2,FALSE))","v":""},{"$f":"IF(OR(E8296=\"\",ISBLANK(E8296)),\"\",VLOOKUP(E8296,Sheet2!A:G,4,FALSE))","v":""},"",{"$f":"IF(OR(E8296=\"\",ISBLANK(E8296)),\"\",VLOOKUP(E8296,Sheet2!A:H,3,FALSE))","v":""},null,{"$f":"IF(OR(E8296=\"\",ISBLANK(E8296)),\"\",VLOOKUP(E8296,Sheet2!A:G,6,FALSE))","v":""},""]
[{"$f":"IF(OR(E8326=\"\",ISBLANK(E8326)),\"\",VLOOKUP(E8326,Sheet2!A:F,2,FALSE))","v":""},{"$f":"IF(OR(E8326=\"\",ISBLANK(E8326)),\"\",VLOOKUP(E8326,Sheet2!A:G,4,FALSE))","v":""},"",{"$f":"IF(OR(E8326=\"\",ISBLANK(E8326)),\"\",VLOOKUP(E8326,Sheet2!A:H,3,FALSE))","v":""},null,{"$f":"IF(OR(E8326=\"\",ISBLANK(E8326)),\"\",VLOOKUP(E8326,Sheet2!A:G,6,FALSE))","v":""},""]
[{"$f":"IF(OR(E8355=\"\",ISBLANK(E8355)),\"\",VLOOKUP(E8355,Sheet2!A:F,2,FALSE))","v":""},{"$f":"IF(OR(E8355=\"\",ISBLANK(E8355)),\"\",VLOOKUP(E8355,Sheet2!A:G,4,FALSE))","v":""},"",{"$f":"IF(OR(E8355=\"\",ISBLANK(E8355)),\"\",VLOOKUP(E8355,Sheet2!A:H,3,FALSE))","v":""},null,{"$f":"IF(OR(E8355=\"\",ISBLANK(E8355)),\"\",VLOOKUP(E8355,Sheet2!A:G,6,FALSE))","v":""},""]
[{"$f":"IF(OR(E8388=\"\",ISBLANK(E8388)),\"\",VLOOKUP(E8388,Sheet2!A:F,2,FALSE))","v":""},{"$f":"IF(OR(E8388=\"\",ISBLANK(E8388)),\"\",VLOOKUP(E8388,Sheet2!A:G,4,FALSE))","v":""},"",{"$f":"IF(OR(E8388=\"\",ISBLANK(E8388)),\"\",VLOOKUP(E8388,Sheet2!A:H,3,FALSE))","v":""},null,{"$f":"IF(OR(E8388=\"\",ISBLANK(E8388)),\"\",VLOOKUP(E8388,Sheet2!A:G,6,FALSE))","v":""},""]
[{"$f":"IF(OR(E8411=\"\",ISBLANK(E8411)),\"\",VLOOKUP(E8411,Sheet2!A:F,2,FALSE))","v":""},{"$f":"IF(OR(E8411=\"\",ISBLANK(E8411)),\"\",VLOOKUP(E8411,Sheet2!A:G,4,FALSE))","v":""},"",{"$f":"IF(OR(E8411=\"\",ISBLANK(E8411)),\"\",VLOOKUP(E8411,Sheet2!A:H,3,FALSE))","v":""},null,{"$f":"IF(OR(E8411=\"\",ISBLANK(E8411)),\"\",VLOOKUP(E8411,Sheet2!A:G,6,FALSE))","v":""},""]
[{"$f":"IF(OR(E8423=\"\",ISBLANK(E8423)),\"\",VLOOKUP(E8423,Sheet2!A:F,2,FALSE))","v":""},{"$f":"IF(OR(E8423=\"\",ISBLANK(E8423)),\"\",VLOOKUP(E8423,Sheet2!A:G,4,FALSE))","v":""},"",{"$f":"IF(OR(E8423=\"\",ISBLANK(E8423)),\"\",VLOOKUP(E8423,Sheet2!A:H,3,FALSE))","v":""},null,{"$f":"IF(OR(E8423=\"\",ISBLANK(E8423)),\"\",VLOOKUP(E8423,Sheet2!A:G,6,FALSE))","v":""},""]
[{"$f":"IF(OR(E8456=\"\",ISBLANK(E8456)),\"\",VLOOKUP(E8456,Sheet2!A:F,2,FALSE))","v":""},{"$f":"IF(OR(E8456=\"\",ISBLANK(E8456)),\"\",VLOOKUP(E8456,Sheet2!A:G,4,FALSE))","v":""},"",{"$f":"IF(OR(E8456=\"\",ISBLANK(E8456)),\"\",VLOOKUP(E8456,Sheet2!A:H,3,FALSE))","v":""},null,{"$f":"IF(OR(E8456=\"\",ISBLANK(E8456)),\"\",VLOOKUP(E8456,Sheet2!A:G,6,FALSE))","v":""},""]
[{"$f":"IF(OR(E8475=\"\",ISBLANK(E8475)),\"\",VLOOKUP(E8475,Sheet2!A:F,2,FALSE))","v":""},{"$f":"IF(OR(E8475=\"\",ISBLANK(E8475)),\"\",VLOOKUP(E8475,Sheet2!A:G,4,FALSE))","v":""},"",{"$f":"IF(OR(E8475=\"\",ISBLANK(E8475)),\"\",VLOOKUP(E8475,Sheet2!A:H,3,FALSE))","v":""},null,{"$f":"IF(OR(E8475=\"\",ISBLANK(E8475)),\"\",VLOOKUP(E8475,Sheet2!A:G,6,FALSE))","v":""},""]
[{"$f":"IF(OR(E8491=\"\",ISBLANK(E8491)),\"\",VLOOKUP(E8491,Sheet2!A:F,2,FALSE))","v":""},{"$f":"IF(OR(E8491=\"\",ISBLANK(E8491)),\"\",VLOOKUP(E8491,Sheet2!A:G,4,FALSE))","v":""},"",{"$f":"IF(OR(E8491=\"\",ISBLANK(E8491)),\"\",VLOOKUP(E8491,Sheet2!A:H,3,FALSE))","v":""},null,{"$f":"IF(OR(E8491=\"\",ISBLANK(E8491)),\"\",VLOOKUP(E8491,Sheet2!A:G,6,FALSE))","v":""},""]
[{"$f":"IF(OR(E8529=\"\",ISBLANK(E8529)),\"\",VLOOKUP(E8529,Sheet2!A:F,2,FALSE))","v":""},{"$f":"IF(OR(E8529=\"\",ISBLANK(E8529)),\"\",VLOOKUP(E8529,Sheet2!A:G,4,FALSE))","v":""},"",{"$f":"IF(OR(E8529=\"\",ISBLANK(E8529)),\"\",VLOOKUP(E8529,Sheet2!A:H,3,FALSE))","v":""},null,{"$f":"IF(OR(E8529=\"\",ISBLANK(E8529)),\"\",VLOOKUP(E8529,Sheet2!A:G,6,FALSE))","v":""},""]
[{"$f":"IF(OR(E8550=\"\",ISBLANK(E8550)),\"\",VLOOKUP(E8550,Sheet2!A:F,2,FALSE))","v":""},{"$f":"IF(OR(E8550=\"\",ISBLANK(E8550)),\"\",VLOOKUP(E8550,Sheet2!A:G,4,FALSE))","v":""},"",{"$f":"IF(OR(E8550=\"\",ISBLANK(E8550)),\"\",VLOOKUP(E8550,Sheet2!A:H,3,FALSE))","v":""},null,{"$f":"IF(OR(E8550=\"\",ISBLANK(E8550)),\"\",VLOOKUP(E8550,Sheet2!A:G,6,FALSE))","v":""},""]
[{"$f":"IF(OR(E8583=\"\",ISBLANK(E8583)),\"\",VLOOKUP(E8583,Sheet2!A:F,2,FALSE))","v":""},{"$f":"IF(OR(E8583=\"\",ISBLANK(E8583)),\"\",VLOOKUP(E8583,Sheet2!A:G,4,FALSE))","v":""},"",{"$f":"IF(OR(E8583=\"\",ISBLANK(E8583)),\"\",VLOOKUP(E8583,Sheet2!A:H,3,FALSE))","v":""},null,{"$f":"IF(OR(E8583=\"\",ISBLANK(E8583)),\"\",VLOOKUP(E8583,Sheet2!A:G,6,FALSE))","v":""},""]
[{"$f":"IF(OR(E8589=\"\",ISBLANK(E8589)),\"\",VLOOKUP(E8589,Sheet2!A:F,2,FALSE))","v":""},{"$f":"IF(OR(E8589=\"\",ISBLANK(E8589)),\"\",VLOOKUP(E8589,Sheet2!A:G,4,FALSE))","v":""},"",{"$f":"IF(OR(E8589=\"\",ISBLANK(E8589)),\"\",VLOOKUP(E8589,Sheet2!A:H,3,FALSE))","v":""},null,{"$f":"IF(OR(E8589=\"\",ISBLANK(E8589)),\"\",VLOOKUP(E8589,Sheet2!A:G,6,FALSE))","v":""},""]
[{"$f":"IF(OR(E8618=\"\",ISBLANK(E8618)),\"\",VLOOKUP(E8618,Sheet2!A:F,2,FALSE))","v":""},{"$f":"IF(OR(E8618=\"\",ISBLANK(E8618)),\"\",VLOOKUP(E8618,Sheet2!A:G,4,FALSE))","v":""},"",{"$f":"IF(OR(E8618=\"\",ISBLANK(E8618)),\"\",VLOOKUP(E8618,Sheet2!A:H,3,FALSE))","v":""},null,{"$f":"IF(OR(E8618=\"\",ISBLANK(E8618)),\"\",VLOOKUP(E8618,Sheet2!A:G,6,FALSE))","v":""},""]
[{"$f":"IF(OR(E8643=\"\",ISBLANK(E8643)),\"\",VLOOKUP(E8643,Sheet2!A:F,2,FALSE))","v":""},{"$f":"IF(OR(E8643=\"\",ISBLANK(E8643)),\"\",VLOOKUP(E8643,Sheet2!A:G,4,FALSE))","v":""},{"$f":"IF(D8643=0,\"\",D8643)","v":""},{"$f":"IF(OR(E8643=\"\",ISBLANK(E8643)),\"\",VLOOKUP(E8643,Sheet2!A:H,3,FALSE))","v":""},null,{"$f":"IF(OR(E8643=\"\",ISBLANK(E8643)),\"\",VLOOKUP(E8643,Sheet2!A:G,6,FALSE))","v":""},{"$f":"IF(F8643=0,\"\",F8643)","v":""}]
[{"$f":"IF(OR(E8677=\"\",ISBLANK(E8677)),\"\",VLOOKUP(E8677,Sheet2!A:F,2,FALSE))","v":""},{"$f":"IF(OR(E8677=\"\",ISBLANK(E8677)),\"\",VLOOKUP(E8677,Sheet2!A:G,4,FALSE))","v":""},"",{"$f":"IF(OR(E8677=\"\",ISBLANK(E8677)),\"\",VLOOKUP(E8677,Sheet2!A:H,3,FALSE))","v":""},null,{"$f":"IF(OR(E8677=\"\",ISBLANK(E8677)),\"\",VLOOKUP(E8677,Sheet2!A:G,6,FALSE))","v":""},""]
[{"$f":"IF(OR(E8686=\"\",ISBLANK(E8686)),\"\",VLOOKUP(E8686,Sheet2!A:F,2,FALSE))","v":""},{"$f":"IF(OR(E8686=\"\",ISBLANK(E8686)),\"\",VLOOKUP(E8686,Sheet2!A:G,4,FALSE))","v":""},"",{"$f":"IF(OR(E8686=\"\",ISBLANK(E8686)),\"\",VLOOKUP(E8686,Sheet2!A:H,3,FALSE))","v":""},null,{"$f":"IF(OR(E8686=\"\",ISBLANK(E8686)),\"\",VLOOKUP(E8686,Sheet2!A:G,6,FALSE))","v":""},""]
[{"$f":"IF(OR(E8728=\"\",ISBLANK(E8728)),\"\",VLOOKUP(E8728,Sheet2!A:F,2,FALSE))","v":""},{"$f":"IF(OR(E8728=\"\",ISBLANK(E8728)),\"\",VLOOKUP(E8728,Sheet2!A:G,4,FALSE))","v":""},"",{"$f":"IF(OR(E8728=\"\",ISBLANK(E8728)),\"\",VLOOKUP(E8728,Sheet2!A:H,3,FALSE))","v":""},null,{"$f":"IF(OR(E8728=\"\",ISBLANK(E8728)),\"\",VLOOKUP(E8728,Sheet2!A:G,6,FALSE))","v":""},""]
[{"$f":"IF(OR(E8745=\"\",ISBLANK(E8745)),\"\",VLOOKUP(E8745,Sheet2!A:F,2,FALSE))","v":""},{"$f":"IF(OR(E8745=\"\",ISBLANK(E8745)),\"\",VLOOKUP(E8745,Sheet2!A:G,4,FALSE))","v":""},"",{"$f":"IF(OR(E8745=\"\",ISBLANK(E8745)),\"\",VLOOKUP(E8745,Sheet2!A:H,3,FALSE))","v":""},null,{"$f":"IF(OR(E8745=\"\",ISBLANK(E8745)),\"\",VLOOKUP(E8745,Sheet2!A:G,6,FALSE))","v":""},""]
[{"$f":"IF(OR(E8757=\"\",ISBLANK(E8757)),\"\",VLOOKUP(E8757,Sheet2!A:F,2,FALSE))","v":""},{"$f":"IF(OR(E8757=\"\",ISBLANK(E8757)),\"\",VLOOKUP(E8757,Sheet2!A:G,4,FALSE))","v":""},"",{"$f":"IF(OR(E8757=\"\",ISBLANK(E8757)),\"\",VLOOKUP(E8757,Sheet2!A:H,3,FALSE))","v":""},null,{"$f":"IF(OR(E8757=\"\",ISBLANK(E8757)),\"\",VLOOKUP(E8757,Sheet2!A:G,6,FALSE))","v":""},""]
[{"$f":"IF(OR(E8804=\"\",ISBLANK(E8804)),\"\",VLOOKUP(E8804,Sheet2!A:F,2,FALSE))","v":""},{"$f":"IF(OR(E8804=\"\",ISBLANK(E8804)),\"\",VLOOKUP(E8804,Sheet2!A:G,4,FALSE))","v":""},"",{"$f":"IF(OR(E8804=\"\",ISBLANK(E8804)),\"\",VLOOKUP(E8804,Sheet2!A:H,3,FALSE))","v":""},null,{"$f":"IF(OR(E8804=\"\",ISBLANK(E8804)),\"\",VLOOKUP(E8804,Sheet2!A:G,6,FALSE))","v":""},""]
[{"$f":"IF(OR(E8813=\"\",ISBLANK(E8813)),\"\",VLOOKUP(E8813,Sheet2!A:F,2,FALSE))","v":""},{"$f":"IF(OR(E8813=\"\",ISBLANK(E8813)),\"\",VLOOKUP(E8813,Sheet2!A:G,4,FALSE))","v":""},"",{"$f":"IF(OR(E8813=\"\",ISBLANK(E8813)),\"\",VLOOKUP(E8813,Sheet2!A:H,3,FALSE))","v":""},null,{"$f":"IF(OR(E8813=\"\",ISBLANK(E8813)),\"\",VLOOKUP(E8813,Sheet2!A:G,6,FALSE))","v":""},""]
[{"$f":"IF(OR(E8846=\"\",ISBLANK(E8846)),\"\",VLOOKUP(E8846,Sheet2!A:F,2,FALSE))","v":""},{"$f":"IF(OR(E8846=\"\",ISBLANK(E8846)),\"\",VLOOKUP(E8846,Sheet2!A:G,4,FALSE))","v":""},"",{"$f":"IF(OR(E8846=\"\",ISBLANK(E8846)),\"\",VLOOKUP(E8846,Sheet2!A:H,3,FALSE))","v":""},null,{"$f":"IF(OR(E8846=\"\",ISBLANK(E8846)),\"\",VLOOKUP(E8846,Sheet2!A:G,6,FALSE))","v":""},""]
[{"$f":"IF(OR(E8872=\"\",ISBLANK(E8872)),\"\",VLOOKUP(E8872,Sheet2!A:F,2,FALSE))","v":""},{"$f":"IF(OR(E8872=\"\",ISBLANK(E8872)),\"\",VLOOKUP(E8872,Sheet2!A:G,4,FALSE))","v":""},"",{"$f":"IF(OR(E8872=\"\",ISBLANK(E8872)),\"\",VLOOKUP(E8872,Sheet2!A:H,3,FALSE))","v":""},null,{"$f":"IF(OR(E8872=\"\",ISBLANK(E8872)),\"\",VLOOKUP(E8872,Sheet2!A:G,6,FALSE))","v":""},""]
[{"$f":"IF(OR(E8881=\"\",ISBLANK(E8881)),\"\",VLOOKUP(E8881,Sheet2!A:F,2,FALSE))","v":""},{"$f":"IF(OR(E8881=\"\",ISBLANK(E8881)),\"\",VLOOKUP(E8881,Sheet2!A:G,4,FALSE))","v":""},"",{"$f":"IF(OR(E8881=\"\",ISBLANK(E8881)),\"\",VLOOKUP(E8881,Sheet2!A:H,3,FALSE))","v":""},null,{"$f":"IF(OR(E8881=\"\",ISBLANK(E8881)),\"\",VLOOKUP(E8881,Sheet2!A:G,6,FALSE))","v":""},""]
[{"$f":"IF(OR(E8906=\"\",ISBLANK(E8906)),\"\",VLOOKUP(E8906,Sheet2!A:F,2,FALSE))","v":""},{"$f":"IF(OR(E8906=\"\",ISBLANK(E8906)),\"\",VLOOKUP(E8906,Sheet2!A:G,4,FALSE))","v":""},"",{"$f":"IF(OR(E8906=\"\",ISBLANK(E8906)),\"\",VLOOKUP(E8906,Sheet2!A:H,3,FALSE))","v":""},null,{"$f":"IF(OR(E8906=\"\",ISBLANK(E8906)),\"\",VLOOKUP(E8906,Sheet2!A:G,6,FALSE))","v":""},""]
[{"$f":"IF(OR(E8940=\"\",ISBLANK(E8940)),\"\",VLOOKUP(E8940,Sheet2!A:F,2,FALSE))","v":""},{"$f":"IF(OR(E8940=\"\",ISBLANK(E8940)),\"\",VLOOKUP(E8940,Sheet2!A:G,4,FALSE))","v":""},"",{"$f":"IF(OR(E8940=\"\",ISBLANK(E8940)),\"\",VLOOKUP(E8940,Sheet2!A:H,3,FALSE))","v":""},null,{"$f":"IF(OR(E8940=\"\",ISBLANK(E8940)),\"\",VLOOKUP(E8940,Sheet2!A:G,6,FALSE))","v":""},""]
[{"$f":"IF(OR(E8960=\"\",ISBLANK(E8960)),\"\",VLOOKUP(E8960,Sheet2!A:F,2,FALSE))","v":""},{"$f":"IF(OR(E8960=\"\",ISBLANK(E8960)),\"\",VLOOKUP(E8960,Sheet2!A:G,4,FALSE))","v":""},"",{"$f":"IF(OR(E8960=\"\",ISBLANK(E8960)),\"\",VLOOKUP(E8960,Sheet2!A:H,3,FALSE))","v":""},null,{"$f":"IF(OR(E8960=\"\",ISBLANK(E8960)),\"\",VLOOKUP(E8960,Sheet2!A:G,6,FALSE))","v":""},""]
[{"$f":"IF(OR(E8999=\"\",ISBLANK(E8999)),\"\",VLOOKUP(E8999,Sheet2!A:F,2,FALSE))","v":""},{"$f":"IF(OR(E8999=\"\",ISBLANK(E8999)),\"\",VLOOKUP(E8999,Sheet2!A:G,4,FALSE))","v":""},"",{"$f":"IF(OR(E8999=\"\",ISBLANK(E8999)),\"\",VLOOKUP(E8999,Sheet2!A:H,3,FALSE))","v":""},null,{"$f":"IF(OR(E8999=\"\",ISBLANK(E8999)),\"\",VLOOKUP(E8999,Sheet2!A:G,6,FALSE))","v":""},""]
[{"$f":"IF(OR(E9008=\"\",ISBLANK(E9008)),\"\",VLOOKUP(E9008,Sheet2!A:F,2,FALSE))","v":""},{"$f":"IF(OR(E9008=\"\",ISBLANK(E9008)),\"\",VLOOKUP(E9008,Sheet2!A:G,4,FALSE))","v":""},"",{"$f":"IF(OR(E9008=\"\",ISBLANK(E9008)),\"\",VLOOKUP(E9008,Sheet2!A:H,3,FALSE))","v":""},null,{"$f":"IF(OR(E9008=\"\",ISBLANK(E9008)),\"\",VLOOKUP(E9008,Sheet2!A:G,6,FALSE))","v":""},""]
[{"$f":"IF(OR(E9045=\"\",ISBLANK(E9045)),\"\",VLOOKUP(E9045,Sheet2!A:F,2,FALSE))","v":""},{"$f":"IF(OR(E9045=\"\",ISBLANK(E9045)),\"\",VLOOKUP(E9045,Sheet2!A:G,4,FALSE))","v":""},"",{"$f":"IF(OR(E9045=\"\",ISBLANK(E9045)),\"\",VLOOKUP(E9045,Sheet2!A:H,3,FALSE))","v":""},null,{"$f":"IF(OR(E9045=\"\",ISBLANK(E9045)),\"\",VLOOKUP(E9045,Sheet2!A:G,6,FALSE))","v":""},""]
[{"$f":"IF(OR(E9067=\"\",ISBLANK(E9067)),\"\",VLOOKUP(E9067,Sheet2!A:F,2,FALSE))","v":""},{"$f":"IF(OR(E9067=\"\",ISBLANK(E9067)),\"\",VLOOKUP(E9067,Sheet2!A:G,4,FALSE))","v":""},"",{"$f":"IF(OR(E9067=\"\",ISBLANK(E9067)),\"\",VLOOKUP(E9067,Sheet2!A:H,3,FALSE))","v":""},null,{"$f":"IF(OR(E9067=\"\",ISBLANK(E9067)),\"\",VLOOKUP(E9067,Sheet2!A:G,6,FALSE))","v":""},""]
[{"$f":"IF(OR(E9074=\"\",ISBLANK(E9074)),\"\",VLOOKUP(E9074,Sheet2!A:F,2,FALSE))","v":""},{"$f":"IF(OR(E9074=\"\",ISBLANK(E9074)),\"\",VLOOKUP(E9074,Sheet2!A:G,4,FALSE))","v":""},"",{"$f":"IF(OR(E9074=\"\",ISBLANK(E9074)),\"\",VLOOKUP(E9074,Sheet2!A:H,3,FALSE))","v":""},null,{"$f":"IF(OR(E9074=\"\",ISBLANK(E9074)),\"\",VLOOKUP(E9074,Sheet2!A:G,6,FALSE))","v":""},""]
[{"$f":"IF(OR(E9102=\"\",ISBLANK(E9102)),\"\",VLOOKUP(E9102,Sheet2!A:F,2,FALSE))","v":""},{"$f":"IF(OR(E9102=\"\",ISBLANK(E9102)),\"\",VLOOKUP(E9102,Sheet2!A:G,4,FALSE))","v":""},"",{"$f":"IF(OR(E9102=\"\",ISBLANK(E9102)),\"\",VLOOKUP(E9102,Sheet2!A:H,3,FALSE))","v":""},null,{"$f":"IF(OR(E9102=\"\",ISBLANK(E9102)),\"\",VLOOKUP(E9102,Sheet2!A:G,6,FALSE))","v":""},""]
[{"$f":"IF(OR(E9135=\"\",ISBLANK(E9135)),\"\",VLOOKUP(E9135,Sheet2!A:F,2,FALSE))","v":""},{"$f":"IF(OR(E9135=\"\",ISBLANK(E9135)),\"\",VLOOKUP(E9135,Sheet2!A:G,4,FALSE))","v":""},"",{"$f":"IF(OR(E9135=\"\",ISBLANK(E9135)),\"\",VLOOKUP(E9135,Sheet2!A:H,3,FALSE))","v":""},null,{"$f":"IF(OR(E9135=\"\",ISBLANK(E9135)),\"\",VLOOKUP(E9135,Sheet2!A:G,6,FALSE))","v":""},""]
[{"$f":"IF(OR(E9163=\"\",ISBLANK(E9163)),\"\",VLOOKUP(E9163,Sheet2!A:F,2,FALSE))","v":""},{"$f":"IF(OR(E9163=\"\",ISBLANK(E9163)),\"\",VLOOKUP(E9163,Sheet2!A:G,4,FALSE))","v":""},"",{"$f":"IF(OR(E9163=\"\",ISBLANK(E9163)),\"\",VLOOKUP(E9163,Sheet2!A:H,3,FALSE))","v":""},null,{"$f":"IF(OR(E9163=\"\",ISBLANK(E9163)),\"\",VLOOKUP(E9163,Sheet2!A:G,6,FALSE))","v":""},""]
[{"$f":"IF(OR(E9194=\"\",ISBLANK(E9194)),\"\",VLOOKUP(E9194,Sheet2!A:F,2,FALSE))","v":""},{"$f":"IF(OR(E9194=\"\",ISBLANK(E9194)),\"\",VLOOKUP(E9194,Sheet2!A:G,4,FALSE))","v":""},"",{"$f":"IF(OR(E9194=\"\",ISBLANK(E9194)),\"\",VLOOKUP(E9194,Sheet2!A:H,3,FALSE))","v":""},null,{"$f":"IF(OR(E9194=\"\",ISBLANK(E9194)),\"\",VLOOKUP(E9194,Sheet2!A:G,6,FALSE))","v":""},""]
[{"$f":"IF(OR(E9203=\"\",ISBLANK(E9203)),\"\",VLOOKUP(E9203,Sheet2!A:F,2,FALSE))","v":""},{"$f":"IF(OR(E9203=\"\",ISBLANK(E9203)),\"\",VLOOKUP(E9203,Sheet2!A:G,4,FALSE))","v":""},"",{"$f":"IF(OR(E9203=\"\",ISBLANK(E9203)),\"\",VLOOKUP(E9203,Sheet2!A:H,3,FALSE))","v":""},null,{"$f":"IF(OR(E9203=\"\",ISBLANK(E9203)),\"\",VLOOKUP(E9203,Sheet2!A:G,6,FALSE))","v":""},""]
[{"$f":"IF(OR(E9223=\"\",ISBLANK(E9223)),\"\",VLOOKUP(E9223,Sheet2!A:F,2,FALSE))","v":""},{"$f":"IF(OR(E9223=\"\",ISBLANK(E9223)),\"\",VLOOKUP(E9223,Sheet2!A:G,4,FALSE))","v":""},"",{"$f":"IF(OR(E9223=\"\",ISBLANK(E9223)),\"\",VLOOKUP(E9223,Sheet2!A:H,3,FALSE))","v":""},null,{"$f":"IF(OR(E9223=\"\",ISBLANK(E9223)),\"\",VLOOKUP(E9223,Sheet2!A:G,6,FALSE))","v":""},""]
[{"$f":"IF(OR(E9262=\"\",ISBLANK(E9262)),\"\",VLOOKUP(E9262,Sheet2!A:F,2,FALSE))","v":""},{"$f":"IF(OR(E9262=\"\",ISBLANK(E9262)),\"\",VLOOKUP(E9262,Sheet2!A:G,4,FALSE))","v":""},"",{"$f":"IF(OR(E9262=\"\",ISBLANK(E9262)),\"\",VLOOKUP(E9262,Sheet2!A:H,3,FALSE))","v":""},null,{"$f":"IF(OR(E9262=\"\",ISBLANK(E9262)),\"\",VLOOKUP(E9262,Sheet2!A:G,6,FALSE))","v":""},""]
[{"$f":"IF(OR(E9277=\"\",ISBLANK(E9277)),\"\",VLOOKUP(E9277,Sheet2!A:F,2,FALSE))","v":""},{"$f":"IF(OR(E9277=\"\",ISBLANK(E9277)),\"\",VLOOKUP(E9277,Sheet2!A:G,4,FALSE))","v":""},"",{"$f":"IF(OR(E9277=\"\",ISBLANK(E9277)),\"\",VLOOKUP(E9277,Sheet2!A:H,3,FALSE))","v":""},null,{"$f":"IF(OR(E9277=\"\",ISBLANK(E9277)),\"\",VLOOKUP(E9277,Sheet2!A:G,6,FALSE))","v":""},""]
[{"$f":"IF(OR(E9297=\"\",ISBLANK(E9297)),\"\",VLOOKUP(E9297,Sheet2!A:F,2,FALSE))","v":""},{"$f":"IF(OR(E9297=\"\",ISBLANK(E9297)),\"\",VLOOKUP(E9297,Sheet2!A:G,4,FALSE))","v":""},"",{"$f":"IF(OR(E9297=\"\",ISBLANK(E9297)),\"\",VLOOKUP(E9297,Sheet2!A:H,3,FALSE))","v":""},null,{"$f":"IF(OR(E9297=\"\",ISBLANK(E9297)),\"\",VLOOKUP(E9297,Sheet2!A:G,6,FALSE))","v":""},""]
[{"$f":"IF(OR(E9330=\"\",ISBLANK(E9330)),\"\",VLOOKUP(E9330,Sheet2!A:F,2,FALSE))","v":""},{"$f":"IF(OR(E9330=\"\",ISBLANK(E9330)),\"\",VLOOKUP(E9330,Sheet2!A:G,4,FALSE))","v":""},"",{"$f":"IF(OR(E9330=\"\",ISBLANK(E9330)),\"\",VLOOKUP(E9330,Sheet2!A:H,3,FALSE))","v":""},null,{"$f":"IF(OR(E9330=\"\",ISBLANK(E9330)),\"\",VLOOKUP(E9330,Sheet2!A:G,6,FALSE))","v":""},""]
[{"$f":"IF(OR(E9341=\"\",ISBLANK(E9341)),\"\",VLOOKUP(E9341,Sheet2!A:F,2,FALSE))","v":""},{"$f":"IF(OR(E9341=\"\",ISBLANK(E9341)),\"\",VLOOKUP(E9341,Sheet2!A:G,4,FALSE))","v":""},"",{"$f":"IF(OR(E9341=\"\",ISBLANK(E9341)),\"\",VLOOKUP(E9341,Sheet2!A:H,3,FALSE))","v":""},null,{"$f":"IF(OR(E9341=\"\",ISBLANK(E9341)),\"\",VLOOKUP(E9341,Sheet2!A:G,6,FALSE))","v":""},""]
[{"$f":"IF(OR(E9389=\"\",ISBLANK(E9389)),\"\",VLOOKUP(E9389,Sheet2!A:F,2,FALSE))","v":""},{"$f":"IF(OR(E9389=\"\",ISBLANK(E9389)),\"\",VLOOKUP(E9389,Sheet2!A:G,4,FALSE))","v":""},"",{"$f":"IF(OR(E9389=\"\",ISBLANK(E9389)),\"\",VLOOKUP(E9389,Sheet2!A:H,3,FALSE))","v":""},null,{"$f":"IF(OR(E9389=\"\",ISBLANK(E9389)),\"\",VLOOKUP(E9389,Sheet2!A:G,6,FALSE))","v":""},""]
[{"$f":"IF(OR(E9391=\"\",ISBLANK(E9391)),\"\",VLOOKUP(E9391,Sheet2!A:F,2,FALSE))","v":""},{"$f":"IF(OR(E9391=\"\",ISBLANK(E9391)),\"\",VLOOKUP(E9391,Sheet2!A:G,4,FALSE))","v":""},"",{"$f":"IF(OR(E9391=\"\",ISBLANK(E9391)),\"\",VLOOKUP(E9391,Sheet2!A:H,3,FALSE))","v":""},null,{"$f":"IF(OR(E9391=\"\",ISBLANK(E9391)),\"\",VLOOKUP(E9391,Sheet2!A:G,6,FALSE))","v":""},""]
[{"$f":"IF(OR(E9424=\"\",ISBLANK(E9424)),\"\",VLOOKUP(E9424,Sheet2!A:F,2,FALSE))","v":""},{"$f":"IF(OR(E9424=\"\",ISBLANK(E9424)),\"\",VLOOKUP(E9424,Sheet2!A:G,4,FALSE))","v":""},"",{"$f":"IF(OR(E9424=\"\",ISBLANK(E9424)),\"\",VLOOKUP(E9424,Sheet2!A:H,3,FALSE))","v":""},null,{"$f":"IF(OR(E9424=\"\",ISBLANK(E9424)),\"\",VLOOKUP(E9424,Sheet2!A:G,6,FALSE))","v":""},""]
[{"$f":"IF(OR(E9457=\"\",ISBLANK(E9457)),\"\",VLOOKUP(E9457,Sheet2!A:F,2,FALSE))","v":""},{"$f":"IF(OR(E9457=\"\",ISBLANK(E9457)),\"\",VLOOKUP(E9457,Sheet2!A:G,4,FALSE))","v":""},"",{"$f":"IF(OR(E9457=\"\",ISBLANK(E9457)),\"\",VLOOKUP(E9457,Sheet2!A:H,3,FALSE))","v":""},null,{"$f":"IF(OR(E9457=\"\",ISBLANK(E9457)),\"\",VLOOKUP(E9457,Sheet2!A:G,6,FALSE))","v":""},""]
[{"$f":"IF(OR(E9480=\"\",ISBLANK(E9480)),\"\",VLOOKUP(E9480,Sheet2!A:F,2,FALSE))","v":""},{"$f":"IF(OR(E9480=\"\",ISBLANK(E9480)),\"\",VLOOKUP(E9480,Sheet2!A:G,4,FALSE))","v":""},"",{"$f":"IF(OR(E9480=\"\",ISBLANK(E9480)),\"\",VLOOKUP(E9480,Sheet2!A:H,3,FALSE))","v":""},null,{"$f":"IF(OR(E9480=\"\",ISBLANK(E9480)),\"\",VLOOKUP(E9480,Sheet2!A:G,6,FALSE))","v":""},""]
[{"$f":"IF(OR(E9492=\"\",ISBLANK(E9492)),\"\",VLOOKUP(E9492,Sheet2!A:F,2,FALSE))","v":""},{"$f":"IF(OR(E9492=\"\",ISBLANK(E9492)),\"\",VLOOKUP(E9492,Sheet2!A:G,4,FALSE))","v":""},"",{"$f":"IF(OR(E9492=\"\",ISBLANK(E9492)),\"\",VLOOKUP(E9492,Sheet2!A:H,3,FALSE))","v":""},null,{"$f":"IF(OR(E9492=\"\",ISBLANK(E9492)),\"\",VLOOKUP(E9492,Sheet2!A:G,6,FALSE))","v":""},""]
[{"$f":"IF(OR(E9530=\"\",ISBLANK(E9530)),\"\",VLOOKUP(E9530,Sheet2!A:F,2,FALSE))","v":""},{"$f":"IF(OR(E9530=\"\",ISBLANK(E9530)),\"\",VLOOKUP(E9530,Sheet2!A:G,4,FALSE))","v":""},"",{"$f":"IF(OR(E9530=\"\",ISBLANK(E9530)),\"\",VLOOKUP(E9530,Sheet2!A:H,3,FALSE))","v":""},null,{"$f":"IF(OR(E9530=\"\",ISBLANK(E9530)),\"\",VLOOKUP(E9530,Sheet2!A:G,6,FALSE))","v":""},""]
[{"$f":"IF(OR(E9551=\"\",ISBLANK(E9551)),\"\",VLOOKUP(E9551,Sheet2!A:F,2,FALSE))","v":""},{"$f":"IF(OR(E9551=\"\",ISBLANK(E9551)),\"\",VLOOKUP(E9551,Sheet2!A:G,4,FALSE))","v":""},"",{"$f":"IF(OR(E9551=\"\",ISBLANK(E9551)),\"\",VLOOKUP(E9551,Sheet2!A:H,3,FALSE))","v":""},null,{"$f":"IF(OR(E9551=\"\",ISBLANK(E9551)),\"\",VLOOKUP(E9551,Sheet2!A:G,6,FALSE))","v":""},""]
[{"$f":"IF(OR(E9584=\"\",ISBLANK(E9584)),\"\",VLOOKUP(E9584,Sheet2!A:F,2,FALSE))","v":""},{"$f":"IF(OR(E9584=\"\",ISBLANK(E9584)),\"\",VLOOKUP(E9584,Sheet2!A:G,4,FALSE))","v":""},"",{"$f":"IF(OR(E9584=\"\",ISBLANK(E9584)),\"\",VLOOKUP(E9584,Sheet2!A:H,3,FALSE))","v":""},null,{"$f":"IF(OR(E9584=\"\",ISBLANK(E9584)),\"\",VLOOKUP(E9584,Sheet2!A:G,6,FALSE))","v":""},""]
[{"$f":"IF(OR(E9594=\"\",ISBLANK(E9594)),\"\",VLOOKUP(E9594,Sheet2!A:F,2,FALSE))","v":""},{"$f":"IF(OR(E9594=\"\",ISBLANK(E9594)),\"\",VLOOKUP(E9594,Sheet2!A:G,4,FALSE))","v":""},"",{"$f":"IF(OR(E9594=\"\",ISBLANK(E9594)),\"\",VLOOKUP(E9594,Sheet2!A:H,3,FALSE))","v":""},null,{"$f":"IF(OR(E9594=\"\",ISBLANK(E9594)),\"\",VLOOKUP(E9594,Sheet2!A:G,6,FALSE))","v":""},""]
[{"$f":"IF(OR(E9619=\"\",ISBLANK(E9619)),\"\",VLOOKUP(E9619,Sheet2!A:F,2,FALSE))","v":""},{"$f":"IF(OR(E9619=\"\",ISBLANK(E9619)),\"\",VLOOKUP(E9619,Sheet2!A:G,4,FALSE))","v":""},"",{"$f":"IF(OR(E9619=\"\",ISBLANK(E9619)),\"\",VLOOKUP(E9619,Sheet2!A:H,3,FALSE))","v":""},null,{"$f":"IF(OR(E9619=\"\",ISBLANK(E9619)),\"\",VLOOKUP(E9619,Sheet2!A:G,6,FALSE))","v":""},""]
[{"$f":"IF(OR(E9652=\"\",ISBLANK(E9652)),\"\",VLOOKUP(E9652,Sheet2!A:F,2,FALSE))","v":""},{"$f":"IF(OR(E9652=\"\",ISBLANK(E9652)),\"\",VLOOKUP(E9652,Sheet2!A:G,4,FALSE))","v":""},"",{"$f":"IF(OR(E9652=\"\",ISBLANK(E9652)),\"\",VLOOKUP(E9652,Sheet2!A:H,3,FALSE))","v":""},null,{"$f":"IF(OR(E9652=\"\",ISBLANK(E9652)),\"\",VLOOKUP(E9652,Sheet2!A:G,6,FALSE))","v":""},""]
[{"$f":"IF(OR(E9658=\"\",ISBLANK(E9658)),\"\",VLOOKUP(E9658,Sheet2!A:F,2,FALSE))","v":""},{"$f":"IF(OR(E9658=\"\",ISBLANK(E9658)),\"\",VLOOKUP(E9658,Sheet2!A:G,4,FALSE))","v":""},"",{"$f":"IF(OR(E9658=\"\",ISBLANK(E9658)),\"\",VLOOKUP(E9658,Sheet2!A:H,3,FALSE))","v":""},null,{"$f":"IF(OR(E9658=\"\",ISBLANK(E9658)),\"\",VLOOKUP(E9658,Sheet2!A:G,6,FALSE))","v":""},""]
[{"$f":"IF(OR(E9687=\"\",ISBLANK(E9687)),\"\",VLOOKUP(E9687,Sheet2!A:F,2,FALSE))","v":""},{"$f":"IF(OR(E9687=\"\",ISBLANK(E9687)),\"\",VLOOKUP(E9687,Sheet2!A:G,4,FALSE))","v":""},"",{"$f":"IF(OR(E9687=\"\",ISBLANK(E9687)),\"\",VLOOKUP(E9687,Sheet2!A:H,3,FALSE))","v":""},null,{"$f":"IF(OR(E9687=\"\",ISBLANK(E9687)),\"\",VLOOKUP(E9687,Sheet2!A:G,6,FALSE))","v":""},""]
[{"$f":"IF(OR(E9708=\"\",ISBLANK(E9708)),\"\",VLOOKUP(E9708,Sheet2!A:F,2,FALSE))","v":""},{"$f":"IF(OR(E9708=\"\",ISBLANK(E9708)),\"\",VLOOKUP(E9708,Sheet2!A:G,4,FALSE))","v":""},"",{"$f":"IF(OR(E9708=\"\",ISBLANK(E9708)),\"\",VLOOKUP(E9708,Sheet2!A:H,3,FALSE))","v":""},null,{"$f":"IF(OR(E9708=\"\",ISBLANK(E9708)),\"\",VLOOKUP(E9708,Sheet2!A:G,6,FALSE))","v":""},""]
[{"$f":"IF(OR(E9746=\"\",ISBLANK(E9746)),\"\",VLOOKUP(E9746,Sheet2!A:F,2,FALSE))","v":""},{"$f":"IF(OR(E9746=\"\",ISBLANK(E9746)),\"\",VLOOKUP(E9746,Sheet2!A:G,4,FALSE))","v":""},"",{"$f":"IF(OR(E9746=\"\",ISBLANK(E9746)),\"\",VLOOKUP(E9746,Sheet2!A:H,3,FALSE))","v":""},null,{"$f":"IF(OR(E9746=\"\",ISBLANK(E9746)),\"\",VLOOKUP(E9746,Sheet2!A:G,6,FALSE))","v":""},""]
[{"$f":"IF(OR(E9779=\"\",ISBLANK(E9779)),\"\",VLOOKUP(E9779,Sheet2!A:F,2,FALSE))","v":""},{"$f":"IF(OR(E9779=\"\",ISBLANK(E9779)),\"\",VLOOKUP(E9779,Sheet2!A:G,4,FALSE))","v":""},"",{"$f":"IF(OR(E9779=\"\",ISBLANK(E9779)),\"\",VLOOKUP(E9779,Sheet2!A:H,3,FALSE))","v":""},null,{"$f":"IF(OR(E9779=\"\",ISBLANK(E9779)),\"\",VLOOKUP(E9779,Sheet2!A:G,6,FALSE))","v":""},""]
[{"$f":"IF(OR(E9797=\"\",ISBLANK(E9797)),\"\",VLOOKUP(E9797,Sheet2!A:F,2,FALSE))","v":""},{"$f":"IF(OR(E9797=\"\",ISBLANK(E9797)),\"\",VLOOKUP(E9797,Sheet2!A:G,4,FALSE))","v":""},"",{"$f":"IF(OR(E9797=\"\",ISBLANK(E9797)),\"\",VLOOKUP(E9797,Sheet2!A:H,3,FALSE))","v":""},null,{"$f":"IF(OR(E9797=\"\",ISBLANK(E9797)),\"\",VLOOKUP(E9797,Sheet2!A:G,6,FALSE))","v":""},""]
[{"$f":"IF(OR(E9814=\"\",ISBLANK(E9814)),\"\",VLOOKUP(E9814,Sheet2!A:F,2,FALSE))","v":""},{"$f":"IF(OR(E9814=\"\",ISBLANK(E9814)),\"\",VLOOKUP(E9814,Sheet2!A:G,4,FALSE))","v":""},"",{"$f":"IF(OR(E9814=\"\",ISBLANK(E9814)),\"\",VLOOKUP(E9814,Sheet2!A:H,3,FALSE))","v":""},null,{"$f":"IF(OR(E9814=\"\",ISBLANK(E9814)),\"\",VLOOKUP(E9814,Sheet2!A:G,6,FALSE))","v":""},""]
[{"$f":"IF(OR(E9847=\"\",ISBLANK(E9847)),\"\",VLOOKUP(E9847,Sheet2!A:F,2,FALSE))","v":""},{"$f":"IF(OR(E9847=\"\",ISBLANK(E9847)),\"\",VLOOKUP(E9847,Sheet2!A:G,4,FALSE))","v":""},"",{"$f":"IF(OR(E9847=\"\",ISBLANK(E9847)),\"\",VLOOKUP(E9847,Sheet2!A:H,3,FALSE))","v":""},null,{"$f":"IF(OR(E9847=\"\",ISBLANK(E9847)),\"\",VLOOKUP(E9847,Sheet2!A:G,6,FALSE))","v":""},""]
[{"$f":"IF(OR(E9857=\"\",ISBLANK(E9857)),\"\",VLOOKUP(E9857,Sheet2!A:F,2,FALSE))","v":""},{"$f":"IF(OR(E9857=\"\",ISBLANK(E9857)),\"\",VLOOKUP(E9857,Sheet2!A:G,4,FALSE))","v":""},"",{"$f":"IF(OR(E9857=\"\",ISBLANK(E9857)),\"\",VLOOKUP(E9857,Sheet2!A:H,3,FALSE))","v":""},null,{"$f":"IF(OR(E9857=\"\",ISBLANK(E9857)),\"\",VLOOKUP(E9857,Sheet2!A:G,6,FALSE))","v":""},""]
[{"$f":"IF(OR(E9882=\"\",ISBLANK(E9882)),\"\",VLOOKUP(E9882,Sheet2!A:F,2,FALSE))","v":""},{"$f":"IF(OR(E9882=\"\",ISBLANK(E9882)),\"\",VLOOKUP(E9882,Sheet2!A:G,4,FALSE))","v":""},"",{"$f":"IF(OR(E9882=\"\",ISBLANK(E9882)),\"\",VLOOKUP(E9882,Sheet2!A:H,3,FALSE))","v":""},null,{"$f":"IF(OR(E9882=\"\",ISBLANK(E9882)),\"\",VLOOKUP(E9882,Sheet2!A:G,6,FALSE))","v":""},""]
[{"$f":"IF(OR(E9911=\"\",ISBLANK(E9911)),\"\",VLOOKUP(E9911,Sheet2!A:F,2,FALSE))","v":""},{"$f":"IF(OR(E9911=\"\",ISBLANK(E9911)),\"\",VLOOKUP(E9911,Sheet2!A:G,4,FALSE))","v":""},"",{"$f":"IF(OR(E9911=\"\",ISBLANK(E9911)),\"\",VLOOKUP(E9911,Sheet2!A:H,3,FALSE))","v":""},null,{"$f":"IF(OR(E9911=\"\",ISBLANK(E9911)),\"\",VLOOKUP(E9911,Sheet2!A:G,6,FALSE))","v":""},""]
[{"$f":"IF(OR(E9941=\"\",ISBLANK(E9941)),\"\",VLOOKUP(E9941,Sheet2!A:F,2,FALSE))","v":""},{"$f":"IF(OR(E9941=\"\",ISBLANK(E9941)),\"\",VLOOKUP(E9941,Sheet2!A:G,4,FALSE))","v":""},"",{"$f":"IF(OR(E9941=\"\",ISBLANK(E9941)),\"\",VLOOKUP(E9941,Sheet2!A:H,3,FALSE))","v":""},null,{"$f":"IF(OR(E9941=\"\",ISBLANK(E9941)),\"\",VLOOKUP(E9941,Sheet2!A:G,6,FALSE))","v":""},""]
[{"$f":"IF(OR(E9961=\"\",ISBLANK(E9961)),\"\",VLOOKUP(E9961,Sheet2!A:F,2,FALSE))","v":""},{"$f":"IF(OR(E9961=\"\",ISBLANK(E9961)),\"\",VLOOKUP(E9961,Sheet2!A:G,4,FALSE))","v":""},"",{"$f":"IF(OR(E9961=\"\",ISBLANK(E9961)),\"\",VLOOKUP(E9961,Sheet2!A:H,3,FALSE))","v":""},null,{"$f":"IF(OR(E9961=\"\",ISBLANK(E9961)),\"\",VLOOKUP(E9961,Sheet2!A:G,6,FALSE))","v":""},""]
[{"$f":"IF(OR(E9984=\"\",ISBLANK(E9984)),\"\",VLOOKUP(E9984,Sheet2!A:F,2,FALSE))","v":""},{"$f":"IF(OR(E9984=\"\",ISBLANK(E9984)),\"\",VLOOKUP(E9984,Sheet2!A:G,4,FALSE))","v":""},"",{"$f":"IF(OR(E9984=\"\",ISBLANK(E9984)),\"\",VLOOKUP(E9984,Sheet2!A:H,3,FALSE))","v":""},null,{"$f":"IF(OR(E9984=\"\",ISBLANK(E9984)),\"\",VLOOKUP(E9984,Sheet2!A:G,6,FALSE))","v":""},""]
[{"$f":"IF(OR(E10009=\"\",ISBLANK(E10009)),\"\",VLOOKUP(E10009,Sheet2!A:F,2,FALSE))","v":""},{"$f":"IF(OR(E10009=\"\",ISBLANK(E10009)),\"\",VLOOKUP(E10009,Sheet2!A:G,4,FALSE))","v":""},"",{"$f":"IF(OR(E10009=\"\",ISBLANK(E10009)),\"\",VLOOKUP(E10009,Sheet2!A:H,3,FALSE))","v":""},null,{"$f":"IF(OR(E10009=\"\",ISBLANK(E10009)),\"\",VLOOKUP(E10009,Sheet2!A:G,6,FALSE))","v":""},""]
[{"$f":"IF(OR(E10025=\"\",ISBLANK(E10025)),\"\",VLOOKUP(E10025,Sheet2!A:F,2,FALSE))","v":""},{"$f":"IF(OR(E10025=\"\",ISBLANK(E10025)),\"\",VLOOKUP(E10025,Sheet2!A:G,4,FALSE))","v":""},"",{"$f":"IF(OR(E10025=\"\",ISBLANK(E10025)),\"\",VLOOKUP(E10025,Sheet2!A:H,3,FALSE))","v":""},null,{"$f":"IF(OR(E10025=\"\",ISBLANK(E10025)),\"\",VLOOKUP(E10025,Sheet2!A:G,6,FALSE))","v":""},""]
[{"$f":"IF(OR(E10068=\"\",ISBLANK(E10068)),\"\",VLOOKUP(E10068,Sheet2!A:F,2,FALSE))","v":""},{"$f":"IF(OR(E10068=\"\",ISBLANK(E10068)),\"\",VLOOKUP(E10068,Sheet2!A:G,4,FALSE))","v":""},"",{"$f":"IF(OR(E10068=\"\",ISBLANK(E10068)),\"\",VLOOKUP(E10068,Sheet2!A:H,3,FALSE))","v":""},null,{"$f":"IF(OR(E10068=\"\",ISBLANK(E10068)),\"\",VLOOKUP(E10068,Sheet2!A:G,6,FALSE))","v":""},""]
[{"$f":"IF(OR(E10077=\"\",ISBLANK(E10077)),\"\",VLOOKUP(E10077,Sheet2!A:F,2,FALSE))","v":""},{"$f":"IF(OR(E10077=\"\",ISBLANK(E10077)),\"\",VLOOKUP(E10077,Sheet2!A:G,4,FALSE))","v":""},"",{"$f":"IF(OR(E10077=\"\",ISBLANK(E10077)),\"\",VLOOKUP(E10077,Sheet2!A:H,3,FALSE))","v":""},null,{"$f":"IF(OR(E10077=\"\",ISBLANK(E10077)),\"\",VLOOKUP(E10077,Sheet2!A:G,6,FALSE))","v":""},""]
[{"$f":"IF(OR(E10114=\"\",ISBLANK(E10114)),\"\",VLOOKUP(E10114,Sheet2!A:F,2,FALSE))","v":""},{"$f":"IF(OR(E10114=\"\",ISBLANK(E10114)),\"\",VLOOKUP(E10114,Sheet2!A:G,4,FALSE))","v":""},"",{"$f":"IF(OR(E10114=\"\",ISBLANK(E10114)),\"\",VLOOKUP(E10114,Sheet2!A:H,3,FALSE))","v":""},null,{"$f":"IF(OR(E10114=\"\",ISBLANK(E10114)),\"\",VLOOKUP(E10114,Sheet2!A:G,6,FALSE))","v":""},""]
[{"$f":"IF(OR(E10136=\"\",ISBLANK(E10136)),\"\",VLOOKUP(E10136,Sheet2!A:F,2,FALSE))","v":""},{"$f":"IF(OR(E10136=\"\",ISBLANK(E10136)),\"\",VLOOKUP(E10136,Sheet2!A:G,4,FALSE))","v":""},"",{"$f":"IF(OR(E10136=\"\",ISBLANK(E10136)),\"\",VLOOKUP(E10136,Sheet2!A:H,3,FALSE))","v":""},null,{"$f":"IF(OR(E10136=\"\",ISBLANK(E10136)),\"\",VLOOKUP(E10136,Sheet2!A:G,6,FALSE))","v":""},""]
[{"$f":"IF(OR(E10164=\"\",ISBLANK(E10164)),\"\",VLOOKUP(E10164,Sheet2!A:F,2,FALSE))","v":""},{"$f":"IF(OR(E10164=\"\",ISBLANK(E10164)),\"\",VLOOKUP(E10164,Sheet2!A:G,4,FALSE))","v":""},"",{"$f":"IF(OR(E10164=\"\",ISBLANK(E10164)),\"\",VLOOKUP(E10164,Sheet2!A:H,3,FALSE))","v":""},null,{"$f":"IF(OR(E10164=\"\",ISBLANK(E10164)),\"\",VLOOKUP(E10164,Sheet2!A:G,6,FALSE))","v":""},""]
[{"$f":"IF(OR(E10179=\"\",ISBLANK(E10179)),\"\",VLOOKUP(E10179,Sheet2!A:F,2,FALSE))","v":""},{"$f":"IF(OR(E10179=\"\",ISBLANK(E10179)),\"\",VLOOKUP(E10179,Sheet2!A:G,4,FALSE))","v":""},{"$f":"IF(D10179=0,\"\",D10179)","v":""},{"$f":"IF(OR(E10179=\"\",ISBLANK(E10179)),\"\",VLOOKUP(E10179,Sheet2!A:H,3,FALSE))","v":""},null,{"$f":"IF(OR(E10179=\"\",ISBLANK(E10179)),\"\",VLOOKUP(E10179,Sheet2!A:G,6,FALSE))","v":""},{"$f":"IF(F10179=0,\"\",F10179)","v":""}]
[{"$f":"IF(OR(E10204=\"\",ISBLANK(E10204)),\"\",VLOOKUP(E10204,Sheet2!A:F,2,FALSE))","v":""},{"$f":"IF(OR(E10204=\"\",ISBLANK(E10204)),\"\",VLOOKUP(E10204,Sheet2!A:G,4,FALSE))","v":""},"",{"$f":"IF(OR(E10204=\"\",ISBLANK(E10204)),\"\",VLOOKUP(E10204,Sheet2!A:H,3,FALSE))","v":""},null,{"$f":"IF(OR(E10204=\"\",ISBLANK(E10204)),\"\",VLOOKUP(E10204,Sheet2!A:G,6,FALSE))","v":""},""]
[{"$f":"IF(OR(E10228=\"\",ISBLANK(E10228)),\"\",VLOOKUP(E10228,Sheet2!A:F,2,FALSE))","v":""},{"$f":"IF(OR(E10228=\"\",ISBLANK(E10228)),\"\",VLOOKUP(E10228,Sheet2!A:G,4,FALSE))","v":""},"",{"$f":"IF(OR(E10228=\"\",ISBLANK(E10228)),\"\",VLOOKUP(E10228,Sheet2!A:H,3,FALSE))","v":""},null,{"$f":"IF(OR(E10228=\"\",ISBLANK(E10228)),\"\",VLOOKUP(E10228,Sheet2!A:G,6,FALSE))","v":""},""]
[{"$f":"IF(OR(E10263=\"\",ISBLANK(E10263)),\"\",VLOOKUP(E10263,Sheet2!A:F,2,FALSE))","v":""},{"$f":"IF(OR(E10263=\"\",ISBLANK(E10263)),\"\",VLOOKUP(E10263,Sheet2!A:G,4,FALSE))","v":""},"",{"$f":"IF(OR(E10263=\"\",ISBLANK(E10263)),\"\",VLOOKUP(E10263,Sheet2!A:H,3,FALSE))","v":""},null,{"$f":"IF(OR(E10263=\"\",ISBLANK(E10263)),\"\",VLOOKUP(E10263,Sheet2!A:G,6,FALSE))","v":""},""]
[{"$f":"IF(OR(E10278=\"\",ISBLANK(E10278)),\"\",VLOOKUP(E10278,Sheet2!A:F,2,FALSE))","v":""},{"$f":"IF(OR(E10278=\"\",ISBLANK(E10278)),\"\",VLOOKUP(E10278,Sheet2!A:G,4,FALSE))","v":""},"",{"$f":"IF(OR(E10278=\"\",ISBLANK(E10278)),\"\",VLOOKUP(E10278,Sheet2!A:H,3,FALSE))","v":""},null,{"$f":"IF(OR(E10278=\"\",ISBLANK(E10278)),\"\",VLOOKUP(E10278,Sheet2!A:G,6,FALSE))","v":""},""]
[{"$f":"IF(OR(E10306=\"\",ISBLANK(E10306)),\"\",VLOOKUP(E10306,Sheet2!A:F,2,FALSE))","v":""},{"$f":"IF(OR(E10306=\"\",ISBLANK(E10306)),\"\",VLOOKUP(E10306,Sheet2!A:G,4,FALSE))","v":""},"",{"$f":"IF(OR(E10306=\"\",ISBLANK(E10306)),\"\",VLOOKUP(E10306,Sheet2!A:H,3,FALSE))","v":""},null,{"$f":"IF(OR(E10306=\"\",ISBLANK(E10306)),\"\",VLOOKUP(E10306,Sheet2!A:G,6,FALSE))","v":""},""]
[{"$f":"IF(OR(E10331=\"\",ISBLANK(E10331)),\"\",VLOOKUP(E10331,Sheet2!A:F,2,FALSE))","v":""},{"$f":"IF(OR(E10331=\"\",ISBLANK(E10331)),\"\",VLOOKUP(E10331,Sheet2!A:G,4,FALSE))","v":""},"",{"$f":"IF(OR(E10331=\"\",ISBLANK(E10331)),\"\",VLOOKUP(E10331,Sheet2!A:H,3,FALSE))","v":""},null,{"$f":"IF(OR(E10331=\"\",ISBLANK(E10331)),\"\",VLOOKUP(E10331,Sheet2!A:G,6,FALSE))","v":""},""]
[{"$f":"IF(OR(E10342=\"\",ISBLANK(E10342)),\"\",VLOOKUP(E10342,Sheet2!A:F,2,FALSE))","v":""},{"$f":"IF(OR(E10342=\"\",ISBLANK(E10342)),\"\",VLOOKUP(E10342,Sheet2!A:G,4,FALSE))","v":""},"",{"$f":"IF(OR(E10342=\"\",ISBLANK(E10342)),\"\",VLOOKUP(E10342,Sheet2!A:H,3,FALSE))","v":""},null,{"$f":"IF(OR(E10342=\"\",ISBLANK(E10342)),\"\",VLOOKUP(E10342,Sheet2!A:G,6,FALSE))","v":""},""]
[{"$f":"IF(OR(E10366=\"\",ISBLANK(E10366)),\"\",VLOOKUP(E10366,Sheet2!A:F,2,FALSE))","v":""},{"$f":"IF(OR(E10366=\"\",ISBLANK(E10366)),\"\",VLOOKUP(E10366,Sheet2!A:G,4,FALSE))","v":""},"",{"$f":"IF(OR(E10366=\"\",ISBLANK(E10366)),\"\",VLOOKUP(E10366,Sheet2!A:H,3,FALSE))","v":""},null,{"$f":"IF(OR(E10366=\"\",ISBLANK(E10366)),\"\",VLOOKUP(E10366,Sheet2!A:G,6,FALSE))","v":""},""]
[{"$f":"IF(OR(E10392=\"\",ISBLANK(E10392)),\"\",VLOOKUP(E10392,Sheet2!A:F,2,FALSE))","v":""},{"$f":"IF(OR(E10392=\"\",ISBLANK(E10392)),\"\",VLOOKUP(E10392,Sheet2!A:G,4,FALSE))","v":""},"",{"$f":"IF(OR(E10392=\"\",ISBLANK(E10392)),\"\",VLOOKUP(E10392,Sheet2!A:H,3,FALSE))","v":""},null,{"$f":"IF(OR(E10392=\"\",ISBLANK(E10392)),\"\",VLOOKUP(E10392,Sheet2!A:G,6,FALSE))","v":""},""]
[{"$f":"IF(OR(E10433=\"\",ISBLANK(E10433)),\"\",VLOOKUP(E10433,Sheet2!A:F,2,FALSE))","v":""},{"$f":"IF(OR(E10433=\"\",ISBLANK(E10433)),\"\",VLOOKUP(E10433,Sheet2!A:G,4,FALSE))","v":""},"",{"$f":"IF(OR(E10433=\"\",ISBLANK(E10433)),\"\",VLOOKUP(E10433,Sheet2!A:H,3,FALSE))","v":""},null,{"$f":"IF(OR(E10433=\"\",ISBLANK(E10433)),\"\",VLOOKUP(E10433,Sheet2!A:G,6,FALSE))","v":""},""]
[{"$f":"IF(OR(E10458=\"\",ISBLANK(E10458)),\"\",VLOOKUP(E10458,Sheet2!A:F,2,FALSE))","v":""},{"$f":"IF(OR(E10458=\"\",ISBLANK(E10458)),\"\",VLOOKUP(E10458,Sheet2!A:G,4,FALSE))","v":""},"",{"$f":"IF(OR(E10458=\"\",ISBLANK(E10458)),\"\",VLOOKUP(E10458,Sheet2!A:H,3,FALSE))","v":""},null,{"$f":"IF(OR(E10458=\"\",ISBLANK(E10458)),\"\",VLOOKUP(E10458,Sheet2!A:G,6,FALSE))","v":""},""]
[{"$f":"IF(OR(E10481=\"\",ISBLANK(E10481)),\"\",VLOOKUP(E10481,Sheet2!A:F,2,FALSE))","v":""},{"$f":"IF(OR(E10481=\"\",ISBLANK(E10481)),\"\",VLOOKUP(E10481,Sheet2!A:G,4,FALSE))","v":""},"",{"$f":"IF(OR(E10481=\"\",ISBLANK(E10481)),\"\",VLOOKUP(E10481,Sheet2!A:H,3,FALSE))","v":""},null,{"$f":"IF(OR(E10481=\"\",ISBLANK(E10481)),\"\",VLOOKUP(E10481,Sheet2!A:G,6,FALSE))","v":""},""]
[{"$f":"IF(OR(E10501=\"\",ISBLANK(E10501)),\"\",VLOOKUP(E10501,Sheet2!A:F,2,FALSE))","v":""},{"$f":"IF(OR(E10501=\"\",ISBLANK(E10501)),\"\",VLOOKUP(E10501,Sheet2!A:G,4,FALSE))","v":""},"",{"$f":"IF(OR(E10501=\"\",ISBLANK(E10501)),\"\",VLOOKUP(E10501,Sheet2!A:H,3,FALSE))","v":""},null,{"$f":"IF(OR(E10501=\"\",ISBLANK(E10501)),\"\",VLOOKUP(E10501,Sheet2!A:G,6,FALSE))","v":""},""]
[{"$f":"IF(OR(E10526=\"\",ISBLANK(E10526)),\"\",VLOOKUP(E10526,Sheet2!A:F,2,FALSE))","v":""},{"$f":"IF(OR(E10526=\"\",ISBLANK(E10526)),\"\",VLOOKUP(E10526,Sheet2!A:G,4,FALSE))","v":""},"",{"$f":"IF(OR(E10526=\"\",ISBLANK(E10526)),\"\",VLOOKUP(E10526,Sheet2!A:H,3,FALSE))","v":""},null,{"$f":"IF(OR(E10526=\"\",ISBLANK(E10526)),\"\",VLOOKUP(E10526,Sheet2!A:G,6,FALSE))","v":""},""]
[{"$f":"IF(OR(E10545=\"\",ISBLANK(E10545)),\"\",VLOOKUP(E10545,Sheet2!A:F,2,FALSE))","v":""},{"$f":"IF(OR(E10545=\"\",ISBLANK(E10545)),\"\",VLOOKUP(E10545,Sheet2!A:G,4,FALSE))","v":""},"",{"$f":"IF(OR(E10545=\"\",ISBLANK(E10545)),\"\",VLOOKUP(E10545,Sheet2!A:H,3,FALSE))","v":""},null,{"$f":"IF(OR(E10545=\"\",ISBLANK(E10545)),\"\",VLOOKUP(E10545,Sheet2!A:G,6,FALSE))","v":""},""]
[{"$f":"IF(OR(E10561=\"\",ISBLANK(E10561)),\"\",VLOOKUP(E10561,Sheet2!A:F,2,FALSE))","v":""},{"$f":"IF(OR(E10561=\"\",ISBLANK(E10561)),\"\",VLOOKUP(E10561,Sheet2!A:G,4,FALSE))","v":""},"",{"$f":"IF(OR(E10561=\"\",ISBLANK(E10561)),\"\",VLOOKUP(E10561,Sheet2!A:H,3,FALSE))","v":""},null,{"$f":"IF(OR(E10561=\"\",ISBLANK(E10561)),\"\",VLOOKUP(E10561,Sheet2!A:G,6,FALSE))","v":""},""]
[{"$f":"IF(OR(E10595=\"\",ISBLANK(E10595)),\"\",VLOOKUP(E10595,Sheet2!A:F,2,FALSE))","v":""},{"$f":"IF(OR(E10595=\"\",ISBLANK(E10595)),\"\",VLOOKUP(E10595,Sheet2!A:G,4,FALSE))","v":""},"",{"$f":"IF(OR(E10595=\"\",ISBLANK(E10595)),\"\",VLOOKUP(E10595,Sheet2!A:H,3,FALSE))","v":""},null,{"$f":"IF(OR(E10595=\"\",ISBLANK(E10595)),\"\",VLOOKUP(E10595,Sheet2!A:G,6,FALSE))","v":""},""]
[{"$f":"IF(OR(E10628=\"\",ISBLANK(E10628)),\"\",VLOOKUP(E10628,Sheet2!A:F,2,FALSE))","v":""},{"$f":"IF(OR(E10628=\"\",ISBLANK(E10628)),\"\",VLOOKUP(E10628,Sheet2!A:G,4,FALSE))","v":""},"",{"$f":"IF(OR(E10628=\"\",ISBLANK(E10628)),\"\",VLOOKUP(E10628,Sheet2!A:H,3,FALSE))","v":""},null,{"$f":"IF(OR(E10628=\"\",ISBLANK(E10628)),\"\",VLOOKUP(E10628,Sheet2!A:G,6,FALSE))","v":""},""]
[{"$f":"IF(OR(E10653=\"\",ISBLANK(E10653)),\"\",VLOOKUP(E10653,Sheet2!A:F,2,FALSE))","v":""},{"$f":"IF(OR(E10653=\"\",ISBLANK(E10653)),\"\",VLOOKUP(E10653,Sheet2!A:G,4,FALSE))","v":""},"",{"$f":"IF(OR(E10653=\"\",ISBLANK(E10653)),\"\",VLOOKUP(E10653,Sheet2!A:H,3,FALSE))","v":""},null,{"$f":"IF(OR(E10653=\"\",ISBLANK(E10653)),\"\",VLOOKUP(E10653,Sheet2!A:G,6,FALSE))","v":""},""]
[{"$f":"IF(OR(E10659=\"\",ISBLANK(E10659)),\"\",VLOOKUP(E10659,Sheet2!A:F,2,FALSE))","v":""},{"$f":"IF(OR(E10659=\"\",ISBLANK(E10659)),\"\",VLOOKUP(E10659,Sheet2!A:G,4,FALSE))","v":""},"",{"$f":"IF(OR(E10659=\"\",ISBLANK(E10659)),\"\",VLOOKUP(E10659,Sheet2!A:H,3,FALSE))","v":""},null,{"$f":"IF(OR(E10659=\"\",ISBLANK(E10659)),\"\",VLOOKUP(E10659,Sheet2!A:G,6,FALSE))","v":""},""]
[{"$f":"IF(OR(E10696=\"\",ISBLANK(E10696)),\"\",VLOOKUP(E10696,Sheet2!A:F,2,FALSE))","v":""},{"$f":"IF(OR(E10696=\"\",ISBLANK(E10696)),\"\",VLOOKUP(E10696,Sheet2!A:G,4,FALSE))","v":""},"",{"$f":"IF(OR(E10696=\"\",ISBLANK(E10696)),\"\",VLOOKUP(E10696,Sheet2!A:H,3,FALSE))","v":""},null,{"$f":"IF(OR(E10696=\"\",ISBLANK(E10696)),\"\",VLOOKUP(E10696,Sheet2!A:G,6,FALSE))","v":""},""]
[{"$f":"IF(OR(E10709=\"\",ISBLANK(E10709)),\"\",VLOOKUP(E10709,Sheet2!A:F,2,FALSE))","v":""},{"$f":"IF(OR(E10709=\"\",ISBLANK(E10709)),\"\",VLOOKUP(E10709,Sheet2!A:G,4,FALSE))","v":""},"",{"$f":"IF(OR(E10709=\"\",ISBLANK(E10709)),\"\",VLOOKUP(E10709,Sheet2!A:H,3,FALSE))","v":""},null,{"$f":"IF(OR(E10709=\"\",ISBLANK(E10709)),\"\",VLOOKUP(E10709,Sheet2!A:G,6,FALSE))","v":""},""]
[{"$f":"IF(OR(E10755=\"\",ISBLANK(E10755)),\"\",VLOOKUP(E10755,Sheet2!A:F,2,FALSE))","v":""},{"$f":"IF(OR(E10755=\"\",ISBLANK(E10755)),\"\",VLOOKUP(E10755,Sheet2!A:G,4,FALSE))","v":""},{"$f":"IF(D10755=0,\"\",D10755)","v":""},{"$f":"IF(OR(E10755=\"\",ISBLANK(E10755)),\"\",VLOOKUP(E10755,Sheet2!A:H,3,FALSE))","v":""},null,{"$f":"IF(OR(E10755=\"\",ISBLANK(E10755)),\"\",VLOOKUP(E10755,Sheet2!A:G,6,FALSE))","v":""},{"$f":"IF(F10755=0,\"\",F10755)","v":""}]
[{"$f":"IF(OR(E10756=\"\",ISBLANK(E10756)),\"\",VLOOKUP(E10756,Sheet2!A:F,2,FALSE))","v":""},{"$f":"IF(OR(E10756=\"\",ISBLANK(E10756)),\"\",VLOOKUP(E10756,Sheet2!A:G,4,FALSE))","v":""},"",{"$f":"IF(OR(E10756=\"\",ISBLANK(E10756)),\"\",VLOOKUP(E10756,Sheet2!A:H,3,FALSE))","v":""},null,{"$f":"IF(OR(E10756=\"\",ISBLANK(E10756)),\"\",VLOOKUP(E10756,Sheet2!A:G,6,FALSE))","v":""},""]
[{"$f":"IF(OR(E10798=\"\",ISBLANK(E10798)),\"\",VLOOKUP(E10798,Sheet2!A:F,2,FALSE))","v":""},{"$f":"IF(OR(E10798=\"\",ISBLANK(E10798)),\"\",VLOOKUP(E10798,Sheet2!A:G,4,FALSE))","v":""},"",{"$f":"IF(OR(E10798=\"\",ISBLANK(E10798)),\"\",VLOOKUP(E10798,Sheet2!A:H,3,FALSE))","v":""},null,{"$f":"IF(OR(E10798=\"\",ISBLANK(E10798)),\"\",VLOOKUP(E10798,Sheet2!A:G,6,FALSE))","v":""},""]
[{"$f":"IF(OR(E10823=\"\",ISBLANK(E10823)),\"\",VLOOKUP(E10823,Sheet2!A:F,2,FALSE))","v":""},{"$f":"IF(OR(E10823=\"\",ISBLANK(E10823)),\"\",VLOOKUP(E10823,Sheet2!A:G,4,FALSE))","v":""},"",{"$f":"IF(OR(E10823=\"\",ISBLANK(E10823)),\"\",VLOOKUP(E10823,Sheet2!A:H,3,FALSE))","v":""},null,{"$f":"IF(OR(E10823=\"\",ISBLANK(E10823)),\"\",VLOOKUP(E10823,Sheet2!A:G,6,FALSE))","v":""},""]
[{"$f":"IF(OR(E10848=\"\",ISBLANK(E10848)),\"\",VLOOKUP(E10848,Sheet2!A:F,2,FALSE))","v":""},{"$f":"IF(OR(E10848=\"\",ISBLANK(E10848)),\"\",VLOOKUP(E10848,Sheet2!A:G,4,FALSE))","v":""},"",{"$f":"IF(OR(E10848=\"\",ISBLANK(E10848)),\"\",VLOOKUP(E10848,Sheet2!A:H,3,FALSE))","v":""},null,{"$f":"IF(OR(E10848=\"\",ISBLANK(E10848)),\"\",VLOOKUP(E10848,Sheet2!A:G,6,FALSE))","v":""},""]
[{"$f":"IF(OR(E10858=\"\",ISBLANK(E10858)),\"\",VLOOKUP(E10858,Sheet2!A:F,2,FALSE))","v":""},{"$f":"IF(OR(E10858=\"\",ISBLANK(E10858)),\"\",VLOOKUP(E10858,Sheet2!A:G,4,FALSE))","v":""},"",{"$f":"IF(OR(E10858=\"\",ISBLANK(E10858)),\"\",VLOOKUP(E10858,Sheet2!A:H,3,FALSE))","v":""},null,{"$f":"IF(OR(E10858=\"\",ISBLANK(E10858)),\"\",VLOOKUP(E10858,Sheet2!A:G,6,FALSE))","v":""},""]
[{"$f":"IF(OR(E10883=\"\",ISBLANK(E10883)),\"\",VLOOKUP(E10883,Sheet2!A:F,2,FALSE))","v":""},{"$f":"IF(OR(E10883=\"\",ISBLANK(E10883)),\"\",VLOOKUP(E10883,Sheet2!A:G,4,FALSE))","v":""},{"$f":"IF(D10883=0,\"\",D10883)","v":""},{"$f":"IF(OR(E10883=\"\",ISBLANK(E10883)),\"\",VLOOKUP(E10883,Sheet2!A:H,3,FALSE))","v":""},null,{"$f":"IF(OR(E10883=\"\",ISBLANK(E10883)),\"\",VLOOKUP(E10883,Sheet2!A:G,6,FALSE))","v":""},{"$f":"IF(F10883=0,\"\",F10883)","v":""}]
[{"$f":"IF(OR(E10912=\"\",ISBLANK(E10912)),\"\",VLOOKUP(E10912,Sheet2!A:F,2,FALSE))","v":""},{"$f":"IF(OR(E10912=\"\",ISBLANK(E10912)),\"\",VLOOKUP(E10912,Sheet2!A:G,4,FALSE))","v":""},"",{"$f":"IF(OR(E10912=\"\",ISBLANK(E10912)),\"\",VLOOKUP(E10912,Sheet2!A:H,3,FALSE))","v":""},null,{"$f":"IF(OR(E10912=\"\",ISBLANK(E10912)),\"\",VLOOKUP(E10912,Sheet2!A:G,6,FALSE))","v":""},""]
[{"$f":"IF(OR(E10950=\"\",ISBLANK(E10950)),\"\",VLOOKUP(E10950,Sheet2!A:F,2,FALSE))","v":""},{"$f":"IF(OR(E10950=\"\",ISBLANK(E10950)),\"\",VLOOKUP(E10950,Sheet2!A:G,4,FALSE))","v":""},"",{"$f":"IF(OR(E10950=\"\",ISBLANK(E10950)),\"\",VLOOKUP(E10950,Sheet2!A:H,3,FALSE))","v":""},null,{"$f":"IF(OR(E10950=\"\",ISBLANK(E10950)),\"\",VLOOKUP(E10950,Sheet2!A:G,6,FALSE))","v":""},""]
[{"$f":"IF(OR(E10951=\"\",ISBLANK(E10951)),\"\",VLOOKUP(E10951,Sheet2!A:F,2,FALSE))","v":""},{"$f":"IF(OR(E10951=\"\",ISBLANK(E10951)),\"\",VLOOKUP(E10951,Sheet2!A:G,4,FALSE))","v":""},"",{"$f":"IF(OR(E10951=\"\",ISBLANK(E10951)),\"\",VLOOKUP(E10951,Sheet2!A:H,3,FALSE))","v":""},null,{"$f":"IF(OR(E10951=\"\",ISBLANK(E10951)),\"\",VLOOKUP(E10951,Sheet2!A:G,6,FALSE))","v":""},""]
[{"$f":"IF(OR(E10976=\"\",ISBLANK(E10976)),\"\",VLOOKUP(E10976,Sheet2!A:F,2,FALSE))","v":""},{"$f":"IF(OR(E10976=\"\",ISBLANK(E10976)),\"\",VLOOKUP(E10976,Sheet2!A:G,4,FALSE))","v":""},"",{"$f":"IF(OR(E10976=\"\",ISBLANK(E10976)),\"\",VLOOKUP(E10976,Sheet2!A:H,3,FALSE))","v":""},null,{"$f":"IF(OR(E10976=\"\",ISBLANK(E10976)),\"\",VLOOKUP(E10976,Sheet2!A:G,6,FALSE))","v":""},""]
[{"$f":"IF(OR(E11018=\"\",ISBLANK(E11018)),\"\",VLOOKUP(E11018,Sheet2!A:F,2,FALSE))","v":""},{"$f":"IF(OR(E11018=\"\",ISBLANK(E11018)),\"\",VLOOKUP(E11018,Sheet2!A:G,4,FALSE))","v":""},"",{"$f":"IF(OR(E11018=\"\",ISBLANK(E11018)),\"\",VLOOKUP(E11018,Sheet2!A:H,3,FALSE))","v":""},null,{"$f":"IF(OR(E11018=\"\",ISBLANK(E11018)),\"\",VLOOKUP(E11018,Sheet2!A:G,6,FALSE))","v":""},""]
[{"$f":"IF(OR(E11026=\"\",ISBLANK(E11026)),\"\",VLOOKUP(E11026,Sheet2!A:F,2,FALSE))","v":""},{"$f":"IF(OR(E11026=\"\",ISBLANK(E11026)),\"\",VLOOKUP(E11026,Sheet2!A:G,4,FALSE))","v":""},"",{"$f":"IF(OR(E11026=\"\",ISBLANK(E11026)),\"\",VLOOKUP(E11026,Sheet2!A:H,3,FALSE))","v":""},null,{"$f":"IF(OR(E11026=\"\",ISBLANK(E11026)),\"\",VLOOKUP(E11026,Sheet2!A:G,6,FALSE))","v":""},""]
[{"$f":"IF(OR(E11053=\"\",ISBLANK(E11053)),\"\",VLOOKUP(E11053,Sheet2!A:F,2,FALSE))","v":""},{"$f":"IF(OR(E11053=\"\",ISBLANK(E11053)),\"\",VLOOKUP(E11053,Sheet2!A:G,4,FALSE))","v":""},"",{"$f":"IF(OR(E11053=\"\",ISBLANK(E11053)),\"\",VLOOKUP(E11053,Sheet2!A:H,3,FALSE))","v":""},null,{"$f":"IF(OR(E11053=\"\",ISBLANK(E11053)),\"\",VLOOKUP(E11053,Sheet2!A:G,6,FALSE))","v":""},""]
[{"$f":"IF(OR(E11078=\"\",ISBLANK(E11078)),\"\",VLOOKUP(E11078,Sheet2!A:F,2,FALSE))","v":""},{"$f":"IF(OR(E11078=\"\",ISBLANK(E11078)),\"\",VLOOKUP(E11078,Sheet2!A:G,4,FALSE))","v":""},"",{"$f":"IF(OR(E11078=\"\",ISBLANK(E11078)),\"\",VLOOKUP(E11078,Sheet2!A:H,3,FALSE))","v":""},null,{"$f":"IF(OR(E11078=\"\",ISBLANK(E11078)),\"\",VLOOKUP(E11078,Sheet2!A:G,6,FALSE))","v":""},""]
[{"$f":"IF(OR(E11115=\"\",ISBLANK(E11115)),\"\",VLOOKUP(E11115,Sheet2!A:F,2,FALSE))","v":""},{"$f":"IF(OR(E11115=\"\",ISBLANK(E11115)),\"\",VLOOKUP(E11115,Sheet2!A:G,4,FALSE))","v":""},"",{"$f":"IF(OR(E11115=\"\",ISBLANK(E11115)),\"\",VLOOKUP(E11115,Sheet2!A:H,3,FALSE))","v":""},null,{"$f":"IF(OR(E11115=\"\",ISBLANK(E11115)),\"\",VLOOKUP(E11115,Sheet2!A:G,6,FALSE))","v":""},""]
[{"$f":"IF(OR(E11145=\"\",ISBLANK(E11145)),\"\",VLOOKUP(E11145,Sheet2!A:F,2,FALSE))","v":""},{"$f":"IF(OR(E11145=\"\",ISBLANK(E11145)),\"\",VLOOKUP(E11145,Sheet2!A:G,4,FALSE))","v":""},"",{"$f":"IF(OR(E11145=\"\",ISBLANK(E11145)),\"\",VLOOKUP(E11145,Sheet2!A:H,3,FALSE))","v":""},null,{"$f":"IF(OR(E11145=\"\",ISBLANK(E11145)),\"\",VLOOKUP(E11145,Sheet2!A:G,6,FALSE))","v":""},""]
[{"$f":"IF(OR(E11165=\"\",ISBLANK(E11165)),\"\",VLOOKUP(E11165,Sheet2!A:F,2,FALSE))","v":""},{"$f":"IF(OR(E11165=\"\",ISBLANK(E11165)),\"\",VLOOKUP(E11165,Sheet2!A:G,4,FALSE))","v":""},"",{"$f":"IF(OR(E11165=\"\",ISBLANK(E11165)),\"\",VLOOKUP(E11165,Sheet2!A:H,3,FALSE))","v":""},null,{"$f":"IF(OR(E11165=\"\",ISBLANK(E11165)),\"\",VLOOKUP(E11165,Sheet2!A:G,6,FALSE))","v":""},""]
[{"$f":"IF(OR(E11180=\"\",ISBLANK(E11180)),\"\",VLOOKUP(E11180,Sheet2!A:F,2,FALSE))","v":""},{"$f":"IF(OR(E11180=\"\",ISBLANK(E11180)),\"\",VLOOKUP(E11180,Sheet2!A:G,4,FALSE))","v":""},"",{"$f":"IF(OR(E11180=\"\",ISBLANK(E11180)),\"\",VLOOKUP(E11180,Sheet2!A:H,3,FALSE))","v":""},null,{"$f":"IF(OR(E11180=\"\",ISBLANK(E11180)),\"\",VLOOKUP(E11180,Sheet2!A:G,6,FALSE))","v":""},""]
[{"$f":"IF(OR(E11205=\"\",ISBLANK(E11205)),\"\",VLOOKUP(E11205,Sheet2!A:F,2,FALSE))","v":""},{"$f":"IF(OR(E11205=\"\",ISBLANK(E11205)),\"\",VLOOKUP(E11205,Sheet2!A:G,4,FALSE))","v":""},"",{"$f":"IF(OR(E11205=\"\",ISBLANK(E11205)),\"\",VLOOKUP(E11205,Sheet2!A:H,3,FALSE))","v":""},null,{"$f":"IF(OR(E11205=\"\",ISBLANK(E11205)),\"\",VLOOKUP(E11205,Sheet2!A:G,6,FALSE))","v":""},""]
[{"$f":"IF(OR(E11229=\"\",ISBLANK(E11229)),\"\",VLOOKUP(E11229,Sheet2!A:F,2,FALSE))","v":""},{"$f":"IF(OR(E11229=\"\",ISBLANK(E11229)),\"\",VLOOKUP(E11229,Sheet2!A:G,4,FALSE))","v":""},"",{"$f":"IF(OR(E11229=\"\",ISBLANK(E11229)),\"\",VLOOKUP(E11229,Sheet2!A:H,3,FALSE))","v":""},null,{"$f":"IF(OR(E11229=\"\",ISBLANK(E11229)),\"\",VLOOKUP(E11229,Sheet2!A:G,6,FALSE))","v":""},""]
[{"$f":"IF(OR(E11248=\"\",ISBLANK(E11248)),\"\",VLOOKUP(E11248,Sheet2!A:F,2,FALSE))","v":""},{"$f":"IF(OR(E11248=\"\",ISBLANK(E11248)),\"\",VLOOKUP(E11248,Sheet2!A:G,4,FALSE))","v":""},"",{"$f":"IF(OR(E11248=\"\",ISBLANK(E11248)),\"\",VLOOKUP(E11248,Sheet2!A:H,3,FALSE))","v":""},null,{"$f":"IF(OR(E11248=\"\",ISBLANK(E11248)),\"\",VLOOKUP(E11248,Sheet2!A:G,6,FALSE))","v":""},""]
[{"$f":"IF(OR(E11279=\"\",ISBLANK(E11279)),\"\",VLOOKUP(E11279,Sheet2!A:F,2,FALSE))","v":""},{"$f":"IF(OR(E11279=\"\",ISBLANK(E11279)),\"\",VLOOKUP(E11279,Sheet2!A:G,4,FALSE))","v":""},"",{"$f":"IF(OR(E11279=\"\",ISBLANK(E11279)),\"\",VLOOKUP(E11279,Sheet2!A:H,3,FALSE))","v":""},null,{"$f":"IF(OR(E11279=\"\",ISBLANK(E11279)),\"\",VLOOKUP(E11279,Sheet2!A:G,6,FALSE))","v":""},""]
[{"$f":"IF(OR(E11307=\"\",ISBLANK(E11307)),\"\",VLOOKUP(E11307,Sheet2!A:F,2,FALSE))","v":""},{"$f":"IF(OR(E11307=\"\",ISBLANK(E11307)),\"\",VLOOKUP(E11307,Sheet2!A:G,4,FALSE))","v":""},"",{"$f":"IF(OR(E11307=\"\",ISBLANK(E11307)),\"\",VLOOKUP(E11307,Sheet2!A:H,3,FALSE))","v":""},null,{"$f":"IF(OR(E11307=\"\",ISBLANK(E11307)),\"\",VLOOKUP(E11307,Sheet2!A:G,6,FALSE))","v":""},""]
[{"$f":"IF(OR(E11340=\"\",ISBLANK(E11340)),\"\",VLOOKUP(E11340,Sheet2!A:F,2,FALSE))","v":""},{"$f":"IF(OR(E11340=\"\",ISBLANK(E11340)),\"\",VLOOKUP(E11340,Sheet2!A:G,4,FALSE))","v":""},"",{"$f":"IF(OR(E11340=\"\",ISBLANK(E11340)),\"\",VLOOKUP(E11340,Sheet2!A:H,3,FALSE))","v":""},null,{"$f":"IF(OR(E11340=\"\",ISBLANK(E11340)),\"\",VLOOKUP(E11340,Sheet2!A:G,6,FALSE))","v":""},""]
[{"$f":"IF(OR(E11343=\"\",ISBLANK(E11343)),\"\",VLOOKUP(E11343,Sheet2!A:F,2,FALSE))","v":""},{"$f":"IF(OR(E11343=\"\",ISBLANK(E11343)),\"\",VLOOKUP(E11343,Sheet2!A:G,4,FALSE))","v":""},"",{"$f":"IF(OR(E11343=\"\",ISBLANK(E11343)),\"\",VLOOKUP(E11343,Sheet2!A:H,3,FALSE))","v":""},null,{"$f":"IF(OR(E11343=\"\",ISBLANK(E11343)),\"\",VLOOKUP(E11343,Sheet2!A:G,6,FALSE))","v":""},""]
[{"$f":"IF(OR(E11375=\"\",ISBLANK(E11375)),\"\",VLOOKUP(E11375,Sheet2!A:F,2,FALSE))","v":""},{"$f":"IF(OR(E11375=\"\",ISBLANK(E11375)),\"\",VLOOKUP(E11375,Sheet2!A:G,4,FALSE))","v":""},"",{"$f":"IF(OR(E11375=\"\",ISBLANK(E11375)),\"\",VLOOKUP(E11375,Sheet2!A:H,3,FALSE))","v":""},null,{"$f":"IF(OR(E11375=\"\",ISBLANK(E11375)),\"\",VLOOKUP(E11375,Sheet2!A:G,6,FALSE))","v":""},""]
[{"$f":"IF(OR(E11400=\"\",ISBLANK(E11400)),\"\",VLOOKUP(E11400,Sheet2!A:F,2,FALSE))","v":""},{"$f":"IF(OR(E11400=\"\",ISBLANK(E11400)),\"\",VLOOKUP(E11400,Sheet2!A:G,4,FALSE))","v":""},"",{"$f":"IF(OR(E11400=\"\",ISBLANK(E11400)),\"\",VLOOKUP(E11400,Sheet2!A:H,3,FALSE))","v":""},null,{"$f":"IF(OR(E11400=\"\",ISBLANK(E11400)),\"\",VLOOKUP(E11400,Sheet2!A:G,6,FALSE))","v":""},""]
[{"$f":"IF(OR(E11432=\"\",ISBLANK(E11432)),\"\",VLOOKUP(E11432,Sheet2!A:F,2,FALSE))","v":""},{"$f":"IF(OR(E11432=\"\",ISBLANK(E11432)),\"\",VLOOKUP(E11432,Sheet2!A:G,4,FALSE))","v":""},"",{"$f":"IF(OR(E11432=\"\",ISBLANK(E11432)),\"\",VLOOKUP(E11432,Sheet2!A:H,3,FALSE))","v":""},null,{"$f":"IF(OR(E11432=\"\",ISBLANK(E11432)),\"\",VLOOKUP(E11432,Sheet2!A:G,6,FALSE))","v":""},""]
[{"$f":"IF(OR(E11443=\"\",ISBLANK(E11443)),\"\",VLOOKUP(E11443,Sheet2!A:F,2,FALSE))","v":""},{"$f":"IF(OR(E11443=\"\",ISBLANK(E11443)),\"\",VLOOKUP(E11443,Sheet2!A:G,4,FALSE))","v":""},"",{"$f":"IF(OR(E11443=\"\",ISBLANK(E11443)),\"\",VLOOKUP(E11443,Sheet2!A:H,3,FALSE))","v":""},null,{"$f":"IF(OR(E11443=\"\",ISBLANK(E11443)),\"\",VLOOKUP(E11443,Sheet2!A:G,6,FALSE))","v":""},""]
[{"$f":"IF(OR(E11482=\"\",ISBLANK(E11482)),\"\",VLOOKUP(E11482,Sheet2!A:F,2,FALSE))","v":""},{"$f":"IF(OR(E11482=\"\",ISBLANK(E11482)),\"\",VLOOKUP(E11482,Sheet2!A:G,4,FALSE))","v":""},"",{"$f":"IF(OR(E11482=\"\",ISBLANK(E11482)),\"\",VLOOKUP(E11482,Sheet2!A:H,3,FALSE))","v":""},null,{"$f":"IF(OR(E11482=\"\",ISBLANK(E11482)),\"\",VLOOKUP(E11482,Sheet2!A:G,6,FALSE))","v":""},""]
[{"$f":"IF(OR(E11502=\"\",ISBLANK(E11502)),\"\",VLOOKUP(E11502,Sheet2!A:F,2,FALSE))","v":""},{"$f":"IF(OR(E11502=\"\",ISBLANK(E11502)),\"\",VLOOKUP(E11502,Sheet2!A:G,4,FALSE))","v":""},"",{"$f":"IF(OR(E11502=\"\",ISBLANK(E11502)),\"\",VLOOKUP(E11502,Sheet2!A:H,3,FALSE))","v":""},null,{"$f":"IF(OR(E11502=\"\",ISBLANK(E11502)),\"\",VLOOKUP(E11502,Sheet2!A:G,6,FALSE))","v":""},""]
[{"$f":"IF(OR(E11535=\"\",ISBLANK(E11535)),\"\",VLOOKUP(E11535,Sheet2!A:F,2,FALSE))","v":""},{"$f":"IF(OR(E11535=\"\",ISBLANK(E11535)),\"\",VLOOKUP(E11535,Sheet2!A:G,4,FALSE))","v":""},"",{"$f":"IF(OR(E11535=\"\",ISBLANK(E11535)),\"\",VLOOKUP(E11535,Sheet2!A:H,3,FALSE))","v":""},null,{"$f":"IF(OR(E11535=\"\",ISBLANK(E11535)),\"\",VLOOKUP(E11535,Sheet2!A:G,6,FALSE))","v":""},""]
[{"$f":"IF(OR(E11546=\"\",ISBLANK(E11546)),\"\",VLOOKUP(E11546,Sheet2!A:F,2,FALSE))","v":""},{"$f":"IF(OR(E11546=\"\",ISBLANK(E11546)),\"\",VLOOKUP(E11546,Sheet2!A:G,4,FALSE))","v":""},"",{"$f":"IF(OR(E11546=\"\",ISBLANK(E11546)),\"\",VLOOKUP(E11546,Sheet2!A:H,3,FALSE))","v":""},null,{"$f":"IF(OR(E11546=\"\",ISBLANK(E11546)),\"\",VLOOKUP(E11546,Sheet2!A:G,6,FALSE))","v":""},""]
[{"$f":"IF(OR(E11570=\"\",ISBLANK(E11570)),\"\",VLOOKUP(E11570,Sheet2!A:F,2,FALSE))","v":""},{"$f":"IF(OR(E11570=\"\",ISBLANK(E11570)),\"\",VLOOKUP(E11570,Sheet2!A:G,4,FALSE))","v":""},"",{"$f":"IF(OR(E11570=\"\",ISBLANK(E11570)),\"\",VLOOKUP(E11570,Sheet2!A:H,3,FALSE))","v":""},null,{"$f":"IF(OR(E11570=\"\",ISBLANK(E11570)),\"\",VLOOKUP(E11570,Sheet2!A:G,6,FALSE))","v":""},""]
[{"$f":"IF(OR(E11596=\"\",ISBLANK(E11596)),\"\",VLOOKUP(E11596,Sheet2!A:F,2,FALSE))","v":""},{"$f":"IF(OR(E11596=\"\",ISBLANK(E11596)),\"\",VLOOKUP(E11596,Sheet2!A:G,4,FALSE))","v":""},"",{"$f":"IF(OR(E11596=\"\",ISBLANK(E11596)),\"\",VLOOKUP(E11596,Sheet2!A:H,3,FALSE))","v":""},null,{"$f":"IF(OR(E11596=\"\",ISBLANK(E11596)),\"\",VLOOKUP(E11596,Sheet2!A:G,6,FALSE))","v":""},""]
[{"$f":"IF(OR(E11629=\"\",ISBLANK(E11629)),\"\",VLOOKUP(E11629,Sheet2!A:F,2,FALSE))","v":""},{"$f":"IF(OR(E11629=\"\",ISBLANK(E11629)),\"\",VLOOKUP(E11629,Sheet2!A:G,4,FALSE))","v":""},"",{"$f":"IF(OR(E11629=\"\",ISBLANK(E11629)),\"\",VLOOKUP(E11629,Sheet2!A:H,3,FALSE))","v":""},null,{"$f":"IF(OR(E11629=\"\",ISBLANK(E11629)),\"\",VLOOKUP(E11629,Sheet2!A:G,6,FALSE))","v":""},""]
[{"$f":"IF(OR(E11638=\"\",ISBLANK(E11638)),\"\",VLOOKUP(E11638,Sheet2!A:F,2,FALSE))","v":""},{"$f":"IF(OR(E11638=\"\",ISBLANK(E11638)),\"\",VLOOKUP(E11638,Sheet2!A:G,4,FALSE))","v":""},"",{"$f":"IF(OR(E11638=\"\",ISBLANK(E11638)),\"\",VLOOKUP(E11638,Sheet2!A:H,3,FALSE))","v":""},null,{"$f":"IF(OR(E11638=\"\",ISBLANK(E11638)),\"\",VLOOKUP(E11638,Sheet2!A:G,6,FALSE))","v":""},""]
[{"$f":"IF(OR(E11660=\"\",ISBLANK(E11660)),\"\",VLOOKUP(E11660,Sheet2!A:F,2,FALSE))","v":""},{"$f":"IF(OR(E11660=\"\",ISBLANK(E11660)),\"\",VLOOKUP(E11660,Sheet2!A:G,4,FALSE))","v":""},"",{"$f":"IF(OR(E11660=\"\",ISBLANK(E11660)),\"\",VLOOKUP(E11660,Sheet2!A:H,3,FALSE))","v":""},null,{"$f":"IF(OR(E11660=\"\",ISBLANK(E11660)),\"\",VLOOKUP(E11660,Sheet2!A:G,6,FALSE))","v":""},""]
[{"$f":"IF(OR(E11697=\"\",ISBLANK(E11697)),\"\",VLOOKUP(E11697,Sheet2!A:F,2,FALSE))","v":""},{"$f":"IF(OR(E11697=\"\",ISBLANK(E11697)),\"\",VLOOKUP(E11697,Sheet2!A:G,4,FALSE))","v":""},"",{"$f":"IF(OR(E11697=\"\",ISBLANK(E11697)),\"\",VLOOKUP(E11697,Sheet2!A:H,3,FALSE))","v":""},null,{"$f":"IF(OR(E11697=\"\",ISBLANK(E11697)),\"\",VLOOKUP(E11697,Sheet2!A:G,6,FALSE))","v":""},""]
[{"$f":"IF(OR(E11710=\"\",ISBLANK(E11710)),\"\",VLOOKUP(E11710,Sheet2!A:F,2,FALSE))","v":""},{"$f":"IF(OR(E11710=\"\",ISBLANK(E11710)),\"\",VLOOKUP(E11710,Sheet2!A:G,4,FALSE))","v":""},"",{"$f":"IF(OR(E11710=\"\",ISBLANK(E11710)),\"\",VLOOKUP(E11710,Sheet2!A:H,3,FALSE))","v":""},null,{"$f":"IF(OR(E11710=\"\",ISBLANK(E11710)),\"\",VLOOKUP(E11710,Sheet2!A:G,6,FALSE))","v":""},""]
[{"$f":"IF(OR(E11732=\"\",ISBLANK(E11732)),\"\",VLOOKUP(E11732,Sheet2!A:F,2,FALSE))","v":""},{"$f":"IF(OR(E11732=\"\",ISBLANK(E11732)),\"\",VLOOKUP(E11732,Sheet2!A:G,4,FALSE))","v":""},"",{"$f":"IF(OR(E11732=\"\",ISBLANK(E11732)),\"\",VLOOKUP(E11732,Sheet2!A:H,3,FALSE))","v":""},null,{"$f":"IF(OR(E11732=\"\",ISBLANK(E11732)),\"\",VLOOKUP(E11732,Sheet2!A:G,6,FALSE))","v":""},""]
[{"$f":"IF(OR(E11765=\"\",ISBLANK(E11765)),\"\",VLOOKUP(E11765,Sheet2!A:F,2,FALSE))","v":""},{"$f":"IF(OR(E11765=\"\",ISBLANK(E11765)),\"\",VLOOKUP(E11765,Sheet2!A:G,4,FALSE))","v":""},"",{"$f":"IF(OR(E11765=\"\",ISBLANK(E11765)),\"\",VLOOKUP(E11765,Sheet2!A:H,3,FALSE))","v":""},null,{"$f":"IF(OR(E11765=\"\",ISBLANK(E11765)),\"\",VLOOKUP(E11765,Sheet2!A:G,6,FALSE))","v":""},""]
[{"$f":"IF(OR(E11799=\"\",ISBLANK(E11799)),\"\",VLOOKUP(E11799,Sheet2!A:F,2,FALSE))","v":""},{"$f":"IF(OR(E11799=\"\",ISBLANK(E11799)),\"\",VLOOKUP(E11799,Sheet2!A:G,4,FALSE))","v":""},"",{"$f":"IF(OR(E11799=\"\",ISBLANK(E11799)),\"\",VLOOKUP(E11799,Sheet2!A:H,3,FALSE))","v":""},null,{"$f":"IF(OR(E11799=\"\",ISBLANK(E11799)),\"\",VLOOKUP(E11799,Sheet2!A:G,6,FALSE))","v":""},""]
[{"$f":"IF(OR(E11824=\"\",ISBLANK(E11824)),\"\",VLOOKUP(E11824,Sheet2!A:F,2,FALSE))","v":""},{"$f":"IF(OR(E11824=\"\",ISBLANK(E11824)),\"\",VLOOKUP(E11824,Sheet2!A:G,4,FALSE))","v":""},"",{"$f":"IF(OR(E11824=\"\",ISBLANK(E11824)),\"\",VLOOKUP(E11824,Sheet2!A:H,3,FALSE))","v":""},null,{"$f":"IF(OR(E11824=\"\",ISBLANK(E11824)),\"\",VLOOKUP(E11824,Sheet2!A:G,6,FALSE))","v":""},""]
[{"$f":"IF(OR(E11833=\"\",ISBLANK(E11833)),\"\",VLOOKUP(E11833,Sheet2!A:F,2,FALSE))","v":""},{"$f":"IF(OR(E11833=\"\",ISBLANK(E11833)),\"\",VLOOKUP(E11833,Sheet2!A:G,4,FALSE))","v":""},"",{"$f":"IF(OR(E11833=\"\",ISBLANK(E11833)),\"\",VLOOKUP(E11833,Sheet2!A:H,3,FALSE))","v":""},null,{"$f":"IF(OR(E11833=\"\",ISBLANK(E11833)),\"\",VLOOKUP(E11833,Sheet2!A:G,6,FALSE))","v":""},""]
[{"$f":"IF(OR(E11863=\"\",ISBLANK(E11863)),\"\",VLOOKUP(E11863,Sheet2!A:F,2,FALSE))","v":""},{"$f":"IF(OR(E11863=\"\",ISBLANK(E11863)),\"\",VLOOKUP(E11863,Sheet2!A:G,4,FALSE))","v":""},"",{"$f":"IF(OR(E11863=\"\",ISBLANK(E11863)),\"\",VLOOKUP(E11863,Sheet2!A:H,3,FALSE))","v":""},null,{"$f":"IF(OR(E11863=\"\",ISBLANK(E11863)),\"\",VLOOKUP(E11863,Sheet2!A:G,6,FALSE))","v":""},""]
[{"$f":"IF(OR(E11892=\"\",ISBLANK(E11892)),\"\",VLOOKUP(E11892,Sheet2!A:F,2,FALSE))","v":""},{"$f":"IF(OR(E11892=\"\",ISBLANK(E11892)),\"\",VLOOKUP(E11892,Sheet2!A:G,4,FALSE))","v":""},"",{"$f":"IF(OR(E11892=\"\",ISBLANK(E11892)),\"\",VLOOKUP(E11892,Sheet2!A:H,3,FALSE))","v":""},null,{"$f":"IF(OR(E11892=\"\",ISBLANK(E11892)),\"\",VLOOKUP(E11892,Sheet2!A:G,6,FALSE))","v":""},""]
[{"$f":"IF(OR(E11913=\"\",ISBLANK(E11913)),\"\",VLOOKUP(E11913,Sheet2!A:F,2,FALSE))","v":""},{"$f":"IF(OR(E11913=\"\",ISBLANK(E11913)),\"\",VLOOKUP(E11913,Sheet2!A:G,4,FALSE))","v":""},"",{"$f":"IF(OR(E11913=\"\",ISBLANK(E11913)),\"\",VLOOKUP(E11913,Sheet2!A:H,3,FALSE))","v":""},null,{"$f":"IF(OR(E11913=\"\",ISBLANK(E11913)),\"\",VLOOKUP(E11913,Sheet2!A:G,6,FALSE))","v":""},""]
[{"$f":"IF(OR(E11927=\"\",ISBLANK(E11927)),\"\",VLOOKUP(E11927,Sheet2!A:F,2,FALSE))","v":""},{"$f":"IF(OR(E11927=\"\",ISBLANK(E11927)),\"\",VLOOKUP(E11927,Sheet2!A:G,4,FALSE))","v":""},"",{"$f":"IF(OR(E11927=\"\",ISBLANK(E11927)),\"\",VLOOKUP(E11927,Sheet2!A:H,3,FALSE))","v":""},null,{"$f":"IF(OR(E11927=\"\",ISBLANK(E11927)),\"\",VLOOKUP(E11927,Sheet2!A:G,6,FALSE))","v":""},""]
[{"$f":"IF(OR(E11960=\"\",ISBLANK(E11960)),\"\",VLOOKUP(E11960,Sheet2!A:F,2,FALSE))","v":""},{"$f":"IF(OR(E11960=\"\",ISBLANK(E11960)),\"\",VLOOKUP(E11960,Sheet2!A:G,4,FALSE))","v":""},"",{"$f":"IF(OR(E11960=\"\",ISBLANK(E11960)),\"\",VLOOKUP(E11960,Sheet2!A:H,3,FALSE))","v":""},null,{"$f":"IF(OR(E11960=\"\",ISBLANK(E11960)),\"\",VLOOKUP(E11960,Sheet2!A:G,6,FALSE))","v":""},""]
[{"$f":"IF(OR(E11977=\"\",ISBLANK(E11977)),\"\",VLOOKUP(E11977,Sheet2!A:F,2,FALSE))","v":""},{"$f":"IF(OR(E11977=\"\",ISBLANK(E11977)),\"\",VLOOKUP(E11977,Sheet2!A:G,4,FALSE))","v":""},"",{"$f":"IF(OR(E11977=\"\",ISBLANK(E11977)),\"\",VLOOKUP(E11977,Sheet2!A:H,3,FALSE))","v":""},null,{"$f":"IF(OR(E11977=\"\",ISBLANK(E11977)),\"\",VLOOKUP(E11977,Sheet2!A:G,6,FALSE))","v":""},""]
[{"$f":"IF(OR(E12019=\"\",ISBLANK(E12019)),\"\",VLOOKUP(E12019,Sheet2!A:F,2,FALSE))","v":""},{"$f":"IF(OR(E12019=\"\",ISBLANK(E12019)),\"\",VLOOKUP(E12019,Sheet2!A:G,4,FALSE))","v":""},"",{"$f":"IF(OR(E12019=\"\",ISBLANK(E12019)),\"\",VLOOKUP(E12019,Sheet2!A:H,3,FALSE))","v":""},null,{"$f":"IF(OR(E12019=\"\",ISBLANK(E12019)),\"\",VLOOKUP(E12019,Sheet2!A:G,6,FALSE))","v":""},""]
[{"$f":"IF(OR(E12031=\"\",ISBLANK(E12031)),\"\",VLOOKUP(E12031,Sheet2!A:F,2,FALSE))","v":""},{"$f":"IF(OR(E12031=\"\",ISBLANK(E12031)),\"\",VLOOKUP(E12031,Sheet2!A:G,4,FALSE))","v":""},"",{"$f":"IF(OR(E12031=\"\",ISBLANK(E12031)),\"\",VLOOKUP(E12031,Sheet2!A:H,3,FALSE))","v":""},null,{"$f":"IF(OR(E12031=\"\",ISBLANK(E12031)),\"\",VLOOKUP(E12031,Sheet2!A:G,6,FALSE))","v":""},""]
[{"$f":"IF(OR(E12054=\"\",ISBLANK(E12054)),\"\",VLOOKUP(E12054,Sheet2!A:F,2,FALSE))","v":""},{"$f":"IF(OR(E12054=\"\",ISBLANK(E12054)),\"\",VLOOKUP(E12054,Sheet2!A:G,4,FALSE))","v":""},"",{"$f":"IF(OR(E12054=\"\",ISBLANK(E12054)),\"\",VLOOKUP(E12054,Sheet2!A:H,3,FALSE))","v":""},null,{"$f":"IF(OR(E12054=\"\",ISBLANK(E12054)),\"\",VLOOKUP(E12054,Sheet2!A:G,6,FALSE))","v":""},""]
[{"$f":"IF(OR(E12087=\"\",ISBLANK(E12087)),\"\",VLOOKUP(E12087,Sheet2!A:F,2,FALSE))","v":""},{"$f":"IF(OR(E12087=\"\",ISBLANK(E12087)),\"\",VLOOKUP(E12087,Sheet2!A:G,4,FALSE))","v":""},"",{"$f":"IF(OR(E12087=\"\",ISBLANK(E12087)),\"\",VLOOKUP(E12087,Sheet2!A:H,3,FALSE))","v":""},null,{"$f":"IF(OR(E12087=\"\",ISBLANK(E12087)),\"\",VLOOKUP(E12087,Sheet2!A:G,6,FALSE))","v":""},""]
[{"$f":"IF(OR(E12116=\"\",ISBLANK(E12116)),\"\",VLOOKUP(E12116,Sheet2!A:F,2,FALSE))","v":""},{"$f":"IF(OR(E12116=\"\",ISBLANK(E12116)),\"\",VLOOKUP(E12116,Sheet2!A:G,4,FALSE))","v":""},"",{"$f":"IF(OR(E12116=\"\",ISBLANK(E12116)),\"\",VLOOKUP(E12116,Sheet2!A:H,3,FALSE))","v":""},null,{"$f":"IF(OR(E12116=\"\",ISBLANK(E12116)),\"\",VLOOKUP(E12116,Sheet2!A:G,6,FALSE))","v":""},""]
[{"$f":"IF(OR(E12122=\"\",ISBLANK(E12122)),\"\",VLOOKUP(E12122,Sheet2!A:F,2,FALSE))","v":""},{"$f":"IF(OR(E12122=\"\",ISBLANK(E12122)),\"\",VLOOKUP(E12122,Sheet2!A:G,4,FALSE))","v":""},"",{"$f":"IF(OR(E12122=\"\",ISBLANK(E12122)),\"\",VLOOKUP(E12122,Sheet2!A:H,3,FALSE))","v":""},null,{"$f":"IF(OR(E12122=\"\",ISBLANK(E12122)),\"\",VLOOKUP(E12122,Sheet2!A:G,6,FALSE))","v":""},""]
[{"$f":"IF(OR(E12170=\"\",ISBLANK(E12170)),\"\",VLOOKUP(E12170,Sheet2!A:F,2,FALSE))","v":""},{"$f":"IF(OR(E12170=\"\",ISBLANK(E12170)),\"\",VLOOKUP(E12170,Sheet2!A:G,4,FALSE))","v":""},"",{"$f":"IF(OR(E12170=\"\",ISBLANK(E12170)),\"\",VLOOKUP(E12170,Sheet2!A:H,3,FALSE))","v":""},null,{"$f":"IF(OR(E12170=\"\",ISBLANK(E12170)),\"\",VLOOKUP(E12170,Sheet2!A:G,6,FALSE))","v":""},""]
[{"$f":"IF(OR(E12181=\"\",ISBLANK(E12181)),\"\",VLOOKUP(E12181,Sheet2!A:F,2,FALSE))","v":""},{"$f":"IF(OR(E12181=\"\",ISBLANK(E12181)),\"\",VLOOKUP(E12181,Sheet2!A:G,4,FALSE))","v":""},"",{"$f":"IF(OR(E12181=\"\",ISBLANK(E12181)),\"\",VLOOKUP(E12181,Sheet2!A:H,3,FALSE))","v":""},null,{"$f":"IF(OR(E12181=\"\",ISBLANK(E12181)),\"\",VLOOKUP(E12181,Sheet2!A:G,6,FALSE))","v":""},""]
[{"$f":"IF(OR(E12214=\"\",ISBLANK(E12214)),\"\",VLOOKUP(E12214,Sheet2!A:F,2,FALSE))","v":""},{"$f":"IF(OR(E12214=\"\",ISBLANK(E12214)),\"\",VLOOKUP(E12214,Sheet2!A:G,4,FALSE))","v":""},"",{"$f":"IF(OR(E12214=\"\",ISBLANK(E12214)),\"\",VLOOKUP(E12214,Sheet2!A:H,3,FALSE))","v":""},null,{"$f":"IF(OR(E12214=\"\",ISBLANK(E12214)),\"\",VLOOKUP(E12214,Sheet2!A:G,6,FALSE))","v":""},""]
[{"$f":"IF(OR(E12230=\"\",ISBLANK(E12230)),\"\",VLOOKUP(E12230,Sheet2!A:F,2,FALSE))","v":""},{"$f":"IF(OR(E12230=\"\",ISBLANK(E12230)),\"\",VLOOKUP(E12230,Sheet2!A:G,4,FALSE))","v":""},"",{"$f":"IF(OR(E12230=\"\",ISBLANK(E12230)),\"\",VLOOKUP(E12230,Sheet2!A:H,3,FALSE))","v":""},null,{"$f":"IF(OR(E12230=\"\",ISBLANK(E12230)),\"\",VLOOKUP(E12230,Sheet2!A:G,6,FALSE))","v":""},""]
[{"$f":"IF(OR(E12249=\"\",ISBLANK(E12249)),\"\",VLOOKUP(E12249,Sheet2!A:F,2,FALSE))","v":""},{"$f":"IF(OR(E12249=\"\",ISBLANK(E12249)),\"\",VLOOKUP(E12249,Sheet2!A:G,4,FALSE))","v":""},"",{"$f":"IF(OR(E12249=\"\",ISBLANK(E12249)),\"\",VLOOKUP(E12249,Sheet2!A:H,3,FALSE))","v":""},null,{"$f":"IF(OR(E12249=\"\",ISBLANK(E12249)),\"\",VLOOKUP(E12249,Sheet2!A:G,6,FALSE))","v":""},""]
[{"$f":"IF(OR(E12282=\"\",ISBLANK(E12282)),\"\",VLOOKUP(E12282,Sheet2!A:F,2,FALSE))","v":""},{"$f":"IF(OR(E12282=\"\",ISBLANK(E12282)),\"\",VLOOKUP(E12282,Sheet2!A:G,4,FALSE))","v":""},"",{"$f":"IF(OR(E12282=\"\",ISBLANK(E12282)),\"\",VLOOKUP(E12282,Sheet2!A:H,3,FALSE))","v":""},null,{"$f":"IF(OR(E12282=\"\",ISBLANK(E12282)),\"\",VLOOKUP(E12282,Sheet2!A:G,6,FALSE))","v":""},""]
[{"$f":"IF(OR(E12294=\"\",ISBLANK(E12294)),\"\",VLOOKUP(E12294,Sheet2!A:F,2,FALSE))","v":""},{"$f":"IF(OR(E12294=\"\",ISBLANK(E12294)),\"\",VLOOKUP(E12294,Sheet2!A:G,4,FALSE))","v":""},"",{"$f":"IF(OR(E12294=\"\",ISBLANK(E12294)),\"\",VLOOKUP(E12294,Sheet2!A:H,3,FALSE))","v":""},null,{"$f":"IF(OR(E12294=\"\",ISBLANK(E12294)),\"\",VLOOKUP(E12294,Sheet2!A:G,6,FALSE))","v":""},""]
[{"$f":"IF(OR(E12317=\"\",ISBLANK(E12317)),\"\",VLOOKUP(E12317,Sheet2!A:F,2,FALSE))","v":""},{"$f":"IF(OR(E12317=\"\",ISBLANK(E12317)),\"\",VLOOKUP(E12317,Sheet2!A:G,4,FALSE))","v":""},"",{"$f":"IF(OR(E12317=\"\",ISBLANK(E12317)),\"\",VLOOKUP(E12317,Sheet2!A:H,3,FALSE))","v":""},null,{"$f":"IF(OR(E12317=\"\",ISBLANK(E12317)),\"\",VLOOKUP(E12317,Sheet2!A:G,6,FALSE))","v":""},""]
[{"$f":"IF(OR(E12348=\"\",ISBLANK(E12348)),\"\",VLOOKUP(E12348,Sheet2!A:F,2,FALSE))","v":""},{"$f":"IF(OR(E12348=\"\",ISBLANK(E12348)),\"\",VLOOKUP(E12348,Sheet2!A:G,4,FALSE))","v":""},"",{"$f":"IF(OR(E12348=\"\",ISBLANK(E12348)),\"\",VLOOKUP(E12348,Sheet2!A:H,3,FALSE))","v":""},null,{"$f":"IF(OR(E12348=\"\",ISBLANK(E12348)),\"\",VLOOKUP(E12348,Sheet2!A:G,6,FALSE))","v":""},""]
[{"$f":"IF(OR(E12376=\"\",ISBLANK(E12376)),\"\",VLOOKUP(E12376,Sheet2!A:F,2,FALSE))","v":""},{"$f":"IF(OR(E12376=\"\",ISBLANK(E12376)),\"\",VLOOKUP(E12376,Sheet2!A:G,4,FALSE))","v":""},"",{"$f":"IF(OR(E12376=\"\",ISBLANK(E12376)),\"\",VLOOKUP(E12376,Sheet2!A:H,3,FALSE))","v":""},null,{"$f":"IF(OR(E12376=\"\",ISBLANK(E12376)),\"\",VLOOKUP(E12376,Sheet2!A:G,6,FALSE))","v":""},""]
[{"$f":"IF(OR(E12409=\"\",ISBLANK(E12409)),\"\",VLOOKUP(E12409,Sheet2!A:F,2,FALSE))","v":""},{"$f":"IF(OR(E12409=\"\",ISBLANK(E12409)),\"\",VLOOKUP(E12409,Sheet2!A:G,4,FALSE))","v":""},"",{"$f":"IF(OR(E12409=\"\",ISBLANK(E12409)),\"\",VLOOKUP(E12409,Sheet2!A:H,3,FALSE))","v":""},null,{"$f":"IF(OR(E12409=\"\",ISBLANK(E12409)),\"\",VLOOKUP(E12409,Sheet2!A:G,6,FALSE))","v":""},""]
[{"$f":"IF(OR(E12433=\"\",ISBLANK(E12433)),\"\",VLOOKUP(E12433,Sheet2!A:F,2,FALSE))","v":""},{"$f":"IF(OR(E12433=\"\",ISBLANK(E12433)),\"\",VLOOKUP(E12433,Sheet2!A:G,4,FALSE))","v":""},"",{"$f":"IF(OR(E12433=\"\",ISBLANK(E12433)),\"\",VLOOKUP(E12433,Sheet2!A:H,3,FALSE))","v":""},null,{"$f":"IF(OR(E12433=\"\",ISBLANK(E12433)),\"\",VLOOKUP(E12433,Sheet2!A:G,6,FALSE))","v":""},""]
[{"$f":"IF(OR(E12444=\"\",ISBLANK(E12444)),\"\",VLOOKUP(E12444,Sheet2!A:F,2,FALSE))","v":""},{"$f":"IF(OR(E12444=\"\",ISBLANK(E12444)),\"\",VLOOKUP(E12444,Sheet2!A:G,4,FALSE))","v":""},"",{"$f":"IF(OR(E12444=\"\",ISBLANK(E12444)),\"\",VLOOKUP(E12444,Sheet2!A:H,3,FALSE))","v":""},null,{"$f":"IF(OR(E12444=\"\",ISBLANK(E12444)),\"\",VLOOKUP(E12444,Sheet2!A:G,6,FALSE))","v":""},""]
[{"$f":"IF(OR(E12487=\"\",ISBLANK(E12487)),\"\",VLOOKUP(E12487,Sheet2!A:F,2,FALSE))","v":""},{"$f":"IF(OR(E12487=\"\",ISBLANK(E12487)),\"\",VLOOKUP(E12487,Sheet2!A:G,4,FALSE))","v":""},"",{"$f":"IF(OR(E12487=\"\",ISBLANK(E12487)),\"\",VLOOKUP(E12487,Sheet2!A:H,3,FALSE))","v":""},null,{"$f":"IF(OR(E12487=\"\",ISBLANK(E12487)),\"\",VLOOKUP(E12487,Sheet2!A:G,6,FALSE))","v":""},""]
[{"$f":"IF(OR(E12503=\"\",ISBLANK(E12503)),\"\",VLOOKUP(E12503,Sheet2!A:F,2,FALSE))","v":""},{"$f":"IF(OR(E12503=\"\",ISBLANK(E12503)),\"\",VLOOKUP(E12503,Sheet2!A:G,4,FALSE))","v":""},"",{"$f":"IF(OR(E12503=\"\",ISBLANK(E12503)),\"\",VLOOKUP(E12503,Sheet2!A:H,3,FALSE))","v":""},null,{"$f":"IF(OR(E12503=\"\",ISBLANK(E12503)),\"\",VLOOKUP(E12503,Sheet2!A:G,6,FALSE))","v":""},""]
[{"$f":"IF(OR(E12512=\"\",ISBLANK(E12512)),\"\",VLOOKUP(E12512,Sheet2!A:F,2,FALSE))","v":""},{"$f":"IF(OR(E12512=\"\",ISBLANK(E12512)),\"\",VLOOKUP(E12512,Sheet2!A:G,4,FALSE))","v":""},"",{"$f":"IF(OR(E12512=\"\",ISBLANK(E12512)),\"\",VLOOKUP(E12512,Sheet2!A:H,3,FALSE))","v":""},null,{"$f":"IF(OR(E12512=\"\",ISBLANK(E12512)),\"\",VLOOKUP(E12512,Sheet2!A:G,6,FALSE))","v":""},""]
[{"$f":"IF(OR(E12547=\"\",ISBLANK(E12547)),\"\",VLOOKUP(E12547,Sheet2!A:F,2,FALSE))","v":""},{"$f":"IF(OR(E12547=\"\",ISBLANK(E12547)),\"\",VLOOKUP(E12547,Sheet2!A:G,4,FALSE))","v":""},{"$f":"IF(D12547=0,\"\",D12547)","v":""},{"$f":"IF(OR(E12547=\"\",ISBLANK(E12547)),\"\",VLOOKUP(E12547,Sheet2!A:H,3,FALSE))","v":""},null,{"$f":"IF(OR(E12547=\"\",ISBLANK(E12547)),\"\",VLOOKUP(E12547,Sheet2!A:G,6,FALSE))","v":""},{"$f":"IF(F12547=0,\"\",F12547)","v":""}]
[{"$f":"IF(OR(E12571=\"\",ISBLANK(E12571)),\"\",VLOOKUP(E12571,Sheet2!A:F,2,FALSE))","v":""},{"$f":"IF(OR(E12571=\"\",ISBLANK(E12571)),\"\",VLOOKUP(E12571,Sheet2!A:G,4,FALSE))","v":""},"",{"$f":"IF(OR(E12571=\"\",ISBLANK(E12571)),\"\",VLOOKUP(E12571,Sheet2!A:H,3,FALSE))","v":""},null,{"$f":"IF(OR(E12571=\"\",ISBLANK(E12571)),\"\",VLOOKUP(E12571,Sheet2!A:G,6,FALSE))","v":""},""]
[{"$f":"IF(OR(E12604=\"\",ISBLANK(E12604)),\"\",VLOOKUP(E12604,Sheet2!A:F,2,FALSE))","v":""},{"$f":"IF(OR(E12604=\"\",ISBLANK(E12604)),\"\",VLOOKUP(E12604,Sheet2!A:G,4,FALSE))","v":""},"",{"$f":"IF(OR(E12604=\"\",ISBLANK(E12604)),\"\",VLOOKUP(E12604,Sheet2!A:H,3,FALSE))","v":""},null,{"$f":"IF(OR(E12604=\"\",ISBLANK(E12604)),\"\",VLOOKUP(E12604,Sheet2!A:G,6,FALSE))","v":""},""]
[{"$f":"IF(OR(E12611=\"\",ISBLANK(E12611)),\"\",VLOOKUP(E12611,Sheet2!A:F,2,FALSE))","v":""},{"$f":"IF(OR(E12611=\"\",ISBLANK(E12611)),\"\",VLOOKUP(E12611,Sheet2!A:G,4,FALSE))","v":""},{"$f":"IF(D12611=0,\"\",D12611)","v":""},{"$f":"IF(OR(E12611=\"\",ISBLANK(E12611)),\"\",VLOOKUP(E12611,Sheet2!A:H,3,FALSE))","v":""},null,{"$f":"IF(OR(E12611=\"\",ISBLANK(E12611)),\"\",VLOOKUP(E12611,Sheet2!A:G,6,FALSE))","v":""},{"$f":"IF(F12611=0,\"\",F12611)","v":""}]
[{"$f":"IF(OR(E12639=\"\",ISBLANK(E12639)),\"\",VLOOKUP(E12639,Sheet2!A:F,2,FALSE))","v":""},{"$f":"IF(OR(E12639=\"\",ISBLANK(E12639)),\"\",VLOOKUP(E12639,Sheet2!A:G,4,FALSE))","v":""},"",{"$f":"IF(OR(E12639=\"\",ISBLANK(E12639)),\"\",VLOOKUP(E12639,Sheet2!A:H,3,FALSE))","v":""},null,{"$f":"IF(OR(E12639=\"\",ISBLANK(E12639)),\"\",VLOOKUP(E12639,Sheet2!A:G,6,FALSE))","v":""},""]
[{"$f":"IF(OR(E12665=\"\",ISBLANK(E12665)),\"\",VLOOKUP(E12665,Sheet2!A:F,2,FALSE))","v":""},{"$f":"IF(OR(E12665=\"\",ISBLANK(E12665)),\"\",VLOOKUP(E12665,Sheet2!A:G,4,FALSE))","v":""},"",{"$f":"IF(OR(E12665=\"\",ISBLANK(E12665)),\"\",VLOOKUP(E12665,Sheet2!A:H,3,FALSE))","v":""},null,{"$f":"IF(OR(E12665=\"\",ISBLANK(E12665)),\"\",VLOOKUP(E12665,Sheet2!A:G,6,FALSE))","v":""},""]
[{"$f":"IF(OR(E12698=\"\",ISBLANK(E12698)),\"\",VLOOKUP(E12698,Sheet2!A:F,2,FALSE))","v":""},{"$f":"IF(OR(E12698=\"\",ISBLANK(E12698)),\"\",VLOOKUP(E12698,Sheet2!A:G,4,FALSE))","v":""},"",{"$f":"IF(OR(E12698=\"\",ISBLANK(E12698)),\"\",VLOOKUP(E12698,Sheet2!A:H,3,FALSE))","v":""},null,{"$f":"IF(OR(E12698=\"\",ISBLANK(E12698)),\"\",VLOOKUP(E12698,Sheet2!A:G,6,FALSE))","v":""},""]
[{"$f":"IF(OR(E12707=\"\",ISBLANK(E12707)),\"\",VLOOKUP(E12707,Sheet2!A:F,2,FALSE))","v":""},{"$f":"IF(OR(E12707=\"\",ISBLANK(E12707)),\"\",VLOOKUP(E12707,Sheet2!A:G,4,FALSE))","v":""},"",{"$f":"IF(OR(E12707=\"\",ISBLANK(E12707)),\"\",VLOOKUP(E12707,Sheet2!A:H,3,FALSE))","v":""},null,{"$f":"IF(OR(E12707=\"\",ISBLANK(E12707)),\"\",VLOOKUP(E12707,Sheet2!A:G,6,FALSE))","v":""},""]
[{"$f":"IF(OR(E12750=\"\",ISBLANK(E12750)),\"\",VLOOKUP(E12750,Sheet2!A:F,2,FALSE))","v":""},{"$f":"IF(OR(E12750=\"\",ISBLANK(E12750)),\"\",VLOOKUP(E12750,Sheet2!A:G,4,FALSE))","v":""},"",{"$f":"IF(OR(E12750=\"\",ISBLANK(E12750)),\"\",VLOOKUP(E12750,Sheet2!A:H,3,FALSE))","v":""},null,{"$f":"IF(OR(E12750=\"\",ISBLANK(E12750)),\"\",VLOOKUP(E12750,Sheet2!A:G,6,FALSE))","v":""},""]
[{"$f":"IF(OR(E12766=\"\",ISBLANK(E12766)),\"\",VLOOKUP(E12766,Sheet2!A:F,2,FALSE))","v":""},{"$f":"IF(OR(E12766=\"\",ISBLANK(E12766)),\"\",VLOOKUP(E12766,Sheet2!A:G,4,FALSE))","v":""},"",{"$f":"IF(OR(E12766=\"\",ISBLANK(E12766)),\"\",VLOOKUP(E12766,Sheet2!A:H,3,FALSE))","v":""},null,{"$f":"IF(OR(E12766=\"\",ISBLANK(E12766)),\"\",VLOOKUP(E12766,Sheet2!A:G,6,FALSE))","v":""},""]
[{"$f":"IF(OR(E12804=\"\",ISBLANK(E12804)),\"\",VLOOKUP(E12804,Sheet2!A:F,2,FALSE))","v":""},{"$f":"IF(OR(E12804=\"\",ISBLANK(E12804)),\"\",VLOOKUP(E12804,Sheet2!A:G,4,FALSE))","v":""},"",{"$f":"IF(OR(E12804=\"\",ISBLANK(E12804)),\"\",VLOOKUP(E12804,Sheet2!A:H,3,FALSE))","v":""},null,{"$f":"IF(OR(E12804=\"\",ISBLANK(E12804)),\"\",VLOOKUP(E12804,Sheet2!A:G,6,FALSE))","v":""},""]
[{"$f":"IF(OR(E12825=\"\",ISBLANK(E12825)),\"\",VLOOKUP(E12825,Sheet2!A:F,2,FALSE))","v":""},{"$f":"IF(OR(E12825=\"\",ISBLANK(E12825)),\"\",VLOOKUP(E12825,Sheet2!A:G,4,FALSE))","v":""},"",{"$f":"IF(OR(E12825=\"\",ISBLANK(E12825)),\"\",VLOOKUP(E12825,Sheet2!A:H,3,FALSE))","v":""},null,{"$f":"IF(OR(E12825=\"\",ISBLANK(E12825)),\"\",VLOOKUP(E12825,Sheet2!A:G,6,FALSE))","v":""},""]
[{"$f":"IF(OR(E12834=\"\",ISBLANK(E12834)),\"\",VLOOKUP(E12834,Sheet2!A:F,2,FALSE))","v":""},{"$f":"IF(OR(E12834=\"\",ISBLANK(E12834)),\"\",VLOOKUP(E12834,Sheet2!A:G,4,FALSE))","v":""},"",{"$f":"IF(OR(E12834=\"\",ISBLANK(E12834)),\"\",VLOOKUP(E12834,Sheet2!A:H,3,FALSE))","v":""},null,{"$f":"IF(OR(E12834=\"\",ISBLANK(E12834)),\"\",VLOOKUP(E12834,Sheet2!A:G,6,FALSE))","v":""},""]
[{"$f":"IF(OR(E12868=\"\",ISBLANK(E12868)),\"\",VLOOKUP(E12868,Sheet2!A:F,2,FALSE))","v":""},{"$f":"IF(OR(E12868=\"\",ISBLANK(E12868)),\"\",VLOOKUP(E12868,Sheet2!A:G,4,FALSE))","v":""},"",{"$f":"IF(OR(E12868=\"\",ISBLANK(E12868)),\"\",VLOOKUP(E12868,Sheet2!A:H,3,FALSE))","v":""},null,{"$f":"IF(OR(E12868=\"\",ISBLANK(E12868)),\"\",VLOOKUP(E12868,Sheet2!A:G,6,FALSE))","v":""},""]
[{"$f":"IF(OR(E12893=\"\",ISBLANK(E12893)),\"\",VLOOKUP(E12893,Sheet2!A:F,2,FALSE))","v":""},{"$f":"IF(OR(E12893=\"\",ISBLANK(E12893)),\"\",VLOOKUP(E12893,Sheet2!A:G,4,FALSE))","v":""},"",{"$f":"IF(OR(E12893=\"\",ISBLANK(E12893)),\"\",VLOOKUP(E12893,Sheet2!A:H,3,FALSE))","v":""},null,{"$f":"IF(OR(E12893=\"\",ISBLANK(E12893)),\"\",VLOOKUP(E12893,Sheet2!A:G,6,FALSE))","v":""},""]
[{"$f":"IF(OR(E12918=\"\",ISBLANK(E12918)),\"\",VLOOKUP(E12918,Sheet2!A:F,2,FALSE))","v":""},{"$f":"IF(OR(E12918=\"\",ISBLANK(E12918)),\"\",VLOOKUP(E12918,Sheet2!A:G,4,FALSE))","v":""},"",{"$f":"IF(OR(E12918=\"\",ISBLANK(E12918)),\"\",VLOOKUP(E12918,Sheet2!A:H,3,FALSE))","v":""},null,{"$f":"IF(OR(E12918=\"\",ISBLANK(E12918)),\"\",VLOOKUP(E12918,Sheet2!A:G,6,FALSE))","v":""},""]
[{"$f":"IF(OR(E12928=\"\",ISBLANK(E12928)),\"\",VLOOKUP(E12928,Sheet2!A:F,2,FALSE))","v":""},{"$f":"IF(OR(E12928=\"\",ISBLANK(E12928)),\"\",VLOOKUP(E12928,Sheet2!A:G,4,FALSE))","v":""},"",{"$f":"IF(OR(E12928=\"\",ISBLANK(E12928)),\"\",VLOOKUP(E12928,Sheet2!A:H,3,FALSE))","v":""},null,{"$f":"IF(OR(E12928=\"\",ISBLANK(E12928)),\"\",VLOOKUP(E12928,Sheet2!A:G,6,FALSE))","v":""},""]
[{"$f":"IF(OR(E12961=\"\",ISBLANK(E12961)),\"\",VLOOKUP(E12961,Sheet2!A:F,2,FALSE))","v":""},{"$f":"IF(OR(E12961=\"\",ISBLANK(E12961)),\"\",VLOOKUP(E12961,Sheet2!A:G,4,FALSE))","v":""},"",{"$f":"IF(OR(E12961=\"\",ISBLANK(E12961)),\"\",VLOOKUP(E12961,Sheet2!A:H,3,FALSE))","v":""},null,{"$f":"IF(OR(E12961=\"\",ISBLANK(E12961)),\"\",VLOOKUP(E12961,Sheet2!A:G,6,FALSE))","v":""},""]
[{"$f":"IF(OR(E12982=\"\",ISBLANK(E12982)),\"\",VLOOKUP(E12982,Sheet2!A:F,2,FALSE))","v":""},{"$f":"IF(OR(E12982=\"\",ISBLANK(E12982)),\"\",VLOOKUP(E12982,Sheet2!A:G,4,FALSE))","v":""},"",{"$f":"IF(OR(E12982=\"\",ISBLANK(E12982)),\"\",VLOOKUP(E12982,Sheet2!A:H,3,FALSE))","v":""},null,{"$f":"IF(OR(E12982=\"\",ISBLANK(E12982)),\"\",VLOOKUP(E12982,Sheet2!A:G,6,FALSE))","v":""},""]
[{"$f":"IF(OR(E13020=\"\",ISBLANK(E13020)),\"\",VLOOKUP(E13020,Sheet2!A:F,2,FALSE))","v":""},{"$f":"IF(OR(E13020=\"\",ISBLANK(E13020)),\"\",VLOOKUP(E13020,Sheet2!A:G,4,FALSE))","v":""},"",{"$f":"IF(OR(E13020=\"\",ISBLANK(E13020)),\"\",VLOOKUP(E13020,Sheet2!A:H,3,FALSE))","v":""},null,{"$f":"IF(OR(E13020=\"\",ISBLANK(E13020)),\"\",VLOOKUP(E13020,Sheet2!A:G,6,FALSE))","v":""},""]
[{"$f":"IF(OR(E13029=\"\",ISBLANK(E13029)),\"\",VLOOKUP(E13029,Sheet2!A:F,2,FALSE))","v":""},{"$f":"IF(OR(E13029=\"\",ISBLANK(E13029)),\"\",VLOOKUP(E13029,Sheet2!A:G,4,FALSE))","v":""},"",{"$f":"IF(OR(E13029=\"\",ISBLANK(E13029)),\"\",VLOOKUP(E13029,Sheet2!A:H,3,FALSE))","v":""},null,{"$f":"IF(OR(E13029=\"\",ISBLANK(E13029)),\"\",VLOOKUP(E13029,Sheet2!A:G,6,FALSE))","v":""},""]
[{"$f":"IF(OR(E13067=\"\",ISBLANK(E13067)),\"\",VLOOKUP(E13067,Sheet2!A:F,2,FALSE))","v":""},{"$f":"IF(OR(E13067=\"\",ISBLANK(E13067)),\"\",VLOOKUP(E13067,Sheet2!A:G,4,FALSE))","v":""},"",{"$f":"IF(OR(E13067=\"\",ISBLANK(E13067)),\"\",VLOOKUP(E13067,Sheet2!A:H,3,FALSE))","v":""},null,{"$f":"IF(OR(E13067=\"\",ISBLANK(E13067)),\"\",VLOOKUP(E13067,Sheet2!A:G,6,FALSE))","v":""},""]
[{"$f":"IF(OR(E13088=\"\",ISBLANK(E13088)),\"\",VLOOKUP(E13088,Sheet2!A:F,2,FALSE))","v":""},{"$f":"IF(OR(E13088=\"\",ISBLANK(E13088)),\"\",VLOOKUP(E13088,Sheet2!A:G,4,FALSE))","v":""},"",{"$f":"IF(OR(E13088=\"\",ISBLANK(E13088)),\"\",VLOOKUP(E13088,Sheet2!A:H,3,FALSE))","v":""},null,{"$f":"IF(OR(E13088=\"\",ISBLANK(E13088)),\"\",VLOOKUP(E13088,Sheet2!A:G,6,FALSE))","v":""},""]
[{"$f":"IF(OR(E13121=\"\",ISBLANK(E13121)),\"\",VLOOKUP(E13121,Sheet2!A:F,2,FALSE))","v":""},{"$f":"IF(OR(E13121=\"\",ISBLANK(E13121)),\"\",VLOOKUP(E13121,Sheet2!A:G,4,FALSE))","v":""},"",{"$f":"IF(OR(E13121=\"\",ISBLANK(E13121)),\"\",VLOOKUP(E13121,Sheet2!A:H,3,FALSE))","v":""},null,{"$f":"IF(OR(E13121=\"\",ISBLANK(E13121)),\"\",VLOOKUP(E13121,Sheet2!A:G,6,FALSE))","v":""},""]
[{"$f":"IF(OR(E13123=\"\",ISBLANK(E13123)),\"\",VLOOKUP(E13123,Sheet2!A:F,2,FALSE))","v":""},{"$f":"IF(OR(E13123=\"\",ISBLANK(E13123)),\"\",VLOOKUP(E13123,Sheet2!A:G,4,FALSE))","v":""},{"$f":"IF(D13123=0,\"\",D13123)","v":""},{"$f":"IF(OR(E13123=\"\",ISBLANK(E13123)),\"\",VLOOKUP(E13123,Sheet2!A:H,3,FALSE))","v":""},null,{"$f":"IF(OR(E13123=\"\",ISBLANK(E13123)),\"\",VLOOKUP(E13123,Sheet2!A:G,6,FALSE))","v":""},{"$f":"IF(F13123=0,\"\",F13123)","v":""}]
[{"$f":"IF(OR(E13156=\"\",ISBLANK(E13156)),\"\",VLOOKUP(E13156,Sheet2!A:F,2,FALSE))","v":""},{"$f":"IF(OR(E13156=\"\",ISBLANK(E13156)),\"\",VLOOKUP(E13156,Sheet2!A:G,4,FALSE))","v":""},"",{"$f":"IF(OR(E13156=\"\",ISBLANK(E13156)),\"\",VLOOKUP(E13156,Sheet2!A:H,3,FALSE))","v":""},null,{"$f":"IF(OR(E13156=\"\",ISBLANK(E13156)),\"\",VLOOKUP(E13156,Sheet2!A:G,6,FALSE))","v":""},""]
[{"$f":"IF(OR(E13185=\"\",ISBLANK(E13185)),\"\",VLOOKUP(E13185,Sheet2!A:F,2,FALSE))","v":""},{"$f":"IF(OR(E13185=\"\",ISBLANK(E13185)),\"\",VLOOKUP(E13185,Sheet2!A:G,4,FALSE))","v":""},"",{"$f":"IF(OR(E13185=\"\",ISBLANK(E13185)),\"\",VLOOKUP(E13185,Sheet2!A:H,3,FALSE))","v":""},null,{"$f":"IF(OR(E13185=\"\",ISBLANK(E13185)),\"\",VLOOKUP(E13185,Sheet2!A:G,6,FALSE))","v":""},""]
[{"$f":"IF(OR(E13215=\"\",ISBLANK(E13215)),\"\",VLOOKUP(E13215,Sheet2!A:F,2,FALSE))","v":""},{"$f":"IF(OR(E13215=\"\",ISBLANK(E13215)),\"\",VLOOKUP(E13215,Sheet2!A:G,4,FALSE))","v":""},"",{"$f":"IF(OR(E13215=\"\",ISBLANK(E13215)),\"\",VLOOKUP(E13215,Sheet2!A:H,3,FALSE))","v":""},null,{"$f":"IF(OR(E13215=\"\",ISBLANK(E13215)),\"\",VLOOKUP(E13215,Sheet2!A:G,6,FALSE))","v":""},""]
[{"$f":"IF(OR(E13235=\"\",ISBLANK(E13235)),\"\",VLOOKUP(E13235,Sheet2!A:F,2,FALSE))","v":""},{"$f":"IF(OR(E13235=\"\",ISBLANK(E13235)),\"\",VLOOKUP(E13235,Sheet2!A:G,4,FALSE))","v":""},"",{"$f":"IF(OR(E13235=\"\",ISBLANK(E13235)),\"\",VLOOKUP(E13235,Sheet2!A:H,3,FALSE))","v":""},null,{"$f":"IF(OR(E13235=\"\",ISBLANK(E13235)),\"\",VLOOKUP(E13235,Sheet2!A:G,6,FALSE))","v":""},""]
[{"$f":"IF(OR(E13250=\"\",ISBLANK(E13250)),\"\",VLOOKUP(E13250,Sheet2!A:F,2,FALSE))","v":""},{"$f":"IF(OR(E13250=\"\",ISBLANK(E13250)),\"\",VLOOKUP(E13250,Sheet2!A:G,4,FALSE))","v":""},"",{"$f":"IF(OR(E13250=\"\",ISBLANK(E13250)),\"\",VLOOKUP(E13250,Sheet2!A:H,3,FALSE))","v":""},null,{"$f":"IF(OR(E13250=\"\",ISBLANK(E13250)),\"\",VLOOKUP(E13250,Sheet2!A:G,6,FALSE))","v":""},""]
[{"$f":"IF(OR(E13283=\"\",ISBLANK(E13283)),\"\",VLOOKUP(E13283,Sheet2!A:F,2,FALSE))","v":""},{"$f":"IF(OR(E13283=\"\",ISBLANK(E13283)),\"\",VLOOKUP(E13283,Sheet2!A:G,4,FALSE))","v":""},"",{"$f":"IF(OR(E13283=\"\",ISBLANK(E13283)),\"\",VLOOKUP(E13283,Sheet2!A:H,3,FALSE))","v":""},null,{"$f":"IF(OR(E13283=\"\",ISBLANK(E13283)),\"\",VLOOKUP(E13283,Sheet2!A:G,6,FALSE))","v":""},""]
[{"$f":"IF(OR(E13299=\"\",ISBLANK(E13299)),\"\",VLOOKUP(E13299,Sheet2!A:F,2,FALSE))","v":""},{"$f":"IF(OR(E13299=\"\",ISBLANK(E13299)),\"\",VLOOKUP(E13299,Sheet2!A:G,4,FALSE))","v":""},"",{"$f":"IF(OR(E13299=\"\",ISBLANK(E13299)),\"\",VLOOKUP(E13299,Sheet2!A:H,3,FALSE))","v":""},null,{"$f":"IF(OR(E13299=\"\",ISBLANK(E13299)),\"\",VLOOKUP(E13299,Sheet2!A:G,6,FALSE))","v":""},""]
[{"$f":"IF(OR(E13318=\"\",ISBLANK(E13318)),\"\",VLOOKUP(E13318,Sheet2!A:F,2,FALSE))","v":""},{"$f":"IF(OR(E13318=\"\",ISBLANK(E13318)),\"\",VLOOKUP(E13318,Sheet2!A:G,4,FALSE))","v":""},"",{"$f":"IF(OR(E13318=\"\",ISBLANK(E13318)),\"\",VLOOKUP(E13318,Sheet2!A:H,3,FALSE))","v":""},null,{"$f":"IF(OR(E13318=\"\",ISBLANK(E13318)),\"\",VLOOKUP(E13318,Sheet2!A:G,6,FALSE))","v":""},""]
[{"$f":"IF(OR(E13349=\"\",ISBLANK(E13349)),\"\",VLOOKUP(E13349,Sheet2!A:F,2,FALSE))","v":""},{"$f":"IF(OR(E13349=\"\",ISBLANK(E13349)),\"\",VLOOKUP(E13349,Sheet2!A:G,4,FALSE))","v":""},"",{"$f":"IF(OR(E13349=\"\",ISBLANK(E13349)),\"\",VLOOKUP(E13349,Sheet2!A:H,3,FALSE))","v":""},null,{"$f":"IF(OR(E13349=\"\",ISBLANK(E13349)),\"\",VLOOKUP(E13349,Sheet2!A:G,6,FALSE))","v":""},""]
[{"$f":"IF(OR(E13385=\"\",ISBLANK(E13385)),\"\",VLOOKUP(E13385,Sheet2!A:F,2,FALSE))","v":""},{"$f":"IF(OR(E13385=\"\",ISBLANK(E13385)),\"\",VLOOKUP(E13385,Sheet2!A:G,4,FALSE))","v":""},"",{"$f":"IF(OR(E13385=\"\",ISBLANK(E13385)),\"\",VLOOKUP(E13385,Sheet2!A:H,3,FALSE))","v":""},null,{"$f":"IF(OR(E13385=\"\",ISBLANK(E13385)),\"\",VLOOKUP(E13385,Sheet2!A:G,6,FALSE))","v":""},""]
[{"$f":"IF(OR(E13410=\"\",ISBLANK(E13410)),\"\",VLOOKUP(E13410,Sheet2!A:F,2,FALSE))","v":""},{"$f":"IF(OR(E13410=\"\",ISBLANK(E13410)),\"\",VLOOKUP(E13410,Sheet2!A:G,4,FALSE))","v":""},"",{"$f":"IF(OR(E13410=\"\",ISBLANK(E13410)),\"\",VLOOKUP(E13410,Sheet2!A:H,3,FALSE))","v":""},null,{"$f":"IF(OR(E13410=\"\",ISBLANK(E13410)),\"\",VLOOKUP(E13410,Sheet2!A:G,6,FALSE))","v":""},""]
[{"$f":"IF(OR(E13438=\"\",ISBLANK(E13438)),\"\",VLOOKUP(E13438,Sheet2!A:F,2,FALSE))","v":""},{"$f":"IF(OR(E13438=\"\",ISBLANK(E13438)),\"\",VLOOKUP(E13438,Sheet2!A:G,4,FALSE))","v":""},"",{"$f":"IF(OR(E13438=\"\",ISBLANK(E13438)),\"\",VLOOKUP(E13438,Sheet2!A:H,3,FALSE))","v":""},null,{"$f":"IF(OR(E13438=\"\",ISBLANK(E13438)),\"\",VLOOKUP(E13438,Sheet2!A:G,6,FALSE))","v":""},""]
[{"$f":"IF(OR(E13445=\"\",ISBLANK(E13445)),\"\",VLOOKUP(E13445,Sheet2!A:F,2,FALSE))","v":""},{"$f":"IF(OR(E13445=\"\",ISBLANK(E13445)),\"\",VLOOKUP(E13445,Sheet2!A:G,4,FALSE))","v":""},"",{"$f":"IF(OR(E13445=\"\",ISBLANK(E13445)),\"\",VLOOKUP(E13445,Sheet2!A:H,3,FALSE))","v":""},null,{"$f":"IF(OR(E13445=\"\",ISBLANK(E13445)),\"\",VLOOKUP(E13445,Sheet2!A:G,6,FALSE))","v":""},""]
[{"$f":"IF(OR(E13478=\"\",ISBLANK(E13478)),\"\",VLOOKUP(E13478,Sheet2!A:F,2,FALSE))","v":""},{"$f":"IF(OR(E13478=\"\",ISBLANK(E13478)),\"\",VLOOKUP(E13478,Sheet2!A:G,4,FALSE))","v":""},"",{"$f":"IF(OR(E13478=\"\",ISBLANK(E13478)),\"\",VLOOKUP(E13478,Sheet2!A:H,3,FALSE))","v":""},null,{"$f":"IF(OR(E13478=\"\",ISBLANK(E13478)),\"\",VLOOKUP(E13478,Sheet2!A:G,6,FALSE))","v":""},""]
[{"$f":"IF(OR(E13502=\"\",ISBLANK(E13502)),\"\",VLOOKUP(E13502,Sheet2!A:F,2,FALSE))","v":""},{"$f":"IF(OR(E13502=\"\",ISBLANK(E13502)),\"\",VLOOKUP(E13502,Sheet2!A:G,4,FALSE))","v":""},"",{"$f":"IF(OR(E13502=\"\",ISBLANK(E13502)),\"\",VLOOKUP(E13502,Sheet2!A:H,3,FALSE))","v":""},null,{"$f":"IF(OR(E13502=\"\",ISBLANK(E13502)),\"\",VLOOKUP(E13502,Sheet2!A:G,6,FALSE))","v":""},""]
[{"$f":"IF(OR(E13513=\"\",ISBLANK(E13513)),\"\",VLOOKUP(E13513,Sheet2!A:F,2,FALSE))","v":""},{"$f":"IF(OR(E13513=\"\",ISBLANK(E13513)),\"\",VLOOKUP(E13513,Sheet2!A:G,4,FALSE))","v":""},"",{"$f":"IF(OR(E13513=\"\",ISBLANK(E13513)),\"\",VLOOKUP(E13513,Sheet2!A:H,3,FALSE))","v":""},null,{"$f":"IF(OR(E13513=\"\",ISBLANK(E13513)),\"\",VLOOKUP(E13513,Sheet2!A:G,6,FALSE))","v":""},""]
[{"$f":"IF(OR(E13552=\"\",ISBLANK(E13552)),\"\",VLOOKUP(E13552,Sheet2!A:F,2,FALSE))","v":""},{"$f":"IF(OR(E13552=\"\",ISBLANK(E13552)),\"\",VLOOKUP(E13552,Sheet2!A:G,4,FALSE))","v":""},"",{"$f":"IF(OR(E13552=\"\",ISBLANK(E13552)),\"\",VLOOKUP(E13552,Sheet2!A:H,3,FALSE))","v":""},null,{"$f":"IF(OR(E13552=\"\",ISBLANK(E13552)),\"\",VLOOKUP(E13552,Sheet2!A:G,6,FALSE))","v":""},""]
[{"$f":"IF(OR(E13572=\"\",ISBLANK(E13572)),\"\",VLOOKUP(E13572,Sheet2!A:F,2,FALSE))","v":""},{"$f":"IF(OR(E13572=\"\",ISBLANK(E13572)),\"\",VLOOKUP(E13572,Sheet2!A:G,4,FALSE))","v":""},"",{"$f":"IF(OR(E13572=\"\",ISBLANK(E13572)),\"\",VLOOKUP(E13572,Sheet2!A:H,3,FALSE))","v":""},null,{"$f":"IF(OR(E13572=\"\",ISBLANK(E13572)),\"\",VLOOKUP(E13572,Sheet2!A:G,6,FALSE))","v":""},""]
[{"$f":"IF(OR(E13605=\"\",ISBLANK(E13605)),\"\",VLOOKUP(E13605,Sheet2!A:F,2,FALSE))","v":""},{"$f":"IF(OR(E13605=\"\",ISBLANK(E13605)),\"\",VLOOKUP(E13605,Sheet2!A:G,4,FALSE))","v":""},"",{"$f":"IF(OR(E13605=\"\",ISBLANK(E13605)),\"\",VLOOKUP(E13605,Sheet2!A:H,3,FALSE))","v":""},null,{"$f":"IF(OR(E13605=\"\",ISBLANK(E13605)),\"\",VLOOKUP(E13605,Sheet2!A:G,6,FALSE))","v":""},""]
[{"$f":"IF(OR(E13616=\"\",ISBLANK(E13616)),\"\",VLOOKUP(E13616,Sheet2!A:F,2,FALSE))","v":""},{"$f":"IF(OR(E13616=\"\",ISBLANK(E13616)),\"\",VLOOKUP(E13616,Sheet2!A:G,4,FALSE))","v":""},"",{"$f":"IF(OR(E13616=\"\",ISBLANK(E13616)),\"\",VLOOKUP(E13616,Sheet2!A:H,3,FALSE))","v":""},null,{"$f":"IF(OR(E13616=\"\",ISBLANK(E13616)),\"\",VLOOKUP(E13616,Sheet2!A:G,6,FALSE))","v":""},""]
[{"$f":"IF(OR(E13640=\"\",ISBLANK(E13640)),\"\",VLOOKUP(E13640,Sheet2!A:F,2,FALSE))","v":""},{"$f":"IF(OR(E13640=\"\",ISBLANK(E13640)),\"\",VLOOKUP(E13640,Sheet2!A:G,4,FALSE))","v":""},"",{"$f":"IF(OR(E13640=\"\",ISBLANK(E13640)),\"\",VLOOKUP(E13640,Sheet2!A:H,3,FALSE))","v":""},null,{"$f":"IF(OR(E13640=\"\",ISBLANK(E13640)),\"\",VLOOKUP(E13640,Sheet2!A:G,6,FALSE))","v":""},""]
[{"$f":"IF(OR(E13666=\"\",ISBLANK(E13666)),\"\",VLOOKUP(E13666,Sheet2!A:F,2,FALSE))","v":""},{"$f":"IF(OR(E13666=\"\",ISBLANK(E13666)),\"\",VLOOKUP(E13666,Sheet2!A:G,4,FALSE))","v":""},"",{"$f":"IF(OR(E13666=\"\",ISBLANK(E13666)),\"\",VLOOKUP(E13666,Sheet2!A:H,3,FALSE))","v":""},null,{"$f":"IF(OR(E13666=\"\",ISBLANK(E13666)),\"\",VLOOKUP(E13666,Sheet2!A:G,6,FALSE))","v":""},""]
[{"$f":"IF(OR(E13683=\"\",ISBLANK(E13683)),\"\",VLOOKUP(E13683,Sheet2!A:F,2,FALSE))","v":""},{"$f":"IF(OR(E13683=\"\",ISBLANK(E13683)),\"\",VLOOKUP(E13683,Sheet2!A:G,4,FALSE))","v":""},"",{"$f":"IF(OR(E13683=\"\",ISBLANK(E13683)),\"\",VLOOKUP(E13683,Sheet2!A:H,3,FALSE))","v":""},null,{"$f":"IF(OR(E13683=\"\",ISBLANK(E13683)),\"\",VLOOKUP(E13683,Sheet2!A:G,6,FALSE))","v":""},""]
[{"$f":"IF(OR(E13708=\"\",ISBLANK(E13708)),\"\",VLOOKUP(E13708,Sheet2!A:F,2,FALSE))","v":""},{"$f":"IF(OR(E13708=\"\",ISBLANK(E13708)),\"\",VLOOKUP(E13708,Sheet2!A:G,4,FALSE))","v":""},"",{"$f":"IF(OR(E13708=\"\",ISBLANK(E13708)),\"\",VLOOKUP(E13708,Sheet2!A:H,3,FALSE))","v":""},null,{"$f":"IF(OR(E13708=\"\",ISBLANK(E13708)),\"\",VLOOKUP(E13708,Sheet2!A:G,6,FALSE))","v":""},""]
[{"$f":"IF(OR(E13755=\"\",ISBLANK(E13755)),\"\",VLOOKUP(E13755,Sheet2!A:F,2,FALSE))","v":""},{"$f":"IF(OR(E13755=\"\",ISBLANK(E13755)),\"\",VLOOKUP(E13755,Sheet2!A:G,4,FALSE))","v":""},"",{"$f":"IF(OR(E13755=\"\",ISBLANK(E13755)),\"\",VLOOKUP(E13755,Sheet2!A:H,3,FALSE))","v":""},null,{"$f":"IF(OR(E13755=\"\",ISBLANK(E13755)),\"\",VLOOKUP(E13755,Sheet2!A:G,6,FALSE))","v":""},""]
[{"$f":"IF(OR(E13767=\"\",ISBLANK(E13767)),\"\",VLOOKUP(E13767,Sheet2!A:F,2,FALSE))","v":""},{"$f":"IF(OR(E13767=\"\",ISBLANK(E13767)),\"\",VLOOKUP(E13767,Sheet2!A:G,4,FALSE))","v":""},"",{"$f":"IF(OR(E13767=\"\",ISBLANK(E13767)),\"\",VLOOKUP(E13767,Sheet2!A:H,3,FALSE))","v":""},null,{"$f":"IF(OR(E13767=\"\",ISBLANK(E13767)),\"\",VLOOKUP(E13767,Sheet2!A:G,6,FALSE))","v":""},""]
[{"$f":"IF(OR(E13780=\"\",ISBLANK(E13780)),\"\",VLOOKUP(E13780,Sheet2!A:F,2,FALSE))","v":""},{"$f":"IF(OR(E13780=\"\",ISBLANK(E13780)),\"\",VLOOKUP(E13780,Sheet2!A:G,4,FALSE))","v":""},"",{"$f":"IF(OR(E13780=\"\",ISBLANK(E13780)),\"\",VLOOKUP(E13780,Sheet2!A:H,3,FALSE))","v":""},null,{"$f":"IF(OR(E13780=\"\",ISBLANK(E13780)),\"\",VLOOKUP(E13780,Sheet2!A:G,6,FALSE))","v":""},""]
[{"$f":"IF(OR(E13810=\"\",ISBLANK(E13810)),\"\",VLOOKUP(E13810,Sheet2!A:F,2,FALSE))","v":""},{"$f":"IF(OR(E13810=\"\",ISBLANK(E13810)),\"\",VLOOKUP(E13810,Sheet2!A:G,4,FALSE))","v":""},"",{"$f":"IF(OR(E13810=\"\",ISBLANK(E13810)),\"\",VLOOKUP(E13810,Sheet2!A:H,3,FALSE))","v":""},null,{"$f":"IF(OR(E13810=\"\",ISBLANK(E13810)),\"\",VLOOKUP(E13810,Sheet2!A:G,6,FALSE))","v":""},""]
[{"$f":"IF(OR(E13835=\"\",ISBLANK(E13835)),\"\",VLOOKUP(E13835,Sheet2!A:F,2,FALSE))","v":""},{"$f":"IF(OR(E13835=\"\",ISBLANK(E13835)),\"\",VLOOKUP(E13835,Sheet2!A:G,4,FALSE))","v":""},"",{"$f":"IF(OR(E13835=\"\",ISBLANK(E13835)),\"\",VLOOKUP(E13835,Sheet2!A:H,3,FALSE))","v":""},null,{"$f":"IF(OR(E13835=\"\",ISBLANK(E13835)),\"\",VLOOKUP(E13835,Sheet2!A:G,6,FALSE))","v":""},""]
[{"$f":"IF(OR(E13869=\"\",ISBLANK(E13869)),\"\",VLOOKUP(E13869,Sheet2!A:F,2,FALSE))","v":""},{"$f":"IF(OR(E13869=\"\",ISBLANK(E13869)),\"\",VLOOKUP(E13869,Sheet2!A:G,4,FALSE))","v":""},"",{"$f":"IF(OR(E13869=\"\",ISBLANK(E13869)),\"\",VLOOKUP(E13869,Sheet2!A:H,3,FALSE))","v":""},null,{"$f":"IF(OR(E13869=\"\",ISBLANK(E13869)),\"\",VLOOKUP(E13869,Sheet2!A:G,6,FALSE))","v":""},""]
[{"$f":"IF(OR(E13894=\"\",ISBLANK(E13894)),\"\",VLOOKUP(E13894,Sheet2!A:F,2,FALSE))","v":""},{"$f":"IF(OR(E13894=\"\",ISBLANK(E13894)),\"\",VLOOKUP(E13894,Sheet2!A:G,4,FALSE))","v":""},"",{"$f":"IF(OR(E13894=\"\",ISBLANK(E13894)),\"\",VLOOKUP(E13894,Sheet2!A:H,3,FALSE))","v":""},null,{"$f":"IF(OR(E13894=\"\",ISBLANK(E13894)),\"\",VLOOKUP(E13894,Sheet2!A:G,6,FALSE))","v":""},""]
[{"$f":"IF(OR(E13903=\"\",ISBLANK(E13903)),\"\",VLOOKUP(E13903,Sheet2!A:F,2,FALSE))","v":""},{"$f":"IF(OR(E13903=\"\",ISBLANK(E13903)),\"\",VLOOKUP(E13903,Sheet2!A:G,4,FALSE))","v":""},"",{"$f":"IF(OR(E13903=\"\",ISBLANK(E13903)),\"\",VLOOKUP(E13903,Sheet2!A:H,3,FALSE))","v":""},null,{"$f":"IF(OR(E13903=\"\",ISBLANK(E13903)),\"\",VLOOKUP(E13903,Sheet2!A:G,6,FALSE))","v":""},""]
[{"$f":"IF(OR(E13933=\"\",ISBLANK(E13933)),\"\",VLOOKUP(E13933,Sheet2!A:F,2,FALSE))","v":""},{"$f":"IF(OR(E13933=\"\",ISBLANK(E13933)),\"\",VLOOKUP(E13933,Sheet2!A:G,4,FALSE))","v":""},"",{"$f":"IF(OR(E13933=\"\",ISBLANK(E13933)),\"\",VLOOKUP(E13933,Sheet2!A:H,3,FALSE))","v":""},null,{"$f":"IF(OR(E13933=\"\",ISBLANK(E13933)),\"\",VLOOKUP(E13933,Sheet2!A:G,6,FALSE))","v":""},""]
[{"$f":"IF(OR(E13962=\"\",ISBLANK(E13962)),\"\",VLOOKUP(E13962,Sheet2!A:F,2,FALSE))","v":""},{"$f":"IF(OR(E13962=\"\",ISBLANK(E13962)),\"\",VLOOKUP(E13962,Sheet2!A:G,4,FALSE))","v":""},"",{"$f":"IF(OR(E13962=\"\",ISBLANK(E13962)),\"\",VLOOKUP(E13962,Sheet2!A:H,3,FALSE))","v":""},null,{"$f":"IF(OR(E13962=\"\",ISBLANK(E13962)),\"\",VLOOKUP(E13962,Sheet2!A:G,6,FALSE))","v":""},""]
[{"$f":"IF(OR(E13983=\"\",ISBLANK(E13983)),\"\",VLOOKUP(E13983,Sheet2!A:F,2,FALSE))","v":""},{"$f":"IF(OR(E13983=\"\",ISBLANK(E13983)),\"\",VLOOKUP(E13983,Sheet2!A:G,4,FALSE))","v":""},"",{"$f":"IF(OR(E13983=\"\",ISBLANK(E13983)),\"\",VLOOKUP(E13983,Sheet2!A:H,3,FALSE))","v":""},null,{"$f":"IF(OR(E13983=\"\",ISBLANK(E13983)),\"\",VLOOKUP(E13983,Sheet2!A:G,6,FALSE))","v":""},""]
[{"$f":"IF(OR(E14005=\"\",ISBLANK(E14005)),\"\",VLOOKUP(E14005,Sheet2!A:F,2,FALSE))","v":""},{"$f":"IF(OR(E14005=\"\",ISBLANK(E14005)),\"\",VLOOKUP(E14005,Sheet2!A:G,4,FALSE))","v":""},"",{"$f":"IF(OR(E14005=\"\",ISBLANK(E14005)),\"\",VLOOKUP(E14005,Sheet2!A:H,3,FALSE))","v":""},null,{"$f":"IF(OR(E14005=\"\",ISBLANK(E14005)),\"\",VLOOKUP(E14005,Sheet2!A:G,6,FALSE))","v":""},""]
[{"$f":"IF(OR(E14030=\"\",ISBLANK(E14030)),\"\",VLOOKUP(E14030,Sheet2!A:F,2,FALSE))","v":""},{"$f":"IF(OR(E14030=\"\",ISBLANK(E14030)),\"\",VLOOKUP(E14030,Sheet2!A:G,4,FALSE))","v":""},"",{"$f":"IF(OR(E14030=\"\",ISBLANK(E14030)),\"\",VLOOKUP(E14030,Sheet2!A:H,3,FALSE))","v":""},null,{"$f":"IF(OR(E14030=\"\",ISBLANK(E14030)),\"\",VLOOKUP(E14030,Sheet2!A:G,6,FALSE))","v":""},""]
[{"$f":"IF(OR(E14072=\"\",ISBLANK(E14072)),\"\",VLOOKUP(E14072,Sheet2!A:F,2,FALSE))","v":""},{"$f":"IF(OR(E14072=\"\",ISBLANK(E14072)),\"\",VLOOKUP(E14072,Sheet2!A:G,4,FALSE))","v":""},"",{"$f":"IF(OR(E14072=\"\",ISBLANK(E14072)),\"\",VLOOKUP(E14072,Sheet2!A:H,3,FALSE))","v":""},null,{"$f":"IF(OR(E14072=\"\",ISBLANK(E14072)),\"\",VLOOKUP(E14072,Sheet2!A:G,6,FALSE))","v":""},""]
[{"$f":"IF(OR(E14089=\"\",ISBLANK(E14089)),\"\",VLOOKUP(E14089,Sheet2!A:F,2,FALSE))","v":""},{"$f":"IF(OR(E14089=\"\",ISBLANK(E14089)),\"\",VLOOKUP(E14089,Sheet2!A:G,4,FALSE))","v":""},"",{"$f":"IF(OR(E14089=\"\",ISBLANK(E14089)),\"\",VLOOKUP(E14089,Sheet2!A:H,3,FALSE))","v":""},null,{"$f":"IF(OR(E14089=\"\",ISBLANK(E14089)),\"\",VLOOKUP(E14089,Sheet2!A:G,6,FALSE))","v":""},""]
[{"$f":"IF(OR(E14097=\"\",ISBLANK(E14097)),\"\",VLOOKUP(E14097,Sheet2!A:F,2,FALSE))","v":""},{"$f":"IF(OR(E14097=\"\",ISBLANK(E14097)),\"\",VLOOKUP(E14097,Sheet2!A:G,4,FALSE))","v":""},"",{"$f":"IF(OR(E14097=\"\",ISBLANK(E14097)),\"\",VLOOKUP(E14097,Sheet2!A:H,3,FALSE))","v":""},null,{"$f":"IF(OR(E14097=\"\",ISBLANK(E14097)),\"\",VLOOKUP(E14097,Sheet2!A:G,6,FALSE))","v":""},""]
[{"$f":"IF(OR(E14132=\"\",ISBLANK(E14132)),\"\",VLOOKUP(E14132,Sheet2!A:F,2,FALSE))","v":""},{"$f":"IF(OR(E14132=\"\",ISBLANK(E14132)),\"\",VLOOKUP(E14132,Sheet2!A:G,4,FALSE))","v":""},"",{"$f":"IF(OR(E14132=\"\",ISBLANK(E14132)),\"\",VLOOKUP(E14132,Sheet2!A:H,3,FALSE))","v":""},null,{"$f":"IF(OR(E14132=\"\",ISBLANK(E14132)),\"\",VLOOKUP(E14132,Sheet2!A:G,6,FALSE))","v":""},""]
[{"$f":"IF(OR(E14157=\"\",ISBLANK(E14157)),\"\",VLOOKUP(E14157,Sheet2!A:F,2,FALSE))","v":""},{"$f":"IF(OR(E14157=\"\",ISBLANK(E14157)),\"\",VLOOKUP(E14157,Sheet2!A:G,4,FALSE))","v":""},"",{"$f":"IF(OR(E14157=\"\",ISBLANK(E14157)),\"\",VLOOKUP(E14157,Sheet2!A:H,3,FALSE))","v":""},null,{"$f":"IF(OR(E14157=\"\",ISBLANK(E14157)),\"\",VLOOKUP(E14157,Sheet2!A:G,6,FALSE))","v":""},""]
[{"$f":"IF(OR(E14186=\"\",ISBLANK(E14186)),\"\",VLOOKUP(E14186,Sheet2!A:F,2,FALSE))","v":""},{"$f":"IF(OR(E14186=\"\",ISBLANK(E14186)),\"\",VLOOKUP(E14186,Sheet2!A:G,4,FALSE))","v":""},"",{"$f":"IF(OR(E14186=\"\",ISBLANK(E14186)),\"\",VLOOKUP(E14186,Sheet2!A:H,3,FALSE))","v":""},null,{"$f":"IF(OR(E14186=\"\",ISBLANK(E14186)),\"\",VLOOKUP(E14186,Sheet2!A:G,6,FALSE))","v":""},""]
[{"$f":"IF(OR(E14200=\"\",ISBLANK(E14200)),\"\",VLOOKUP(E14200,Sheet2!A:F,2,FALSE))","v":""},{"$f":"IF(OR(E14200=\"\",ISBLANK(E14200)),\"\",VLOOKUP(E14200,Sheet2!A:G,4,FALSE))","v":""},"",{"$f":"IF(OR(E14200=\"\",ISBLANK(E14200)),\"\",VLOOKUP(E14200,Sheet2!A:H,3,FALSE))","v":""},null,{"$f":"IF(OR(E14200=\"\",ISBLANK(E14200)),\"\",VLOOKUP(E14200,Sheet2!A:G,6,FALSE))","v":""},""]
[{"$f":"IF(OR(E14236=\"\",ISBLANK(E14236)),\"\",VLOOKUP(E14236,Sheet2!A:F,2,FALSE))","v":""},{"$f":"IF(OR(E14236=\"\",ISBLANK(E14236)),\"\",VLOOKUP(E14236,Sheet2!A:G,4,FALSE))","v":""},"",{"$f":"IF(OR(E14236=\"\",ISBLANK(E14236)),\"\",VLOOKUP(E14236,Sheet2!A:H,3,FALSE))","v":""},null,{"$f":"IF(OR(E14236=\"\",ISBLANK(E14236)),\"\",VLOOKUP(E14236,Sheet2!A:G,6,FALSE))","v":""},""]
[{"$f":"IF(OR(E14259=\"\",ISBLANK(E14259)),\"\",VLOOKUP(E14259,Sheet2!A:F,2,FALSE))","v":""},{"$f":"IF(OR(E14259=\"\",ISBLANK(E14259)),\"\",VLOOKUP(E14259,Sheet2!A:G,4,FALSE))","v":""},"",{"$f":"IF(OR(E14259=\"\",ISBLANK(E14259)),\"\",VLOOKUP(E14259,Sheet2!A:H,3,FALSE))","v":""},null,{"$f":"IF(OR(E14259=\"\",ISBLANK(E14259)),\"\",VLOOKUP(E14259,Sheet2!A:G,6,FALSE))","v":""},""]
[{"$f":"IF(OR(E14284=\"\",ISBLANK(E14284)),\"\",VLOOKUP(E14284,Sheet2!A:F,2,FALSE))","v":""},{"$f":"IF(OR(E14284=\"\",ISBLANK(E14284)),\"\",VLOOKUP(E14284,Sheet2!A:G,4,FALSE))","v":""},"",{"$f":"IF(OR(E14284=\"\",ISBLANK(E14284)),\"\",VLOOKUP(E14284,Sheet2!A:H,3,FALSE))","v":""},null,{"$f":"IF(OR(E14284=\"\",ISBLANK(E14284)),\"\",VLOOKUP(E14284,Sheet2!A:G,6,FALSE))","v":""},""]
[{"$f":"IF(OR(E14300=\"\",ISBLANK(E14300)),\"\",VLOOKUP(E14300,Sheet2!A:F,2,FALSE))","v":""},{"$f":"IF(OR(E14300=\"\",ISBLANK(E14300)),\"\",VLOOKUP(E14300,Sheet2!A:G,4,FALSE))","v":""},"",{"$f":"IF(OR(E14300=\"\",ISBLANK(E14300)),\"\",VLOOKUP(E14300,Sheet2!A:H,3,FALSE))","v":""},null,{"$f":"IF(OR(E14300=\"\",ISBLANK(E14300)),\"\",VLOOKUP(E14300,Sheet2!A:G,6,FALSE))","v":""},""]
[{"$f":"IF(OR(E14327=\"\",ISBLANK(E14327)),\"\",VLOOKUP(E14327,Sheet2!A:F,2,FALSE))","v":""},{"$f":"IF(OR(E14327=\"\",ISBLANK(E14327)),\"\",VLOOKUP(E14327,Sheet2!A:G,4,FALSE))","v":""},"",{"$f":"IF(OR(E14327=\"\",ISBLANK(E14327)),\"\",VLOOKUP(E14327,Sheet2!A:H,3,FALSE))","v":""},null,{"$f":"IF(OR(E14327=\"\",ISBLANK(E14327)),\"\",VLOOKUP(E14327,Sheet2!A:G,6,FALSE))","v":""},""]
[{"$f":"IF(OR(E14352=\"\",ISBLANK(E14352)),\"\",VLOOKUP(E14352,Sheet2!A:F,2,FALSE))","v":""},{"$f":"IF(OR(E14352=\"\",ISBLANK(E14352)),\"\",VLOOKUP(E14352,Sheet2!A:G,4,FALSE))","v":""},"",{"$f":"IF(OR(E14352=\"\",ISBLANK(E14352)),\"\",VLOOKUP(E14352,Sheet2!A:H,3,FALSE))","v":""},null,{"$f":"IF(OR(E14352=\"\",ISBLANK(E14352)),\"\",VLOOKUP(E14352,Sheet2!A:G,6,FALSE))","v":""},""]
[{"$f":"IF(OR(E14389=\"\",ISBLANK(E14389)),\"\",VLOOKUP(E14389,Sheet2!A:F,2,FALSE))","v":""},{"$f":"IF(OR(E14389=\"\",ISBLANK(E14389)),\"\",VLOOKUP(E14389,Sheet2!A:G,4,FALSE))","v":""},"",{"$f":"IF(OR(E14389=\"\",ISBLANK(E14389)),\"\",VLOOKUP(E14389,Sheet2!A:H,3,FALSE))","v":""},null,{"$f":"IF(OR(E14389=\"\",ISBLANK(E14389)),\"\",VLOOKUP(E14389,Sheet2!A:G,6,FALSE))","v":""},""]
[{"$f":"IF(OR(E14411=\"\",ISBLANK(E14411)),\"\",VLOOKUP(E14411,Sheet2!A:F,2,FALSE))","v":""},{"$f":"IF(OR(E14411=\"\",ISBLANK(E14411)),\"\",VLOOKUP(E14411,Sheet2!A:G,4,FALSE))","v":""},"",{"$f":"IF(OR(E14411=\"\",ISBLANK(E14411)),\"\",VLOOKUP(E14411,Sheet2!A:H,3,FALSE))","v":""},null,{"$f":"IF(OR(E14411=\"\",ISBLANK(E14411)),\"\",VLOOKUP(E14411,Sheet2!A:G,6,FALSE))","v":""},""]
[{"$f":"IF(OR(E14414=\"\",ISBLANK(E14414)),\"\",VLOOKUP(E14414,Sheet2!A:F,2,FALSE))","v":""},{"$f":"IF(OR(E14414=\"\",ISBLANK(E14414)),\"\",VLOOKUP(E14414,Sheet2!A:G,4,FALSE))","v":""},"",{"$f":"IF(OR(E14414=\"\",ISBLANK(E14414)),\"\",VLOOKUP(E14414,Sheet2!A:H,3,FALSE))","v":""},null,{"$f":"IF(OR(E14414=\"\",ISBLANK(E14414)),\"\",VLOOKUP(E14414,Sheet2!A:G,6,FALSE))","v":""},""]
[{"$f":"IF(OR(E14454=\"\",ISBLANK(E14454)),\"\",VLOOKUP(E14454,Sheet2!A:F,2,FALSE))","v":""},{"$f":"IF(OR(E14454=\"\",ISBLANK(E14454)),\"\",VLOOKUP(E14454,Sheet2!A:G,4,FALSE))","v":""},"",{"$f":"IF(OR(E14454=\"\",ISBLANK(E14454)),\"\",VLOOKUP(E14454,Sheet2!A:H,3,FALSE))","v":""},null,{"$f":"IF(OR(E14454=\"\",ISBLANK(E14454)),\"\",VLOOKUP(E14454,Sheet2!A:G,6,FALSE))","v":""},""]
[{"$f":"IF(OR(E14479=\"\",ISBLANK(E14479)),\"\",VLOOKUP(E14479,Sheet2!A:F,2,FALSE))","v":""},{"$f":"IF(OR(E14479=\"\",ISBLANK(E14479)),\"\",VLOOKUP(E14479,Sheet2!A:G,4,FALSE))","v":""},"",{"$f":"IF(OR(E14479=\"\",ISBLANK(E14479)),\"\",VLOOKUP(E14479,Sheet2!A:H,3,FALSE))","v":""},null,{"$f":"IF(OR(E14479=\"\",ISBLANK(E14479)),\"\",VLOOKUP(E14479,Sheet2!A:G,6,FALSE))","v":""},""]
[{"$f":"IF(OR(E14503=\"\",ISBLANK(E14503)),\"\",VLOOKUP(E14503,Sheet2!A:F,2,FALSE))","v":""},{"$f":"IF(OR(E14503=\"\",ISBLANK(E14503)),\"\",VLOOKUP(E14503,Sheet2!A:G,4,FALSE))","v":""},"",{"$f":"IF(OR(E14503=\"\",ISBLANK(E14503)),\"\",VLOOKUP(E14503,Sheet2!A:H,3,FALSE))","v":""},null,{"$f":"IF(OR(E14503=\"\",ISBLANK(E14503)),\"\",VLOOKUP(E14503,Sheet2!A:G,6,FALSE))","v":""},""]
[{"$f":"IF(OR(E14522=\"\",ISBLANK(E14522)),\"\",VLOOKUP(E14522,Sheet2!A:F,2,FALSE))","v":""},{"$f":"IF(OR(E14522=\"\",ISBLANK(E14522)),\"\",VLOOKUP(E14522,Sheet2!A:G,4,FALSE))","v":""},"",{"$f":"IF(OR(E14522=\"\",ISBLANK(E14522)),\"\",VLOOKUP(E14522,Sheet2!A:H,3,FALSE))","v":""},null,{"$f":"IF(OR(E14522=\"\",ISBLANK(E14522)),\"\",VLOOKUP(E14522,Sheet2!A:G,6,FALSE))","v":""},""]
[{"$f":"IF(OR(E14553=\"\",ISBLANK(E14553)),\"\",VLOOKUP(E14553,Sheet2!A:F,2,FALSE))","v":""},{"$f":"IF(OR(E14553=\"\",ISBLANK(E14553)),\"\",VLOOKUP(E14553,Sheet2!A:G,4,FALSE))","v":""},"",{"$f":"IF(OR(E14553=\"\",ISBLANK(E14553)),\"\",VLOOKUP(E14553,Sheet2!A:H,3,FALSE))","v":""},null,{"$f":"IF(OR(E14553=\"\",ISBLANK(E14553)),\"\",VLOOKUP(E14553,Sheet2!A:G,6,FALSE))","v":""},""]
[{"$f":"IF(OR(E14581=\"\",ISBLANK(E14581)),\"\",VLOOKUP(E14581,Sheet2!A:F,2,FALSE))","v":""},{"$f":"IF(OR(E14581=\"\",ISBLANK(E14581)),\"\",VLOOKUP(E14581,Sheet2!A:G,4,FALSE))","v":""},"",{"$f":"IF(OR(E14581=\"\",ISBLANK(E14581)),\"\",VLOOKUP(E14581,Sheet2!A:H,3,FALSE))","v":""},null,{"$f":"IF(OR(E14581=\"\",ISBLANK(E14581)),\"\",VLOOKUP(E14581,Sheet2!A:G,6,FALSE))","v":""},""]
[{"$f":"IF(OR(E14606=\"\",ISBLANK(E14606)),\"\",VLOOKUP(E14606,Sheet2!A:F,2,FALSE))","v":""},{"$f":"IF(OR(E14606=\"\",ISBLANK(E14606)),\"\",VLOOKUP(E14606,Sheet2!A:G,4,FALSE))","v":""},"",{"$f":"IF(OR(E14606=\"\",ISBLANK(E14606)),\"\",VLOOKUP(E14606,Sheet2!A:H,3,FALSE))","v":""},null,{"$f":"IF(OR(E14606=\"\",ISBLANK(E14606)),\"\",VLOOKUP(E14606,Sheet2!A:G,6,FALSE))","v":""},""]
[{"$f":"IF(OR(E14617=\"\",ISBLANK(E14617)),\"\",VLOOKUP(E14617,Sheet2!A:F,2,FALSE))","v":""},{"$f":"IF(OR(E14617=\"\",ISBLANK(E14617)),\"\",VLOOKUP(E14617,Sheet2!A:G,4,FALSE))","v":""},"",{"$f":"IF(OR(E14617=\"\",ISBLANK(E14617)),\"\",VLOOKUP(E14617,Sheet2!A:H,3,FALSE))","v":""},null,{"$f":"IF(OR(E14617=\"\",ISBLANK(E14617)),\"\",VLOOKUP(E14617,Sheet2!A:G,6,FALSE))","v":""},""]
[{"$f":"IF(OR(E14649=\"\",ISBLANK(E14649)),\"\",VLOOKUP(E14649,Sheet2!A:F,2,FALSE))","v":""},{"$f":"IF(OR(E14649=\"\",ISBLANK(E14649)),\"\",VLOOKUP(E14649,Sheet2!A:G,4,FALSE))","v":""},"",{"$f":"IF(OR(E14649=\"\",ISBLANK(E14649)),\"\",VLOOKUP(E14649,Sheet2!A:H,3,FALSE))","v":""},null,{"$f":"IF(OR(E14649=\"\",ISBLANK(E14649)),\"\",VLOOKUP(E14649,Sheet2!A:G,6,FALSE))","v":""},""]
[{"$f":"IF(OR(E14667=\"\",ISBLANK(E14667)),\"\",VLOOKUP(E14667,Sheet2!A:F,2,FALSE))","v":""},{"$f":"IF(OR(E14667=\"\",ISBLANK(E14667)),\"\",VLOOKUP(E14667,Sheet2!A:G,4,FALSE))","v":""},"",{"$f":"IF(OR(E14667=\"\",ISBLANK(E14667)),\"\",VLOOKUP(E14667,Sheet2!A:H,3,FALSE))","v":""},null,{"$f":"IF(OR(E14667=\"\",ISBLANK(E14667)),\"\",VLOOKUP(E14667,Sheet2!A:G,6,FALSE))","v":""},""]
[{"$f":"IF(OR(E14684=\"\",ISBLANK(E14684)),\"\",VLOOKUP(E14684,Sheet2!A:F,2,FALSE))","v":""},{"$f":"IF(OR(E14684=\"\",ISBLANK(E14684)),\"\",VLOOKUP(E14684,Sheet2!A:G,4,FALSE))","v":""},"",{"$f":"IF(OR(E14684=\"\",ISBLANK(E14684)),\"\",VLOOKUP(E14684,Sheet2!A:H,3,FALSE))","v":""},null,{"$f":"IF(OR(E14684=\"\",ISBLANK(E14684)),\"\",VLOOKUP(E14684,Sheet2!A:G,6,FALSE))","v":""},""]
[{"$f":"IF(OR(E14709=\"\",ISBLANK(E14709)),\"\",VLOOKUP(E14709,Sheet2!A:F,2,FALSE))","v":""},{"$f":"IF(OR(E14709=\"\",ISBLANK(E14709)),\"\",VLOOKUP(E14709,Sheet2!A:G,4,FALSE))","v":""},"",{"$f":"IF(OR(E14709=\"\",ISBLANK(E14709)),\"\",VLOOKUP(E14709,Sheet2!A:H,3,FALSE))","v":""},null,{"$f":"IF(OR(E14709=\"\",ISBLANK(E14709)),\"\",VLOOKUP(E14709,Sheet2!A:G,6,FALSE))","v":""},""]
[{"$f":"IF(OR(E14731=\"\",ISBLANK(E14731)),\"\",VLOOKUP(E14731,Sheet2!A:F,2,FALSE))","v":""},{"$f":"IF(OR(E14731=\"\",ISBLANK(E14731)),\"\",VLOOKUP(E14731,Sheet2!A:G,4,FALSE))","v":""},"",{"$f":"IF(OR(E14731=\"\",ISBLANK(E14731)),\"\",VLOOKUP(E14731,Sheet2!A:H,3,FALSE))","v":""},null,{"$f":"IF(OR(E14731=\"\",ISBLANK(E14731)),\"\",VLOOKUP(E14731,Sheet2!A:G,6,FALSE))","v":""},""]
[{"$f":"IF(OR(E14776=\"\",ISBLANK(E14776)),\"\",VLOOKUP(E14776,Sheet2!A:F,2,FALSE))","v":""},{"$f":"IF(OR(E14776=\"\",ISBLANK(E14776)),\"\",VLOOKUP(E14776,Sheet2!A:G,4,FALSE))","v":""},"",{"$f":"IF(OR(E14776=\"\",ISBLANK(E14776)),\"\",VLOOKUP(E14776,Sheet2!A:H,3,FALSE))","v":""},null,{"$f":"IF(OR(E14776=\"\",ISBLANK(E14776)),\"\",VLOOKUP(E14776,Sheet2!A:G,6,FALSE))","v":""},""]
[{"$f":"IF(OR(E14801=\"\",ISBLANK(E14801)),\"\",VLOOKUP(E14801,Sheet2!A:F,2,FALSE))","v":""},{"$f":"IF(OR(E14801=\"\",ISBLANK(E14801)),\"\",VLOOKUP(E14801,Sheet2!A:G,4,FALSE))","v":""},"",{"$f":"IF(OR(E14801=\"\",ISBLANK(E14801)),\"\",VLOOKUP(E14801,Sheet2!A:H,3,FALSE))","v":""},null,{"$f":"IF(OR(E14801=\"\",ISBLANK(E14801)),\"\",VLOOKUP(E14801,Sheet2!A:G,6,FALSE))","v":""},""]
[{"$f":"IF(OR(E14820=\"\",ISBLANK(E14820)),\"\",VLOOKUP(E14820,Sheet2!A:F,2,FALSE))","v":""},{"$f":"IF(OR(E14820=\"\",ISBLANK(E14820)),\"\",VLOOKUP(E14820,Sheet2!A:G,4,FALSE))","v":""},"",{"$f":"IF(OR(E14820=\"\",ISBLANK(E14820)),\"\",VLOOKUP(E14820,Sheet2!A:H,3,FALSE))","v":""},null,{"$f":"IF(OR(E14820=\"\",ISBLANK(E14820)),\"\",VLOOKUP(E14820,Sheet2!A:G,6,FALSE))","v":""},""]
[{"$f":"IF(OR(E14844=\"\",ISBLANK(E14844)),\"\",VLOOKUP(E14844,Sheet2!A:F,2,FALSE))","v":""},{"$f":"IF(OR(E14844=\"\",ISBLANK(E14844)),\"\",VLOOKUP(E14844,Sheet2!A:G,4,FALSE))","v":""},"",{"$f":"IF(OR(E14844=\"\",ISBLANK(E14844)),\"\",VLOOKUP(E14844,Sheet2!A:H,3,FALSE))","v":""},null,{"$f":"IF(OR(E14844=\"\",ISBLANK(E14844)),\"\",VLOOKUP(E14844,Sheet2!A:G,6,FALSE))","v":""},""]
[{"$f":"IF(OR(E14870=\"\",ISBLANK(E14870)),\"\",VLOOKUP(E14870,Sheet2!A:F,2,FALSE))","v":""},{"$f":"IF(OR(E14870=\"\",ISBLANK(E14870)),\"\",VLOOKUP(E14870,Sheet2!A:G,4,FALSE))","v":""},"",{"$f":"IF(OR(E14870=\"\",ISBLANK(E14870)),\"\",VLOOKUP(E14870,Sheet2!A:H,3,FALSE))","v":""},null,{"$f":"IF(OR(E14870=\"\",ISBLANK(E14870)),\"\",VLOOKUP(E14870,Sheet2!A:G,6,FALSE))","v":""},""]
[{"$f":"IF(OR(E14879=\"\",ISBLANK(E14879)),\"\",VLOOKUP(E14879,Sheet2!A:F,2,FALSE))","v":""},{"$f":"IF(OR(E14879=\"\",ISBLANK(E14879)),\"\",VLOOKUP(E14879,Sheet2!A:G,4,FALSE))","v":""},"",{"$f":"IF(OR(E14879=\"\",ISBLANK(E14879)),\"\",VLOOKUP(E14879,Sheet2!A:H,3,FALSE))","v":""},null,{"$f":"IF(OR(E14879=\"\",ISBLANK(E14879)),\"\",VLOOKUP(E14879,Sheet2!A:G,6,FALSE))","v":""},""]
[{"$f":"IF(OR(E14904=\"\",ISBLANK(E14904)),\"\",VLOOKUP(E14904,Sheet2!A:F,2,FALSE))","v":""},{"$f":"IF(OR(E14904=\"\",ISBLANK(E14904)),\"\",VLOOKUP(E14904,Sheet2!A:G,4,FALSE))","v":""},"",{"$f":"IF(OR(E14904=\"\",ISBLANK(E14904)),\"\",VLOOKUP(E14904,Sheet2!A:H,3,FALSE))","v":""},null,{"$f":"IF(OR(E14904=\"\",ISBLANK(E14904)),\"\",VLOOKUP(E14904,Sheet2!A:G,6,FALSE))","v":""},""]
[{"$f":"IF(OR(E14934=\"\",ISBLANK(E14934)),\"\",VLOOKUP(E14934,Sheet2!A:F,2,FALSE))","v":""},{"$f":"IF(OR(E14934=\"\",ISBLANK(E14934)),\"\",VLOOKUP(E14934,Sheet2!A:G,4,FALSE))","v":""},"",{"$f":"IF(OR(E14934=\"\",ISBLANK(E14934)),\"\",VLOOKUP(E14934,Sheet2!A:H,3,FALSE))","v":""},null,{"$f":"IF(OR(E14934=\"\",ISBLANK(E14934)),\"\",VLOOKUP(E14934,Sheet2!A:G,6,FALSE))","v":""},""]
[{"$f":"IF(OR(E14971=\"\",ISBLANK(E14971)),\"\",VLOOKUP(E14971,Sheet2!A:F,2,FALSE))","v":""},{"$f":"IF(OR(E14971=\"\",ISBLANK(E14971)),\"\",VLOOKUP(E14971,Sheet2!A:G,4,FALSE))","v":""},"",{"$f":"IF(OR(E14971=\"\",ISBLANK(E14971)),\"\",VLOOKUP(E14971,Sheet2!A:H,3,FALSE))","v":""},null,{"$f":"IF(OR(E14971=\"\",ISBLANK(E14971)),\"\",VLOOKUP(E14971,Sheet2!A:G,6,FALSE))","v":""},""]
[{"$f":"IF(OR(E14984=\"\",ISBLANK(E14984)),\"\",VLOOKUP(E14984,Sheet2!A:F,2,FALSE))","v":""},{"$f":"IF(OR(E14984=\"\",ISBLANK(E14984)),\"\",VLOOKUP(E14984,Sheet2!A:G,4,FALSE))","v":""},"",{"$f":"IF(OR(E14984=\"\",ISBLANK(E14984)),\"\",VLOOKUP(E14984,Sheet2!A:H,3,FALSE))","v":""},null,{"$f":"IF(OR(E14984=\"\",ISBLANK(E14984)),\"\",VLOOKUP(E14984,Sheet2!A:G,6,FALSE))","v":""},""]
[{"$f":"IF(OR(E15006=\"\",ISBLANK(E15006)),\"\",VLOOKUP(E15006,Sheet2!A:F,2,FALSE))","v":""},{"$f":"IF(OR(E15006=\"\",ISBLANK(E15006)),\"\",VLOOKUP(E15006,Sheet2!A:G,4,FALSE))","v":""},"",{"$f":"IF(OR(E15006=\"\",ISBLANK(E15006)),\"\",VLOOKUP(E15006,Sheet2!A:H,3,FALSE))","v":""},null,{"$f":"IF(OR(E15006=\"\",ISBLANK(E15006)),\"\",VLOOKUP(E15006,Sheet2!A:G,6,FALSE))","v":""},""]
[{"$f":"IF(OR(E15039=\"\",ISBLANK(E15039)),\"\",VLOOKUP(E15039,Sheet2!A:F,2,FALSE))","v":""},{"$f":"IF(OR(E15039=\"\",ISBLANK(E15039)),\"\",VLOOKUP(E15039,Sheet2!A:G,4,FALSE))","v":""},"",{"$f":"IF(OR(E15039=\"\",ISBLANK(E15039)),\"\",VLOOKUP(E15039,Sheet2!A:H,3,FALSE))","v":""},null,{"$f":"IF(OR(E15039=\"\",ISBLANK(E15039)),\"\",VLOOKUP(E15039,Sheet2!A:G,6,FALSE))","v":""},""]
[{"$f":"IF(OR(E15048=\"\",ISBLANK(E15048)),\"\",VLOOKUP(E15048,Sheet2!A:F,2,FALSE))","v":""},{"$f":"IF(OR(E15048=\"\",ISBLANK(E15048)),\"\",VLOOKUP(E15048,Sheet2!A:G,4,FALSE))","v":""},"",{"$f":"IF(OR(E15048=\"\",ISBLANK(E15048)),\"\",VLOOKUP(E15048,Sheet2!A:H,3,FALSE))","v":""},null,{"$f":"IF(OR(E15048=\"\",ISBLANK(E15048)),\"\",VLOOKUP(E15048,Sheet2!A:G,6,FALSE))","v":""},""]
[{"$f":"IF(OR(E15074=\"\",ISBLANK(E15074)),\"\",VLOOKUP(E15074,Sheet2!A:F,2,FALSE))","v":""},{"$f":"IF(OR(E15074=\"\",ISBLANK(E15074)),\"\",VLOOKUP(E15074,Sheet2!A:G,4,FALSE))","v":""},"",{"$f":"IF(OR(E15074=\"\",ISBLANK(E15074)),\"\",VLOOKUP(E15074,Sheet2!A:H,3,FALSE))","v":""},null,{"$f":"IF(OR(E15074=\"\",ISBLANK(E15074)),\"\",VLOOKUP(E15074,Sheet2!A:G,6,FALSE))","v":""},""]
[{"$f":"IF(OR(E15098=\"\",ISBLANK(E15098)),\"\",VLOOKUP(E15098,Sheet2!A:F,2,FALSE))","v":""},{"$f":"IF(OR(E15098=\"\",ISBLANK(E15098)),\"\",VLOOKUP(E15098,Sheet2!A:G,4,FALSE))","v":""},"",{"$f":"IF(OR(E15098=\"\",ISBLANK(E15098)),\"\",VLOOKUP(E15098,Sheet2!A:H,3,FALSE))","v":""},null,{"$f":"IF(OR(E15098=\"\",ISBLANK(E15098)),\"\",VLOOKUP(E15098,Sheet2!A:G,6,FALSE))","v":""},""]
[{"$f":"IF(OR(E15133=\"\",ISBLANK(E15133)),\"\",VLOOKUP(E15133,Sheet2!A:F,2,FALSE))","v":""},{"$f":"IF(OR(E15133=\"\",ISBLANK(E15133)),\"\",VLOOKUP(E15133,Sheet2!A:G,4,FALSE))","v":""},"",{"$f":"IF(OR(E15133=\"\",ISBLANK(E15133)),\"\",VLOOKUP(E15133,Sheet2!A:H,3,FALSE))","v":""},null,{"$f":"IF(OR(E15133=\"\",ISBLANK(E15133)),\"\",VLOOKUP(E15133,Sheet2!A:G,6,FALSE))","v":""},""]
[{"$f":"IF(OR(E15166=\"\",ISBLANK(E15166)),\"\",VLOOKUP(E15166,Sheet2!A:F,2,FALSE))","v":""},{"$f":"IF(OR(E15166=\"\",ISBLANK(E15166)),\"\",VLOOKUP(E15166,Sheet2!A:G,4,FALSE))","v":""},"",{"$f":"IF(OR(E15166=\"\",ISBLANK(E15166)),\"\",VLOOKUP(E15166,Sheet2!A:H,3,FALSE))","v":""},null,{"$f":"IF(OR(E15166=\"\",ISBLANK(E15166)),\"\",VLOOKUP(E15166,Sheet2!A:G,6,FALSE))","v":""},""]
[{"$f":"IF(OR(E15187=\"\",ISBLANK(E15187)),\"\",VLOOKUP(E15187,Sheet2!A:F,2,FALSE))","v":""},{"$f":"IF(OR(E15187=\"\",ISBLANK(E15187)),\"\",VLOOKUP(E15187,Sheet2!A:G,4,FALSE))","v":""},"",{"$f":"IF(OR(E15187=\"\",ISBLANK(E15187)),\"\",VLOOKUP(E15187,Sheet2!A:H,3,FALSE))","v":""},null,{"$f":"IF(OR(E15187=\"\",ISBLANK(E15187)),\"\",VLOOKUP(E15187,Sheet2!A:G,6,FALSE))","v":""},""]
[{"$f":"IF(OR(E15201=\"\",ISBLANK(E15201)),\"\",VLOOKUP(E15201,Sheet2!A:F,2,FALSE))","v":""},{"$f":"IF(OR(E15201=\"\",ISBLANK(E15201)),\"\",VLOOKUP(E15201,Sheet2!A:G,4,FALSE))","v":""},"",{"$f":"IF(OR(E15201=\"\",ISBLANK(E15201)),\"\",VLOOKUP(E15201,Sheet2!A:H,3,FALSE))","v":""},null,{"$f":"IF(OR(E15201=\"\",ISBLANK(E15201)),\"\",VLOOKUP(E15201,Sheet2!A:G,6,FALSE))","v":""},""]
[{"$f":"IF(OR(E15226=\"\",ISBLANK(E15226)),\"\",VLOOKUP(E15226,Sheet2!A:F,2,FALSE))","v":""},{"$f":"IF(OR(E15226=\"\",ISBLANK(E15226)),\"\",VLOOKUP(E15226,Sheet2!A:G,4,FALSE))","v":""},"",{"$f":"IF(OR(E15226=\"\",ISBLANK(E15226)),\"\",VLOOKUP(E15226,Sheet2!A:H,3,FALSE))","v":""},null,{"$f":"IF(OR(E15226=\"\",ISBLANK(E15226)),\"\",VLOOKUP(E15226,Sheet2!A:G,6,FALSE))","v":""},""]
[{"$f":"IF(OR(E15251=\"\",ISBLANK(E15251)),\"\",VLOOKUP(E15251,Sheet2!A:F,2,FALSE))","v":""},{"$f":"IF(OR(E15251=\"\",ISBLANK(E15251)),\"\",VLOOKUP(E15251,Sheet2!A:G,4,FALSE))","v":""},"",{"$f":"IF(OR(E15251=\"\",ISBLANK(E15251)),\"\",VLOOKUP(E15251,Sheet2!A:H,3,FALSE))","v":""},null,{"$f":"IF(OR(E15251=\"\",ISBLANK(E15251)),\"\",VLOOKUP(E15251,Sheet2!A:G,6,FALSE))","v":""},""]
[{"$f":"IF(OR(E15269=\"\",ISBLANK(E15269)),\"\",VLOOKUP(E15269,Sheet2!A:F,2,FALSE))","v":""},{"$f":"IF(OR(E15269=\"\",ISBLANK(E15269)),\"\",VLOOKUP(E15269,Sheet2!A:G,4,FALSE))","v":""},"",{"$f":"IF(OR(E15269=\"\",ISBLANK(E15269)),\"\",VLOOKUP(E15269,Sheet2!A:H,3,FALSE))","v":""},null,{"$f":"IF(OR(E15269=\"\",ISBLANK(E15269)),\"\",VLOOKUP(E15269,Sheet2!A:G,6,FALSE))","v":""},""]
[{"$f":"IF(OR(E15301=\"\",ISBLANK(E15301)),\"\",VLOOKUP(E15301,Sheet2!A:F,2,FALSE))","v":""},{"$f":"IF(OR(E15301=\"\",ISBLANK(E15301)),\"\",VLOOKUP(E15301,Sheet2!A:G,4,FALSE))","v":""},"",{"$f":"IF(OR(E15301=\"\",ISBLANK(E15301)),\"\",VLOOKUP(E15301,Sheet2!A:H,3,FALSE))","v":""},null,{"$f":"IF(OR(E15301=\"\",ISBLANK(E15301)),\"\",VLOOKUP(E15301,Sheet2!A:G,6,FALSE))","v":""},""]
[{"$f":"IF(OR(E15328=\"\",ISBLANK(E15328)),\"\",VLOOKUP(E15328,Sheet2!A:F,2,FALSE))","v":""},{"$f":"IF(OR(E15328=\"\",ISBLANK(E15328)),\"\",VLOOKUP(E15328,Sheet2!A:G,4,FALSE))","v":""},"",{"$f":"IF(OR(E15328=\"\",ISBLANK(E15328)),\"\",VLOOKUP(E15328,Sheet2!A:H,3,FALSE))","v":""},null,{"$f":"IF(OR(E15328=\"\",ISBLANK(E15328)),\"\",VLOOKUP(E15328,Sheet2!A:G,6,FALSE))","v":""},""]
[{"$f":"IF(OR(E15361=\"\",ISBLANK(E15361)),\"\",VLOOKUP(E15361,Sheet2!A:F,2,FALSE))","v":""},{"$f":"IF(OR(E15361=\"\",ISBLANK(E15361)),\"\",VLOOKUP(E15361,Sheet2!A:G,4,FALSE))","v":""},"",{"$f":"IF(OR(E15361=\"\",ISBLANK(E15361)),\"\",VLOOKUP(E15361,Sheet2!A:H,3,FALSE))","v":""},null,{"$f":"IF(OR(E15361=\"\",ISBLANK(E15361)),\"\",VLOOKUP(E15361,Sheet2!A:G,6,FALSE))","v":""},""]
[{"$f":"IF(OR(E15365=\"\",ISBLANK(E15365)),\"\",VLOOKUP(E15365,Sheet2!A:F,2,FALSE))","v":""},{"$f":"IF(OR(E15365=\"\",ISBLANK(E15365)),\"\",VLOOKUP(E15365,Sheet2!A:G,4,FALSE))","v":""},"",{"$f":"IF(OR(E15365=\"\",ISBLANK(E15365)),\"\",VLOOKUP(E15365,Sheet2!A:H,3,FALSE))","v":""},null,{"$f":"IF(OR(E15365=\"\",ISBLANK(E15365)),\"\",VLOOKUP(E15365,Sheet2!A:G,6,FALSE))","v":""},""]
[{"$f":"IF(OR(E15396=\"\",ISBLANK(E15396)),\"\",VLOOKUP(E15396,Sheet2!A:F,2,FALSE))","v":""},{"$f":"IF(OR(E15396=\"\",ISBLANK(E15396)),\"\",VLOOKUP(E15396,Sheet2!A:G,4,FALSE))","v":""},"",{"$f":"IF(OR(E15396=\"\",ISBLANK(E15396)),\"\",VLOOKUP(E15396,Sheet2!A:H,3,FALSE))","v":""},null,{"$f":"IF(OR(E15396=\"\",ISBLANK(E15396)),\"\",VLOOKUP(E15396,Sheet2!A:G,6,FALSE))","v":""},""]
[{"$f":"IF(OR(E15415=\"\",ISBLANK(E15415)),\"\",VLOOKUP(E15415,Sheet2!A:F,2,FALSE))","v":""},{"$f":"IF(OR(E15415=\"\",ISBLANK(E15415)),\"\",VLOOKUP(E15415,Sheet2!A:G,4,FALSE))","v":""},"",{"$f":"IF(OR(E15415=\"\",ISBLANK(E15415)),\"\",VLOOKUP(E15415,Sheet2!A:H,3,FALSE))","v":""},null,{"$f":"IF(OR(E15415=\"\",ISBLANK(E15415)),\"\",VLOOKUP(E15415,Sheet2!A:G,6,FALSE))","v":""},""]
[{"$f":"IF(OR(E15455=\"\",ISBLANK(E15455)),\"\",VLOOKUP(E15455,Sheet2!A:F,2,FALSE))","v":""},{"$f":"IF(OR(E15455=\"\",ISBLANK(E15455)),\"\",VLOOKUP(E15455,Sheet2!A:G,4,FALSE))","v":""},"",{"$f":"IF(OR(E15455=\"\",ISBLANK(E15455)),\"\",VLOOKUP(E15455,Sheet2!A:H,3,FALSE))","v":""},null,{"$f":"IF(OR(E15455=\"\",ISBLANK(E15455)),\"\",VLOOKUP(E15455,Sheet2!A:G,6,FALSE))","v":""},""]
[{"$f":"IF(OR(E15464=\"\",ISBLANK(E15464)),\"\",VLOOKUP(E15464,Sheet2!A:F,2,FALSE))","v":""},{"$f":"IF(OR(E15464=\"\",ISBLANK(E15464)),\"\",VLOOKUP(E15464,Sheet2!A:G,4,FALSE))","v":""},"",{"$f":"IF(OR(E15464=\"\",ISBLANK(E15464)),\"\",VLOOKUP(E15464,Sheet2!A:H,3,FALSE))","v":""},null,{"$f":"IF(OR(E15464=\"\",ISBLANK(E15464)),\"\",VLOOKUP(E15464,Sheet2!A:G,6,FALSE))","v":""},""]
[{"$f":"IF(OR(E15504=\"\",ISBLANK(E15504)),\"\",VLOOKUP(E15504,Sheet2!A:F,2,FALSE))","v":""},{"$f":"IF(OR(E15504=\"\",ISBLANK(E15504)),\"\",VLOOKUP(E15504,Sheet2!A:G,4,FALSE))","v":""},"",{"$f":"IF(OR(E15504=\"\",ISBLANK(E15504)),\"\",VLOOKUP(E15504,Sheet2!A:H,3,FALSE))","v":""},null,{"$f":"IF(OR(E15504=\"\",ISBLANK(E15504)),\"\",VLOOKUP(E15504,Sheet2!A:G,6,FALSE))","v":""},""]
[{"$f":"IF(OR(E15523=\"\",ISBLANK(E15523)),\"\",VLOOKUP(E15523,Sheet2!A:F,2,FALSE))","v":""},{"$f":"IF(OR(E15523=\"\",ISBLANK(E15523)),\"\",VLOOKUP(E15523,Sheet2!A:G,4,FALSE))","v":""},"",{"$f":"IF(OR(E15523=\"\",ISBLANK(E15523)),\"\",VLOOKUP(E15523,Sheet2!A:H,3,FALSE))","v":""},null,{"$f":"IF(OR(E15523=\"\",ISBLANK(E15523)),\"\",VLOOKUP(E15523,Sheet2!A:G,6,FALSE))","v":""},""]
[{"$f":"IF(OR(E15558=\"\",ISBLANK(E15558)),\"\",VLOOKUP(E15558,Sheet2!A:F,2,FALSE))","v":""},{"$f":"IF(OR(E15558=\"\",ISBLANK(E15558)),\"\",VLOOKUP(E15558,Sheet2!A:G,4,FALSE))","v":""},"",{"$f":"IF(OR(E15558=\"\",ISBLANK(E15558)),\"\",VLOOKUP(E15558,Sheet2!A:H,3,FALSE))","v":""},null,{"$f":"IF(OR(E15558=\"\",ISBLANK(E15558)),\"\",VLOOKUP(E15558,Sheet2!A:G,6,FALSE))","v":""},""]
[{"$f":"IF(OR(E15582=\"\",ISBLANK(E15582)),\"\",VLOOKUP(E15582,Sheet2!A:F,2,FALSE))","v":""},{"$f":"IF(OR(E15582=\"\",ISBLANK(E15582)),\"\",VLOOKUP(E15582,Sheet2!A:G,4,FALSE))","v":""},"",{"$f":"IF(OR(E15582=\"\",ISBLANK(E15582)),\"\",VLOOKUP(E15582,Sheet2!A:H,3,FALSE))","v":""},null,{"$f":"IF(OR(E15582=\"\",ISBLANK(E15582)),\"\",VLOOKUP(E15582,Sheet2!A:G,6,FALSE))","v":""},""]
[{"$f":"IF(OR(E15591=\"\",ISBLANK(E15591)),\"\",VLOOKUP(E15591,Sheet2!A:F,2,FALSE))","v":""},{"$f":"IF(OR(E15591=\"\",ISBLANK(E15591)),\"\",VLOOKUP(E15591,Sheet2!A:G,4,FALSE))","v":""},"",{"$f":"IF(OR(E15591=\"\",ISBLANK(E15591)),\"\",VLOOKUP(E15591,Sheet2!A:H,3,FALSE))","v":""},null,{"$f":"IF(OR(E15591=\"\",ISBLANK(E15591)),\"\",VLOOKUP(E15591,Sheet2!A:G,6,FALSE))","v":""},""]
[{"$f":"IF(OR(E15618=\"\",ISBLANK(E15618)),\"\",VLOOKUP(E15618,Sheet2!A:F,2,FALSE))","v":""},{"$f":"IF(OR(E15618=\"\",ISBLANK(E15618)),\"\",VLOOKUP(E15618,Sheet2!A:G,4,FALSE))","v":""},"",{"$f":"IF(OR(E15618=\"\",ISBLANK(E15618)),\"\",VLOOKUP(E15618,Sheet2!A:H,3,FALSE))","v":""},null,{"$f":"IF(OR(E15618=\"\",ISBLANK(E15618)),\"\",VLOOKUP(E15618,Sheet2!A:G,6,FALSE))","v":""},""]
[{"$f":"IF(OR(E15650=\"\",ISBLANK(E15650)),\"\",VLOOKUP(E15650,Sheet2!A:F,2,FALSE))","v":""},{"$f":"IF(OR(E15650=\"\",ISBLANK(E15650)),\"\",VLOOKUP(E15650,Sheet2!A:G,4,FALSE))","v":""},"",{"$f":"IF(OR(E15650=\"\",ISBLANK(E15650)),\"\",VLOOKUP(E15650,Sheet2!A:H,3,FALSE))","v":""},null,{"$f":"IF(OR(E15650=\"\",ISBLANK(E15650)),\"\",VLOOKUP(E15650,Sheet2!A:G,6,FALSE))","v":""},""]
[{"$f":"IF(OR(E15659=\"\",ISBLANK(E15659)),\"\",VLOOKUP(E15659,Sheet2!A:F,2,FALSE))","v":""},{"$f":"IF(OR(E15659=\"\",ISBLANK(E15659)),\"\",VLOOKUP(E15659,Sheet2!A:G,4,FALSE))","v":""},"",{"$f":"IF(OR(E15659=\"\",ISBLANK(E15659)),\"\",VLOOKUP(E15659,Sheet2!A:H,3,FALSE))","v":""},null,{"$f":"IF(OR(E15659=\"\",ISBLANK(E15659)),\"\",VLOOKUP(E15659,Sheet2!A:G,6,FALSE))","v":""},""]
[{"$f":"IF(OR(E15682=\"\",ISBLANK(E15682)),\"\",VLOOKUP(E15682,Sheet2!A:F,2,FALSE))","v":""},{"$f":"IF(OR(E15682=\"\",ISBLANK(E15682)),\"\",VLOOKUP(E15682,Sheet2!A:G,4,FALSE))","v":""},"",{"$f":"IF(OR(E15682=\"\",ISBLANK(E15682)),\"\",VLOOKUP(E15682,Sheet2!A:H,3,FALSE))","v":""},null,{"$f":"IF(OR(E15682=\"\",ISBLANK(E15682)),\"\",VLOOKUP(E15682,Sheet2!A:G,6,FALSE))","v":""},""]
[{"$f":"IF(OR(E15718=\"\",ISBLANK(E15718)),\"\",VLOOKUP(E15718,Sheet2!A:F,2,FALSE))","v":""},{"$f":"IF(OR(E15718=\"\",ISBLANK(E15718)),\"\",VLOOKUP(E15718,Sheet2!A:G,4,FALSE))","v":""},"",{"$f":"IF(OR(E15718=\"\",ISBLANK(E15718)),\"\",VLOOKUP(E15718,Sheet2!A:H,3,FALSE))","v":""},null,{"$f":"IF(OR(E15718=\"\",ISBLANK(E15718)),\"\",VLOOKUP(E15718,Sheet2!A:G,6,FALSE))","v":""},""]
[{"$f":"IF(OR(E15732=\"\",ISBLANK(E15732)),\"\",VLOOKUP(E15732,Sheet2!A:F,2,FALSE))","v":""},{"$f":"IF(OR(E15732=\"\",ISBLANK(E15732)),\"\",VLOOKUP(E15732,Sheet2!A:G,4,FALSE))","v":""},"",{"$f":"IF(OR(E15732=\"\",ISBLANK(E15732)),\"\",VLOOKUP(E15732,Sheet2!A:H,3,FALSE))","v":""},null,{"$f":"IF(OR(E15732=\"\",ISBLANK(E15732)),\"\",VLOOKUP(E15732,Sheet2!A:G,6,FALSE))","v":""},""]
[{"$f":"IF(OR(E15777=\"\",ISBLANK(E15777)),\"\",VLOOKUP(E15777,Sheet2!A:F,2,FALSE))","v":""},{"$f":"IF(OR(E15777=\"\",ISBLANK(E15777)),\"\",VLOOKUP(E15777,Sheet2!A:G,4,FALSE))","v":""},"",{"$f":"IF(OR(E15777=\"\",ISBLANK(E15777)),\"\",VLOOKUP(E15777,Sheet2!A:H,3,FALSE))","v":""},null,{"$f":"IF(OR(E15777=\"\",ISBLANK(E15777)),\"\",VLOOKUP(E15777,Sheet2!A:G,6,FALSE))","v":""},""]
[{"$f":"IF(OR(E15786=\"\",ISBLANK(E15786)),\"\",VLOOKUP(E15786,Sheet2!A:F,2,FALSE))","v":""},{"$f":"IF(OR(E15786=\"\",ISBLANK(E15786)),\"\",VLOOKUP(E15786,Sheet2!A:G,4,FALSE))","v":""},"",{"$f":"IF(OR(E15786=\"\",ISBLANK(E15786)),\"\",VLOOKUP(E15786,Sheet2!A:H,3,FALSE))","v":""},null,{"$f":"IF(OR(E15786=\"\",ISBLANK(E15786)),\"\",VLOOKUP(E15786,Sheet2!A:G,6,FALSE))","v":""},""]
[{"$f":"IF(OR(E15821=\"\",ISBLANK(E15821)),\"\",VLOOKUP(E15821,Sheet2!A:F,2,FALSE))","v":""},{"$f":"IF(OR(E15821=\"\",ISBLANK(E15821)),\"\",VLOOKUP(E15821,Sheet2!A:G,4,FALSE))","v":""},"",{"$f":"IF(OR(E15821=\"\",ISBLANK(E15821)),\"\",VLOOKUP(E15821,Sheet2!A:H,3,FALSE))","v":""},null,{"$f":"IF(OR(E15821=\"\",ISBLANK(E15821)),\"\",VLOOKUP(E15821,Sheet2!A:G,6,FALSE))","v":""},""]
[{"$f":"IF(OR(E15845=\"\",ISBLANK(E15845)),\"\",VLOOKUP(E15845,Sheet2!A:F,2,FALSE))","v":""},{"$f":"IF(OR(E15845=\"\",ISBLANK(E15845)),\"\",VLOOKUP(E15845,Sheet2!A:G,4,FALSE))","v":""},"",{"$f":"IF(OR(E15845=\"\",ISBLANK(E15845)),\"\",VLOOKUP(E15845,Sheet2!A:H,3,FALSE))","v":""},null,{"$f":"IF(OR(E15845=\"\",ISBLANK(E15845)),\"\",VLOOKUP(E15845,Sheet2!A:G,6,FALSE))","v":""},""]
[{"$f":"IF(OR(E15875=\"\",ISBLANK(E15875)),\"\",VLOOKUP(E15875,Sheet2!A:F,2,FALSE))","v":""},{"$f":"IF(OR(E15875=\"\",ISBLANK(E15875)),\"\",VLOOKUP(E15875,Sheet2!A:G,4,FALSE))","v":""},{"$f":"IF(D15875=0,\"\",D15875)","v":""},{"$f":"IF(OR(E15875=\"\",ISBLANK(E15875)),\"\",VLOOKUP(E15875,Sheet2!A:H,3,FALSE))","v":""},null,{"$f":"IF(OR(E15875=\"\",ISBLANK(E15875)),\"\",VLOOKUP(E15875,Sheet2!A:G,6,FALSE))","v":""},{"$f":"IF(F15875=0,\"\",F15875)","v":""}]
[{"$f":"IF(OR(E15880=\"\",ISBLANK(E15880)),\"\",VLOOKUP(E15880,Sheet2!A:F,2,FALSE))","v":""},{"$f":"IF(OR(E15880=\"\",ISBLANK(E15880)),\"\",VLOOKUP(E15880,Sheet2!A:G,4,FALSE))","v":""},"",{"$f":"IF(OR(E15880=\"\",ISBLANK(E15880)),\"\",VLOOKUP(E15880,Sheet2!A:H,3,FALSE))","v":""},null,{"$f":"IF(OR(E15880=\"\",ISBLANK(E15880)),\"\",VLOOKUP(E15880,Sheet2!A:G,6,FALSE))","v":""},""]
[{"$f":"IF(OR(E15913=\"\",ISBLANK(E15913)),\"\",VLOOKUP(E15913,Sheet2!A:F,2,FALSE))","v":""},{"$f":"IF(OR(E15913=\"\",ISBLANK(E15913)),\"\",VLOOKUP(E15913,Sheet2!A:G,4,FALSE))","v":""},"",{"$f":"IF(OR(E15913=\"\",ISBLANK(E15913)),\"\",VLOOKUP(E15913,Sheet2!A:H,3,FALSE))","v":""},null,{"$f":"IF(OR(E15913=\"\",ISBLANK(E15913)),\"\",VLOOKUP(E15913,Sheet2!A:G,6,FALSE))","v":""},""]
[{"$f":"IF(OR(E15935=\"\",ISBLANK(E15935)),\"\",VLOOKUP(E15935,Sheet2!A:F,2,FALSE))","v":""},{"$f":"IF(OR(E15935=\"\",ISBLANK(E15935)),\"\",VLOOKUP(E15935,Sheet2!A:G,4,FALSE))","v":""},"",{"$f":"IF(OR(E15935=\"\",ISBLANK(E15935)),\"\",VLOOKUP(E15935,Sheet2!A:H,3,FALSE))","v":""},null,{"$f":"IF(OR(E15935=\"\",ISBLANK(E15935)),\"\",VLOOKUP(E15935,Sheet2!A:G,6,FALSE))","v":""},""]
[{"$f":"IF(OR(E15972=\"\",ISBLANK(E15972)),\"\",VLOOKUP(E15972,Sheet2!A:F,2,FALSE))","v":""},{"$f":"IF(OR(E15972=\"\",ISBLANK(E15972)),\"\",VLOOKUP(E15972,Sheet2!A:G,4,FALSE))","v":""},"",{"$f":"IF(OR(E15972=\"\",ISBLANK(E15972)),\"\",VLOOKUP(E15972,Sheet2!A:H,3,FALSE))","v":""},null,{"$f":"IF(OR(E15972=\"\",ISBLANK(E15972)),\"\",VLOOKUP(E15972,Sheet2!A:G,6,FALSE))","v":""},""]
[{"$f":"IF(OR(E15981=\"\",ISBLANK(E15981)),\"\",VLOOKUP(E15981,Sheet2!A:F,2,FALSE))","v":""},{"$f":"IF(OR(E15981=\"\",ISBLANK(E15981)),\"\",VLOOKUP(E15981,Sheet2!A:G,4,FALSE))","v":""},"",{"$f":"IF(OR(E15981=\"\",ISBLANK(E15981)),\"\",VLOOKUP(E15981,Sheet2!A:H,3,FALSE))","v":""},null,{"$f":"IF(OR(E15981=\"\",ISBLANK(E15981)),\"\",VLOOKUP(E15981,Sheet2!A:G,6,FALSE))","v":""},""]
[{"$f":"IF(OR(E15999=\"\",ISBLANK(E15999)),\"\",VLOOKUP(E15999,Sheet2!A:F,2,FALSE))","v":""},{"$f":"IF(OR(E15999=\"\",ISBLANK(E15999)),\"\",VLOOKUP(E15999,Sheet2!A:G,4,FALSE))","v":""},"",{"$f":"IF(OR(E15999=\"\",ISBLANK(E15999)),\"\",VLOOKUP(E15999,Sheet2!A:H,3,FALSE))","v":""},null,{"$f":"IF(OR(E15999=\"\",ISBLANK(E15999)),\"\",VLOOKUP(E15999,Sheet2!A:G,6,FALSE))","v":""},""]
[{"$f":"IF(OR(E16040=\"\",ISBLANK(E16040)),\"\",VLOOKUP(E16040,Sheet2!A:F,2,FALSE))","v":""},{"$f":"IF(OR(E16040=\"\",ISBLANK(E16040)),\"\",VLOOKUP(E16040,Sheet2!A:G,4,FALSE))","v":""},"",{"$f":"IF(OR(E16040=\"\",ISBLANK(E16040)),\"\",VLOOKUP(E16040,Sheet2!A:H,3,FALSE))","v":""},null,{"$f":"IF(OR(E16040=\"\",ISBLANK(E16040)),\"\",VLOOKUP(E16040,Sheet2!A:G,6,FALSE))","v":""},""]
[{"$f":"IF(OR(E16049=\"\",ISBLANK(E16049)),\"\",VLOOKUP(E16049,Sheet2!A:F,2,FALSE))","v":""},{"$f":"IF(OR(E16049=\"\",ISBLANK(E16049)),\"\",VLOOKUP(E16049,Sheet2!A:G,4,FALSE))","v":""},"",{"$f":"IF(OR(E16049=\"\",ISBLANK(E16049)),\"\",VLOOKUP(E16049,Sheet2!A:H,3,FALSE))","v":""},null,{"$f":"IF(OR(E16049=\"\",ISBLANK(E16049)),\"\",VLOOKUP(E16049,Sheet2!A:G,6,FALSE))","v":""},""]
[{"$f":"IF(OR(E16075=\"\",ISBLANK(E16075)),\"\",VLOOKUP(E16075,Sheet2!A:F,2,FALSE))","v":""},{"$f":"IF(OR(E16075=\"\",ISBLANK(E16075)),\"\",VLOOKUP(E16075,Sheet2!A:G,4,FALSE))","v":""},"",{"$f":"IF(OR(E16075=\"\",ISBLANK(E16075)),\"\",VLOOKUP(E16075,Sheet2!A:H,3,FALSE))","v":""},null,{"$f":"IF(OR(E16075=\"\",ISBLANK(E16075)),\"\",VLOOKUP(E16075,Sheet2!A:G,6,FALSE))","v":""},""]
[{"$f":"IF(OR(E16108=\"\",ISBLANK(E16108)),\"\",VLOOKUP(E16108,Sheet2!A:F,2,FALSE))","v":""},{"$f":"IF(OR(E16108=\"\",ISBLANK(E16108)),\"\",VLOOKUP(E16108,Sheet2!A:G,4,FALSE))","v":""},"",{"$f":"IF(OR(E16108=\"\",ISBLANK(E16108)),\"\",VLOOKUP(E16108,Sheet2!A:H,3,FALSE))","v":""},null,{"$f":"IF(OR(E16108=\"\",ISBLANK(E16108)),\"\",VLOOKUP(E16108,Sheet2!A:G,6,FALSE))","v":""},""]
[{"$f":"IF(OR(E16138=\"\",ISBLANK(E16138)),\"\",VLOOKUP(E16138,Sheet2!A:F,2,FALSE))","v":""},{"$f":"IF(OR(E16138=\"\",ISBLANK(E16138)),\"\",VLOOKUP(E16138,Sheet2!A:G,4,FALSE))","v":""},"",{"$f":"IF(OR(E16138=\"\",ISBLANK(E16138)),\"\",VLOOKUP(E16138,Sheet2!A:H,3,FALSE))","v":""},null,{"$f":"IF(OR(E16138=\"\",ISBLANK(E16138)),\"\",VLOOKUP(E16138,Sheet2!A:G,6,FALSE))","v":""},""]
[{"$f":"IF(OR(E16167=\"\",ISBLANK(E16167)),\"\",VLOOKUP(E16167,Sheet2!A:F,2,FALSE))","v":""},{"$f":"IF(OR(E16167=\"\",ISBLANK(E16167)),\"\",VLOOKUP(E16167,Sheet2!A:G,4,FALSE))","v":""},"",{"$f":"IF(OR(E16167=\"\",ISBLANK(E16167)),\"\",VLOOKUP(E16167,Sheet2!A:H,3,FALSE))","v":""},null,{"$f":"IF(OR(E16167=\"\",ISBLANK(E16167)),\"\",VLOOKUP(E16167,Sheet2!A:G,6,FALSE))","v":""},""]
[{"$f":"IF(OR(E16192=\"\",ISBLANK(E16192)),\"\",VLOOKUP(E16192,Sheet2!A:F,2,FALSE))","v":""},{"$f":"IF(OR(E16192=\"\",ISBLANK(E16192)),\"\",VLOOKUP(E16192,Sheet2!A:G,4,FALSE))","v":""},"",{"$f":"IF(OR(E16192=\"\",ISBLANK(E16192)),\"\",VLOOKUP(E16192,Sheet2!A:H,3,FALSE))","v":""},null,{"$f":"IF(OR(E16192=\"\",ISBLANK(E16192)),\"\",VLOOKUP(E16192,Sheet2!A:G,6,FALSE))","v":""},""]
[{"$f":"IF(OR(E16202=\"\",ISBLANK(E16202)),\"\",VLOOKUP(E16202,Sheet2!A:F,2,FALSE))","v":""},{"$f":"IF(OR(E16202=\"\",ISBLANK(E16202)),\"\",VLOOKUP(E16202,Sheet2!A:G,4,FALSE))","v":""},"",{"$f":"IF(OR(E16202=\"\",ISBLANK(E16202)),\"\",VLOOKUP(E16202,Sheet2!A:H,3,FALSE))","v":""},null,{"$f":"IF(OR(E16202=\"\",ISBLANK(E16202)),\"\",VLOOKUP(E16202,Sheet2!A:G,6,FALSE))","v":""},""]
[{"$f":"IF(OR(E16235=\"\",ISBLANK(E16235)),\"\",VLOOKUP(E16235,Sheet2!A:F,2,FALSE))","v":""},{"$f":"IF(OR(E16235=\"\",ISBLANK(E16235)),\"\",VLOOKUP(E16235,Sheet2!A:G,4,FALSE))","v":""},"",{"$f":"IF(OR(E16235=\"\",ISBLANK(E16235)),\"\",VLOOKUP(E16235,Sheet2!A:H,3,FALSE))","v":""},null,{"$f":"IF(OR(E16235=\"\",ISBLANK(E16235)),\"\",VLOOKUP(E16235,Sheet2!A:G,6,FALSE))","v":""},""]
[{"$f":"IF(OR(E16252=\"\",ISBLANK(E16252)),\"\",VLOOKUP(E16252,Sheet2!A:F,2,FALSE))","v":""},{"$f":"IF(OR(E16252=\"\",ISBLANK(E16252)),\"\",VLOOKUP(E16252,Sheet2!A:G,4,FALSE))","v":""},"",{"$f":"IF(OR(E16252=\"\",ISBLANK(E16252)),\"\",VLOOKUP(E16252,Sheet2!A:H,3,FALSE))","v":""},null,{"$f":"IF(OR(E16252=\"\",ISBLANK(E16252)),\"\",VLOOKUP(E16252,Sheet2!A:G,6,FALSE))","v":""},""]
[{"$f":"IF(OR(E16270=\"\",ISBLANK(E16270)),\"\",VLOOKUP(E16270,Sheet2!A:F,2,FALSE))","v":""},{"$f":"IF(OR(E16270=\"\",ISBLANK(E16270)),\"\",VLOOKUP(E16270,Sheet2!A:G,4,FALSE))","v":""},"",{"$f":"IF(OR(E16270=\"\",ISBLANK(E16270)),\"\",VLOOKUP(E16270,Sheet2!A:H,3,FALSE))","v":""},null,{"$f":"IF(OR(E16270=\"\",ISBLANK(E16270)),\"\",VLOOKUP(E16270,Sheet2!A:G,6,FALSE))","v":""},""]
[{"$f":"IF(OR(E16306=\"\",ISBLANK(E16306)),\"\",VLOOKUP(E16306,Sheet2!A:F,2,FALSE))","v":""},{"$f":"IF(OR(E16306=\"\",ISBLANK(E16306)),\"\",VLOOKUP(E16306,Sheet2!A:G,4,FALSE))","v":""},"",{"$f":"IF(OR(E16306=\"\",ISBLANK(E16306)),\"\",VLOOKUP(E16306,Sheet2!A:H,3,FALSE))","v":""},null,{"$f":"IF(OR(E16306=\"\",ISBLANK(E16306)),\"\",VLOOKUP(E16306,Sheet2!A:G,6,FALSE))","v":""},""]
[{"$f":"IF(OR(E16329=\"\",ISBLANK(E16329)),\"\",VLOOKUP(E16329,Sheet2!A:F,2,FALSE))","v":""},{"$f":"IF(OR(E16329=\"\",ISBLANK(E16329)),\"\",VLOOKUP(E16329,Sheet2!A:G,4,FALSE))","v":""},"",{"$f":"IF(OR(E16329=\"\",ISBLANK(E16329)),\"\",VLOOKUP(E16329,Sheet2!A:H,3,FALSE))","v":""},null,{"$f":"IF(OR(E16329=\"\",ISBLANK(E16329)),\"\",VLOOKUP(E16329,Sheet2!A:G,6,FALSE))","v":""},""]
[{"$f":"IF(OR(E16362=\"\",ISBLANK(E16362)),\"\",VLOOKUP(E16362,Sheet2!A:F,2,FALSE))","v":""},{"$f":"IF(OR(E16362=\"\",ISBLANK(E16362)),\"\",VLOOKUP(E16362,Sheet2!A:G,4,FALSE))","v":""},"",{"$f":"IF(OR(E16362=\"\",ISBLANK(E16362)),\"\",VLOOKUP(E16362,Sheet2!A:H,3,FALSE))","v":""},null,{"$f":"IF(OR(E16362=\"\",ISBLANK(E16362)),\"\",VLOOKUP(E16362,Sheet2!A:G,6,FALSE))","v":""},""]
[{"$f":"IF(OR(E16370=\"\",ISBLANK(E16370)),\"\",VLOOKUP(E16370,Sheet2!A:F,2,FALSE))","v":""},{"$f":"IF(OR(E16370=\"\",ISBLANK(E16370)),\"\",VLOOKUP(E16370,Sheet2!A:G,4,FALSE))","v":""},"",{"$f":"IF(OR(E16370=\"\",ISBLANK(E16370)),\"\",VLOOKUP(E16370,Sheet2!A:H,3,FALSE))","v":""},null,{"$f":"IF(OR(E16370=\"\",ISBLANK(E16370)),\"\",VLOOKUP(E16370,Sheet2!A:G,6,FALSE))","v":""},""]
[{"$f":"IF(OR(E16397=\"\",ISBLANK(E16397)),\"\",VLOOKUP(E16397,Sheet2!A:F,2,FALSE))","v":""},{"$f":"IF(OR(E16397=\"\",ISBLANK(E16397)),\"\",VLOOKUP(E16397,Sheet2!A:G,4,FALSE))","v":""},"",{"$f":"IF(OR(E16397=\"\",ISBLANK(E16397)),\"\",VLOOKUP(E16397,Sheet2!A:H,3,FALSE))","v":""},null,{"$f":"IF(OR(E16397=\"\",ISBLANK(E16397)),\"\",VLOOKUP(E16397,Sheet2!A:G,6,FALSE))","v":""},""]
[{"$f":"IF(OR(E16430=\"\",ISBLANK(E16430)),\"\",VLOOKUP(E16430,Sheet2!A:F,2,FALSE))","v":""},{"$f":"IF(OR(E16430=\"\",ISBLANK(E16430)),\"\",VLOOKUP(E16430,Sheet2!A:G,4,FALSE))","v":""},"",{"$f":"IF(OR(E16430=\"\",ISBLANK(E16430)),\"\",VLOOKUP(E16430,Sheet2!A:H,3,FALSE))","v":""},null,{"$f":"IF(OR(E16430=\"\",ISBLANK(E16430)),\"\",VLOOKUP(E16430,Sheet2!A:G,6,FALSE))","v":""},""]
[{"$f":"IF(OR(E16455=\"\",ISBLANK(E16455)),\"\",VLOOKUP(E16455,Sheet2!A:F,2,FALSE))","v":""},{"$f":"IF(OR(E16455=\"\",ISBLANK(E16455)),\"\",VLOOKUP(E16455,Sheet2!A:G,4,FALSE))","v":""},"",{"$f":"IF(OR(E16455=\"\",ISBLANK(E16455)),\"\",VLOOKUP(E16455,Sheet2!A:H,3,FALSE))","v":""},null,{"$f":"IF(OR(E16455=\"\",ISBLANK(E16455)),\"\",VLOOKUP(E16455,Sheet2!A:G,6,FALSE))","v":""},""]
[{"$f":"IF(OR(E16465=\"\",ISBLANK(E16465)),\"\",VLOOKUP(E16465,Sheet2!A:F,2,FALSE))","v":""},{"$f":"IF(OR(E16465=\"\",ISBLANK(E16465)),\"\",VLOOKUP(E16465,Sheet2!A:G,4,FALSE))","v":""},"",{"$f":"IF(OR(E16465=\"\",ISBLANK(E16465)),\"\",VLOOKUP(E16465,Sheet2!A:H,3,FALSE))","v":""},null,{"$f":"IF(OR(E16465=\"\",ISBLANK(E16465)),\"\",VLOOKUP(E16465,Sheet2!A:G,6,FALSE))","v":""},""]
[{"$f":"IF(OR(E16509=\"\",ISBLANK(E16509)),\"\",VLOOKUP(E16509,Sheet2!A:F,2,FALSE))","v":""},{"$f":"IF(OR(E16509=\"\",ISBLANK(E16509)),\"\",VLOOKUP(E16509,Sheet2!A:G,4,FALSE))","v":""},"",{"$f":"IF(OR(E16509=\"\",ISBLANK(E16509)),\"\",VLOOKUP(E16509,Sheet2!A:H,3,FALSE))","v":""},null,{"$f":"IF(OR(E16509=\"\",ISBLANK(E16509)),\"\",VLOOKUP(E16509,Sheet2!A:G,6,FALSE))","v":""},""]
[{"$f":"IF(OR(E16524=\"\",ISBLANK(E16524)),\"\",VLOOKUP(E16524,Sheet2!A:F,2,FALSE))","v":""},{"$f":"IF(OR(E16524=\"\",ISBLANK(E16524)),\"\",VLOOKUP(E16524,Sheet2!A:G,4,FALSE))","v":""},"",{"$f":"IF(OR(E16524=\"\",ISBLANK(E16524)),\"\",VLOOKUP(E16524,Sheet2!A:H,3,FALSE))","v":""},null,{"$f":"IF(OR(E16524=\"\",ISBLANK(E16524)),\"\",VLOOKUP(E16524,Sheet2!A:G,6,FALSE))","v":""},""]
[{"$f":"IF(OR(E16557=\"\",ISBLANK(E16557)),\"\",VLOOKUP(E16557,Sheet2!A:F,2,FALSE))","v":""},{"$f":"IF(OR(E16557=\"\",ISBLANK(E16557)),\"\",VLOOKUP(E16557,Sheet2!A:G,4,FALSE))","v":""},"",{"$f":"IF(OR(E16557=\"\",ISBLANK(E16557)),\"\",VLOOKUP(E16557,Sheet2!A:H,3,FALSE))","v":""},null,{"$f":"IF(OR(E16557=\"\",ISBLANK(E16557)),\"\",VLOOKUP(E16557,Sheet2!A:G,6,FALSE))","v":""},""]
[{"$f":"IF(OR(E16569=\"\",ISBLANK(E16569)),\"\",VLOOKUP(E16569,Sheet2!A:F,2,FALSE))","v":""},{"$f":"IF(OR(E16569=\"\",ISBLANK(E16569)),\"\",VLOOKUP(E16569,Sheet2!A:G,4,FALSE))","v":""},"",{"$f":"IF(OR(E16569=\"\",ISBLANK(E16569)),\"\",VLOOKUP(E16569,Sheet2!A:H,3,FALSE))","v":""},null,{"$f":"IF(OR(E16569=\"\",ISBLANK(E16569)),\"\",VLOOKUP(E16569,Sheet2!A:G,6,FALSE))","v":""},""]
[{"$f":"IF(OR(E16592=\"\",ISBLANK(E16592)),\"\",VLOOKUP(E16592,Sheet2!A:F,2,FALSE))","v":""},{"$f":"IF(OR(E16592=\"\",ISBLANK(E16592)),\"\",VLOOKUP(E16592,Sheet2!A:G,4,FALSE))","v":""},"",{"$f":"IF(OR(E16592=\"\",ISBLANK(E16592)),\"\",VLOOKUP(E16592,Sheet2!A:H,3,FALSE))","v":""},null,{"$f":"IF(OR(E16592=\"\",ISBLANK(E16592)),\"\",VLOOKUP(E16592,Sheet2!A:G,6,FALSE))","v":""},""]
[{"$f":"IF(OR(E16623=\"\",ISBLANK(E16623)),\"\",VLOOKUP(E16623,Sheet2!A:F,2,FALSE))","v":""},{"$f":"IF(OR(E16623=\"\",ISBLANK(E16623)),\"\",VLOOKUP(E16623,Sheet2!A:G,4,FALSE))","v":""},"",{"$f":"IF(OR(E16623=\"\",ISBLANK(E16623)),\"\",VLOOKUP(E16623,Sheet2!A:H,3,FALSE))","v":""},null,{"$f":"IF(OR(E16623=\"\",ISBLANK(E16623)),\"\",VLOOKUP(E16623,Sheet2!A:G,6,FALSE))","v":""},""]
[{"$f":"IF(OR(E16651=\"\",ISBLANK(E16651)),\"\",VLOOKUP(E16651,Sheet2!A:F,2,FALSE))","v":""},{"$f":"IF(OR(E16651=\"\",ISBLANK(E16651)),\"\",VLOOKUP(E16651,Sheet2!A:G,4,FALSE))","v":""},"",{"$f":"IF(OR(E16651=\"\",ISBLANK(E16651)),\"\",VLOOKUP(E16651,Sheet2!A:H,3,FALSE))","v":""},null,{"$f":"IF(OR(E16651=\"\",ISBLANK(E16651)),\"\",VLOOKUP(E16651,Sheet2!A:G,6,FALSE))","v":""},""]
[{"$f":"IF(OR(E16660=\"\",ISBLANK(E16660)),\"\",VLOOKUP(E16660,Sheet2!A:F,2,FALSE))","v":""},{"$f":"IF(OR(E16660=\"\",ISBLANK(E16660)),\"\",VLOOKUP(E16660,Sheet2!A:G,4,FALSE))","v":""},"",{"$f":"IF(OR(E16660=\"\",ISBLANK(E16660)),\"\",VLOOKUP(E16660,Sheet2!A:H,3,FALSE))","v":""},null,{"$f":"IF(OR(E16660=\"\",ISBLANK(E16660)),\"\",VLOOKUP(E16660,Sheet2!A:G,6,FALSE))","v":""},""]
[{"$f":"IF(OR(E16687=\"\",ISBLANK(E16687)),\"\",VLOOKUP(E16687,Sheet2!A:F,2,FALSE))","v":""},{"$f":"IF(OR(E16687=\"\",ISBLANK(E16687)),\"\",VLOOKUP(E16687,Sheet2!A:G,4,FALSE))","v":""},"",{"$f":"IF(OR(E16687=\"\",ISBLANK(E16687)),\"\",VLOOKUP(E16687,Sheet2!A:H,3,FALSE))","v":""},null,{"$f":"IF(OR(E16687=\"\",ISBLANK(E16687)),\"\",VLOOKUP(E16687,Sheet2!A:G,6,FALSE))","v":""},""]
[{"$f":"IF(OR(E16719=\"\",ISBLANK(E16719)),\"\",VLOOKUP(E16719,Sheet2!A:F,2,FALSE))","v":""},{"$f":"IF(OR(E16719=\"\",ISBLANK(E16719)),\"\",VLOOKUP(E16719,Sheet2!A:G,4,FALSE))","v":""},"",{"$f":"IF(OR(E16719=\"\",ISBLANK(E16719)),\"\",VLOOKUP(E16719,Sheet2!A:H,3,FALSE))","v":""},null,{"$f":"IF(OR(E16719=\"\",ISBLANK(E16719)),\"\",VLOOKUP(E16719,Sheet2!A:G,6,FALSE))","v":""},""]
[{"$f":"IF(OR(E16737=\"\",ISBLANK(E16737)),\"\",VLOOKUP(E16737,Sheet2!A:F,2,FALSE))","v":""},{"$f":"IF(OR(E16737=\"\",ISBLANK(E16737)),\"\",VLOOKUP(E16737,Sheet2!A:G,4,FALSE))","v":""},"",{"$f":"IF(OR(E16737=\"\",ISBLANK(E16737)),\"\",VLOOKUP(E16737,Sheet2!A:H,3,FALSE))","v":""},null,{"$f":"IF(OR(E16737=\"\",ISBLANK(E16737)),\"\",VLOOKUP(E16737,Sheet2!A:G,6,FALSE))","v":""},""]
[{"$f":"IF(OR(E16778=\"\",ISBLANK(E16778)),\"\",VLOOKUP(E16778,Sheet2!A:F,2,FALSE))","v":""},{"$f":"IF(OR(E16778=\"\",ISBLANK(E16778)),\"\",VLOOKUP(E16778,Sheet2!A:G,4,FALSE))","v":""},"",{"$f":"IF(OR(E16778=\"\",ISBLANK(E16778)),\"\",VLOOKUP(E16778,Sheet2!A:H,3,FALSE))","v":""},null,{"$f":"IF(OR(E16778=\"\",ISBLANK(E16778)),\"\",VLOOKUP(E16778,Sheet2!A:G,6,FALSE))","v":""},""]
[{"$f":"IF(OR(E16787=\"\",ISBLANK(E16787)),\"\",VLOOKUP(E16787,Sheet2!A:F,2,FALSE))","v":""},{"$f":"IF(OR(E16787=\"\",ISBLANK(E16787)),\"\",VLOOKUP(E16787,Sheet2!A:G,4,FALSE))","v":""},"",{"$f":"IF(OR(E16787=\"\",ISBLANK(E16787)),\"\",VLOOKUP(E16787,Sheet2!A:H,3,FALSE))","v":""},null,{"$f":"IF(OR(E16787=\"\",ISBLANK(E16787)),\"\",VLOOKUP(E16787,Sheet2!A:G,6,FALSE))","v":""},""]
[{"$f":"IF(OR(E16826=\"\",ISBLANK(E16826)),\"\",VLOOKUP(E16826,Sheet2!A:F,2,FALSE))","v":""},{"$f":"IF(OR(E16826=\"\",ISBLANK(E16826)),\"\",VLOOKUP(E16826,Sheet2!A:G,4,FALSE))","v":""},"",{"$f":"IF(OR(E16826=\"\",ISBLANK(E16826)),\"\",VLOOKUP(E16826,Sheet2!A:H,3,FALSE))","v":""},null,{"$f":"IF(OR(E16826=\"\",ISBLANK(E16826)),\"\",VLOOKUP(E16826,Sheet2!A:G,6,FALSE))","v":""},""]
[{"$f":"IF(OR(E16846=\"\",ISBLANK(E16846)),\"\",VLOOKUP(E16846,Sheet2!A:F,2,FALSE))","v":""},{"$f":"IF(OR(E16846=\"\",ISBLANK(E16846)),\"\",VLOOKUP(E16846,Sheet2!A:G,4,FALSE))","v":""},"",{"$f":"IF(OR(E16846=\"\",ISBLANK(E16846)),\"\",VLOOKUP(E16846,Sheet2!A:H,3,FALSE))","v":""},null,{"$f":"IF(OR(E16846=\"\",ISBLANK(E16846)),\"\",VLOOKUP(E16846,Sheet2!A:G,6,FALSE))","v":""},""]
[{"$f":"IF(OR(E16855=\"\",ISBLANK(E16855)),\"\",VLOOKUP(E16855,Sheet2!A:F,2,FALSE))","v":""},{"$f":"IF(OR(E16855=\"\",ISBLANK(E16855)),\"\",VLOOKUP(E16855,Sheet2!A:G,4,FALSE))","v":""},"",{"$f":"IF(OR(E16855=\"\",ISBLANK(E16855)),\"\",VLOOKUP(E16855,Sheet2!A:H,3,FALSE))","v":""},null,{"$f":"IF(OR(E16855=\"\",ISBLANK(E16855)),\"\",VLOOKUP(E16855,Sheet2!A:G,6,FALSE))","v":""},""]
[{"$f":"IF(OR(E16890=\"\",ISBLANK(E16890)),\"\",VLOOKUP(E16890,Sheet2!A:F,2,FALSE))","v":""},{"$f":"IF(OR(E16890=\"\",ISBLANK(E16890)),\"\",VLOOKUP(E16890,Sheet2!A:G,4,FALSE))","v":""},"",{"$f":"IF(OR(E16890=\"\",ISBLANK(E16890)),\"\",VLOOKUP(E16890,Sheet2!A:H,3,FALSE))","v":""},null,{"$f":"IF(OR(E16890=\"\",ISBLANK(E16890)),\"\",VLOOKUP(E16890,Sheet2!A:G,6,FALSE))","v":""},""]
[{"$f":"IF(OR(E16914=\"\",ISBLANK(E16914)),\"\",VLOOKUP(E16914,Sheet2!A:F,2,FALSE))","v":""},{"$f":"IF(OR(E16914=\"\",ISBLANK(E16914)),\"\",VLOOKUP(E16914,Sheet2!A:G,4,FALSE))","v":""},"",{"$f":"IF(OR(E16914=\"\",ISBLANK(E16914)),\"\",VLOOKUP(E16914,Sheet2!A:H,3,FALSE))","v":""},null,{"$f":"IF(OR(E16914=\"\",ISBLANK(E16914)),\"\",VLOOKUP(E16914,Sheet2!A:G,6,FALSE))","v":""},""]
[{"$f":"IF(OR(E16940=\"\",ISBLANK(E16940)),\"\",VLOOKUP(E16940,Sheet2!A:F,2,FALSE))","v":""},{"$f":"IF(OR(E16940=\"\",ISBLANK(E16940)),\"\",VLOOKUP(E16940,Sheet2!A:G,4,FALSE))","v":""},"",{"$f":"IF(OR(E16940=\"\",ISBLANK(E16940)),\"\",VLOOKUP(E16940,Sheet2!A:H,3,FALSE))","v":""},null,{"$f":"IF(OR(E16940=\"\",ISBLANK(E16940)),\"\",VLOOKUP(E16940,Sheet2!A:G,6,FALSE))","v":""},""]
[{"$f":"IF(OR(E16973=\"\",ISBLANK(E16973)),\"\",VLOOKUP(E16973,Sheet2!A:F,2,FALSE))","v":""},{"$f":"IF(OR(E16973=\"\",ISBLANK(E16973)),\"\",VLOOKUP(E16973,Sheet2!A:G,4,FALSE))","v":""},"",{"$f":"IF(OR(E16973=\"\",ISBLANK(E16973)),\"\",VLOOKUP(E16973,Sheet2!A:H,3,FALSE))","v":""},null,{"$f":"IF(OR(E16973=\"\",ISBLANK(E16973)),\"\",VLOOKUP(E16973,Sheet2!A:G,6,FALSE))","v":""},""]
[{"$f":"IF(OR(E16982=\"\",ISBLANK(E16982)),\"\",VLOOKUP(E16982,Sheet2!A:F,2,FALSE))","v":""},{"$f":"IF(OR(E16982=\"\",ISBLANK(E16982)),\"\",VLOOKUP(E16982,Sheet2!A:G,4,FALSE))","v":""},"",{"$f":"IF(OR(E16982=\"\",ISBLANK(E16982)),\"\",VLOOKUP(E16982,Sheet2!A:H,3,FALSE))","v":""},null,{"$f":"IF(OR(E16982=\"\",ISBLANK(E16982)),\"\",VLOOKUP(E16982,Sheet2!A:G,6,FALSE))","v":""},""]
[{"$f":"IF(OR(E17004=\"\",ISBLANK(E17004)),\"\",VLOOKUP(E17004,Sheet2!A:F,2,FALSE))","v":""},{"$f":"IF(OR(E17004=\"\",ISBLANK(E17004)),\"\",VLOOKUP(E17004,Sheet2!A:G,4,FALSE))","v":""},"",{"$f":"IF(OR(E17004=\"\",ISBLANK(E17004)),\"\",VLOOKUP(E17004,Sheet2!A:H,3,FALSE))","v":""},null,{"$f":"IF(OR(E17004=\"\",ISBLANK(E17004)),\"\",VLOOKUP(E17004,Sheet2!A:G,6,FALSE))","v":""},""]
[{"$f":"IF(OR(E17041=\"\",ISBLANK(E17041)),\"\",VLOOKUP(E17041,Sheet2!A:F,2,FALSE))","v":""},{"$f":"IF(OR(E17041=\"\",ISBLANK(E17041)),\"\",VLOOKUP(E17041,Sheet2!A:G,4,FALSE))","v":""},"",{"$f":"IF(OR(E17041=\"\",ISBLANK(E17041)),\"\",VLOOKUP(E17041,Sheet2!A:H,3,FALSE))","v":""},null,{"$f":"IF(OR(E17041=\"\",ISBLANK(E17041)),\"\",VLOOKUP(E17041,Sheet2!A:G,6,FALSE))","v":""},""]
[{"$f":"IF(OR(E17054=\"\",ISBLANK(E17054)),\"\",VLOOKUP(E17054,Sheet2!A:F,2,FALSE))","v":""},{"$f":"IF(OR(E17054=\"\",ISBLANK(E17054)),\"\",VLOOKUP(E17054,Sheet2!A:G,4,FALSE))","v":""},"",{"$f":"IF(OR(E17054=\"\",ISBLANK(E17054)),\"\",VLOOKUP(E17054,Sheet2!A:H,3,FALSE))","v":""},null,{"$f":"IF(OR(E17054=\"\",ISBLANK(E17054)),\"\",VLOOKUP(E17054,Sheet2!A:G,6,FALSE))","v":""},""]
[{"$f":"IF(OR(E17076=\"\",ISBLANK(E17076)),\"\",VLOOKUP(E17076,Sheet2!A:F,2,FALSE))","v":""},{"$f":"IF(OR(E17076=\"\",ISBLANK(E17076)),\"\",VLOOKUP(E17076,Sheet2!A:G,4,FALSE))","v":""},"",{"$f":"IF(OR(E17076=\"\",ISBLANK(E17076)),\"\",VLOOKUP(E17076,Sheet2!A:H,3,FALSE))","v":""},null,{"$f":"IF(OR(E17076=\"\",ISBLANK(E17076)),\"\",VLOOKUP(E17076,Sheet2!A:G,6,FALSE))","v":""},""]
[{"$f":"IF(OR(E17109=\"\",ISBLANK(E17109)),\"\",VLOOKUP(E17109,Sheet2!A:F,2,FALSE))","v":""},{"$f":"IF(OR(E17109=\"\",ISBLANK(E17109)),\"\",VLOOKUP(E17109,Sheet2!A:G,4,FALSE))","v":""},"",{"$f":"IF(OR(E17109=\"\",ISBLANK(E17109)),\"\",VLOOKUP(E17109,Sheet2!A:H,3,FALSE))","v":""},null,{"$f":"IF(OR(E17109=\"\",ISBLANK(E17109)),\"\",VLOOKUP(E17109,Sheet2!A:G,6,FALSE))","v":""},""]
[{"$f":"IF(OR(E17143=\"\",ISBLANK(E17143)),\"\",VLOOKUP(E17143,Sheet2!A:F,2,FALSE))","v":""},{"$f":"IF(OR(E17143=\"\",ISBLANK(E17143)),\"\",VLOOKUP(E17143,Sheet2!A:G,4,FALSE))","v":""},"",{"$f":"IF(OR(E17143=\"\",ISBLANK(E17143)),\"\",VLOOKUP(E17143,Sheet2!A:H,3,FALSE))","v":""},null,{"$f":"IF(OR(E17143=\"\",ISBLANK(E17143)),\"\",VLOOKUP(E17143,Sheet2!A:G,6,FALSE))","v":""},""]
[{"$f":"IF(OR(E17168=\"\",ISBLANK(E17168)),\"\",VLOOKUP(E17168,Sheet2!A:F,2,FALSE))","v":""},{"$f":"IF(OR(E17168=\"\",ISBLANK(E17168)),\"\",VLOOKUP(E17168,Sheet2!A:G,4,FALSE))","v":""},"",{"$f":"IF(OR(E17168=\"\",ISBLANK(E17168)),\"\",VLOOKUP(E17168,Sheet2!A:H,3,FALSE))","v":""},null,{"$f":"IF(OR(E17168=\"\",ISBLANK(E17168)),\"\",VLOOKUP(E17168,Sheet2!A:G,6,FALSE))","v":""},""]
[{"$f":"IF(OR(E17193=\"\",ISBLANK(E17193)),\"\",VLOOKUP(E17193,Sheet2!A:F,2,FALSE))","v":""},{"$f":"IF(OR(E17193=\"\",ISBLANK(E17193)),\"\",VLOOKUP(E17193,Sheet2!A:G,4,FALSE))","v":""},"",{"$f":"IF(OR(E17193=\"\",ISBLANK(E17193)),\"\",VLOOKUP(E17193,Sheet2!A:H,3,FALSE))","v":""},null,{"$f":"IF(OR(E17193=\"\",ISBLANK(E17193)),\"\",VLOOKUP(E17193,Sheet2!A:G,6,FALSE))","v":""},""]
[{"$f":"IF(OR(E17211=\"\",ISBLANK(E17211)),\"\",VLOOKUP(E17211,Sheet2!A:F,2,FALSE))","v":""},{"$f":"IF(OR(E17211=\"\",ISBLANK(E17211)),\"\",VLOOKUP(E17211,Sheet2!A:G,4,FALSE))","v":""},"",{"$f":"IF(OR(E17211=\"\",ISBLANK(E17211)),\"\",VLOOKUP(E17211,Sheet2!A:H,3,FALSE))","v":""},null,{"$f":"IF(OR(E17211=\"\",ISBLANK(E17211)),\"\",VLOOKUP(E17211,Sheet2!A:G,6,FALSE))","v":""},""]
[{"$f":"IF(OR(E17236=\"\",ISBLANK(E17236)),\"\",VLOOKUP(E17236,Sheet2!A:F,2,FALSE))","v":""},{"$f":"IF(OR(E17236=\"\",ISBLANK(E17236)),\"\",VLOOKUP(E17236,Sheet2!A:G,4,FALSE))","v":""},"",{"$f":"IF(OR(E17236=\"\",ISBLANK(E17236)),\"\",VLOOKUP(E17236,Sheet2!A:H,3,FALSE))","v":""},null,{"$f":"IF(OR(E17236=\"\",ISBLANK(E17236)),\"\",VLOOKUP(E17236,Sheet2!A:G,6,FALSE))","v":""},""]
[{"$f":"IF(OR(E17257=\"\",ISBLANK(E17257)),\"\",VLOOKUP(E17257,Sheet2!A:F,2,FALSE))","v":""},{"$f":"IF(OR(E17257=\"\",ISBLANK(E17257)),\"\",VLOOKUP(E17257,Sheet2!A:G,4,FALSE))","v":""},"",{"$f":"IF(OR(E17257=\"\",ISBLANK(E17257)),\"\",VLOOKUP(E17257,Sheet2!A:H,3,FALSE))","v":""},null,{"$f":"IF(OR(E17257=\"\",ISBLANK(E17257)),\"\",VLOOKUP(E17257,Sheet2!A:G,6,FALSE))","v":""},""]
[{"$f":"IF(OR(E17271=\"\",ISBLANK(E17271)),\"\",VLOOKUP(E17271,Sheet2!A:F,2,FALSE))","v":""},{"$f":"IF(OR(E17271=\"\",ISBLANK(E17271)),\"\",VLOOKUP(E17271,Sheet2!A:G,4,FALSE))","v":""},"",{"$f":"IF(OR(E17271=\"\",ISBLANK(E17271)),\"\",VLOOKUP(E17271,Sheet2!A:H,3,FALSE))","v":""},null,{"$f":"IF(OR(E17271=\"\",ISBLANK(E17271)),\"\",VLOOKUP(E17271,Sheet2!A:G,6,FALSE))","v":""},""]
[{"$f":"IF(OR(E17304=\"\",ISBLANK(E17304)),\"\",VLOOKUP(E17304,Sheet2!A:F,2,FALSE))","v":""},{"$f":"IF(OR(E17304=\"\",ISBLANK(E17304)),\"\",VLOOKUP(E17304,Sheet2!A:G,4,FALSE))","v":""},"",{"$f":"IF(OR(E17304=\"\",ISBLANK(E17304)),\"\",VLOOKUP(E17304,Sheet2!A:H,3,FALSE))","v":""},null,{"$f":"IF(OR(E17304=\"\",ISBLANK(E17304)),\"\",VLOOKUP(E17304,Sheet2!A:G,6,FALSE))","v":""},""]
[{"$f":"IF(OR(E17321=\"\",ISBLANK(E17321)),\"\",VLOOKUP(E17321,Sheet2!A:F,2,FALSE))","v":""},{"$f":"IF(OR(E17321=\"\",ISBLANK(E17321)),\"\",VLOOKUP(E17321,Sheet2!A:G,4,FALSE))","v":""},"",{"$f":"IF(OR(E17321=\"\",ISBLANK(E17321)),\"\",VLOOKUP(E17321,Sheet2!A:H,3,FALSE))","v":""},null,{"$f":"IF(OR(E17321=\"\",ISBLANK(E17321)),\"\",VLOOKUP(E17321,Sheet2!A:G,6,FALSE))","v":""},""]
[{"$f":"IF(OR(E17363=\"\",ISBLANK(E17363)),\"\",VLOOKUP(E17363,Sheet2!A:F,2,FALSE))","v":""},{"$f":"IF(OR(E17363=\"\",ISBLANK(E17363)),\"\",VLOOKUP(E17363,Sheet2!A:G,4,FALSE))","v":""},"",{"$f":"IF(OR(E17363=\"\",ISBLANK(E17363)),\"\",VLOOKUP(E17363,Sheet2!A:H,3,FALSE))","v":""},null,{"$f":"IF(OR(E17363=\"\",ISBLANK(E17363)),\"\",VLOOKUP(E17363,Sheet2!A:G,6,FALSE))","v":""},""]
[{"$f":"IF(OR(E17371=\"\",ISBLANK(E17371)),\"\",VLOOKUP(E17371,Sheet2!A:F,2,FALSE))","v":""},{"$f":"IF(OR(E17371=\"\",ISBLANK(E17371)),\"\",VLOOKUP(E17371,Sheet2!A:G,4,FALSE))","v":""},"",{"$f":"IF(OR(E17371=\"\",ISBLANK(E17371)),\"\",VLOOKUP(E17371,Sheet2!A:H,3,FALSE))","v":""},null,{"$f":"IF(OR(E17371=\"\",ISBLANK(E17371)),\"\",VLOOKUP(E17371,Sheet2!A:G,6,FALSE))","v":""},""]
[{"$f":"IF(OR(E17398=\"\",ISBLANK(E17398)),\"\",VLOOKUP(E17398,Sheet2!A:F,2,FALSE))","v":""},{"$f":"IF(OR(E17398=\"\",ISBLANK(E17398)),\"\",VLOOKUP(E17398,Sheet2!A:G,4,FALSE))","v":""},"",{"$f":"IF(OR(E17398=\"\",ISBLANK(E17398)),\"\",VLOOKUP(E17398,Sheet2!A:H,3,FALSE))","v":""},null,{"$f":"IF(OR(E17398=\"\",ISBLANK(E17398)),\"\",VLOOKUP(E17398,Sheet2!A:G,6,FALSE))","v":""},""]
[{"$f":"IF(OR(E17431=\"\",ISBLANK(E17431)),\"\",VLOOKUP(E17431,Sheet2!A:F,2,FALSE))","v":""},{"$f":"IF(OR(E17431=\"\",ISBLANK(E17431)),\"\",VLOOKUP(E17431,Sheet2!A:G,4,FALSE))","v":""},"",{"$f":"IF(OR(E17431=\"\",ISBLANK(E17431)),\"\",VLOOKUP(E17431,Sheet2!A:H,3,FALSE))","v":""},null,{"$f":"IF(OR(E17431=\"\",ISBLANK(E17431)),\"\",VLOOKUP(E17431,Sheet2!A:G,6,FALSE))","v":""},""]
[{"$f":"IF(OR(E17460=\"\",ISBLANK(E17460)),\"\",VLOOKUP(E17460,Sheet2!A:F,2,FALSE))","v":""},{"$f":"IF(OR(E17460=\"\",ISBLANK(E17460)),\"\",VLOOKUP(E17460,Sheet2!A:G,4,FALSE))","v":""},"",{"$f":"IF(OR(E17460=\"\",ISBLANK(E17460)),\"\",VLOOKUP(E17460,Sheet2!A:H,3,FALSE))","v":""},null,{"$f":"IF(OR(E17460=\"\",ISBLANK(E17460)),\"\",VLOOKUP(E17460,Sheet2!A:G,6,FALSE))","v":""},""]
[{"$f":"IF(OR(E17466=\"\",ISBLANK(E17466)),\"\",VLOOKUP(E17466,Sheet2!A:F,2,FALSE))","v":""},{"$f":"IF(OR(E17466=\"\",ISBLANK(E17466)),\"\",VLOOKUP(E17466,Sheet2!A:G,4,FALSE))","v":""},"",{"$f":"IF(OR(E17466=\"\",ISBLANK(E17466)),\"\",VLOOKUP(E17466,Sheet2!A:H,3,FALSE))","v":""},null,{"$f":"IF(OR(E17466=\"\",ISBLANK(E17466)),\"\",VLOOKUP(E17466,Sheet2!A:G,6,FALSE))","v":""},""]
[{"$f":"IF(OR(E17510=\"\",ISBLANK(E17510)),\"\",VLOOKUP(E17510,Sheet2!A:F,2,FALSE))","v":""},{"$f":"IF(OR(E17510=\"\",ISBLANK(E17510)),\"\",VLOOKUP(E17510,Sheet2!A:G,4,FALSE))","v":""},"",{"$f":"IF(OR(E17510=\"\",ISBLANK(E17510)),\"\",VLOOKUP(E17510,Sheet2!A:H,3,FALSE))","v":""},null,{"$f":"IF(OR(E17510=\"\",ISBLANK(E17510)),\"\",VLOOKUP(E17510,Sheet2!A:G,6,FALSE))","v":""},""]
[{"$f":"IF(OR(E17533=\"\",ISBLANK(E17533)),\"\",VLOOKUP(E17533,Sheet2!A:F,2,FALSE))","v":""},{"$f":"IF(OR(E17533=\"\",ISBLANK(E17533)),\"\",VLOOKUP(E17533,Sheet2!A:G,4,FALSE))","v":""},"",{"$f":"IF(OR(E17533=\"\",ISBLANK(E17533)),\"\",VLOOKUP(E17533,Sheet2!A:H,3,FALSE))","v":""},null,{"$f":"IF(OR(E17533=\"\",ISBLANK(E17533)),\"\",VLOOKUP(E17533,Sheet2!A:G,6,FALSE))","v":""},""]
[{"$f":"IF(OR(E17558=\"\",ISBLANK(E17558)),\"\",VLOOKUP(E17558,Sheet2!A:F,2,FALSE))","v":""},{"$f":"IF(OR(E17558=\"\",ISBLANK(E17558)),\"\",VLOOKUP(E17558,Sheet2!A:G,4,FALSE))","v":""},"",{"$f":"IF(OR(E17558=\"\",ISBLANK(E17558)),\"\",VLOOKUP(E17558,Sheet2!A:H,3,FALSE))","v":""},null,{"$f":"IF(OR(E17558=\"\",ISBLANK(E17558)),\"\",VLOOKUP(E17558,Sheet2!A:G,6,FALSE))","v":""},""]
[{"$f":"IF(OR(E17574=\"\",ISBLANK(E17574)),\"\",VLOOKUP(E17574,Sheet2!A:F,2,FALSE))","v":""},{"$f":"IF(OR(E17574=\"\",ISBLANK(E17574)),\"\",VLOOKUP(E17574,Sheet2!A:G,4,FALSE))","v":""},"",{"$f":"IF(OR(E17574=\"\",ISBLANK(E17574)),\"\",VLOOKUP(E17574,Sheet2!A:H,3,FALSE))","v":""},null,{"$f":"IF(OR(E17574=\"\",ISBLANK(E17574)),\"\",VLOOKUP(E17574,Sheet2!A:G,6,FALSE))","v":""},""]
[{"$f":"IF(OR(E17593=\"\",ISBLANK(E17593)),\"\",VLOOKUP(E17593,Sheet2!A:F,2,FALSE))","v":""},{"$f":"IF(OR(E17593=\"\",ISBLANK(E17593)),\"\",VLOOKUP(E17593,Sheet2!A:G,4,FALSE))","v":""},"",{"$f":"IF(OR(E17593=\"\",ISBLANK(E17593)),\"\",VLOOKUP(E17593,Sheet2!A:H,3,FALSE))","v":""},null,{"$f":"IF(OR(E17593=\"\",ISBLANK(E17593)),\"\",VLOOKUP(E17593,Sheet2!A:G,6,FALSE))","v":""},""]
[{"$f":"IF(OR(E17624=\"\",ISBLANK(E17624)),\"\",VLOOKUP(E17624,Sheet2!A:F,2,FALSE))","v":""},{"$f":"IF(OR(E17624=\"\",ISBLANK(E17624)),\"\",VLOOKUP(E17624,Sheet2!A:G,4,FALSE))","v":""},"",{"$f":"IF(OR(E17624=\"\",ISBLANK(E17624)),\"\",VLOOKUP(E17624,Sheet2!A:H,3,FALSE))","v":""},null,{"$f":"IF(OR(E17624=\"\",ISBLANK(E17624)),\"\",VLOOKUP(E17624,Sheet2!A:G,6,FALSE))","v":""},""]
[{"$f":"IF(OR(E17636=\"\",ISBLANK(E17636)),\"\",VLOOKUP(E17636,Sheet2!A:F,2,FALSE))","v":""},{"$f":"IF(OR(E17636=\"\",ISBLANK(E17636)),\"\",VLOOKUP(E17636,Sheet2!A:G,4,FALSE))","v":""},"",{"$f":"IF(OR(E17636=\"\",ISBLANK(E17636)),\"\",VLOOKUP(E17636,Sheet2!A:H,3,FALSE))","v":""},null,{"$f":"IF(OR(E17636=\"\",ISBLANK(E17636)),\"\",VLOOKUP(E17636,Sheet2!A:G,6,FALSE))","v":""},""]
[{"$f":"IF(OR(E17661=\"\",ISBLANK(E17661)),\"\",VLOOKUP(E17661,Sheet2!A:F,2,FALSE))","v":""},{"$f":"IF(OR(E17661=\"\",ISBLANK(E17661)),\"\",VLOOKUP(E17661,Sheet2!A:G,4,FALSE))","v":""},"",{"$f":"IF(OR(E17661=\"\",ISBLANK(E17661)),\"\",VLOOKUP(E17661,Sheet2!A:H,3,FALSE))","v":""},null,{"$f":"IF(OR(E17661=\"\",ISBLANK(E17661)),\"\",VLOOKUP(E17661,Sheet2!A:G,6,FALSE))","v":""},""]
[{"$f":"IF(OR(E17688=\"\",ISBLANK(E17688)),\"\",VLOOKUP(E17688,Sheet2!A:F,2,FALSE))","v":""},{"$f":"IF(OR(E17688=\"\",ISBLANK(E17688)),\"\",VLOOKUP(E17688,Sheet2!A:G,4,FALSE))","v":""},"",{"$f":"IF(OR(E17688=\"\",ISBLANK(E17688)),\"\",VLOOKUP(E17688,Sheet2!A:H,3,FALSE))","v":""},null,{"$f":"IF(OR(E17688=\"\",ISBLANK(E17688)),\"\",VLOOKUP(E17688,Sheet2!A:G,6,FALSE))","v":""},""]
[{"$f":"IF(OR(E17728=\"\",ISBLANK(E17728)),\"\",VLOOKUP(E17728,Sheet2!A:F,2,FALSE))","v":""},{"$f":"IF(OR(E17728=\"\",ISBLANK(E17728)),\"\",VLOOKUP(E17728,Sheet2!A:G,4,FALSE))","v":""},"",{"$f":"IF(OR(E17728=\"\",ISBLANK(E17728)),\"\",VLOOKUP(E17728,Sheet2!A:H,3,FALSE))","v":""},null,{"$f":"IF(OR(E17728=\"\",ISBLANK(E17728)),\"\",VLOOKUP(E17728,Sheet2!A:G,6,FALSE))","v":""},""]
[{"$f":"IF(OR(E17753=\"\",ISBLANK(E17753)),\"\",VLOOKUP(E17753,Sheet2!A:F,2,FALSE))","v":""},{"$f":"IF(OR(E17753=\"\",ISBLANK(E17753)),\"\",VLOOKUP(E17753,Sheet2!A:G,4,FALSE))","v":""},"",{"$f":"IF(OR(E17753=\"\",ISBLANK(E17753)),\"\",VLOOKUP(E17753,Sheet2!A:H,3,FALSE))","v":""},null,{"$f":"IF(OR(E17753=\"\",ISBLANK(E17753)),\"\",VLOOKUP(E17753,Sheet2!A:G,6,FALSE))","v":""},""]
[{"$f":"IF(OR(E17777=\"\",ISBLANK(E17777)),\"\",VLOOKUP(E17777,Sheet2!A:F,2,FALSE))","v":""},{"$f":"IF(OR(E17777=\"\",ISBLANK(E17777)),\"\",VLOOKUP(E17777,Sheet2!A:G,4,FALSE))","v":""},"",{"$f":"IF(OR(E17777=\"\",ISBLANK(E17777)),\"\",VLOOKUP(E17777,Sheet2!A:H,3,FALSE))","v":""},null,{"$f":"IF(OR(E17777=\"\",ISBLANK(E17777)),\"\",VLOOKUP(E17777,Sheet2!A:G,6,FALSE))","v":""},""]
[{"$f":"IF(OR(E17788=\"\",ISBLANK(E17788)),\"\",VLOOKUP(E17788,Sheet2!A:F,2,FALSE))","v":""},{"$f":"IF(OR(E17788=\"\",ISBLANK(E17788)),\"\",VLOOKUP(E17788,Sheet2!A:G,4,FALSE))","v":""},"",{"$f":"IF(OR(E17788=\"\",ISBLANK(E17788)),\"\",VLOOKUP(E17788,Sheet2!A:H,3,FALSE))","v":""},null,{"$f":"IF(OR(E17788=\"\",ISBLANK(E17788)),\"\",VLOOKUP(E17788,Sheet2!A:G,6,FALSE))","v":""},""]
[{"$f":"IF(OR(E17827=\"\",ISBLANK(E17827)),\"\",VLOOKUP(E17827,Sheet2!A:F,2,FALSE))","v":""},{"$f":"IF(OR(E17827=\"\",ISBLANK(E17827)),\"\",VLOOKUP(E17827,Sheet2!A:G,4,FALSE))","v":""},"",{"$f":"IF(OR(E17827=\"\",ISBLANK(E17827)),\"\",VLOOKUP(E17827,Sheet2!A:H,3,FALSE))","v":""},null,{"$f":"IF(OR(E17827=\"\",ISBLANK(E17827)),\"\",VLOOKUP(E17827,Sheet2!A:G,6,FALSE))","v":""},""]
[{"$f":"IF(OR(E17831=\"\",ISBLANK(E17831)),\"\",VLOOKUP(E17831,Sheet2!A:F,2,FALSE))","v":""},{"$f":"IF(OR(E17831=\"\",ISBLANK(E17831)),\"\",VLOOKUP(E17831,Sheet2!A:G,4,FALSE))","v":""},"",{"$f":"IF(OR(E17831=\"\",ISBLANK(E17831)),\"\",VLOOKUP(E17831,Sheet2!A:H,3,FALSE))","v":""},null,{"$f":"IF(OR(E17831=\"\",ISBLANK(E17831)),\"\",VLOOKUP(E17831,Sheet2!A:G,6,FALSE))","v":""},""]
[{"$f":"IF(OR(E17856=\"\",ISBLANK(E17856)),\"\",VLOOKUP(E17856,Sheet2!A:F,2,FALSE))","v":""},{"$f":"IF(OR(E17856=\"\",ISBLANK(E17856)),\"\",VLOOKUP(E17856,Sheet2!A:G,4,FALSE))","v":""},"",{"$f":"IF(OR(E17856=\"\",ISBLANK(E17856)),\"\",VLOOKUP(E17856,Sheet2!A:H,3,FALSE))","v":""},null,{"$f":"IF(OR(E17856=\"\",ISBLANK(E17856)),\"\",VLOOKUP(E17856,Sheet2!A:G,6,FALSE))","v":""},""]
[{"$f":"IF(OR(E17891=\"\",ISBLANK(E17891)),\"\",VLOOKUP(E17891,Sheet2!A:F,2,FALSE))","v":""},{"$f":"IF(OR(E17891=\"\",ISBLANK(E17891)),\"\",VLOOKUP(E17891,Sheet2!A:G,4,FALSE))","v":""},"",{"$f":"IF(OR(E17891=\"\",ISBLANK(E17891)),\"\",VLOOKUP(E17891,Sheet2!A:H,3,FALSE))","v":""},null,{"$f":"IF(OR(E17891=\"\",ISBLANK(E17891)),\"\",VLOOKUP(E17891,Sheet2!A:G,6,FALSE))","v":""},""]
[{"$f":"IF(OR(E17915=\"\",ISBLANK(E17915)),\"\",VLOOKUP(E17915,Sheet2!A:F,2,FALSE))","v":""},{"$f":"IF(OR(E17915=\"\",ISBLANK(E17915)),\"\",VLOOKUP(E17915,Sheet2!A:G,4,FALSE))","v":""},"",{"$f":"IF(OR(E17915=\"\",ISBLANK(E17915)),\"\",VLOOKUP(E17915,Sheet2!A:H,3,FALSE))","v":""},null,{"$f":"IF(OR(E17915=\"\",ISBLANK(E17915)),\"\",VLOOKUP(E17915,Sheet2!A:G,6,FALSE))","v":""},""]
[{"$f":"IF(OR(E17941=\"\",ISBLANK(E17941)),\"\",VLOOKUP(E17941,Sheet2!A:F,2,FALSE))","v":""},{"$f":"IF(OR(E17941=\"\",ISBLANK(E17941)),\"\",VLOOKUP(E17941,Sheet2!A:G,4,FALSE))","v":""},"",{"$f":"IF(OR(E17941=\"\",ISBLANK(E17941)),\"\",VLOOKUP(E17941,Sheet2!A:H,3,FALSE))","v":""},null,{"$f":"IF(OR(E17941=\"\",ISBLANK(E17941)),\"\",VLOOKUP(E17941,Sheet2!A:G,6,FALSE))","v":""},""]
[{"$f":"IF(OR(E17958=\"\",ISBLANK(E17958)),\"\",VLOOKUP(E17958,Sheet2!A:F,2,FALSE))","v":""},{"$f":"IF(OR(E17958=\"\",ISBLANK(E17958)),\"\",VLOOKUP(E17958,Sheet2!A:G,4,FALSE))","v":""},"",{"$f":"IF(OR(E17958=\"\",ISBLANK(E17958)),\"\",VLOOKUP(E17958,Sheet2!A:H,3,FALSE))","v":""},null,{"$f":"IF(OR(E17958=\"\",ISBLANK(E17958)),\"\",VLOOKUP(E17958,Sheet2!A:G,6,FALSE))","v":""},""]
[{"$f":"IF(OR(E17983=\"\",ISBLANK(E17983)),\"\",VLOOKUP(E17983,Sheet2!A:F,2,FALSE))","v":""},{"$f":"IF(OR(E17983=\"\",ISBLANK(E17983)),\"\",VLOOKUP(E17983,Sheet2!A:G,4,FALSE))","v":""},"",{"$f":"IF(OR(E17983=\"\",ISBLANK(E17983)),\"\",VLOOKUP(E17983,Sheet2!A:H,3,FALSE))","v":""},null,{"$f":"IF(OR(E17983=\"\",ISBLANK(E17983)),\"\",VLOOKUP(E17983,Sheet2!A:G,6,FALSE))","v":""},""]
[{"$f":"IF(OR(E18005=\"\",ISBLANK(E18005)),\"\",VLOOKUP(E18005,Sheet2!A:F,2,FALSE))","v":""},{"$f":"IF(OR(E18005=\"\",ISBLANK(E18005)),\"\",VLOOKUP(E18005,Sheet2!A:G,4,FALSE))","v":""},"",{"$f":"IF(OR(E18005=\"\",ISBLANK(E18005)),\"\",VLOOKUP(E18005,Sheet2!A:H,3,FALSE))","v":""},null,{"$f":"IF(OR(E18005=\"\",ISBLANK(E18005)),\"\",VLOOKUP(E18005,Sheet2!A:G,6,FALSE))","v":""},""]
[{"$f":"IF(OR(E18026=\"\",ISBLANK(E18026)),\"\",VLOOKUP(E18026,Sheet2!A:F,2,FALSE))","v":""},{"$f":"IF(OR(E18026=\"\",ISBLANK(E18026)),\"\",VLOOKUP(E18026,Sheet2!A:G,4,FALSE))","v":""},"",{"$f":"IF(OR(E18026=\"\",ISBLANK(E18026)),\"\",VLOOKUP(E18026,Sheet2!A:H,3,FALSE))","v":""},null,{"$f":"IF(OR(E18026=\"\",ISBLANK(E18026)),\"\",VLOOKUP(E18026,Sheet2!A:G,6,FALSE))","v":""},""]
[{"$f":"IF(OR(E18055=\"\",ISBLANK(E18055)),\"\",VLOOKUP(E18055,Sheet2!A:F,2,FALSE))","v":""},{"$f":"IF(OR(E18055=\"\",ISBLANK(E18055)),\"\",VLOOKUP(E18055,Sheet2!A:G,4,FALSE))","v":""},"",{"$f":"IF(OR(E18055=\"\",ISBLANK(E18055)),\"\",VLOOKUP(E18055,Sheet2!A:H,3,FALSE))","v":""},null,{"$f":"IF(OR(E18055=\"\",ISBLANK(E18055)),\"\",VLOOKUP(E18055,Sheet2!A:G,6,FALSE))","v":""},""]
[{"$f":"IF(OR(E18085=\"\",ISBLANK(E18085)),\"\",VLOOKUP(E18085,Sheet2!A:F,2,FALSE))","v":""},{"$f":"IF(OR(E18085=\"\",ISBLANK(E18085)),\"\",VLOOKUP(E18085,Sheet2!A:G,4,FALSE))","v":""},"",{"$f":"IF(OR(E18085=\"\",ISBLANK(E18085)),\"\",VLOOKUP(E18085,Sheet2!A:H,3,FALSE))","v":""},null,{"$f":"IF(OR(E18085=\"\",ISBLANK(E18085)),\"\",VLOOKUP(E18085,Sheet2!A:G,6,FALSE))","v":""},""]
[{"$f":"IF(OR(E18110=\"\",ISBLANK(E18110)),\"\",VLOOKUP(E18110,Sheet2!A:F,2,FALSE))","v":""},{"$f":"IF(OR(E18110=\"\",ISBLANK(E18110)),\"\",VLOOKUP(E18110,Sheet2!A:G,4,FALSE))","v":""},"",{"$f":"IF(OR(E18110=\"\",ISBLANK(E18110)),\"\",VLOOKUP(E18110,Sheet2!A:H,3,FALSE))","v":""},null,{"$f":"IF(OR(E18110=\"\",ISBLANK(E18110)),\"\",VLOOKUP(E18110,Sheet2!A:G,6,FALSE))","v":""},""]
[{"$f":"IF(OR(E18144=\"\",ISBLANK(E18144)),\"\",VLOOKUP(E18144,Sheet2!A:F,2,FALSE))","v":""},{"$f":"IF(OR(E18144=\"\",ISBLANK(E18144)),\"\",VLOOKUP(E18144,Sheet2!A:G,4,FALSE))","v":""},"",{"$f":"IF(OR(E18144=\"\",ISBLANK(E18144)),\"\",VLOOKUP(E18144,Sheet2!A:H,3,FALSE))","v":""},null,{"$f":"IF(OR(E18144=\"\",ISBLANK(E18144)),\"\",VLOOKUP(E18144,Sheet2!A:G,6,FALSE))","v":""},""]
[{"$f":"IF(OR(E18153=\"\",ISBLANK(E18153)),\"\",VLOOKUP(E18153,Sheet2!A:F,2,FALSE))","v":""},{"$f":"IF(OR(E18153=\"\",ISBLANK(E18153)),\"\",VLOOKUP(E18153,Sheet2!A:G,4,FALSE))","v":""},"",{"$f":"IF(OR(E18153=\"\",ISBLANK(E18153)),\"\",VLOOKUP(E18153,Sheet2!A:H,3,FALSE))","v":""},null,{"$f":"IF(OR(E18153=\"\",ISBLANK(E18153)),\"\",VLOOKUP(E18153,Sheet2!A:G,6,FALSE))","v":""},""]
[{"$f":"IF(OR(E18178=\"\",ISBLANK(E18178)),\"\",VLOOKUP(E18178,Sheet2!A:F,2,FALSE))","v":""},{"$f":"IF(OR(E18178=\"\",ISBLANK(E18178)),\"\",VLOOKUP(E18178,Sheet2!A:G,4,FALSE))","v":""},"",{"$f":"IF(OR(E18178=\"\",ISBLANK(E18178)),\"\",VLOOKUP(E18178,Sheet2!A:H,3,FALSE))","v":""},null,{"$f":"IF(OR(E18178=\"\",ISBLANK(E18178)),\"\",VLOOKUP(E18178,Sheet2!A:G,6,FALSE))","v":""},""]
[{"$f":"IF(OR(E18208=\"\",ISBLANK(E18208)),\"\",VLOOKUP(E18208,Sheet2!A:F,2,FALSE))","v":""},{"$f":"IF(OR(E18208=\"\",ISBLANK(E18208)),\"\",VLOOKUP(E18208,Sheet2!A:G,4,FALSE))","v":""},"",{"$f":"IF(OR(E18208=\"\",ISBLANK(E18208)),\"\",VLOOKUP(E18208,Sheet2!A:H,3,FALSE))","v":""},null,{"$f":"IF(OR(E18208=\"\",ISBLANK(E18208)),\"\",VLOOKUP(E18208,Sheet2!A:G,6,FALSE))","v":""},""]
[{"$f":"IF(OR(E18237=\"\",ISBLANK(E18237)),\"\",VLOOKUP(E18237,Sheet2!A:F,2,FALSE))","v":""},{"$f":"IF(OR(E18237=\"\",ISBLANK(E18237)),\"\",VLOOKUP(E18237,Sheet2!A:G,4,FALSE))","v":""},"",{"$f":"IF(OR(E18237=\"\",ISBLANK(E18237)),\"\",VLOOKUP(E18237,Sheet2!A:H,3,FALSE))","v":""},null,{"$f":"IF(OR(E18237=\"\",ISBLANK(E18237)),\"\",VLOOKUP(E18237,Sheet2!A:G,6,FALSE))","v":""},""]
[{"$f":"IF(OR(E18258=\"\",ISBLANK(E18258)),\"\",VLOOKUP(E18258,Sheet2!A:F,2,FALSE))","v":""},{"$f":"IF(OR(E18258=\"\",ISBLANK(E18258)),\"\",VLOOKUP(E18258,Sheet2!A:G,4,FALSE))","v":""},"",{"$f":"IF(OR(E18258=\"\",ISBLANK(E18258)),\"\",VLOOKUP(E18258,Sheet2!A:H,3,FALSE))","v":""},null,{"$f":"IF(OR(E18258=\"\",ISBLANK(E18258)),\"\",VLOOKUP(E18258,Sheet2!A:G,6,FALSE))","v":""},""]
[{"$f":"IF(OR(E18280=\"\",ISBLANK(E18280)),\"\",VLOOKUP(E18280,Sheet2!A:F,2,FALSE))","v":""},{"$f":"IF(OR(E18280=\"\",ISBLANK(E18280)),\"\",VLOOKUP(E18280,Sheet2!A:G,4,FALSE))","v":""},"",{"$f":"IF(OR(E18280=\"\",ISBLANK(E18280)),\"\",VLOOKUP(E18280,Sheet2!A:H,3,FALSE))","v":""},null,{"$f":"IF(OR(E18280=\"\",ISBLANK(E18280)),\"\",VLOOKUP(E18280,Sheet2!A:G,6,FALSE))","v":""},""]
[{"$f":"IF(OR(E18305=\"\",ISBLANK(E18305)),\"\",VLOOKUP(E18305,Sheet2!A:F,2,FALSE))","v":""},{"$f":"IF(OR(E18305=\"\",ISBLANK(E18305)),\"\",VLOOKUP(E18305,Sheet2!A:G,4,FALSE))","v":""},"",{"$f":"IF(OR(E18305=\"\",ISBLANK(E18305)),\"\",VLOOKUP(E18305,Sheet2!A:H,3,FALSE))","v":""},null,{"$f":"IF(OR(E18305=\"\",ISBLANK(E18305)),\"\",VLOOKUP(E18305,Sheet2!A:G,6,FALSE))","v":""},""]
[{"$f":"IF(OR(E18322=\"\",ISBLANK(E18322)),\"\",VLOOKUP(E18322,Sheet2!A:F,2,FALSE))","v":""},{"$f":"IF(OR(E18322=\"\",ISBLANK(E18322)),\"\",VLOOKUP(E18322,Sheet2!A:G,4,FALSE))","v":""},"",{"$f":"IF(OR(E18322=\"\",ISBLANK(E18322)),\"\",VLOOKUP(E18322,Sheet2!A:H,3,FALSE))","v":""},null,{"$f":"IF(OR(E18322=\"\",ISBLANK(E18322)),\"\",VLOOKUP(E18322,Sheet2!A:G,6,FALSE))","v":""},""]
[{"$f":"IF(OR(E18348=\"\",ISBLANK(E18348)),\"\",VLOOKUP(E18348,Sheet2!A:F,2,FALSE))","v":""},{"$f":"IF(OR(E18348=\"\",ISBLANK(E18348)),\"\",VLOOKUP(E18348,Sheet2!A:G,4,FALSE))","v":""},"",{"$f":"IF(OR(E18348=\"\",ISBLANK(E18348)),\"\",VLOOKUP(E18348,Sheet2!A:H,3,FALSE))","v":""},null,{"$f":"IF(OR(E18348=\"\",ISBLANK(E18348)),\"\",VLOOKUP(E18348,Sheet2!A:G,6,FALSE))","v":""},""]
[{"$f":"IF(OR(E18372=\"\",ISBLANK(E18372)),\"\",VLOOKUP(E18372,Sheet2!A:F,2,FALSE))","v":""},{"$f":"IF(OR(E18372=\"\",ISBLANK(E18372)),\"\",VLOOKUP(E18372,Sheet2!A:G,4,FALSE))","v":""},"",{"$f":"IF(OR(E18372=\"\",ISBLANK(E18372)),\"\",VLOOKUP(E18372,Sheet2!A:H,3,FALSE))","v":""},null,{"$f":"IF(OR(E18372=\"\",ISBLANK(E18372)),\"\",VLOOKUP(E18372,Sheet2!A:G,6,FALSE))","v":""},""]
[{"$f":"IF(OR(E18407=\"\",ISBLANK(E18407)),\"\",VLOOKUP(E18407,Sheet2!A:F,2,FALSE))","v":""},{"$f":"IF(OR(E18407=\"\",ISBLANK(E18407)),\"\",VLOOKUP(E18407,Sheet2!A:G,4,FALSE))","v":""},"",{"$f":"IF(OR(E18407=\"\",ISBLANK(E18407)),\"\",VLOOKUP(E18407,Sheet2!A:H,3,FALSE))","v":""},null,{"$f":"IF(OR(E18407=\"\",ISBLANK(E18407)),\"\",VLOOKUP(E18407,Sheet2!A:G,6,FALSE))","v":""},""]
[{"$f":"IF(OR(E18432=\"\",ISBLANK(E18432)),\"\",VLOOKUP(E18432,Sheet2!A:F,2,FALSE))","v":""},{"$f":"IF(OR(E18432=\"\",ISBLANK(E18432)),\"\",VLOOKUP(E18432,Sheet2!A:G,4,FALSE))","v":""},"",{"$f":"IF(OR(E18432=\"\",ISBLANK(E18432)),\"\",VLOOKUP(E18432,Sheet2!A:H,3,FALSE))","v":""},null,{"$f":"IF(OR(E18432=\"\",ISBLANK(E18432)),\"\",VLOOKUP(E18432,Sheet2!A:G,6,FALSE))","v":""},""]
[{"$f":"IF(OR(E18461=\"\",ISBLANK(E18461)),\"\",VLOOKUP(E18461,Sheet2!A:F,2,FALSE))","v":""},{"$f":"IF(OR(E18461=\"\",ISBLANK(E18461)),\"\",VLOOKUP(E18461,Sheet2!A:G,4,FALSE))","v":""},"",{"$f":"IF(OR(E18461=\"\",ISBLANK(E18461)),\"\",VLOOKUP(E18461,Sheet2!A:H,3,FALSE))","v":""},null,{"$f":"IF(OR(E18461=\"\",ISBLANK(E18461)),\"\",VLOOKUP(E18461,Sheet2!A:G,6,FALSE))","v":""},""]
[{"$f":"IF(OR(E18475=\"\",ISBLANK(E18475)),\"\",VLOOKUP(E18475,Sheet2!A:F,2,FALSE))","v":""},{"$f":"IF(OR(E18475=\"\",ISBLANK(E18475)),\"\",VLOOKUP(E18475,Sheet2!A:G,4,FALSE))","v":""},"",{"$f":"IF(OR(E18475=\"\",ISBLANK(E18475)),\"\",VLOOKUP(E18475,Sheet2!A:H,3,FALSE))","v":""},null,{"$f":"IF(OR(E18475=\"\",ISBLANK(E18475)),\"\",VLOOKUP(E18475,Sheet2!A:G,6,FALSE))","v":""},""]
[{"$f":"IF(OR(E18511=\"\",ISBLANK(E18511)),\"\",VLOOKUP(E18511,Sheet2!A:F,2,FALSE))","v":""},{"$f":"IF(OR(E18511=\"\",ISBLANK(E18511)),\"\",VLOOKUP(E18511,Sheet2!A:G,4,FALSE))","v":""},"",{"$f":"IF(OR(E18511=\"\",ISBLANK(E18511)),\"\",VLOOKUP(E18511,Sheet2!A:H,3,FALSE))","v":""},null,{"$f":"IF(OR(E18511=\"\",ISBLANK(E18511)),\"\",VLOOKUP(E18511,Sheet2!A:G,6,FALSE))","v":""},""]
[{"$f":"IF(OR(E18534=\"\",ISBLANK(E18534)),\"\",VLOOKUP(E18534,Sheet2!A:F,2,FALSE))","v":""},{"$f":"IF(OR(E18534=\"\",ISBLANK(E18534)),\"\",VLOOKUP(E18534,Sheet2!A:G,4,FALSE))","v":""},"",{"$f":"IF(OR(E18534=\"\",ISBLANK(E18534)),\"\",VLOOKUP(E18534,Sheet2!A:H,3,FALSE))","v":""},null,{"$f":"IF(OR(E18534=\"\",ISBLANK(E18534)),\"\",VLOOKUP(E18534,Sheet2!A:G,6,FALSE))","v":""},""]
[{"$f":"IF(OR(E18543=\"\",ISBLANK(E18543)),\"\",VLOOKUP(E18543,Sheet2!A:F,2,FALSE))","v":""},{"$f":"IF(OR(E18543=\"\",ISBLANK(E18543)),\"\",VLOOKUP(E18543,Sheet2!A:G,4,FALSE))","v":""},"",{"$f":"IF(OR(E18543=\"\",ISBLANK(E18543)),\"\",VLOOKUP(E18543,Sheet2!A:H,3,FALSE))","v":""},null,{"$f":"IF(OR(E18543=\"\",ISBLANK(E18543)),\"\",VLOOKUP(E18543,Sheet2!A:G,6,FALSE))","v":""},""]
[{"$f":"IF(OR(E18575=\"\",ISBLANK(E18575)),\"\",VLOOKUP(E18575,Sheet2!A:F,2,FALSE))","v":""},{"$f":"IF(OR(E18575=\"\",ISBLANK(E18575)),\"\",VLOOKUP(E18575,Sheet2!A:G,4,FALSE))","v":""},"",{"$f":"IF(OR(E18575=\"\",ISBLANK(E18575)),\"\",VLOOKUP(E18575,Sheet2!A:H,3,FALSE))","v":""},null,{"$f":"IF(OR(E18575=\"\",ISBLANK(E18575)),\"\",VLOOKUP(E18575,Sheet2!A:G,6,FALSE))","v":""},""]
[{"$f":"IF(OR(E18602=\"\",ISBLANK(E18602)),\"\",VLOOKUP(E18602,Sheet2!A:F,2,FALSE))","v":""},{"$f":"IF(OR(E18602=\"\",ISBLANK(E18602)),\"\",VLOOKUP(E18602,Sheet2!A:G,4,FALSE))","v":""},"",{"$f":"IF(OR(E18602=\"\",ISBLANK(E18602)),\"\",VLOOKUP(E18602,Sheet2!A:H,3,FALSE))","v":""},null,{"$f":"IF(OR(E18602=\"\",ISBLANK(E18602)),\"\",VLOOKUP(E18602,Sheet2!A:G,6,FALSE))","v":""},""]
[{"$f":"IF(OR(E18627=\"\",ISBLANK(E18627)),\"\",VLOOKUP(E18627,Sheet2!A:F,2,FALSE))","v":""},{"$f":"IF(OR(E18627=\"\",ISBLANK(E18627)),\"\",VLOOKUP(E18627,Sheet2!A:G,4,FALSE))","v":""},{"$f":"IF(D18627=0,\"\",D18627)","v":""},{"$f":"IF(OR(E18627=\"\",ISBLANK(E18627)),\"\",VLOOKUP(E18627,Sheet2!A:H,3,FALSE))","v":""},null,{"$f":"IF(OR(E18627=\"\",ISBLANK(E18627)),\"\",VLOOKUP(E18627,Sheet2!A:G,6,FALSE))","v":""},{"$f":"IF(F18627=0,\"\",F18627)","v":""}]
[{"$f":"IF(OR(E18639=\"\",ISBLANK(E18639)),\"\",VLOOKUP(E18639,Sheet2!A:F,2,FALSE))","v":""},{"$f":"IF(OR(E18639=\"\",ISBLANK(E18639)),\"\",VLOOKUP(E18639,Sheet2!A:G,4,FALSE))","v":""},"",{"$f":"IF(OR(E18639=\"\",ISBLANK(E18639)),\"\",VLOOKUP(E18639,Sheet2!A:H,3,FALSE))","v":""},null,{"$f":"IF(OR(E18639=\"\",ISBLANK(E18639)),\"\",VLOOKUP(E18639,Sheet2!A:G,6,FALSE))","v":""},""]
[{"$f":"IF(OR(E18670=\"\",ISBLANK(E18670)),\"\",VLOOKUP(E18670,Sheet2!A:F,2,FALSE))","v":""},{"$f":"IF(OR(E18670=\"\",ISBLANK(E18670)),\"\",VLOOKUP(E18670,Sheet2!A:G,4,FALSE))","v":""},"",{"$f":"IF(OR(E18670=\"\",ISBLANK(E18670)),\"\",VLOOKUP(E18670,Sheet2!A:H,3,FALSE))","v":""},null,{"$f":"IF(OR(E18670=\"\",ISBLANK(E18670)),\"\",VLOOKUP(E18670,Sheet2!A:G,6,FALSE))","v":""},""]
[{"$f":"IF(OR(E18689=\"\",ISBLANK(E18689)),\"\",VLOOKUP(E18689,Sheet2!A:F,2,FALSE))","v":""},{"$f":"IF(OR(E18689=\"\",ISBLANK(E18689)),\"\",VLOOKUP(E18689,Sheet2!A:G,4,FALSE))","v":""},"",{"$f":"IF(OR(E18689=\"\",ISBLANK(E18689)),\"\",VLOOKUP(E18689,Sheet2!A:H,3,FALSE))","v":""},null,{"$f":"IF(OR(E18689=\"\",ISBLANK(E18689)),\"\",VLOOKUP(E18689,Sheet2!A:G,6,FALSE))","v":""},""]
[{"$f":"IF(OR(E18729=\"\",ISBLANK(E18729)),\"\",VLOOKUP(E18729,Sheet2!A:F,2,FALSE))","v":""},{"$f":"IF(OR(E18729=\"\",ISBLANK(E18729)),\"\",VLOOKUP(E18729,Sheet2!A:G,4,FALSE))","v":""},"",{"$f":"IF(OR(E18729=\"\",ISBLANK(E18729)),\"\",VLOOKUP(E18729,Sheet2!A:H,3,FALSE))","v":""},null,{"$f":"IF(OR(E18729=\"\",ISBLANK(E18729)),\"\",VLOOKUP(E18729,Sheet2!A:G,6,FALSE))","v":""},""]
[{"$f":"IF(OR(E18754=\"\",ISBLANK(E18754)),\"\",VLOOKUP(E18754,Sheet2!A:F,2,FALSE))","v":""},{"$f":"IF(OR(E18754=\"\",ISBLANK(E18754)),\"\",VLOOKUP(E18754,Sheet2!A:G,4,FALSE))","v":""},"",{"$f":"IF(OR(E18754=\"\",ISBLANK(E18754)),\"\",VLOOKUP(E18754,Sheet2!A:H,3,FALSE))","v":""},null,{"$f":"IF(OR(E18754=\"\",ISBLANK(E18754)),\"\",VLOOKUP(E18754,Sheet2!A:G,6,FALSE))","v":""},""]
[{"$f":"IF(OR(E18778=\"\",ISBLANK(E18778)),\"\",VLOOKUP(E18778,Sheet2!A:F,2,FALSE))","v":""},{"$f":"IF(OR(E18778=\"\",ISBLANK(E18778)),\"\",VLOOKUP(E18778,Sheet2!A:G,4,FALSE))","v":""},"",{"$f":"IF(OR(E18778=\"\",ISBLANK(E18778)),\"\",VLOOKUP(E18778,Sheet2!A:H,3,FALSE))","v":""},null,{"$f":"IF(OR(E18778=\"\",ISBLANK(E18778)),\"\",VLOOKUP(E18778,Sheet2!A:G,6,FALSE))","v":""},""]
[{"$f":"IF(OR(E18797=\"\",ISBLANK(E18797)),\"\",VLOOKUP(E18797,Sheet2!A:F,2,FALSE))","v":""},{"$f":"IF(OR(E18797=\"\",ISBLANK(E18797)),\"\",VLOOKUP(E18797,Sheet2!A:G,4,FALSE))","v":""},"",{"$f":"IF(OR(E18797=\"\",ISBLANK(E18797)),\"\",VLOOKUP(E18797,Sheet2!A:H,3,FALSE))","v":""},null,{"$f":"IF(OR(E18797=\"\",ISBLANK(E18797)),\"\",VLOOKUP(E18797,Sheet2!A:G,6,FALSE))","v":""},""]
[{"$f":"IF(OR(E18828=\"\",ISBLANK(E18828)),\"\",VLOOKUP(E18828,Sheet2!A:F,2,FALSE))","v":""},{"$f":"IF(OR(E18828=\"\",ISBLANK(E18828)),\"\",VLOOKUP(E18828,Sheet2!A:G,4,FALSE))","v":""},"",{"$f":"IF(OR(E18828=\"\",ISBLANK(E18828)),\"\",VLOOKUP(E18828,Sheet2!A:H,3,FALSE))","v":""},null,{"$f":"IF(OR(E18828=\"\",ISBLANK(E18828)),\"\",VLOOKUP(E18828,Sheet2!A:G,6,FALSE))","v":""},""]
[{"$f":"IF(OR(E18832=\"\",ISBLANK(E18832)),\"\",VLOOKUP(E18832,Sheet2!A:F,2,FALSE))","v":""},{"$f":"IF(OR(E18832=\"\",ISBLANK(E18832)),\"\",VLOOKUP(E18832,Sheet2!A:G,4,FALSE))","v":""},"",{"$f":"IF(OR(E18832=\"\",ISBLANK(E18832)),\"\",VLOOKUP(E18832,Sheet2!A:H,3,FALSE))","v":""},null,{"$f":"IF(OR(E18832=\"\",ISBLANK(E18832)),\"\",VLOOKUP(E18832,Sheet2!A:G,6,FALSE))","v":""},""]
[{"$f":"IF(OR(E18865=\"\",ISBLANK(E18865)),\"\",VLOOKUP(E18865,Sheet2!A:F,2,FALSE))","v":""},{"$f":"IF(OR(E18865=\"\",ISBLANK(E18865)),\"\",VLOOKUP(E18865,Sheet2!A:G,4,FALSE))","v":""},"",{"$f":"IF(OR(E18865=\"\",ISBLANK(E18865)),\"\",VLOOKUP(E18865,Sheet2!A:H,3,FALSE))","v":""},null,{"$f":"IF(OR(E18865=\"\",ISBLANK(E18865)),\"\",VLOOKUP(E18865,Sheet2!A:G,6,FALSE))","v":""},""]
[{"$f":"IF(OR(E18892=\"\",ISBLANK(E18892)),\"\",VLOOKUP(E18892,Sheet2!A:F,2,FALSE))","v":""},{"$f":"IF(OR(E18892=\"\",ISBLANK(E18892)),\"\",VLOOKUP(E18892,Sheet2!A:G,4,FALSE))","v":""},"",{"$f":"IF(OR(E18892=\"\",ISBLANK(E18892)),\"\",VLOOKUP(E18892,Sheet2!A:H,3,FALSE))","v":""},null,{"$f":"IF(OR(E18892=\"\",ISBLANK(E18892)),\"\",VLOOKUP(E18892,Sheet2!A:G,6,FALSE))","v":""},""]
[{"$f":"IF(OR(E18924=\"\",ISBLANK(E18924)),\"\",VLOOKUP(E18924,Sheet2!A:F,2,FALSE))","v":""},{"$f":"IF(OR(E18924=\"\",ISBLANK(E18924)),\"\",VLOOKUP(E18924,Sheet2!A:G,4,FALSE))","v":""},"",{"$f":"IF(OR(E18924=\"\",ISBLANK(E18924)),\"\",VLOOKUP(E18924,Sheet2!A:H,3,FALSE))","v":""},null,{"$f":"IF(OR(E18924=\"\",ISBLANK(E18924)),\"\",VLOOKUP(E18924,Sheet2!A:G,6,FALSE))","v":""},""]
[{"$f":"IF(OR(E18942=\"\",ISBLANK(E18942)),\"\",VLOOKUP(E18942,Sheet2!A:F,2,FALSE))","v":""},{"$f":"IF(OR(E18942=\"\",ISBLANK(E18942)),\"\",VLOOKUP(E18942,Sheet2!A:G,4,FALSE))","v":""},"",{"$f":"IF(OR(E18942=\"\",ISBLANK(E18942)),\"\",VLOOKUP(E18942,Sheet2!A:H,3,FALSE))","v":""},null,{"$f":"IF(OR(E18942=\"\",ISBLANK(E18942)),\"\",VLOOKUP(E18942,Sheet2!A:G,6,FALSE))","v":""},""]
[{"$f":"IF(OR(E18959=\"\",ISBLANK(E18959)),\"\",VLOOKUP(E18959,Sheet2!A:F,2,FALSE))","v":""},{"$f":"IF(OR(E18959=\"\",ISBLANK(E18959)),\"\",VLOOKUP(E18959,Sheet2!A:G,4,FALSE))","v":""},"",{"$f":"IF(OR(E18959=\"\",ISBLANK(E18959)),\"\",VLOOKUP(E18959,Sheet2!A:H,3,FALSE))","v":""},null,{"$f":"IF(OR(E18959=\"\",ISBLANK(E18959)),\"\",VLOOKUP(E18959,Sheet2!A:G,6,FALSE))","v":""},""]
[{"$f":"IF(OR(E18992=\"\",ISBLANK(E18992)),\"\",VLOOKUP(E18992,Sheet2!A:F,2,FALSE))","v":""},{"$f":"IF(OR(E18992=\"\",ISBLANK(E18992)),\"\",VLOOKUP(E18992,Sheet2!A:G,4,FALSE))","v":""},"",{"$f":"IF(OR(E18992=\"\",ISBLANK(E18992)),\"\",VLOOKUP(E18992,Sheet2!A:H,3,FALSE))","v":""},null,{"$f":"IF(OR(E18992=\"\",ISBLANK(E18992)),\"\",VLOOKUP(E18992,Sheet2!A:G,6,FALSE))","v":""},""]
[{"$f":"IF(OR(E19006=\"\",ISBLANK(E19006)),\"\",VLOOKUP(E19006,Sheet2!A:F,2,FALSE))","v":""},{"$f":"IF(OR(E19006=\"\",ISBLANK(E19006)),\"\",VLOOKUP(E19006,Sheet2!A:G,4,FALSE))","v":""},"",{"$f":"IF(OR(E19006=\"\",ISBLANK(E19006)),\"\",VLOOKUP(E19006,Sheet2!A:H,3,FALSE))","v":""},null,{"$f":"IF(OR(E19006=\"\",ISBLANK(E19006)),\"\",VLOOKUP(E19006,Sheet2!A:G,6,FALSE))","v":""},""]
[{"$f":"IF(OR(E19027=\"\",ISBLANK(E19027)),\"\",VLOOKUP(E19027,Sheet2!A:F,2,FALSE))","v":""},{"$f":"IF(OR(E19027=\"\",ISBLANK(E19027)),\"\",VLOOKUP(E19027,Sheet2!A:G,4,FALSE))","v":""},"",{"$f":"IF(OR(E19027=\"\",ISBLANK(E19027)),\"\",VLOOKUP(E19027,Sheet2!A:H,3,FALSE))","v":""},null,{"$f":"IF(OR(E19027=\"\",ISBLANK(E19027)),\"\",VLOOKUP(E19027,Sheet2!A:G,6,FALSE))","v":""},""]
[{"$f":"IF(OR(E19060=\"\",ISBLANK(E19060)),\"\",VLOOKUP(E19060,Sheet2!A:F,2,FALSE))","v":""},{"$f":"IF(OR(E19060=\"\",ISBLANK(E19060)),\"\",VLOOKUP(E19060,Sheet2!A:G,4,FALSE))","v":""},"",{"$f":"IF(OR(E19060=\"\",ISBLANK(E19060)),\"\",VLOOKUP(E19060,Sheet2!A:H,3,FALSE))","v":""},null,{"$f":"IF(OR(E19060=\"\",ISBLANK(E19060)),\"\",VLOOKUP(E19060,Sheet2!A:G,6,FALSE))","v":""},""]
[{"$f":"IF(OR(E19095=\"\",ISBLANK(E19095)),\"\",VLOOKUP(E19095,Sheet2!A:F,2,FALSE))","v":""},{"$f":"IF(OR(E19095=\"\",ISBLANK(E19095)),\"\",VLOOKUP(E19095,Sheet2!A:G,4,FALSE))","v":""},"",{"$f":"IF(OR(E19095=\"\",ISBLANK(E19095)),\"\",VLOOKUP(E19095,Sheet2!A:H,3,FALSE))","v":""},null,{"$f":"IF(OR(E19095=\"\",ISBLANK(E19095)),\"\",VLOOKUP(E19095,Sheet2!A:G,6,FALSE))","v":""},""]
[{"$f":"IF(OR(E19119=\"\",ISBLANK(E19119)),\"\",VLOOKUP(E19119,Sheet2!A:F,2,FALSE))","v":""},{"$f":"IF(OR(E19119=\"\",ISBLANK(E19119)),\"\",VLOOKUP(E19119,Sheet2!A:G,4,FALSE))","v":""},"",{"$f":"IF(OR(E19119=\"\",ISBLANK(E19119)),\"\",VLOOKUP(E19119,Sheet2!A:H,3,FALSE))","v":""},null,{"$f":"IF(OR(E19119=\"\",ISBLANK(E19119)),\"\",VLOOKUP(E19119,Sheet2!A:G,6,FALSE))","v":""},""]
[{"$f":"IF(OR(E19145=\"\",ISBLANK(E19145)),\"\",VLOOKUP(E19145,Sheet2!A:F,2,FALSE))","v":""},{"$f":"IF(OR(E19145=\"\",ISBLANK(E19145)),\"\",VLOOKUP(E19145,Sheet2!A:G,4,FALSE))","v":""},"",{"$f":"IF(OR(E19145=\"\",ISBLANK(E19145)),\"\",VLOOKUP(E19145,Sheet2!A:H,3,FALSE))","v":""},null,{"$f":"IF(OR(E19145=\"\",ISBLANK(E19145)),\"\",VLOOKUP(E19145,Sheet2!A:G,6,FALSE))","v":""},""]
[{"$f":"IF(OR(E19154=\"\",ISBLANK(E19154)),\"\",VLOOKUP(E19154,Sheet2!A:F,2,FALSE))","v":""},{"$f":"IF(OR(E19154=\"\",ISBLANK(E19154)),\"\",VLOOKUP(E19154,Sheet2!A:G,4,FALSE))","v":""},"",{"$f":"IF(OR(E19154=\"\",ISBLANK(E19154)),\"\",VLOOKUP(E19154,Sheet2!A:H,3,FALSE))","v":""},null,{"$f":"IF(OR(E19154=\"\",ISBLANK(E19154)),\"\",VLOOKUP(E19154,Sheet2!A:G,6,FALSE))","v":""},""]
[{"$f":"IF(OR(E19187=\"\",ISBLANK(E19187)),\"\",VLOOKUP(E19187,Sheet2!A:F,2,FALSE))","v":""},{"$f":"IF(OR(E19187=\"\",ISBLANK(E19187)),\"\",VLOOKUP(E19187,Sheet2!A:G,4,FALSE))","v":""},"",{"$f":"IF(OR(E19187=\"\",ISBLANK(E19187)),\"\",VLOOKUP(E19187,Sheet2!A:H,3,FALSE))","v":""},null,{"$f":"IF(OR(E19187=\"\",ISBLANK(E19187)),\"\",VLOOKUP(E19187,Sheet2!A:G,6,FALSE))","v":""},""]
[{"$f":"IF(OR(E19209=\"\",ISBLANK(E19209)),\"\",VLOOKUP(E19209,Sheet2!A:F,2,FALSE))","v":""},{"$f":"IF(OR(E19209=\"\",ISBLANK(E19209)),\"\",VLOOKUP(E19209,Sheet2!A:G,4,FALSE))","v":""},"",{"$f":"IF(OR(E19209=\"\",ISBLANK(E19209)),\"\",VLOOKUP(E19209,Sheet2!A:H,3,FALSE))","v":""},null,{"$f":"IF(OR(E19209=\"\",ISBLANK(E19209)),\"\",VLOOKUP(E19209,Sheet2!A:G,6,FALSE))","v":""},""]
[{"$f":"IF(OR(E19222=\"\",ISBLANK(E19222)),\"\",VLOOKUP(E19222,Sheet2!A:F,2,FALSE))","v":""},{"$f":"IF(OR(E19222=\"\",ISBLANK(E19222)),\"\",VLOOKUP(E19222,Sheet2!A:G,4,FALSE))","v":""},"",{"$f":"IF(OR(E19222=\"\",ISBLANK(E19222)),\"\",VLOOKUP(E19222,Sheet2!A:H,3,FALSE))","v":""},null,{"$f":"IF(OR(E19222=\"\",ISBLANK(E19222)),\"\",VLOOKUP(E19222,Sheet2!A:G,6,FALSE))","v":""},""]
[{"$f":"IF(OR(E19259=\"\",ISBLANK(E19259)),\"\",VLOOKUP(E19259,Sheet2!A:F,2,FALSE))","v":""},{"$f":"IF(OR(E19259=\"\",ISBLANK(E19259)),\"\",VLOOKUP(E19259,Sheet2!A:G,4,FALSE))","v":""},"",{"$f":"IF(OR(E19259=\"\",ISBLANK(E19259)),\"\",VLOOKUP(E19259,Sheet2!A:H,3,FALSE))","v":""},null,{"$f":"IF(OR(E19259=\"\",ISBLANK(E19259)),\"\",VLOOKUP(E19259,Sheet2!A:G,6,FALSE))","v":""},""]
[{"$f":"IF(OR(E19281=\"\",ISBLANK(E19281)),\"\",VLOOKUP(E19281,Sheet2!A:F,2,FALSE))","v":""},{"$f":"IF(OR(E19281=\"\",ISBLANK(E19281)),\"\",VLOOKUP(E19281,Sheet2!A:G,4,FALSE))","v":""},"",{"$f":"IF(OR(E19281=\"\",ISBLANK(E19281)),\"\",VLOOKUP(E19281,Sheet2!A:H,3,FALSE))","v":""},null,{"$f":"IF(OR(E19281=\"\",ISBLANK(E19281)),\"\",VLOOKUP(E19281,Sheet2!A:G,6,FALSE))","v":""},""]
[{"$f":"IF(OR(E19314=\"\",ISBLANK(E19314)),\"\",VLOOKUP(E19314,Sheet2!A:F,2,FALSE))","v":""},{"$f":"IF(OR(E19314=\"\",ISBLANK(E19314)),\"\",VLOOKUP(E19314,Sheet2!A:G,4,FALSE))","v":""},"",{"$f":"IF(OR(E19314=\"\",ISBLANK(E19314)),\"\",VLOOKUP(E19314,Sheet2!A:H,3,FALSE))","v":""},null,{"$f":"IF(OR(E19314=\"\",ISBLANK(E19314)),\"\",VLOOKUP(E19314,Sheet2!A:G,6,FALSE))","v":""},""]
[{"$f":"IF(OR(E19323=\"\",ISBLANK(E19323)),\"\",VLOOKUP(E19323,Sheet2!A:F,2,FALSE))","v":""},{"$f":"IF(OR(E19323=\"\",ISBLANK(E19323)),\"\",VLOOKUP(E19323,Sheet2!A:G,4,FALSE))","v":""},"",{"$f":"IF(OR(E19323=\"\",ISBLANK(E19323)),\"\",VLOOKUP(E19323,Sheet2!A:H,3,FALSE))","v":""},null,{"$f":"IF(OR(E19323=\"\",ISBLANK(E19323)),\"\",VLOOKUP(E19323,Sheet2!A:G,6,FALSE))","v":""},""]
[{"$f":"IF(OR(E19349=\"\",ISBLANK(E19349)),\"\",VLOOKUP(E19349,Sheet2!A:F,2,FALSE))","v":""},{"$f":"IF(OR(E19349=\"\",ISBLANK(E19349)),\"\",VLOOKUP(E19349,Sheet2!A:G,4,FALSE))","v":""},"",{"$f":"IF(OR(E19349=\"\",ISBLANK(E19349)),\"\",VLOOKUP(E19349,Sheet2!A:H,3,FALSE))","v":""},null,{"$f":"IF(OR(E19349=\"\",ISBLANK(E19349)),\"\",VLOOKUP(E19349,Sheet2!A:G,6,FALSE))","v":""},""]
[{"$f":"IF(OR(E19377=\"\",ISBLANK(E19377)),\"\",VLOOKUP(E19377,Sheet2!A:F,2,FALSE))","v":""},{"$f":"IF(OR(E19377=\"\",ISBLANK(E19377)),\"\",VLOOKUP(E19377,Sheet2!A:G,4,FALSE))","v":""},"",{"$f":"IF(OR(E19377=\"\",ISBLANK(E19377)),\"\",VLOOKUP(E19377,Sheet2!A:H,3,FALSE))","v":""},null,{"$f":"IF(OR(E19377=\"\",ISBLANK(E19377)),\"\",VLOOKUP(E19377,Sheet2!A:G,6,FALSE))","v":""},""]
[{"$f":"IF(OR(E19408=\"\",ISBLANK(E19408)),\"\",VLOOKUP(E19408,Sheet2!A:F,2,FALSE))","v":""},{"$f":"IF(OR(E19408=\"\",ISBLANK(E19408)),\"\",VLOOKUP(E19408,Sheet2!A:G,4,FALSE))","v":""},"",{"$f":"IF(OR(E19408=\"\",ISBLANK(E19408)),\"\",VLOOKUP(E19408,Sheet2!A:H,3,FALSE))","v":""},null,{"$f":"IF(OR(E19408=\"\",ISBLANK(E19408)),\"\",VLOOKUP(E19408,Sheet2!A:G,6,FALSE))","v":""},""]
[{"$f":"IF(OR(E19417=\"\",ISBLANK(E19417)),\"\",VLOOKUP(E19417,Sheet2!A:F,2,FALSE))","v":""},{"$f":"IF(OR(E19417=\"\",ISBLANK(E19417)),\"\",VLOOKUP(E19417,Sheet2!A:G,4,FALSE))","v":""},"",{"$f":"IF(OR(E19417=\"\",ISBLANK(E19417)),\"\",VLOOKUP(E19417,Sheet2!A:H,3,FALSE))","v":""},null,{"$f":"IF(OR(E19417=\"\",ISBLANK(E19417)),\"\",VLOOKUP(E19417,Sheet2!A:G,6,FALSE))","v":""},""]
[{"$f":"IF(OR(E19462=\"\",ISBLANK(E19462)),\"\",VLOOKUP(E19462,Sheet2!A:F,2,FALSE))","v":""},{"$f":"IF(OR(E19462=\"\",ISBLANK(E19462)),\"\",VLOOKUP(E19462,Sheet2!A:G,4,FALSE))","v":""},"",{"$f":"IF(OR(E19462=\"\",ISBLANK(E19462)),\"\",VLOOKUP(E19462,Sheet2!A:H,3,FALSE))","v":""},null,{"$f":"IF(OR(E19462=\"\",ISBLANK(E19462)),\"\",VLOOKUP(E19462,Sheet2!A:G,6,FALSE))","v":""},""]
[{"$f":"IF(OR(E19476=\"\",ISBLANK(E19476)),\"\",VLOOKUP(E19476,Sheet2!A:F,2,FALSE))","v":""},{"$f":"IF(OR(E19476=\"\",ISBLANK(E19476)),\"\",VLOOKUP(E19476,Sheet2!A:G,4,FALSE))","v":""},"",{"$f":"IF(OR(E19476=\"\",ISBLANK(E19476)),\"\",VLOOKUP(E19476,Sheet2!A:H,3,FALSE))","v":""},null,{"$f":"IF(OR(E19476=\"\",ISBLANK(E19476)),\"\",VLOOKUP(E19476,Sheet2!A:G,6,FALSE))","v":""},""]
[{"$f":"IF(OR(E19509=\"\",ISBLANK(E19509)),\"\",VLOOKUP(E19509,Sheet2!A:F,2,FALSE))","v":""},{"$f":"IF(OR(E19509=\"\",ISBLANK(E19509)),\"\",VLOOKUP(E19509,Sheet2!A:G,4,FALSE))","v":""},"",{"$f":"IF(OR(E19509=\"\",ISBLANK(E19509)),\"\",VLOOKUP(E19509,Sheet2!A:H,3,FALSE))","v":""},null,{"$f":"IF(OR(E19509=\"\",ISBLANK(E19509)),\"\",VLOOKUP(E19509,Sheet2!A:G,6,FALSE))","v":""},""]
[{"$f":"IF(OR(E19526=\"\",ISBLANK(E19526)),\"\",VLOOKUP(E19526,Sheet2!A:F,2,FALSE))","v":""},{"$f":"IF(OR(E19526=\"\",ISBLANK(E19526)),\"\",VLOOKUP(E19526,Sheet2!A:G,4,FALSE))","v":""},"",{"$f":"IF(OR(E19526=\"\",ISBLANK(E19526)),\"\",VLOOKUP(E19526,Sheet2!A:H,3,FALSE))","v":""},null,{"$f":"IF(OR(E19526=\"\",ISBLANK(E19526)),\"\",VLOOKUP(E19526,Sheet2!A:G,6,FALSE))","v":""},""]
[{"$f":"IF(OR(E19544=\"\",ISBLANK(E19544)),\"\",VLOOKUP(E19544,Sheet2!A:F,2,FALSE))","v":""},{"$f":"IF(OR(E19544=\"\",ISBLANK(E19544)),\"\",VLOOKUP(E19544,Sheet2!A:G,4,FALSE))","v":""},"",{"$f":"IF(OR(E19544=\"\",ISBLANK(E19544)),\"\",VLOOKUP(E19544,Sheet2!A:H,3,FALSE))","v":""},null,{"$f":"IF(OR(E19544=\"\",ISBLANK(E19544)),\"\",VLOOKUP(E19544,Sheet2!A:G,6,FALSE))","v":""},""]
[{"$f":"IF(OR(E19576=\"\",ISBLANK(E19576)),\"\",VLOOKUP(E19576,Sheet2!A:F,2,FALSE))","v":""},{"$f":"IF(OR(E19576=\"\",ISBLANK(E19576)),\"\",VLOOKUP(E19576,Sheet2!A:G,4,FALSE))","v":""},"",{"$f":"IF(OR(E19576=\"\",ISBLANK(E19576)),\"\",VLOOKUP(E19576,Sheet2!A:H,3,FALSE))","v":""},null,{"$f":"IF(OR(E19576=\"\",ISBLANK(E19576)),\"\",VLOOKUP(E19576,Sheet2!A:G,6,FALSE))","v":""},""]
[{"$f":"IF(OR(E19603=\"\",ISBLANK(E19603)),\"\",VLOOKUP(E19603,Sheet2!A:F,2,FALSE))","v":""},{"$f":"IF(OR(E19603=\"\",ISBLANK(E19603)),\"\",VLOOKUP(E19603,Sheet2!A:G,4,FALSE))","v":""},"",{"$f":"IF(OR(E19603=\"\",ISBLANK(E19603)),\"\",VLOOKUP(E19603,Sheet2!A:H,3,FALSE))","v":""},null,{"$f":"IF(OR(E19603=\"\",ISBLANK(E19603)),\"\",VLOOKUP(E19603,Sheet2!A:G,6,FALSE))","v":""},""]
[{"$f":"IF(OR(E19612=\"\",ISBLANK(E19612)),\"\",VLOOKUP(E19612,Sheet2!A:F,2,FALSE))","v":""},{"$f":"IF(OR(E19612=\"\",ISBLANK(E19612)),\"\",VLOOKUP(E19612,Sheet2!A:G,4,FALSE))","v":""},"",{"$f":"IF(OR(E19612=\"\",ISBLANK(E19612)),\"\",VLOOKUP(E19612,Sheet2!A:H,3,FALSE))","v":""},null,{"$f":"IF(OR(E19612=\"\",ISBLANK(E19612)),\"\",VLOOKUP(E19612,Sheet2!A:G,6,FALSE))","v":""},""]
[{"$f":"IF(OR(E19640=\"\",ISBLANK(E19640)),\"\",VLOOKUP(E19640,Sheet2!A:F,2,FALSE))","v":""},{"$f":"IF(OR(E19640=\"\",ISBLANK(E19640)),\"\",VLOOKUP(E19640,Sheet2!A:G,4,FALSE))","v":""},"",{"$f":"IF(OR(E19640=\"\",ISBLANK(E19640)),\"\",VLOOKUP(E19640,Sheet2!A:H,3,FALSE))","v":""},null,{"$f":"IF(OR(E19640=\"\",ISBLANK(E19640)),\"\",VLOOKUP(E19640,Sheet2!A:G,6,FALSE))","v":""},""]
[{"$f":"IF(OR(E19671=\"\",ISBLANK(E19671)),\"\",VLOOKUP(E19671,Sheet2!A:F,2,FALSE))","v":""},{"$f":"IF(OR(E19671=\"\",ISBLANK(E19671)),\"\",VLOOKUP(E19671,Sheet2!A:G,4,FALSE))","v":""},"",{"$f":"IF(OR(E19671=\"\",ISBLANK(E19671)),\"\",VLOOKUP(E19671,Sheet2!A:H,3,FALSE))","v":""},null,{"$f":"IF(OR(E19671=\"\",ISBLANK(E19671)),\"\",VLOOKUP(E19671,Sheet2!A:G,6,FALSE))","v":""},""]
[{"$f":"IF(OR(E19694=\"\",ISBLANK(E19694)),\"\",VLOOKUP(E19694,Sheet2!A:F,2,FALSE))","v":""},{"$f":"IF(OR(E19694=\"\",ISBLANK(E19694)),\"\",VLOOKUP(E19694,Sheet2!A:G,4,FALSE))","v":""},"",{"$f":"IF(OR(E19694=\"\",ISBLANK(E19694)),\"\",VLOOKUP(E19694,Sheet2!A:H,3,FALSE))","v":""},null,{"$f":"IF(OR(E19694=\"\",ISBLANK(E19694)),\"\",VLOOKUP(E19694,Sheet2!A:G,6,FALSE))","v":""},""]
[{"$f":"IF(OR(E19730=\"\",ISBLANK(E19730)),\"\",VLOOKUP(E19730,Sheet2!A:F,2,FALSE))","v":""},{"$f":"IF(OR(E19730=\"\",ISBLANK(E19730)),\"\",VLOOKUP(E19730,Sheet2!A:G,4,FALSE))","v":""},"",{"$f":"IF(OR(E19730=\"\",ISBLANK(E19730)),\"\",VLOOKUP(E19730,Sheet2!A:H,3,FALSE))","v":""},null,{"$f":"IF(OR(E19730=\"\",ISBLANK(E19730)),\"\",VLOOKUP(E19730,Sheet2!A:G,6,FALSE))","v":""},""]
[{"$f":"IF(OR(E19739=\"\",ISBLANK(E19739)),\"\",VLOOKUP(E19739,Sheet2!A:F,2,FALSE))","v":""},{"$f":"IF(OR(E19739=\"\",ISBLANK(E19739)),\"\",VLOOKUP(E19739,Sheet2!A:G,4,FALSE))","v":""},"",{"$f":"IF(OR(E19739=\"\",ISBLANK(E19739)),\"\",VLOOKUP(E19739,Sheet2!A:H,3,FALSE))","v":""},null,{"$f":"IF(OR(E19739=\"\",ISBLANK(E19739)),\"\",VLOOKUP(E19739,Sheet2!A:G,6,FALSE))","v":""},""]
[{"$f":"IF(OR(E19779=\"\",ISBLANK(E19779)),\"\",VLOOKUP(E19779,Sheet2!A:F,2,FALSE))","v":""},{"$f":"IF(OR(E19779=\"\",ISBLANK(E19779)),\"\",VLOOKUP(E19779,Sheet2!A:G,4,FALSE))","v":""},{"$f":"IF(D19779=0,\"\",D19779)","v":""},{"$f":"IF(OR(E19779=\"\",ISBLANK(E19779)),\"\",VLOOKUP(E19779,Sheet2!A:H,3,FALSE))","v":""},null,{"$f":"IF(OR(E19779=\"\",ISBLANK(E19779)),\"\",VLOOKUP(E19779,Sheet2!A:G,6,FALSE))","v":""},{"$f":"IF(F19779=0,\"\",F19779)","v":""}]
[{"$f":"IF(OR(E19798=\"\",ISBLANK(E19798)),\"\",VLOOKUP(E19798,Sheet2!A:F,2,FALSE))","v":""},{"$f":"IF(OR(E19798=\"\",ISBLANK(E19798)),\"\",VLOOKUP(E19798,Sheet2!A:G,4,FALSE))","v":""},"",{"$f":"IF(OR(E19798=\"\",ISBLANK(E19798)),\"\",VLOOKUP(E19798,Sheet2!A:H,3,FALSE))","v":""},null,{"$f":"IF(OR(E19798=\"\",ISBLANK(E19798)),\"\",VLOOKUP(E19798,Sheet2!A:G,6,FALSE))","v":""},""]
[{"$f":"IF(OR(E19807=\"\",ISBLANK(E19807)),\"\",VLOOKUP(E19807,Sheet2!A:F,2,FALSE))","v":""},{"$f":"IF(OR(E19807=\"\",ISBLANK(E19807)),\"\",VLOOKUP(E19807,Sheet2!A:G,4,FALSE))","v":""},"",{"$f":"IF(OR(E19807=\"\",ISBLANK(E19807)),\"\",VLOOKUP(E19807,Sheet2!A:H,3,FALSE))","v":""},null,{"$f":"IF(OR(E19807=\"\",ISBLANK(E19807)),\"\",VLOOKUP(E19807,Sheet2!A:G,6,FALSE))","v":""},""]
[{"$f":"IF(OR(E19843=\"\",ISBLANK(E19843)),\"\",VLOOKUP(E19843,Sheet2!A:F,2,FALSE))","v":""},{"$f":"IF(OR(E19843=\"\",ISBLANK(E19843)),\"\",VLOOKUP(E19843,Sheet2!A:G,4,FALSE))","v":""},{"$f":"IF(D19843=0,\"\",D19843)","v":""},{"$f":"IF(OR(E19843=\"\",ISBLANK(E19843)),\"\",VLOOKUP(E19843,Sheet2!A:H,3,FALSE))","v":""},null,{"$f":"IF(OR(E19843=\"\",ISBLANK(E19843)),\"\",VLOOKUP(E19843,Sheet2!A:G,6,FALSE))","v":""},{"$f":"IF(F19843=0,\"\",F19843)","v":""}]
[{"$f":"IF(OR(E19866=\"\",ISBLANK(E19866)),\"\",VLOOKUP(E19866,Sheet2!A:F,2,FALSE))","v":""},{"$f":"IF(OR(E19866=\"\",ISBLANK(E19866)),\"\",VLOOKUP(E19866,Sheet2!A:G,4,FALSE))","v":""},"",{"$f":"IF(OR(E19866=\"\",ISBLANK(E19866)),\"\",VLOOKUP(E19866,Sheet2!A:H,3,FALSE))","v":""},null,{"$f":"IF(OR(E19866=\"\",ISBLANK(E19866)),\"\",VLOOKUP(E19866,Sheet2!A:G,6,FALSE))","v":""},""]
[{"$f":"IF(OR(E19897=\"\",ISBLANK(E19897)),\"\",VLOOKUP(E19897,Sheet2!A:F,2,FALSE))","v":""},{"$f":"IF(OR(E19897=\"\",ISBLANK(E19897)),\"\",VLOOKUP(E19897,Sheet2!A:G,4,FALSE))","v":""},"",{"$f":"IF(OR(E19897=\"\",ISBLANK(E19897)),\"\",VLOOKUP(E19897,Sheet2!A:H,3,FALSE))","v":""},null,{"$f":"IF(OR(E19897=\"\",ISBLANK(E19897)),\"\",VLOOKUP(E19897,Sheet2!A:G,6,FALSE))","v":""},""]
[{"$f":"IF(OR(E19925=\"\",ISBLANK(E19925)),\"\",VLOOKUP(E19925,Sheet2!A:F,2,FALSE))","v":""},{"$f":"IF(OR(E19925=\"\",ISBLANK(E19925)),\"\",VLOOKUP(E19925,Sheet2!A:G,4,FALSE))","v":""},"",{"$f":"IF(OR(E19925=\"\",ISBLANK(E19925)),\"\",VLOOKUP(E19925,Sheet2!A:H,3,FALSE))","v":""},null,{"$f":"IF(OR(E19925=\"\",ISBLANK(E19925)),\"\",VLOOKUP(E19925,Sheet2!A:G,6,FALSE))","v":""},""]
[{"$f":"IF(OR(E19934=\"\",ISBLANK(E19934)),\"\",VLOOKUP(E19934,Sheet2!A:F,2,FALSE))","v":""},{"$f":"IF(OR(E19934=\"\",ISBLANK(E19934)),\"\",VLOOKUP(E19934,Sheet2!A:G,4,FALSE))","v":""},"",{"$f":"IF(OR(E19934=\"\",ISBLANK(E19934)),\"\",VLOOKUP(E19934,Sheet2!A:H,3,FALSE))","v":""},null,{"$f":"IF(OR(E19934=\"\",ISBLANK(E19934)),\"\",VLOOKUP(E19934,Sheet2!A:G,6,FALSE))","v":""},""]
[{"$f":"IF(OR(E19957=\"\",ISBLANK(E19957)),\"\",VLOOKUP(E19957,Sheet2!A:F,2,FALSE))","v":""},{"$f":"IF(OR(E19957=\"\",ISBLANK(E19957)),\"\",VLOOKUP(E19957,Sheet2!A:G,4,FALSE))","v":""},"",{"$f":"IF(OR(E19957=\"\",ISBLANK(E19957)),\"\",VLOOKUP(E19957,Sheet2!A:H,3,FALSE))","v":""},null,{"$f":"IF(OR(E19957=\"\",ISBLANK(E19957)),\"\",VLOOKUP(E19957,Sheet2!A:G,6,FALSE))","v":""},""]
[{"$f":"IF(OR(E19993=\"\",ISBLANK(E19993)),\"\",VLOOKUP(E19993,Sheet2!A:F,2,FALSE))","v":""},{"$f":"IF(OR(E19993=\"\",ISBLANK(E19993)),\"\",VLOOKUP(E19993,Sheet2!A:G,4,FALSE))","v":""},"",{"$f":"IF(OR(E19993=\"\",ISBLANK(E19993)),\"\",VLOOKUP(E19993,Sheet2!A:H,3,FALSE))","v":""},null,{"$f":"IF(OR(E19993=\"\",ISBLANK(E19993)),\"\",VLOOKUP(E19993,Sheet2!A:G,6,FALSE))","v":""},""]
[{"$f":"IF(OR(E20011=\"\",ISBLANK(E20011)),\"\",VLOOKUP(E20011,Sheet2!A:F,2,FALSE))","v":""},{"$f":"IF(OR(E20011=\"\",ISBLANK(E20011)),\"\",VLOOKUP(E20011,Sheet2!A:G,4,FALSE))","v":""},"",{"$f":"IF(OR(E20011=\"\",ISBLANK(E20011)),\"\",VLOOKUP(E20011,Sheet2!A:H,3,FALSE))","v":""},null,{"$f":"IF(OR(E20011=\"\",ISBLANK(E20011)),\"\",VLOOKUP(E20011,Sheet2!A:G,6,FALSE))","v":""},""]
[{"$f":"IF(OR(E20028=\"\",ISBLANK(E20028)),\"\",VLOOKUP(E20028,Sheet2!A:F,2,FALSE))","v":""},{"$f":"IF(OR(E20028=\"\",ISBLANK(E20028)),\"\",VLOOKUP(E20028,Sheet2!A:G,4,FALSE))","v":""},"",{"$f":"IF(OR(E20028=\"\",ISBLANK(E20028)),\"\",VLOOKUP(E20028,Sheet2!A:H,3,FALSE))","v":""},null,{"$f":"IF(OR(E20028=\"\",ISBLANK(E20028)),\"\",VLOOKUP(E20028,Sheet2!A:G,6,FALSE))","v":""},""]
[{"$f":"IF(OR(E20061=\"\",ISBLANK(E20061)),\"\",VLOOKUP(E20061,Sheet2!A:F,2,FALSE))","v":""},{"$f":"IF(OR(E20061=\"\",ISBLANK(E20061)),\"\",VLOOKUP(E20061,Sheet2!A:G,4,FALSE))","v":""},"",{"$f":"IF(OR(E20061=\"\",ISBLANK(E20061)),\"\",VLOOKUP(E20061,Sheet2!A:H,3,FALSE))","v":""},null,{"$f":"IF(OR(E20061=\"\",ISBLANK(E20061)),\"\",VLOOKUP(E20061,Sheet2!A:G,6,FALSE))","v":""},""]
[{"$f":"IF(OR(E20096=\"\",ISBLANK(E20096)),\"\",VLOOKUP(E20096,Sheet2!A:F,2,FALSE))","v":""},{"$f":"IF(OR(E20096=\"\",ISBLANK(E20096)),\"\",VLOOKUP(E20096,Sheet2!A:G,4,FALSE))","v":""},"",{"$f":"IF(OR(E20096=\"\",ISBLANK(E20096)),\"\",VLOOKUP(E20096,Sheet2!A:H,3,FALSE))","v":""},null,{"$f":"IF(OR(E20096=\"\",ISBLANK(E20096)),\"\",VLOOKUP(E20096,Sheet2!A:G,6,FALSE))","v":""},""]
[{"$f":"IF(OR(E20120=\"\",ISBLANK(E20120)),\"\",VLOOKUP(E20120,Sheet2!A:F,2,FALSE))","v":""},{"$f":"IF(OR(E20120=\"\",ISBLANK(E20120)),\"\",VLOOKUP(E20120,Sheet2!A:G,4,FALSE))","v":""},"",{"$f":"IF(OR(E20120=\"\",ISBLANK(E20120)),\"\",VLOOKUP(E20120,Sheet2!A:H,3,FALSE))","v":""},null,{"$f":"IF(OR(E20120=\"\",ISBLANK(E20120)),\"\",VLOOKUP(E20120,Sheet2!A:G,6,FALSE))","v":""},""]
[{"$f":"IF(OR(E20125=\"\",ISBLANK(E20125)),\"\",VLOOKUP(E20125,Sheet2!A:F,2,FALSE))","v":""},{"$f":"IF(OR(E20125=\"\",ISBLANK(E20125)),\"\",VLOOKUP(E20125,Sheet2!A:G,4,FALSE))","v":""},"",{"$f":"IF(OR(E20125=\"\",ISBLANK(E20125)),\"\",VLOOKUP(E20125,Sheet2!A:H,3,FALSE))","v":""},null,{"$f":"IF(OR(E20125=\"\",ISBLANK(E20125)),\"\",VLOOKUP(E20125,Sheet2!A:G,6,FALSE))","v":""},""]
[{"$f":"IF(OR(E20155=\"\",ISBLANK(E20155)),\"\",VLOOKUP(E20155,Sheet2!A:F,2,FALSE))","v":""},{"$f":"IF(OR(E20155=\"\",ISBLANK(E20155)),\"\",VLOOKUP(E20155,Sheet2!A:G,4,FALSE))","v":""},"",{"$f":"IF(OR(E20155=\"\",ISBLANK(E20155)),\"\",VLOOKUP(E20155,Sheet2!A:H,3,FALSE))","v":""},null,{"$f":"IF(OR(E20155=\"\",ISBLANK(E20155)),\"\",VLOOKUP(E20155,Sheet2!A:G,6,FALSE))","v":""},""]
[{"$f":"IF(OR(E20188=\"\",ISBLANK(E20188)),\"\",VLOOKUP(E20188,Sheet2!A:F,2,FALSE))","v":""},{"$f":"IF(OR(E20188=\"\",ISBLANK(E20188)),\"\",VLOOKUP(E20188,Sheet2!A:G,4,FALSE))","v":""},"",{"$f":"IF(OR(E20188=\"\",ISBLANK(E20188)),\"\",VLOOKUP(E20188,Sheet2!A:H,3,FALSE))","v":""},null,{"$f":"IF(OR(E20188=\"\",ISBLANK(E20188)),\"\",VLOOKUP(E20188,Sheet2!A:G,6,FALSE))","v":""},""]
[{"$f":"IF(OR(E20214=\"\",ISBLANK(E20214)),\"\",VLOOKUP(E20214,Sheet2!A:F,2,FALSE))","v":""},{"$f":"IF(OR(E20214=\"\",ISBLANK(E20214)),\"\",VLOOKUP(E20214,Sheet2!A:G,4,FALSE))","v":""},"",{"$f":"IF(OR(E20214=\"\",ISBLANK(E20214)),\"\",VLOOKUP(E20214,Sheet2!A:H,3,FALSE))","v":""},null,{"$f":"IF(OR(E20214=\"\",ISBLANK(E20214)),\"\",VLOOKUP(E20214,Sheet2!A:G,6,FALSE))","v":""},""]
[{"$f":"IF(OR(E20223=\"\",ISBLANK(E20223)),\"\",VLOOKUP(E20223,Sheet2!A:F,2,FALSE))","v":""},{"$f":"IF(OR(E20223=\"\",ISBLANK(E20223)),\"\",VLOOKUP(E20223,Sheet2!A:G,4,FALSE))","v":""},"",{"$f":"IF(OR(E20223=\"\",ISBLANK(E20223)),\"\",VLOOKUP(E20223,Sheet2!A:H,3,FALSE))","v":""},null,{"$f":"IF(OR(E20223=\"\",ISBLANK(E20223)),\"\",VLOOKUP(E20223,Sheet2!A:G,6,FALSE))","v":""},""]
[{"$f":"IF(OR(E20256=\"\",ISBLANK(E20256)),\"\",VLOOKUP(E20256,Sheet2!A:F,2,FALSE))","v":""},{"$f":"IF(OR(E20256=\"\",ISBLANK(E20256)),\"\",VLOOKUP(E20256,Sheet2!A:G,4,FALSE))","v":""},"",{"$f":"IF(OR(E20256=\"\",ISBLANK(E20256)),\"\",VLOOKUP(E20256,Sheet2!A:H,3,FALSE))","v":""},null,{"$f":"IF(OR(E20256=\"\",ISBLANK(E20256)),\"\",VLOOKUP(E20256,Sheet2!A:G,6,FALSE))","v":""},""]
[{"$f":"IF(OR(E20274=\"\",ISBLANK(E20274)),\"\",VLOOKUP(E20274,Sheet2!A:F,2,FALSE))","v":""},{"$f":"IF(OR(E20274=\"\",ISBLANK(E20274)),\"\",VLOOKUP(E20274,Sheet2!A:G,4,FALSE))","v":""},"",{"$f":"IF(OR(E20274=\"\",ISBLANK(E20274)),\"\",VLOOKUP(E20274,Sheet2!A:H,3,FALSE))","v":""},null,{"$f":"IF(OR(E20274=\"\",ISBLANK(E20274)),\"\",VLOOKUP(E20274,Sheet2!A:G,6,FALSE))","v":""},""]
[{"$f":"IF(OR(E20315=\"\",ISBLANK(E20315)),\"\",VLOOKUP(E20315,Sheet2!A:F,2,FALSE))","v":""},{"$f":"IF(OR(E20315=\"\",ISBLANK(E20315)),\"\",VLOOKUP(E20315,Sheet2!A:G,4,FALSE))","v":""},"",{"$f":"IF(OR(E20315=\"\",ISBLANK(E20315)),\"\",VLOOKUP(E20315,Sheet2!A:H,3,FALSE))","v":""},null,{"$f":"IF(OR(E20315=\"\",ISBLANK(E20315)),\"\",VLOOKUP(E20315,Sheet2!A:G,6,FALSE))","v":""},""]
[{"$f":"IF(OR(E20328=\"\",ISBLANK(E20328)),\"\",VLOOKUP(E20328,Sheet2!A:F,2,FALSE))","v":""},{"$f":"IF(OR(E20328=\"\",ISBLANK(E20328)),\"\",VLOOKUP(E20328,Sheet2!A:G,4,FALSE))","v":""},"",{"$f":"IF(OR(E20328=\"\",ISBLANK(E20328)),\"\",VLOOKUP(E20328,Sheet2!A:H,3,FALSE))","v":""},null,{"$f":"IF(OR(E20328=\"\",ISBLANK(E20328)),\"\",VLOOKUP(E20328,Sheet2!A:G,6,FALSE))","v":""},""]
[{"$f":"IF(OR(E20350=\"\",ISBLANK(E20350)),\"\",VLOOKUP(E20350,Sheet2!A:F,2,FALSE))","v":""},{"$f":"IF(OR(E20350=\"\",ISBLANK(E20350)),\"\",VLOOKUP(E20350,Sheet2!A:G,4,FALSE))","v":""},"",{"$f":"IF(OR(E20350=\"\",ISBLANK(E20350)),\"\",VLOOKUP(E20350,Sheet2!A:H,3,FALSE))","v":""},null,{"$f":"IF(OR(E20350=\"\",ISBLANK(E20350)),\"\",VLOOKUP(E20350,Sheet2!A:G,6,FALSE))","v":""},""]
[{"$f":"IF(OR(E20383=\"\",ISBLANK(E20383)),\"\",VLOOKUP(E20383,Sheet2!A:F,2,FALSE))","v":""},{"$f":"IF(OR(E20383=\"\",ISBLANK(E20383)),\"\",VLOOKUP(E20383,Sheet2!A:G,4,FALSE))","v":""},"",{"$f":"IF(OR(E20383=\"\",ISBLANK(E20383)),\"\",VLOOKUP(E20383,Sheet2!A:H,3,FALSE))","v":""},null,{"$f":"IF(OR(E20383=\"\",ISBLANK(E20383)),\"\",VLOOKUP(E20383,Sheet2!A:G,6,FALSE))","v":""},""]
[{"$f":"IF(OR(E20413=\"\",ISBLANK(E20413)),\"\",VLOOKUP(E20413,Sheet2!A:F,2,FALSE))","v":""},{"$f":"IF(OR(E20413=\"\",ISBLANK(E20413)),\"\",VLOOKUP(E20413,Sheet2!A:G,4,FALSE))","v":""},"",{"$f":"IF(OR(E20413=\"\",ISBLANK(E20413)),\"\",VLOOKUP(E20413,Sheet2!A:H,3,FALSE))","v":""},null,{"$f":"IF(OR(E20413=\"\",ISBLANK(E20413)),\"\",VLOOKUP(E20413,Sheet2!A:G,6,FALSE))","v":""},""]
[{"$f":"IF(OR(E20418=\"\",ISBLANK(E20418)),\"\",VLOOKUP(E20418,Sheet2!A:F,2,FALSE))","v":""},{"$f":"IF(OR(E20418=\"\",ISBLANK(E20418)),\"\",VLOOKUP(E20418,Sheet2!A:G,4,FALSE))","v":""},"",{"$f":"IF(OR(E20418=\"\",ISBLANK(E20418)),\"\",VLOOKUP(E20418,Sheet2!A:H,3,FALSE))","v":""},null,{"$f":"IF(OR(E20418=\"\",ISBLANK(E20418)),\"\",VLOOKUP(E20418,Sheet2!A:G,6,FALSE))","v":""},""]
[{"$f":"IF(OR(E20442=\"\",ISBLANK(E20442)),\"\",VLOOKUP(E20442,Sheet2!A:F,2,FALSE))","v":""},{"$f":"IF(OR(E20442=\"\",ISBLANK(E20442)),\"\",VLOOKUP(E20442,Sheet2!A:G,4,FALSE))","v":""},"",{"$f":"IF(OR(E20442=\"\",ISBLANK(E20442)),\"\",VLOOKUP(E20442,Sheet2!A:H,3,FALSE))","v":""},null,{"$f":"IF(OR(E20442=\"\",ISBLANK(E20442)),\"\",VLOOKUP(E20442,Sheet2!A:G,6,FALSE))","v":""},""]
[{"$f":"IF(OR(E20477=\"\",ISBLANK(E20477)),\"\",VLOOKUP(E20477,Sheet2!A:F,2,FALSE))","v":""},{"$f":"IF(OR(E20477=\"\",ISBLANK(E20477)),\"\",VLOOKUP(E20477,Sheet2!A:G,4,FALSE))","v":""},"",{"$f":"IF(OR(E20477=\"\",ISBLANK(E20477)),\"\",VLOOKUP(E20477,Sheet2!A:H,3,FALSE))","v":""},null,{"$f":"IF(OR(E20477=\"\",ISBLANK(E20477)),\"\",VLOOKUP(E20477,Sheet2!A:G,6,FALSE))","v":""},""]
[{"$f":"IF(OR(E20510=\"\",ISBLANK(E20510)),\"\",VLOOKUP(E20510,Sheet2!A:F,2,FALSE))","v":""},{"$f":"IF(OR(E20510=\"\",ISBLANK(E20510)),\"\",VLOOKUP(E20510,Sheet2!A:G,4,FALSE))","v":""},"",{"$f":"IF(OR(E20510=\"\",ISBLANK(E20510)),\"\",VLOOKUP(E20510,Sheet2!A:H,3,FALSE))","v":""},null,{"$f":"IF(OR(E20510=\"\",ISBLANK(E20510)),\"\",VLOOKUP(E20510,Sheet2!A:G,6,FALSE))","v":""},""]
[{"$f":"IF(OR(E20531=\"\",ISBLANK(E20531)),\"\",VLOOKUP(E20531,Sheet2!A:F,2,FALSE))","v":""},{"$f":"IF(OR(E20531=\"\",ISBLANK(E20531)),\"\",VLOOKUP(E20531,Sheet2!A:G,4,FALSE))","v":""},"",{"$f":"IF(OR(E20531=\"\",ISBLANK(E20531)),\"\",VLOOKUP(E20531,Sheet2!A:H,3,FALSE))","v":""},null,{"$f":"IF(OR(E20531=\"\",ISBLANK(E20531)),\"\",VLOOKUP(E20531,Sheet2!A:G,6,FALSE))","v":""},""]
[{"$f":"IF(OR(E20545=\"\",ISBLANK(E20545)),\"\",VLOOKUP(E20545,Sheet2!A:F,2,FALSE))","v":""},{"$f":"IF(OR(E20545=\"\",ISBLANK(E20545)),\"\",VLOOKUP(E20545,Sheet2!A:G,4,FALSE))","v":""},"",{"$f":"IF(OR(E20545=\"\",ISBLANK(E20545)),\"\",VLOOKUP(E20545,Sheet2!A:H,3,FALSE))","v":""},null,{"$f":"IF(OR(E20545=\"\",ISBLANK(E20545)),\"\",VLOOKUP(E20545,Sheet2!A:G,6,FALSE))","v":""},""]
[{"$f":"IF(OR(E20581=\"\",ISBLANK(E20581)),\"\",VLOOKUP(E20581,Sheet2!A:F,2,FALSE))","v":""},{"$f":"IF(OR(E20581=\"\",ISBLANK(E20581)),\"\",VLOOKUP(E20581,Sheet2!A:G,4,FALSE))","v":""},"",{"$f":"IF(OR(E20581=\"\",ISBLANK(E20581)),\"\",VLOOKUP(E20581,Sheet2!A:H,3,FALSE))","v":""},null,{"$f":"IF(OR(E20581=\"\",ISBLANK(E20581)),\"\",VLOOKUP(E20581,Sheet2!A:G,6,FALSE))","v":""},""]
[{"$f":"IF(OR(E20604=\"\",ISBLANK(E20604)),\"\",VLOOKUP(E20604,Sheet2!A:F,2,FALSE))","v":""},{"$f":"IF(OR(E20604=\"\",ISBLANK(E20604)),\"\",VLOOKUP(E20604,Sheet2!A:G,4,FALSE))","v":""},"",{"$f":"IF(OR(E20604=\"\",ISBLANK(E20604)),\"\",VLOOKUP(E20604,Sheet2!A:H,3,FALSE))","v":""},null,{"$f":"IF(OR(E20604=\"\",ISBLANK(E20604)),\"\",VLOOKUP(E20604,Sheet2!A:G,6,FALSE))","v":""},""]
[{"$f":"IF(OR(E20613=\"\",ISBLANK(E20613)),\"\",VLOOKUP(E20613,Sheet2!A:F,2,FALSE))","v":""},{"$f":"IF(OR(E20613=\"\",ISBLANK(E20613)),\"\",VLOOKUP(E20613,Sheet2!A:G,4,FALSE))","v":""},"",{"$f":"IF(OR(E20613=\"\",ISBLANK(E20613)),\"\",VLOOKUP(E20613,Sheet2!A:H,3,FALSE))","v":""},null,{"$f":"IF(OR(E20613=\"\",ISBLANK(E20613)),\"\",VLOOKUP(E20613,Sheet2!A:G,6,FALSE))","v":""},""]
[{"$f":"IF(OR(E20645=\"\",ISBLANK(E20645)),\"\",VLOOKUP(E20645,Sheet2!A:F,2,FALSE))","v":""},{"$f":"IF(OR(E20645=\"\",ISBLANK(E20645)),\"\",VLOOKUP(E20645,Sheet2!A:G,4,FALSE))","v":""},"",{"$f":"IF(OR(E20645=\"\",ISBLANK(E20645)),\"\",VLOOKUP(E20645,Sheet2!A:H,3,FALSE))","v":""},null,{"$f":"IF(OR(E20645=\"\",ISBLANK(E20645)),\"\",VLOOKUP(E20645,Sheet2!A:G,6,FALSE))","v":""},""]
[{"$f":"IF(OR(E20672=\"\",ISBLANK(E20672)),\"\",VLOOKUP(E20672,Sheet2!A:F,2,FALSE))","v":""},{"$f":"IF(OR(E20672=\"\",ISBLANK(E20672)),\"\",VLOOKUP(E20672,Sheet2!A:G,4,FALSE))","v":""},"",{"$f":"IF(OR(E20672=\"\",ISBLANK(E20672)),\"\",VLOOKUP(E20672,Sheet2!A:H,3,FALSE))","v":""},null,{"$f":"IF(OR(E20672=\"\",ISBLANK(E20672)),\"\",VLOOKUP(E20672,Sheet2!A:G,6,FALSE))","v":""},""]
[{"$f":"IF(OR(E20705=\"\",ISBLANK(E20705)),\"\",VLOOKUP(E20705,Sheet2!A:F,2,FALSE))","v":""},{"$f":"IF(OR(E20705=\"\",ISBLANK(E20705)),\"\",VLOOKUP(E20705,Sheet2!A:G,4,FALSE))","v":""},"",{"$f":"IF(OR(E20705=\"\",ISBLANK(E20705)),\"\",VLOOKUP(E20705,Sheet2!A:H,3,FALSE))","v":""},null,{"$f":"IF(OR(E20705=\"\",ISBLANK(E20705)),\"\",VLOOKUP(E20705,Sheet2!A:G,6,FALSE))","v":""},""]
[{"$f":"IF(OR(E20709=\"\",ISBLANK(E20709)),\"\",VLOOKUP(E20709,Sheet2!A:F,2,FALSE))","v":""},{"$f":"IF(OR(E20709=\"\",ISBLANK(E20709)),\"\",VLOOKUP(E20709,Sheet2!A:G,4,FALSE))","v":""},"",{"$f":"IF(OR(E20709=\"\",ISBLANK(E20709)),\"\",VLOOKUP(E20709,Sheet2!A:H,3,FALSE))","v":""},null,{"$f":"IF(OR(E20709=\"\",ISBLANK(E20709)),\"\",VLOOKUP(E20709,Sheet2!A:G,6,FALSE))","v":""},""]
[{"$f":"IF(OR(E20740=\"\",ISBLANK(E20740)),\"\",VLOOKUP(E20740,Sheet2!A:F,2,FALSE))","v":""},{"$f":"IF(OR(E20740=\"\",ISBLANK(E20740)),\"\",VLOOKUP(E20740,Sheet2!A:G,4,FALSE))","v":""},"",{"$f":"IF(OR(E20740=\"\",ISBLANK(E20740)),\"\",VLOOKUP(E20740,Sheet2!A:H,3,FALSE))","v":""},null,{"$f":"IF(OR(E20740=\"\",ISBLANK(E20740)),\"\",VLOOKUP(E20740,Sheet2!A:G,6,FALSE))","v":""},""]
[{"$f":"IF(OR(E20759=\"\",ISBLANK(E20759)),\"\",VLOOKUP(E20759,Sheet2!A:F,2,FALSE))","v":""},{"$f":"IF(OR(E20759=\"\",ISBLANK(E20759)),\"\",VLOOKUP(E20759,Sheet2!A:G,4,FALSE))","v":""},"",{"$f":"IF(OR(E20759=\"\",ISBLANK(E20759)),\"\",VLOOKUP(E20759,Sheet2!A:H,3,FALSE))","v":""},null,{"$f":"IF(OR(E20759=\"\",ISBLANK(E20759)),\"\",VLOOKUP(E20759,Sheet2!A:G,6,FALSE))","v":""},""]
[{"$f":"IF(OR(E20799=\"\",ISBLANK(E20799)),\"\",VLOOKUP(E20799,Sheet2!A:F,2,FALSE))","v":""},{"$f":"IF(OR(E20799=\"\",ISBLANK(E20799)),\"\",VLOOKUP(E20799,Sheet2!A:G,4,FALSE))","v":""},"",{"$f":"IF(OR(E20799=\"\",ISBLANK(E20799)),\"\",VLOOKUP(E20799,Sheet2!A:H,3,FALSE))","v":""},null,{"$f":"IF(OR(E20799=\"\",ISBLANK(E20799)),\"\",VLOOKUP(E20799,Sheet2!A:G,6,FALSE))","v":""},""]
[{"$f":"IF(OR(E20808=\"\",ISBLANK(E20808)),\"\",VLOOKUP(E20808,Sheet2!A:F,2,FALSE))","v":""},{"$f":"IF(OR(E20808=\"\",ISBLANK(E20808)),\"\",VLOOKUP(E20808,Sheet2!A:G,4,FALSE))","v":""},"",{"$f":"IF(OR(E20808=\"\",ISBLANK(E20808)),\"\",VLOOKUP(E20808,Sheet2!A:H,3,FALSE))","v":""},null,{"$f":"IF(OR(E20808=\"\",ISBLANK(E20808)),\"\",VLOOKUP(E20808,Sheet2!A:G,6,FALSE))","v":""},""]
[{"$f":"IF(OR(E20848=\"\",ISBLANK(E20848)),\"\",VLOOKUP(E20848,Sheet2!A:F,2,FALSE))","v":""},{"$f":"IF(OR(E20848=\"\",ISBLANK(E20848)),\"\",VLOOKUP(E20848,Sheet2!A:G,4,FALSE))","v":""},"",{"$f":"IF(OR(E20848=\"\",ISBLANK(E20848)),\"\",VLOOKUP(E20848,Sheet2!A:H,3,FALSE))","v":""},null,{"$f":"IF(OR(E20848=\"\",ISBLANK(E20848)),\"\",VLOOKUP(E20848,Sheet2!A:G,6,FALSE))","v":""},""]
[{"$f":"IF(OR(E20867=\"\",ISBLANK(E20867)),\"\",VLOOKUP(E20867,Sheet2!A:F,2,FALSE))","v":""},{"$f":"IF(OR(E20867=\"\",ISBLANK(E20867)),\"\",VLOOKUP(E20867,Sheet2!A:G,4,FALSE))","v":""},{"$f":"IF(D20867=0,\"\",D20867)","v":""},{"$f":"IF(OR(E20867=\"\",ISBLANK(E20867)),\"\",VLOOKUP(E20867,Sheet2!A:H,3,FALSE))","v":""},null,{"$f":"IF(OR(E20867=\"\",ISBLANK(E20867)),\"\",VLOOKUP(E20867,Sheet2!A:G,6,FALSE))","v":""},{"$f":"IF(F20867=0,\"\",F20867)","v":""}]
[{"$f":"IF(OR(E20898=\"\",ISBLANK(E20898)),\"\",VLOOKUP(E20898,Sheet2!A:F,2,FALSE))","v":""},{"$f":"IF(OR(E20898=\"\",ISBLANK(E20898)),\"\",VLOOKUP(E20898,Sheet2!A:G,4,FALSE))","v":""},"",{"$f":"IF(OR(E20898=\"\",ISBLANK(E20898)),\"\",VLOOKUP(E20898,Sheet2!A:H,3,FALSE))","v":""},null,{"$f":"IF(OR(E20898=\"\",ISBLANK(E20898)),\"\",VLOOKUP(E20898,Sheet2!A:G,6,FALSE))","v":""},""]
[{"$f":"IF(OR(E20902=\"\",ISBLANK(E20902)),\"\",VLOOKUP(E20902,Sheet2!A:F,2,FALSE))","v":""},{"$f":"IF(OR(E20902=\"\",ISBLANK(E20902)),\"\",VLOOKUP(E20902,Sheet2!A:G,4,FALSE))","v":""},"",{"$f":"IF(OR(E20902=\"\",ISBLANK(E20902)),\"\",VLOOKUP(E20902,Sheet2!A:H,3,FALSE))","v":""},null,{"$f":"IF(OR(E20902=\"\",ISBLANK(E20902)),\"\",VLOOKUP(E20902,Sheet2!A:G,6,FALSE))","v":""},""]
[{"$f":"IF(OR(E20935=\"\",ISBLANK(E20935)),\"\",VLOOKUP(E20935,Sheet2!A:F,2,FALSE))","v":""},{"$f":"IF(OR(E20935=\"\",ISBLANK(E20935)),\"\",VLOOKUP(E20935,Sheet2!A:G,4,FALSE))","v":""},"",{"$f":"IF(OR(E20935=\"\",ISBLANK(E20935)),\"\",VLOOKUP(E20935,Sheet2!A:H,3,FALSE))","v":""},null,{"$f":"IF(OR(E20935=\"\",ISBLANK(E20935)),\"\",VLOOKUP(E20935,Sheet2!A:G,6,FALSE))","v":""},""]
[{"$f":"IF(OR(E20962=\"\",ISBLANK(E20962)),\"\",VLOOKUP(E20962,Sheet2!A:F,2,FALSE))","v":""},{"$f":"IF(OR(E20962=\"\",ISBLANK(E20962)),\"\",VLOOKUP(E20962,Sheet2!A:G,4,FALSE))","v":""},"",{"$f":"IF(OR(E20962=\"\",ISBLANK(E20962)),\"\",VLOOKUP(E20962,Sheet2!A:H,3,FALSE))","v":""},null,{"$f":"IF(OR(E20962=\"\",ISBLANK(E20962)),\"\",VLOOKUP(E20962,Sheet2!A:G,6,FALSE))","v":""},""]
[{"$f":"IF(OR(E20994=\"\",ISBLANK(E20994)),\"\",VLOOKUP(E20994,Sheet2!A:F,2,FALSE))","v":""},{"$f":"IF(OR(E20994=\"\",ISBLANK(E20994)),\"\",VLOOKUP(E20994,Sheet2!A:G,4,FALSE))","v":""},"",{"$f":"IF(OR(E20994=\"\",ISBLANK(E20994)),\"\",VLOOKUP(E20994,Sheet2!A:H,3,FALSE))","v":""},null,{"$f":"IF(OR(E20994=\"\",ISBLANK(E20994)),\"\",VLOOKUP(E20994,Sheet2!A:G,6,FALSE))","v":""},""]
[{"$f":"IF(OR(E21012=\"\",ISBLANK(E21012)),\"\",VLOOKUP(E21012,Sheet2!A:F,2,FALSE))","v":""},{"$f":"IF(OR(E21012=\"\",ISBLANK(E21012)),\"\",VLOOKUP(E21012,Sheet2!A:G,4,FALSE))","v":""},"",{"$f":"IF(OR(E21012=\"\",ISBLANK(E21012)),\"\",VLOOKUP(E21012,Sheet2!A:H,3,FALSE))","v":""},null,{"$f":"IF(OR(E21012=\"\",ISBLANK(E21012)),\"\",VLOOKUP(E21012,Sheet2!A:G,6,FALSE))","v":""},""]
[{"$f":"IF(OR(E21037=\"\",ISBLANK(E21037)),\"\",VLOOKUP(E21037,Sheet2!A:F,2,FALSE))","v":""},{"$f":"IF(OR(E21037=\"\",ISBLANK(E21037)),\"\",VLOOKUP(E21037,Sheet2!A:G,4,FALSE))","v":""},"",{"$f":"IF(OR(E21037=\"\",ISBLANK(E21037)),\"\",VLOOKUP(E21037,Sheet2!A:H,3,FALSE))","v":""},null,{"$f":"IF(OR(E21037=\"\",ISBLANK(E21037)),\"\",VLOOKUP(E21037,Sheet2!A:G,6,FALSE))","v":""},""]
[{"$f":"IF(OR(E21062=\"\",ISBLANK(E21062)),\"\",VLOOKUP(E21062,Sheet2!A:F,2,FALSE))","v":""},{"$f":"IF(OR(E21062=\"\",ISBLANK(E21062)),\"\",VLOOKUP(E21062,Sheet2!A:G,4,FALSE))","v":""},"",{"$f":"IF(OR(E21062=\"\",ISBLANK(E21062)),\"\",VLOOKUP(E21062,Sheet2!A:H,3,FALSE))","v":""},null,{"$f":"IF(OR(E21062=\"\",ISBLANK(E21062)),\"\",VLOOKUP(E21062,Sheet2!A:G,6,FALSE))","v":""},""]
[{"$f":"IF(OR(E21076=\"\",ISBLANK(E21076)),\"\",VLOOKUP(E21076,Sheet2!A:F,2,FALSE))","v":""},{"$f":"IF(OR(E21076=\"\",ISBLANK(E21076)),\"\",VLOOKUP(E21076,Sheet2!A:G,4,FALSE))","v":""},"",{"$f":"IF(OR(E21076=\"\",ISBLANK(E21076)),\"\",VLOOKUP(E21076,Sheet2!A:H,3,FALSE))","v":""},null,{"$f":"IF(OR(E21076=\"\",ISBLANK(E21076)),\"\",VLOOKUP(E21076,Sheet2!A:G,6,FALSE))","v":""},""]
[{"$f":"IF(OR(E21097=\"\",ISBLANK(E21097)),\"\",VLOOKUP(E21097,Sheet2!A:F,2,FALSE))","v":""},{"$f":"IF(OR(E21097=\"\",ISBLANK(E21097)),\"\",VLOOKUP(E21097,Sheet2!A:G,4,FALSE))","v":""},"",{"$f":"IF(OR(E21097=\"\",ISBLANK(E21097)),\"\",VLOOKUP(E21097,Sheet2!A:H,3,FALSE))","v":""},null,{"$f":"IF(OR(E21097=\"\",ISBLANK(E21097)),\"\",VLOOKUP(E21097,Sheet2!A:G,6,FALSE))","v":""},""]
[{"$f":"IF(OR(E21130=\"\",ISBLANK(E21130)),\"\",VLOOKUP(E21130,Sheet2!A:F,2,FALSE))","v":""},{"$f":"IF(OR(E21130=\"\",ISBLANK(E21130)),\"\",VLOOKUP(E21130,Sheet2!A:G,4,FALSE))","v":""},"",{"$f":"IF(OR(E21130=\"\",ISBLANK(E21130)),\"\",VLOOKUP(E21130,Sheet2!A:H,3,FALSE))","v":""},null,{"$f":"IF(OR(E21130=\"\",ISBLANK(E21130)),\"\",VLOOKUP(E21130,Sheet2!A:G,6,FALSE))","v":""},""]
[{"$f":"IF(OR(E21165=\"\",ISBLANK(E21165)),\"\",VLOOKUP(E21165,Sheet2!A:F,2,FALSE))","v":""},{"$f":"IF(OR(E21165=\"\",ISBLANK(E21165)),\"\",VLOOKUP(E21165,Sheet2!A:G,4,FALSE))","v":""},"",{"$f":"IF(OR(E21165=\"\",ISBLANK(E21165)),\"\",VLOOKUP(E21165,Sheet2!A:H,3,FALSE))","v":""},null,{"$f":"IF(OR(E21165=\"\",ISBLANK(E21165)),\"\",VLOOKUP(E21165,Sheet2!A:G,6,FALSE))","v":""},""]
[{"$f":"IF(OR(E21189=\"\",ISBLANK(E21189)),\"\",VLOOKUP(E21189,Sheet2!A:F,2,FALSE))","v":""},{"$f":"IF(OR(E21189=\"\",ISBLANK(E21189)),\"\",VLOOKUP(E21189,Sheet2!A:G,4,FALSE))","v":""},"",{"$f":"IF(OR(E21189=\"\",ISBLANK(E21189)),\"\",VLOOKUP(E21189,Sheet2!A:H,3,FALSE))","v":""},null,{"$f":"IF(OR(E21189=\"\",ISBLANK(E21189)),\"\",VLOOKUP(E21189,Sheet2!A:G,6,FALSE))","v":""},""]
[{"$f":"IF(OR(E21215=\"\",ISBLANK(E21215)),\"\",VLOOKUP(E21215,Sheet2!A:F,2,FALSE))","v":""},{"$f":"IF(OR(E21215=\"\",ISBLANK(E21215)),\"\",VLOOKUP(E21215,Sheet2!A:G,4,FALSE))","v":""},"",{"$f":"IF(OR(E21215=\"\",ISBLANK(E21215)),\"\",VLOOKUP(E21215,Sheet2!A:H,3,FALSE))","v":""},null,{"$f":"IF(OR(E21215=\"\",ISBLANK(E21215)),\"\",VLOOKUP(E21215,Sheet2!A:G,6,FALSE))","v":""},""]
[{"$f":"IF(OR(E21232=\"\",ISBLANK(E21232)),\"\",VLOOKUP(E21232,Sheet2!A:F,2,FALSE))","v":""},{"$f":"IF(OR(E21232=\"\",ISBLANK(E21232)),\"\",VLOOKUP(E21232,Sheet2!A:G,4,FALSE))","v":""},"",{"$f":"IF(OR(E21232=\"\",ISBLANK(E21232)),\"\",VLOOKUP(E21232,Sheet2!A:H,3,FALSE))","v":""},null,{"$f":"IF(OR(E21232=\"\",ISBLANK(E21232)),\"\",VLOOKUP(E21232,Sheet2!A:G,6,FALSE))","v":""},""]
[{"$f":"IF(OR(E21257=\"\",ISBLANK(E21257)),\"\",VLOOKUP(E21257,Sheet2!A:F,2,FALSE))","v":""},{"$f":"IF(OR(E21257=\"\",ISBLANK(E21257)),\"\",VLOOKUP(E21257,Sheet2!A:G,4,FALSE))","v":""},"",{"$f":"IF(OR(E21257=\"\",ISBLANK(E21257)),\"\",VLOOKUP(E21257,Sheet2!A:H,3,FALSE))","v":""},null,{"$f":"IF(OR(E21257=\"\",ISBLANK(E21257)),\"\",VLOOKUP(E21257,Sheet2!A:G,6,FALSE))","v":""},""]
[{"$f":"IF(OR(E21279=\"\",ISBLANK(E21279)),\"\",VLOOKUP(E21279,Sheet2!A:F,2,FALSE))","v":""},{"$f":"IF(OR(E21279=\"\",ISBLANK(E21279)),\"\",VLOOKUP(E21279,Sheet2!A:G,4,FALSE))","v":""},"",{"$f":"IF(OR(E21279=\"\",ISBLANK(E21279)),\"\",VLOOKUP(E21279,Sheet2!A:H,3,FALSE))","v":""},null,{"$f":"IF(OR(E21279=\"\",ISBLANK(E21279)),\"\",VLOOKUP(E21279,Sheet2!A:G,6,FALSE))","v":""},""]
[{"$f":"IF(OR(E21292=\"\",ISBLANK(E21292)),\"\",VLOOKUP(E21292,Sheet2!A:F,2,FALSE))","v":""},{"$f":"IF(OR(E21292=\"\",ISBLANK(E21292)),\"\",VLOOKUP(E21292,Sheet2!A:G,4,FALSE))","v":""},"",{"$f":"IF(OR(E21292=\"\",ISBLANK(E21292)),\"\",VLOOKUP(E21292,Sheet2!A:H,3,FALSE))","v":""},null,{"$f":"IF(OR(E21292=\"\",ISBLANK(E21292)),\"\",VLOOKUP(E21292,Sheet2!A:G,6,FALSE))","v":""},""]
[{"$f":"IF(OR(E21329=\"\",ISBLANK(E21329)),\"\",VLOOKUP(E21329,Sheet2!A:F,2,FALSE))","v":""},{"$f":"IF(OR(E21329=\"\",ISBLANK(E21329)),\"\",VLOOKUP(E21329,Sheet2!A:G,4,FALSE))","v":""},"",{"$f":"IF(OR(E21329=\"\",ISBLANK(E21329)),\"\",VLOOKUP(E21329,Sheet2!A:H,3,FALSE))","v":""},null,{"$f":"IF(OR(E21329=\"\",ISBLANK(E21329)),\"\",VLOOKUP(E21329,Sheet2!A:G,6,FALSE))","v":""},""]
[{"$f":"IF(OR(E21359=\"\",ISBLANK(E21359)),\"\",VLOOKUP(E21359,Sheet2!A:F,2,FALSE))","v":""},{"$f":"IF(OR(E21359=\"\",ISBLANK(E21359)),\"\",VLOOKUP(E21359,Sheet2!A:G,4,FALSE))","v":""},"",{"$f":"IF(OR(E21359=\"\",ISBLANK(E21359)),\"\",VLOOKUP(E21359,Sheet2!A:H,3,FALSE))","v":""},null,{"$f":"IF(OR(E21359=\"\",ISBLANK(E21359)),\"\",VLOOKUP(E21359,Sheet2!A:G,6,FALSE))","v":""},""]
[{"$f":"IF(OR(E21384=\"\",ISBLANK(E21384)),\"\",VLOOKUP(E21384,Sheet2!A:F,2,FALSE))","v":""},{"$f":"IF(OR(E21384=\"\",ISBLANK(E21384)),\"\",VLOOKUP(E21384,Sheet2!A:G,4,FALSE))","v":""},"",{"$f":"IF(OR(E21384=\"\",ISBLANK(E21384)),\"\",VLOOKUP(E21384,Sheet2!A:H,3,FALSE))","v":""},null,{"$f":"IF(OR(E21384=\"\",ISBLANK(E21384)),\"\",VLOOKUP(E21384,Sheet2!A:G,6,FALSE))","v":""},""]
[{"$f":"IF(OR(E21393=\"\",ISBLANK(E21393)),\"\",VLOOKUP(E21393,Sheet2!A:F,2,FALSE))","v":""},{"$f":"IF(OR(E21393=\"\",ISBLANK(E21393)),\"\",VLOOKUP(E21393,Sheet2!A:G,4,FALSE))","v":""},"",{"$f":"IF(OR(E21393=\"\",ISBLANK(E21393)),\"\",VLOOKUP(E21393,Sheet2!A:H,3,FALSE))","v":""},null,{"$f":"IF(OR(E21393=\"\",ISBLANK(E21393)),\"\",VLOOKUP(E21393,Sheet2!A:G,6,FALSE))","v":""},""]
[{"$f":"IF(OR(E21419=\"\",ISBLANK(E21419)),\"\",VLOOKUP(E21419,Sheet2!A:F,2,FALSE))","v":""},{"$f":"IF(OR(E21419=\"\",ISBLANK(E21419)),\"\",VLOOKUP(E21419,Sheet2!A:G,4,FALSE))","v":""},"",{"$f":"IF(OR(E21419=\"\",ISBLANK(E21419)),\"\",VLOOKUP(E21419,Sheet2!A:H,3,FALSE))","v":""},null,{"$f":"IF(OR(E21419=\"\",ISBLANK(E21419)),\"\",VLOOKUP(E21419,Sheet2!A:G,6,FALSE))","v":""},""]
[{"$f":"IF(OR(E21443=\"\",ISBLANK(E21443)),\"\",VLOOKUP(E21443,Sheet2!A:F,2,FALSE))","v":""},{"$f":"IF(OR(E21443=\"\",ISBLANK(E21443)),\"\",VLOOKUP(E21443,Sheet2!A:G,4,FALSE))","v":""},{"$f":"IF(D21443=0,\"\",D21443)","v":""},{"$f":"IF(OR(E21443=\"\",ISBLANK(E21443)),\"\",VLOOKUP(E21443,Sheet2!A:H,3,FALSE))","v":""},null,{"$f":"IF(OR(E21443=\"\",ISBLANK(E21443)),\"\",VLOOKUP(E21443,Sheet2!A:G,6,FALSE))","v":""},{"$f":"IF(F21443=0,\"\",F21443)","v":""}]
[{"$f":"IF(OR(E21486=\"\",ISBLANK(E21486)),\"\",VLOOKUP(E21486,Sheet2!A:F,2,FALSE))","v":""},{"$f":"IF(OR(E21486=\"\",ISBLANK(E21486)),\"\",VLOOKUP(E21486,Sheet2!A:G,4,FALSE))","v":""},"",{"$f":"IF(OR(E21486=\"\",ISBLANK(E21486)),\"\",VLOOKUP(E21486,Sheet2!A:H,3,FALSE))","v":""},null,{"$f":"IF(OR(E21486=\"\",ISBLANK(E21486)),\"\",VLOOKUP(E21486,Sheet2!A:G,6,FALSE))","v":""},""]
[{"$f":"IF(OR(E21487=\"\",ISBLANK(E21487)),\"\",VLOOKUP(E21487,Sheet2!A:F,2,FALSE))","v":""},{"$f":"IF(OR(E21487=\"\",ISBLANK(E21487)),\"\",VLOOKUP(E21487,Sheet2!A:G,4,FALSE))","v":""},"",{"$f":"IF(OR(E21487=\"\",ISBLANK(E21487)),\"\",VLOOKUP(E21487,Sheet2!A:H,3,FALSE))","v":""},null,{"$f":"IF(OR(E21487=\"\",ISBLANK(E21487)),\"\",VLOOKUP(E21487,Sheet2!A:G,6,FALSE))","v":""},""]
[{"$f":"IF(OR(E21532=\"\",ISBLANK(E21532)),\"\",VLOOKUP(E21532,Sheet2!A:F,2,FALSE))","v":""},{"$f":"IF(OR(E21532=\"\",ISBLANK(E21532)),\"\",VLOOKUP(E21532,Sheet2!A:G,4,FALSE))","v":""},"",{"$f":"IF(OR(E21532=\"\",ISBLANK(E21532)),\"\",VLOOKUP(E21532,Sheet2!A:H,3,FALSE))","v":""},null,{"$f":"IF(OR(E21532=\"\",ISBLANK(E21532)),\"\",VLOOKUP(E21532,Sheet2!A:G,6,FALSE))","v":""},""]
[{"$f":"IF(OR(E21554=\"\",ISBLANK(E21554)),\"\",VLOOKUP(E21554,Sheet2!A:F,2,FALSE))","v":""},{"$f":"IF(OR(E21554=\"\",ISBLANK(E21554)),\"\",VLOOKUP(E21554,Sheet2!A:G,4,FALSE))","v":""},"",{"$f":"IF(OR(E21554=\"\",ISBLANK(E21554)),\"\",VLOOKUP(E21554,Sheet2!A:H,3,FALSE))","v":""},null,{"$f":"IF(OR(E21554=\"\",ISBLANK(E21554)),\"\",VLOOKUP(E21554,Sheet2!A:G,6,FALSE))","v":""},""]
[{"$f":"IF(OR(E21579=\"\",ISBLANK(E21579)),\"\",VLOOKUP(E21579,Sheet2!A:F,2,FALSE))","v":""},{"$f":"IF(OR(E21579=\"\",ISBLANK(E21579)),\"\",VLOOKUP(E21579,Sheet2!A:G,4,FALSE))","v":""},"",{"$f":"IF(OR(E21579=\"\",ISBLANK(E21579)),\"\",VLOOKUP(E21579,Sheet2!A:H,3,FALSE))","v":""},null,{"$f":"IF(OR(E21579=\"\",ISBLANK(E21579)),\"\",VLOOKUP(E21579,Sheet2!A:G,6,FALSE))","v":""},""]
[{"$f":"IF(OR(E21596=\"\",ISBLANK(E21596)),\"\",VLOOKUP(E21596,Sheet2!A:F,2,FALSE))","v":""},{"$f":"IF(OR(E21596=\"\",ISBLANK(E21596)),\"\",VLOOKUP(E21596,Sheet2!A:G,4,FALSE))","v":""},"",{"$f":"IF(OR(E21596=\"\",ISBLANK(E21596)),\"\",VLOOKUP(E21596,Sheet2!A:H,3,FALSE))","v":""},null,{"$f":"IF(OR(E21596=\"\",ISBLANK(E21596)),\"\",VLOOKUP(E21596,Sheet2!A:G,6,FALSE))","v":""},""]
[{"$f":"IF(OR(E21614=\"\",ISBLANK(E21614)),\"\",VLOOKUP(E21614,Sheet2!A:F,2,FALSE))","v":""},{"$f":"IF(OR(E21614=\"\",ISBLANK(E21614)),\"\",VLOOKUP(E21614,Sheet2!A:G,4,FALSE))","v":""},"",{"$f":"IF(OR(E21614=\"\",ISBLANK(E21614)),\"\",VLOOKUP(E21614,Sheet2!A:H,3,FALSE))","v":""},null,{"$f":"IF(OR(E21614=\"\",ISBLANK(E21614)),\"\",VLOOKUP(E21614,Sheet2!A:G,6,FALSE))","v":""},""]
[{"$f":"IF(OR(E21646=\"\",ISBLANK(E21646)),\"\",VLOOKUP(E21646,Sheet2!A:F,2,FALSE))","v":""},{"$f":"IF(OR(E21646=\"\",ISBLANK(E21646)),\"\",VLOOKUP(E21646,Sheet2!A:G,4,FALSE))","v":""},"",{"$f":"IF(OR(E21646=\"\",ISBLANK(E21646)),\"\",VLOOKUP(E21646,Sheet2!A:H,3,FALSE))","v":""},null,{"$f":"IF(OR(E21646=\"\",ISBLANK(E21646)),\"\",VLOOKUP(E21646,Sheet2!A:G,6,FALSE))","v":""},""]
[{"$f":"IF(OR(E21681=\"\",ISBLANK(E21681)),\"\",VLOOKUP(E21681,Sheet2!A:F,2,FALSE))","v":""},{"$f":"IF(OR(E21681=\"\",ISBLANK(E21681)),\"\",VLOOKUP(E21681,Sheet2!A:G,4,FALSE))","v":""},"",{"$f":"IF(OR(E21681=\"\",ISBLANK(E21681)),\"\",VLOOKUP(E21681,Sheet2!A:H,3,FALSE))","v":""},null,{"$f":"IF(OR(E21681=\"\",ISBLANK(E21681)),\"\",VLOOKUP(E21681,Sheet2!A:G,6,FALSE))","v":""},""]
[{"$f":"IF(OR(E21682=\"\",ISBLANK(E21682)),\"\",VLOOKUP(E21682,Sheet2!A:F,2,FALSE))","v":""},{"$f":"IF(OR(E21682=\"\",ISBLANK(E21682)),\"\",VLOOKUP(E21682,Sheet2!A:G,4,FALSE))","v":""},"",{"$f":"IF(OR(E21682=\"\",ISBLANK(E21682)),\"\",VLOOKUP(E21682,Sheet2!A:H,3,FALSE))","v":""},null,{"$f":"IF(OR(E21682=\"\",ISBLANK(E21682)),\"\",VLOOKUP(E21682,Sheet2!A:G,6,FALSE))","v":""},""]
[{"$f":"IF(OR(E21710=\"\",ISBLANK(E21710)),\"\",VLOOKUP(E21710,Sheet2!A:F,2,FALSE))","v":""},{"$f":"IF(OR(E21710=\"\",ISBLANK(E21710)),\"\",VLOOKUP(E21710,Sheet2!A:G,4,FALSE))","v":""},"",{"$f":"IF(OR(E21710=\"\",ISBLANK(E21710)),\"\",VLOOKUP(E21710,Sheet2!A:H,3,FALSE))","v":""},null,{"$f":"IF(OR(E21710=\"\",ISBLANK(E21710)),\"\",VLOOKUP(E21710,Sheet2!A:G,6,FALSE))","v":""},""]
[{"$f":"IF(OR(E21741=\"\",ISBLANK(E21741)),\"\",VLOOKUP(E21741,Sheet2!A:F,2,FALSE))","v":""},{"$f":"IF(OR(E21741=\"\",ISBLANK(E21741)),\"\",VLOOKUP(E21741,Sheet2!A:G,4,FALSE))","v":""},"",{"$f":"IF(OR(E21741=\"\",ISBLANK(E21741)),\"\",VLOOKUP(E21741,Sheet2!A:H,3,FALSE))","v":""},null,{"$f":"IF(OR(E21741=\"\",ISBLANK(E21741)),\"\",VLOOKUP(E21741,Sheet2!A:G,6,FALSE))","v":""},""]
[{"$f":"IF(OR(E21760=\"\",ISBLANK(E21760)),\"\",VLOOKUP(E21760,Sheet2!A:F,2,FALSE))","v":""},{"$f":"IF(OR(E21760=\"\",ISBLANK(E21760)),\"\",VLOOKUP(E21760,Sheet2!A:G,4,FALSE))","v":""},"",{"$f":"IF(OR(E21760=\"\",ISBLANK(E21760)),\"\",VLOOKUP(E21760,Sheet2!A:H,3,FALSE))","v":""},null,{"$f":"IF(OR(E21760=\"\",ISBLANK(E21760)),\"\",VLOOKUP(E21760,Sheet2!A:G,6,FALSE))","v":""},""]
[{"$f":"IF(OR(E21784=\"\",ISBLANK(E21784)),\"\",VLOOKUP(E21784,Sheet2!A:F,2,FALSE))","v":""},{"$f":"IF(OR(E21784=\"\",ISBLANK(E21784)),\"\",VLOOKUP(E21784,Sheet2!A:G,4,FALSE))","v":""},"",{"$f":"IF(OR(E21784=\"\",ISBLANK(E21784)),\"\",VLOOKUP(E21784,Sheet2!A:H,3,FALSE))","v":""},null,{"$f":"IF(OR(E21784=\"\",ISBLANK(E21784)),\"\",VLOOKUP(E21784,Sheet2!A:G,6,FALSE))","v":""},""]
[{"$f":"IF(OR(E21809=\"\",ISBLANK(E21809)),\"\",VLOOKUP(E21809,Sheet2!A:F,2,FALSE))","v":""},{"$f":"IF(OR(E21809=\"\",ISBLANK(E21809)),\"\",VLOOKUP(E21809,Sheet2!A:G,4,FALSE))","v":""},"",{"$f":"IF(OR(E21809=\"\",ISBLANK(E21809)),\"\",VLOOKUP(E21809,Sheet2!A:H,3,FALSE))","v":""},null,{"$f":"IF(OR(E21809=\"\",ISBLANK(E21809)),\"\",VLOOKUP(E21809,Sheet2!A:G,6,FALSE))","v":""},""]
[{"$f":"IF(OR(E21849=\"\",ISBLANK(E21849)),\"\",VLOOKUP(E21849,Sheet2!A:F,2,FALSE))","v":""},{"$f":"IF(OR(E21849=\"\",ISBLANK(E21849)),\"\",VLOOKUP(E21849,Sheet2!A:G,4,FALSE))","v":""},"",{"$f":"IF(OR(E21849=\"\",ISBLANK(E21849)),\"\",VLOOKUP(E21849,Sheet2!A:H,3,FALSE))","v":""},null,{"$f":"IF(OR(E21849=\"\",ISBLANK(E21849)),\"\",VLOOKUP(E21849,Sheet2!A:G,6,FALSE))","v":""},""]
[{"$f":"IF(OR(E21876=\"\",ISBLANK(E21876)),\"\",VLOOKUP(E21876,Sheet2!A:F,2,FALSE))","v":""},{"$f":"IF(OR(E21876=\"\",ISBLANK(E21876)),\"\",VLOOKUP(E21876,Sheet2!A:G,4,FALSE))","v":""},"",{"$f":"IF(OR(E21876=\"\",ISBLANK(E21876)),\"\",VLOOKUP(E21876,Sheet2!A:H,3,FALSE))","v":""},null,{"$f":"IF(OR(E21876=\"\",ISBLANK(E21876)),\"\",VLOOKUP(E21876,Sheet2!A:G,6,FALSE))","v":""},""]
[{"$f":"IF(OR(E21899=\"\",ISBLANK(E21899)),\"\",VLOOKUP(E21899,Sheet2!A:F,2,FALSE))","v":""},{"$f":"IF(OR(E21899=\"\",ISBLANK(E21899)),\"\",VLOOKUP(E21899,Sheet2!A:G,4,FALSE))","v":""},"",{"$f":"IF(OR(E21899=\"\",ISBLANK(E21899)),\"\",VLOOKUP(E21899,Sheet2!A:H,3,FALSE))","v":""},null,{"$f":"IF(OR(E21899=\"\",ISBLANK(E21899)),\"\",VLOOKUP(E21899,Sheet2!A:G,6,FALSE))","v":""},""]
[{"$f":"IF(OR(E21911=\"\",ISBLANK(E21911)),\"\",VLOOKUP(E21911,Sheet2!A:F,2,FALSE))","v":""},{"$f":"IF(OR(E21911=\"\",ISBLANK(E21911)),\"\",VLOOKUP(E21911,Sheet2!A:G,4,FALSE))","v":""},"",{"$f":"IF(OR(E21911=\"\",ISBLANK(E21911)),\"\",VLOOKUP(E21911,Sheet2!A:H,3,FALSE))","v":""},null,{"$f":"IF(OR(E21911=\"\",ISBLANK(E21911)),\"\",VLOOKUP(E21911,Sheet2!A:G,6,FALSE))","v":""},""]
[{"$f":"IF(OR(E21936=\"\",ISBLANK(E21936)),\"\",VLOOKUP(E21936,Sheet2!A:F,2,FALSE))","v":""},{"$f":"IF(OR(E21936=\"\",ISBLANK(E21936)),\"\",VLOOKUP(E21936,Sheet2!A:G,4,FALSE))","v":""},"",{"$f":"IF(OR(E21936=\"\",ISBLANK(E21936)),\"\",VLOOKUP(E21936,Sheet2!A:H,3,FALSE))","v":""},null,{"$f":"IF(OR(E21936=\"\",ISBLANK(E21936)),\"\",VLOOKUP(E21936,Sheet2!A:G,6,FALSE))","v":""},""]
[{"$f":"IF(OR(E21963=\"\",ISBLANK(E21963)),\"\",VLOOKUP(E21963,Sheet2!A:F,2,FALSE))","v":""},{"$f":"IF(OR(E21963=\"\",ISBLANK(E21963)),\"\",VLOOKUP(E21963,Sheet2!A:G,4,FALSE))","v":""},"",{"$f":"IF(OR(E21963=\"\",ISBLANK(E21963)),\"\",VLOOKUP(E21963,Sheet2!A:H,3,FALSE))","v":""},null,{"$f":"IF(OR(E21963=\"\",ISBLANK(E21963)),\"\",VLOOKUP(E21963,Sheet2!A:G,6,FALSE))","v":""},""]
[{"$f":"IF(OR(E21979=\"\",ISBLANK(E21979)),\"\",VLOOKUP(E21979,Sheet2!A:F,2,FALSE))","v":""},{"$f":"IF(OR(E21979=\"\",ISBLANK(E21979)),\"\",VLOOKUP(E21979,Sheet2!A:G,4,FALSE))","v":""},"",{"$f":"IF(OR(E21979=\"\",ISBLANK(E21979)),\"\",VLOOKUP(E21979,Sheet2!A:H,3,FALSE))","v":""},null,{"$f":"IF(OR(E21979=\"\",ISBLANK(E21979)),\"\",VLOOKUP(E21979,Sheet2!A:G,6,FALSE))","v":""},""]
[{"$f":"IF(OR(E22004=\"\",ISBLANK(E22004)),\"\",VLOOKUP(E22004,Sheet2!A:F,2,FALSE))","v":""},{"$f":"IF(OR(E22004=\"\",ISBLANK(E22004)),\"\",VLOOKUP(E22004,Sheet2!A:G,4,FALSE))","v":""},"",{"$f":"IF(OR(E22004=\"\",ISBLANK(E22004)),\"\",VLOOKUP(E22004,Sheet2!A:H,3,FALSE))","v":""},null,{"$f":"IF(OR(E22004=\"\",ISBLANK(E22004)),\"\",VLOOKUP(E22004,Sheet2!A:G,6,FALSE))","v":""},""]
[{"$f":"IF(OR(E22027=\"\",ISBLANK(E22027)),\"\",VLOOKUP(E22027,Sheet2!A:F,2,FALSE))","v":""},{"$f":"IF(OR(E22027=\"\",ISBLANK(E22027)),\"\",VLOOKUP(E22027,Sheet2!A:G,4,FALSE))","v":""},"",{"$f":"IF(OR(E22027=\"\",ISBLANK(E22027)),\"\",VLOOKUP(E22027,Sheet2!A:H,3,FALSE))","v":""},null,{"$f":"IF(OR(E22027=\"\",ISBLANK(E22027)),\"\",VLOOKUP(E22027,Sheet2!A:G,6,FALSE))","v":""},""]
[{"$f":"IF(OR(E22071=\"\",ISBLANK(E22071)),\"\",VLOOKUP(E22071,Sheet2!A:F,2,FALSE))","v":""},{"$f":"IF(OR(E22071=\"\",ISBLANK(E22071)),\"\",VLOOKUP(E22071,Sheet2!A:G,4,FALSE))","v":""},"",{"$f":"IF(OR(E22071=\"\",ISBLANK(E22071)),\"\",VLOOKUP(E22071,Sheet2!A:H,3,FALSE))","v":""},null,{"$f":"IF(OR(E22071=\"\",ISBLANK(E22071)),\"\",VLOOKUP(E22071,Sheet2!A:G,6,FALSE))","v":""},""]
[{"$f":"IF(OR(E22077=\"\",ISBLANK(E22077)),\"\",VLOOKUP(E22077,Sheet2!A:F,2,FALSE))","v":""},{"$f":"IF(OR(E22077=\"\",ISBLANK(E22077)),\"\",VLOOKUP(E22077,Sheet2!A:G,4,FALSE))","v":""},"",{"$f":"IF(OR(E22077=\"\",ISBLANK(E22077)),\"\",VLOOKUP(E22077,Sheet2!A:H,3,FALSE))","v":""},null,{"$f":"IF(OR(E22077=\"\",ISBLANK(E22077)),\"\",VLOOKUP(E22077,Sheet2!A:G,6,FALSE))","v":""},""]
[{"$f":"IF(OR(E22106=\"\",ISBLANK(E22106)),\"\",VLOOKUP(E22106,Sheet2!A:F,2,FALSE))","v":""},{"$f":"IF(OR(E22106=\"\",ISBLANK(E22106)),\"\",VLOOKUP(E22106,Sheet2!A:G,4,FALSE))","v":""},"",{"$f":"IF(OR(E22106=\"\",ISBLANK(E22106)),\"\",VLOOKUP(E22106,Sheet2!A:H,3,FALSE))","v":""},null,{"$f":"IF(OR(E22106=\"\",ISBLANK(E22106)),\"\",VLOOKUP(E22106,Sheet2!A:G,6,FALSE))","v":""},""]
[{"$f":"IF(OR(E22131=\"\",ISBLANK(E22131)),\"\",VLOOKUP(E22131,Sheet2!A:F,2,FALSE))","v":""},{"$f":"IF(OR(E22131=\"\",ISBLANK(E22131)),\"\",VLOOKUP(E22131,Sheet2!A:G,4,FALSE))","v":""},"",{"$f":"IF(OR(E22131=\"\",ISBLANK(E22131)),\"\",VLOOKUP(E22131,Sheet2!A:H,3,FALSE))","v":""},null,{"$f":"IF(OR(E22131=\"\",ISBLANK(E22131)),\"\",VLOOKUP(E22131,Sheet2!A:G,6,FALSE))","v":""},""]
[{"$f":"IF(OR(E22166=\"\",ISBLANK(E22166)),\"\",VLOOKUP(E22166,Sheet2!A:F,2,FALSE))","v":""},{"$f":"IF(OR(E22166=\"\",ISBLANK(E22166)),\"\",VLOOKUP(E22166,Sheet2!A:G,4,FALSE))","v":""},"",{"$f":"IF(OR(E22166=\"\",ISBLANK(E22166)),\"\",VLOOKUP(E22166,Sheet2!A:H,3,FALSE))","v":""},null,{"$f":"IF(OR(E22166=\"\",ISBLANK(E22166)),\"\",VLOOKUP(E22166,Sheet2!A:G,6,FALSE))","v":""},""]
[{"$f":"IF(OR(E22174=\"\",ISBLANK(E22174)),\"\",VLOOKUP(E22174,Sheet2!A:F,2,FALSE))","v":""},{"$f":"IF(OR(E22174=\"\",ISBLANK(E22174)),\"\",VLOOKUP(E22174,Sheet2!A:G,4,FALSE))","v":""},"",{"$f":"IF(OR(E22174=\"\",ISBLANK(E22174)),\"\",VLOOKUP(E22174,Sheet2!A:H,3,FALSE))","v":""},null,{"$f":"IF(OR(E22174=\"\",ISBLANK(E22174)),\"\",VLOOKUP(E22174,Sheet2!A:G,6,FALSE))","v":""},""]
[{"$f":"IF(OR(E22216=\"\",ISBLANK(E22216)),\"\",VLOOKUP(E22216,Sheet2!A:F,2,FALSE))","v":""},{"$f":"IF(OR(E22216=\"\",ISBLANK(E22216)),\"\",VLOOKUP(E22216,Sheet2!A:G,4,FALSE))","v":""},"",{"$f":"IF(OR(E22216=\"\",ISBLANK(E22216)),\"\",VLOOKUP(E22216,Sheet2!A:H,3,FALSE))","v":""},null,{"$f":"IF(OR(E22216=\"\",ISBLANK(E22216)),\"\",VLOOKUP(E22216,Sheet2!A:G,6,FALSE))","v":""},""]
[{"$f":"IF(OR(E22233=\"\",ISBLANK(E22233)),\"\",VLOOKUP(E22233,Sheet2!A:F,2,FALSE))","v":""},{"$f":"IF(OR(E22233=\"\",ISBLANK(E22233)),\"\",VLOOKUP(E22233,Sheet2!A:G,4,FALSE))","v":""},"",{"$f":"IF(OR(E22233=\"\",ISBLANK(E22233)),\"\",VLOOKUP(E22233,Sheet2!A:H,3,FALSE))","v":""},null,{"$f":"IF(OR(E22233=\"\",ISBLANK(E22233)),\"\",VLOOKUP(E22233,Sheet2!A:G,6,FALSE))","v":""},""]
[{"$f":"IF(OR(E22258=\"\",ISBLANK(E22258)),\"\",VLOOKUP(E22258,Sheet2!A:F,2,FALSE))","v":""},{"$f":"IF(OR(E22258=\"\",ISBLANK(E22258)),\"\",VLOOKUP(E22258,Sheet2!A:G,4,FALSE))","v":""},"",{"$f":"IF(OR(E22258=\"\",ISBLANK(E22258)),\"\",VLOOKUP(E22258,Sheet2!A:H,3,FALSE))","v":""},null,{"$f":"IF(OR(E22258=\"\",ISBLANK(E22258)),\"\",VLOOKUP(E22258,Sheet2!A:G,6,FALSE))","v":""},""]
[{"$f":"IF(OR(E22280=\"\",ISBLANK(E22280)),\"\",VLOOKUP(E22280,Sheet2!A:F,2,FALSE))","v":""},{"$f":"IF(OR(E22280=\"\",ISBLANK(E22280)),\"\",VLOOKUP(E22280,Sheet2!A:G,4,FALSE))","v":""},"",{"$f":"IF(OR(E22280=\"\",ISBLANK(E22280)),\"\",VLOOKUP(E22280,Sheet2!A:H,3,FALSE))","v":""},null,{"$f":"IF(OR(E22280=\"\",ISBLANK(E22280)),\"\",VLOOKUP(E22280,Sheet2!A:G,6,FALSE))","v":""},""]
[{"$f":"IF(OR(E22301=\"\",ISBLANK(E22301)),\"\",VLOOKUP(E22301,Sheet2!A:F,2,FALSE))","v":""},{"$f":"IF(OR(E22301=\"\",ISBLANK(E22301)),\"\",VLOOKUP(E22301,Sheet2!A:G,4,FALSE))","v":""},"",{"$f":"IF(OR(E22301=\"\",ISBLANK(E22301)),\"\",VLOOKUP(E22301,Sheet2!A:H,3,FALSE))","v":""},null,{"$f":"IF(OR(E22301=\"\",ISBLANK(E22301)),\"\",VLOOKUP(E22301,Sheet2!A:G,6,FALSE))","v":""},""]
[{"$f":"IF(OR(E22330=\"\",ISBLANK(E22330)),\"\",VLOOKUP(E22330,Sheet2!A:F,2,FALSE))","v":""},{"$f":"IF(OR(E22330=\"\",ISBLANK(E22330)),\"\",VLOOKUP(E22330,Sheet2!A:G,4,FALSE))","v":""},"",{"$f":"IF(OR(E22330=\"\",ISBLANK(E22330)),\"\",VLOOKUP(E22330,Sheet2!A:H,3,FALSE))","v":""},null,{"$f":"IF(OR(E22330=\"\",ISBLANK(E22330)),\"\",VLOOKUP(E22330,Sheet2!A:G,6,FALSE))","v":""},""]
[{"$f":"IF(OR(E22360=\"\",ISBLANK(E22360)),\"\",VLOOKUP(E22360,Sheet2!A:F,2,FALSE))","v":""},{"$f":"IF(OR(E22360=\"\",ISBLANK(E22360)),\"\",VLOOKUP(E22360,Sheet2!A:G,4,FALSE))","v":""},"",{"$f":"IF(OR(E22360=\"\",ISBLANK(E22360)),\"\",VLOOKUP(E22360,Sheet2!A:H,3,FALSE))","v":""},null,{"$f":"IF(OR(E22360=\"\",ISBLANK(E22360)),\"\",VLOOKUP(E22360,Sheet2!A:G,6,FALSE))","v":""},""]
[{"$f":"IF(OR(E22369=\"\",ISBLANK(E22369)),\"\",VLOOKUP(E22369,Sheet2!A:F,2,FALSE))","v":""},{"$f":"IF(OR(E22369=\"\",ISBLANK(E22369)),\"\",VLOOKUP(E22369,Sheet2!A:G,4,FALSE))","v":""},"",{"$f":"IF(OR(E22369=\"\",ISBLANK(E22369)),\"\",VLOOKUP(E22369,Sheet2!A:H,3,FALSE))","v":""},null,{"$f":"IF(OR(E22369=\"\",ISBLANK(E22369)),\"\",VLOOKUP(E22369,Sheet2!A:G,6,FALSE))","v":""},""]
[{"$f":"IF(OR(E22394=\"\",ISBLANK(E22394)),\"\",VLOOKUP(E22394,Sheet2!A:F,2,FALSE))","v":""},{"$f":"IF(OR(E22394=\"\",ISBLANK(E22394)),\"\",VLOOKUP(E22394,Sheet2!A:G,4,FALSE))","v":""},"",{"$f":"IF(OR(E22394=\"\",ISBLANK(E22394)),\"\",VLOOKUP(E22394,Sheet2!A:H,3,FALSE))","v":""},null,{"$f":"IF(OR(E22394=\"\",ISBLANK(E22394)),\"\",VLOOKUP(E22394,Sheet2!A:G,6,FALSE))","v":""},""]
[{"$f":"IF(OR(E22428=\"\",ISBLANK(E22428)),\"\",VLOOKUP(E22428,Sheet2!A:F,2,FALSE))","v":""},{"$f":"IF(OR(E22428=\"\",ISBLANK(E22428)),\"\",VLOOKUP(E22428,Sheet2!A:G,4,FALSE))","v":""},"",{"$f":"IF(OR(E22428=\"\",ISBLANK(E22428)),\"\",VLOOKUP(E22428,Sheet2!A:H,3,FALSE))","v":""},null,{"$f":"IF(OR(E22428=\"\",ISBLANK(E22428)),\"\",VLOOKUP(E22428,Sheet2!A:G,6,FALSE))","v":""},""]
[{"$f":"IF(OR(E22453=\"\",ISBLANK(E22453)),\"\",VLOOKUP(E22453,Sheet2!A:F,2,FALSE))","v":""},{"$f":"IF(OR(E22453=\"\",ISBLANK(E22453)),\"\",VLOOKUP(E22453,Sheet2!A:G,4,FALSE))","v":""},"",{"$f":"IF(OR(E22453=\"\",ISBLANK(E22453)),\"\",VLOOKUP(E22453,Sheet2!A:H,3,FALSE))","v":""},null,{"$f":"IF(OR(E22453=\"\",ISBLANK(E22453)),\"\",VLOOKUP(E22453,Sheet2!A:G,6,FALSE))","v":""},""]
[{"$f":"IF(OR(E22483=\"\",ISBLANK(E22483)),\"\",VLOOKUP(E22483,Sheet2!A:F,2,FALSE))","v":""},{"$f":"IF(OR(E22483=\"\",ISBLANK(E22483)),\"\",VLOOKUP(E22483,Sheet2!A:G,4,FALSE))","v":""},"",{"$f":"IF(OR(E22483=\"\",ISBLANK(E22483)),\"\",VLOOKUP(E22483,Sheet2!A:H,3,FALSE))","v":""},null,{"$f":"IF(OR(E22483=\"\",ISBLANK(E22483)),\"\",VLOOKUP(E22483,Sheet2!A:G,6,FALSE))","v":""},""]
[{"$f":"IF(OR(E22496=\"\",ISBLANK(E22496)),\"\",VLOOKUP(E22496,Sheet2!A:F,2,FALSE))","v":""},{"$f":"IF(OR(E22496=\"\",ISBLANK(E22496)),\"\",VLOOKUP(E22496,Sheet2!A:G,4,FALSE))","v":""},"",{"$f":"IF(OR(E22496=\"\",ISBLANK(E22496)),\"\",VLOOKUP(E22496,Sheet2!A:H,3,FALSE))","v":""},null,{"$f":"IF(OR(E22496=\"\",ISBLANK(E22496)),\"\",VLOOKUP(E22496,Sheet2!A:G,6,FALSE))","v":""},""]
[{"$f":"IF(OR(E22533=\"\",ISBLANK(E22533)),\"\",VLOOKUP(E22533,Sheet2!A:F,2,FALSE))","v":""},{"$f":"IF(OR(E22533=\"\",ISBLANK(E22533)),\"\",VLOOKUP(E22533,Sheet2!A:G,4,FALSE))","v":""},"",{"$f":"IF(OR(E22533=\"\",ISBLANK(E22533)),\"\",VLOOKUP(E22533,Sheet2!A:H,3,FALSE))","v":""},null,{"$f":"IF(OR(E22533=\"\",ISBLANK(E22533)),\"\",VLOOKUP(E22533,Sheet2!A:G,6,FALSE))","v":""},""]
[{"$f":"IF(OR(E22555=\"\",ISBLANK(E22555)),\"\",VLOOKUP(E22555,Sheet2!A:F,2,FALSE))","v":""},{"$f":"IF(OR(E22555=\"\",ISBLANK(E22555)),\"\",VLOOKUP(E22555,Sheet2!A:G,4,FALSE))","v":""},"",{"$f":"IF(OR(E22555=\"\",ISBLANK(E22555)),\"\",VLOOKUP(E22555,Sheet2!A:H,3,FALSE))","v":""},null,{"$f":"IF(OR(E22555=\"\",ISBLANK(E22555)),\"\",VLOOKUP(E22555,Sheet2!A:G,6,FALSE))","v":""},""]
[{"$f":"IF(OR(E22564=\"\",ISBLANK(E22564)),\"\",VLOOKUP(E22564,Sheet2!A:F,2,FALSE))","v":""},{"$f":"IF(OR(E22564=\"\",ISBLANK(E22564)),\"\",VLOOKUP(E22564,Sheet2!A:G,4,FALSE))","v":""},"",{"$f":"IF(OR(E22564=\"\",ISBLANK(E22564)),\"\",VLOOKUP(E22564,Sheet2!A:H,3,FALSE))","v":""},null,{"$f":"IF(OR(E22564=\"\",ISBLANK(E22564)),\"\",VLOOKUP(E22564,Sheet2!A:G,6,FALSE))","v":""},""]
[{"$f":"IF(OR(E22597=\"\",ISBLANK(E22597)),\"\",VLOOKUP(E22597,Sheet2!A:F,2,FALSE))","v":""},{"$f":"IF(OR(E22597=\"\",ISBLANK(E22597)),\"\",VLOOKUP(E22597,Sheet2!A:G,4,FALSE))","v":""},"",{"$f":"IF(OR(E22597=\"\",ISBLANK(E22597)),\"\",VLOOKUP(E22597,Sheet2!A:H,3,FALSE))","v":""},null,{"$f":"IF(OR(E22597=\"\",ISBLANK(E22597)),\"\",VLOOKUP(E22597,Sheet2!A:G,6,FALSE))","v":""},""]
[{"$f":"IF(OR(E22623=\"\",ISBLANK(E22623)),\"\",VLOOKUP(E22623,Sheet2!A:F,2,FALSE))","v":""},{"$f":"IF(OR(E22623=\"\",ISBLANK(E22623)),\"\",VLOOKUP(E22623,Sheet2!A:G,4,FALSE))","v":""},"",{"$f":"IF(OR(E22623=\"\",ISBLANK(E22623)),\"\",VLOOKUP(E22623,Sheet2!A:H,3,FALSE))","v":""},null,{"$f":"IF(OR(E22623=\"\",ISBLANK(E22623)),\"\",VLOOKUP(E22623,Sheet2!A:G,6,FALSE))","v":""},""]
[{"$f":"IF(OR(E22647=\"\",ISBLANK(E22647)),\"\",VLOOKUP(E22647,Sheet2!A:F,2,FALSE))","v":""},{"$f":"IF(OR(E22647=\"\",ISBLANK(E22647)),\"\",VLOOKUP(E22647,Sheet2!A:G,4,FALSE))","v":""},"",{"$f":"IF(OR(E22647=\"\",ISBLANK(E22647)),\"\",VLOOKUP(E22647,Sheet2!A:H,3,FALSE))","v":""},null,{"$f":"IF(OR(E22647=\"\",ISBLANK(E22647)),\"\",VLOOKUP(E22647,Sheet2!A:G,6,FALSE))","v":""},""]
[{"$f":"IF(OR(E22658=\"\",ISBLANK(E22658)),\"\",VLOOKUP(E22658,Sheet2!A:F,2,FALSE))","v":""},{"$f":"IF(OR(E22658=\"\",ISBLANK(E22658)),\"\",VLOOKUP(E22658,Sheet2!A:G,4,FALSE))","v":""},"",{"$f":"IF(OR(E22658=\"\",ISBLANK(E22658)),\"\",VLOOKUP(E22658,Sheet2!A:H,3,FALSE))","v":""},null,{"$f":"IF(OR(E22658=\"\",ISBLANK(E22658)),\"\",VLOOKUP(E22658,Sheet2!A:G,6,FALSE))","v":""},""]
[{"$f":"IF(OR(E22691=\"\",ISBLANK(E22691)),\"\",VLOOKUP(E22691,Sheet2!A:F,2,FALSE))","v":""},{"$f":"IF(OR(E22691=\"\",ISBLANK(E22691)),\"\",VLOOKUP(E22691,Sheet2!A:G,4,FALSE))","v":""},"",{"$f":"IF(OR(E22691=\"\",ISBLANK(E22691)),\"\",VLOOKUP(E22691,Sheet2!A:H,3,FALSE))","v":""},null,{"$f":"IF(OR(E22691=\"\",ISBLANK(E22691)),\"\",VLOOKUP(E22691,Sheet2!A:G,6,FALSE))","v":""},""]
[{"$f":"IF(OR(E22711=\"\",ISBLANK(E22711)),\"\",VLOOKUP(E22711,Sheet2!A:F,2,FALSE))","v":""},{"$f":"IF(OR(E22711=\"\",ISBLANK(E22711)),\"\",VLOOKUP(E22711,Sheet2!A:G,4,FALSE))","v":""},"",{"$f":"IF(OR(E22711=\"\",ISBLANK(E22711)),\"\",VLOOKUP(E22711,Sheet2!A:H,3,FALSE))","v":""},null,{"$f":"IF(OR(E22711=\"\",ISBLANK(E22711)),\"\",VLOOKUP(E22711,Sheet2!A:G,6,FALSE))","v":""},""]
[{"$f":"IF(OR(E22750=\"\",ISBLANK(E22750)),\"\",VLOOKUP(E22750,Sheet2!A:F,2,FALSE))","v":""},{"$f":"IF(OR(E22750=\"\",ISBLANK(E22750)),\"\",VLOOKUP(E22750,Sheet2!A:G,4,FALSE))","v":""},"",{"$f":"IF(OR(E22750=\"\",ISBLANK(E22750)),\"\",VLOOKUP(E22750,Sheet2!A:H,3,FALSE))","v":""},null,{"$f":"IF(OR(E22750=\"\",ISBLANK(E22750)),\"\",VLOOKUP(E22750,Sheet2!A:G,6,FALSE))","v":""},""]
[{"$f":"IF(OR(E22761=\"\",ISBLANK(E22761)),\"\",VLOOKUP(E22761,Sheet2!A:F,2,FALSE))","v":""},{"$f":"IF(OR(E22761=\"\",ISBLANK(E22761)),\"\",VLOOKUP(E22761,Sheet2!A:G,4,FALSE))","v":""},"",{"$f":"IF(OR(E22761=\"\",ISBLANK(E22761)),\"\",VLOOKUP(E22761,Sheet2!A:H,3,FALSE))","v":""},null,{"$f":"IF(OR(E22761=\"\",ISBLANK(E22761)),\"\",VLOOKUP(E22761,Sheet2!A:G,6,FALSE))","v":""},""]
[{"$f":"IF(OR(E22785=\"\",ISBLANK(E22785)),\"\",VLOOKUP(E22785,Sheet2!A:F,2,FALSE))","v":""},{"$f":"IF(OR(E22785=\"\",ISBLANK(E22785)),\"\",VLOOKUP(E22785,Sheet2!A:G,4,FALSE))","v":""},"",{"$f":"IF(OR(E22785=\"\",ISBLANK(E22785)),\"\",VLOOKUP(E22785,Sheet2!A:H,3,FALSE))","v":""},null,{"$f":"IF(OR(E22785=\"\",ISBLANK(E22785)),\"\",VLOOKUP(E22785,Sheet2!A:G,6,FALSE))","v":""},""]
[{"$f":"IF(OR(E22818=\"\",ISBLANK(E22818)),\"\",VLOOKUP(E22818,Sheet2!A:F,2,FALSE))","v":""},{"$f":"IF(OR(E22818=\"\",ISBLANK(E22818)),\"\",VLOOKUP(E22818,Sheet2!A:G,4,FALSE))","v":""},"",{"$f":"IF(OR(E22818=\"\",ISBLANK(E22818)),\"\",VLOOKUP(E22818,Sheet2!A:H,3,FALSE))","v":""},null,{"$f":"IF(OR(E22818=\"\",ISBLANK(E22818)),\"\",VLOOKUP(E22818,Sheet2!A:G,6,FALSE))","v":""},""]
[{"$f":"IF(OR(E22850=\"\",ISBLANK(E22850)),\"\",VLOOKUP(E22850,Sheet2!A:F,2,FALSE))","v":""},{"$f":"IF(OR(E22850=\"\",ISBLANK(E22850)),\"\",VLOOKUP(E22850,Sheet2!A:G,4,FALSE))","v":""},"",{"$f":"IF(OR(E22850=\"\",ISBLANK(E22850)),\"\",VLOOKUP(E22850,Sheet2!A:H,3,FALSE))","v":""},null,{"$f":"IF(OR(E22850=\"\",ISBLANK(E22850)),\"\",VLOOKUP(E22850,Sheet2!A:G,6,FALSE))","v":""},""]
[{"$f":"IF(OR(E22853=\"\",ISBLANK(E22853)),\"\",VLOOKUP(E22853,Sheet2!A:F,2,FALSE))","v":""},{"$f":"IF(OR(E22853=\"\",ISBLANK(E22853)),\"\",VLOOKUP(E22853,Sheet2!A:G,4,FALSE))","v":""},"",{"$f":"IF(OR(E22853=\"\",ISBLANK(E22853)),\"\",VLOOKUP(E22853,Sheet2!A:H,3,FALSE))","v":""},null,{"$f":"IF(OR(E22853=\"\",ISBLANK(E22853)),\"\",VLOOKUP(E22853,Sheet2!A:G,6,FALSE))","v":""},""]
[{"$f":"IF(OR(E22886=\"\",ISBLANK(E22886)),\"\",VLOOKUP(E22886,Sheet2!A:F,2,FALSE))","v":""},{"$f":"IF(OR(E22886=\"\",ISBLANK(E22886)),\"\",VLOOKUP(E22886,Sheet2!A:G,4,FALSE))","v":""},"",{"$f":"IF(OR(E22886=\"\",ISBLANK(E22886)),\"\",VLOOKUP(E22886,Sheet2!A:H,3,FALSE))","v":""},null,{"$f":"IF(OR(E22886=\"\",ISBLANK(E22886)),\"\",VLOOKUP(E22886,Sheet2!A:G,6,FALSE))","v":""},""]
[{"$f":"IF(OR(E22914=\"\",ISBLANK(E22914)),\"\",VLOOKUP(E22914,Sheet2!A:F,2,FALSE))","v":""},{"$f":"IF(OR(E22914=\"\",ISBLANK(E22914)),\"\",VLOOKUP(E22914,Sheet2!A:G,4,FALSE))","v":""},"",{"$f":"IF(OR(E22914=\"\",ISBLANK(E22914)),\"\",VLOOKUP(E22914,Sheet2!A:H,3,FALSE))","v":""},null,{"$f":"IF(OR(E22914=\"\",ISBLANK(E22914)),\"\",VLOOKUP(E22914,Sheet2!A:G,6,FALSE))","v":""},""]
[{"$f":"IF(OR(E22945=\"\",ISBLANK(E22945)),\"\",VLOOKUP(E22945,Sheet2!A:F,2,FALSE))","v":""},{"$f":"IF(OR(E22945=\"\",ISBLANK(E22945)),\"\",VLOOKUP(E22945,Sheet2!A:G,4,FALSE))","v":""},"",{"$f":"IF(OR(E22945=\"\",ISBLANK(E22945)),\"\",VLOOKUP(E22945,Sheet2!A:H,3,FALSE))","v":""},null,{"$f":"IF(OR(E22945=\"\",ISBLANK(E22945)),\"\",VLOOKUP(E22945,Sheet2!A:G,6,FALSE))","v":""},""]
[{"$f":"IF(OR(E22964=\"\",ISBLANK(E22964)),\"\",VLOOKUP(E22964,Sheet2!A:F,2,FALSE))","v":""},{"$f":"IF(OR(E22964=\"\",ISBLANK(E22964)),\"\",VLOOKUP(E22964,Sheet2!A:G,4,FALSE))","v":""},"",{"$f":"IF(OR(E22964=\"\",ISBLANK(E22964)),\"\",VLOOKUP(E22964,Sheet2!A:H,3,FALSE))","v":""},null,{"$f":"IF(OR(E22964=\"\",ISBLANK(E22964)),\"\",VLOOKUP(E22964,Sheet2!A:G,6,FALSE))","v":""},""]
[{"$f":"IF(OR(E22980=\"\",ISBLANK(E22980)),\"\",VLOOKUP(E22980,Sheet2!A:F,2,FALSE))","v":""},{"$f":"IF(OR(E22980=\"\",ISBLANK(E22980)),\"\",VLOOKUP(E22980,Sheet2!A:G,4,FALSE))","v":""},"",{"$f":"IF(OR(E22980=\"\",ISBLANK(E22980)),\"\",VLOOKUP(E22980,Sheet2!A:H,3,FALSE))","v":""},null,{"$f":"IF(OR(E22980=\"\",ISBLANK(E22980)),\"\",VLOOKUP(E22980,Sheet2!A:G,6,FALSE))","v":""},""]
[{"$f":"IF(OR(E23013=\"\",ISBLANK(E23013)),\"\",VLOOKUP(E23013,Sheet2!A:F,2,FALSE))","v":""},{"$f":"IF(OR(E23013=\"\",ISBLANK(E23013)),\"\",VLOOKUP(E23013,Sheet2!A:G,4,FALSE))","v":""},"",{"$f":"IF(OR(E23013=\"\",ISBLANK(E23013)),\"\",VLOOKUP(E23013,Sheet2!A:H,3,FALSE))","v":""},null,{"$f":"IF(OR(E23013=\"\",ISBLANK(E23013)),\"\",VLOOKUP(E23013,Sheet2!A:G,6,FALSE))","v":""},""]
[{"$f":"IF(OR(E23028=\"\",ISBLANK(E23028)),\"\",VLOOKUP(E23028,Sheet2!A:F,2,FALSE))","v":""},{"$f":"IF(OR(E23028=\"\",ISBLANK(E23028)),\"\",VLOOKUP(E23028,Sheet2!A:G,4,FALSE))","v":""},"",{"$f":"IF(OR(E23028=\"\",ISBLANK(E23028)),\"\",VLOOKUP(E23028,Sheet2!A:H,3,FALSE))","v":""},null,{"$f":"IF(OR(E23028=\"\",ISBLANK(E23028)),\"\",VLOOKUP(E23028,Sheet2!A:G,6,FALSE))","v":""},""]
[{"$f":"IF(OR(E23048=\"\",ISBLANK(E23048)),\"\",VLOOKUP(E23048,Sheet2!A:F,2,FALSE))","v":""},{"$f":"IF(OR(E23048=\"\",ISBLANK(E23048)),\"\",VLOOKUP(E23048,Sheet2!A:G,4,FALSE))","v":""},"",{"$f":"IF(OR(E23048=\"\",ISBLANK(E23048)),\"\",VLOOKUP(E23048,Sheet2!A:H,3,FALSE))","v":""},null,{"$f":"IF(OR(E23048=\"\",ISBLANK(E23048)),\"\",VLOOKUP(E23048,Sheet2!A:G,6,FALSE))","v":""},""]
[{"$f":"IF(OR(E23078=\"\",ISBLANK(E23078)),\"\",VLOOKUP(E23078,Sheet2!A:F,2,FALSE))","v":""},{"$f":"IF(OR(E23078=\"\",ISBLANK(E23078)),\"\",VLOOKUP(E23078,Sheet2!A:G,4,FALSE))","v":""},"",{"$f":"IF(OR(E23078=\"\",ISBLANK(E23078)),\"\",VLOOKUP(E23078,Sheet2!A:H,3,FALSE))","v":""},null,{"$f":"IF(OR(E23078=\"\",ISBLANK(E23078)),\"\",VLOOKUP(E23078,Sheet2!A:G,6,FALSE))","v":""},""]
[{"$f":"IF(OR(E23107=\"\",ISBLANK(E23107)),\"\",VLOOKUP(E23107,Sheet2!A:F,2,FALSE))","v":""},{"$f":"IF(OR(E23107=\"\",ISBLANK(E23107)),\"\",VLOOKUP(E23107,Sheet2!A:G,4,FALSE))","v":""},{"$f":"IF(D23107=0,\"\",D23107)","v":""},{"$f":"IF(OR(E23107=\"\",ISBLANK(E23107)),\"\",VLOOKUP(E23107,Sheet2!A:H,3,FALSE))","v":""},null,{"$f":"IF(OR(E23107=\"\",ISBLANK(E23107)),\"\",VLOOKUP(E23107,Sheet2!A:G,6,FALSE))","v":""},{"$f":"IF(F23107=0,\"\",F23107)","v":""}]
[{"$f":"IF(OR(E23140=\"\",ISBLANK(E23140)),\"\",VLOOKUP(E23140,Sheet2!A:F,2,FALSE))","v":""},{"$f":"IF(OR(E23140=\"\",ISBLANK(E23140)),\"\",VLOOKUP(E23140,Sheet2!A:G,4,FALSE))","v":""},"",{"$f":"IF(OR(E23140=\"\",ISBLANK(E23140)),\"\",VLOOKUP(E23140,Sheet2!A:H,3,FALSE))","v":""},null,{"$f":"IF(OR(E23140=\"\",ISBLANK(E23140)),\"\",VLOOKUP(E23140,Sheet2!A:G,6,FALSE))","v":""},""]
[{"$f":"IF(OR(E23167=\"\",ISBLANK(E23167)),\"\",VLOOKUP(E23167,Sheet2!A:F,2,FALSE))","v":""},{"$f":"IF(OR(E23167=\"\",ISBLANK(E23167)),\"\",VLOOKUP(E23167,Sheet2!A:G,4,FALSE))","v":""},"",{"$f":"IF(OR(E23167=\"\",ISBLANK(E23167)),\"\",VLOOKUP(E23167,Sheet2!A:H,3,FALSE))","v":""},null,{"$f":"IF(OR(E23167=\"\",ISBLANK(E23167)),\"\",VLOOKUP(E23167,Sheet2!A:G,6,FALSE))","v":""},""]
[{"$f":"IF(OR(E23175=\"\",ISBLANK(E23175)),\"\",VLOOKUP(E23175,Sheet2!A:F,2,FALSE))","v":""},{"$f":"IF(OR(E23175=\"\",ISBLANK(E23175)),\"\",VLOOKUP(E23175,Sheet2!A:G,4,FALSE))","v":""},"",{"$f":"IF(OR(E23175=\"\",ISBLANK(E23175)),\"\",VLOOKUP(E23175,Sheet2!A:H,3,FALSE))","v":""},null,{"$f":"IF(OR(E23175=\"\",ISBLANK(E23175)),\"\",VLOOKUP(E23175,Sheet2!A:G,6,FALSE))","v":""},""]
[{"$f":"IF(OR(E23208=\"\",ISBLANK(E23208)),\"\",VLOOKUP(E23208,Sheet2!A:F,2,FALSE))","v":""},{"$f":"IF(OR(E23208=\"\",ISBLANK(E23208)),\"\",VLOOKUP(E23208,Sheet2!A:G,4,FALSE))","v":""},"",{"$f":"IF(OR(E23208=\"\",ISBLANK(E23208)),\"\",VLOOKUP(E23208,Sheet2!A:H,3,FALSE))","v":""},null,{"$f":"IF(OR(E23208=\"\",ISBLANK(E23208)),\"\",VLOOKUP(E23208,Sheet2!A:G,6,FALSE))","v":""},""]
[{"$f":"IF(OR(E23231=\"\",ISBLANK(E23231)),\"\",VLOOKUP(E23231,Sheet2!A:F,2,FALSE))","v":""},{"$f":"IF(OR(E23231=\"\",ISBLANK(E23231)),\"\",VLOOKUP(E23231,Sheet2!A:G,4,FALSE))","v":""},"",{"$f":"IF(OR(E23231=\"\",ISBLANK(E23231)),\"\",VLOOKUP(E23231,Sheet2!A:H,3,FALSE))","v":""},null,{"$f":"IF(OR(E23231=\"\",ISBLANK(E23231)),\"\",VLOOKUP(E23231,Sheet2!A:G,6,FALSE))","v":""},""]
[{"$f":"IF(OR(E23243=\"\",ISBLANK(E23243)),\"\",VLOOKUP(E23243,Sheet2!A:F,2,FALSE))","v":""},{"$f":"IF(OR(E23243=\"\",ISBLANK(E23243)),\"\",VLOOKUP(E23243,Sheet2!A:G,4,FALSE))","v":""},"",{"$f":"IF(OR(E23243=\"\",ISBLANK(E23243)),\"\",VLOOKUP(E23243,Sheet2!A:H,3,FALSE))","v":""},null,{"$f":"IF(OR(E23243=\"\",ISBLANK(E23243)),\"\",VLOOKUP(E23243,Sheet2!A:G,6,FALSE))","v":""},""]
[{"$f":"IF(OR(E23281=\"\",ISBLANK(E23281)),\"\",VLOOKUP(E23281,Sheet2!A:F,2,FALSE))","v":""},{"$f":"IF(OR(E23281=\"\",ISBLANK(E23281)),\"\",VLOOKUP(E23281,Sheet2!A:G,4,FALSE))","v":""},"",{"$f":"IF(OR(E23281=\"\",ISBLANK(E23281)),\"\",VLOOKUP(E23281,Sheet2!A:H,3,FALSE))","v":""},null,{"$f":"IF(OR(E23281=\"\",ISBLANK(E23281)),\"\",VLOOKUP(E23281,Sheet2!A:G,6,FALSE))","v":""},""]
[{"$f":"IF(OR(E23302=\"\",ISBLANK(E23302)),\"\",VLOOKUP(E23302,Sheet2!A:F,2,FALSE))","v":""},{"$f":"IF(OR(E23302=\"\",ISBLANK(E23302)),\"\",VLOOKUP(E23302,Sheet2!A:G,4,FALSE))","v":""},"",{"$f":"IF(OR(E23302=\"\",ISBLANK(E23302)),\"\",VLOOKUP(E23302,Sheet2!A:H,3,FALSE))","v":""},null,{"$f":"IF(OR(E23302=\"\",ISBLANK(E23302)),\"\",VLOOKUP(E23302,Sheet2!A:G,6,FALSE))","v":""},""]
[{"$f":"IF(OR(E23335=\"\",ISBLANK(E23335)),\"\",VLOOKUP(E23335,Sheet2!A:F,2,FALSE))","v":""},{"$f":"IF(OR(E23335=\"\",ISBLANK(E23335)),\"\",VLOOKUP(E23335,Sheet2!A:G,4,FALSE))","v":""},"",{"$f":"IF(OR(E23335=\"\",ISBLANK(E23335)),\"\",VLOOKUP(E23335,Sheet2!A:H,3,FALSE))","v":""},null,{"$f":"IF(OR(E23335=\"\",ISBLANK(E23335)),\"\",VLOOKUP(E23335,Sheet2!A:G,6,FALSE))","v":""},""]
[{"$f":"IF(OR(E23345=\"\",ISBLANK(E23345)),\"\",VLOOKUP(E23345,Sheet2!A:F,2,FALSE))","v":""},{"$f":"IF(OR(E23345=\"\",ISBLANK(E23345)),\"\",VLOOKUP(E23345,Sheet2!A:G,4,FALSE))","v":""},"",{"$f":"IF(OR(E23345=\"\",ISBLANK(E23345)),\"\",VLOOKUP(E23345,Sheet2!A:H,3,FALSE))","v":""},null,{"$f":"IF(OR(E23345=\"\",ISBLANK(E23345)),\"\",VLOOKUP(E23345,Sheet2!A:G,6,FALSE))","v":""},""]
[{"$f":"IF(OR(E23370=\"\",ISBLANK(E23370)),\"\",VLOOKUP(E23370,Sheet2!A:F,2,FALSE))","v":""},{"$f":"IF(OR(E23370=\"\",ISBLANK(E23370)),\"\",VLOOKUP(E23370,Sheet2!A:G,4,FALSE))","v":""},"",{"$f":"IF(OR(E23370=\"\",ISBLANK(E23370)),\"\",VLOOKUP(E23370,Sheet2!A:H,3,FALSE))","v":""},null,{"$f":"IF(OR(E23370=\"\",ISBLANK(E23370)),\"\",VLOOKUP(E23370,Sheet2!A:G,6,FALSE))","v":""},""]
[{"$f":"IF(OR(E23399=\"\",ISBLANK(E23399)),\"\",VLOOKUP(E23399,Sheet2!A:F,2,FALSE))","v":""},{"$f":"IF(OR(E23399=\"\",ISBLANK(E23399)),\"\",VLOOKUP(E23399,Sheet2!A:G,4,FALSE))","v":""},"",{"$f":"IF(OR(E23399=\"\",ISBLANK(E23399)),\"\",VLOOKUP(E23399,Sheet2!A:H,3,FALSE))","v":""},null,{"$f":"IF(OR(E23399=\"\",ISBLANK(E23399)),\"\",VLOOKUP(E23399,Sheet2!A:G,6,FALSE))","v":""},""]
[{"$f":"IF(OR(E23429=\"\",ISBLANK(E23429)),\"\",VLOOKUP(E23429,Sheet2!A:F,2,FALSE))","v":""},{"$f":"IF(OR(E23429=\"\",ISBLANK(E23429)),\"\",VLOOKUP(E23429,Sheet2!A:G,4,FALSE))","v":""},"",{"$f":"IF(OR(E23429=\"\",ISBLANK(E23429)),\"\",VLOOKUP(E23429,Sheet2!A:H,3,FALSE))","v":""},null,{"$f":"IF(OR(E23429=\"\",ISBLANK(E23429)),\"\",VLOOKUP(E23429,Sheet2!A:G,6,FALSE))","v":""},""]
[{"$f":"IF(OR(E23438=\"\",ISBLANK(E23438)),\"\",VLOOKUP(E23438,Sheet2!A:F,2,FALSE))","v":""},{"$f":"IF(OR(E23438=\"\",ISBLANK(E23438)),\"\",VLOOKUP(E23438,Sheet2!A:G,4,FALSE))","v":""},"",{"$f":"IF(OR(E23438=\"\",ISBLANK(E23438)),\"\",VLOOKUP(E23438,Sheet2!A:H,3,FALSE))","v":""},null,{"$f":"IF(OR(E23438=\"\",ISBLANK(E23438)),\"\",VLOOKUP(E23438,Sheet2!A:G,6,FALSE))","v":""},""]
[{"$f":"IF(OR(E23484=\"\",ISBLANK(E23484)),\"\",VLOOKUP(E23484,Sheet2!A:F,2,FALSE))","v":""},{"$f":"IF(OR(E23484=\"\",ISBLANK(E23484)),\"\",VLOOKUP(E23484,Sheet2!A:G,4,FALSE))","v":""},"",{"$f":"IF(OR(E23484=\"\",ISBLANK(E23484)),\"\",VLOOKUP(E23484,Sheet2!A:H,3,FALSE))","v":""},null,{"$f":"IF(OR(E23484=\"\",ISBLANK(E23484)),\"\",VLOOKUP(E23484,Sheet2!A:G,6,FALSE))","v":""},""]
[{"$f":"IF(OR(E23497=\"\",ISBLANK(E23497)),\"\",VLOOKUP(E23497,Sheet2!A:F,2,FALSE))","v":""},{"$f":"IF(OR(E23497=\"\",ISBLANK(E23497)),\"\",VLOOKUP(E23497,Sheet2!A:G,4,FALSE))","v":""},"",{"$f":"IF(OR(E23497=\"\",ISBLANK(E23497)),\"\",VLOOKUP(E23497,Sheet2!A:H,3,FALSE))","v":""},null,{"$f":"IF(OR(E23497=\"\",ISBLANK(E23497)),\"\",VLOOKUP(E23497,Sheet2!A:G,6,FALSE))","v":""},""]
[{"$f":"IF(OR(E23513=\"\",ISBLANK(E23513)),\"\",VLOOKUP(E23513,Sheet2!A:F,2,FALSE))","v":""},{"$f":"IF(OR(E23513=\"\",ISBLANK(E23513)),\"\",VLOOKUP(E23513,Sheet2!A:G,4,FALSE))","v":""},"",{"$f":"IF(OR(E23513=\"\",ISBLANK(E23513)),\"\",VLOOKUP(E23513,Sheet2!A:H,3,FALSE))","v":""},null,{"$f":"IF(OR(E23513=\"\",ISBLANK(E23513)),\"\",VLOOKUP(E23513,Sheet2!A:G,6,FALSE))","v":""},""]
[{"$f":"IF(OR(E23556=\"\",ISBLANK(E23556)),\"\",VLOOKUP(E23556,Sheet2!A:F,2,FALSE))","v":""},{"$f":"IF(OR(E23556=\"\",ISBLANK(E23556)),\"\",VLOOKUP(E23556,Sheet2!A:G,4,FALSE))","v":""},"",{"$f":"IF(OR(E23556=\"\",ISBLANK(E23556)),\"\",VLOOKUP(E23556,Sheet2!A:H,3,FALSE))","v":""},null,{"$f":"IF(OR(E23556=\"\",ISBLANK(E23556)),\"\",VLOOKUP(E23556,Sheet2!A:G,6,FALSE))","v":""},""]
[{"$f":"IF(OR(E23565=\"\",ISBLANK(E23565)),\"\",VLOOKUP(E23565,Sheet2!A:F,2,FALSE))","v":""},{"$f":"IF(OR(E23565=\"\",ISBLANK(E23565)),\"\",VLOOKUP(E23565,Sheet2!A:G,4,FALSE))","v":""},"",{"$f":"IF(OR(E23565=\"\",ISBLANK(E23565)),\"\",VLOOKUP(E23565,Sheet2!A:H,3,FALSE))","v":""},null,{"$f":"IF(OR(E23565=\"\",ISBLANK(E23565)),\"\",VLOOKUP(E23565,Sheet2!A:G,6,FALSE))","v":""},""]
[{"$f":"IF(OR(E23598=\"\",ISBLANK(E23598)),\"\",VLOOKUP(E23598,Sheet2!A:F,2,FALSE))","v":""},{"$f":"IF(OR(E23598=\"\",ISBLANK(E23598)),\"\",VLOOKUP(E23598,Sheet2!A:G,4,FALSE))","v":""},"",{"$f":"IF(OR(E23598=\"\",ISBLANK(E23598)),\"\",VLOOKUP(E23598,Sheet2!A:H,3,FALSE))","v":""},null,{"$f":"IF(OR(E23598=\"\",ISBLANK(E23598)),\"\",VLOOKUP(E23598,Sheet2!A:G,6,FALSE))","v":""},""]
[{"$f":"IF(OR(E23624=\"\",ISBLANK(E23624)),\"\",VLOOKUP(E23624,Sheet2!A:F,2,FALSE))","v":""},{"$f":"IF(OR(E23624=\"\",ISBLANK(E23624)),\"\",VLOOKUP(E23624,Sheet2!A:G,4,FALSE))","v":""},"",{"$f":"IF(OR(E23624=\"\",ISBLANK(E23624)),\"\",VLOOKUP(E23624,Sheet2!A:H,3,FALSE))","v":""},null,{"$f":"IF(OR(E23624=\"\",ISBLANK(E23624)),\"\",VLOOKUP(E23624,Sheet2!A:G,6,FALSE))","v":""},""]
[{"$f":"IF(OR(E23633=\"\",ISBLANK(E23633)),\"\",VLOOKUP(E23633,Sheet2!A:F,2,FALSE))","v":""},{"$f":"IF(OR(E23633=\"\",ISBLANK(E23633)),\"\",VLOOKUP(E23633,Sheet2!A:G,4,FALSE))","v":""},"",{"$f":"IF(OR(E23633=\"\",ISBLANK(E23633)),\"\",VLOOKUP(E23633,Sheet2!A:H,3,FALSE))","v":""},null,{"$f":"IF(OR(E23633=\"\",ISBLANK(E23633)),\"\",VLOOKUP(E23633,Sheet2!A:G,6,FALSE))","v":""},""]
[{"$f":"IF(OR(E23662=\"\",ISBLANK(E23662)),\"\",VLOOKUP(E23662,Sheet2!A:F,2,FALSE))","v":""},{"$f":"IF(OR(E23662=\"\",ISBLANK(E23662)),\"\",VLOOKUP(E23662,Sheet2!A:G,4,FALSE))","v":""},"",{"$f":"IF(OR(E23662=\"\",ISBLANK(E23662)),\"\",VLOOKUP(E23662,Sheet2!A:H,3,FALSE))","v":""},null,{"$f":"IF(OR(E23662=\"\",ISBLANK(E23662)),\"\",VLOOKUP(E23662,Sheet2!A:G,6,FALSE))","v":""},""]
[{"$f":"IF(OR(E23692=\"\",ISBLANK(E23692)),\"\",VLOOKUP(E23692,Sheet2!A:F,2,FALSE))","v":""},{"$f":"IF(OR(E23692=\"\",ISBLANK(E23692)),\"\",VLOOKUP(E23692,Sheet2!A:G,4,FALSE))","v":""},"",{"$f":"IF(OR(E23692=\"\",ISBLANK(E23692)),\"\",VLOOKUP(E23692,Sheet2!A:H,3,FALSE))","v":""},null,{"$f":"IF(OR(E23692=\"\",ISBLANK(E23692)),\"\",VLOOKUP(E23692,Sheet2!A:G,6,FALSE))","v":""},""]
[{"$f":"IF(OR(E23716=\"\",ISBLANK(E23716)),\"\",VLOOKUP(E23716,Sheet2!A:F,2,FALSE))","v":""},{"$f":"IF(OR(E23716=\"\",ISBLANK(E23716)),\"\",VLOOKUP(E23716,Sheet2!A:G,4,FALSE))","v":""},"",{"$f":"IF(OR(E23716=\"\",ISBLANK(E23716)),\"\",VLOOKUP(E23716,Sheet2!A:H,3,FALSE))","v":""},null,{"$f":"IF(OR(E23716=\"\",ISBLANK(E23716)),\"\",VLOOKUP(E23716,Sheet2!A:G,6,FALSE))","v":""},""]
[{"$f":"IF(OR(E23751=\"\",ISBLANK(E23751)),\"\",VLOOKUP(E23751,Sheet2!A:F,2,FALSE))","v":""},{"$f":"IF(OR(E23751=\"\",ISBLANK(E23751)),\"\",VLOOKUP(E23751,Sheet2!A:G,4,FALSE))","v":""},"",{"$f":"IF(OR(E23751=\"\",ISBLANK(E23751)),\"\",VLOOKUP(E23751,Sheet2!A:H,3,FALSE))","v":""},null,{"$f":"IF(OR(E23751=\"\",ISBLANK(E23751)),\"\",VLOOKUP(E23751,Sheet2!A:G,6,FALSE))","v":""},""]
[{"$f":"IF(OR(E23760=\"\",ISBLANK(E23760)),\"\",VLOOKUP(E23760,Sheet2!A:F,2,FALSE))","v":""},{"$f":"IF(OR(E23760=\"\",ISBLANK(E23760)),\"\",VLOOKUP(E23760,Sheet2!A:G,4,FALSE))","v":""},"",{"$f":"IF(OR(E23760=\"\",ISBLANK(E23760)),\"\",VLOOKUP(E23760,Sheet2!A:H,3,FALSE))","v":""},null,{"$f":"IF(OR(E23760=\"\",ISBLANK(E23760)),\"\",VLOOKUP(E23760,Sheet2!A:G,6,FALSE))","v":""},""]
[{"$f":"IF(OR(E23801=\"\",ISBLANK(E23801)),\"\",VLOOKUP(E23801,Sheet2!A:F,2,FALSE))","v":""},{"$f":"IF(OR(E23801=\"\",ISBLANK(E23801)),\"\",VLOOKUP(E23801,Sheet2!A:G,4,FALSE))","v":""},"",{"$f":"IF(OR(E23801=\"\",ISBLANK(E23801)),\"\",VLOOKUP(E23801,Sheet2!A:H,3,FALSE))","v":""},null,{"$f":"IF(OR(E23801=\"\",ISBLANK(E23801)),\"\",VLOOKUP(E23801,Sheet2!A:G,6,FALSE))","v":""},""]
[{"$f":"IF(OR(E23819=\"\",ISBLANK(E23819)),\"\",VLOOKUP(E23819,Sheet2!A:F,2,FALSE))","v":""},{"$f":"IF(OR(E23819=\"\",ISBLANK(E23819)),\"\",VLOOKUP(E23819,Sheet2!A:G,4,FALSE))","v":""},"",{"$f":"IF(OR(E23819=\"\",ISBLANK(E23819)),\"\",VLOOKUP(E23819,Sheet2!A:H,3,FALSE))","v":""},null,{"$f":"IF(OR(E23819=\"\",ISBLANK(E23819)),\"\",VLOOKUP(E23819,Sheet2!A:G,6,FALSE))","v":""},""]
[{"$f":"IF(OR(E23830=\"\",ISBLANK(E23830)),\"\",VLOOKUP(E23830,Sheet2!A:F,2,FALSE))","v":""},{"$f":"IF(OR(E23830=\"\",ISBLANK(E23830)),\"\",VLOOKUP(E23830,Sheet2!A:G,4,FALSE))","v":""},"",{"$f":"IF(OR(E23830=\"\",ISBLANK(E23830)),\"\",VLOOKUP(E23830,Sheet2!A:H,3,FALSE))","v":""},null,{"$f":"IF(OR(E23830=\"\",ISBLANK(E23830)),\"\",VLOOKUP(E23830,Sheet2!A:G,6,FALSE))","v":""},""]
[{"$f":"IF(OR(E23854=\"\",ISBLANK(E23854)),\"\",VLOOKUP(E23854,Sheet2!A:F,2,FALSE))","v":""},{"$f":"IF(OR(E23854=\"\",ISBLANK(E23854)),\"\",VLOOKUP(E23854,Sheet2!A:G,4,FALSE))","v":""},"",{"$f":"IF(OR(E23854=\"\",ISBLANK(E23854)),\"\",VLOOKUP(E23854,Sheet2!A:H,3,FALSE))","v":""},null,{"$f":"IF(OR(E23854=\"\",ISBLANK(E23854)),\"\",VLOOKUP(E23854,Sheet2!A:G,6,FALSE))","v":""},""]
[{"$f":"IF(OR(E23887=\"\",ISBLANK(E23887)),\"\",VLOOKUP(E23887,Sheet2!A:F,2,FALSE))","v":""},{"$f":"IF(OR(E23887=\"\",ISBLANK(E23887)),\"\",VLOOKUP(E23887,Sheet2!A:G,4,FALSE))","v":""},"",{"$f":"IF(OR(E23887=\"\",ISBLANK(E23887)),\"\",VLOOKUP(E23887,Sheet2!A:H,3,FALSE))","v":""},null,{"$f":"IF(OR(E23887=\"\",ISBLANK(E23887)),\"\",VLOOKUP(E23887,Sheet2!A:G,6,FALSE))","v":""},""]
[{"$f":"IF(OR(E23915=\"\",ISBLANK(E23915)),\"\",VLOOKUP(E23915,Sheet2!A:F,2,FALSE))","v":""},{"$f":"IF(OR(E23915=\"\",ISBLANK(E23915)),\"\",VLOOKUP(E23915,Sheet2!A:G,4,FALSE))","v":""},"",{"$f":"IF(OR(E23915=\"\",ISBLANK(E23915)),\"\",VLOOKUP(E23915,Sheet2!A:H,3,FALSE))","v":""},null,{"$f":"IF(OR(E23915=\"\",ISBLANK(E23915)),\"\",VLOOKUP(E23915,Sheet2!A:G,6,FALSE))","v":""},""]
[{"$f":"IF(OR(E23946=\"\",ISBLANK(E23946)),\"\",VLOOKUP(E23946,Sheet2!A:F,2,FALSE))","v":""},{"$f":"IF(OR(E23946=\"\",ISBLANK(E23946)),\"\",VLOOKUP(E23946,Sheet2!A:G,4,FALSE))","v":""},"",{"$f":"IF(OR(E23946=\"\",ISBLANK(E23946)),\"\",VLOOKUP(E23946,Sheet2!A:H,3,FALSE))","v":""},null,{"$f":"IF(OR(E23946=\"\",ISBLANK(E23946)),\"\",VLOOKUP(E23946,Sheet2!A:G,6,FALSE))","v":""},""]
[{"$f":"IF(OR(E23969=\"\",ISBLANK(E23969)),\"\",VLOOKUP(E23969,Sheet2!A:F,2,FALSE))","v":""},{"$f":"IF(OR(E23969=\"\",ISBLANK(E23969)),\"\",VLOOKUP(E23969,Sheet2!A:G,4,FALSE))","v":""},"",{"$f":"IF(OR(E23969=\"\",ISBLANK(E23969)),\"\",VLOOKUP(E23969,Sheet2!A:H,3,FALSE))","v":""},null,{"$f":"IF(OR(E23969=\"\",ISBLANK(E23969)),\"\",VLOOKUP(E23969,Sheet2!A:G,6,FALSE))","v":""},""]
[{"$f":"IF(OR(E23981=\"\",ISBLANK(E23981)),\"\",VLOOKUP(E23981,Sheet2!A:F,2,FALSE))","v":""},{"$f":"IF(OR(E23981=\"\",ISBLANK(E23981)),\"\",VLOOKUP(E23981,Sheet2!A:G,4,FALSE))","v":""},"",{"$f":"IF(OR(E23981=\"\",ISBLANK(E23981)),\"\",VLOOKUP(E23981,Sheet2!A:H,3,FALSE))","v":""},null,{"$f":"IF(OR(E23981=\"\",ISBLANK(E23981)),\"\",VLOOKUP(E23981,Sheet2!A:G,6,FALSE))","v":""},""]
[{"$f":"IF(OR(E24014=\"\",ISBLANK(E24014)),\"\",VLOOKUP(E24014,Sheet2!A:F,2,FALSE))","v":""},{"$f":"IF(OR(E24014=\"\",ISBLANK(E24014)),\"\",VLOOKUP(E24014,Sheet2!A:G,4,FALSE))","v":""},"",{"$f":"IF(OR(E24014=\"\",ISBLANK(E24014)),\"\",VLOOKUP(E24014,Sheet2!A:H,3,FALSE))","v":""},null,{"$f":"IF(OR(E24014=\"\",ISBLANK(E24014)),\"\",VLOOKUP(E24014,Sheet2!A:G,6,FALSE))","v":""},""]
[{"$f":"IF(OR(E24033=\"\",ISBLANK(E24033)),\"\",VLOOKUP(E24033,Sheet2!A:F,2,FALSE))","v":""},{"$f":"IF(OR(E24033=\"\",ISBLANK(E24033)),\"\",VLOOKUP(E24033,Sheet2!A:G,4,FALSE))","v":""},"",{"$f":"IF(OR(E24033=\"\",ISBLANK(E24033)),\"\",VLOOKUP(E24033,Sheet2!A:H,3,FALSE))","v":""},null,{"$f":"IF(OR(E24033=\"\",ISBLANK(E24033)),\"\",VLOOKUP(E24033,Sheet2!A:G,6,FALSE))","v":""},""]
[{"$f":"IF(OR(E24049=\"\",ISBLANK(E24049)),\"\",VLOOKUP(E24049,Sheet2!A:F,2,FALSE))","v":""},{"$f":"IF(OR(E24049=\"\",ISBLANK(E24049)),\"\",VLOOKUP(E24049,Sheet2!A:G,4,FALSE))","v":""},"",{"$f":"IF(OR(E24049=\"\",ISBLANK(E24049)),\"\",VLOOKUP(E24049,Sheet2!A:H,3,FALSE))","v":""},null,{"$f":"IF(OR(E24049=\"\",ISBLANK(E24049)),\"\",VLOOKUP(E24049,Sheet2!A:G,6,FALSE))","v":""},""]
[{"$f":"IF(OR(E24082=\"\",ISBLANK(E24082)),\"\",VLOOKUP(E24082,Sheet2!A:F,2,FALSE))","v":""},{"$f":"IF(OR(E24082=\"\",ISBLANK(E24082)),\"\",VLOOKUP(E24082,Sheet2!A:G,4,FALSE))","v":""},"",{"$f":"IF(OR(E24082=\"\",ISBLANK(E24082)),\"\",VLOOKUP(E24082,Sheet2!A:H,3,FALSE))","v":""},null,{"$f":"IF(OR(E24082=\"\",ISBLANK(E24082)),\"\",VLOOKUP(E24082,Sheet2!A:G,6,FALSE))","v":""},""]
[{"$f":"IF(OR(E24118=\"\",ISBLANK(E24118)),\"\",VLOOKUP(E24118,Sheet2!A:F,2,FALSE))","v":""},{"$f":"IF(OR(E24118=\"\",ISBLANK(E24118)),\"\",VLOOKUP(E24118,Sheet2!A:G,4,FALSE))","v":""},"",{"$f":"IF(OR(E24118=\"\",ISBLANK(E24118)),\"\",VLOOKUP(E24118,Sheet2!A:H,3,FALSE))","v":""},null,{"$f":"IF(OR(E24118=\"\",ISBLANK(E24118)),\"\",VLOOKUP(E24118,Sheet2!A:G,6,FALSE))","v":""},""]
[{"$f":"IF(OR(E24141=\"\",ISBLANK(E24141)),\"\",VLOOKUP(E24141,Sheet2!A:F,2,FALSE))","v":""},{"$f":"IF(OR(E24141=\"\",ISBLANK(E24141)),\"\",VLOOKUP(E24141,Sheet2!A:G,4,FALSE))","v":""},"",{"$f":"IF(OR(E24141=\"\",ISBLANK(E24141)),\"\",VLOOKUP(E24141,Sheet2!A:H,3,FALSE))","v":""},null,{"$f":"IF(OR(E24141=\"\",ISBLANK(E24141)),\"\",VLOOKUP(E24141,Sheet2!A:G,6,FALSE))","v":""},""]
[{"$f":"IF(OR(E24147=\"\",ISBLANK(E24147)),\"\",VLOOKUP(E24147,Sheet2!A:F,2,FALSE))","v":""},{"$f":"IF(OR(E24147=\"\",ISBLANK(E24147)),\"\",VLOOKUP(E24147,Sheet2!A:G,4,FALSE))","v":""},"",{"$f":"IF(OR(E24147=\"\",ISBLANK(E24147)),\"\",VLOOKUP(E24147,Sheet2!A:H,3,FALSE))","v":""},null,{"$f":"IF(OR(E24147=\"\",ISBLANK(E24147)),\"\",VLOOKUP(E24147,Sheet2!A:G,6,FALSE))","v":""},""]
[{"$f":"IF(OR(E24176=\"\",ISBLANK(E24176)),\"\",VLOOKUP(E24176,Sheet2!A:F,2,FALSE))","v":""},{"$f":"IF(OR(E24176=\"\",ISBLANK(E24176)),\"\",VLOOKUP(E24176,Sheet2!A:G,4,FALSE))","v":""},"",{"$f":"IF(OR(E24176=\"\",ISBLANK(E24176)),\"\",VLOOKUP(E24176,Sheet2!A:H,3,FALSE))","v":""},null,{"$f":"IF(OR(E24176=\"\",ISBLANK(E24176)),\"\",VLOOKUP(E24176,Sheet2!A:G,6,FALSE))","v":""},""]
[{"$f":"IF(OR(E24209=\"\",ISBLANK(E24209)),\"\",VLOOKUP(E24209,Sheet2!A:F,2,FALSE))","v":""},{"$f":"IF(OR(E24209=\"\",ISBLANK(E24209)),\"\",VLOOKUP(E24209,Sheet2!A:G,4,FALSE))","v":""},"",{"$f":"IF(OR(E24209=\"\",ISBLANK(E24209)),\"\",VLOOKUP(E24209,Sheet2!A:H,3,FALSE))","v":""},null,{"$f":"IF(OR(E24209=\"\",ISBLANK(E24209)),\"\",VLOOKUP(E24209,Sheet2!A:G,6,FALSE))","v":""},""]
[{"$f":"IF(OR(E24236=\"\",ISBLANK(E24236)),\"\",VLOOKUP(E24236,Sheet2!A:F,2,FALSE))","v":""},{"$f":"IF(OR(E24236=\"\",ISBLANK(E24236)),\"\",VLOOKUP(E24236,Sheet2!A:G,4,FALSE))","v":""},"",{"$f":"IF(OR(E24236=\"\",ISBLANK(E24236)),\"\",VLOOKUP(E24236,Sheet2!A:H,3,FALSE))","v":""},null,{"$f":"IF(OR(E24236=\"\",ISBLANK(E24236)),\"\",VLOOKUP(E24236,Sheet2!A:G,6,FALSE))","v":""},""]
[{"$f":"IF(OR(E24244=\"\",ISBLANK(E24244)),\"\",VLOOKUP(E24244,Sheet2!A:F,2,FALSE))","v":""},{"$f":"IF(OR(E24244=\"\",ISBLANK(E24244)),\"\",VLOOKUP(E24244,Sheet2!A:G,4,FALSE))","v":""},"",{"$f":"IF(OR(E24244=\"\",ISBLANK(E24244)),\"\",VLOOKUP(E24244,Sheet2!A:H,3,FALSE))","v":""},null,{"$f":"IF(OR(E24244=\"\",ISBLANK(E24244)),\"\",VLOOKUP(E24244,Sheet2!A:G,6,FALSE))","v":""},""]
[{"$f":"IF(OR(E24286=\"\",ISBLANK(E24286)),\"\",VLOOKUP(E24286,Sheet2!A:F,2,FALSE))","v":""},{"$f":"IF(OR(E24286=\"\",ISBLANK(E24286)),\"\",VLOOKUP(E24286,Sheet2!A:G,4,FALSE))","v":""},"",{"$f":"IF(OR(E24286=\"\",ISBLANK(E24286)),\"\",VLOOKUP(E24286,Sheet2!A:H,3,FALSE))","v":""},null,{"$f":"IF(OR(E24286=\"\",ISBLANK(E24286)),\"\",VLOOKUP(E24286,Sheet2!A:G,6,FALSE))","v":""},""]
[{"$f":"IF(OR(E24303=\"\",ISBLANK(E24303)),\"\",VLOOKUP(E24303,Sheet2!A:F,2,FALSE))","v":""},{"$f":"IF(OR(E24303=\"\",ISBLANK(E24303)),\"\",VLOOKUP(E24303,Sheet2!A:G,4,FALSE))","v":""},"",{"$f":"IF(OR(E24303=\"\",ISBLANK(E24303)),\"\",VLOOKUP(E24303,Sheet2!A:H,3,FALSE))","v":""},null,{"$f":"IF(OR(E24303=\"\",ISBLANK(E24303)),\"\",VLOOKUP(E24303,Sheet2!A:G,6,FALSE))","v":""},""]
[{"$f":"IF(OR(E24336=\"\",ISBLANK(E24336)),\"\",VLOOKUP(E24336,Sheet2!A:F,2,FALSE))","v":""},{"$f":"IF(OR(E24336=\"\",ISBLANK(E24336)),\"\",VLOOKUP(E24336,Sheet2!A:G,4,FALSE))","v":""},"",{"$f":"IF(OR(E24336=\"\",ISBLANK(E24336)),\"\",VLOOKUP(E24336,Sheet2!A:H,3,FALSE))","v":""},null,{"$f":"IF(OR(E24336=\"\",ISBLANK(E24336)),\"\",VLOOKUP(E24336,Sheet2!A:G,6,FALSE))","v":""},""]
[{"$f":"IF(OR(E24350=\"\",ISBLANK(E24350)),\"\",VLOOKUP(E24350,Sheet2!A:F,2,FALSE))","v":""},{"$f":"IF(OR(E24350=\"\",ISBLANK(E24350)),\"\",VLOOKUP(E24350,Sheet2!A:G,4,FALSE))","v":""},"",{"$f":"IF(OR(E24350=\"\",ISBLANK(E24350)),\"\",VLOOKUP(E24350,Sheet2!A:H,3,FALSE))","v":""},null,{"$f":"IF(OR(E24350=\"\",ISBLANK(E24350)),\"\",VLOOKUP(E24350,Sheet2!A:G,6,FALSE))","v":""},""]
[{"$f":"IF(OR(E24371=\"\",ISBLANK(E24371)),\"\",VLOOKUP(E24371,Sheet2!A:F,2,FALSE))","v":""},{"$f":"IF(OR(E24371=\"\",ISBLANK(E24371)),\"\",VLOOKUP(E24371,Sheet2!A:G,4,FALSE))","v":""},"",{"$f":"IF(OR(E24371=\"\",ISBLANK(E24371)),\"\",VLOOKUP(E24371,Sheet2!A:H,3,FALSE))","v":""},null,{"$f":"IF(OR(E24371=\"\",ISBLANK(E24371)),\"\",VLOOKUP(E24371,Sheet2!A:G,6,FALSE))","v":""},""]
[{"$f":"IF(OR(E24400=\"\",ISBLANK(E24400)),\"\",VLOOKUP(E24400,Sheet2!A:F,2,FALSE))","v":""},{"$f":"IF(OR(E24400=\"\",ISBLANK(E24400)),\"\",VLOOKUP(E24400,Sheet2!A:G,4,FALSE))","v":""},"",{"$f":"IF(OR(E24400=\"\",ISBLANK(E24400)),\"\",VLOOKUP(E24400,Sheet2!A:H,3,FALSE))","v":""},null,{"$f":"IF(OR(E24400=\"\",ISBLANK(E24400)),\"\",VLOOKUP(E24400,Sheet2!A:G,6,FALSE))","v":""},""]
[{"$f":"IF(OR(E24430=\"\",ISBLANK(E24430)),\"\",VLOOKUP(E24430,Sheet2!A:F,2,FALSE))","v":""},{"$f":"IF(OR(E24430=\"\",ISBLANK(E24430)),\"\",VLOOKUP(E24430,Sheet2!A:G,4,FALSE))","v":""},"",{"$f":"IF(OR(E24430=\"\",ISBLANK(E24430)),\"\",VLOOKUP(E24430,Sheet2!A:H,3,FALSE))","v":""},null,{"$f":"IF(OR(E24430=\"\",ISBLANK(E24430)),\"\",VLOOKUP(E24430,Sheet2!A:G,6,FALSE))","v":""},""]
[{"$f":"IF(OR(E24439=\"\",ISBLANK(E24439)),\"\",VLOOKUP(E24439,Sheet2!A:F,2,FALSE))","v":""},{"$f":"IF(OR(E24439=\"\",ISBLANK(E24439)),\"\",VLOOKUP(E24439,Sheet2!A:G,4,FALSE))","v":""},"",{"$f":"IF(OR(E24439=\"\",ISBLANK(E24439)),\"\",VLOOKUP(E24439,Sheet2!A:H,3,FALSE))","v":""},null,{"$f":"IF(OR(E24439=\"\",ISBLANK(E24439)),\"\",VLOOKUP(E24439,Sheet2!A:G,6,FALSE))","v":""},""]
[{"$f":"IF(OR(E24464=\"\",ISBLANK(E24464)),\"\",VLOOKUP(E24464,Sheet2!A:F,2,FALSE))","v":""},{"$f":"IF(OR(E24464=\"\",ISBLANK(E24464)),\"\",VLOOKUP(E24464,Sheet2!A:G,4,FALSE))","v":""},"",{"$f":"IF(OR(E24464=\"\",ISBLANK(E24464)),\"\",VLOOKUP(E24464,Sheet2!A:H,3,FALSE))","v":""},null,{"$f":"IF(OR(E24464=\"\",ISBLANK(E24464)),\"\",VLOOKUP(E24464,Sheet2!A:G,6,FALSE))","v":""},""]
[{"$f":"IF(OR(E24498=\"\",ISBLANK(E24498)),\"\",VLOOKUP(E24498,Sheet2!A:F,2,FALSE))","v":""},{"$f":"IF(OR(E24498=\"\",ISBLANK(E24498)),\"\",VLOOKUP(E24498,Sheet2!A:G,4,FALSE))","v":""},"",{"$f":"IF(OR(E24498=\"\",ISBLANK(E24498)),\"\",VLOOKUP(E24498,Sheet2!A:H,3,FALSE))","v":""},null,{"$f":"IF(OR(E24498=\"\",ISBLANK(E24498)),\"\",VLOOKUP(E24498,Sheet2!A:G,6,FALSE))","v":""},""]
[{"$f":"IF(OR(E24531=\"\",ISBLANK(E24531)),\"\",VLOOKUP(E24531,Sheet2!A:F,2,FALSE))","v":""},{"$f":"IF(OR(E24531=\"\",ISBLANK(E24531)),\"\",VLOOKUP(E24531,Sheet2!A:G,4,FALSE))","v":""},"",{"$f":"IF(OR(E24531=\"\",ISBLANK(E24531)),\"\",VLOOKUP(E24531,Sheet2!A:H,3,FALSE))","v":""},null,{"$f":"IF(OR(E24531=\"\",ISBLANK(E24531)),\"\",VLOOKUP(E24531,Sheet2!A:G,6,FALSE))","v":""},""]
[{"$f":"IF(OR(E24553=\"\",ISBLANK(E24553)),\"\",VLOOKUP(E24553,Sheet2!A:F,2,FALSE))","v":""},{"$f":"IF(OR(E24553=\"\",ISBLANK(E24553)),\"\",VLOOKUP(E24553,Sheet2!A:G,4,FALSE))","v":""},"",{"$f":"IF(OR(E24553=\"\",ISBLANK(E24553)),\"\",VLOOKUP(E24553,Sheet2!A:H,3,FALSE))","v":""},null,{"$f":"IF(OR(E24553=\"\",ISBLANK(E24553)),\"\",VLOOKUP(E24553,Sheet2!A:G,6,FALSE))","v":""},""]
[{"$f":"IF(OR(E24566=\"\",ISBLANK(E24566)),\"\",VLOOKUP(E24566,Sheet2!A:F,2,FALSE))","v":""},{"$f":"IF(OR(E24566=\"\",ISBLANK(E24566)),\"\",VLOOKUP(E24566,Sheet2!A:G,4,FALSE))","v":""},"",{"$f":"IF(OR(E24566=\"\",ISBLANK(E24566)),\"\",VLOOKUP(E24566,Sheet2!A:H,3,FALSE))","v":""},null,{"$f":"IF(OR(E24566=\"\",ISBLANK(E24566)),\"\",VLOOKUP(E24566,Sheet2!A:G,6,FALSE))","v":""},""]
[{"$f":"IF(OR(E24603=\"\",ISBLANK(E24603)),\"\",VLOOKUP(E24603,Sheet2!A:F,2,FALSE))","v":""},{"$f":"IF(OR(E24603=\"\",ISBLANK(E24603)),\"\",VLOOKUP(E24603,Sheet2!A:G,4,FALSE))","v":""},"",{"$f":"IF(OR(E24603=\"\",ISBLANK(E24603)),\"\",VLOOKUP(E24603,Sheet2!A:H,3,FALSE))","v":""},null,{"$f":"IF(OR(E24603=\"\",ISBLANK(E24603)),\"\",VLOOKUP(E24603,Sheet2!A:G,6,FALSE))","v":""},""]
[{"$f":"IF(OR(E24625=\"\",ISBLANK(E24625)),\"\",VLOOKUP(E24625,Sheet2!A:F,2,FALSE))","v":""},{"$f":"IF(OR(E24625=\"\",ISBLANK(E24625)),\"\",VLOOKUP(E24625,Sheet2!A:G,4,FALSE))","v":""},"",{"$f":"IF(OR(E24625=\"\",ISBLANK(E24625)),\"\",VLOOKUP(E24625,Sheet2!A:H,3,FALSE))","v":""},null,{"$f":"IF(OR(E24625=\"\",ISBLANK(E24625)),\"\",VLOOKUP(E24625,Sheet2!A:G,6,FALSE))","v":""},""]
[{"$f":"IF(OR(E24634=\"\",ISBLANK(E24634)),\"\",VLOOKUP(E24634,Sheet2!A:F,2,FALSE))","v":""},{"$f":"IF(OR(E24634=\"\",ISBLANK(E24634)),\"\",VLOOKUP(E24634,Sheet2!A:G,4,FALSE))","v":""},"",{"$f":"IF(OR(E24634=\"\",ISBLANK(E24634)),\"\",VLOOKUP(E24634,Sheet2!A:H,3,FALSE))","v":""},null,{"$f":"IF(OR(E24634=\"\",ISBLANK(E24634)),\"\",VLOOKUP(E24634,Sheet2!A:G,6,FALSE))","v":""},""]
[{"$f":"IF(OR(E24667=\"\",ISBLANK(E24667)),\"\",VLOOKUP(E24667,Sheet2!A:F,2,FALSE))","v":""},{"$f":"IF(OR(E24667=\"\",ISBLANK(E24667)),\"\",VLOOKUP(E24667,Sheet2!A:G,4,FALSE))","v":""},"",{"$f":"IF(OR(E24667=\"\",ISBLANK(E24667)),\"\",VLOOKUP(E24667,Sheet2!A:H,3,FALSE))","v":""},null,{"$f":"IF(OR(E24667=\"\",ISBLANK(E24667)),\"\",VLOOKUP(E24667,Sheet2!A:G,6,FALSE))","v":""},""]
[{"$f":"IF(OR(E24693=\"\",ISBLANK(E24693)),\"\",VLOOKUP(E24693,Sheet2!A:F,2,FALSE))","v":""},{"$f":"IF(OR(E24693=\"\",ISBLANK(E24693)),\"\",VLOOKUP(E24693,Sheet2!A:G,4,FALSE))","v":""},"",{"$f":"IF(OR(E24693=\"\",ISBLANK(E24693)),\"\",VLOOKUP(E24693,Sheet2!A:H,3,FALSE))","v":""},null,{"$f":"IF(OR(E24693=\"\",ISBLANK(E24693)),\"\",VLOOKUP(E24693,Sheet2!A:G,6,FALSE))","v":""},""]
[{"$f":"IF(OR(E24717=\"\",ISBLANK(E24717)),\"\",VLOOKUP(E24717,Sheet2!A:F,2,FALSE))","v":""},{"$f":"IF(OR(E24717=\"\",ISBLANK(E24717)),\"\",VLOOKUP(E24717,Sheet2!A:G,4,FALSE))","v":""},"",{"$f":"IF(OR(E24717=\"\",ISBLANK(E24717)),\"\",VLOOKUP(E24717,Sheet2!A:H,3,FALSE))","v":""},null,{"$f":"IF(OR(E24717=\"\",ISBLANK(E24717)),\"\",VLOOKUP(E24717,Sheet2!A:G,6,FALSE))","v":""},""]
[{"$f":"IF(OR(E24736=\"\",ISBLANK(E24736)),\"\",VLOOKUP(E24736,Sheet2!A:F,2,FALSE))","v":""},{"$f":"IF(OR(E24736=\"\",ISBLANK(E24736)),\"\",VLOOKUP(E24736,Sheet2!A:G,4,FALSE))","v":""},"",{"$f":"IF(OR(E24736=\"\",ISBLANK(E24736)),\"\",VLOOKUP(E24736,Sheet2!A:H,3,FALSE))","v":""},null,{"$f":"IF(OR(E24736=\"\",ISBLANK(E24736)),\"\",VLOOKUP(E24736,Sheet2!A:G,6,FALSE))","v":""},""]
[{"$f":"IF(OR(E24761=\"\",ISBLANK(E24761)),\"\",VLOOKUP(E24761,Sheet2!A:F,2,FALSE))","v":""},{"$f":"IF(OR(E24761=\"\",ISBLANK(E24761)),\"\",VLOOKUP(E24761,Sheet2!A:G,4,FALSE))","v":""},"",{"$f":"IF(OR(E24761=\"\",ISBLANK(E24761)),\"\",VLOOKUP(E24761,Sheet2!A:H,3,FALSE))","v":""},null,{"$f":"IF(OR(E24761=\"\",ISBLANK(E24761)),\"\",VLOOKUP(E24761,Sheet2!A:G,6,FALSE))","v":""},""]
[{"$f":"IF(OR(E24781=\"\",ISBLANK(E24781)),\"\",VLOOKUP(E24781,Sheet2!A:F,2,FALSE))","v":""},{"$f":"IF(OR(E24781=\"\",ISBLANK(E24781)),\"\",VLOOKUP(E24781,Sheet2!A:G,4,FALSE))","v":""},"",{"$f":"IF(OR(E24781=\"\",ISBLANK(E24781)),\"\",VLOOKUP(E24781,Sheet2!A:H,3,FALSE))","v":""},null,{"$f":"IF(OR(E24781=\"\",ISBLANK(E24781)),\"\",VLOOKUP(E24781,Sheet2!A:G,6,FALSE))","v":""},""]
[{"$f":"IF(OR(E24820=\"\",ISBLANK(E24820)),\"\",VLOOKUP(E24820,Sheet2!A:F,2,FALSE))","v":""},{"$f":"IF(OR(E24820=\"\",ISBLANK(E24820)),\"\",VLOOKUP(E24820,Sheet2!A:G,4,FALSE))","v":""},"",{"$f":"IF(OR(E24820=\"\",ISBLANK(E24820)),\"\",VLOOKUP(E24820,Sheet2!A:H,3,FALSE))","v":""},null,{"$f":"IF(OR(E24820=\"\",ISBLANK(E24820)),\"\",VLOOKUP(E24820,Sheet2!A:G,6,FALSE))","v":""},""]
[{"$f":"IF(OR(E24831=\"\",ISBLANK(E24831)),\"\",VLOOKUP(E24831,Sheet2!A:F,2,FALSE))","v":""},{"$f":"IF(OR(E24831=\"\",ISBLANK(E24831)),\"\",VLOOKUP(E24831,Sheet2!A:G,4,FALSE))","v":""},"",{"$f":"IF(OR(E24831=\"\",ISBLANK(E24831)),\"\",VLOOKUP(E24831,Sheet2!A:H,3,FALSE))","v":""},null,{"$f":"IF(OR(E24831=\"\",ISBLANK(E24831)),\"\",VLOOKUP(E24831,Sheet2!A:G,6,FALSE))","v":""},""]
[{"$f":"IF(OR(E24863=\"\",ISBLANK(E24863)),\"\",VLOOKUP(E24863,Sheet2!A:F,2,FALSE))","v":""},{"$f":"IF(OR(E24863=\"\",ISBLANK(E24863)),\"\",VLOOKUP(E24863,Sheet2!A:G,4,FALSE))","v":""},"",{"$f":"IF(OR(E24863=\"\",ISBLANK(E24863)),\"\",VLOOKUP(E24863,Sheet2!A:H,3,FALSE))","v":""},null,{"$f":"IF(OR(E24863=\"\",ISBLANK(E24863)),\"\",VLOOKUP(E24863,Sheet2!A:G,6,FALSE))","v":""},""]
[{"$f":"IF(OR(E24888=\"\",ISBLANK(E24888)),\"\",VLOOKUP(E24888,Sheet2!A:F,2,FALSE))","v":""},{"$f":"IF(OR(E24888=\"\",ISBLANK(E24888)),\"\",VLOOKUP(E24888,Sheet2!A:G,4,FALSE))","v":""},"",{"$f":"IF(OR(E24888=\"\",ISBLANK(E24888)),\"\",VLOOKUP(E24888,Sheet2!A:H,3,FALSE))","v":""},null,{"$f":"IF(OR(E24888=\"\",ISBLANK(E24888)),\"\",VLOOKUP(E24888,Sheet2!A:G,6,FALSE))","v":""},""]
[{"$f":"IF(OR(E24920=\"\",ISBLANK(E24920)),\"\",VLOOKUP(E24920,Sheet2!A:F,2,FALSE))","v":""},{"$f":"IF(OR(E24920=\"\",ISBLANK(E24920)),\"\",VLOOKUP(E24920,Sheet2!A:G,4,FALSE))","v":""},"",{"$f":"IF(OR(E24920=\"\",ISBLANK(E24920)),\"\",VLOOKUP(E24920,Sheet2!A:H,3,FALSE))","v":""},null,{"$f":"IF(OR(E24920=\"\",ISBLANK(E24920)),\"\",VLOOKUP(E24920,Sheet2!A:G,6,FALSE))","v":""},""]
[{"$f":"IF(OR(E24947=\"\",ISBLANK(E24947)),\"\",VLOOKUP(E24947,Sheet2!A:F,2,FALSE))","v":""},{"$f":"IF(OR(E24947=\"\",ISBLANK(E24947)),\"\",VLOOKUP(E24947,Sheet2!A:G,4,FALSE))","v":""},"",{"$f":"IF(OR(E24947=\"\",ISBLANK(E24947)),\"\",VLOOKUP(E24947,Sheet2!A:H,3,FALSE))","v":""},null,{"$f":"IF(OR(E24947=\"\",ISBLANK(E24947)),\"\",VLOOKUP(E24947,Sheet2!A:G,6,FALSE))","v":""},""]
[{"$f":"IF(OR(E24956=\"\",ISBLANK(E24956)),\"\",VLOOKUP(E24956,Sheet2!A:F,2,FALSE))","v":""},{"$f":"IF(OR(E24956=\"\",ISBLANK(E24956)),\"\",VLOOKUP(E24956,Sheet2!A:G,4,FALSE))","v":""},"",{"$f":"IF(OR(E24956=\"\",ISBLANK(E24956)),\"\",VLOOKUP(E24956,Sheet2!A:H,3,FALSE))","v":""},null,{"$f":"IF(OR(E24956=\"\",ISBLANK(E24956)),\"\",VLOOKUP(E24956,Sheet2!A:G,6,FALSE))","v":""},""]
[{"$f":"IF(OR(E24984=\"\",ISBLANK(E24984)),\"\",VLOOKUP(E24984,Sheet2!A:F,2,FALSE))","v":""},{"$f":"IF(OR(E24984=\"\",ISBLANK(E24984)),\"\",VLOOKUP(E24984,Sheet2!A:G,4,FALSE))","v":""},"",{"$f":"IF(OR(E24984=\"\",ISBLANK(E24984)),\"\",VLOOKUP(E24984,Sheet2!A:H,3,FALSE))","v":""},null,{"$f":"IF(OR(E24984=\"\",ISBLANK(E24984)),\"\",VLOOKUP(E24984,Sheet2!A:G,6,FALSE))","v":""},""]
[{"$f":"IF(OR(E25015=\"\",ISBLANK(E25015)),\"\",VLOOKUP(E25015,Sheet2!A:F,2,FALSE))","v":""},{"$f":"IF(OR(E25015=\"\",ISBLANK(E25015)),\"\",VLOOKUP(E25015,Sheet2!A:G,4,FALSE))","v":""},"",{"$f":"IF(OR(E25015=\"\",ISBLANK(E25015)),\"\",VLOOKUP(E25015,Sheet2!A:H,3,FALSE))","v":""},null,{"$f":"IF(OR(E25015=\"\",ISBLANK(E25015)),\"\",VLOOKUP(E25015,Sheet2!A:G,6,FALSE))","v":""},""]
[{"$f":"IF(OR(E25034=\"\",ISBLANK(E25034)),\"\",VLOOKUP(E25034,Sheet2!A:F,2,FALSE))","v":""},{"$f":"IF(OR(E25034=\"\",ISBLANK(E25034)),\"\",VLOOKUP(E25034,Sheet2!A:G,4,FALSE))","v":""},"",{"$f":"IF(OR(E25034=\"\",ISBLANK(E25034)),\"\",VLOOKUP(E25034,Sheet2!A:H,3,FALSE))","v":""},null,{"$f":"IF(OR(E25034=\"\",ISBLANK(E25034)),\"\",VLOOKUP(E25034,Sheet2!A:G,6,FALSE))","v":""},""]
[{"$f":"IF(OR(E25058=\"\",ISBLANK(E25058)),\"\",VLOOKUP(E25058,Sheet2!A:F,2,FALSE))","v":""},{"$f":"IF(OR(E25058=\"\",ISBLANK(E25058)),\"\",VLOOKUP(E25058,Sheet2!A:G,4,FALSE))","v":""},"",{"$f":"IF(OR(E25058=\"\",ISBLANK(E25058)),\"\",VLOOKUP(E25058,Sheet2!A:H,3,FALSE))","v":""},null,{"$f":"IF(OR(E25058=\"\",ISBLANK(E25058)),\"\",VLOOKUP(E25058,Sheet2!A:G,6,FALSE))","v":""},""]
[{"$f":"IF(OR(E25083=\"\",ISBLANK(E25083)),\"\",VLOOKUP(E25083,Sheet2!A:F,2,FALSE))","v":""},{"$f":"IF(OR(E25083=\"\",ISBLANK(E25083)),\"\",VLOOKUP(E25083,Sheet2!A:G,4,FALSE))","v":""},"",{"$f":"IF(OR(E25083=\"\",ISBLANK(E25083)),\"\",VLOOKUP(E25083,Sheet2!A:H,3,FALSE))","v":""},null,{"$f":"IF(OR(E25083=\"\",ISBLANK(E25083)),\"\",VLOOKUP(E25083,Sheet2!A:G,6,FALSE))","v":""},""]
[{"$f":"IF(OR(E25098=\"\",ISBLANK(E25098)),\"\",VLOOKUP(E25098,Sheet2!A:F,2,FALSE))","v":""},{"$f":"IF(OR(E25098=\"\",ISBLANK(E25098)),\"\",VLOOKUP(E25098,Sheet2!A:G,4,FALSE))","v":""},"",{"$f":"IF(OR(E25098=\"\",ISBLANK(E25098)),\"\",VLOOKUP(E25098,Sheet2!A:H,3,FALSE))","v":""},null,{"$f":"IF(OR(E25098=\"\",ISBLANK(E25098)),\"\",VLOOKUP(E25098,Sheet2!A:G,6,FALSE))","v":""},""]
[{"$f":"IF(OR(E25142=\"\",ISBLANK(E25142)),\"\",VLOOKUP(E25142,Sheet2!A:F,2,FALSE))","v":""},{"$f":"IF(OR(E25142=\"\",ISBLANK(E25142)),\"\",VLOOKUP(E25142,Sheet2!A:G,4,FALSE))","v":""},"",{"$f":"IF(OR(E25142=\"\",ISBLANK(E25142)),\"\",VLOOKUP(E25142,Sheet2!A:H,3,FALSE))","v":""},null,{"$f":"IF(OR(E25142=\"\",ISBLANK(E25142)),\"\",VLOOKUP(E25142,Sheet2!A:G,6,FALSE))","v":""},""]
[{"$f":"IF(OR(E25148=\"\",ISBLANK(E25148)),\"\",VLOOKUP(E25148,Sheet2!A:F,2,FALSE))","v":""},{"$f":"IF(OR(E25148=\"\",ISBLANK(E25148)),\"\",VLOOKUP(E25148,Sheet2!A:G,4,FALSE))","v":""},"",{"$f":"IF(OR(E25148=\"\",ISBLANK(E25148)),\"\",VLOOKUP(E25148,Sheet2!A:H,3,FALSE))","v":""},null,{"$f":"IF(OR(E25148=\"\",ISBLANK(E25148)),\"\",VLOOKUP(E25148,Sheet2!A:G,6,FALSE))","v":""},""]
[{"$f":"IF(OR(E25185=\"\",ISBLANK(E25185)),\"\",VLOOKUP(E25185,Sheet2!A:F,2,FALSE))","v":""},{"$f":"IF(OR(E25185=\"\",ISBLANK(E25185)),\"\",VLOOKUP(E25185,Sheet2!A:G,4,FALSE))","v":""},"",{"$f":"IF(OR(E25185=\"\",ISBLANK(E25185)),\"\",VLOOKUP(E25185,Sheet2!A:H,3,FALSE))","v":""},null,{"$f":"IF(OR(E25185=\"\",ISBLANK(E25185)),\"\",VLOOKUP(E25185,Sheet2!A:G,6,FALSE))","v":""},""]
[{"$f":"IF(OR(E25210=\"\",ISBLANK(E25210)),\"\",VLOOKUP(E25210,Sheet2!A:F,2,FALSE))","v":""},{"$f":"IF(OR(E25210=\"\",ISBLANK(E25210)),\"\",VLOOKUP(E25210,Sheet2!A:G,4,FALSE))","v":""},"",{"$f":"IF(OR(E25210=\"\",ISBLANK(E25210)),\"\",VLOOKUP(E25210,Sheet2!A:H,3,FALSE))","v":""},null,{"$f":"IF(OR(E25210=\"\",ISBLANK(E25210)),\"\",VLOOKUP(E25210,Sheet2!A:G,6,FALSE))","v":""},""]
[{"$f":"IF(OR(E25237=\"\",ISBLANK(E25237)),\"\",VLOOKUP(E25237,Sheet2!A:F,2,FALSE))","v":""},{"$f":"IF(OR(E25237=\"\",ISBLANK(E25237)),\"\",VLOOKUP(E25237,Sheet2!A:G,4,FALSE))","v":""},"",{"$f":"IF(OR(E25237=\"\",ISBLANK(E25237)),\"\",VLOOKUP(E25237,Sheet2!A:H,3,FALSE))","v":""},null,{"$f":"IF(OR(E25237=\"\",ISBLANK(E25237)),\"\",VLOOKUP(E25237,Sheet2!A:G,6,FALSE))","v":""},""]
[{"$f":"IF(OR(E25245=\"\",ISBLANK(E25245)),\"\",VLOOKUP(E25245,Sheet2!A:F,2,FALSE))","v":""},{"$f":"IF(OR(E25245=\"\",ISBLANK(E25245)),\"\",VLOOKUP(E25245,Sheet2!A:G,4,FALSE))","v":""},"",{"$f":"IF(OR(E25245=\"\",ISBLANK(E25245)),\"\",VLOOKUP(E25245,Sheet2!A:H,3,FALSE))","v":""},null,{"$f":"IF(OR(E25245=\"\",ISBLANK(E25245)),\"\",VLOOKUP(E25245,Sheet2!A:G,6,FALSE))","v":""},""]
[{"$f":"IF(OR(E25287=\"\",ISBLANK(E25287)),\"\",VLOOKUP(E25287,Sheet2!A:F,2,FALSE))","v":""},{"$f":"IF(OR(E25287=\"\",ISBLANK(E25287)),\"\",VLOOKUP(E25287,Sheet2!A:G,4,FALSE))","v":""},"",{"$f":"IF(OR(E25287=\"\",ISBLANK(E25287)),\"\",VLOOKUP(E25287,Sheet2!A:H,3,FALSE))","v":""},null,{"$f":"IF(OR(E25287=\"\",ISBLANK(E25287)),\"\",VLOOKUP(E25287,Sheet2!A:G,6,FALSE))","v":""},""]
[{"$f":"IF(OR(E25312=\"\",ISBLANK(E25312)),\"\",VLOOKUP(E25312,Sheet2!A:F,2,FALSE))","v":""},{"$f":"IF(OR(E25312=\"\",ISBLANK(E25312)),\"\",VLOOKUP(E25312,Sheet2!A:G,4,FALSE))","v":""},"",{"$f":"IF(OR(E25312=\"\",ISBLANK(E25312)),\"\",VLOOKUP(E25312,Sheet2!A:H,3,FALSE))","v":""},null,{"$f":"IF(OR(E25312=\"\",ISBLANK(E25312)),\"\",VLOOKUP(E25312,Sheet2!A:G,6,FALSE))","v":""},""]
[{"$f":"IF(OR(E25337=\"\",ISBLANK(E25337)),\"\",VLOOKUP(E25337,Sheet2!A:F,2,FALSE))","v":""},{"$f":"IF(OR(E25337=\"\",ISBLANK(E25337)),\"\",VLOOKUP(E25337,Sheet2!A:G,4,FALSE))","v":""},"",{"$f":"IF(OR(E25337=\"\",ISBLANK(E25337)),\"\",VLOOKUP(E25337,Sheet2!A:H,3,FALSE))","v":""},null,{"$f":"IF(OR(E25337=\"\",ISBLANK(E25337)),\"\",VLOOKUP(E25337,Sheet2!A:G,6,FALSE))","v":""},""]
[{"$f":"IF(OR(E25351=\"\",ISBLANK(E25351)),\"\",VLOOKUP(E25351,Sheet2!A:F,2,FALSE))","v":""},{"$f":"IF(OR(E25351=\"\",ISBLANK(E25351)),\"\",VLOOKUP(E25351,Sheet2!A:G,4,FALSE))","v":""},"",{"$f":"IF(OR(E25351=\"\",ISBLANK(E25351)),\"\",VLOOKUP(E25351,Sheet2!A:H,3,FALSE))","v":""},null,{"$f":"IF(OR(E25351=\"\",ISBLANK(E25351)),\"\",VLOOKUP(E25351,Sheet2!A:G,6,FALSE))","v":""},""]
[{"$f":"IF(OR(E25380=\"\",ISBLANK(E25380)),\"\",VLOOKUP(E25380,Sheet2!A:F,2,FALSE))","v":""},{"$f":"IF(OR(E25380=\"\",ISBLANK(E25380)),\"\",VLOOKUP(E25380,Sheet2!A:G,4,FALSE))","v":""},"",{"$f":"IF(OR(E25380=\"\",ISBLANK(E25380)),\"\",VLOOKUP(E25380,Sheet2!A:H,3,FALSE))","v":""},null,{"$f":"IF(OR(E25380=\"\",ISBLANK(E25380)),\"\",VLOOKUP(E25380,Sheet2!A:G,6,FALSE))","v":""},""]
[{"$f":"IF(OR(E25405=\"\",ISBLANK(E25405)),\"\",VLOOKUP(E25405,Sheet2!A:F,2,FALSE))","v":""},{"$f":"IF(OR(E25405=\"\",ISBLANK(E25405)),\"\",VLOOKUP(E25405,Sheet2!A:G,4,FALSE))","v":""},"",{"$f":"IF(OR(E25405=\"\",ISBLANK(E25405)),\"\",VLOOKUP(E25405,Sheet2!A:H,3,FALSE))","v":""},null,{"$f":"IF(OR(E25405=\"\",ISBLANK(E25405)),\"\",VLOOKUP(E25405,Sheet2!A:G,6,FALSE))","v":""},""]
[{"$f":"IF(OR(E25415=\"\",ISBLANK(E25415)),\"\",VLOOKUP(E25415,Sheet2!A:F,2,FALSE))","v":""},{"$f":"IF(OR(E25415=\"\",ISBLANK(E25415)),\"\",VLOOKUP(E25415,Sheet2!A:G,4,FALSE))","v":""},"",{"$f":"IF(OR(E25415=\"\",ISBLANK(E25415)),\"\",VLOOKUP(E25415,Sheet2!A:H,3,FALSE))","v":""},null,{"$f":"IF(OR(E25415=\"\",ISBLANK(E25415)),\"\",VLOOKUP(E25415,Sheet2!A:G,6,FALSE))","v":""},""]
[{"$f":"IF(OR(E25440=\"\",ISBLANK(E25440)),\"\",VLOOKUP(E25440,Sheet2!A:F,2,FALSE))","v":""},{"$f":"IF(OR(E25440=\"\",ISBLANK(E25440)),\"\",VLOOKUP(E25440,Sheet2!A:G,4,FALSE))","v":""},"",{"$f":"IF(OR(E25440=\"\",ISBLANK(E25440)),\"\",VLOOKUP(E25440,Sheet2!A:H,3,FALSE))","v":""},null,{"$f":"IF(OR(E25440=\"\",ISBLANK(E25440)),\"\",VLOOKUP(E25440,Sheet2!A:G,6,FALSE))","v":""},""]
[{"$f":"IF(OR(E25465=\"\",ISBLANK(E25465)),\"\",VLOOKUP(E25465,Sheet2!A:F,2,FALSE))","v":""},{"$f":"IF(OR(E25465=\"\",ISBLANK(E25465)),\"\",VLOOKUP(E25465,Sheet2!A:G,4,FALSE))","v":""},"",{"$f":"IF(OR(E25465=\"\",ISBLANK(E25465)),\"\",VLOOKUP(E25465,Sheet2!A:H,3,FALSE))","v":""},null,{"$f":"IF(OR(E25465=\"\",ISBLANK(E25465)),\"\",VLOOKUP(E25465,Sheet2!A:G,6,FALSE))","v":""},""]
[{"$f":"IF(OR(E25507=\"\",ISBLANK(E25507)),\"\",VLOOKUP(E25507,Sheet2!A:F,2,FALSE))","v":""},{"$f":"IF(OR(E25507=\"\",ISBLANK(E25507)),\"\",VLOOKUP(E25507,Sheet2!A:G,4,FALSE))","v":""},"",{"$f":"IF(OR(E25507=\"\",ISBLANK(E25507)),\"\",VLOOKUP(E25507,Sheet2!A:H,3,FALSE))","v":""},null,{"$f":"IF(OR(E25507=\"\",ISBLANK(E25507)),\"\",VLOOKUP(E25507,Sheet2!A:G,6,FALSE))","v":""},""]
[{"$f":"IF(OR(E25532=\"\",ISBLANK(E25532)),\"\",VLOOKUP(E25532,Sheet2!A:F,2,FALSE))","v":""},{"$f":"IF(OR(E25532=\"\",ISBLANK(E25532)),\"\",VLOOKUP(E25532,Sheet2!A:G,4,FALSE))","v":""},"",{"$f":"IF(OR(E25532=\"\",ISBLANK(E25532)),\"\",VLOOKUP(E25532,Sheet2!A:H,3,FALSE))","v":""},null,{"$f":"IF(OR(E25532=\"\",ISBLANK(E25532)),\"\",VLOOKUP(E25532,Sheet2!A:G,6,FALSE))","v":""},""]
[{"$f":"IF(OR(E25554=\"\",ISBLANK(E25554)),\"\",VLOOKUP(E25554,Sheet2!A:F,2,FALSE))","v":""},{"$f":"IF(OR(E25554=\"\",ISBLANK(E25554)),\"\",VLOOKUP(E25554,Sheet2!A:G,4,FALSE))","v":""},"",{"$f":"IF(OR(E25554=\"\",ISBLANK(E25554)),\"\",VLOOKUP(E25554,Sheet2!A:H,3,FALSE))","v":""},null,{"$f":"IF(OR(E25554=\"\",ISBLANK(E25554)),\"\",VLOOKUP(E25554,Sheet2!A:G,6,FALSE))","v":""},""]
[{"$f":"IF(OR(E25575=\"\",ISBLANK(E25575)),\"\",VLOOKUP(E25575,Sheet2!A:F,2,FALSE))","v":""},{"$f":"IF(OR(E25575=\"\",ISBLANK(E25575)),\"\",VLOOKUP(E25575,Sheet2!A:G,4,FALSE))","v":""},"",{"$f":"IF(OR(E25575=\"\",ISBLANK(E25575)),\"\",VLOOKUP(E25575,Sheet2!A:H,3,FALSE))","v":""},null,{"$f":"IF(OR(E25575=\"\",ISBLANK(E25575)),\"\",VLOOKUP(E25575,Sheet2!A:G,6,FALSE))","v":""},""]
[{"$f":"IF(OR(E25604=\"\",ISBLANK(E25604)),\"\",VLOOKUP(E25604,Sheet2!A:F,2,FALSE))","v":""},{"$f":"IF(OR(E25604=\"\",ISBLANK(E25604)),\"\",VLOOKUP(E25604,Sheet2!A:G,4,FALSE))","v":""},"",{"$f":"IF(OR(E25604=\"\",ISBLANK(E25604)),\"\",VLOOKUP(E25604,Sheet2!A:H,3,FALSE))","v":""},null,{"$f":"IF(OR(E25604=\"\",ISBLANK(E25604)),\"\",VLOOKUP(E25604,Sheet2!A:G,6,FALSE))","v":""},""]
[{"$f":"IF(OR(E25610=\"\",ISBLANK(E25610)),\"\",VLOOKUP(E25610,Sheet2!A:F,2,FALSE))","v":""},{"$f":"IF(OR(E25610=\"\",ISBLANK(E25610)),\"\",VLOOKUP(E25610,Sheet2!A:G,4,FALSE))","v":""},"",{"$f":"IF(OR(E25610=\"\",ISBLANK(E25610)),\"\",VLOOKUP(E25610,Sheet2!A:H,3,FALSE))","v":""},null,{"$f":"IF(OR(E25610=\"\",ISBLANK(E25610)),\"\",VLOOKUP(E25610,Sheet2!A:G,6,FALSE))","v":""},""]
[{"$f":"IF(OR(E25635=\"\",ISBLANK(E25635)),\"\",VLOOKUP(E25635,Sheet2!A:F,2,FALSE))","v":""},{"$f":"IF(OR(E25635=\"\",ISBLANK(E25635)),\"\",VLOOKUP(E25635,Sheet2!A:G,4,FALSE))","v":""},"",{"$f":"IF(OR(E25635=\"\",ISBLANK(E25635)),\"\",VLOOKUP(E25635,Sheet2!A:H,3,FALSE))","v":""},null,{"$f":"IF(OR(E25635=\"\",ISBLANK(E25635)),\"\",VLOOKUP(E25635,Sheet2!A:G,6,FALSE))","v":""},""]
[{"$f":"IF(OR(E25668=\"\",ISBLANK(E25668)),\"\",VLOOKUP(E25668,Sheet2!A:F,2,FALSE))","v":""},{"$f":"IF(OR(E25668=\"\",ISBLANK(E25668)),\"\",VLOOKUP(E25668,Sheet2!A:G,4,FALSE))","v":""},"",{"$f":"IF(OR(E25668=\"\",ISBLANK(E25668)),\"\",VLOOKUP(E25668,Sheet2!A:H,3,FALSE))","v":""},null,{"$f":"IF(OR(E25668=\"\",ISBLANK(E25668)),\"\",VLOOKUP(E25668,Sheet2!A:G,6,FALSE))","v":""},""]
[{"$f":"IF(OR(E25702=\"\",ISBLANK(E25702)),\"\",VLOOKUP(E25702,Sheet2!A:F,2,FALSE))","v":""},{"$f":"IF(OR(E25702=\"\",ISBLANK(E25702)),\"\",VLOOKUP(E25702,Sheet2!A:G,4,FALSE))","v":""},"",{"$f":"IF(OR(E25702=\"\",ISBLANK(E25702)),\"\",VLOOKUP(E25702,Sheet2!A:H,3,FALSE))","v":""},null,{"$f":"IF(OR(E25702=\"\",ISBLANK(E25702)),\"\",VLOOKUP(E25702,Sheet2!A:G,6,FALSE))","v":""},""]
[{"$f":"IF(OR(E25718=\"\",ISBLANK(E25718)),\"\",VLOOKUP(E25718,Sheet2!A:F,2,FALSE))","v":""},{"$f":"IF(OR(E25718=\"\",ISBLANK(E25718)),\"\",VLOOKUP(E25718,Sheet2!A:G,4,FALSE))","v":""},"",{"$f":"IF(OR(E25718=\"\",ISBLANK(E25718)),\"\",VLOOKUP(E25718,Sheet2!A:H,3,FALSE))","v":""},null,{"$f":"IF(OR(E25718=\"\",ISBLANK(E25718)),\"\",VLOOKUP(E25718,Sheet2!A:G,6,FALSE))","v":""},""]
[{"$f":"IF(OR(E25737=\"\",ISBLANK(E25737)),\"\",VLOOKUP(E25737,Sheet2!A:F,2,FALSE))","v":""},{"$f":"IF(OR(E25737=\"\",ISBLANK(E25737)),\"\",VLOOKUP(E25737,Sheet2!A:G,4,FALSE))","v":""},"",{"$f":"IF(OR(E25737=\"\",ISBLANK(E25737)),\"\",VLOOKUP(E25737,Sheet2!A:H,3,FALSE))","v":""},null,{"$f":"IF(OR(E25737=\"\",ISBLANK(E25737)),\"\",VLOOKUP(E25737,Sheet2!A:G,6,FALSE))","v":""},""]
[{"$f":"IF(OR(E25762=\"\",ISBLANK(E25762)),\"\",VLOOKUP(E25762,Sheet2!A:F,2,FALSE))","v":""},{"$f":"IF(OR(E25762=\"\",ISBLANK(E25762)),\"\",VLOOKUP(E25762,Sheet2!A:G,4,FALSE))","v":""},"",{"$f":"IF(OR(E25762=\"\",ISBLANK(E25762)),\"\",VLOOKUP(E25762,Sheet2!A:H,3,FALSE))","v":""},null,{"$f":"IF(OR(E25762=\"\",ISBLANK(E25762)),\"\",VLOOKUP(E25762,Sheet2!A:G,6,FALSE))","v":""},""]
[{"$f":"IF(OR(E25782=\"\",ISBLANK(E25782)),\"\",VLOOKUP(E25782,Sheet2!A:F,2,FALSE))","v":""},{"$f":"IF(OR(E25782=\"\",ISBLANK(E25782)),\"\",VLOOKUP(E25782,Sheet2!A:G,4,FALSE))","v":""},"",{"$f":"IF(OR(E25782=\"\",ISBLANK(E25782)),\"\",VLOOKUP(E25782,Sheet2!A:H,3,FALSE))","v":""},null,{"$f":"IF(OR(E25782=\"\",ISBLANK(E25782)),\"\",VLOOKUP(E25782,Sheet2!A:G,6,FALSE))","v":""},""]
[{"$f":"IF(OR(E25805=\"\",ISBLANK(E25805)),\"\",VLOOKUP(E25805,Sheet2!A:F,2,FALSE))","v":""},{"$f":"IF(OR(E25805=\"\",ISBLANK(E25805)),\"\",VLOOKUP(E25805,Sheet2!A:G,4,FALSE))","v":""},"",{"$f":"IF(OR(E25805=\"\",ISBLANK(E25805)),\"\",VLOOKUP(E25805,Sheet2!A:H,3,FALSE))","v":""},null,{"$f":"IF(OR(E25805=\"\",ISBLANK(E25805)),\"\",VLOOKUP(E25805,Sheet2!A:G,6,FALSE))","v":""},""]
[{"$f":"IF(OR(E25830=\"\",ISBLANK(E25830)),\"\",VLOOKUP(E25830,Sheet2!A:F,2,FALSE))","v":""},{"$f":"IF(OR(E25830=\"\",ISBLANK(E25830)),\"\",VLOOKUP(E25830,Sheet2!A:G,4,FALSE))","v":""},"",{"$f":"IF(OR(E25830=\"\",ISBLANK(E25830)),\"\",VLOOKUP(E25830,Sheet2!A:H,3,FALSE))","v":""},null,{"$f":"IF(OR(E25830=\"\",ISBLANK(E25830)),\"\",VLOOKUP(E25830,Sheet2!A:G,6,FALSE))","v":""},""]
[{"$f":"IF(OR(E25871=\"\",ISBLANK(E25871)),\"\",VLOOKUP(E25871,Sheet2!A:F,2,FALSE))","v":""},{"$f":"IF(OR(E25871=\"\",ISBLANK(E25871)),\"\",VLOOKUP(E25871,Sheet2!A:G,4,FALSE))","v":""},"",{"$f":"IF(OR(E25871=\"\",ISBLANK(E25871)),\"\",VLOOKUP(E25871,Sheet2!A:H,3,FALSE))","v":""},null,{"$f":"IF(OR(E25871=\"\",ISBLANK(E25871)),\"\",VLOOKUP(E25871,Sheet2!A:G,6,FALSE))","v":""},""]
[{"$f":"IF(OR(E25897=\"\",ISBLANK(E25897)),\"\",VLOOKUP(E25897,Sheet2!A:F,2,FALSE))","v":""},{"$f":"IF(OR(E25897=\"\",ISBLANK(E25897)),\"\",VLOOKUP(E25897,Sheet2!A:G,4,FALSE))","v":""},"",{"$f":"IF(OR(E25897=\"\",ISBLANK(E25897)),\"\",VLOOKUP(E25897,Sheet2!A:H,3,FALSE))","v":""},null,{"$f":"IF(OR(E25897=\"\",ISBLANK(E25897)),\"\",VLOOKUP(E25897,Sheet2!A:G,6,FALSE))","v":""},""]
[{"$f":"IF(OR(E25921=\"\",ISBLANK(E25921)),\"\",VLOOKUP(E25921,Sheet2!A:F,2,FALSE))","v":""},{"$f":"IF(OR(E25921=\"\",ISBLANK(E25921)),\"\",VLOOKUP(E25921,Sheet2!A:G,4,FALSE))","v":""},"",{"$f":"IF(OR(E25921=\"\",ISBLANK(E25921)),\"\",VLOOKUP(E25921,Sheet2!A:H,3,FALSE))","v":""},null,{"$f":"IF(OR(E25921=\"\",ISBLANK(E25921)),\"\",VLOOKUP(E25921,Sheet2!A:G,6,FALSE))","v":""},""]
[{"$f":"IF(OR(E25932=\"\",ISBLANK(E25932)),\"\",VLOOKUP(E25932,Sheet2!A:F,2,FALSE))","v":""},{"$f":"IF(OR(E25932=\"\",ISBLANK(E25932)),\"\",VLOOKUP(E25932,Sheet2!A:G,4,FALSE))","v":""},"",{"$f":"IF(OR(E25932=\"\",ISBLANK(E25932)),\"\",VLOOKUP(E25932,Sheet2!A:H,3,FALSE))","v":""},null,{"$f":"IF(OR(E25932=\"\",ISBLANK(E25932)),\"\",VLOOKUP(E25932,Sheet2!A:G,6,FALSE))","v":""},""]
[{"$f":"IF(OR(E25957=\"\",ISBLANK(E25957)),\"\",VLOOKUP(E25957,Sheet2!A:F,2,FALSE))","v":""},{"$f":"IF(OR(E25957=\"\",ISBLANK(E25957)),\"\",VLOOKUP(E25957,Sheet2!A:G,4,FALSE))","v":""},"",{"$f":"IF(OR(E25957=\"\",ISBLANK(E25957)),\"\",VLOOKUP(E25957,Sheet2!A:H,3,FALSE))","v":""},null,{"$f":"IF(OR(E25957=\"\",ISBLANK(E25957)),\"\",VLOOKUP(E25957,Sheet2!A:G,6,FALSE))","v":""},""]
[{"$f":"IF(OR(E25985=\"\",ISBLANK(E25985)),\"\",VLOOKUP(E25985,Sheet2!A:F,2,FALSE))","v":""},{"$f":"IF(OR(E25985=\"\",ISBLANK(E25985)),\"\",VLOOKUP(E25985,Sheet2!A:G,4,FALSE))","v":""},"",{"$f":"IF(OR(E25985=\"\",ISBLANK(E25985)),\"\",VLOOKUP(E25985,Sheet2!A:H,3,FALSE))","v":""},null,{"$f":"IF(OR(E25985=\"\",ISBLANK(E25985)),\"\",VLOOKUP(E25985,Sheet2!A:G,6,FALSE))","v":""},""]
[{"$f":"IF(OR(E26000=\"\",ISBLANK(E26000)),\"\",VLOOKUP(E26000,Sheet2!A:F,2,FALSE))","v":""},{"$f":"IF(OR(E26000=\"\",ISBLANK(E26000)),\"\",VLOOKUP(E26000,Sheet2!A:G,4,FALSE))","v":""},"",{"$f":"IF(OR(E26000=\"\",ISBLANK(E26000)),\"\",VLOOKUP(E26000,Sheet2!A:H,3,FALSE))","v":""},null,{"$f":"IF(OR(E26000=\"\",ISBLANK(E26000)),\"\",VLOOKUP(E26000,Sheet2!A:G,6,FALSE))","v":""},""]
[{"$f":"IF(OR(E26035=\"\",ISBLANK(E26035)),\"\",VLOOKUP(E26035,Sheet2!A:F,2,FALSE))","v":""},{"$f":"IF(OR(E26035=\"\",ISBLANK(E26035)),\"\",VLOOKUP(E26035,Sheet2!A:G,4,FALSE))","v":""},"",{"$f":"IF(OR(E26035=\"\",ISBLANK(E26035)),\"\",VLOOKUP(E26035,Sheet2!A:H,3,FALSE))","v":""},null,{"$f":"IF(OR(E26035=\"\",ISBLANK(E26035)),\"\",VLOOKUP(E26035,Sheet2!A:G,6,FALSE))","v":""},""]
[{"$f":"IF(OR(E26059=\"\",ISBLANK(E26059)),\"\",VLOOKUP(E26059,Sheet2!A:F,2,FALSE))","v":""},{"$f":"IF(OR(E26059=\"\",ISBLANK(E26059)),\"\",VLOOKUP(E26059,Sheet2!A:G,4,FALSE))","v":""},"",{"$f":"IF(OR(E26059=\"\",ISBLANK(E26059)),\"\",VLOOKUP(E26059,Sheet2!A:H,3,FALSE))","v":""},null,{"$f":"IF(OR(E26059=\"\",ISBLANK(E26059)),\"\",VLOOKUP(E26059,Sheet2!A:G,6,FALSE))","v":""},""]
[{"$f":"IF(OR(E26084=\"\",ISBLANK(E26084)),\"\",VLOOKUP(E26084,Sheet2!A:F,2,FALSE))","v":""},{"$f":"IF(OR(E26084=\"\",ISBLANK(E26084)),\"\",VLOOKUP(E26084,Sheet2!A:G,4,FALSE))","v":""},"",{"$f":"IF(OR(E26084=\"\",ISBLANK(E26084)),\"\",VLOOKUP(E26084,Sheet2!A:H,3,FALSE))","v":""},null,{"$f":"IF(OR(E26084=\"\",ISBLANK(E26084)),\"\",VLOOKUP(E26084,Sheet2!A:G,6,FALSE))","v":""},""]
[{"$f":"IF(OR(E26099=\"\",ISBLANK(E26099)),\"\",VLOOKUP(E26099,Sheet2!A:F,2,FALSE))","v":""},{"$f":"IF(OR(E26099=\"\",ISBLANK(E26099)),\"\",VLOOKUP(E26099,Sheet2!A:G,4,FALSE))","v":""},"",{"$f":"IF(OR(E26099=\"\",ISBLANK(E26099)),\"\",VLOOKUP(E26099,Sheet2!A:H,3,FALSE))","v":""},null,{"$f":"IF(OR(E26099=\"\",ISBLANK(E26099)),\"\",VLOOKUP(E26099,Sheet2!A:G,6,FALSE))","v":""},""]
[{"$f":"IF(OR(E26127=\"\",ISBLANK(E26127)),\"\",VLOOKUP(E26127,Sheet2!A:F,2,FALSE))","v":""},{"$f":"IF(OR(E26127=\"\",ISBLANK(E26127)),\"\",VLOOKUP(E26127,Sheet2!A:G,4,FALSE))","v":""},"",{"$f":"IF(OR(E26127=\"\",ISBLANK(E26127)),\"\",VLOOKUP(E26127,Sheet2!A:H,3,FALSE))","v":""},null,{"$f":"IF(OR(E26127=\"\",ISBLANK(E26127)),\"\",VLOOKUP(E26127,Sheet2!A:G,6,FALSE))","v":""},""]
[{"$f":"IF(OR(E26149=\"\",ISBLANK(E26149)),\"\",VLOOKUP(E26149,Sheet2!A:F,2,FALSE))","v":""},{"$f":"IF(OR(E26149=\"\",ISBLANK(E26149)),\"\",VLOOKUP(E26149,Sheet2!A:G,4,FALSE))","v":""},"",{"$f":"IF(OR(E26149=\"\",ISBLANK(E26149)),\"\",VLOOKUP(E26149,Sheet2!A:H,3,FALSE))","v":""},null,{"$f":"IF(OR(E26149=\"\",ISBLANK(E26149)),\"\",VLOOKUP(E26149,Sheet2!A:G,6,FALSE))","v":""},""]
[{"$f":"IF(OR(E26186=\"\",ISBLANK(E26186)),\"\",VLOOKUP(E26186,Sheet2!A:F,2,FALSE))","v":""},{"$f":"IF(OR(E26186=\"\",ISBLANK(E26186)),\"\",VLOOKUP(E26186,Sheet2!A:G,4,FALSE))","v":""},"",{"$f":"IF(OR(E26186=\"\",ISBLANK(E26186)),\"\",VLOOKUP(E26186,Sheet2!A:H,3,FALSE))","v":""},null,{"$f":"IF(OR(E26186=\"\",ISBLANK(E26186)),\"\",VLOOKUP(E26186,Sheet2!A:G,6,FALSE))","v":""},""]
[{"$f":"IF(OR(E26195=\"\",ISBLANK(E26195)),\"\",VLOOKUP(E26195,Sheet2!A:F,2,FALSE))","v":""},{"$f":"IF(OR(E26195=\"\",ISBLANK(E26195)),\"\",VLOOKUP(E26195,Sheet2!A:G,4,FALSE))","v":""},"",{"$f":"IF(OR(E26195=\"\",ISBLANK(E26195)),\"\",VLOOKUP(E26195,Sheet2!A:H,3,FALSE))","v":""},null,{"$f":"IF(OR(E26195=\"\",ISBLANK(E26195)),\"\",VLOOKUP(E26195,Sheet2!A:G,6,FALSE))","v":""},""]
[{"$f":"IF(OR(E26238=\"\",ISBLANK(E26238)),\"\",VLOOKUP(E26238,Sheet2!A:F,2,FALSE))","v":""},{"$f":"IF(OR(E26238=\"\",ISBLANK(E26238)),\"\",VLOOKUP(E26238,Sheet2!A:G,4,FALSE))","v":""},"",{"$f":"IF(OR(E26238=\"\",ISBLANK(E26238)),\"\",VLOOKUP(E26238,Sheet2!A:H,3,FALSE))","v":""},null,{"$f":"IF(OR(E26238=\"\",ISBLANK(E26238)),\"\",VLOOKUP(E26238,Sheet2!A:G,6,FALSE))","v":""},""]
[{"$f":"IF(OR(E26254=\"\",ISBLANK(E26254)),\"\",VLOOKUP(E26254,Sheet2!A:F,2,FALSE))","v":""},{"$f":"IF(OR(E26254=\"\",ISBLANK(E26254)),\"\",VLOOKUP(E26254,Sheet2!A:G,4,FALSE))","v":""},"",{"$f":"IF(OR(E26254=\"\",ISBLANK(E26254)),\"\",VLOOKUP(E26254,Sheet2!A:H,3,FALSE))","v":""},null,{"$f":"IF(OR(E26254=\"\",ISBLANK(E26254)),\"\",VLOOKUP(E26254,Sheet2!A:G,6,FALSE))","v":""},""]
[{"$f":"IF(OR(E26279=\"\",ISBLANK(E26279)),\"\",VLOOKUP(E26279,Sheet2!A:F,2,FALSE))","v":""},{"$f":"IF(OR(E26279=\"\",ISBLANK(E26279)),\"\",VLOOKUP(E26279,Sheet2!A:G,4,FALSE))","v":""},"",{"$f":"IF(OR(E26279=\"\",ISBLANK(E26279)),\"\",VLOOKUP(E26279,Sheet2!A:H,3,FALSE))","v":""},null,{"$f":"IF(OR(E26279=\"\",ISBLANK(E26279)),\"\",VLOOKUP(E26279,Sheet2!A:G,6,FALSE))","v":""},""]
[{"$f":"IF(OR(E26302=\"\",ISBLANK(E26302)),\"\",VLOOKUP(E26302,Sheet2!A:F,2,FALSE))","v":""},{"$f":"IF(OR(E26302=\"\",ISBLANK(E26302)),\"\",VLOOKUP(E26302,Sheet2!A:G,4,FALSE))","v":""},"",{"$f":"IF(OR(E26302=\"\",ISBLANK(E26302)),\"\",VLOOKUP(E26302,Sheet2!A:H,3,FALSE))","v":""},null,{"$f":"IF(OR(E26302=\"\",ISBLANK(E26302)),\"\",VLOOKUP(E26302,Sheet2!A:G,6,FALSE))","v":""},""]
[{"$f":"IF(OR(E26322=\"\",ISBLANK(E26322)),\"\",VLOOKUP(E26322,Sheet2!A:F,2,FALSE))","v":""},{"$f":"IF(OR(E26322=\"\",ISBLANK(E26322)),\"\",VLOOKUP(E26322,Sheet2!A:G,4,FALSE))","v":""},"",{"$f":"IF(OR(E26322=\"\",ISBLANK(E26322)),\"\",VLOOKUP(E26322,Sheet2!A:H,3,FALSE))","v":""},null,{"$f":"IF(OR(E26322=\"\",ISBLANK(E26322)),\"\",VLOOKUP(E26322,Sheet2!A:G,6,FALSE))","v":""},""]
[{"$f":"IF(OR(E26352=\"\",ISBLANK(E26352)),\"\",VLOOKUP(E26352,Sheet2!A:F,2,FALSE))","v":""},{"$f":"IF(OR(E26352=\"\",ISBLANK(E26352)),\"\",VLOOKUP(E26352,Sheet2!A:G,4,FALSE))","v":""},"",{"$f":"IF(OR(E26352=\"\",ISBLANK(E26352)),\"\",VLOOKUP(E26352,Sheet2!A:H,3,FALSE))","v":""},null,{"$f":"IF(OR(E26352=\"\",ISBLANK(E26352)),\"\",VLOOKUP(E26352,Sheet2!A:G,6,FALSE))","v":""},""]
[{"$f":"IF(OR(E26381=\"\",ISBLANK(E26381)),\"\",VLOOKUP(E26381,Sheet2!A:F,2,FALSE))","v":""},{"$f":"IF(OR(E26381=\"\",ISBLANK(E26381)),\"\",VLOOKUP(E26381,Sheet2!A:G,4,FALSE))","v":""},"",{"$f":"IF(OR(E26381=\"\",ISBLANK(E26381)),\"\",VLOOKUP(E26381,Sheet2!A:H,3,FALSE))","v":""},null,{"$f":"IF(OR(E26381=\"\",ISBLANK(E26381)),\"\",VLOOKUP(E26381,Sheet2!A:G,6,FALSE))","v":""},""]
[{"$f":"IF(OR(E26390=\"\",ISBLANK(E26390)),\"\",VLOOKUP(E26390,Sheet2!A:F,2,FALSE))","v":""},{"$f":"IF(OR(E26390=\"\",ISBLANK(E26390)),\"\",VLOOKUP(E26390,Sheet2!A:G,4,FALSE))","v":""},"",{"$f":"IF(OR(E26390=\"\",ISBLANK(E26390)),\"\",VLOOKUP(E26390,Sheet2!A:H,3,FALSE))","v":""},null,{"$f":"IF(OR(E26390=\"\",ISBLANK(E26390)),\"\",VLOOKUP(E26390,Sheet2!A:G,6,FALSE))","v":""},""]
[{"$f":"IF(OR(E26416=\"\",ISBLANK(E26416)),\"\",VLOOKUP(E26416,Sheet2!A:F,2,FALSE))","v":""},{"$f":"IF(OR(E26416=\"\",ISBLANK(E26416)),\"\",VLOOKUP(E26416,Sheet2!A:G,4,FALSE))","v":""},"",{"$f":"IF(OR(E26416=\"\",ISBLANK(E26416)),\"\",VLOOKUP(E26416,Sheet2!A:H,3,FALSE))","v":""},null,{"$f":"IF(OR(E26416=\"\",ISBLANK(E26416)),\"\",VLOOKUP(E26416,Sheet2!A:G,6,FALSE))","v":""},""]
[{"$f":"IF(OR(E26449=\"\",ISBLANK(E26449)),\"\",VLOOKUP(E26449,Sheet2!A:F,2,FALSE))","v":""},{"$f":"IF(OR(E26449=\"\",ISBLANK(E26449)),\"\",VLOOKUP(E26449,Sheet2!A:G,4,FALSE))","v":""},"",{"$f":"IF(OR(E26449=\"\",ISBLANK(E26449)),\"\",VLOOKUP(E26449,Sheet2!A:H,3,FALSE))","v":""},null,{"$f":"IF(OR(E26449=\"\",ISBLANK(E26449)),\"\",VLOOKUP(E26449,Sheet2!A:G,6,FALSE))","v":""},""]
[{"$f":"IF(OR(E26466=\"\",ISBLANK(E26466)),\"\",VLOOKUP(E26466,Sheet2!A:F,2,FALSE))","v":""},{"$f":"IF(OR(E26466=\"\",ISBLANK(E26466)),\"\",VLOOKUP(E26466,Sheet2!A:G,4,FALSE))","v":""},"",{"$f":"IF(OR(E26466=\"\",ISBLANK(E26466)),\"\",VLOOKUP(E26466,Sheet2!A:H,3,FALSE))","v":""},null,{"$f":"IF(OR(E26466=\"\",ISBLANK(E26466)),\"\",VLOOKUP(E26466,Sheet2!A:G,6,FALSE))","v":""},""]
[{"$f":"IF(OR(E26508=\"\",ISBLANK(E26508)),\"\",VLOOKUP(E26508,Sheet2!A:F,2,FALSE))","v":""},{"$f":"IF(OR(E26508=\"\",ISBLANK(E26508)),\"\",VLOOKUP(E26508,Sheet2!A:G,4,FALSE))","v":""},"",{"$f":"IF(OR(E26508=\"\",ISBLANK(E26508)),\"\",VLOOKUP(E26508,Sheet2!A:H,3,FALSE))","v":""},null,{"$f":"IF(OR(E26508=\"\",ISBLANK(E26508)),\"\",VLOOKUP(E26508,Sheet2!A:G,6,FALSE))","v":""},""]
[{"$f":"IF(OR(E26517=\"\",ISBLANK(E26517)),\"\",VLOOKUP(E26517,Sheet2!A:F,2,FALSE))","v":""},{"$f":"IF(OR(E26517=\"\",ISBLANK(E26517)),\"\",VLOOKUP(E26517,Sheet2!A:G,4,FALSE))","v":""},"",{"$f":"IF(OR(E26517=\"\",ISBLANK(E26517)),\"\",VLOOKUP(E26517,Sheet2!A:H,3,FALSE))","v":""},null,{"$f":"IF(OR(E26517=\"\",ISBLANK(E26517)),\"\",VLOOKUP(E26517,Sheet2!A:G,6,FALSE))","v":""},""]
[{"$f":"IF(OR(E26555=\"\",ISBLANK(E26555)),\"\",VLOOKUP(E26555,Sheet2!A:F,2,FALSE))","v":""},{"$f":"IF(OR(E26555=\"\",ISBLANK(E26555)),\"\",VLOOKUP(E26555,Sheet2!A:G,4,FALSE))","v":""},"",{"$f":"IF(OR(E26555=\"\",ISBLANK(E26555)),\"\",VLOOKUP(E26555,Sheet2!A:H,3,FALSE))","v":""},null,{"$f":"IF(OR(E26555=\"\",ISBLANK(E26555)),\"\",VLOOKUP(E26555,Sheet2!A:G,6,FALSE))","v":""},""]
[{"$f":"IF(OR(E26576=\"\",ISBLANK(E26576)),\"\",VLOOKUP(E26576,Sheet2!A:F,2,FALSE))","v":""},{"$f":"IF(OR(E26576=\"\",ISBLANK(E26576)),\"\",VLOOKUP(E26576,Sheet2!A:G,4,FALSE))","v":""},"",{"$f":"IF(OR(E26576=\"\",ISBLANK(E26576)),\"\",VLOOKUP(E26576,Sheet2!A:H,3,FALSE))","v":""},null,{"$f":"IF(OR(E26576=\"\",ISBLANK(E26576)),\"\",VLOOKUP(E26576,Sheet2!A:G,6,FALSE))","v":""},""]
[{"$f":"IF(OR(E26601=\"\",ISBLANK(E26601)),\"\",VLOOKUP(E26601,Sheet2!A:F,2,FALSE))","v":""},{"$f":"IF(OR(E26601=\"\",ISBLANK(E26601)),\"\",VLOOKUP(E26601,Sheet2!A:G,4,FALSE))","v":""},"",{"$f":"IF(OR(E26601=\"\",ISBLANK(E26601)),\"\",VLOOKUP(E26601,Sheet2!A:H,3,FALSE))","v":""},null,{"$f":"IF(OR(E26601=\"\",ISBLANK(E26601)),\"\",VLOOKUP(E26601,Sheet2!A:G,6,FALSE))","v":""},""]
[{"$f":"IF(OR(E26619=\"\",ISBLANK(E26619)),\"\",VLOOKUP(E26619,Sheet2!A:F,2,FALSE))","v":""},{"$f":"IF(OR(E26619=\"\",ISBLANK(E26619)),\"\",VLOOKUP(E26619,Sheet2!A:G,4,FALSE))","v":""},"",{"$f":"IF(OR(E26619=\"\",ISBLANK(E26619)),\"\",VLOOKUP(E26619,Sheet2!A:H,3,FALSE))","v":""},null,{"$f":"IF(OR(E26619=\"\",ISBLANK(E26619)),\"\",VLOOKUP(E26619,Sheet2!A:G,6,FALSE))","v":""},""]
[{"$f":"IF(OR(E26644=\"\",ISBLANK(E26644)),\"\",VLOOKUP(E26644,Sheet2!A:F,2,FALSE))","v":""},{"$f":"IF(OR(E26644=\"\",ISBLANK(E26644)),\"\",VLOOKUP(E26644,Sheet2!A:G,4,FALSE))","v":""},"",{"$f":"IF(OR(E26644=\"\",ISBLANK(E26644)),\"\",VLOOKUP(E26644,Sheet2!A:H,3,FALSE))","v":""},null,{"$f":"IF(OR(E26644=\"\",ISBLANK(E26644)),\"\",VLOOKUP(E26644,Sheet2!A:G,6,FALSE))","v":""},""]
[{"$f":"IF(OR(E26669=\"\",ISBLANK(E26669)),\"\",VLOOKUP(E26669,Sheet2!A:F,2,FALSE))","v":""},{"$f":"IF(OR(E26669=\"\",ISBLANK(E26669)),\"\",VLOOKUP(E26669,Sheet2!A:G,4,FALSE))","v":""},"",{"$f":"IF(OR(E26669=\"\",ISBLANK(E26669)),\"\",VLOOKUP(E26669,Sheet2!A:H,3,FALSE))","v":""},null,{"$f":"IF(OR(E26669=\"\",ISBLANK(E26669)),\"\",VLOOKUP(E26669,Sheet2!A:G,6,FALSE))","v":""},""]
[{"$f":"IF(OR(E26703=\"\",ISBLANK(E26703)),\"\",VLOOKUP(E26703,Sheet2!A:F,2,FALSE))","v":""},{"$f":"IF(OR(E26703=\"\",ISBLANK(E26703)),\"\",VLOOKUP(E26703,Sheet2!A:G,4,FALSE))","v":""},"",{"$f":"IF(OR(E26703=\"\",ISBLANK(E26703)),\"\",VLOOKUP(E26703,Sheet2!A:H,3,FALSE))","v":""},null,{"$f":"IF(OR(E26703=\"\",ISBLANK(E26703)),\"\",VLOOKUP(E26703,Sheet2!A:G,6,FALSE))","v":""},""]
[{"$f":"IF(OR(E26712=\"\",ISBLANK(E26712)),\"\",VLOOKUP(E26712,Sheet2!A:F,2,FALSE))","v":""},{"$f":"IF(OR(E26712=\"\",ISBLANK(E26712)),\"\",VLOOKUP(E26712,Sheet2!A:G,4,FALSE))","v":""},"",{"$f":"IF(OR(E26712=\"\",ISBLANK(E26712)),\"\",VLOOKUP(E26712,Sheet2!A:H,3,FALSE))","v":""},null,{"$f":"IF(OR(E26712=\"\",ISBLANK(E26712)),\"\",VLOOKUP(E26712,Sheet2!A:G,6,FALSE))","v":""},""]
[{"$f":"IF(OR(E26733=\"\",ISBLANK(E26733)),\"\",VLOOKUP(E26733,Sheet2!A:F,2,FALSE))","v":""},{"$f":"IF(OR(E26733=\"\",ISBLANK(E26733)),\"\",VLOOKUP(E26733,Sheet2!A:G,4,FALSE))","v":""},"",{"$f":"IF(OR(E26733=\"\",ISBLANK(E26733)),\"\",VLOOKUP(E26733,Sheet2!A:H,3,FALSE))","v":""},null,{"$f":"IF(OR(E26733=\"\",ISBLANK(E26733)),\"\",VLOOKUP(E26733,Sheet2!A:G,6,FALSE))","v":""},""]
[{"$f":"IF(OR(E26771=\"\",ISBLANK(E26771)),\"\",VLOOKUP(E26771,Sheet2!A:F,2,FALSE))","v":""},{"$f":"IF(OR(E26771=\"\",ISBLANK(E26771)),\"\",VLOOKUP(E26771,Sheet2!A:G,4,FALSE))","v":""},"",{"$f":"IF(OR(E26771=\"\",ISBLANK(E26771)),\"\",VLOOKUP(E26771,Sheet2!A:H,3,FALSE))","v":""},null,{"$f":"IF(OR(E26771=\"\",ISBLANK(E26771)),\"\",VLOOKUP(E26771,Sheet2!A:G,6,FALSE))","v":""},""]
[{"$f":"IF(OR(E26783=\"\",ISBLANK(E26783)),\"\",VLOOKUP(E26783,Sheet2!A:F,2,FALSE))","v":""},{"$f":"IF(OR(E26783=\"\",ISBLANK(E26783)),\"\",VLOOKUP(E26783,Sheet2!A:G,4,FALSE))","v":""},"",{"$f":"IF(OR(E26783=\"\",ISBLANK(E26783)),\"\",VLOOKUP(E26783,Sheet2!A:H,3,FALSE))","v":""},null,{"$f":"IF(OR(E26783=\"\",ISBLANK(E26783)),\"\",VLOOKUP(E26783,Sheet2!A:G,6,FALSE))","v":""},""]
[{"$f":"IF(OR(E26806=\"\",ISBLANK(E26806)),\"\",VLOOKUP(E26806,Sheet2!A:F,2,FALSE))","v":""},{"$f":"IF(OR(E26806=\"\",ISBLANK(E26806)),\"\",VLOOKUP(E26806,Sheet2!A:G,4,FALSE))","v":""},"",{"$f":"IF(OR(E26806=\"\",ISBLANK(E26806)),\"\",VLOOKUP(E26806,Sheet2!A:H,3,FALSE))","v":""},null,{"$f":"IF(OR(E26806=\"\",ISBLANK(E26806)),\"\",VLOOKUP(E26806,Sheet2!A:G,6,FALSE))","v":""},""]
[{"$f":"IF(OR(E26839=\"\",ISBLANK(E26839)),\"\",VLOOKUP(E26839,Sheet2!A:F,2,FALSE))","v":""},{"$f":"IF(OR(E26839=\"\",ISBLANK(E26839)),\"\",VLOOKUP(E26839,Sheet2!A:G,4,FALSE))","v":""},"",{"$f":"IF(OR(E26839=\"\",ISBLANK(E26839)),\"\",VLOOKUP(E26839,Sheet2!A:H,3,FALSE))","v":""},null,{"$f":"IF(OR(E26839=\"\",ISBLANK(E26839)),\"\",VLOOKUP(E26839,Sheet2!A:G,6,FALSE))","v":""},""]
[{"$f":"IF(OR(E26872=\"\",ISBLANK(E26872)),\"\",VLOOKUP(E26872,Sheet2!A:F,2,FALSE))","v":""},{"$f":"IF(OR(E26872=\"\",ISBLANK(E26872)),\"\",VLOOKUP(E26872,Sheet2!A:G,4,FALSE))","v":""},"",{"$f":"IF(OR(E26872=\"\",ISBLANK(E26872)),\"\",VLOOKUP(E26872,Sheet2!A:H,3,FALSE))","v":""},null,{"$f":"IF(OR(E26872=\"\",ISBLANK(E26872)),\"\",VLOOKUP(E26872,Sheet2!A:G,6,FALSE))","v":""},""]
[{"$f":"IF(OR(E26898=\"\",ISBLANK(E26898)),\"\",VLOOKUP(E26898,Sheet2!A:F,2,FALSE))","v":""},{"$f":"IF(OR(E26898=\"\",ISBLANK(E26898)),\"\",VLOOKUP(E26898,Sheet2!A:G,4,FALSE))","v":""},"",{"$f":"IF(OR(E26898=\"\",ISBLANK(E26898)),\"\",VLOOKUP(E26898,Sheet2!A:H,3,FALSE))","v":""},null,{"$f":"IF(OR(E26898=\"\",ISBLANK(E26898)),\"\",VLOOKUP(E26898,Sheet2!A:G,6,FALSE))","v":""},""]
[{"$f":"IF(OR(E26901=\"\",ISBLANK(E26901)),\"\",VLOOKUP(E26901,Sheet2!A:F,2,FALSE))","v":""},{"$f":"IF(OR(E26901=\"\",ISBLANK(E26901)),\"\",VLOOKUP(E26901,Sheet2!A:G,4,FALSE))","v":""},"",{"$f":"IF(OR(E26901=\"\",ISBLANK(E26901)),\"\",VLOOKUP(E26901,Sheet2!A:H,3,FALSE))","v":""},null,{"$f":"IF(OR(E26901=\"\",ISBLANK(E26901)),\"\",VLOOKUP(E26901,Sheet2!A:G,6,FALSE))","v":""},""]
[{"$f":"IF(OR(E26933=\"\",ISBLANK(E26933)),\"\",VLOOKUP(E26933,Sheet2!A:F,2,FALSE))","v":""},{"$f":"IF(OR(E26933=\"\",ISBLANK(E26933)),\"\",VLOOKUP(E26933,Sheet2!A:G,4,FALSE))","v":""},"",{"$f":"IF(OR(E26933=\"\",ISBLANK(E26933)),\"\",VLOOKUP(E26933,Sheet2!A:H,3,FALSE))","v":""},null,{"$f":"IF(OR(E26933=\"\",ISBLANK(E26933)),\"\",VLOOKUP(E26933,Sheet2!A:G,6,FALSE))","v":""},""]
[{"$f":"IF(OR(E26966=\"\",ISBLANK(E26966)),\"\",VLOOKUP(E26966,Sheet2!A:F,2,FALSE))","v":""},{"$f":"IF(OR(E26966=\"\",ISBLANK(E26966)),\"\",VLOOKUP(E26966,Sheet2!A:G,4,FALSE))","v":""},"",{"$f":"IF(OR(E26966=\"\",ISBLANK(E26966)),\"\",VLOOKUP(E26966,Sheet2!A:H,3,FALSE))","v":""},null,{"$f":"IF(OR(E26966=\"\",ISBLANK(E26966)),\"\",VLOOKUP(E26966,Sheet2!A:G,6,FALSE))","v":""},""]
[{"$f":"IF(OR(E26986=\"\",ISBLANK(E26986)),\"\",VLOOKUP(E26986,Sheet2!A:F,2,FALSE))","v":""},{"$f":"IF(OR(E26986=\"\",ISBLANK(E26986)),\"\",VLOOKUP(E26986,Sheet2!A:G,4,FALSE))","v":""},"",{"$f":"IF(OR(E26986=\"\",ISBLANK(E26986)),\"\",VLOOKUP(E26986,Sheet2!A:H,3,FALSE))","v":""},null,{"$f":"IF(OR(E26986=\"\",ISBLANK(E26986)),\"\",VLOOKUP(E26986,Sheet2!A:G,6,FALSE))","v":""},""]
[{"$f":"IF(OR(E27001=\"\",ISBLANK(E27001)),\"\",VLOOKUP(E27001,Sheet2!A:F,2,FALSE))","v":""},{"$f":"IF(OR(E27001=\"\",ISBLANK(E27001)),\"\",VLOOKUP(E27001,Sheet2!A:G,4,FALSE))","v":""},"",{"$f":"IF(OR(E27001=\"\",ISBLANK(E27001)),\"\",VLOOKUP(E27001,Sheet2!A:H,3,FALSE))","v":""},null,{"$f":"IF(OR(E27001=\"\",ISBLANK(E27001)),\"\",VLOOKUP(E27001,Sheet2!A:G,6,FALSE))","v":""},""]
[{"$f":"IF(OR(E27034=\"\",ISBLANK(E27034)),\"\",VLOOKUP(E27034,Sheet2!A:F,2,FALSE))","v":""},{"$f":"IF(OR(E27034=\"\",ISBLANK(E27034)),\"\",VLOOKUP(E27034,Sheet2!A:G,4,FALSE))","v":""},"",{"$f":"IF(OR(E27034=\"\",ISBLANK(E27034)),\"\",VLOOKUP(E27034,Sheet2!A:H,3,FALSE))","v":""},null,{"$f":"IF(OR(E27034=\"\",ISBLANK(E27034)),\"\",VLOOKUP(E27034,Sheet2!A:G,6,FALSE))","v":""},""]
[{"$f":"IF(OR(E27050=\"\",ISBLANK(E27050)),\"\",VLOOKUP(E27050,Sheet2!A:F,2,FALSE))","v":""},{"$f":"IF(OR(E27050=\"\",ISBLANK(E27050)),\"\",VLOOKUP(E27050,Sheet2!A:G,4,FALSE))","v":""},"",{"$f":"IF(OR(E27050=\"\",ISBLANK(E27050)),\"\",VLOOKUP(E27050,Sheet2!A:H,3,FALSE))","v":""},null,{"$f":"IF(OR(E27050=\"\",ISBLANK(E27050)),\"\",VLOOKUP(E27050,Sheet2!A:G,6,FALSE))","v":""},""]
[{"$f":"IF(OR(E27093=\"\",ISBLANK(E27093)),\"\",VLOOKUP(E27093,Sheet2!A:F,2,FALSE))","v":""},{"$f":"IF(OR(E27093=\"\",ISBLANK(E27093)),\"\",VLOOKUP(E27093,Sheet2!A:G,4,FALSE))","v":""},"",{"$f":"IF(OR(E27093=\"\",ISBLANK(E27093)),\"\",VLOOKUP(E27093,Sheet2!A:H,3,FALSE))","v":""},null,{"$f":"IF(OR(E27093=\"\",ISBLANK(E27093)),\"\",VLOOKUP(E27093,Sheet2!A:G,6,FALSE))","v":""},""]
[{"$f":"IF(OR(E27100=\"\",ISBLANK(E27100)),\"\",VLOOKUP(E27100,Sheet2!A:F,2,FALSE))","v":""},{"$f":"IF(OR(E27100=\"\",ISBLANK(E27100)),\"\",VLOOKUP(E27100,Sheet2!A:G,4,FALSE))","v":""},"",{"$f":"IF(OR(E27100=\"\",ISBLANK(E27100)),\"\",VLOOKUP(E27100,Sheet2!A:H,3,FALSE))","v":""},null,{"$f":"IF(OR(E27100=\"\",ISBLANK(E27100)),\"\",VLOOKUP(E27100,Sheet2!A:G,6,FALSE))","v":""},""]
[{"$f":"IF(OR(E27128=\"\",ISBLANK(E27128)),\"\",VLOOKUP(E27128,Sheet2!A:F,2,FALSE))","v":""},{"$f":"IF(OR(E27128=\"\",ISBLANK(E27128)),\"\",VLOOKUP(E27128,Sheet2!A:G,4,FALSE))","v":""},"",{"$f":"IF(OR(E27128=\"\",ISBLANK(E27128)),\"\",VLOOKUP(E27128,Sheet2!A:H,3,FALSE))","v":""},null,{"$f":"IF(OR(E27128=\"\",ISBLANK(E27128)),\"\",VLOOKUP(E27128,Sheet2!A:G,6,FALSE))","v":""},""]
[{"$f":"IF(OR(E27161=\"\",ISBLANK(E27161)),\"\",VLOOKUP(E27161,Sheet2!A:F,2,FALSE))","v":""},{"$f":"IF(OR(E27161=\"\",ISBLANK(E27161)),\"\",VLOOKUP(E27161,Sheet2!A:G,4,FALSE))","v":""},"",{"$f":"IF(OR(E27161=\"\",ISBLANK(E27161)),\"\",VLOOKUP(E27161,Sheet2!A:H,3,FALSE))","v":""},null,{"$f":"IF(OR(E27161=\"\",ISBLANK(E27161)),\"\",VLOOKUP(E27161,Sheet2!A:G,6,FALSE))","v":""},""]
[{"$f":"IF(OR(E27189=\"\",ISBLANK(E27189)),\"\",VLOOKUP(E27189,Sheet2!A:F,2,FALSE))","v":""},{"$f":"IF(OR(E27189=\"\",ISBLANK(E27189)),\"\",VLOOKUP(E27189,Sheet2!A:G,4,FALSE))","v":""},"",{"$f":"IF(OR(E27189=\"\",ISBLANK(E27189)),\"\",VLOOKUP(E27189,Sheet2!A:H,3,FALSE))","v":""},null,{"$f":"IF(OR(E27189=\"\",ISBLANK(E27189)),\"\",VLOOKUP(E27189,Sheet2!A:G,6,FALSE))","v":""},""]
[{"$f":"IF(OR(E27196=\"\",ISBLANK(E27196)),\"\",VLOOKUP(E27196,Sheet2!A:F,2,FALSE))","v":""},{"$f":"IF(OR(E27196=\"\",ISBLANK(E27196)),\"\",VLOOKUP(E27196,Sheet2!A:G,4,FALSE))","v":""},"",{"$f":"IF(OR(E27196=\"\",ISBLANK(E27196)),\"\",VLOOKUP(E27196,Sheet2!A:H,3,FALSE))","v":""},null,{"$f":"IF(OR(E27196=\"\",ISBLANK(E27196)),\"\",VLOOKUP(E27196,Sheet2!A:G,6,FALSE))","v":""},""]
[{"$f":"IF(OR(E27218=\"\",ISBLANK(E27218)),\"\",VLOOKUP(E27218,Sheet2!A:F,2,FALSE))","v":""},{"$f":"IF(OR(E27218=\"\",ISBLANK(E27218)),\"\",VLOOKUP(E27218,Sheet2!A:G,4,FALSE))","v":""},"",{"$f":"IF(OR(E27218=\"\",ISBLANK(E27218)),\"\",VLOOKUP(E27218,Sheet2!A:H,3,FALSE))","v":""},null,{"$f":"IF(OR(E27218=\"\",ISBLANK(E27218)),\"\",VLOOKUP(E27218,Sheet2!A:G,6,FALSE))","v":""},""]
[{"$f":"IF(OR(E27255=\"\",ISBLANK(E27255)),\"\",VLOOKUP(E27255,Sheet2!A:F,2,FALSE))","v":""},{"$f":"IF(OR(E27255=\"\",ISBLANK(E27255)),\"\",VLOOKUP(E27255,Sheet2!A:G,4,FALSE))","v":""},"",{"$f":"IF(OR(E27255=\"\",ISBLANK(E27255)),\"\",VLOOKUP(E27255,Sheet2!A:H,3,FALSE))","v":""},null,{"$f":"IF(OR(E27255=\"\",ISBLANK(E27255)),\"\",VLOOKUP(E27255,Sheet2!A:G,6,FALSE))","v":""},""]
[{"$f":"IF(OR(E27288=\"\",ISBLANK(E27288)),\"\",VLOOKUP(E27288,Sheet2!A:F,2,FALSE))","v":""},{"$f":"IF(OR(E27288=\"\",ISBLANK(E27288)),\"\",VLOOKUP(E27288,Sheet2!A:G,4,FALSE))","v":""},"",{"$f":"IF(OR(E27288=\"\",ISBLANK(E27288)),\"\",VLOOKUP(E27288,Sheet2!A:H,3,FALSE))","v":""},null,{"$f":"IF(OR(E27288=\"\",ISBLANK(E27288)),\"\",VLOOKUP(E27288,Sheet2!A:G,6,FALSE))","v":""},""]
[{"$f":"IF(OR(E27303=\"\",ISBLANK(E27303)),\"\",VLOOKUP(E27303,Sheet2!A:F,2,FALSE))","v":""},{"$f":"IF(OR(E27303=\"\",ISBLANK(E27303)),\"\",VLOOKUP(E27303,Sheet2!A:G,4,FALSE))","v":""},"",{"$f":"IF(OR(E27303=\"\",ISBLANK(E27303)),\"\",VLOOKUP(E27303,Sheet2!A:H,3,FALSE))","v":""},null,{"$f":"IF(OR(E27303=\"\",ISBLANK(E27303)),\"\",VLOOKUP(E27303,Sheet2!A:G,6,FALSE))","v":""},""]
[{"$f":"IF(OR(E27323=\"\",ISBLANK(E27323)),\"\",VLOOKUP(E27323,Sheet2!A:F,2,FALSE))","v":""},{"$f":"IF(OR(E27323=\"\",ISBLANK(E27323)),\"\",VLOOKUP(E27323,Sheet2!A:G,4,FALSE))","v":""},"",{"$f":"IF(OR(E27323=\"\",ISBLANK(E27323)),\"\",VLOOKUP(E27323,Sheet2!A:H,3,FALSE))","v":""},null,{"$f":"IF(OR(E27323=\"\",ISBLANK(E27323)),\"\",VLOOKUP(E27323,Sheet2!A:G,6,FALSE))","v":""},""]
[{"$f":"IF(OR(E27357=\"\",ISBLANK(E27357)),\"\",VLOOKUP(E27357,Sheet2!A:F,2,FALSE))","v":""},{"$f":"IF(OR(E27357=\"\",ISBLANK(E27357)),\"\",VLOOKUP(E27357,Sheet2!A:G,4,FALSE))","v":""},"",{"$f":"IF(OR(E27357=\"\",ISBLANK(E27357)),\"\",VLOOKUP(E27357,Sheet2!A:H,3,FALSE))","v":""},null,{"$f":"IF(OR(E27357=\"\",ISBLANK(E27357)),\"\",VLOOKUP(E27357,Sheet2!A:G,6,FALSE))","v":""},""]
[{"$f":"IF(OR(E27382=\"\",ISBLANK(E27382)),\"\",VLOOKUP(E27382,Sheet2!A:F,2,FALSE))","v":""},{"$f":"IF(OR(E27382=\"\",ISBLANK(E27382)),\"\",VLOOKUP(E27382,Sheet2!A:G,4,FALSE))","v":""},"",{"$f":"IF(OR(E27382=\"\",ISBLANK(E27382)),\"\",VLOOKUP(E27382,Sheet2!A:H,3,FALSE))","v":""},null,{"$f":"IF(OR(E27382=\"\",ISBLANK(E27382)),\"\",VLOOKUP(E27382,Sheet2!A:G,6,FALSE))","v":""},""]
[{"$f":"IF(OR(E27391=\"\",ISBLANK(E27391)),\"\",VLOOKUP(E27391,Sheet2!A:F,2,FALSE))","v":""},{"$f":"IF(OR(E27391=\"\",ISBLANK(E27391)),\"\",VLOOKUP(E27391,Sheet2!A:G,4,FALSE))","v":""},"",{"$f":"IF(OR(E27391=\"\",ISBLANK(E27391)),\"\",VLOOKUP(E27391,Sheet2!A:H,3,FALSE))","v":""},null,{"$f":"IF(OR(E27391=\"\",ISBLANK(E27391)),\"\",VLOOKUP(E27391,Sheet2!A:G,6,FALSE))","v":""},""]
[{"$f":"IF(OR(E27417=\"\",ISBLANK(E27417)),\"\",VLOOKUP(E27417,Sheet2!A:F,2,FALSE))","v":""},{"$f":"IF(OR(E27417=\"\",ISBLANK(E27417)),\"\",VLOOKUP(E27417,Sheet2!A:G,4,FALSE))","v":""},"",{"$f":"IF(OR(E27417=\"\",ISBLANK(E27417)),\"\",VLOOKUP(E27417,Sheet2!A:H,3,FALSE))","v":""},null,{"$f":"IF(OR(E27417=\"\",ISBLANK(E27417)),\"\",VLOOKUP(E27417,Sheet2!A:G,6,FALSE))","v":""},""]
[{"$f":"IF(OR(E27450=\"\",ISBLANK(E27450)),\"\",VLOOKUP(E27450,Sheet2!A:F,2,FALSE))","v":""},{"$f":"IF(OR(E27450=\"\",ISBLANK(E27450)),\"\",VLOOKUP(E27450,Sheet2!A:G,4,FALSE))","v":""},"",{"$f":"IF(OR(E27450=\"\",ISBLANK(E27450)),\"\",VLOOKUP(E27450,Sheet2!A:H,3,FALSE))","v":""},null,{"$f":"IF(OR(E27450=\"\",ISBLANK(E27450)),\"\",VLOOKUP(E27450,Sheet2!A:G,6,FALSE))","v":""},""]
[{"$f":"IF(OR(E27483=\"\",ISBLANK(E27483)),\"\",VLOOKUP(E27483,Sheet2!A:F,2,FALSE))","v":""},{"$f":"IF(OR(E27483=\"\",ISBLANK(E27483)),\"\",VLOOKUP(E27483,Sheet2!A:G,4,FALSE))","v":""},"",{"$f":"IF(OR(E27483=\"\",ISBLANK(E27483)),\"\",VLOOKUP(E27483,Sheet2!A:H,3,FALSE))","v":""},null,{"$f":"IF(OR(E27483=\"\",ISBLANK(E27483)),\"\",VLOOKUP(E27483,Sheet2!A:G,6,FALSE))","v":""},""]
[{"$f":"IF(OR(E27506=\"\",ISBLANK(E27506)),\"\",VLOOKUP(E27506,Sheet2!A:F,2,FALSE))","v":""},{"$f":"IF(OR(E27506=\"\",ISBLANK(E27506)),\"\",VLOOKUP(E27506,Sheet2!A:G,4,FALSE))","v":""},"",{"$f":"IF(OR(E27506=\"\",ISBLANK(E27506)),\"\",VLOOKUP(E27506,Sheet2!A:H,3,FALSE))","v":""},null,{"$f":"IF(OR(E27506=\"\",ISBLANK(E27506)),\"\",VLOOKUP(E27506,Sheet2!A:G,6,FALSE))","v":""},""]
[{"$f":"IF(OR(E27518=\"\",ISBLANK(E27518)),\"\",VLOOKUP(E27518,Sheet2!A:F,2,FALSE))","v":""},{"$f":"IF(OR(E27518=\"\",ISBLANK(E27518)),\"\",VLOOKUP(E27518,Sheet2!A:G,4,FALSE))","v":""},"",{"$f":"IF(OR(E27518=\"\",ISBLANK(E27518)),\"\",VLOOKUP(E27518,Sheet2!A:H,3,FALSE))","v":""},null,{"$f":"IF(OR(E27518=\"\",ISBLANK(E27518)),\"\",VLOOKUP(E27518,Sheet2!A:G,6,FALSE))","v":""},""]
[{"$f":"IF(OR(E27535=\"\",ISBLANK(E27535)),\"\",VLOOKUP(E27535,Sheet2!A:F,2,FALSE))","v":""},{"$f":"IF(OR(E27535=\"\",ISBLANK(E27535)),\"\",VLOOKUP(E27535,Sheet2!A:G,4,FALSE))","v":""},"",{"$f":"IF(OR(E27535=\"\",ISBLANK(E27535)),\"\",VLOOKUP(E27535,Sheet2!A:H,3,FALSE))","v":""},null,{"$f":"IF(OR(E27535=\"\",ISBLANK(E27535)),\"\",VLOOKUP(E27535,Sheet2!A:G,6,FALSE))","v":""},""]
[{"$f":"IF(OR(E27577=\"\",ISBLANK(E27577)),\"\",VLOOKUP(E27577,Sheet2!A:F,2,FALSE))","v":""},{"$f":"IF(OR(E27577=\"\",ISBLANK(E27577)),\"\",VLOOKUP(E27577,Sheet2!A:G,4,FALSE))","v":""},"",{"$f":"IF(OR(E27577=\"\",ISBLANK(E27577)),\"\",VLOOKUP(E27577,Sheet2!A:H,3,FALSE))","v":""},null,{"$f":"IF(OR(E27577=\"\",ISBLANK(E27577)),\"\",VLOOKUP(E27577,Sheet2!A:G,6,FALSE))","v":""},""]
[{"$f":"IF(OR(E27586=\"\",ISBLANK(E27586)),\"\",VLOOKUP(E27586,Sheet2!A:F,2,FALSE))","v":""},{"$f":"IF(OR(E27586=\"\",ISBLANK(E27586)),\"\",VLOOKUP(E27586,Sheet2!A:G,4,FALSE))","v":""},"",{"$f":"IF(OR(E27586=\"\",ISBLANK(E27586)),\"\",VLOOKUP(E27586,Sheet2!A:H,3,FALSE))","v":""},null,{"$f":"IF(OR(E27586=\"\",ISBLANK(E27586)),\"\",VLOOKUP(E27586,Sheet2!A:G,6,FALSE))","v":""},""]
[{"$f":"IF(OR(E27620=\"\",ISBLANK(E27620)),\"\",VLOOKUP(E27620,Sheet2!A:F,2,FALSE))","v":""},{"$f":"IF(OR(E27620=\"\",ISBLANK(E27620)),\"\",VLOOKUP(E27620,Sheet2!A:G,4,FALSE))","v":""},"",{"$f":"IF(OR(E27620=\"\",ISBLANK(E27620)),\"\",VLOOKUP(E27620,Sheet2!A:H,3,FALSE))","v":""},null,{"$f":"IF(OR(E27620=\"\",ISBLANK(E27620)),\"\",VLOOKUP(E27620,Sheet2!A:G,6,FALSE))","v":""},""]
[{"$f":"IF(OR(E27645=\"\",ISBLANK(E27645)),\"\",VLOOKUP(E27645,Sheet2!A:F,2,FALSE))","v":""},{"$f":"IF(OR(E27645=\"\",ISBLANK(E27645)),\"\",VLOOKUP(E27645,Sheet2!A:G,4,FALSE))","v":""},"",{"$f":"IF(OR(E27645=\"\",ISBLANK(E27645)),\"\",VLOOKUP(E27645,Sheet2!A:H,3,FALSE))","v":""},null,{"$f":"IF(OR(E27645=\"\",ISBLANK(E27645)),\"\",VLOOKUP(E27645,Sheet2!A:G,6,FALSE))","v":""},""]
[{"$f":"IF(OR(E27674=\"\",ISBLANK(E27674)),\"\",VLOOKUP(E27674,Sheet2!A:F,2,FALSE))","v":""},{"$f":"IF(OR(E27674=\"\",ISBLANK(E27674)),\"\",VLOOKUP(E27674,Sheet2!A:G,4,FALSE))","v":""},"",{"$f":"IF(OR(E27674=\"\",ISBLANK(E27674)),\"\",VLOOKUP(E27674,Sheet2!A:H,3,FALSE))","v":""},null,{"$f":"IF(OR(E27674=\"\",ISBLANK(E27674)),\"\",VLOOKUP(E27674,Sheet2!A:G,6,FALSE))","v":""},""]
[{"$f":"IF(OR(E27704=\"\",ISBLANK(E27704)),\"\",VLOOKUP(E27704,Sheet2!A:F,2,FALSE))","v":""},{"$f":"IF(OR(E27704=\"\",ISBLANK(E27704)),\"\",VLOOKUP(E27704,Sheet2!A:G,4,FALSE))","v":""},"",{"$f":"IF(OR(E27704=\"\",ISBLANK(E27704)),\"\",VLOOKUP(E27704,Sheet2!A:H,3,FALSE))","v":""},null,{"$f":"IF(OR(E27704=\"\",ISBLANK(E27704)),\"\",VLOOKUP(E27704,Sheet2!A:G,6,FALSE))","v":""},""]
[{"$f":"IF(OR(E27713=\"\",ISBLANK(E27713)),\"\",VLOOKUP(E27713,Sheet2!A:F,2,FALSE))","v":""},{"$f":"IF(OR(E27713=\"\",ISBLANK(E27713)),\"\",VLOOKUP(E27713,Sheet2!A:G,4,FALSE))","v":""},"",{"$f":"IF(OR(E27713=\"\",ISBLANK(E27713)),\"\",VLOOKUP(E27713,Sheet2!A:H,3,FALSE))","v":""},null,{"$f":"IF(OR(E27713=\"\",ISBLANK(E27713)),\"\",VLOOKUP(E27713,Sheet2!A:G,6,FALSE))","v":""},""]
[{"$f":"IF(OR(E27738=\"\",ISBLANK(E27738)),\"\",VLOOKUP(E27738,Sheet2!A:F,2,FALSE))","v":""},{"$f":"IF(OR(E27738=\"\",ISBLANK(E27738)),\"\",VLOOKUP(E27738,Sheet2!A:G,4,FALSE))","v":""},"",{"$f":"IF(OR(E27738=\"\",ISBLANK(E27738)),\"\",VLOOKUP(E27738,Sheet2!A:H,3,FALSE))","v":""},null,{"$f":"IF(OR(E27738=\"\",ISBLANK(E27738)),\"\",VLOOKUP(E27738,Sheet2!A:G,6,FALSE))","v":""},""]
[{"$f":"IF(OR(E27772=\"\",ISBLANK(E27772)),\"\",VLOOKUP(E27772,Sheet2!A:F,2,FALSE))","v":""},{"$f":"IF(OR(E27772=\"\",ISBLANK(E27772)),\"\",VLOOKUP(E27772,Sheet2!A:G,4,FALSE))","v":""},"",{"$f":"IF(OR(E27772=\"\",ISBLANK(E27772)),\"\",VLOOKUP(E27772,Sheet2!A:H,3,FALSE))","v":""},null,{"$f":"IF(OR(E27772=\"\",ISBLANK(E27772)),\"\",VLOOKUP(E27772,Sheet2!A:G,6,FALSE))","v":""},""]
[{"$f":"IF(OR(E27788=\"\",ISBLANK(E27788)),\"\",VLOOKUP(E27788,Sheet2!A:F,2,FALSE))","v":""},{"$f":"IF(OR(E27788=\"\",ISBLANK(E27788)),\"\",VLOOKUP(E27788,Sheet2!A:G,4,FALSE))","v":""},"",{"$f":"IF(OR(E27788=\"\",ISBLANK(E27788)),\"\",VLOOKUP(E27788,Sheet2!A:H,3,FALSE))","v":""},null,{"$f":"IF(OR(E27788=\"\",ISBLANK(E27788)),\"\",VLOOKUP(E27788,Sheet2!A:G,6,FALSE))","v":""},""]
[{"$f":"IF(OR(E27807=\"\",ISBLANK(E27807)),\"\",VLOOKUP(E27807,Sheet2!A:F,2,FALSE))","v":""},{"$f":"IF(OR(E27807=\"\",ISBLANK(E27807)),\"\",VLOOKUP(E27807,Sheet2!A:G,4,FALSE))","v":""},"",{"$f":"IF(OR(E27807=\"\",ISBLANK(E27807)),\"\",VLOOKUP(E27807,Sheet2!A:H,3,FALSE))","v":""},null,{"$f":"IF(OR(E27807=\"\",ISBLANK(E27807)),\"\",VLOOKUP(E27807,Sheet2!A:G,6,FALSE))","v":""},""]
[{"$f":"IF(OR(E27840=\"\",ISBLANK(E27840)),\"\",VLOOKUP(E27840,Sheet2!A:F,2,FALSE))","v":""},{"$f":"IF(OR(E27840=\"\",ISBLANK(E27840)),\"\",VLOOKUP(E27840,Sheet2!A:G,4,FALSE))","v":""},"",{"$f":"IF(OR(E27840=\"\",ISBLANK(E27840)),\"\",VLOOKUP(E27840,Sheet2!A:H,3,FALSE))","v":""},null,{"$f":"IF(OR(E27840=\"\",ISBLANK(E27840)),\"\",VLOOKUP(E27840,Sheet2!A:G,6,FALSE))","v":""},""]
[{"$f":"IF(OR(E27852=\"\",ISBLANK(E27852)),\"\",VLOOKUP(E27852,Sheet2!A:F,2,FALSE))","v":""},{"$f":"IF(OR(E27852=\"\",ISBLANK(E27852)),\"\",VLOOKUP(E27852,Sheet2!A:G,4,FALSE))","v":""},"",{"$f":"IF(OR(E27852=\"\",ISBLANK(E27852)),\"\",VLOOKUP(E27852,Sheet2!A:H,3,FALSE))","v":""},null,{"$f":"IF(OR(E27852=\"\",ISBLANK(E27852)),\"\",VLOOKUP(E27852,Sheet2!A:G,6,FALSE))","v":""},""]
[{"$f":"IF(OR(E27899=\"\",ISBLANK(E27899)),\"\",VLOOKUP(E27899,Sheet2!A:F,2,FALSE))","v":""},{"$f":"IF(OR(E27899=\"\",ISBLANK(E27899)),\"\",VLOOKUP(E27899,Sheet2!A:G,4,FALSE))","v":""},"",{"$f":"IF(OR(E27899=\"\",ISBLANK(E27899)),\"\",VLOOKUP(E27899,Sheet2!A:H,3,FALSE))","v":""},null,{"$f":"IF(OR(E27899=\"\",ISBLANK(E27899)),\"\",VLOOKUP(E27899,Sheet2!A:G,6,FALSE))","v":""},""]
[{"$f":"IF(OR(E27908=\"\",ISBLANK(E27908)),\"\",VLOOKUP(E27908,Sheet2!A:F,2,FALSE))","v":""},{"$f":"IF(OR(E27908=\"\",ISBLANK(E27908)),\"\",VLOOKUP(E27908,Sheet2!A:G,4,FALSE))","v":""},"",{"$f":"IF(OR(E27908=\"\",ISBLANK(E27908)),\"\",VLOOKUP(E27908,Sheet2!A:H,3,FALSE))","v":""},null,{"$f":"IF(OR(E27908=\"\",ISBLANK(E27908)),\"\",VLOOKUP(E27908,Sheet2!A:G,6,FALSE))","v":""},""]
[{"$f":"IF(OR(E27937=\"\",ISBLANK(E27937)),\"\",VLOOKUP(E27937,Sheet2!A:F,2,FALSE))","v":""},{"$f":"IF(OR(E27937=\"\",ISBLANK(E27937)),\"\",VLOOKUP(E27937,Sheet2!A:G,4,FALSE))","v":""},"",{"$f":"IF(OR(E27937=\"\",ISBLANK(E27937)),\"\",VLOOKUP(E27937,Sheet2!A:H,3,FALSE))","v":""},null,{"$f":"IF(OR(E27937=\"\",ISBLANK(E27937)),\"\",VLOOKUP(E27937,Sheet2!A:G,6,FALSE))","v":""},""]
[{"$f":"IF(OR(E27967=\"\",ISBLANK(E27967)),\"\",VLOOKUP(E27967,Sheet2!A:F,2,FALSE))","v":""},{"$f":"IF(OR(E27967=\"\",ISBLANK(E27967)),\"\",VLOOKUP(E27967,Sheet2!A:G,4,FALSE))","v":""},"",{"$f":"IF(OR(E27967=\"\",ISBLANK(E27967)),\"\",VLOOKUP(E27967,Sheet2!A:H,3,FALSE))","v":""},null,{"$f":"IF(OR(E27967=\"\",ISBLANK(E27967)),\"\",VLOOKUP(E27967,Sheet2!A:G,6,FALSE))","v":""},""]
[{"$f":"IF(OR(E27991=\"\",ISBLANK(E27991)),\"\",VLOOKUP(E27991,Sheet2!A:F,2,FALSE))","v":""},{"$f":"IF(OR(E27991=\"\",ISBLANK(E27991)),\"\",VLOOKUP(E27991,Sheet2!A:G,4,FALSE))","v":""},"",{"$f":"IF(OR(E27991=\"\",ISBLANK(E27991)),\"\",VLOOKUP(E27991,Sheet2!A:H,3,FALSE))","v":""},null,{"$f":"IF(OR(E27991=\"\",ISBLANK(E27991)),\"\",VLOOKUP(E27991,Sheet2!A:G,6,FALSE))","v":""},""]
[{"$f":"IF(OR(E28002=\"\",ISBLANK(E28002)),\"\",VLOOKUP(E28002,Sheet2!A:F,2,FALSE))","v":""},{"$f":"IF(OR(E28002=\"\",ISBLANK(E28002)),\"\",VLOOKUP(E28002,Sheet2!A:G,4,FALSE))","v":""},"",{"$f":"IF(OR(E28002=\"\",ISBLANK(E28002)),\"\",VLOOKUP(E28002,Sheet2!A:H,3,FALSE))","v":""},null,{"$f":"IF(OR(E28002=\"\",ISBLANK(E28002)),\"\",VLOOKUP(E28002,Sheet2!A:G,6,FALSE))","v":""},""]
[{"$f":"IF(OR(E28035=\"\",ISBLANK(E28035)),\"\",VLOOKUP(E28035,Sheet2!A:F,2,FALSE))","v":""},{"$f":"IF(OR(E28035=\"\",ISBLANK(E28035)),\"\",VLOOKUP(E28035,Sheet2!A:G,4,FALSE))","v":""},{"$f":"IF(D28035=0,\"\",D28035)","v":""},{"$f":"IF(OR(E28035=\"\",ISBLANK(E28035)),\"\",VLOOKUP(E28035,Sheet2!A:H,3,FALSE))","v":""},null,{"$f":"IF(OR(E28035=\"\",ISBLANK(E28035)),\"\",VLOOKUP(E28035,Sheet2!A:G,6,FALSE))","v":""},{"$f":"IF(F28035=0,\"\",F28035)","v":""}]
[{"$f":"IF(OR(E28055=\"\",ISBLANK(E28055)),\"\",VLOOKUP(E28055,Sheet2!A:F,2,FALSE))","v":""},{"$f":"IF(OR(E28055=\"\",ISBLANK(E28055)),\"\",VLOOKUP(E28055,Sheet2!A:G,4,FALSE))","v":""},"",{"$f":"IF(OR(E28055=\"\",ISBLANK(E28055)),\"\",VLOOKUP(E28055,Sheet2!A:H,3,FALSE))","v":""},null,{"$f":"IF(OR(E28055=\"\",ISBLANK(E28055)),\"\",VLOOKUP(E28055,Sheet2!A:G,6,FALSE))","v":""},""]
[{"$f":"IF(OR(E28094=\"\",ISBLANK(E28094)),\"\",VLOOKUP(E28094,Sheet2!A:F,2,FALSE))","v":""},{"$f":"IF(OR(E28094=\"\",ISBLANK(E28094)),\"\",VLOOKUP(E28094,Sheet2!A:G,4,FALSE))","v":""},"",{"$f":"IF(OR(E28094=\"\",ISBLANK(E28094)),\"\",VLOOKUP(E28094,Sheet2!A:H,3,FALSE))","v":""},null,{"$f":"IF(OR(E28094=\"\",ISBLANK(E28094)),\"\",VLOOKUP(E28094,Sheet2!A:G,6,FALSE))","v":""},""]
[{"$f":"IF(OR(E28105=\"\",ISBLANK(E28105)),\"\",VLOOKUP(E28105,Sheet2!A:F,2,FALSE))","v":""},{"$f":"IF(OR(E28105=\"\",ISBLANK(E28105)),\"\",VLOOKUP(E28105,Sheet2!A:G,4,FALSE))","v":""},"",{"$f":"IF(OR(E28105=\"\",ISBLANK(E28105)),\"\",VLOOKUP(E28105,Sheet2!A:H,3,FALSE))","v":""},null,{"$f":"IF(OR(E28105=\"\",ISBLANK(E28105)),\"\",VLOOKUP(E28105,Sheet2!A:G,6,FALSE))","v":""},""]
[{"$f":"IF(OR(E28129=\"\",ISBLANK(E28129)),\"\",VLOOKUP(E28129,Sheet2!A:F,2,FALSE))","v":""},{"$f":"IF(OR(E28129=\"\",ISBLANK(E28129)),\"\",VLOOKUP(E28129,Sheet2!A:G,4,FALSE))","v":""},"",{"$f":"IF(OR(E28129=\"\",ISBLANK(E28129)),\"\",VLOOKUP(E28129,Sheet2!A:H,3,FALSE))","v":""},null,{"$f":"IF(OR(E28129=\"\",ISBLANK(E28129)),\"\",VLOOKUP(E28129,Sheet2!A:G,6,FALSE))","v":""},""]
[{"$f":"IF(OR(E28162=\"\",ISBLANK(E28162)),\"\",VLOOKUP(E28162,Sheet2!A:F,2,FALSE))","v":""},{"$f":"IF(OR(E28162=\"\",ISBLANK(E28162)),\"\",VLOOKUP(E28162,Sheet2!A:G,4,FALSE))","v":""},"",{"$f":"IF(OR(E28162=\"\",ISBLANK(E28162)),\"\",VLOOKUP(E28162,Sheet2!A:H,3,FALSE))","v":""},null,{"$f":"IF(OR(E28162=\"\",ISBLANK(E28162)),\"\",VLOOKUP(E28162,Sheet2!A:G,6,FALSE))","v":""},""]
[{"$f":"IF(OR(E28169=\"\",ISBLANK(E28169)),\"\",VLOOKUP(E28169,Sheet2!A:F,2,FALSE))","v":""},{"$f":"IF(OR(E28169=\"\",ISBLANK(E28169)),\"\",VLOOKUP(E28169,Sheet2!A:G,4,FALSE))","v":""},"",{"$f":"IF(OR(E28169=\"\",ISBLANK(E28169)),\"\",VLOOKUP(E28169,Sheet2!A:H,3,FALSE))","v":""},null,{"$f":"IF(OR(E28169=\"\",ISBLANK(E28169)),\"\",VLOOKUP(E28169,Sheet2!A:G,6,FALSE))","v":""},""]
[{"$f":"IF(OR(E28197=\"\",ISBLANK(E28197)),\"\",VLOOKUP(E28197,Sheet2!A:F,2,FALSE))","v":""},{"$f":"IF(OR(E28197=\"\",ISBLANK(E28197)),\"\",VLOOKUP(E28197,Sheet2!A:G,4,FALSE))","v":""},"",{"$f":"IF(OR(E28197=\"\",ISBLANK(E28197)),\"\",VLOOKUP(E28197,Sheet2!A:H,3,FALSE))","v":""},null,{"$f":"IF(OR(E28197=\"\",ISBLANK(E28197)),\"\",VLOOKUP(E28197,Sheet2!A:G,6,FALSE))","v":""},""]
[{"$f":"IF(OR(E28219=\"\",ISBLANK(E28219)),\"\",VLOOKUP(E28219,Sheet2!A:F,2,FALSE))","v":""},{"$f":"IF(OR(E28219=\"\",ISBLANK(E28219)),\"\",VLOOKUP(E28219,Sheet2!A:G,4,FALSE))","v":""},"",{"$f":"IF(OR(E28219=\"\",ISBLANK(E28219)),\"\",VLOOKUP(E28219,Sheet2!A:H,3,FALSE))","v":""},null,{"$f":"IF(OR(E28219=\"\",ISBLANK(E28219)),\"\",VLOOKUP(E28219,Sheet2!A:G,6,FALSE))","v":""},""]
[{"$f":"IF(OR(E28264=\"\",ISBLANK(E28264)),\"\",VLOOKUP(E28264,Sheet2!A:F,2,FALSE))","v":""},{"$f":"IF(OR(E28264=\"\",ISBLANK(E28264)),\"\",VLOOKUP(E28264,Sheet2!A:G,4,FALSE))","v":""},"",{"$f":"IF(OR(E28264=\"\",ISBLANK(E28264)),\"\",VLOOKUP(E28264,Sheet2!A:H,3,FALSE))","v":""},null,{"$f":"IF(OR(E28264=\"\",ISBLANK(E28264)),\"\",VLOOKUP(E28264,Sheet2!A:G,6,FALSE))","v":""},""]
[{"$f":"IF(OR(E28289=\"\",ISBLANK(E28289)),\"\",VLOOKUP(E28289,Sheet2!A:F,2,FALSE))","v":""},{"$f":"IF(OR(E28289=\"\",ISBLANK(E28289)),\"\",VLOOKUP(E28289,Sheet2!A:G,4,FALSE))","v":""},"",{"$f":"IF(OR(E28289=\"\",ISBLANK(E28289)),\"\",VLOOKUP(E28289,Sheet2!A:H,3,FALSE))","v":""},null,{"$f":"IF(OR(E28289=\"\",ISBLANK(E28289)),\"\",VLOOKUP(E28289,Sheet2!A:G,6,FALSE))","v":""},""]
[{"$f":"IF(OR(E28308=\"\",ISBLANK(E28308)),\"\",VLOOKUP(E28308,Sheet2!A:F,2,FALSE))","v":""},{"$f":"IF(OR(E28308=\"\",ISBLANK(E28308)),\"\",VLOOKUP(E28308,Sheet2!A:G,4,FALSE))","v":""},"",{"$f":"IF(OR(E28308=\"\",ISBLANK(E28308)),\"\",VLOOKUP(E28308,Sheet2!A:H,3,FALSE))","v":""},null,{"$f":"IF(OR(E28308=\"\",ISBLANK(E28308)),\"\",VLOOKUP(E28308,Sheet2!A:G,6,FALSE))","v":""},""]
[{"$f":"IF(OR(E28324=\"\",ISBLANK(E28324)),\"\",VLOOKUP(E28324,Sheet2!A:F,2,FALSE))","v":""},{"$f":"IF(OR(E28324=\"\",ISBLANK(E28324)),\"\",VLOOKUP(E28324,Sheet2!A:G,4,FALSE))","v":""},"",{"$f":"IF(OR(E28324=\"\",ISBLANK(E28324)),\"\",VLOOKUP(E28324,Sheet2!A:H,3,FALSE))","v":""},null,{"$f":"IF(OR(E28324=\"\",ISBLANK(E28324)),\"\",VLOOKUP(E28324,Sheet2!A:G,6,FALSE))","v":""},""]
[{"$f":"IF(OR(E28357=\"\",ISBLANK(E28357)),\"\",VLOOKUP(E28357,Sheet2!A:F,2,FALSE))","v":""},{"$f":"IF(OR(E28357=\"\",ISBLANK(E28357)),\"\",VLOOKUP(E28357,Sheet2!A:G,4,FALSE))","v":""},"",{"$f":"IF(OR(E28357=\"\",ISBLANK(E28357)),\"\",VLOOKUP(E28357,Sheet2!A:H,3,FALSE))","v":""},null,{"$f":"IF(OR(E28357=\"\",ISBLANK(E28357)),\"\",VLOOKUP(E28357,Sheet2!A:G,6,FALSE))","v":""},""]
[{"$f":"IF(OR(E28372=\"\",ISBLANK(E28372)),\"\",VLOOKUP(E28372,Sheet2!A:F,2,FALSE))","v":""},{"$f":"IF(OR(E28372=\"\",ISBLANK(E28372)),\"\",VLOOKUP(E28372,Sheet2!A:G,4,FALSE))","v":""},"",{"$f":"IF(OR(E28372=\"\",ISBLANK(E28372)),\"\",VLOOKUP(E28372,Sheet2!A:H,3,FALSE))","v":""},null,{"$f":"IF(OR(E28372=\"\",ISBLANK(E28372)),\"\",VLOOKUP(E28372,Sheet2!A:G,6,FALSE))","v":""},""]
[{"$f":"IF(OR(E28392=\"\",ISBLANK(E28392)),\"\",VLOOKUP(E28392,Sheet2!A:F,2,FALSE))","v":""},{"$f":"IF(OR(E28392=\"\",ISBLANK(E28392)),\"\",VLOOKUP(E28392,Sheet2!A:G,4,FALSE))","v":""},"",{"$f":"IF(OR(E28392=\"\",ISBLANK(E28392)),\"\",VLOOKUP(E28392,Sheet2!A:H,3,FALSE))","v":""},null,{"$f":"IF(OR(E28392=\"\",ISBLANK(E28392)),\"\",VLOOKUP(E28392,Sheet2!A:G,6,FALSE))","v":""},""]
[{"$f":"IF(OR(E28422=\"\",ISBLANK(E28422)),\"\",VLOOKUP(E28422,Sheet2!A:F,2,FALSE))","v":""},{"$f":"IF(OR(E28422=\"\",ISBLANK(E28422)),\"\",VLOOKUP(E28422,Sheet2!A:G,4,FALSE))","v":""},"",{"$f":"IF(OR(E28422=\"\",ISBLANK(E28422)),\"\",VLOOKUP(E28422,Sheet2!A:H,3,FALSE))","v":""},null,{"$f":"IF(OR(E28422=\"\",ISBLANK(E28422)),\"\",VLOOKUP(E28422,Sheet2!A:G,6,FALSE))","v":""},""]
[{"$f":"IF(OR(E28451=\"\",ISBLANK(E28451)),\"\",VLOOKUP(E28451,Sheet2!A:F,2,FALSE))","v":""},{"$f":"IF(OR(E28451=\"\",ISBLANK(E28451)),\"\",VLOOKUP(E28451,Sheet2!A:G,4,FALSE))","v":""},"",{"$f":"IF(OR(E28451=\"\",ISBLANK(E28451)),\"\",VLOOKUP(E28451,Sheet2!A:H,3,FALSE))","v":""},null,{"$f":"IF(OR(E28451=\"\",ISBLANK(E28451)),\"\",VLOOKUP(E28451,Sheet2!A:G,6,FALSE))","v":""},""]
[{"$f":"IF(OR(E28484=\"\",ISBLANK(E28484)),\"\",VLOOKUP(E28484,Sheet2!A:F,2,FALSE))","v":""},{"$f":"IF(OR(E28484=\"\",ISBLANK(E28484)),\"\",VLOOKUP(E28484,Sheet2!A:G,4,FALSE))","v":""},"",{"$f":"IF(OR(E28484=\"\",ISBLANK(E28484)),\"\",VLOOKUP(E28484,Sheet2!A:H,3,FALSE))","v":""},null,{"$f":"IF(OR(E28484=\"\",ISBLANK(E28484)),\"\",VLOOKUP(E28484,Sheet2!A:G,6,FALSE))","v":""},""]
[{"$f":"IF(OR(E28486=\"\",ISBLANK(E28486)),\"\",VLOOKUP(E28486,Sheet2!A:F,2,FALSE))","v":""},{"$f":"IF(OR(E28486=\"\",ISBLANK(E28486)),\"\",VLOOKUP(E28486,Sheet2!A:G,4,FALSE))","v":""},"",{"$f":"IF(OR(E28486=\"\",ISBLANK(E28486)),\"\",VLOOKUP(E28486,Sheet2!A:H,3,FALSE))","v":""},null,{"$f":"IF(OR(E28486=\"\",ISBLANK(E28486)),\"\",VLOOKUP(E28486,Sheet2!A:G,6,FALSE))","v":""},""]
[{"$f":"IF(OR(E28519=\"\",ISBLANK(E28519)),\"\",VLOOKUP(E28519,Sheet2!A:F,2,FALSE))","v":""},{"$f":"IF(OR(E28519=\"\",ISBLANK(E28519)),\"\",VLOOKUP(E28519,Sheet2!A:G,4,FALSE))","v":""},"",{"$f":"IF(OR(E28519=\"\",ISBLANK(E28519)),\"\",VLOOKUP(E28519,Sheet2!A:H,3,FALSE))","v":""},null,{"$f":"IF(OR(E28519=\"\",ISBLANK(E28519)),\"\",VLOOKUP(E28519,Sheet2!A:G,6,FALSE))","v":""},""]
[{"$f":"IF(OR(E28536=\"\",ISBLANK(E28536)),\"\",VLOOKUP(E28536,Sheet2!A:F,2,FALSE))","v":""},{"$f":"IF(OR(E28536=\"\",ISBLANK(E28536)),\"\",VLOOKUP(E28536,Sheet2!A:G,4,FALSE))","v":""},"",{"$f":"IF(OR(E28536=\"\",ISBLANK(E28536)),\"\",VLOOKUP(E28536,Sheet2!A:H,3,FALSE))","v":""},null,{"$f":"IF(OR(E28536=\"\",ISBLANK(E28536)),\"\",VLOOKUP(E28536,Sheet2!A:G,6,FALSE))","v":""},""]
[{"$f":"IF(OR(E28562=\"\",ISBLANK(E28562)),\"\",VLOOKUP(E28562,Sheet2!A:F,2,FALSE))","v":""},{"$f":"IF(OR(E28562=\"\",ISBLANK(E28562)),\"\",VLOOKUP(E28562,Sheet2!A:G,4,FALSE))","v":""},"",{"$f":"IF(OR(E28562=\"\",ISBLANK(E28562)),\"\",VLOOKUP(E28562,Sheet2!A:H,3,FALSE))","v":""},null,{"$f":"IF(OR(E28562=\"\",ISBLANK(E28562)),\"\",VLOOKUP(E28562,Sheet2!A:G,6,FALSE))","v":""},""]
[{"$f":"IF(OR(E28587=\"\",ISBLANK(E28587)),\"\",VLOOKUP(E28587,Sheet2!A:F,2,FALSE))","v":""},{"$f":"IF(OR(E28587=\"\",ISBLANK(E28587)),\"\",VLOOKUP(E28587,Sheet2!A:G,4,FALSE))","v":""},"",{"$f":"IF(OR(E28587=\"\",ISBLANK(E28587)),\"\",VLOOKUP(E28587,Sheet2!A:H,3,FALSE))","v":""},null,{"$f":"IF(OR(E28587=\"\",ISBLANK(E28587)),\"\",VLOOKUP(E28587,Sheet2!A:G,6,FALSE))","v":""},""]
[{"$f":"IF(OR(E28625=\"\",ISBLANK(E28625)),\"\",VLOOKUP(E28625,Sheet2!A:F,2,FALSE))","v":""},{"$f":"IF(OR(E28625=\"\",ISBLANK(E28625)),\"\",VLOOKUP(E28625,Sheet2!A:G,4,FALSE))","v":""},"",{"$f":"IF(OR(E28625=\"\",ISBLANK(E28625)),\"\",VLOOKUP(E28625,Sheet2!A:H,3,FALSE))","v":""},null,{"$f":"IF(OR(E28625=\"\",ISBLANK(E28625)),\"\",VLOOKUP(E28625,Sheet2!A:G,6,FALSE))","v":""},""]
[{"$f":"IF(OR(E28646=\"\",ISBLANK(E28646)),\"\",VLOOKUP(E28646,Sheet2!A:F,2,FALSE))","v":""},{"$f":"IF(OR(E28646=\"\",ISBLANK(E28646)),\"\",VLOOKUP(E28646,Sheet2!A:G,4,FALSE))","v":""},"",{"$f":"IF(OR(E28646=\"\",ISBLANK(E28646)),\"\",VLOOKUP(E28646,Sheet2!A:H,3,FALSE))","v":""},null,{"$f":"IF(OR(E28646=\"\",ISBLANK(E28646)),\"\",VLOOKUP(E28646,Sheet2!A:G,6,FALSE))","v":""},""]
[{"$f":"IF(OR(E28675=\"\",ISBLANK(E28675)),\"\",VLOOKUP(E28675,Sheet2!A:F,2,FALSE))","v":""},{"$f":"IF(OR(E28675=\"\",ISBLANK(E28675)),\"\",VLOOKUP(E28675,Sheet2!A:G,4,FALSE))","v":""},{"$f":"IF(D28675=0,\"\",D28675)","v":""},{"$f":"IF(OR(E28675=\"\",ISBLANK(E28675)),\"\",VLOOKUP(E28675,Sheet2!A:H,3,FALSE))","v":""},null,{"$f":"IF(OR(E28675=\"\",ISBLANK(E28675)),\"\",VLOOKUP(E28675,Sheet2!A:G,6,FALSE))","v":""},{"$f":"IF(F28675=0,\"\",F28675)","v":""}]
[{"$f":"IF(OR(E28689=\"\",ISBLANK(E28689)),\"\",VLOOKUP(E28689,Sheet2!A:F,2,FALSE))","v":""},{"$f":"IF(OR(E28689=\"\",ISBLANK(E28689)),\"\",VLOOKUP(E28689,Sheet2!A:G,4,FALSE))","v":""},"",{"$f":"IF(OR(E28689=\"\",ISBLANK(E28689)),\"\",VLOOKUP(E28689,Sheet2!A:H,3,FALSE))","v":""},null,{"$f":"IF(OR(E28689=\"\",ISBLANK(E28689)),\"\",VLOOKUP(E28689,Sheet2!A:G,6,FALSE))","v":""},""]
[{"$f":"IF(OR(E28714=\"\",ISBLANK(E28714)),\"\",VLOOKUP(E28714,Sheet2!A:F,2,FALSE))","v":""},{"$f":"IF(OR(E28714=\"\",ISBLANK(E28714)),\"\",VLOOKUP(E28714,Sheet2!A:G,4,FALSE))","v":""},"",{"$f":"IF(OR(E28714=\"\",ISBLANK(E28714)),\"\",VLOOKUP(E28714,Sheet2!A:H,3,FALSE))","v":""},null,{"$f":"IF(OR(E28714=\"\",ISBLANK(E28714)),\"\",VLOOKUP(E28714,Sheet2!A:G,6,FALSE))","v":""},""]
[{"$f":"IF(OR(E28739=\"\",ISBLANK(E28739)),\"\",VLOOKUP(E28739,Sheet2!A:F,2,FALSE))","v":""},{"$f":"IF(OR(E28739=\"\",ISBLANK(E28739)),\"\",VLOOKUP(E28739,Sheet2!A:G,4,FALSE))","v":""},{"$f":"IF(D28739=0,\"\",D28739)","v":""},{"$f":"IF(OR(E28739=\"\",ISBLANK(E28739)),\"\",VLOOKUP(E28739,Sheet2!A:H,3,FALSE))","v":""},null,{"$f":"IF(OR(E28739=\"\",ISBLANK(E28739)),\"\",VLOOKUP(E28739,Sheet2!A:G,6,FALSE))","v":""},{"$f":"IF(F28739=0,\"\",F28739)","v":""}]
[{"$f":"IF(OR(E28773=\"\",ISBLANK(E28773)),\"\",VLOOKUP(E28773,Sheet2!A:F,2,FALSE))","v":""},{"$f":"IF(OR(E28773=\"\",ISBLANK(E28773)),\"\",VLOOKUP(E28773,Sheet2!A:G,4,FALSE))","v":""},"",{"$f":"IF(OR(E28773=\"\",ISBLANK(E28773)),\"\",VLOOKUP(E28773,Sheet2!A:H,3,FALSE))","v":""},null,{"$f":"IF(OR(E28773=\"\",ISBLANK(E28773)),\"\",VLOOKUP(E28773,Sheet2!A:G,6,FALSE))","v":""},""]
[{"$f":"IF(OR(E28782=\"\",ISBLANK(E28782)),\"\",VLOOKUP(E28782,Sheet2!A:F,2,FALSE))","v":""},{"$f":"IF(OR(E28782=\"\",ISBLANK(E28782)),\"\",VLOOKUP(E28782,Sheet2!A:G,4,FALSE))","v":""},"",{"$f":"IF(OR(E28782=\"\",ISBLANK(E28782)),\"\",VLOOKUP(E28782,Sheet2!A:H,3,FALSE))","v":""},null,{"$f":"IF(OR(E28782=\"\",ISBLANK(E28782)),\"\",VLOOKUP(E28782,Sheet2!A:G,6,FALSE))","v":""},""]
[{"$f":"IF(OR(E28803=\"\",ISBLANK(E28803)),\"\",VLOOKUP(E28803,Sheet2!A:F,2,FALSE))","v":""},{"$f":"IF(OR(E28803=\"\",ISBLANK(E28803)),\"\",VLOOKUP(E28803,Sheet2!A:G,4,FALSE))","v":""},{"$f":"IF(D28803=0,\"\",D28803)","v":""},{"$f":"IF(OR(E28803=\"\",ISBLANK(E28803)),\"\",VLOOKUP(E28803,Sheet2!A:H,3,FALSE))","v":""},null,{"$f":"IF(OR(E28803=\"\",ISBLANK(E28803)),\"\",VLOOKUP(E28803,Sheet2!A:G,6,FALSE))","v":""},{"$f":"IF(F28803=0,\"\",F28803)","v":""}]
[{"$f":"IF(OR(E28841=\"\",ISBLANK(E28841)),\"\",VLOOKUP(E28841,Sheet2!A:F,2,FALSE))","v":""},{"$f":"IF(OR(E28841=\"\",ISBLANK(E28841)),\"\",VLOOKUP(E28841,Sheet2!A:G,4,FALSE))","v":""},"",{"$f":"IF(OR(E28841=\"\",ISBLANK(E28841)),\"\",VLOOKUP(E28841,Sheet2!A:H,3,FALSE))","v":""},null,{"$f":"IF(OR(E28841=\"\",ISBLANK(E28841)),\"\",VLOOKUP(E28841,Sheet2!A:G,6,FALSE))","v":""},""]
[{"$f":"IF(OR(E28853=\"\",ISBLANK(E28853)),\"\",VLOOKUP(E28853,Sheet2!A:F,2,FALSE))","v":""},{"$f":"IF(OR(E28853=\"\",ISBLANK(E28853)),\"\",VLOOKUP(E28853,Sheet2!A:G,4,FALSE))","v":""},"",{"$f":"IF(OR(E28853=\"\",ISBLANK(E28853)),\"\",VLOOKUP(E28853,Sheet2!A:H,3,FALSE))","v":""},null,{"$f":"IF(OR(E28853=\"\",ISBLANK(E28853)),\"\",VLOOKUP(E28853,Sheet2!A:G,6,FALSE))","v":""},""]
[{"$f":"IF(OR(E28884=\"\",ISBLANK(E28884)),\"\",VLOOKUP(E28884,Sheet2!A:F,2,FALSE))","v":""},{"$f":"IF(OR(E28884=\"\",ISBLANK(E28884)),\"\",VLOOKUP(E28884,Sheet2!A:G,4,FALSE))","v":""},"",{"$f":"IF(OR(E28884=\"\",ISBLANK(E28884)),\"\",VLOOKUP(E28884,Sheet2!A:H,3,FALSE))","v":""},null,{"$f":"IF(OR(E28884=\"\",ISBLANK(E28884)),\"\",VLOOKUP(E28884,Sheet2!A:G,6,FALSE))","v":""},""]
[{"$f":"IF(OR(E28909=\"\",ISBLANK(E28909)),\"\",VLOOKUP(E28909,Sheet2!A:F,2,FALSE))","v":""},{"$f":"IF(OR(E28909=\"\",ISBLANK(E28909)),\"\",VLOOKUP(E28909,Sheet2!A:G,4,FALSE))","v":""},"",{"$f":"IF(OR(E28909=\"\",ISBLANK(E28909)),\"\",VLOOKUP(E28909,Sheet2!A:H,3,FALSE))","v":""},null,{"$f":"IF(OR(E28909=\"\",ISBLANK(E28909)),\"\",VLOOKUP(E28909,Sheet2!A:G,6,FALSE))","v":""},""]
[{"$f":"IF(OR(E28942=\"\",ISBLANK(E28942)),\"\",VLOOKUP(E28942,Sheet2!A:F,2,FALSE))","v":""},{"$f":"IF(OR(E28942=\"\",ISBLANK(E28942)),\"\",VLOOKUP(E28942,Sheet2!A:G,4,FALSE))","v":""},"",{"$f":"IF(OR(E28942=\"\",ISBLANK(E28942)),\"\",VLOOKUP(E28942,Sheet2!A:H,3,FALSE))","v":""},null,{"$f":"IF(OR(E28942=\"\",ISBLANK(E28942)),\"\",VLOOKUP(E28942,Sheet2!A:G,6,FALSE))","v":""},""]
[{"$f":"IF(OR(E28968=\"\",ISBLANK(E28968)),\"\",VLOOKUP(E28968,Sheet2!A:F,2,FALSE))","v":""},{"$f":"IF(OR(E28968=\"\",ISBLANK(E28968)),\"\",VLOOKUP(E28968,Sheet2!A:G,4,FALSE))","v":""},"",{"$f":"IF(OR(E28968=\"\",ISBLANK(E28968)),\"\",VLOOKUP(E28968,Sheet2!A:H,3,FALSE))","v":""},null,{"$f":"IF(OR(E28968=\"\",ISBLANK(E28968)),\"\",VLOOKUP(E28968,Sheet2!A:G,6,FALSE))","v":""},""]
[{"$f":"IF(OR(E28992=\"\",ISBLANK(E28992)),\"\",VLOOKUP(E28992,Sheet2!A:F,2,FALSE))","v":""},{"$f":"IF(OR(E28992=\"\",ISBLANK(E28992)),\"\",VLOOKUP(E28992,Sheet2!A:G,4,FALSE))","v":""},"",{"$f":"IF(OR(E28992=\"\",ISBLANK(E28992)),\"\",VLOOKUP(E28992,Sheet2!A:H,3,FALSE))","v":""},null,{"$f":"IF(OR(E28992=\"\",ISBLANK(E28992)),\"\",VLOOKUP(E28992,Sheet2!A:G,6,FALSE))","v":""},""]
[{"$f":"IF(OR(E29011=\"\",ISBLANK(E29011)),\"\",VLOOKUP(E29011,Sheet2!A:F,2,FALSE))","v":""},{"$f":"IF(OR(E29011=\"\",ISBLANK(E29011)),\"\",VLOOKUP(E29011,Sheet2!A:G,4,FALSE))","v":""},"",{"$f":"IF(OR(E29011=\"\",ISBLANK(E29011)),\"\",VLOOKUP(E29011,Sheet2!A:H,3,FALSE))","v":""},null,{"$f":"IF(OR(E29011=\"\",ISBLANK(E29011)),\"\",VLOOKUP(E29011,Sheet2!A:G,6,FALSE))","v":""},""]
[{"$f":"IF(OR(E29036=\"\",ISBLANK(E29036)),\"\",VLOOKUP(E29036,Sheet2!A:F,2,FALSE))","v":""},{"$f":"IF(OR(E29036=\"\",ISBLANK(E29036)),\"\",VLOOKUP(E29036,Sheet2!A:G,4,FALSE))","v":""},"",{"$f":"IF(OR(E29036=\"\",ISBLANK(E29036)),\"\",VLOOKUP(E29036,Sheet2!A:H,3,FALSE))","v":""},null,{"$f":"IF(OR(E29036=\"\",ISBLANK(E29036)),\"\",VLOOKUP(E29036,Sheet2!A:G,6,FALSE))","v":""},""]
[{"$f":"IF(OR(E29056=\"\",ISBLANK(E29056)),\"\",VLOOKUP(E29056,Sheet2!A:F,2,FALSE))","v":""},{"$f":"IF(OR(E29056=\"\",ISBLANK(E29056)),\"\",VLOOKUP(E29056,Sheet2!A:G,4,FALSE))","v":""},"",{"$f":"IF(OR(E29056=\"\",ISBLANK(E29056)),\"\",VLOOKUP(E29056,Sheet2!A:H,3,FALSE))","v":""},null,{"$f":"IF(OR(E29056=\"\",ISBLANK(E29056)),\"\",VLOOKUP(E29056,Sheet2!A:G,6,FALSE))","v":""},""]
[{"$f":"IF(OR(E29079=\"\",ISBLANK(E29079)),\"\",VLOOKUP(E29079,Sheet2!A:F,2,FALSE))","v":""},{"$f":"IF(OR(E29079=\"\",ISBLANK(E29079)),\"\",VLOOKUP(E29079,Sheet2!A:G,4,FALSE))","v":""},"",{"$f":"IF(OR(E29079=\"\",ISBLANK(E29079)),\"\",VLOOKUP(E29079,Sheet2!A:H,3,FALSE))","v":""},null,{"$f":"IF(OR(E29079=\"\",ISBLANK(E29079)),\"\",VLOOKUP(E29079,Sheet2!A:G,6,FALSE))","v":""},""]
[{"$f":"IF(OR(E29106=\"\",ISBLANK(E29106)),\"\",VLOOKUP(E29106,Sheet2!A:F,2,FALSE))","v":""},{"$f":"IF(OR(E29106=\"\",ISBLANK(E29106)),\"\",VLOOKUP(E29106,Sheet2!A:G,4,FALSE))","v":""},"",{"$f":"IF(OR(E29106=\"\",ISBLANK(E29106)),\"\",VLOOKUP(E29106,Sheet2!A:H,3,FALSE))","v":""},null,{"$f":"IF(OR(E29106=\"\",ISBLANK(E29106)),\"\",VLOOKUP(E29106,Sheet2!A:G,6,FALSE))","v":""},""]
[{"$f":"IF(OR(E29138=\"\",ISBLANK(E29138)),\"\",VLOOKUP(E29138,Sheet2!A:F,2,FALSE))","v":""},{"$f":"IF(OR(E29138=\"\",ISBLANK(E29138)),\"\",VLOOKUP(E29138,Sheet2!A:G,4,FALSE))","v":""},"",{"$f":"IF(OR(E29138=\"\",ISBLANK(E29138)),\"\",VLOOKUP(E29138,Sheet2!A:H,3,FALSE))","v":""},null,{"$f":"IF(OR(E29138=\"\",ISBLANK(E29138)),\"\",VLOOKUP(E29138,Sheet2!A:G,6,FALSE))","v":""},""]
[{"$f":"IF(OR(E29163=\"\",ISBLANK(E29163)),\"\",VLOOKUP(E29163,Sheet2!A:F,2,FALSE))","v":""},{"$f":"IF(OR(E29163=\"\",ISBLANK(E29163)),\"\",VLOOKUP(E29163,Sheet2!A:G,4,FALSE))","v":""},"",{"$f":"IF(OR(E29163=\"\",ISBLANK(E29163)),\"\",VLOOKUP(E29163,Sheet2!A:H,3,FALSE))","v":""},null,{"$f":"IF(OR(E29163=\"\",ISBLANK(E29163)),\"\",VLOOKUP(E29163,Sheet2!A:G,6,FALSE))","v":""},""]
[{"$f":"IF(OR(E29170=\"\",ISBLANK(E29170)),\"\",VLOOKUP(E29170,Sheet2!A:F,2,FALSE))","v":""},{"$f":"IF(OR(E29170=\"\",ISBLANK(E29170)),\"\",VLOOKUP(E29170,Sheet2!A:G,4,FALSE))","v":""},"",{"$f":"IF(OR(E29170=\"\",ISBLANK(E29170)),\"\",VLOOKUP(E29170,Sheet2!A:H,3,FALSE))","v":""},null,{"$f":"IF(OR(E29170=\"\",ISBLANK(E29170)),\"\",VLOOKUP(E29170,Sheet2!A:G,6,FALSE))","v":""},""]
[{"$f":"IF(OR(E29206=\"\",ISBLANK(E29206)),\"\",VLOOKUP(E29206,Sheet2!A:F,2,FALSE))","v":""},{"$f":"IF(OR(E29206=\"\",ISBLANK(E29206)),\"\",VLOOKUP(E29206,Sheet2!A:G,4,FALSE))","v":""},"",{"$f":"IF(OR(E29206=\"\",ISBLANK(E29206)),\"\",VLOOKUP(E29206,Sheet2!A:H,3,FALSE))","v":""},null,{"$f":"IF(OR(E29206=\"\",ISBLANK(E29206)),\"\",VLOOKUP(E29206,Sheet2!A:G,6,FALSE))","v":""},""]
[{"$f":"IF(OR(E29231=\"\",ISBLANK(E29231)),\"\",VLOOKUP(E29231,Sheet2!A:F,2,FALSE))","v":""},{"$f":"IF(OR(E29231=\"\",ISBLANK(E29231)),\"\",VLOOKUP(E29231,Sheet2!A:G,4,FALSE))","v":""},"",{"$f":"IF(OR(E29231=\"\",ISBLANK(E29231)),\"\",VLOOKUP(E29231,Sheet2!A:H,3,FALSE))","v":""},null,{"$f":"IF(OR(E29231=\"\",ISBLANK(E29231)),\"\",VLOOKUP(E29231,Sheet2!A:G,6,FALSE))","v":""},""]
[{"$f":"IF(OR(E29259=\"\",ISBLANK(E29259)),\"\",VLOOKUP(E29259,Sheet2!A:F,2,FALSE))","v":""},{"$f":"IF(OR(E29259=\"\",ISBLANK(E29259)),\"\",VLOOKUP(E29259,Sheet2!A:G,4,FALSE))","v":""},"",{"$f":"IF(OR(E29259=\"\",ISBLANK(E29259)),\"\",VLOOKUP(E29259,Sheet2!A:H,3,FALSE))","v":""},null,{"$f":"IF(OR(E29259=\"\",ISBLANK(E29259)),\"\",VLOOKUP(E29259,Sheet2!A:G,6,FALSE))","v":""},""]
[{"$f":"IF(OR(E29290=\"\",ISBLANK(E29290)),\"\",VLOOKUP(E29290,Sheet2!A:F,2,FALSE))","v":""},{"$f":"IF(OR(E29290=\"\",ISBLANK(E29290)),\"\",VLOOKUP(E29290,Sheet2!A:G,4,FALSE))","v":""},"",{"$f":"IF(OR(E29290=\"\",ISBLANK(E29290)),\"\",VLOOKUP(E29290,Sheet2!A:H,3,FALSE))","v":""},null,{"$f":"IF(OR(E29290=\"\",ISBLANK(E29290)),\"\",VLOOKUP(E29290,Sheet2!A:G,6,FALSE))","v":""},""]
[{"$f":"IF(OR(E29309=\"\",ISBLANK(E29309)),\"\",VLOOKUP(E29309,Sheet2!A:F,2,FALSE))","v":""},{"$f":"IF(OR(E29309=\"\",ISBLANK(E29309)),\"\",VLOOKUP(E29309,Sheet2!A:G,4,FALSE))","v":""},"",{"$f":"IF(OR(E29309=\"\",ISBLANK(E29309)),\"\",VLOOKUP(E29309,Sheet2!A:H,3,FALSE))","v":""},null,{"$f":"IF(OR(E29309=\"\",ISBLANK(E29309)),\"\",VLOOKUP(E29309,Sheet2!A:G,6,FALSE))","v":""},""]
[{"$f":"IF(OR(E29333=\"\",ISBLANK(E29333)),\"\",VLOOKUP(E29333,Sheet2!A:F,2,FALSE))","v":""},{"$f":"IF(OR(E29333=\"\",ISBLANK(E29333)),\"\",VLOOKUP(E29333,Sheet2!A:G,4,FALSE))","v":""},"",{"$f":"IF(OR(E29333=\"\",ISBLANK(E29333)),\"\",VLOOKUP(E29333,Sheet2!A:H,3,FALSE))","v":""},null,{"$f":"IF(OR(E29333=\"\",ISBLANK(E29333)),\"\",VLOOKUP(E29333,Sheet2!A:G,6,FALSE))","v":""},""]
[{"$f":"IF(OR(E29358=\"\",ISBLANK(E29358)),\"\",VLOOKUP(E29358,Sheet2!A:F,2,FALSE))","v":""},{"$f":"IF(OR(E29358=\"\",ISBLANK(E29358)),\"\",VLOOKUP(E29358,Sheet2!A:G,4,FALSE))","v":""},"",{"$f":"IF(OR(E29358=\"\",ISBLANK(E29358)),\"\",VLOOKUP(E29358,Sheet2!A:H,3,FALSE))","v":""},null,{"$f":"IF(OR(E29358=\"\",ISBLANK(E29358)),\"\",VLOOKUP(E29358,Sheet2!A:G,6,FALSE))","v":""},""]
[{"$f":"IF(OR(E29373=\"\",ISBLANK(E29373)),\"\",VLOOKUP(E29373,Sheet2!A:F,2,FALSE))","v":""},{"$f":"IF(OR(E29373=\"\",ISBLANK(E29373)),\"\",VLOOKUP(E29373,Sheet2!A:G,4,FALSE))","v":""},"",{"$f":"IF(OR(E29373=\"\",ISBLANK(E29373)),\"\",VLOOKUP(E29373,Sheet2!A:H,3,FALSE))","v":""},null,{"$f":"IF(OR(E29373=\"\",ISBLANK(E29373)),\"\",VLOOKUP(E29373,Sheet2!A:G,6,FALSE))","v":""},""]
[{"$f":"IF(OR(E29401=\"\",ISBLANK(E29401)),\"\",VLOOKUP(E29401,Sheet2!A:F,2,FALSE))","v":""},{"$f":"IF(OR(E29401=\"\",ISBLANK(E29401)),\"\",VLOOKUP(E29401,Sheet2!A:G,4,FALSE))","v":""},"",{"$f":"IF(OR(E29401=\"\",ISBLANK(E29401)),\"\",VLOOKUP(E29401,Sheet2!A:H,3,FALSE))","v":""},null,{"$f":"IF(OR(E29401=\"\",ISBLANK(E29401)),\"\",VLOOKUP(E29401,Sheet2!A:G,6,FALSE))","v":""},""]
[{"$f":"IF(OR(E29423=\"\",ISBLANK(E29423)),\"\",VLOOKUP(E29423,Sheet2!A:F,2,FALSE))","v":""},{"$f":"IF(OR(E29423=\"\",ISBLANK(E29423)),\"\",VLOOKUP(E29423,Sheet2!A:G,4,FALSE))","v":""},"",{"$f":"IF(OR(E29423=\"\",ISBLANK(E29423)),\"\",VLOOKUP(E29423,Sheet2!A:H,3,FALSE))","v":""},null,{"$f":"IF(OR(E29423=\"\",ISBLANK(E29423)),\"\",VLOOKUP(E29423,Sheet2!A:G,6,FALSE))","v":""},""]
[{"$f":"IF(OR(E29460=\"\",ISBLANK(E29460)),\"\",VLOOKUP(E29460,Sheet2!A:F,2,FALSE))","v":""},{"$f":"IF(OR(E29460=\"\",ISBLANK(E29460)),\"\",VLOOKUP(E29460,Sheet2!A:G,4,FALSE))","v":""},"",{"$f":"IF(OR(E29460=\"\",ISBLANK(E29460)),\"\",VLOOKUP(E29460,Sheet2!A:H,3,FALSE))","v":""},null,{"$f":"IF(OR(E29460=\"\",ISBLANK(E29460)),\"\",VLOOKUP(E29460,Sheet2!A:G,6,FALSE))","v":""},""]
[{"$f":"IF(OR(E29485=\"\",ISBLANK(E29485)),\"\",VLOOKUP(E29485,Sheet2!A:F,2,FALSE))","v":""},{"$f":"IF(OR(E29485=\"\",ISBLANK(E29485)),\"\",VLOOKUP(E29485,Sheet2!A:G,4,FALSE))","v":""},"",{"$f":"IF(OR(E29485=\"\",ISBLANK(E29485)),\"\",VLOOKUP(E29485,Sheet2!A:H,3,FALSE))","v":""},null,{"$f":"IF(OR(E29485=\"\",ISBLANK(E29485)),\"\",VLOOKUP(E29485,Sheet2!A:G,6,FALSE))","v":""},""]
[{"$f":"IF(OR(E29487=\"\",ISBLANK(E29487)),\"\",VLOOKUP(E29487,Sheet2!A:F,2,FALSE))","v":""},{"$f":"IF(OR(E29487=\"\",ISBLANK(E29487)),\"\",VLOOKUP(E29487,Sheet2!A:G,4,FALSE))","v":""},"",{"$f":"IF(OR(E29487=\"\",ISBLANK(E29487)),\"\",VLOOKUP(E29487,Sheet2!A:H,3,FALSE))","v":""},null,{"$f":"IF(OR(E29487=\"\",ISBLANK(E29487)),\"\",VLOOKUP(E29487,Sheet2!A:G,6,FALSE))","v":""},""]
[{"$f":"IF(OR(E29528=\"\",ISBLANK(E29528)),\"\",VLOOKUP(E29528,Sheet2!A:F,2,FALSE))","v":""},{"$f":"IF(OR(E29528=\"\",ISBLANK(E29528)),\"\",VLOOKUP(E29528,Sheet2!A:G,4,FALSE))","v":""},"",{"$f":"IF(OR(E29528=\"\",ISBLANK(E29528)),\"\",VLOOKUP(E29528,Sheet2!A:H,3,FALSE))","v":""},null,{"$f":"IF(OR(E29528=\"\",ISBLANK(E29528)),\"\",VLOOKUP(E29528,Sheet2!A:G,6,FALSE))","v":""},""]
[{"$f":"IF(OR(E29537=\"\",ISBLANK(E29537)),\"\",VLOOKUP(E29537,Sheet2!A:F,2,FALSE))","v":""},{"$f":"IF(OR(E29537=\"\",ISBLANK(E29537)),\"\",VLOOKUP(E29537,Sheet2!A:G,4,FALSE))","v":""},"",{"$f":"IF(OR(E29537=\"\",ISBLANK(E29537)),\"\",VLOOKUP(E29537,Sheet2!A:H,3,FALSE))","v":""},null,{"$f":"IF(OR(E29537=\"\",ISBLANK(E29537)),\"\",VLOOKUP(E29537,Sheet2!A:G,6,FALSE))","v":""},""]
[{"$f":"IF(OR(E29563=\"\",ISBLANK(E29563)),\"\",VLOOKUP(E29563,Sheet2!A:F,2,FALSE))","v":""},{"$f":"IF(OR(E29563=\"\",ISBLANK(E29563)),\"\",VLOOKUP(E29563,Sheet2!A:G,4,FALSE))","v":""},"",{"$f":"IF(OR(E29563=\"\",ISBLANK(E29563)),\"\",VLOOKUP(E29563,Sheet2!A:H,3,FALSE))","v":""},null,{"$f":"IF(OR(E29563=\"\",ISBLANK(E29563)),\"\",VLOOKUP(E29563,Sheet2!A:G,6,FALSE))","v":""},""]
[{"$f":"IF(OR(E29588=\"\",ISBLANK(E29588)),\"\",VLOOKUP(E29588,Sheet2!A:F,2,FALSE))","v":""},{"$f":"IF(OR(E29588=\"\",ISBLANK(E29588)),\"\",VLOOKUP(E29588,Sheet2!A:G,4,FALSE))","v":""},"",{"$f":"IF(OR(E29588=\"\",ISBLANK(E29588)),\"\",VLOOKUP(E29588,Sheet2!A:H,3,FALSE))","v":""},null,{"$f":"IF(OR(E29588=\"\",ISBLANK(E29588)),\"\",VLOOKUP(E29588,Sheet2!A:G,6,FALSE))","v":""},""]
[{"$f":"IF(OR(E29626=\"\",ISBLANK(E29626)),\"\",VLOOKUP(E29626,Sheet2!A:F,2,FALSE))","v":""},{"$f":"IF(OR(E29626=\"\",ISBLANK(E29626)),\"\",VLOOKUP(E29626,Sheet2!A:G,4,FALSE))","v":""},"",{"$f":"IF(OR(E29626=\"\",ISBLANK(E29626)),\"\",VLOOKUP(E29626,Sheet2!A:H,3,FALSE))","v":""},null,{"$f":"IF(OR(E29626=\"\",ISBLANK(E29626)),\"\",VLOOKUP(E29626,Sheet2!A:G,6,FALSE))","v":""},""]
[{"$f":"IF(OR(E29655=\"\",ISBLANK(E29655)),\"\",VLOOKUP(E29655,Sheet2!A:F,2,FALSE))","v":""},{"$f":"IF(OR(E29655=\"\",ISBLANK(E29655)),\"\",VLOOKUP(E29655,Sheet2!A:G,4,FALSE))","v":""},"",{"$f":"IF(OR(E29655=\"\",ISBLANK(E29655)),\"\",VLOOKUP(E29655,Sheet2!A:H,3,FALSE))","v":""},null,{"$f":"IF(OR(E29655=\"\",ISBLANK(E29655)),\"\",VLOOKUP(E29655,Sheet2!A:G,6,FALSE))","v":""},""]
[{"$f":"IF(OR(E29680=\"\",ISBLANK(E29680)),\"\",VLOOKUP(E29680,Sheet2!A:F,2,FALSE))","v":""},{"$f":"IF(OR(E29680=\"\",ISBLANK(E29680)),\"\",VLOOKUP(E29680,Sheet2!A:G,4,FALSE))","v":""},"",{"$f":"IF(OR(E29680=\"\",ISBLANK(E29680)),\"\",VLOOKUP(E29680,Sheet2!A:H,3,FALSE))","v":""},null,{"$f":"IF(OR(E29680=\"\",ISBLANK(E29680)),\"\",VLOOKUP(E29680,Sheet2!A:G,6,FALSE))","v":""},""]
[{"$f":"IF(OR(E29690=\"\",ISBLANK(E29690)),\"\",VLOOKUP(E29690,Sheet2!A:F,2,FALSE))","v":""},{"$f":"IF(OR(E29690=\"\",ISBLANK(E29690)),\"\",VLOOKUP(E29690,Sheet2!A:G,4,FALSE))","v":""},"",{"$f":"IF(OR(E29690=\"\",ISBLANK(E29690)),\"\",VLOOKUP(E29690,Sheet2!A:H,3,FALSE))","v":""},null,{"$f":"IF(OR(E29690=\"\",ISBLANK(E29690)),\"\",VLOOKUP(E29690,Sheet2!A:G,6,FALSE))","v":""},""]
[{"$f":"IF(OR(E29723=\"\",ISBLANK(E29723)),\"\",VLOOKUP(E29723,Sheet2!A:F,2,FALSE))","v":""},{"$f":"IF(OR(E29723=\"\",ISBLANK(E29723)),\"\",VLOOKUP(E29723,Sheet2!A:G,4,FALSE))","v":""},"",{"$f":"IF(OR(E29723=\"\",ISBLANK(E29723)),\"\",VLOOKUP(E29723,Sheet2!A:H,3,FALSE))","v":""},null,{"$f":"IF(OR(E29723=\"\",ISBLANK(E29723)),\"\",VLOOKUP(E29723,Sheet2!A:G,6,FALSE))","v":""},""]
[{"$f":"IF(OR(E29740=\"\",ISBLANK(E29740)),\"\",VLOOKUP(E29740,Sheet2!A:F,2,FALSE))","v":""},{"$f":"IF(OR(E29740=\"\",ISBLANK(E29740)),\"\",VLOOKUP(E29740,Sheet2!A:G,4,FALSE))","v":""},"",{"$f":"IF(OR(E29740=\"\",ISBLANK(E29740)),\"\",VLOOKUP(E29740,Sheet2!A:H,3,FALSE))","v":""},null,{"$f":"IF(OR(E29740=\"\",ISBLANK(E29740)),\"\",VLOOKUP(E29740,Sheet2!A:G,6,FALSE))","v":""},""]
[{"$f":"IF(OR(E29758=\"\",ISBLANK(E29758)),\"\",VLOOKUP(E29758,Sheet2!A:F,2,FALSE))","v":""},{"$f":"IF(OR(E29758=\"\",ISBLANK(E29758)),\"\",VLOOKUP(E29758,Sheet2!A:G,4,FALSE))","v":""},"",{"$f":"IF(OR(E29758=\"\",ISBLANK(E29758)),\"\",VLOOKUP(E29758,Sheet2!A:H,3,FALSE))","v":""},null,{"$f":"IF(OR(E29758=\"\",ISBLANK(E29758)),\"\",VLOOKUP(E29758,Sheet2!A:G,6,FALSE))","v":""},""]
[{"$f":"IF(OR(E29783=\"\",ISBLANK(E29783)),\"\",VLOOKUP(E29783,Sheet2!A:F,2,FALSE))","v":""},{"$f":"IF(OR(E29783=\"\",ISBLANK(E29783)),\"\",VLOOKUP(E29783,Sheet2!A:G,4,FALSE))","v":""},"",{"$f":"IF(OR(E29783=\"\",ISBLANK(E29783)),\"\",VLOOKUP(E29783,Sheet2!A:H,3,FALSE))","v":""},null,{"$f":"IF(OR(E29783=\"\",ISBLANK(E29783)),\"\",VLOOKUP(E29783,Sheet2!A:G,6,FALSE))","v":""},""]
[{"$f":"IF(OR(E29804=\"\",ISBLANK(E29804)),\"\",VLOOKUP(E29804,Sheet2!A:F,2,FALSE))","v":""},{"$f":"IF(OR(E29804=\"\",ISBLANK(E29804)),\"\",VLOOKUP(E29804,Sheet2!A:G,4,FALSE))","v":""},"",{"$f":"IF(OR(E29804=\"\",ISBLANK(E29804)),\"\",VLOOKUP(E29804,Sheet2!A:H,3,FALSE))","v":""},null,{"$f":"IF(OR(E29804=\"\",ISBLANK(E29804)),\"\",VLOOKUP(E29804,Sheet2!A:G,6,FALSE))","v":""},""]
[{"$f":"IF(OR(E29850=\"\",ISBLANK(E29850)),\"\",VLOOKUP(E29850,Sheet2!A:F,2,FALSE))","v":""},{"$f":"IF(OR(E29850=\"\",ISBLANK(E29850)),\"\",VLOOKUP(E29850,Sheet2!A:G,4,FALSE))","v":""},"",{"$f":"IF(OR(E29850=\"\",ISBLANK(E29850)),\"\",VLOOKUP(E29850,Sheet2!A:H,3,FALSE))","v":""},null,{"$f":"IF(OR(E29850=\"\",ISBLANK(E29850)),\"\",VLOOKUP(E29850,Sheet2!A:G,6,FALSE))","v":""},""]
[{"$f":"IF(OR(E29854=\"\",ISBLANK(E29854)),\"\",VLOOKUP(E29854,Sheet2!A:F,2,FALSE))","v":""},{"$f":"IF(OR(E29854=\"\",ISBLANK(E29854)),\"\",VLOOKUP(E29854,Sheet2!A:G,4,FALSE))","v":""},"",{"$f":"IF(OR(E29854=\"\",ISBLANK(E29854)),\"\",VLOOKUP(E29854,Sheet2!A:H,3,FALSE))","v":""},null,{"$f":"IF(OR(E29854=\"\",ISBLANK(E29854)),\"\",VLOOKUP(E29854,Sheet2!A:G,6,FALSE))","v":""},""]
[{"$f":"IF(OR(E29885=\"\",ISBLANK(E29885)),\"\",VLOOKUP(E29885,Sheet2!A:F,2,FALSE))","v":""},{"$f":"IF(OR(E29885=\"\",ISBLANK(E29885)),\"\",VLOOKUP(E29885,Sheet2!A:G,4,FALSE))","v":""},"",{"$f":"IF(OR(E29885=\"\",ISBLANK(E29885)),\"\",VLOOKUP(E29885,Sheet2!A:H,3,FALSE))","v":""},null,{"$f":"IF(OR(E29885=\"\",ISBLANK(E29885)),\"\",VLOOKUP(E29885,Sheet2!A:G,6,FALSE))","v":""},""]
[{"$f":"IF(OR(E29918=\"\",ISBLANK(E29918)),\"\",VLOOKUP(E29918,Sheet2!A:F,2,FALSE))","v":""},{"$f":"IF(OR(E29918=\"\",ISBLANK(E29918)),\"\",VLOOKUP(E29918,Sheet2!A:G,4,FALSE))","v":""},"",{"$f":"IF(OR(E29918=\"\",ISBLANK(E29918)),\"\",VLOOKUP(E29918,Sheet2!A:H,3,FALSE))","v":""},null,{"$f":"IF(OR(E29918=\"\",ISBLANK(E29918)),\"\",VLOOKUP(E29918,Sheet2!A:G,6,FALSE))","v":""},""]
[{"$f":"IF(OR(E29943=\"\",ISBLANK(E29943)),\"\",VLOOKUP(E29943,Sheet2!A:F,2,FALSE))","v":""},{"$f":"IF(OR(E29943=\"\",ISBLANK(E29943)),\"\",VLOOKUP(E29943,Sheet2!A:G,4,FALSE))","v":""},"",{"$f":"IF(OR(E29943=\"\",ISBLANK(E29943)),\"\",VLOOKUP(E29943,Sheet2!A:H,3,FALSE))","v":""},null,{"$f":"IF(OR(E29943=\"\",ISBLANK(E29943)),\"\",VLOOKUP(E29943,Sheet2!A:G,6,FALSE))","v":""},""]
[{"$f":"IF(OR(E29953=\"\",ISBLANK(E29953)),\"\",VLOOKUP(E29953,Sheet2!A:F,2,FALSE))","v":""},{"$f":"IF(OR(E29953=\"\",ISBLANK(E29953)),\"\",VLOOKUP(E29953,Sheet2!A:G,4,FALSE))","v":""},"",{"$f":"IF(OR(E29953=\"\",ISBLANK(E29953)),\"\",VLOOKUP(E29953,Sheet2!A:H,3,FALSE))","v":""},null,{"$f":"IF(OR(E29953=\"\",ISBLANK(E29953)),\"\",VLOOKUP(E29953,Sheet2!A:G,6,FALSE))","v":""},""]
[{"$f":"IF(OR(E29978=\"\",ISBLANK(E29978)),\"\",VLOOKUP(E29978,Sheet2!A:F,2,FALSE))","v":""},{"$f":"IF(OR(E29978=\"\",ISBLANK(E29978)),\"\",VLOOKUP(E29978,Sheet2!A:G,4,FALSE))","v":""},"",{"$f":"IF(OR(E29978=\"\",ISBLANK(E29978)),\"\",VLOOKUP(E29978,Sheet2!A:H,3,FALSE))","v":""},null,{"$f":"IF(OR(E29978=\"\",ISBLANK(E29978)),\"\",VLOOKUP(E29978,Sheet2!A:G,6,FALSE))","v":""},""]
[{"$f":"IF(OR(E30007=\"\",ISBLANK(E30007)),\"\",VLOOKUP(E30007,Sheet2!A:F,2,FALSE))","v":""},{"$f":"IF(OR(E30007=\"\",ISBLANK(E30007)),\"\",VLOOKUP(E30007,Sheet2!A:G,4,FALSE))","v":""},"",{"$f":"IF(OR(E30007=\"\",ISBLANK(E30007)),\"\",VLOOKUP(E30007,Sheet2!A:H,3,FALSE))","v":""},null,{"$f":"IF(OR(E30007=\"\",ISBLANK(E30007)),\"\",VLOOKUP(E30007,Sheet2!A:G,6,FALSE))","v":""},""]
[{"$f":"IF(OR(E30045=\"\",ISBLANK(E30045)),\"\",VLOOKUP(E30045,Sheet2!A:F,2,FALSE))","v":""},{"$f":"IF(OR(E30045=\"\",ISBLANK(E30045)),\"\",VLOOKUP(E30045,Sheet2!A:G,4,FALSE))","v":""},"",{"$f":"IF(OR(E30045=\"\",ISBLANK(E30045)),\"\",VLOOKUP(E30045,Sheet2!A:H,3,FALSE))","v":""},null,{"$f":"IF(OR(E30045=\"\",ISBLANK(E30045)),\"\",VLOOKUP(E30045,Sheet2!A:G,6,FALSE))","v":""},""]
[{"$f":"IF(OR(E30057=\"\",ISBLANK(E30057)),\"\",VLOOKUP(E30057,Sheet2!A:F,2,FALSE))","v":""},{"$f":"IF(OR(E30057=\"\",ISBLANK(E30057)),\"\",VLOOKUP(E30057,Sheet2!A:G,4,FALSE))","v":""},"",{"$f":"IF(OR(E30057=\"\",ISBLANK(E30057)),\"\",VLOOKUP(E30057,Sheet2!A:H,3,FALSE))","v":""},null,{"$f":"IF(OR(E30057=\"\",ISBLANK(E30057)),\"\",VLOOKUP(E30057,Sheet2!A:G,6,FALSE))","v":""},""]
[{"$f":"IF(OR(E30080=\"\",ISBLANK(E30080)),\"\",VLOOKUP(E30080,Sheet2!A:F,2,FALSE))","v":""},{"$f":"IF(OR(E30080=\"\",ISBLANK(E30080)),\"\",VLOOKUP(E30080,Sheet2!A:G,4,FALSE))","v":""},"",{"$f":"IF(OR(E30080=\"\",ISBLANK(E30080)),\"\",VLOOKUP(E30080,Sheet2!A:H,3,FALSE))","v":""},null,{"$f":"IF(OR(E30080=\"\",ISBLANK(E30080)),\"\",VLOOKUP(E30080,Sheet2!A:G,6,FALSE))","v":""},""]
[{"$f":"IF(OR(E30105=\"\",ISBLANK(E30105)),\"\",VLOOKUP(E30105,Sheet2!A:F,2,FALSE))","v":""},{"$f":"IF(OR(E30105=\"\",ISBLANK(E30105)),\"\",VLOOKUP(E30105,Sheet2!A:G,4,FALSE))","v":""},"",{"$f":"IF(OR(E30105=\"\",ISBLANK(E30105)),\"\",VLOOKUP(E30105,Sheet2!A:H,3,FALSE))","v":""},null,{"$f":"IF(OR(E30105=\"\",ISBLANK(E30105)),\"\",VLOOKUP(E30105,Sheet2!A:G,6,FALSE))","v":""},""]
[{"$f":"IF(OR(E30121=\"\",ISBLANK(E30121)),\"\",VLOOKUP(E30121,Sheet2!A:F,2,FALSE))","v":""},{"$f":"IF(OR(E30121=\"\",ISBLANK(E30121)),\"\",VLOOKUP(E30121,Sheet2!A:G,4,FALSE))","v":""},"",{"$f":"IF(OR(E30121=\"\",ISBLANK(E30121)),\"\",VLOOKUP(E30121,Sheet2!A:H,3,FALSE))","v":""},null,{"$f":"IF(OR(E30121=\"\",ISBLANK(E30121)),\"\",VLOOKUP(E30121,Sheet2!A:G,6,FALSE))","v":""},""]
[{"$f":"IF(OR(E30148=\"\",ISBLANK(E30148)),\"\",VLOOKUP(E30148,Sheet2!A:F,2,FALSE))","v":""},{"$f":"IF(OR(E30148=\"\",ISBLANK(E30148)),\"\",VLOOKUP(E30148,Sheet2!A:G,4,FALSE))","v":""},"",{"$f":"IF(OR(E30148=\"\",ISBLANK(E30148)),\"\",VLOOKUP(E30148,Sheet2!A:H,3,FALSE))","v":""},null,{"$f":"IF(OR(E30148=\"\",ISBLANK(E30148)),\"\",VLOOKUP(E30148,Sheet2!A:G,6,FALSE))","v":""},""]
[{"$f":"IF(OR(E30171=\"\",ISBLANK(E30171)),\"\",VLOOKUP(E30171,Sheet2!A:F,2,FALSE))","v":""},{"$f":"IF(OR(E30171=\"\",ISBLANK(E30171)),\"\",VLOOKUP(E30171,Sheet2!A:G,4,FALSE))","v":""},"",{"$f":"IF(OR(E30171=\"\",ISBLANK(E30171)),\"\",VLOOKUP(E30171,Sheet2!A:H,3,FALSE))","v":""},null,{"$f":"IF(OR(E30171=\"\",ISBLANK(E30171)),\"\",VLOOKUP(E30171,Sheet2!A:G,6,FALSE))","v":""},""]
[{"$f":"IF(OR(E30207=\"\",ISBLANK(E30207)),\"\",VLOOKUP(E30207,Sheet2!A:F,2,FALSE))","v":""},{"$f":"IF(OR(E30207=\"\",ISBLANK(E30207)),\"\",VLOOKUP(E30207,Sheet2!A:G,4,FALSE))","v":""},"",{"$f":"IF(OR(E30207=\"\",ISBLANK(E30207)),\"\",VLOOKUP(E30207,Sheet2!A:H,3,FALSE))","v":""},null,{"$f":"IF(OR(E30207=\"\",ISBLANK(E30207)),\"\",VLOOKUP(E30207,Sheet2!A:G,6,FALSE))","v":""},""]
[{"$f":"IF(OR(E30240=\"\",ISBLANK(E30240)),\"\",VLOOKUP(E30240,Sheet2!A:F,2,FALSE))","v":""},{"$f":"IF(OR(E30240=\"\",ISBLANK(E30240)),\"\",VLOOKUP(E30240,Sheet2!A:G,4,FALSE))","v":""},"",{"$f":"IF(OR(E30240=\"\",ISBLANK(E30240)),\"\",VLOOKUP(E30240,Sheet2!A:H,3,FALSE))","v":""},null,{"$f":"IF(OR(E30240=\"\",ISBLANK(E30240)),\"\",VLOOKUP(E30240,Sheet2!A:G,6,FALSE))","v":""},""]
[{"$f":"IF(OR(E30260=\"\",ISBLANK(E30260)),\"\",VLOOKUP(E30260,Sheet2!A:F,2,FALSE))","v":""},{"$f":"IF(OR(E30260=\"\",ISBLANK(E30260)),\"\",VLOOKUP(E30260,Sheet2!A:G,4,FALSE))","v":""},"",{"$f":"IF(OR(E30260=\"\",ISBLANK(E30260)),\"\",VLOOKUP(E30260,Sheet2!A:H,3,FALSE))","v":""},null,{"$f":"IF(OR(E30260=\"\",ISBLANK(E30260)),\"\",VLOOKUP(E30260,Sheet2!A:G,6,FALSE))","v":""},""]
[{"$f":"IF(OR(E30275=\"\",ISBLANK(E30275)),\"\",VLOOKUP(E30275,Sheet2!A:F,2,FALSE))","v":""},{"$f":"IF(OR(E30275=\"\",ISBLANK(E30275)),\"\",VLOOKUP(E30275,Sheet2!A:G,4,FALSE))","v":""},{"$f":"IF(D30275=0,\"\",D30275)","v":""},{"$f":"IF(OR(E30275=\"\",ISBLANK(E30275)),\"\",VLOOKUP(E30275,Sheet2!A:H,3,FALSE))","v":""},null,{"$f":"IF(OR(E30275=\"\",ISBLANK(E30275)),\"\",VLOOKUP(E30275,Sheet2!A:G,6,FALSE))","v":""},{"$f":"IF(F30275=0,\"\",F30275)","v":""}]
[{"$f":"IF(OR(E30310=\"\",ISBLANK(E30310)),\"\",VLOOKUP(E30310,Sheet2!A:F,2,FALSE))","v":""},{"$f":"IF(OR(E30310=\"\",ISBLANK(E30310)),\"\",VLOOKUP(E30310,Sheet2!A:G,4,FALSE))","v":""},"",{"$f":"IF(OR(E30310=\"\",ISBLANK(E30310)),\"\",VLOOKUP(E30310,Sheet2!A:H,3,FALSE))","v":""},null,{"$f":"IF(OR(E30310=\"\",ISBLANK(E30310)),\"\",VLOOKUP(E30310,Sheet2!A:G,6,FALSE))","v":""},""]
[{"$f":"IF(OR(E30334=\"\",ISBLANK(E30334)),\"\",VLOOKUP(E30334,Sheet2!A:F,2,FALSE))","v":""},{"$f":"IF(OR(E30334=\"\",ISBLANK(E30334)),\"\",VLOOKUP(E30334,Sheet2!A:G,4,FALSE))","v":""},"",{"$f":"IF(OR(E30334=\"\",ISBLANK(E30334)),\"\",VLOOKUP(E30334,Sheet2!A:H,3,FALSE))","v":""},null,{"$f":"IF(OR(E30334=\"\",ISBLANK(E30334)),\"\",VLOOKUP(E30334,Sheet2!A:G,6,FALSE))","v":""},""]
[{"$f":"IF(OR(E30343=\"\",ISBLANK(E30343)),\"\",VLOOKUP(E30343,Sheet2!A:F,2,FALSE))","v":""},{"$f":"IF(OR(E30343=\"\",ISBLANK(E30343)),\"\",VLOOKUP(E30343,Sheet2!A:G,4,FALSE))","v":""},"",{"$f":"IF(OR(E30343=\"\",ISBLANK(E30343)),\"\",VLOOKUP(E30343,Sheet2!A:H,3,FALSE))","v":""},null,{"$f":"IF(OR(E30343=\"\",ISBLANK(E30343)),\"\",VLOOKUP(E30343,Sheet2!A:G,6,FALSE))","v":""},""]
[{"$f":"IF(OR(E30374=\"\",ISBLANK(E30374)),\"\",VLOOKUP(E30374,Sheet2!A:F,2,FALSE))","v":""},{"$f":"IF(OR(E30374=\"\",ISBLANK(E30374)),\"\",VLOOKUP(E30374,Sheet2!A:G,4,FALSE))","v":""},"",{"$f":"IF(OR(E30374=\"\",ISBLANK(E30374)),\"\",VLOOKUP(E30374,Sheet2!A:H,3,FALSE))","v":""},null,{"$f":"IF(OR(E30374=\"\",ISBLANK(E30374)),\"\",VLOOKUP(E30374,Sheet2!A:G,6,FALSE))","v":""},""]
[{"$f":"IF(OR(E30402=\"\",ISBLANK(E30402)),\"\",VLOOKUP(E30402,Sheet2!A:F,2,FALSE))","v":""},{"$f":"IF(OR(E30402=\"\",ISBLANK(E30402)),\"\",VLOOKUP(E30402,Sheet2!A:G,4,FALSE))","v":""},"",{"$f":"IF(OR(E30402=\"\",ISBLANK(E30402)),\"\",VLOOKUP(E30402,Sheet2!A:H,3,FALSE))","v":""},null,{"$f":"IF(OR(E30402=\"\",ISBLANK(E30402)),\"\",VLOOKUP(E30402,Sheet2!A:G,6,FALSE))","v":""},""]
[{"$f":"IF(OR(E30435=\"\",ISBLANK(E30435)),\"\",VLOOKUP(E30435,Sheet2!A:F,2,FALSE))","v":""},{"$f":"IF(OR(E30435=\"\",ISBLANK(E30435)),\"\",VLOOKUP(E30435,Sheet2!A:G,4,FALSE))","v":""},"",{"$f":"IF(OR(E30435=\"\",ISBLANK(E30435)),\"\",VLOOKUP(E30435,Sheet2!A:H,3,FALSE))","v":""},null,{"$f":"IF(OR(E30435=\"\",ISBLANK(E30435)),\"\",VLOOKUP(E30435,Sheet2!A:G,6,FALSE))","v":""},""]
[{"$f":"IF(OR(E30438=\"\",ISBLANK(E30438)),\"\",VLOOKUP(E30438,Sheet2!A:F,2,FALSE))","v":""},{"$f":"IF(OR(E30438=\"\",ISBLANK(E30438)),\"\",VLOOKUP(E30438,Sheet2!A:G,4,FALSE))","v":""},"",{"$f":"IF(OR(E30438=\"\",ISBLANK(E30438)),\"\",VLOOKUP(E30438,Sheet2!A:H,3,FALSE))","v":""},null,{"$f":"IF(OR(E30438=\"\",ISBLANK(E30438)),\"\",VLOOKUP(E30438,Sheet2!A:G,6,FALSE))","v":""},""]
[{"$f":"IF(OR(E30470=\"\",ISBLANK(E30470)),\"\",VLOOKUP(E30470,Sheet2!A:F,2,FALSE))","v":""},{"$f":"IF(OR(E30470=\"\",ISBLANK(E30470)),\"\",VLOOKUP(E30470,Sheet2!A:G,4,FALSE))","v":""},"",{"$f":"IF(OR(E30470=\"\",ISBLANK(E30470)),\"\",VLOOKUP(E30470,Sheet2!A:H,3,FALSE))","v":""},null,{"$f":"IF(OR(E30470=\"\",ISBLANK(E30470)),\"\",VLOOKUP(E30470,Sheet2!A:G,6,FALSE))","v":""},""]
[{"$f":"IF(OR(E30488=\"\",ISBLANK(E30488)),\"\",VLOOKUP(E30488,Sheet2!A:F,2,FALSE))","v":""},{"$f":"IF(OR(E30488=\"\",ISBLANK(E30488)),\"\",VLOOKUP(E30488,Sheet2!A:G,4,FALSE))","v":""},"",{"$f":"IF(OR(E30488=\"\",ISBLANK(E30488)),\"\",VLOOKUP(E30488,Sheet2!A:H,3,FALSE))","v":""},null,{"$f":"IF(OR(E30488=\"\",ISBLANK(E30488)),\"\",VLOOKUP(E30488,Sheet2!A:G,6,FALSE))","v":""},""]
[{"$f":"IF(OR(E30529=\"\",ISBLANK(E30529)),\"\",VLOOKUP(E30529,Sheet2!A:F,2,FALSE))","v":""},{"$f":"IF(OR(E30529=\"\",ISBLANK(E30529)),\"\",VLOOKUP(E30529,Sheet2!A:G,4,FALSE))","v":""},"",{"$f":"IF(OR(E30529=\"\",ISBLANK(E30529)),\"\",VLOOKUP(E30529,Sheet2!A:H,3,FALSE))","v":""},null,{"$f":"IF(OR(E30529=\"\",ISBLANK(E30529)),\"\",VLOOKUP(E30529,Sheet2!A:G,6,FALSE))","v":""},""]
[{"$f":"IF(OR(E30538=\"\",ISBLANK(E30538)),\"\",VLOOKUP(E30538,Sheet2!A:F,2,FALSE))","v":""},{"$f":"IF(OR(E30538=\"\",ISBLANK(E30538)),\"\",VLOOKUP(E30538,Sheet2!A:G,4,FALSE))","v":""},"",{"$f":"IF(OR(E30538=\"\",ISBLANK(E30538)),\"\",VLOOKUP(E30538,Sheet2!A:H,3,FALSE))","v":""},null,{"$f":"IF(OR(E30538=\"\",ISBLANK(E30538)),\"\",VLOOKUP(E30538,Sheet2!A:G,6,FALSE))","v":""},""]
[{"$f":"IF(OR(E30577=\"\",ISBLANK(E30577)),\"\",VLOOKUP(E30577,Sheet2!A:F,2,FALSE))","v":""},{"$f":"IF(OR(E30577=\"\",ISBLANK(E30577)),\"\",VLOOKUP(E30577,Sheet2!A:G,4,FALSE))","v":""},"",{"$f":"IF(OR(E30577=\"\",ISBLANK(E30577)),\"\",VLOOKUP(E30577,Sheet2!A:H,3,FALSE))","v":""},null,{"$f":"IF(OR(E30577=\"\",ISBLANK(E30577)),\"\",VLOOKUP(E30577,Sheet2!A:G,6,FALSE))","v":""},""]
[{"$f":"IF(OR(E30597=\"\",ISBLANK(E30597)),\"\",VLOOKUP(E30597,Sheet2!A:F,2,FALSE))","v":""},{"$f":"IF(OR(E30597=\"\",ISBLANK(E30597)),\"\",VLOOKUP(E30597,Sheet2!A:G,4,FALSE))","v":""},"",{"$f":"IF(OR(E30597=\"\",ISBLANK(E30597)),\"\",VLOOKUP(E30597,Sheet2!A:H,3,FALSE))","v":""},null,{"$f":"IF(OR(E30597=\"\",ISBLANK(E30597)),\"\",VLOOKUP(E30597,Sheet2!A:G,6,FALSE))","v":""},""]
[{"$f":"IF(OR(E30627=\"\",ISBLANK(E30627)),\"\",VLOOKUP(E30627,Sheet2!A:F,2,FALSE))","v":""},{"$f":"IF(OR(E30627=\"\",ISBLANK(E30627)),\"\",VLOOKUP(E30627,Sheet2!A:G,4,FALSE))","v":""},"",{"$f":"IF(OR(E30627=\"\",ISBLANK(E30627)),\"\",VLOOKUP(E30627,Sheet2!A:H,3,FALSE))","v":""},null,{"$f":"IF(OR(E30627=\"\",ISBLANK(E30627)),\"\",VLOOKUP(E30627,Sheet2!A:G,6,FALSE))","v":""},""]
[{"$f":"IF(OR(E30656=\"\",ISBLANK(E30656)),\"\",VLOOKUP(E30656,Sheet2!A:F,2,FALSE))","v":""},{"$f":"IF(OR(E30656=\"\",ISBLANK(E30656)),\"\",VLOOKUP(E30656,Sheet2!A:G,4,FALSE))","v":""},"",{"$f":"IF(OR(E30656=\"\",ISBLANK(E30656)),\"\",VLOOKUP(E30656,Sheet2!A:H,3,FALSE))","v":""},null,{"$f":"IF(OR(E30656=\"\",ISBLANK(E30656)),\"\",VLOOKUP(E30656,Sheet2!A:G,6,FALSE))","v":""},""]
[{"$f":"IF(OR(E30665=\"\",ISBLANK(E30665)),\"\",VLOOKUP(E30665,Sheet2!A:F,2,FALSE))","v":""},{"$f":"IF(OR(E30665=\"\",ISBLANK(E30665)),\"\",VLOOKUP(E30665,Sheet2!A:G,4,FALSE))","v":""},"",{"$f":"IF(OR(E30665=\"\",ISBLANK(E30665)),\"\",VLOOKUP(E30665,Sheet2!A:H,3,FALSE))","v":""},null,{"$f":"IF(OR(E30665=\"\",ISBLANK(E30665)),\"\",VLOOKUP(E30665,Sheet2!A:G,6,FALSE))","v":""},""]
[{"$f":"IF(OR(E30691=\"\",ISBLANK(E30691)),\"\",VLOOKUP(E30691,Sheet2!A:F,2,FALSE))","v":""},{"$f":"IF(OR(E30691=\"\",ISBLANK(E30691)),\"\",VLOOKUP(E30691,Sheet2!A:G,4,FALSE))","v":""},"",{"$f":"IF(OR(E30691=\"\",ISBLANK(E30691)),\"\",VLOOKUP(E30691,Sheet2!A:H,3,FALSE))","v":""},null,{"$f":"IF(OR(E30691=\"\",ISBLANK(E30691)),\"\",VLOOKUP(E30691,Sheet2!A:G,6,FALSE))","v":""},""]
[{"$f":"IF(OR(E30724=\"\",ISBLANK(E30724)),\"\",VLOOKUP(E30724,Sheet2!A:F,2,FALSE))","v":""},{"$f":"IF(OR(E30724=\"\",ISBLANK(E30724)),\"\",VLOOKUP(E30724,Sheet2!A:G,4,FALSE))","v":""},"",{"$f":"IF(OR(E30724=\"\",ISBLANK(E30724)),\"\",VLOOKUP(E30724,Sheet2!A:H,3,FALSE))","v":""},null,{"$f":"IF(OR(E30724=\"\",ISBLANK(E30724)),\"\",VLOOKUP(E30724,Sheet2!A:G,6,FALSE))","v":""},""]
[{"$f":"IF(OR(E30745=\"\",ISBLANK(E30745)),\"\",VLOOKUP(E30745,Sheet2!A:F,2,FALSE))","v":""},{"$f":"IF(OR(E30745=\"\",ISBLANK(E30745)),\"\",VLOOKUP(E30745,Sheet2!A:G,4,FALSE))","v":""},"",{"$f":"IF(OR(E30745=\"\",ISBLANK(E30745)),\"\",VLOOKUP(E30745,Sheet2!A:H,3,FALSE))","v":""},null,{"$f":"IF(OR(E30745=\"\",ISBLANK(E30745)),\"\",VLOOKUP(E30745,Sheet2!A:G,6,FALSE))","v":""},""]
[{"$f":"IF(OR(E30759=\"\",ISBLANK(E30759)),\"\",VLOOKUP(E30759,Sheet2!A:F,2,FALSE))","v":""},{"$f":"IF(OR(E30759=\"\",ISBLANK(E30759)),\"\",VLOOKUP(E30759,Sheet2!A:G,4,FALSE))","v":""},"",{"$f":"IF(OR(E30759=\"\",ISBLANK(E30759)),\"\",VLOOKUP(E30759,Sheet2!A:H,3,FALSE))","v":""},null,{"$f":"IF(OR(E30759=\"\",ISBLANK(E30759)),\"\",VLOOKUP(E30759,Sheet2!A:G,6,FALSE))","v":""},""]
[{"$f":"IF(OR(E30792=\"\",ISBLANK(E30792)),\"\",VLOOKUP(E30792,Sheet2!A:F,2,FALSE))","v":""},{"$f":"IF(OR(E30792=\"\",ISBLANK(E30792)),\"\",VLOOKUP(E30792,Sheet2!A:G,4,FALSE))","v":""},"",{"$f":"IF(OR(E30792=\"\",ISBLANK(E30792)),\"\",VLOOKUP(E30792,Sheet2!A:H,3,FALSE))","v":""},null,{"$f":"IF(OR(E30792=\"\",ISBLANK(E30792)),\"\",VLOOKUP(E30792,Sheet2!A:G,6,FALSE))","v":""},""]
[{"$f":"IF(OR(E30805=\"\",ISBLANK(E30805)),\"\",VLOOKUP(E30805,Sheet2!A:F,2,FALSE))","v":""},{"$f":"IF(OR(E30805=\"\",ISBLANK(E30805)),\"\",VLOOKUP(E30805,Sheet2!A:G,4,FALSE))","v":""},"",{"$f":"IF(OR(E30805=\"\",ISBLANK(E30805)),\"\",VLOOKUP(E30805,Sheet2!A:H,3,FALSE))","v":""},null,{"$f":"IF(OR(E30805=\"\",ISBLANK(E30805)),\"\",VLOOKUP(E30805,Sheet2!A:G,6,FALSE))","v":""},""]
[{"$f":"IF(OR(E30851=\"\",ISBLANK(E30851)),\"\",VLOOKUP(E30851,Sheet2!A:F,2,FALSE))","v":""},{"$f":"IF(OR(E30851=\"\",ISBLANK(E30851)),\"\",VLOOKUP(E30851,Sheet2!A:G,4,FALSE))","v":""},{"$f":"IF(D30851=0,\"\",D30851)","v":""},{"$f":"IF(OR(E30851=\"\",ISBLANK(E30851)),\"\",VLOOKUP(E30851,Sheet2!A:H,3,FALSE))","v":""},null,{"$f":"IF(OR(E30851=\"\",ISBLANK(E30851)),\"\",VLOOKUP(E30851,Sheet2!A:G,6,FALSE))","v":""},{"$f":"IF(F30851=0,\"\",F30851)","v":""}]
[{"$f":"IF(OR(E30860=\"\",ISBLANK(E30860)),\"\",VLOOKUP(E30860,Sheet2!A:F,2,FALSE))","v":""},{"$f":"IF(OR(E30860=\"\",ISBLANK(E30860)),\"\",VLOOKUP(E30860,Sheet2!A:G,4,FALSE))","v":""},"",{"$f":"IF(OR(E30860=\"\",ISBLANK(E30860)),\"\",VLOOKUP(E30860,Sheet2!A:H,3,FALSE))","v":""},null,{"$f":"IF(OR(E30860=\"\",ISBLANK(E30860)),\"\",VLOOKUP(E30860,Sheet2!A:G,6,FALSE))","v":""},""]
[{"$f":"IF(OR(E30894=\"\",ISBLANK(E30894)),\"\",VLOOKUP(E30894,Sheet2!A:F,2,FALSE))","v":""},{"$f":"IF(OR(E30894=\"\",ISBLANK(E30894)),\"\",VLOOKUP(E30894,Sheet2!A:G,4,FALSE))","v":""},"",{"$f":"IF(OR(E30894=\"\",ISBLANK(E30894)),\"\",VLOOKUP(E30894,Sheet2!A:H,3,FALSE))","v":""},null,{"$f":"IF(OR(E30894=\"\",ISBLANK(E30894)),\"\",VLOOKUP(E30894,Sheet2!A:G,6,FALSE))","v":""},""]
[{"$f":"IF(OR(E30919=\"\",ISBLANK(E30919)),\"\",VLOOKUP(E30919,Sheet2!A:F,2,FALSE))","v":""},{"$f":"IF(OR(E30919=\"\",ISBLANK(E30919)),\"\",VLOOKUP(E30919,Sheet2!A:G,4,FALSE))","v":""},"",{"$f":"IF(OR(E30919=\"\",ISBLANK(E30919)),\"\",VLOOKUP(E30919,Sheet2!A:H,3,FALSE))","v":""},null,{"$f":"IF(OR(E30919=\"\",ISBLANK(E30919)),\"\",VLOOKUP(E30919,Sheet2!A:G,6,FALSE))","v":""},""]
[{"$f":"IF(OR(E30944=\"\",ISBLANK(E30944)),\"\",VLOOKUP(E30944,Sheet2!A:F,2,FALSE))","v":""},{"$f":"IF(OR(E30944=\"\",ISBLANK(E30944)),\"\",VLOOKUP(E30944,Sheet2!A:G,4,FALSE))","v":""},"",{"$f":"IF(OR(E30944=\"\",ISBLANK(E30944)),\"\",VLOOKUP(E30944,Sheet2!A:H,3,FALSE))","v":""},null,{"$f":"IF(OR(E30944=\"\",ISBLANK(E30944)),\"\",VLOOKUP(E30944,Sheet2!A:G,6,FALSE))","v":""},""]
[{"$f":"IF(OR(E30954=\"\",ISBLANK(E30954)),\"\",VLOOKUP(E30954,Sheet2!A:F,2,FALSE))","v":""},{"$f":"IF(OR(E30954=\"\",ISBLANK(E30954)),\"\",VLOOKUP(E30954,Sheet2!A:G,4,FALSE))","v":""},"",{"$f":"IF(OR(E30954=\"\",ISBLANK(E30954)),\"\",VLOOKUP(E30954,Sheet2!A:H,3,FALSE))","v":""},null,{"$f":"IF(OR(E30954=\"\",ISBLANK(E30954)),\"\",VLOOKUP(E30954,Sheet2!A:G,6,FALSE))","v":""},""]
[{"$f":"IF(OR(E30987=\"\",ISBLANK(E30987)),\"\",VLOOKUP(E30987,Sheet2!A:F,2,FALSE))","v":""},{"$f":"IF(OR(E30987=\"\",ISBLANK(E30987)),\"\",VLOOKUP(E30987,Sheet2!A:G,4,FALSE))","v":""},"",{"$f":"IF(OR(E30987=\"\",ISBLANK(E30987)),\"\",VLOOKUP(E30987,Sheet2!A:H,3,FALSE))","v":""},null,{"$f":"IF(OR(E30987=\"\",ISBLANK(E30987)),\"\",VLOOKUP(E30987,Sheet2!A:G,6,FALSE))","v":""},""]
[{"$f":"IF(OR(E31008=\"\",ISBLANK(E31008)),\"\",VLOOKUP(E31008,Sheet2!A:F,2,FALSE))","v":""},{"$f":"IF(OR(E31008=\"\",ISBLANK(E31008)),\"\",VLOOKUP(E31008,Sheet2!A:G,4,FALSE))","v":""},"",{"$f":"IF(OR(E31008=\"\",ISBLANK(E31008)),\"\",VLOOKUP(E31008,Sheet2!A:H,3,FALSE))","v":""},null,{"$f":"IF(OR(E31008=\"\",ISBLANK(E31008)),\"\",VLOOKUP(E31008,Sheet2!A:G,6,FALSE))","v":""},""]
[{"$f":"IF(OR(E31046=\"\",ISBLANK(E31046)),\"\",VLOOKUP(E31046,Sheet2!A:F,2,FALSE))","v":""},{"$f":"IF(OR(E31046=\"\",ISBLANK(E31046)),\"\",VLOOKUP(E31046,Sheet2!A:G,4,FALSE))","v":""},"",{"$f":"IF(OR(E31046=\"\",ISBLANK(E31046)),\"\",VLOOKUP(E31046,Sheet2!A:H,3,FALSE))","v":""},null,{"$f":"IF(OR(E31046=\"\",ISBLANK(E31046)),\"\",VLOOKUP(E31046,Sheet2!A:G,6,FALSE))","v":""},""]
[{"$f":"IF(OR(E31062=\"\",ISBLANK(E31062)),\"\",VLOOKUP(E31062,Sheet2!A:F,2,FALSE))","v":""},{"$f":"IF(OR(E31062=\"\",ISBLANK(E31062)),\"\",VLOOKUP(E31062,Sheet2!A:G,4,FALSE))","v":""},"",{"$f":"IF(OR(E31062=\"\",ISBLANK(E31062)),\"\",VLOOKUP(E31062,Sheet2!A:H,3,FALSE))","v":""},null,{"$f":"IF(OR(E31062=\"\",ISBLANK(E31062)),\"\",VLOOKUP(E31062,Sheet2!A:G,6,FALSE))","v":""},""]
[{"$f":"IF(OR(E31081=\"\",ISBLANK(E31081)),\"\",VLOOKUP(E31081,Sheet2!A:F,2,FALSE))","v":""},{"$f":"IF(OR(E31081=\"\",ISBLANK(E31081)),\"\",VLOOKUP(E31081,Sheet2!A:G,4,FALSE))","v":""},"",{"$f":"IF(OR(E31081=\"\",ISBLANK(E31081)),\"\",VLOOKUP(E31081,Sheet2!A:H,3,FALSE))","v":""},null,{"$f":"IF(OR(E31081=\"\",ISBLANK(E31081)),\"\",VLOOKUP(E31081,Sheet2!A:G,6,FALSE))","v":""},""]
[{"$f":"IF(OR(E31114=\"\",ISBLANK(E31114)),\"\",VLOOKUP(E31114,Sheet2!A:F,2,FALSE))","v":""},{"$f":"IF(OR(E31114=\"\",ISBLANK(E31114)),\"\",VLOOKUP(E31114,Sheet2!A:G,4,FALSE))","v":""},"",{"$f":"IF(OR(E31114=\"\",ISBLANK(E31114)),\"\",VLOOKUP(E31114,Sheet2!A:H,3,FALSE))","v":""},null,{"$f":"IF(OR(E31114=\"\",ISBLANK(E31114)),\"\",VLOOKUP(E31114,Sheet2!A:G,6,FALSE))","v":""},""]
[{"$f":"IF(OR(E31122=\"\",ISBLANK(E31122)),\"\",VLOOKUP(E31122,Sheet2!A:F,2,FALSE))","v":""},{"$f":"IF(OR(E31122=\"\",ISBLANK(E31122)),\"\",VLOOKUP(E31122,Sheet2!A:G,4,FALSE))","v":""},"",{"$f":"IF(OR(E31122=\"\",ISBLANK(E31122)),\"\",VLOOKUP(E31122,Sheet2!A:H,3,FALSE))","v":""},null,{"$f":"IF(OR(E31122=\"\",ISBLANK(E31122)),\"\",VLOOKUP(E31122,Sheet2!A:G,6,FALSE))","v":""},""]
[{"$f":"IF(OR(E31149=\"\",ISBLANK(E31149)),\"\",VLOOKUP(E31149,Sheet2!A:F,2,FALSE))","v":""},{"$f":"IF(OR(E31149=\"\",ISBLANK(E31149)),\"\",VLOOKUP(E31149,Sheet2!A:G,4,FALSE))","v":""},"",{"$f":"IF(OR(E31149=\"\",ISBLANK(E31149)),\"\",VLOOKUP(E31149,Sheet2!A:H,3,FALSE))","v":""},null,{"$f":"IF(OR(E31149=\"\",ISBLANK(E31149)),\"\",VLOOKUP(E31149,Sheet2!A:G,6,FALSE))","v":""},""]
[{"$f":"IF(OR(E31176=\"\",ISBLANK(E31176)),\"\",VLOOKUP(E31176,Sheet2!A:F,2,FALSE))","v":""},{"$f":"IF(OR(E31176=\"\",ISBLANK(E31176)),\"\",VLOOKUP(E31176,Sheet2!A:G,4,FALSE))","v":""},"",{"$f":"IF(OR(E31176=\"\",ISBLANK(E31176)),\"\",VLOOKUP(E31176,Sheet2!A:H,3,FALSE))","v":""},null,{"$f":"IF(OR(E31176=\"\",ISBLANK(E31176)),\"\",VLOOKUP(E31176,Sheet2!A:G,6,FALSE))","v":""},""]
[{"$f":"IF(OR(E31208=\"\",ISBLANK(E31208)),\"\",VLOOKUP(E31208,Sheet2!A:F,2,FALSE))","v":""},{"$f":"IF(OR(E31208=\"\",ISBLANK(E31208)),\"\",VLOOKUP(E31208,Sheet2!A:G,4,FALSE))","v":""},"",{"$f":"IF(OR(E31208=\"\",ISBLANK(E31208)),\"\",VLOOKUP(E31208,Sheet2!A:H,3,FALSE))","v":""},null,{"$f":"IF(OR(E31208=\"\",ISBLANK(E31208)),\"\",VLOOKUP(E31208,Sheet2!A:G,6,FALSE))","v":""},""]
[{"$f":"IF(OR(E31241=\"\",ISBLANK(E31241)),\"\",VLOOKUP(E31241,Sheet2!A:F,2,FALSE))","v":""},{"$f":"IF(OR(E31241=\"\",ISBLANK(E31241)),\"\",VLOOKUP(E31241,Sheet2!A:G,4,FALSE))","v":""},"",{"$f":"IF(OR(E31241=\"\",ISBLANK(E31241)),\"\",VLOOKUP(E31241,Sheet2!A:H,3,FALSE))","v":""},null,{"$f":"IF(OR(E31241=\"\",ISBLANK(E31241)),\"\",VLOOKUP(E31241,Sheet2!A:G,6,FALSE))","v":""},""]
[{"$f":"IF(OR(E31265=\"\",ISBLANK(E31265)),\"\",VLOOKUP(E31265,Sheet2!A:F,2,FALSE))","v":""},{"$f":"IF(OR(E31265=\"\",ISBLANK(E31265)),\"\",VLOOKUP(E31265,Sheet2!A:G,4,FALSE))","v":""},"",{"$f":"IF(OR(E31265=\"\",ISBLANK(E31265)),\"\",VLOOKUP(E31265,Sheet2!A:H,3,FALSE))","v":""},null,{"$f":"IF(OR(E31265=\"\",ISBLANK(E31265)),\"\",VLOOKUP(E31265,Sheet2!A:G,6,FALSE))","v":""},""]
[{"$f":"IF(OR(E31276=\"\",ISBLANK(E31276)),\"\",VLOOKUP(E31276,Sheet2!A:F,2,FALSE))","v":""},{"$f":"IF(OR(E31276=\"\",ISBLANK(E31276)),\"\",VLOOKUP(E31276,Sheet2!A:G,4,FALSE))","v":""},"",{"$f":"IF(OR(E31276=\"\",ISBLANK(E31276)),\"\",VLOOKUP(E31276,Sheet2!A:H,3,FALSE))","v":""},null,{"$f":"IF(OR(E31276=\"\",ISBLANK(E31276)),\"\",VLOOKUP(E31276,Sheet2!A:G,6,FALSE))","v":""},""]
[{"$f":"IF(OR(E31309=\"\",ISBLANK(E31309)),\"\",VLOOKUP(E31309,Sheet2!A:F,2,FALSE))","v":""},{"$f":"IF(OR(E31309=\"\",ISBLANK(E31309)),\"\",VLOOKUP(E31309,Sheet2!A:G,4,FALSE))","v":""},"",{"$f":"IF(OR(E31309=\"\",ISBLANK(E31309)),\"\",VLOOKUP(E31309,Sheet2!A:H,3,FALSE))","v":""},null,{"$f":"IF(OR(E31309=\"\",ISBLANK(E31309)),\"\",VLOOKUP(E31309,Sheet2!A:G,6,FALSE))","v":""},""]
[{"$f":"IF(OR(E31325=\"\",ISBLANK(E31325)),\"\",VLOOKUP(E31325,Sheet2!A:F,2,FALSE))","v":""},{"$f":"IF(OR(E31325=\"\",ISBLANK(E31325)),\"\",VLOOKUP(E31325,Sheet2!A:G,4,FALSE))","v":""},"",{"$f":"IF(OR(E31325=\"\",ISBLANK(E31325)),\"\",VLOOKUP(E31325,Sheet2!A:H,3,FALSE))","v":""},null,{"$f":"IF(OR(E31325=\"\",ISBLANK(E31325)),\"\",VLOOKUP(E31325,Sheet2!A:G,6,FALSE))","v":""},""]
[{"$f":"IF(OR(E31344=\"\",ISBLANK(E31344)),\"\",VLOOKUP(E31344,Sheet2!A:F,2,FALSE))","v":""},{"$f":"IF(OR(E31344=\"\",ISBLANK(E31344)),\"\",VLOOKUP(E31344,Sheet2!A:G,4,FALSE))","v":""},"",{"$f":"IF(OR(E31344=\"\",ISBLANK(E31344)),\"\",VLOOKUP(E31344,Sheet2!A:H,3,FALSE))","v":""},null,{"$f":"IF(OR(E31344=\"\",ISBLANK(E31344)),\"\",VLOOKUP(E31344,Sheet2!A:G,6,FALSE))","v":""},""]
[{"$f":"IF(OR(E31379=\"\",ISBLANK(E31379)),\"\",VLOOKUP(E31379,Sheet2!A:F,2,FALSE))","v":""},{"$f":"IF(OR(E31379=\"\",ISBLANK(E31379)),\"\",VLOOKUP(E31379,Sheet2!A:G,4,FALSE))","v":""},"",{"$f":"IF(OR(E31379=\"\",ISBLANK(E31379)),\"\",VLOOKUP(E31379,Sheet2!A:H,3,FALSE))","v":""},null,{"$f":"IF(OR(E31379=\"\",ISBLANK(E31379)),\"\",VLOOKUP(E31379,Sheet2!A:G,6,FALSE))","v":""},""]
[{"$f":"IF(OR(E31403=\"\",ISBLANK(E31403)),\"\",VLOOKUP(E31403,Sheet2!A:F,2,FALSE))","v":""},{"$f":"IF(OR(E31403=\"\",ISBLANK(E31403)),\"\",VLOOKUP(E31403,Sheet2!A:G,4,FALSE))","v":""},"",{"$f":"IF(OR(E31403=\"\",ISBLANK(E31403)),\"\",VLOOKUP(E31403,Sheet2!A:H,3,FALSE))","v":""},null,{"$f":"IF(OR(E31403=\"\",ISBLANK(E31403)),\"\",VLOOKUP(E31403,Sheet2!A:G,6,FALSE))","v":""},""]
[{"$f":"IF(OR(E31436=\"\",ISBLANK(E31436)),\"\",VLOOKUP(E31436,Sheet2!A:F,2,FALSE))","v":""},{"$f":"IF(OR(E31436=\"\",ISBLANK(E31436)),\"\",VLOOKUP(E31436,Sheet2!A:G,4,FALSE))","v":""},"",{"$f":"IF(OR(E31436=\"\",ISBLANK(E31436)),\"\",VLOOKUP(E31436,Sheet2!A:H,3,FALSE))","v":""},null,{"$f":"IF(OR(E31436=\"\",ISBLANK(E31436)),\"\",VLOOKUP(E31436,Sheet2!A:G,6,FALSE))","v":""},""]
[{"$f":"IF(OR(E31439=\"\",ISBLANK(E31439)),\"\",VLOOKUP(E31439,Sheet2!A:F,2,FALSE))","v":""},{"$f":"IF(OR(E31439=\"\",ISBLANK(E31439)),\"\",VLOOKUP(E31439,Sheet2!A:G,4,FALSE))","v":""},"",{"$f":"IF(OR(E31439=\"\",ISBLANK(E31439)),\"\",VLOOKUP(E31439,Sheet2!A:H,3,FALSE))","v":""},null,{"$f":"IF(OR(E31439=\"\",ISBLANK(E31439)),\"\",VLOOKUP(E31439,Sheet2!A:G,6,FALSE))","v":""},""]
[{"$f":"IF(OR(E31471=\"\",ISBLANK(E31471)),\"\",VLOOKUP(E31471,Sheet2!A:F,2,FALSE))","v":""},{"$f":"IF(OR(E31471=\"\",ISBLANK(E31471)),\"\",VLOOKUP(E31471,Sheet2!A:G,4,FALSE))","v":""},"",{"$f":"IF(OR(E31471=\"\",ISBLANK(E31471)),\"\",VLOOKUP(E31471,Sheet2!A:H,3,FALSE))","v":""},null,{"$f":"IF(OR(E31471=\"\",ISBLANK(E31471)),\"\",VLOOKUP(E31471,Sheet2!A:G,6,FALSE))","v":""},""]
[{"$f":"IF(OR(E31493=\"\",ISBLANK(E31493)),\"\",VLOOKUP(E31493,Sheet2!A:F,2,FALSE))","v":""},{"$f":"IF(OR(E31493=\"\",ISBLANK(E31493)),\"\",VLOOKUP(E31493,Sheet2!A:G,4,FALSE))","v":""},"",{"$f":"IF(OR(E31493=\"\",ISBLANK(E31493)),\"\",VLOOKUP(E31493,Sheet2!A:H,3,FALSE))","v":""},null,{"$f":"IF(OR(E31493=\"\",ISBLANK(E31493)),\"\",VLOOKUP(E31493,Sheet2!A:G,6,FALSE))","v":""},""]
[{"$f":"IF(OR(E31530=\"\",ISBLANK(E31530)),\"\",VLOOKUP(E31530,Sheet2!A:F,2,FALSE))","v":""},{"$f":"IF(OR(E31530=\"\",ISBLANK(E31530)),\"\",VLOOKUP(E31530,Sheet2!A:G,4,FALSE))","v":""},"",{"$f":"IF(OR(E31530=\"\",ISBLANK(E31530)),\"\",VLOOKUP(E31530,Sheet2!A:H,3,FALSE))","v":""},null,{"$f":"IF(OR(E31530=\"\",ISBLANK(E31530)),\"\",VLOOKUP(E31530,Sheet2!A:G,6,FALSE))","v":""},""]
[{"$f":"IF(OR(E31539=\"\",ISBLANK(E31539)),\"\",VLOOKUP(E31539,Sheet2!A:F,2,FALSE))","v":""},{"$f":"IF(OR(E31539=\"\",ISBLANK(E31539)),\"\",VLOOKUP(E31539,Sheet2!A:G,4,FALSE))","v":""},"",{"$f":"IF(OR(E31539=\"\",ISBLANK(E31539)),\"\",VLOOKUP(E31539,Sheet2!A:H,3,FALSE))","v":""},null,{"$f":"IF(OR(E31539=\"\",ISBLANK(E31539)),\"\",VLOOKUP(E31539,Sheet2!A:G,6,FALSE))","v":""},""]
[{"$f":"IF(OR(E31582=\"\",ISBLANK(E31582)),\"\",VLOOKUP(E31582,Sheet2!A:F,2,FALSE))","v":""},{"$f":"IF(OR(E31582=\"\",ISBLANK(E31582)),\"\",VLOOKUP(E31582,Sheet2!A:G,4,FALSE))","v":""},"",{"$f":"IF(OR(E31582=\"\",ISBLANK(E31582)),\"\",VLOOKUP(E31582,Sheet2!A:H,3,FALSE))","v":""},null,{"$f":"IF(OR(E31582=\"\",ISBLANK(E31582)),\"\",VLOOKUP(E31582,Sheet2!A:G,6,FALSE))","v":""},""]
[{"$f":"IF(OR(E31598=\"\",ISBLANK(E31598)),\"\",VLOOKUP(E31598,Sheet2!A:F,2,FALSE))","v":""},{"$f":"IF(OR(E31598=\"\",ISBLANK(E31598)),\"\",VLOOKUP(E31598,Sheet2!A:G,4,FALSE))","v":""},"",{"$f":"IF(OR(E31598=\"\",ISBLANK(E31598)),\"\",VLOOKUP(E31598,Sheet2!A:H,3,FALSE))","v":""},null,{"$f":"IF(OR(E31598=\"\",ISBLANK(E31598)),\"\",VLOOKUP(E31598,Sheet2!A:G,6,FALSE))","v":""},""]
[{"$f":"IF(OR(E31632=\"\",ISBLANK(E31632)),\"\",VLOOKUP(E31632,Sheet2!A:F,2,FALSE))","v":""},{"$f":"IF(OR(E31632=\"\",ISBLANK(E31632)),\"\",VLOOKUP(E31632,Sheet2!A:G,4,FALSE))","v":""},"",{"$f":"IF(OR(E31632=\"\",ISBLANK(E31632)),\"\",VLOOKUP(E31632,Sheet2!A:H,3,FALSE))","v":""},null,{"$f":"IF(OR(E31632=\"\",ISBLANK(E31632)),\"\",VLOOKUP(E31632,Sheet2!A:G,6,FALSE))","v":""},""]
[{"$f":"IF(OR(E31633=\"\",ISBLANK(E31633)),\"\",VLOOKUP(E31633,Sheet2!A:F,2,FALSE))","v":""},{"$f":"IF(OR(E31633=\"\",ISBLANK(E31633)),\"\",VLOOKUP(E31633,Sheet2!A:G,4,FALSE))","v":""},"",{"$f":"IF(OR(E31633=\"\",ISBLANK(E31633)),\"\",VLOOKUP(E31633,Sheet2!A:H,3,FALSE))","v":""},null,{"$f":"IF(OR(E31633=\"\",ISBLANK(E31633)),\"\",VLOOKUP(E31633,Sheet2!A:G,6,FALSE))","v":""},""]
[{"$f":"IF(OR(E31666=\"\",ISBLANK(E31666)),\"\",VLOOKUP(E31666,Sheet2!A:F,2,FALSE))","v":""},{"$f":"IF(OR(E31666=\"\",ISBLANK(E31666)),\"\",VLOOKUP(E31666,Sheet2!A:G,4,FALSE))","v":""},"",{"$f":"IF(OR(E31666=\"\",ISBLANK(E31666)),\"\",VLOOKUP(E31666,Sheet2!A:H,3,FALSE))","v":""},null,{"$f":"IF(OR(E31666=\"\",ISBLANK(E31666)),\"\",VLOOKUP(E31666,Sheet2!A:G,6,FALSE))","v":""},""]
[{"$f":"IF(OR(E31696=\"\",ISBLANK(E31696)),\"\",VLOOKUP(E31696,Sheet2!A:F,2,FALSE))","v":""},{"$f":"IF(OR(E31696=\"\",ISBLANK(E31696)),\"\",VLOOKUP(E31696,Sheet2!A:G,4,FALSE))","v":""},"",{"$f":"IF(OR(E31696=\"\",ISBLANK(E31696)),\"\",VLOOKUP(E31696,Sheet2!A:H,3,FALSE))","v":""},null,{"$f":"IF(OR(E31696=\"\",ISBLANK(E31696)),\"\",VLOOKUP(E31696,Sheet2!A:G,6,FALSE))","v":""},""]
[{"$f":"IF(OR(E31725=\"\",ISBLANK(E31725)),\"\",VLOOKUP(E31725,Sheet2!A:F,2,FALSE))","v":""},{"$f":"IF(OR(E31725=\"\",ISBLANK(E31725)),\"\",VLOOKUP(E31725,Sheet2!A:G,4,FALSE))","v":""},"",{"$f":"IF(OR(E31725=\"\",ISBLANK(E31725)),\"\",VLOOKUP(E31725,Sheet2!A:H,3,FALSE))","v":""},null,{"$f":"IF(OR(E31725=\"\",ISBLANK(E31725)),\"\",VLOOKUP(E31725,Sheet2!A:G,6,FALSE))","v":""},""]
[{"$f":"IF(OR(E31734=\"\",ISBLANK(E31734)),\"\",VLOOKUP(E31734,Sheet2!A:F,2,FALSE))","v":""},{"$f":"IF(OR(E31734=\"\",ISBLANK(E31734)),\"\",VLOOKUP(E31734,Sheet2!A:G,4,FALSE))","v":""},"",{"$f":"IF(OR(E31734=\"\",ISBLANK(E31734)),\"\",VLOOKUP(E31734,Sheet2!A:H,3,FALSE))","v":""},null,{"$f":"IF(OR(E31734=\"\",ISBLANK(E31734)),\"\",VLOOKUP(E31734,Sheet2!A:G,6,FALSE))","v":""},""]
[{"$f":"IF(OR(E31760=\"\",ISBLANK(E31760)),\"\",VLOOKUP(E31760,Sheet2!A:F,2,FALSE))","v":""},{"$f":"IF(OR(E31760=\"\",ISBLANK(E31760)),\"\",VLOOKUP(E31760,Sheet2!A:G,4,FALSE))","v":""},"",{"$f":"IF(OR(E31760=\"\",ISBLANK(E31760)),\"\",VLOOKUP(E31760,Sheet2!A:H,3,FALSE))","v":""},null,{"$f":"IF(OR(E31760=\"\",ISBLANK(E31760)),\"\",VLOOKUP(E31760,Sheet2!A:G,6,FALSE))","v":""},""]
[{"$f":"IF(OR(E31793=\"\",ISBLANK(E31793)),\"\",VLOOKUP(E31793,Sheet2!A:F,2,FALSE))","v":""},{"$f":"IF(OR(E31793=\"\",ISBLANK(E31793)),\"\",VLOOKUP(E31793,Sheet2!A:G,4,FALSE))","v":""},"",{"$f":"IF(OR(E31793=\"\",ISBLANK(E31793)),\"\",VLOOKUP(E31793,Sheet2!A:H,3,FALSE))","v":""},null,{"$f":"IF(OR(E31793=\"\",ISBLANK(E31793)),\"\",VLOOKUP(E31793,Sheet2!A:G,6,FALSE))","v":""},""]
[{"$f":"IF(OR(E31810=\"\",ISBLANK(E31810)),\"\",VLOOKUP(E31810,Sheet2!A:F,2,FALSE))","v":""},{"$f":"IF(OR(E31810=\"\",ISBLANK(E31810)),\"\",VLOOKUP(E31810,Sheet2!A:G,4,FALSE))","v":""},"",{"$f":"IF(OR(E31810=\"\",ISBLANK(E31810)),\"\",VLOOKUP(E31810,Sheet2!A:H,3,FALSE))","v":""},null,{"$f":"IF(OR(E31810=\"\",ISBLANK(E31810)),\"\",VLOOKUP(E31810,Sheet2!A:G,6,FALSE))","v":""},""]
[{"$f":"IF(OR(E31828=\"\",ISBLANK(E31828)),\"\",VLOOKUP(E31828,Sheet2!A:F,2,FALSE))","v":""},{"$f":"IF(OR(E31828=\"\",ISBLANK(E31828)),\"\",VLOOKUP(E31828,Sheet2!A:G,4,FALSE))","v":""},"",{"$f":"IF(OR(E31828=\"\",ISBLANK(E31828)),\"\",VLOOKUP(E31828,Sheet2!A:H,3,FALSE))","v":""},null,{"$f":"IF(OR(E31828=\"\",ISBLANK(E31828)),\"\",VLOOKUP(E31828,Sheet2!A:G,6,FALSE))","v":""},""]
[{"$f":"IF(OR(E31861=\"\",ISBLANK(E31861)),\"\",VLOOKUP(E31861,Sheet2!A:F,2,FALSE))","v":""},{"$f":"IF(OR(E31861=\"\",ISBLANK(E31861)),\"\",VLOOKUP(E31861,Sheet2!A:G,4,FALSE))","v":""},"",{"$f":"IF(OR(E31861=\"\",ISBLANK(E31861)),\"\",VLOOKUP(E31861,Sheet2!A:H,3,FALSE))","v":""},null,{"$f":"IF(OR(E31861=\"\",ISBLANK(E31861)),\"\",VLOOKUP(E31861,Sheet2!A:G,6,FALSE))","v":""},""]
[{"$f":"IF(OR(E31899=\"\",ISBLANK(E31899)),\"\",VLOOKUP(E31899,Sheet2!A:F,2,FALSE))","v":""},{"$f":"IF(OR(E31899=\"\",ISBLANK(E31899)),\"\",VLOOKUP(E31899,Sheet2!A:G,4,FALSE))","v":""},"",{"$f":"IF(OR(E31899=\"\",ISBLANK(E31899)),\"\",VLOOKUP(E31899,Sheet2!A:H,3,FALSE))","v":""},null,{"$f":"IF(OR(E31899=\"\",ISBLANK(E31899)),\"\",VLOOKUP(E31899,Sheet2!A:G,6,FALSE))","v":""},""]
[{"$f":"IF(OR(E31920=\"\",ISBLANK(E31920)),\"\",VLOOKUP(E31920,Sheet2!A:F,2,FALSE))","v":""},{"$f":"IF(OR(E31920=\"\",ISBLANK(E31920)),\"\",VLOOKUP(E31920,Sheet2!A:G,4,FALSE))","v":""},"",{"$f":"IF(OR(E31920=\"\",ISBLANK(E31920)),\"\",VLOOKUP(E31920,Sheet2!A:H,3,FALSE))","v":""},null,{"$f":"IF(OR(E31920=\"\",ISBLANK(E31920)),\"\",VLOOKUP(E31920,Sheet2!A:G,6,FALSE))","v":""},""]
[{"$f":"IF(OR(E31949=\"\",ISBLANK(E31949)),\"\",VLOOKUP(E31949,Sheet2!A:F,2,FALSE))","v":""},{"$f":"IF(OR(E31949=\"\",ISBLANK(E31949)),\"\",VLOOKUP(E31949,Sheet2!A:G,4,FALSE))","v":""},"",{"$f":"IF(OR(E31949=\"\",ISBLANK(E31949)),\"\",VLOOKUP(E31949,Sheet2!A:H,3,FALSE))","v":""},null,{"$f":"IF(OR(E31949=\"\",ISBLANK(E31949)),\"\",VLOOKUP(E31949,Sheet2!A:G,6,FALSE))","v":""},""]
[{"$f":"IF(OR(E31955=\"\",ISBLANK(E31955)),\"\",VLOOKUP(E31955,Sheet2!A:F,2,FALSE))","v":""},{"$f":"IF(OR(E31955=\"\",ISBLANK(E31955)),\"\",VLOOKUP(E31955,Sheet2!A:G,4,FALSE))","v":""},"",{"$f":"IF(OR(E31955=\"\",ISBLANK(E31955)),\"\",VLOOKUP(E31955,Sheet2!A:H,3,FALSE))","v":""},null,{"$f":"IF(OR(E31955=\"\",ISBLANK(E31955)),\"\",VLOOKUP(E31955,Sheet2!A:G,6,FALSE))","v":""},""]
[{"$f":"IF(OR(E31988=\"\",ISBLANK(E31988)),\"\",VLOOKUP(E31988,Sheet2!A:F,2,FALSE))","v":""},{"$f":"IF(OR(E31988=\"\",ISBLANK(E31988)),\"\",VLOOKUP(E31988,Sheet2!A:G,4,FALSE))","v":""},"",{"$f":"IF(OR(E31988=\"\",ISBLANK(E31988)),\"\",VLOOKUP(E31988,Sheet2!A:H,3,FALSE))","v":""},null,{"$f":"IF(OR(E31988=\"\",ISBLANK(E31988)),\"\",VLOOKUP(E31988,Sheet2!A:G,6,FALSE))","v":""},""]
[{"$f":"IF(OR(E32013=\"\",ISBLANK(E32013)),\"\",VLOOKUP(E32013,Sheet2!A:F,2,FALSE))","v":""},{"$f":"IF(OR(E32013=\"\",ISBLANK(E32013)),\"\",VLOOKUP(E32013,Sheet2!A:G,4,FALSE))","v":""},"",{"$f":"IF(OR(E32013=\"\",ISBLANK(E32013)),\"\",VLOOKUP(E32013,Sheet2!A:H,3,FALSE))","v":""},null,{"$f":"IF(OR(E32013=\"\",ISBLANK(E32013)),\"\",VLOOKUP(E32013,Sheet2!A:G,6,FALSE))","v":""},""]
[{"$f":"IF(OR(E32023=\"\",ISBLANK(E32023)),\"\",VLOOKUP(E32023,Sheet2!A:F,2,FALSE))","v":""},{"$f":"IF(OR(E32023=\"\",ISBLANK(E32023)),\"\",VLOOKUP(E32023,Sheet2!A:G,4,FALSE))","v":""},"",{"$f":"IF(OR(E32023=\"\",ISBLANK(E32023)),\"\",VLOOKUP(E32023,Sheet2!A:H,3,FALSE))","v":""},null,{"$f":"IF(OR(E32023=\"\",ISBLANK(E32023)),\"\",VLOOKUP(E32023,Sheet2!A:G,6,FALSE))","v":""},""]
[{"$f":"IF(OR(E32063=\"\",ISBLANK(E32063)),\"\",VLOOKUP(E32063,Sheet2!A:F,2,FALSE))","v":""},{"$f":"IF(OR(E32063=\"\",ISBLANK(E32063)),\"\",VLOOKUP(E32063,Sheet2!A:G,4,FALSE))","v":""},"",{"$f":"IF(OR(E32063=\"\",ISBLANK(E32063)),\"\",VLOOKUP(E32063,Sheet2!A:H,3,FALSE))","v":""},null,{"$f":"IF(OR(E32063=\"\",ISBLANK(E32063)),\"\",VLOOKUP(E32063,Sheet2!A:G,6,FALSE))","v":""},""]
[{"$f":"IF(OR(E32090=\"\",ISBLANK(E32090)),\"\",VLOOKUP(E32090,Sheet2!A:F,2,FALSE))","v":""},{"$f":"IF(OR(E32090=\"\",ISBLANK(E32090)),\"\",VLOOKUP(E32090,Sheet2!A:G,4,FALSE))","v":""},"",{"$f":"IF(OR(E32090=\"\",ISBLANK(E32090)),\"\",VLOOKUP(E32090,Sheet2!A:H,3,FALSE))","v":""},null,{"$f":"IF(OR(E32090=\"\",ISBLANK(E32090)),\"\",VLOOKUP(E32090,Sheet2!A:G,6,FALSE))","v":""},""]
[{"$f":"IF(OR(E32115=\"\",ISBLANK(E32115)),\"\",VLOOKUP(E32115,Sheet2!A:F,2,FALSE))","v":""},{"$f":"IF(OR(E32115=\"\",ISBLANK(E32115)),\"\",VLOOKUP(E32115,Sheet2!A:G,4,FALSE))","v":""},"",{"$f":"IF(OR(E32115=\"\",ISBLANK(E32115)),\"\",VLOOKUP(E32115,Sheet2!A:H,3,FALSE))","v":""},null,{"$f":"IF(OR(E32115=\"\",ISBLANK(E32115)),\"\",VLOOKUP(E32115,Sheet2!A:G,6,FALSE))","v":""},""]
[{"$f":"IF(OR(E32127=\"\",ISBLANK(E32127)),\"\",VLOOKUP(E32127,Sheet2!A:F,2,FALSE))","v":""},{"$f":"IF(OR(E32127=\"\",ISBLANK(E32127)),\"\",VLOOKUP(E32127,Sheet2!A:G,4,FALSE))","v":""},"",{"$f":"IF(OR(E32127=\"\",ISBLANK(E32127)),\"\",VLOOKUP(E32127,Sheet2!A:H,3,FALSE))","v":""},null,{"$f":"IF(OR(E32127=\"\",ISBLANK(E32127)),\"\",VLOOKUP(E32127,Sheet2!A:G,6,FALSE))","v":""},""]
[{"$f":"IF(OR(E32150=\"\",ISBLANK(E32150)),\"\",VLOOKUP(E32150,Sheet2!A:F,2,FALSE))","v":""},{"$f":"IF(OR(E32150=\"\",ISBLANK(E32150)),\"\",VLOOKUP(E32150,Sheet2!A:G,4,FALSE))","v":""},"",{"$f":"IF(OR(E32150=\"\",ISBLANK(E32150)),\"\",VLOOKUP(E32150,Sheet2!A:H,3,FALSE))","v":""},null,{"$f":"IF(OR(E32150=\"\",ISBLANK(E32150)),\"\",VLOOKUP(E32150,Sheet2!A:G,6,FALSE))","v":""},""]
[{"$f":"IF(OR(E32183=\"\",ISBLANK(E32183)),\"\",VLOOKUP(E32183,Sheet2!A:F,2,FALSE))","v":""},{"$f":"IF(OR(E32183=\"\",ISBLANK(E32183)),\"\",VLOOKUP(E32183,Sheet2!A:G,4,FALSE))","v":""},"",{"$f":"IF(OR(E32183=\"\",ISBLANK(E32183)),\"\",VLOOKUP(E32183,Sheet2!A:H,3,FALSE))","v":""},null,{"$f":"IF(OR(E32183=\"\",ISBLANK(E32183)),\"\",VLOOKUP(E32183,Sheet2!A:G,6,FALSE))","v":""},""]
[{"$f":"IF(OR(E32216=\"\",ISBLANK(E32216)),\"\",VLOOKUP(E32216,Sheet2!A:F,2,FALSE))","v":""},{"$f":"IF(OR(E32216=\"\",ISBLANK(E32216)),\"\",VLOOKUP(E32216,Sheet2!A:G,4,FALSE))","v":""},"",{"$f":"IF(OR(E32216=\"\",ISBLANK(E32216)),\"\",VLOOKUP(E32216,Sheet2!A:H,3,FALSE))","v":""},null,{"$f":"IF(OR(E32216=\"\",ISBLANK(E32216)),\"\",VLOOKUP(E32216,Sheet2!A:G,6,FALSE))","v":""},""]
[{"$f":"IF(OR(E32218=\"\",ISBLANK(E32218)),\"\",VLOOKUP(E32218,Sheet2!A:F,2,FALSE))","v":""},{"$f":"IF(OR(E32218=\"\",ISBLANK(E32218)),\"\",VLOOKUP(E32218,Sheet2!A:G,4,FALSE))","v":""},"",{"$f":"IF(OR(E32218=\"\",ISBLANK(E32218)),\"\",VLOOKUP(E32218,Sheet2!A:H,3,FALSE))","v":""},null,{"$f":"IF(OR(E32218=\"\",ISBLANK(E32218)),\"\",VLOOKUP(E32218,Sheet2!A:G,6,FALSE))","v":""},""]
[{"$f":"IF(OR(E32266=\"\",ISBLANK(E32266)),\"\",VLOOKUP(E32266,Sheet2!A:F,2,FALSE))","v":""},{"$f":"IF(OR(E32266=\"\",ISBLANK(E32266)),\"\",VLOOKUP(E32266,Sheet2!A:G,4,FALSE))","v":""},"",{"$f":"IF(OR(E32266=\"\",ISBLANK(E32266)),\"\",VLOOKUP(E32266,Sheet2!A:H,3,FALSE))","v":""},null,{"$f":"IF(OR(E32266=\"\",ISBLANK(E32266)),\"\",VLOOKUP(E32266,Sheet2!A:G,6,FALSE))","v":""},""]
[{"$f":"IF(OR(E32277=\"\",ISBLANK(E32277)),\"\",VLOOKUP(E32277,Sheet2!A:F,2,FALSE))","v":""},{"$f":"IF(OR(E32277=\"\",ISBLANK(E32277)),\"\",VLOOKUP(E32277,Sheet2!A:G,4,FALSE))","v":""},"",{"$f":"IF(OR(E32277=\"\",ISBLANK(E32277)),\"\",VLOOKUP(E32277,Sheet2!A:H,3,FALSE))","v":""},null,{"$f":"IF(OR(E32277=\"\",ISBLANK(E32277)),\"\",VLOOKUP(E32277,Sheet2!A:G,6,FALSE))","v":""},""]
[{"$f":"IF(OR(E32310=\"\",ISBLANK(E32310)),\"\",VLOOKUP(E32310,Sheet2!A:F,2,FALSE))","v":""},{"$f":"IF(OR(E32310=\"\",ISBLANK(E32310)),\"\",VLOOKUP(E32310,Sheet2!A:G,4,FALSE))","v":""},"",{"$f":"IF(OR(E32310=\"\",ISBLANK(E32310)),\"\",VLOOKUP(E32310,Sheet2!A:H,3,FALSE))","v":""},null,{"$f":"IF(OR(E32310=\"\",ISBLANK(E32310)),\"\",VLOOKUP(E32310,Sheet2!A:G,6,FALSE))","v":""},""]
[{"$f":"IF(OR(E32330=\"\",ISBLANK(E32330)),\"\",VLOOKUP(E32330,Sheet2!A:F,2,FALSE))","v":""},{"$f":"IF(OR(E32330=\"\",ISBLANK(E32330)),\"\",VLOOKUP(E32330,Sheet2!A:G,4,FALSE))","v":""},"",{"$f":"IF(OR(E32330=\"\",ISBLANK(E32330)),\"\",VLOOKUP(E32330,Sheet2!A:H,3,FALSE))","v":""},null,{"$f":"IF(OR(E32330=\"\",ISBLANK(E32330)),\"\",VLOOKUP(E32330,Sheet2!A:G,6,FALSE))","v":""},""]
[{"$f":"IF(OR(E32345=\"\",ISBLANK(E32345)),\"\",VLOOKUP(E32345,Sheet2!A:F,2,FALSE))","v":""},{"$f":"IF(OR(E32345=\"\",ISBLANK(E32345)),\"\",VLOOKUP(E32345,Sheet2!A:G,4,FALSE))","v":""},"",{"$f":"IF(OR(E32345=\"\",ISBLANK(E32345)),\"\",VLOOKUP(E32345,Sheet2!A:H,3,FALSE))","v":""},null,{"$f":"IF(OR(E32345=\"\",ISBLANK(E32345)),\"\",VLOOKUP(E32345,Sheet2!A:G,6,FALSE))","v":""},""]
[{"$f":"IF(OR(E32380=\"\",ISBLANK(E32380)),\"\",VLOOKUP(E32380,Sheet2!A:F,2,FALSE))","v":""},{"$f":"IF(OR(E32380=\"\",ISBLANK(E32380)),\"\",VLOOKUP(E32380,Sheet2!A:G,4,FALSE))","v":""},"",{"$f":"IF(OR(E32380=\"\",ISBLANK(E32380)),\"\",VLOOKUP(E32380,Sheet2!A:H,3,FALSE))","v":""},null,{"$f":"IF(OR(E32380=\"\",ISBLANK(E32380)),\"\",VLOOKUP(E32380,Sheet2!A:G,6,FALSE))","v":""},""]
[{"$f":"IF(OR(E32412=\"\",ISBLANK(E32412)),\"\",VLOOKUP(E32412,Sheet2!A:F,2,FALSE))","v":""},{"$f":"IF(OR(E32412=\"\",ISBLANK(E32412)),\"\",VLOOKUP(E32412,Sheet2!A:G,4,FALSE))","v":""},"",{"$f":"IF(OR(E32412=\"\",ISBLANK(E32412)),\"\",VLOOKUP(E32412,Sheet2!A:H,3,FALSE))","v":""},null,{"$f":"IF(OR(E32412=\"\",ISBLANK(E32412)),\"\",VLOOKUP(E32412,Sheet2!A:G,6,FALSE))","v":""},""]
[{"$f":"IF(OR(E32413=\"\",ISBLANK(E32413)),\"\",VLOOKUP(E32413,Sheet2!A:F,2,FALSE))","v":""},{"$f":"IF(OR(E32413=\"\",ISBLANK(E32413)),\"\",VLOOKUP(E32413,Sheet2!A:G,4,FALSE))","v":""},"",{"$f":"IF(OR(E32413=\"\",ISBLANK(E32413)),\"\",VLOOKUP(E32413,Sheet2!A:H,3,FALSE))","v":""},null,{"$f":"IF(OR(E32413=\"\",ISBLANK(E32413)),\"\",VLOOKUP(E32413,Sheet2!A:G,6,FALSE))","v":""},""]
[{"$f":"IF(OR(E32444=\"\",ISBLANK(E32444)),\"\",VLOOKUP(E32444,Sheet2!A:F,2,FALSE))","v":""},{"$f":"IF(OR(E32444=\"\",ISBLANK(E32444)),\"\",VLOOKUP(E32444,Sheet2!A:G,4,FALSE))","v":""},"",{"$f":"IF(OR(E32444=\"\",ISBLANK(E32444)),\"\",VLOOKUP(E32444,Sheet2!A:H,3,FALSE))","v":""},null,{"$f":"IF(OR(E32444=\"\",ISBLANK(E32444)),\"\",VLOOKUP(E32444,Sheet2!A:G,6,FALSE))","v":""},""]
[{"$f":"IF(OR(E32472=\"\",ISBLANK(E32472)),\"\",VLOOKUP(E32472,Sheet2!A:F,2,FALSE))","v":""},{"$f":"IF(OR(E32472=\"\",ISBLANK(E32472)),\"\",VLOOKUP(E32472,Sheet2!A:G,4,FALSE))","v":""},"",{"$f":"IF(OR(E32472=\"\",ISBLANK(E32472)),\"\",VLOOKUP(E32472,Sheet2!A:H,3,FALSE))","v":""},null,{"$f":"IF(OR(E32472=\"\",ISBLANK(E32472)),\"\",VLOOKUP(E32472,Sheet2!A:G,6,FALSE))","v":""},""]
[{"$f":"IF(OR(E32494=\"\",ISBLANK(E32494)),\"\",VLOOKUP(E32494,Sheet2!A:F,2,FALSE))","v":""},{"$f":"IF(OR(E32494=\"\",ISBLANK(E32494)),\"\",VLOOKUP(E32494,Sheet2!A:G,4,FALSE))","v":""},"",{"$f":"IF(OR(E32494=\"\",ISBLANK(E32494)),\"\",VLOOKUP(E32494,Sheet2!A:H,3,FALSE))","v":""},null,{"$f":"IF(OR(E32494=\"\",ISBLANK(E32494)),\"\",VLOOKUP(E32494,Sheet2!A:G,6,FALSE))","v":""},""]
[{"$f":"IF(OR(E32515=\"\",ISBLANK(E32515)),\"\",VLOOKUP(E32515,Sheet2!A:F,2,FALSE))","v":""},{"$f":"IF(OR(E32515=\"\",ISBLANK(E32515)),\"\",VLOOKUP(E32515,Sheet2!A:G,4,FALSE))","v":""},{"$f":"IF(D32515=0,\"\",D32515)","v":""},{"$f":"IF(OR(E32515=\"\",ISBLANK(E32515)),\"\",VLOOKUP(E32515,Sheet2!A:H,3,FALSE))","v":""},null,{"$f":"IF(OR(E32515=\"\",ISBLANK(E32515)),\"\",VLOOKUP(E32515,Sheet2!A:G,6,FALSE))","v":""},{"$f":"IF(F32515=0,\"\",F32515)","v":""}]
[{"$f":"IF(OR(E32540=\"\",ISBLANK(E32540)),\"\",VLOOKUP(E32540,Sheet2!A:F,2,FALSE))","v":""},{"$f":"IF(OR(E32540=\"\",ISBLANK(E32540)),\"\",VLOOKUP(E32540,Sheet2!A:G,4,FALSE))","v":""},"",{"$f":"IF(OR(E32540=\"\",ISBLANK(E32540)),\"\",VLOOKUP(E32540,Sheet2!A:H,3,FALSE))","v":""},null,{"$f":"IF(OR(E32540=\"\",ISBLANK(E32540)),\"\",VLOOKUP(E32540,Sheet2!A:G,6,FALSE))","v":""},""]
[{"$f":"IF(OR(E32583=\"\",ISBLANK(E32583)),\"\",VLOOKUP(E32583,Sheet2!A:F,2,FALSE))","v":""},{"$f":"IF(OR(E32583=\"\",ISBLANK(E32583)),\"\",VLOOKUP(E32583,Sheet2!A:G,4,FALSE))","v":""},"",{"$f":"IF(OR(E32583=\"\",ISBLANK(E32583)),\"\",VLOOKUP(E32583,Sheet2!A:H,3,FALSE))","v":""},null,{"$f":"IF(OR(E32583=\"\",ISBLANK(E32583)),\"\",VLOOKUP(E32583,Sheet2!A:G,6,FALSE))","v":""},""]
[{"$f":"IF(OR(E32607=\"\",ISBLANK(E32607)),\"\",VLOOKUP(E32607,Sheet2!A:F,2,FALSE))","v":""},{"$f":"IF(OR(E32607=\"\",ISBLANK(E32607)),\"\",VLOOKUP(E32607,Sheet2!A:G,4,FALSE))","v":""},"",{"$f":"IF(OR(E32607=\"\",ISBLANK(E32607)),\"\",VLOOKUP(E32607,Sheet2!A:H,3,FALSE))","v":""},null,{"$f":"IF(OR(E32607=\"\",ISBLANK(E32607)),\"\",VLOOKUP(E32607,Sheet2!A:G,6,FALSE))","v":""},""]
[{"$f":"IF(OR(E32608=\"\",ISBLANK(E32608)),\"\",VLOOKUP(E32608,Sheet2!A:F,2,FALSE))","v":""},{"$f":"IF(OR(E32608=\"\",ISBLANK(E32608)),\"\",VLOOKUP(E32608,Sheet2!A:G,4,FALSE))","v":""},"",{"$f":"IF(OR(E32608=\"\",ISBLANK(E32608)),\"\",VLOOKUP(E32608,Sheet2!A:H,3,FALSE))","v":""},null,{"$f":"IF(OR(E32608=\"\",ISBLANK(E32608)),\"\",VLOOKUP(E32608,Sheet2!A:G,6,FALSE))","v":""},""]
[{"$f":"IF(OR(E32647=\"\",ISBLANK(E32647)),\"\",VLOOKUP(E32647,Sheet2!A:F,2,FALSE))","v":""},{"$f":"IF(OR(E32647=\"\",ISBLANK(E32647)),\"\",VLOOKUP(E32647,Sheet2!A:G,4,FALSE))","v":""},"",{"$f":"IF(OR(E32647=\"\",ISBLANK(E32647)),\"\",VLOOKUP(E32647,Sheet2!A:H,3,FALSE))","v":""},null,{"$f":"IF(OR(E32647=\"\",ISBLANK(E32647)),\"\",VLOOKUP(E32647,Sheet2!A:G,6,FALSE))","v":""},""]
[{"$f":"IF(OR(E32667=\"\",ISBLANK(E32667)),\"\",VLOOKUP(E32667,Sheet2!A:F,2,FALSE))","v":""},{"$f":"IF(OR(E32667=\"\",ISBLANK(E32667)),\"\",VLOOKUP(E32667,Sheet2!A:G,4,FALSE))","v":""},"",{"$f":"IF(OR(E32667=\"\",ISBLANK(E32667)),\"\",VLOOKUP(E32667,Sheet2!A:H,3,FALSE))","v":""},null,{"$f":"IF(OR(E32667=\"\",ISBLANK(E32667)),\"\",VLOOKUP(E32667,Sheet2!A:G,6,FALSE))","v":""},""]
[{"$f":"IF(OR(E32697=\"\",ISBLANK(E32697)),\"\",VLOOKUP(E32697,Sheet2!A:F,2,FALSE))","v":""},{"$f":"IF(OR(E32697=\"\",ISBLANK(E32697)),\"\",VLOOKUP(E32697,Sheet2!A:G,4,FALSE))","v":""},"",{"$f":"IF(OR(E32697=\"\",ISBLANK(E32697)),\"\",VLOOKUP(E32697,Sheet2!A:H,3,FALSE))","v":""},null,{"$f":"IF(OR(E32697=\"\",ISBLANK(E32697)),\"\",VLOOKUP(E32697,Sheet2!A:G,6,FALSE))","v":""},""]
[{"$f":"IF(OR(E32710=\"\",ISBLANK(E32710)),\"\",VLOOKUP(E32710,Sheet2!A:F,2,FALSE))","v":""},{"$f":"IF(OR(E32710=\"\",ISBLANK(E32710)),\"\",VLOOKUP(E32710,Sheet2!A:G,4,FALSE))","v":""},"",{"$f":"IF(OR(E32710=\"\",ISBLANK(E32710)),\"\",VLOOKUP(E32710,Sheet2!A:H,3,FALSE))","v":""},null,{"$f":"IF(OR(E32710=\"\",ISBLANK(E32710)),\"\",VLOOKUP(E32710,Sheet2!A:G,6,FALSE))","v":""},""]
[{"$f":"IF(OR(E32735=\"\",ISBLANK(E32735)),\"\",VLOOKUP(E32735,Sheet2!A:F,2,FALSE))","v":""},{"$f":"IF(OR(E32735=\"\",ISBLANK(E32735)),\"\",VLOOKUP(E32735,Sheet2!A:G,4,FALSE))","v":""},"",{"$f":"IF(OR(E32735=\"\",ISBLANK(E32735)),\"\",VLOOKUP(E32735,Sheet2!A:H,3,FALSE))","v":""},null,{"$f":"IF(OR(E32735=\"\",ISBLANK(E32735)),\"\",VLOOKUP(E32735,Sheet2!A:G,6,FALSE))","v":""},""]
[{"$f":"IF(OR(E32761=\"\",ISBLANK(E32761)),\"\",VLOOKUP(E32761,Sheet2!A:F,2,FALSE))","v":""},{"$f":"IF(OR(E32761=\"\",ISBLANK(E32761)),\"\",VLOOKUP(E32761,Sheet2!A:G,4,FALSE))","v":""},"",{"$f":"IF(OR(E32761=\"\",ISBLANK(E32761)),\"\",VLOOKUP(E32761,Sheet2!A:H,3,FALSE))","v":""},null,{"$f":"IF(OR(E32761=\"\",ISBLANK(E32761)),\"\",VLOOKUP(E32761,Sheet2!A:G,6,FALSE))","v":""},""]
[{"$f":"IF(OR(E32794=\"\",ISBLANK(E32794)),\"\",VLOOKUP(E32794,Sheet2!A:F,2,FALSE))","v":""},{"$f":"IF(OR(E32794=\"\",ISBLANK(E32794)),\"\",VLOOKUP(E32794,Sheet2!A:G,4,FALSE))","v":""},"",{"$f":"IF(OR(E32794=\"\",ISBLANK(E32794)),\"\",VLOOKUP(E32794,Sheet2!A:H,3,FALSE))","v":""},null,{"$f":"IF(OR(E32794=\"\",ISBLANK(E32794)),\"\",VLOOKUP(E32794,Sheet2!A:G,6,FALSE))","v":""},""]
[{"$f":"IF(OR(E32811=\"\",ISBLANK(E32811)),\"\",VLOOKUP(E32811,Sheet2!A:F,2,FALSE))","v":""},{"$f":"IF(OR(E32811=\"\",ISBLANK(E32811)),\"\",VLOOKUP(E32811,Sheet2!A:G,4,FALSE))","v":""},"",{"$f":"IF(OR(E32811=\"\",ISBLANK(E32811)),\"\",VLOOKUP(E32811,Sheet2!A:H,3,FALSE))","v":""},null,{"$f":"IF(OR(E32811=\"\",ISBLANK(E32811)),\"\",VLOOKUP(E32811,Sheet2!A:G,6,FALSE))","v":""},""]
[{"$f":"IF(OR(E32837=\"\",ISBLANK(E32837)),\"\",VLOOKUP(E32837,Sheet2!A:F,2,FALSE))","v":""},{"$f":"IF(OR(E32837=\"\",ISBLANK(E32837)),\"\",VLOOKUP(E32837,Sheet2!A:G,4,FALSE))","v":""},"",{"$f":"IF(OR(E32837=\"\",ISBLANK(E32837)),\"\",VLOOKUP(E32837,Sheet2!A:H,3,FALSE))","v":""},null,{"$f":"IF(OR(E32837=\"\",ISBLANK(E32837)),\"\",VLOOKUP(E32837,Sheet2!A:G,6,FALSE))","v":""},""]
[{"$f":"IF(OR(E32862=\"\",ISBLANK(E32862)),\"\",VLOOKUP(E32862,Sheet2!A:F,2,FALSE))","v":""},{"$f":"IF(OR(E32862=\"\",ISBLANK(E32862)),\"\",VLOOKUP(E32862,Sheet2!A:G,4,FALSE))","v":""},"",{"$f":"IF(OR(E32862=\"\",ISBLANK(E32862)),\"\",VLOOKUP(E32862,Sheet2!A:H,3,FALSE))","v":""},null,{"$f":"IF(OR(E32862=\"\",ISBLANK(E32862)),\"\",VLOOKUP(E32862,Sheet2!A:G,6,FALSE))","v":""},""]
[{"$f":"IF(OR(E32900=\"\",ISBLANK(E32900)),\"\",VLOOKUP(E32900,Sheet2!A:F,2,FALSE))","v":""},{"$f":"IF(OR(E32900=\"\",ISBLANK(E32900)),\"\",VLOOKUP(E32900,Sheet2!A:G,4,FALSE))","v":""},"",{"$f":"IF(OR(E32900=\"\",ISBLANK(E32900)),\"\",VLOOKUP(E32900,Sheet2!A:H,3,FALSE))","v":""},null,{"$f":"IF(OR(E32900=\"\",ISBLANK(E32900)),\"\",VLOOKUP(E32900,Sheet2!A:G,6,FALSE))","v":""},""]
[{"$f":"IF(OR(E32905=\"\",ISBLANK(E32905)),\"\",VLOOKUP(E32905,Sheet2!A:F,2,FALSE))","v":""},{"$f":"IF(OR(E32905=\"\",ISBLANK(E32905)),\"\",VLOOKUP(E32905,Sheet2!A:G,4,FALSE))","v":""},"",{"$f":"IF(OR(E32905=\"\",ISBLANK(E32905)),\"\",VLOOKUP(E32905,Sheet2!A:H,3,FALSE))","v":""},null,{"$f":"IF(OR(E32905=\"\",ISBLANK(E32905)),\"\",VLOOKUP(E32905,Sheet2!A:G,6,FALSE))","v":""},""]
[{"$f":"IF(OR(E32925=\"\",ISBLANK(E32925)),\"\",VLOOKUP(E32925,Sheet2!A:F,2,FALSE))","v":""},{"$f":"IF(OR(E32925=\"\",ISBLANK(E32925)),\"\",VLOOKUP(E32925,Sheet2!A:G,4,FALSE))","v":""},"",{"$f":"IF(OR(E32925=\"\",ISBLANK(E32925)),\"\",VLOOKUP(E32925,Sheet2!A:H,3,FALSE))","v":""},null,{"$f":"IF(OR(E32925=\"\",ISBLANK(E32925)),\"\",VLOOKUP(E32925,Sheet2!A:G,6,FALSE))","v":""},""]
[{"$f":"IF(OR(E32964=\"\",ISBLANK(E32964)),\"\",VLOOKUP(E32964,Sheet2!A:F,2,FALSE))","v":""},{"$f":"IF(OR(E32964=\"\",ISBLANK(E32964)),\"\",VLOOKUP(E32964,Sheet2!A:G,4,FALSE))","v":""},"",{"$f":"IF(OR(E32964=\"\",ISBLANK(E32964)),\"\",VLOOKUP(E32964,Sheet2!A:H,3,FALSE))","v":""},null,{"$f":"IF(OR(E32964=\"\",ISBLANK(E32964)),\"\",VLOOKUP(E32964,Sheet2!A:G,6,FALSE))","v":""},""]
[{"$f":"IF(OR(E32989=\"\",ISBLANK(E32989)),\"\",VLOOKUP(E32989,Sheet2!A:F,2,FALSE))","v":""},{"$f":"IF(OR(E32989=\"\",ISBLANK(E32989)),\"\",VLOOKUP(E32989,Sheet2!A:G,4,FALSE))","v":""},"",{"$f":"IF(OR(E32989=\"\",ISBLANK(E32989)),\"\",VLOOKUP(E32989,Sheet2!A:H,3,FALSE))","v":""},null,{"$f":"IF(OR(E32989=\"\",ISBLANK(E32989)),\"\",VLOOKUP(E32989,Sheet2!A:G,6,FALSE))","v":""},""]
[{"$f":"IF(OR(E33014=\"\",ISBLANK(E33014)),\"\",VLOOKUP(E33014,Sheet2!A:F,2,FALSE))","v":""},{"$f":"IF(OR(E33014=\"\",ISBLANK(E33014)),\"\",VLOOKUP(E33014,Sheet2!A:G,4,FALSE))","v":""},"",{"$f":"IF(OR(E33014=\"\",ISBLANK(E33014)),\"\",VLOOKUP(E33014,Sheet2!A:H,3,FALSE))","v":""},null,{"$f":"IF(OR(E33014=\"\",ISBLANK(E33014)),\"\",VLOOKUP(E33014,Sheet2!A:G,6,FALSE))","v":""},""]
[{"$f":"IF(OR(E33032=\"\",ISBLANK(E33032)),\"\",VLOOKUP(E33032,Sheet2!A:F,2,FALSE))","v":""},{"$f":"IF(OR(E33032=\"\",ISBLANK(E33032)),\"\",VLOOKUP(E33032,Sheet2!A:G,4,FALSE))","v":""},"",{"$f":"IF(OR(E33032=\"\",ISBLANK(E33032)),\"\",VLOOKUP(E33032,Sheet2!A:H,3,FALSE))","v":""},null,{"$f":"IF(OR(E33032=\"\",ISBLANK(E33032)),\"\",VLOOKUP(E33032,Sheet2!A:G,6,FALSE))","v":""},""]
[{"$f":"IF(OR(E33057=\"\",ISBLANK(E33057)),\"\",VLOOKUP(E33057,Sheet2!A:F,2,FALSE))","v":""},{"$f":"IF(OR(E33057=\"\",ISBLANK(E33057)),\"\",VLOOKUP(E33057,Sheet2!A:G,4,FALSE))","v":""},"",{"$f":"IF(OR(E33057=\"\",ISBLANK(E33057)),\"\",VLOOKUP(E33057,Sheet2!A:H,3,FALSE))","v":""},null,{"$f":"IF(OR(E33057=\"\",ISBLANK(E33057)),\"\",VLOOKUP(E33057,Sheet2!A:G,6,FALSE))","v":""},""]
[{"$f":"IF(OR(E33078=\"\",ISBLANK(E33078)),\"\",VLOOKUP(E33078,Sheet2!A:F,2,FALSE))","v":""},{"$f":"IF(OR(E33078=\"\",ISBLANK(E33078)),\"\",VLOOKUP(E33078,Sheet2!A:G,4,FALSE))","v":""},"",{"$f":"IF(OR(E33078=\"\",ISBLANK(E33078)),\"\",VLOOKUP(E33078,Sheet2!A:H,3,FALSE))","v":""},null,{"$f":"IF(OR(E33078=\"\",ISBLANK(E33078)),\"\",VLOOKUP(E33078,Sheet2!A:G,6,FALSE))","v":""},""]
[{"$f":"IF(OR(E33116=\"\",ISBLANK(E33116)),\"\",VLOOKUP(E33116,Sheet2!A:F,2,FALSE))","v":""},{"$f":"IF(OR(E33116=\"\",ISBLANK(E33116)),\"\",VLOOKUP(E33116,Sheet2!A:G,4,FALSE))","v":""},"",{"$f":"IF(OR(E33116=\"\",ISBLANK(E33116)),\"\",VLOOKUP(E33116,Sheet2!A:H,3,FALSE))","v":""},null,{"$f":"IF(OR(E33116=\"\",ISBLANK(E33116)),\"\",VLOOKUP(E33116,Sheet2!A:G,6,FALSE))","v":""},""]
[{"$f":"IF(OR(E33128=\"\",ISBLANK(E33128)),\"\",VLOOKUP(E33128,Sheet2!A:F,2,FALSE))","v":""},{"$f":"IF(OR(E33128=\"\",ISBLANK(E33128)),\"\",VLOOKUP(E33128,Sheet2!A:G,4,FALSE))","v":""},"",{"$f":"IF(OR(E33128=\"\",ISBLANK(E33128)),\"\",VLOOKUP(E33128,Sheet2!A:H,3,FALSE))","v":""},null,{"$f":"IF(OR(E33128=\"\",ISBLANK(E33128)),\"\",VLOOKUP(E33128,Sheet2!A:G,6,FALSE))","v":""},""]
[{"$f":"IF(OR(E33159=\"\",ISBLANK(E33159)),\"\",VLOOKUP(E33159,Sheet2!A:F,2,FALSE))","v":""},{"$f":"IF(OR(E33159=\"\",ISBLANK(E33159)),\"\",VLOOKUP(E33159,Sheet2!A:G,4,FALSE))","v":""},"",{"$f":"IF(OR(E33159=\"\",ISBLANK(E33159)),\"\",VLOOKUP(E33159,Sheet2!A:H,3,FALSE))","v":""},null,{"$f":"IF(OR(E33159=\"\",ISBLANK(E33159)),\"\",VLOOKUP(E33159,Sheet2!A:G,6,FALSE))","v":""},""]
[{"$f":"IF(OR(E33184=\"\",ISBLANK(E33184)),\"\",VLOOKUP(E33184,Sheet2!A:F,2,FALSE))","v":""},{"$f":"IF(OR(E33184=\"\",ISBLANK(E33184)),\"\",VLOOKUP(E33184,Sheet2!A:G,4,FALSE))","v":""},"",{"$f":"IF(OR(E33184=\"\",ISBLANK(E33184)),\"\",VLOOKUP(E33184,Sheet2!A:H,3,FALSE))","v":""},null,{"$f":"IF(OR(E33184=\"\",ISBLANK(E33184)),\"\",VLOOKUP(E33184,Sheet2!A:G,6,FALSE))","v":""},""]
[{"$f":"IF(OR(E33217=\"\",ISBLANK(E33217)),\"\",VLOOKUP(E33217,Sheet2!A:F,2,FALSE))","v":""},{"$f":"IF(OR(E33217=\"\",ISBLANK(E33217)),\"\",VLOOKUP(E33217,Sheet2!A:G,4,FALSE))","v":""},"",{"$f":"IF(OR(E33217=\"\",ISBLANK(E33217)),\"\",VLOOKUP(E33217,Sheet2!A:H,3,FALSE))","v":""},null,{"$f":"IF(OR(E33217=\"\",ISBLANK(E33217)),\"\",VLOOKUP(E33217,Sheet2!A:G,6,FALSE))","v":""},""]
[{"$f":"IF(OR(E33227=\"\",ISBLANK(E33227)),\"\",VLOOKUP(E33227,Sheet2!A:F,2,FALSE))","v":""},{"$f":"IF(OR(E33227=\"\",ISBLANK(E33227)),\"\",VLOOKUP(E33227,Sheet2!A:G,4,FALSE))","v":""},"",{"$f":"IF(OR(E33227=\"\",ISBLANK(E33227)),\"\",VLOOKUP(E33227,Sheet2!A:H,3,FALSE))","v":""},null,{"$f":"IF(OR(E33227=\"\",ISBLANK(E33227)),\"\",VLOOKUP(E33227,Sheet2!A:G,6,FALSE))","v":""},""]
[{"$f":"IF(OR(E33242=\"\",ISBLANK(E33242)),\"\",VLOOKUP(E33242,Sheet2!A:F,2,FALSE))","v":""},{"$f":"IF(OR(E33242=\"\",ISBLANK(E33242)),\"\",VLOOKUP(E33242,Sheet2!A:G,4,FALSE))","v":""},"",{"$f":"IF(OR(E33242=\"\",ISBLANK(E33242)),\"\",VLOOKUP(E33242,Sheet2!A:H,3,FALSE))","v":""},null,{"$f":"IF(OR(E33242=\"\",ISBLANK(E33242)),\"\",VLOOKUP(E33242,Sheet2!A:G,6,FALSE))","v":""},""]
[{"$f":"IF(OR(E33286=\"\",ISBLANK(E33286)),\"\",VLOOKUP(E33286,Sheet2!A:F,2,FALSE))","v":""},{"$f":"IF(OR(E33286=\"\",ISBLANK(E33286)),\"\",VLOOKUP(E33286,Sheet2!A:G,4,FALSE))","v":""},"",{"$f":"IF(OR(E33286=\"\",ISBLANK(E33286)),\"\",VLOOKUP(E33286,Sheet2!A:H,3,FALSE))","v":""},null,{"$f":"IF(OR(E33286=\"\",ISBLANK(E33286)),\"\",VLOOKUP(E33286,Sheet2!A:G,6,FALSE))","v":""},""]
[{"$f":"IF(OR(E33311=\"\",ISBLANK(E33311)),\"\",VLOOKUP(E33311,Sheet2!A:F,2,FALSE))","v":""},{"$f":"IF(OR(E33311=\"\",ISBLANK(E33311)),\"\",VLOOKUP(E33311,Sheet2!A:G,4,FALSE))","v":""},"",{"$f":"IF(OR(E33311=\"\",ISBLANK(E33311)),\"\",VLOOKUP(E33311,Sheet2!A:H,3,FALSE))","v":""},null,{"$f":"IF(OR(E33311=\"\",ISBLANK(E33311)),\"\",VLOOKUP(E33311,Sheet2!A:G,6,FALSE))","v":""},""]
[{"$f":"IF(OR(E33331=\"\",ISBLANK(E33331)),\"\",VLOOKUP(E33331,Sheet2!A:F,2,FALSE))","v":""},{"$f":"IF(OR(E33331=\"\",ISBLANK(E33331)),\"\",VLOOKUP(E33331,Sheet2!A:G,4,FALSE))","v":""},"",{"$f":"IF(OR(E33331=\"\",ISBLANK(E33331)),\"\",VLOOKUP(E33331,Sheet2!A:H,3,FALSE))","v":""},null,{"$f":"IF(OR(E33331=\"\",ISBLANK(E33331)),\"\",VLOOKUP(E33331,Sheet2!A:G,6,FALSE))","v":""},""]
[{"$f":"IF(OR(E33354=\"\",ISBLANK(E33354)),\"\",VLOOKUP(E33354,Sheet2!A:F,2,FALSE))","v":""},{"$f":"IF(OR(E33354=\"\",ISBLANK(E33354)),\"\",VLOOKUP(E33354,Sheet2!A:G,4,FALSE))","v":""},"",{"$f":"IF(OR(E33354=\"\",ISBLANK(E33354)),\"\",VLOOKUP(E33354,Sheet2!A:H,3,FALSE))","v":""},null,{"$f":"IF(OR(E33354=\"\",ISBLANK(E33354)),\"\",VLOOKUP(E33354,Sheet2!A:G,6,FALSE))","v":""},""]
[{"$f":"IF(OR(E33379=\"\",ISBLANK(E33379)),\"\",VLOOKUP(E33379,Sheet2!A:F,2,FALSE))","v":""},{"$f":"IF(OR(E33379=\"\",ISBLANK(E33379)),\"\",VLOOKUP(E33379,Sheet2!A:G,4,FALSE))","v":""},"",{"$f":"IF(OR(E33379=\"\",ISBLANK(E33379)),\"\",VLOOKUP(E33379,Sheet2!A:H,3,FALSE))","v":""},null,{"$f":"IF(OR(E33379=\"\",ISBLANK(E33379)),\"\",VLOOKUP(E33379,Sheet2!A:G,6,FALSE))","v":""},""]
[{"$f":"IF(OR(E33395=\"\",ISBLANK(E33395)),\"\",VLOOKUP(E33395,Sheet2!A:F,2,FALSE))","v":""},{"$f":"IF(OR(E33395=\"\",ISBLANK(E33395)),\"\",VLOOKUP(E33395,Sheet2!A:G,4,FALSE))","v":""},"",{"$f":"IF(OR(E33395=\"\",ISBLANK(E33395)),\"\",VLOOKUP(E33395,Sheet2!A:H,3,FALSE))","v":""},null,{"$f":"IF(OR(E33395=\"\",ISBLANK(E33395)),\"\",VLOOKUP(E33395,Sheet2!A:G,6,FALSE))","v":""},""]
[{"$f":"IF(OR(E33422=\"\",ISBLANK(E33422)),\"\",VLOOKUP(E33422,Sheet2!A:F,2,FALSE))","v":""},{"$f":"IF(OR(E33422=\"\",ISBLANK(E33422)),\"\",VLOOKUP(E33422,Sheet2!A:G,4,FALSE))","v":""},"",{"$f":"IF(OR(E33422=\"\",ISBLANK(E33422)),\"\",VLOOKUP(E33422,Sheet2!A:H,3,FALSE))","v":""},null,{"$f":"IF(OR(E33422=\"\",ISBLANK(E33422)),\"\",VLOOKUP(E33422,Sheet2!A:G,6,FALSE))","v":""},""]
[{"$f":"IF(OR(E33445=\"\",ISBLANK(E33445)),\"\",VLOOKUP(E33445,Sheet2!A:F,2,FALSE))","v":""},{"$f":"IF(OR(E33445=\"\",ISBLANK(E33445)),\"\",VLOOKUP(E33445,Sheet2!A:G,4,FALSE))","v":""},"",{"$f":"IF(OR(E33445=\"\",ISBLANK(E33445)),\"\",VLOOKUP(E33445,Sheet2!A:H,3,FALSE))","v":""},null,{"$f":"IF(OR(E33445=\"\",ISBLANK(E33445)),\"\",VLOOKUP(E33445,Sheet2!A:G,6,FALSE))","v":""},""]
[{"$f":"IF(OR(E33481=\"\",ISBLANK(E33481)),\"\",VLOOKUP(E33481,Sheet2!A:F,2,FALSE))","v":""},{"$f":"IF(OR(E33481=\"\",ISBLANK(E33481)),\"\",VLOOKUP(E33481,Sheet2!A:G,4,FALSE))","v":""},"",{"$f":"IF(OR(E33481=\"\",ISBLANK(E33481)),\"\",VLOOKUP(E33481,Sheet2!A:H,3,FALSE))","v":""},null,{"$f":"IF(OR(E33481=\"\",ISBLANK(E33481)),\"\",VLOOKUP(E33481,Sheet2!A:G,6,FALSE))","v":""},""]
[{"$f":"IF(OR(E33506=\"\",ISBLANK(E33506)),\"\",VLOOKUP(E33506,Sheet2!A:F,2,FALSE))","v":""},{"$f":"IF(OR(E33506=\"\",ISBLANK(E33506)),\"\",VLOOKUP(E33506,Sheet2!A:G,4,FALSE))","v":""},"",{"$f":"IF(OR(E33506=\"\",ISBLANK(E33506)),\"\",VLOOKUP(E33506,Sheet2!A:H,3,FALSE))","v":""},null,{"$f":"IF(OR(E33506=\"\",ISBLANK(E33506)),\"\",VLOOKUP(E33506,Sheet2!A:G,6,FALSE))","v":""},""]
[{"$f":"IF(OR(E33534=\"\",ISBLANK(E33534)),\"\",VLOOKUP(E33534,Sheet2!A:F,2,FALSE))","v":""},{"$f":"IF(OR(E33534=\"\",ISBLANK(E33534)),\"\",VLOOKUP(E33534,Sheet2!A:G,4,FALSE))","v":""},"",{"$f":"IF(OR(E33534=\"\",ISBLANK(E33534)),\"\",VLOOKUP(E33534,Sheet2!A:H,3,FALSE))","v":""},null,{"$f":"IF(OR(E33534=\"\",ISBLANK(E33534)),\"\",VLOOKUP(E33534,Sheet2!A:G,6,FALSE))","v":""},""]
[{"$f":"IF(OR(E33549=\"\",ISBLANK(E33549)),\"\",VLOOKUP(E33549,Sheet2!A:F,2,FALSE))","v":""},{"$f":"IF(OR(E33549=\"\",ISBLANK(E33549)),\"\",VLOOKUP(E33549,Sheet2!A:G,4,FALSE))","v":""},"",{"$f":"IF(OR(E33549=\"\",ISBLANK(E33549)),\"\",VLOOKUP(E33549,Sheet2!A:H,3,FALSE))","v":""},null,{"$f":"IF(OR(E33549=\"\",ISBLANK(E33549)),\"\",VLOOKUP(E33549,Sheet2!A:G,6,FALSE))","v":""},""]
[{"$f":"IF(OR(E33559=\"\",ISBLANK(E33559)),\"\",VLOOKUP(E33559,Sheet2!A:F,2,FALSE))","v":""},{"$f":"IF(OR(E33559=\"\",ISBLANK(E33559)),\"\",VLOOKUP(E33559,Sheet2!A:G,4,FALSE))","v":""},"",{"$f":"IF(OR(E33559=\"\",ISBLANK(E33559)),\"\",VLOOKUP(E33559,Sheet2!A:H,3,FALSE))","v":""},null,{"$f":"IF(OR(E33559=\"\",ISBLANK(E33559)),\"\",VLOOKUP(E33559,Sheet2!A:G,6,FALSE))","v":""},""]
[{"$f":"IF(OR(E33584=\"\",ISBLANK(E33584)),\"\",VLOOKUP(E33584,Sheet2!A:F,2,FALSE))","v":""},{"$f":"IF(OR(E33584=\"\",ISBLANK(E33584)),\"\",VLOOKUP(E33584,Sheet2!A:G,4,FALSE))","v":""},"",{"$f":"IF(OR(E33584=\"\",ISBLANK(E33584)),\"\",VLOOKUP(E33584,Sheet2!A:H,3,FALSE))","v":""},null,{"$f":"IF(OR(E33584=\"\",ISBLANK(E33584)),\"\",VLOOKUP(E33584,Sheet2!A:G,6,FALSE))","v":""},""]
[{"$f":"IF(OR(E33609=\"\",ISBLANK(E33609)),\"\",VLOOKUP(E33609,Sheet2!A:F,2,FALSE))","v":""},{"$f":"IF(OR(E33609=\"\",ISBLANK(E33609)),\"\",VLOOKUP(E33609,Sheet2!A:G,4,FALSE))","v":""},"",{"$f":"IF(OR(E33609=\"\",ISBLANK(E33609)),\"\",VLOOKUP(E33609,Sheet2!A:H,3,FALSE))","v":""},null,{"$f":"IF(OR(E33609=\"\",ISBLANK(E33609)),\"\",VLOOKUP(E33609,Sheet2!A:G,6,FALSE))","v":""},""]
[{"$f":"IF(OR(E33648=\"\",ISBLANK(E33648)),\"\",VLOOKUP(E33648,Sheet2!A:F,2,FALSE))","v":""},{"$f":"IF(OR(E33648=\"\",ISBLANK(E33648)),\"\",VLOOKUP(E33648,Sheet2!A:G,4,FALSE))","v":""},"",{"$f":"IF(OR(E33648=\"\",ISBLANK(E33648)),\"\",VLOOKUP(E33648,Sheet2!A:H,3,FALSE))","v":""},null,{"$f":"IF(OR(E33648=\"\",ISBLANK(E33648)),\"\",VLOOKUP(E33648,Sheet2!A:G,6,FALSE))","v":""},""]
[{"$f":"IF(OR(E33676=\"\",ISBLANK(E33676)),\"\",VLOOKUP(E33676,Sheet2!A:F,2,FALSE))","v":""},{"$f":"IF(OR(E33676=\"\",ISBLANK(E33676)),\"\",VLOOKUP(E33676,Sheet2!A:G,4,FALSE))","v":""},"",{"$f":"IF(OR(E33676=\"\",ISBLANK(E33676)),\"\",VLOOKUP(E33676,Sheet2!A:H,3,FALSE))","v":""},null,{"$f":"IF(OR(E33676=\"\",ISBLANK(E33676)),\"\",VLOOKUP(E33676,Sheet2!A:G,6,FALSE))","v":""},""]
[{"$f":"IF(OR(E33698=\"\",ISBLANK(E33698)),\"\",VLOOKUP(E33698,Sheet2!A:F,2,FALSE))","v":""},{"$f":"IF(OR(E33698=\"\",ISBLANK(E33698)),\"\",VLOOKUP(E33698,Sheet2!A:G,4,FALSE))","v":""},"",{"$f":"IF(OR(E33698=\"\",ISBLANK(E33698)),\"\",VLOOKUP(E33698,Sheet2!A:H,3,FALSE))","v":""},null,{"$f":"IF(OR(E33698=\"\",ISBLANK(E33698)),\"\",VLOOKUP(E33698,Sheet2!A:G,6,FALSE))","v":""},""]
[{"$f":"IF(OR(E33711=\"\",ISBLANK(E33711)),\"\",VLOOKUP(E33711,Sheet2!A:F,2,FALSE))","v":""},{"$f":"IF(OR(E33711=\"\",ISBLANK(E33711)),\"\",VLOOKUP(E33711,Sheet2!A:G,4,FALSE))","v":""},"",{"$f":"IF(OR(E33711=\"\",ISBLANK(E33711)),\"\",VLOOKUP(E33711,Sheet2!A:H,3,FALSE))","v":""},null,{"$f":"IF(OR(E33711=\"\",ISBLANK(E33711)),\"\",VLOOKUP(E33711,Sheet2!A:G,6,FALSE))","v":""},""]
[{"$f":"IF(OR(E33744=\"\",ISBLANK(E33744)),\"\",VLOOKUP(E33744,Sheet2!A:F,2,FALSE))","v":""},{"$f":"IF(OR(E33744=\"\",ISBLANK(E33744)),\"\",VLOOKUP(E33744,Sheet2!A:G,4,FALSE))","v":""},"",{"$f":"IF(OR(E33744=\"\",ISBLANK(E33744)),\"\",VLOOKUP(E33744,Sheet2!A:H,3,FALSE))","v":""},null,{"$f":"IF(OR(E33744=\"\",ISBLANK(E33744)),\"\",VLOOKUP(E33744,Sheet2!A:G,6,FALSE))","v":""},""]
[{"$f":"IF(OR(E33762=\"\",ISBLANK(E33762)),\"\",VLOOKUP(E33762,Sheet2!A:F,2,FALSE))","v":""},{"$f":"IF(OR(E33762=\"\",ISBLANK(E33762)),\"\",VLOOKUP(E33762,Sheet2!A:G,4,FALSE))","v":""},"",{"$f":"IF(OR(E33762=\"\",ISBLANK(E33762)),\"\",VLOOKUP(E33762,Sheet2!A:H,3,FALSE))","v":""},null,{"$f":"IF(OR(E33762=\"\",ISBLANK(E33762)),\"\",VLOOKUP(E33762,Sheet2!A:G,6,FALSE))","v":""},""]
[{"$f":"IF(OR(E33779=\"\",ISBLANK(E33779)),\"\",VLOOKUP(E33779,Sheet2!A:F,2,FALSE))","v":""},{"$f":"IF(OR(E33779=\"\",ISBLANK(E33779)),\"\",VLOOKUP(E33779,Sheet2!A:G,4,FALSE))","v":""},"",{"$f":"IF(OR(E33779=\"\",ISBLANK(E33779)),\"\",VLOOKUP(E33779,Sheet2!A:H,3,FALSE))","v":""},null,{"$f":"IF(OR(E33779=\"\",ISBLANK(E33779)),\"\",VLOOKUP(E33779,Sheet2!A:G,6,FALSE))","v":""},""]
[{"$f":"IF(OR(E33804=\"\",ISBLANK(E33804)),\"\",VLOOKUP(E33804,Sheet2!A:F,2,FALSE))","v":""},{"$f":"IF(OR(E33804=\"\",ISBLANK(E33804)),\"\",VLOOKUP(E33804,Sheet2!A:G,4,FALSE))","v":""},"",{"$f":"IF(OR(E33804=\"\",ISBLANK(E33804)),\"\",VLOOKUP(E33804,Sheet2!A:H,3,FALSE))","v":""},null,{"$f":"IF(OR(E33804=\"\",ISBLANK(E33804)),\"\",VLOOKUP(E33804,Sheet2!A:G,6,FALSE))","v":""},""]
[{"$f":"IF(OR(E33851=\"\",ISBLANK(E33851)),\"\",VLOOKUP(E33851,Sheet2!A:F,2,FALSE))","v":""},{"$f":"IF(OR(E33851=\"\",ISBLANK(E33851)),\"\",VLOOKUP(E33851,Sheet2!A:G,4,FALSE))","v":""},"",{"$f":"IF(OR(E33851=\"\",ISBLANK(E33851)),\"\",VLOOKUP(E33851,Sheet2!A:H,3,FALSE))","v":""},null,{"$f":"IF(OR(E33851=\"\",ISBLANK(E33851)),\"\",VLOOKUP(E33851,Sheet2!A:G,6,FALSE))","v":""},""]
[{"$f":"IF(OR(E33871=\"\",ISBLANK(E33871)),\"\",VLOOKUP(E33871,Sheet2!A:F,2,FALSE))","v":""},{"$f":"IF(OR(E33871=\"\",ISBLANK(E33871)),\"\",VLOOKUP(E33871,Sheet2!A:G,4,FALSE))","v":""},"",{"$f":"IF(OR(E33871=\"\",ISBLANK(E33871)),\"\",VLOOKUP(E33871,Sheet2!A:H,3,FALSE))","v":""},null,{"$f":"IF(OR(E33871=\"\",ISBLANK(E33871)),\"\",VLOOKUP(E33871,Sheet2!A:G,6,FALSE))","v":""},""]
[{"$f":"IF(OR(E33876=\"\",ISBLANK(E33876)),\"\",VLOOKUP(E33876,Sheet2!A:F,2,FALSE))","v":""},{"$f":"IF(OR(E33876=\"\",ISBLANK(E33876)),\"\",VLOOKUP(E33876,Sheet2!A:G,4,FALSE))","v":""},"",{"$f":"IF(OR(E33876=\"\",ISBLANK(E33876)),\"\",VLOOKUP(E33876,Sheet2!A:H,3,FALSE))","v":""},null,{"$f":"IF(OR(E33876=\"\",ISBLANK(E33876)),\"\",VLOOKUP(E33876,Sheet2!A:G,6,FALSE))","v":""},""]
[{"$f":"IF(OR(E33906=\"\",ISBLANK(E33906)),\"\",VLOOKUP(E33906,Sheet2!A:F,2,FALSE))","v":""},{"$f":"IF(OR(E33906=\"\",ISBLANK(E33906)),\"\",VLOOKUP(E33906,Sheet2!A:G,4,FALSE))","v":""},"",{"$f":"IF(OR(E33906=\"\",ISBLANK(E33906)),\"\",VLOOKUP(E33906,Sheet2!A:H,3,FALSE))","v":""},null,{"$f":"IF(OR(E33906=\"\",ISBLANK(E33906)),\"\",VLOOKUP(E33906,Sheet2!A:G,6,FALSE))","v":""},""]
[{"$f":"IF(OR(E33939=\"\",ISBLANK(E33939)),\"\",VLOOKUP(E33939,Sheet2!A:F,2,FALSE))","v":""},{"$f":"IF(OR(E33939=\"\",ISBLANK(E33939)),\"\",VLOOKUP(E33939,Sheet2!A:G,4,FALSE))","v":""},"",{"$f":"IF(OR(E33939=\"\",ISBLANK(E33939)),\"\",VLOOKUP(E33939,Sheet2!A:H,3,FALSE))","v":""},null,{"$f":"IF(OR(E33939=\"\",ISBLANK(E33939)),\"\",VLOOKUP(E33939,Sheet2!A:G,6,FALSE))","v":""},""]
[{"$f":"IF(OR(E33965=\"\",ISBLANK(E33965)),\"\",VLOOKUP(E33965,Sheet2!A:F,2,FALSE))","v":""},{"$f":"IF(OR(E33965=\"\",ISBLANK(E33965)),\"\",VLOOKUP(E33965,Sheet2!A:G,4,FALSE))","v":""},"",{"$f":"IF(OR(E33965=\"\",ISBLANK(E33965)),\"\",VLOOKUP(E33965,Sheet2!A:H,3,FALSE))","v":""},null,{"$f":"IF(OR(E33965=\"\",ISBLANK(E33965)),\"\",VLOOKUP(E33965,Sheet2!A:G,6,FALSE))","v":""},""]
[{"$f":"IF(OR(E33974=\"\",ISBLANK(E33974)),\"\",VLOOKUP(E33974,Sheet2!A:F,2,FALSE))","v":""},{"$f":"IF(OR(E33974=\"\",ISBLANK(E33974)),\"\",VLOOKUP(E33974,Sheet2!A:G,4,FALSE))","v":""},"",{"$f":"IF(OR(E33974=\"\",ISBLANK(E33974)),\"\",VLOOKUP(E33974,Sheet2!A:H,3,FALSE))","v":""},null,{"$f":"IF(OR(E33974=\"\",ISBLANK(E33974)),\"\",VLOOKUP(E33974,Sheet2!A:G,6,FALSE))","v":""},""]
[{"$f":"IF(OR(E34015=\"\",ISBLANK(E34015)),\"\",VLOOKUP(E34015,Sheet2!A:F,2,FALSE))","v":""},{"$f":"IF(OR(E34015=\"\",ISBLANK(E34015)),\"\",VLOOKUP(E34015,Sheet2!A:G,4,FALSE))","v":""},"",{"$f":"IF(OR(E34015=\"\",ISBLANK(E34015)),\"\",VLOOKUP(E34015,Sheet2!A:H,3,FALSE))","v":""},null,{"$f":"IF(OR(E34015=\"\",ISBLANK(E34015)),\"\",VLOOKUP(E34015,Sheet2!A:G,6,FALSE))","v":""},""]
[{"$f":"IF(OR(E34033=\"\",ISBLANK(E34033)),\"\",VLOOKUP(E34033,Sheet2!A:F,2,FALSE))","v":""},{"$f":"IF(OR(E34033=\"\",ISBLANK(E34033)),\"\",VLOOKUP(E34033,Sheet2!A:G,4,FALSE))","v":""},"",{"$f":"IF(OR(E34033=\"\",ISBLANK(E34033)),\"\",VLOOKUP(E34033,Sheet2!A:H,3,FALSE))","v":""},null,{"$f":"IF(OR(E34033=\"\",ISBLANK(E34033)),\"\",VLOOKUP(E34033,Sheet2!A:G,6,FALSE))","v":""},""]
[{"$f":"IF(OR(E34066=\"\",ISBLANK(E34066)),\"\",VLOOKUP(E34066,Sheet2!A:F,2,FALSE))","v":""},{"$f":"IF(OR(E34066=\"\",ISBLANK(E34066)),\"\",VLOOKUP(E34066,Sheet2!A:G,4,FALSE))","v":""},"",{"$f":"IF(OR(E34066=\"\",ISBLANK(E34066)),\"\",VLOOKUP(E34066,Sheet2!A:H,3,FALSE))","v":""},null,{"$f":"IF(OR(E34066=\"\",ISBLANK(E34066)),\"\",VLOOKUP(E34066,Sheet2!A:G,6,FALSE))","v":""},""]
[{"$f":"IF(OR(E34079=\"\",ISBLANK(E34079)),\"\",VLOOKUP(E34079,Sheet2!A:F,2,FALSE))","v":""},{"$f":"IF(OR(E34079=\"\",ISBLANK(E34079)),\"\",VLOOKUP(E34079,Sheet2!A:G,4,FALSE))","v":""},"",{"$f":"IF(OR(E34079=\"\",ISBLANK(E34079)),\"\",VLOOKUP(E34079,Sheet2!A:H,3,FALSE))","v":""},null,{"$f":"IF(OR(E34079=\"\",ISBLANK(E34079)),\"\",VLOOKUP(E34079,Sheet2!A:G,6,FALSE))","v":""},""]
[{"$f":"IF(OR(E34101=\"\",ISBLANK(E34101)),\"\",VLOOKUP(E34101,Sheet2!A:F,2,FALSE))","v":""},{"$f":"IF(OR(E34101=\"\",ISBLANK(E34101)),\"\",VLOOKUP(E34101,Sheet2!A:G,4,FALSE))","v":""},"",{"$f":"IF(OR(E34101=\"\",ISBLANK(E34101)),\"\",VLOOKUP(E34101,Sheet2!A:H,3,FALSE))","v":""},null,{"$f":"IF(OR(E34101=\"\",ISBLANK(E34101)),\"\",VLOOKUP(E34101,Sheet2!A:G,6,FALSE))","v":""},""]
[{"$f":"IF(OR(E34129=\"\",ISBLANK(E34129)),\"\",VLOOKUP(E34129,Sheet2!A:F,2,FALSE))","v":""},{"$f":"IF(OR(E34129=\"\",ISBLANK(E34129)),\"\",VLOOKUP(E34129,Sheet2!A:G,4,FALSE))","v":""},"",{"$f":"IF(OR(E34129=\"\",ISBLANK(E34129)),\"\",VLOOKUP(E34129,Sheet2!A:H,3,FALSE))","v":""},null,{"$f":"IF(OR(E34129=\"\",ISBLANK(E34129)),\"\",VLOOKUP(E34129,Sheet2!A:G,6,FALSE))","v":""},""]
[{"$f":"IF(OR(E34160=\"\",ISBLANK(E34160)),\"\",VLOOKUP(E34160,Sheet2!A:F,2,FALSE))","v":""},{"$f":"IF(OR(E34160=\"\",ISBLANK(E34160)),\"\",VLOOKUP(E34160,Sheet2!A:G,4,FALSE))","v":""},"",{"$f":"IF(OR(E34160=\"\",ISBLANK(E34160)),\"\",VLOOKUP(E34160,Sheet2!A:H,3,FALSE))","v":""},null,{"$f":"IF(OR(E34160=\"\",ISBLANK(E34160)),\"\",VLOOKUP(E34160,Sheet2!A:G,6,FALSE))","v":""},""]
[{"$f":"IF(OR(E34169=\"\",ISBLANK(E34169)),\"\",VLOOKUP(E34169,Sheet2!A:F,2,FALSE))","v":""},{"$f":"IF(OR(E34169=\"\",ISBLANK(E34169)),\"\",VLOOKUP(E34169,Sheet2!A:G,4,FALSE))","v":""},"",{"$f":"IF(OR(E34169=\"\",ISBLANK(E34169)),\"\",VLOOKUP(E34169,Sheet2!A:H,3,FALSE))","v":""},null,{"$f":"IF(OR(E34169=\"\",ISBLANK(E34169)),\"\",VLOOKUP(E34169,Sheet2!A:G,6,FALSE))","v":""},""]
[{"$f":"IF(OR(E34193=\"\",ISBLANK(E34193)),\"\",VLOOKUP(E34193,Sheet2!A:F,2,FALSE))","v":""},{"$f":"IF(OR(E34193=\"\",ISBLANK(E34193)),\"\",VLOOKUP(E34193,Sheet2!A:G,4,FALSE))","v":""},"",{"$f":"IF(OR(E34193=\"\",ISBLANK(E34193)),\"\",VLOOKUP(E34193,Sheet2!A:H,3,FALSE))","v":""},null,{"$f":"IF(OR(E34193=\"\",ISBLANK(E34193)),\"\",VLOOKUP(E34193,Sheet2!A:G,6,FALSE))","v":""},""]
[{"$f":"IF(OR(E34228=\"\",ISBLANK(E34228)),\"\",VLOOKUP(E34228,Sheet2!A:F,2,FALSE))","v":""},{"$f":"IF(OR(E34228=\"\",ISBLANK(E34228)),\"\",VLOOKUP(E34228,Sheet2!A:G,4,FALSE))","v":""},"",{"$f":"IF(OR(E34228=\"\",ISBLANK(E34228)),\"\",VLOOKUP(E34228,Sheet2!A:H,3,FALSE))","v":""},null,{"$f":"IF(OR(E34228=\"\",ISBLANK(E34228)),\"\",VLOOKUP(E34228,Sheet2!A:G,6,FALSE))","v":""},""]
[{"$f":"IF(OR(E34261=\"\",ISBLANK(E34261)),\"\",VLOOKUP(E34261,Sheet2!A:F,2,FALSE))","v":""},{"$f":"IF(OR(E34261=\"\",ISBLANK(E34261)),\"\",VLOOKUP(E34261,Sheet2!A:G,4,FALSE))","v":""},"",{"$f":"IF(OR(E34261=\"\",ISBLANK(E34261)),\"\",VLOOKUP(E34261,Sheet2!A:H,3,FALSE))","v":""},null,{"$f":"IF(OR(E34261=\"\",ISBLANK(E34261)),\"\",VLOOKUP(E34261,Sheet2!A:G,6,FALSE))","v":""},""]
[{"$f":"IF(OR(E34282=\"\",ISBLANK(E34282)),\"\",VLOOKUP(E34282,Sheet2!A:F,2,FALSE))","v":""},{"$f":"IF(OR(E34282=\"\",ISBLANK(E34282)),\"\",VLOOKUP(E34282,Sheet2!A:G,4,FALSE))","v":""},"",{"$f":"IF(OR(E34282=\"\",ISBLANK(E34282)),\"\",VLOOKUP(E34282,Sheet2!A:H,3,FALSE))","v":""},null,{"$f":"IF(OR(E34282=\"\",ISBLANK(E34282)),\"\",VLOOKUP(E34282,Sheet2!A:G,6,FALSE))","v":""},""]
[{"$f":"IF(OR(E34296=\"\",ISBLANK(E34296)),\"\",VLOOKUP(E34296,Sheet2!A:F,2,FALSE))","v":""},{"$f":"IF(OR(E34296=\"\",ISBLANK(E34296)),\"\",VLOOKUP(E34296,Sheet2!A:G,4,FALSE))","v":""},"",{"$f":"IF(OR(E34296=\"\",ISBLANK(E34296)),\"\",VLOOKUP(E34296,Sheet2!A:H,3,FALSE))","v":""},null,{"$f":"IF(OR(E34296=\"\",ISBLANK(E34296)),\"\",VLOOKUP(E34296,Sheet2!A:G,6,FALSE))","v":""},""]
[{"$f":"IF(OR(E34332=\"\",ISBLANK(E34332)),\"\",VLOOKUP(E34332,Sheet2!A:F,2,FALSE))","v":""},{"$f":"IF(OR(E34332=\"\",ISBLANK(E34332)),\"\",VLOOKUP(E34332,Sheet2!A:G,4,FALSE))","v":""},"",{"$f":"IF(OR(E34332=\"\",ISBLANK(E34332)),\"\",VLOOKUP(E34332,Sheet2!A:H,3,FALSE))","v":""},null,{"$f":"IF(OR(E34332=\"\",ISBLANK(E34332)),\"\",VLOOKUP(E34332,Sheet2!A:G,6,FALSE))","v":""},""]
[{"$f":"IF(OR(E34355=\"\",ISBLANK(E34355)),\"\",VLOOKUP(E34355,Sheet2!A:F,2,FALSE))","v":""},{"$f":"IF(OR(E34355=\"\",ISBLANK(E34355)),\"\",VLOOKUP(E34355,Sheet2!A:G,4,FALSE))","v":""},"",{"$f":"IF(OR(E34355=\"\",ISBLANK(E34355)),\"\",VLOOKUP(E34355,Sheet2!A:H,3,FALSE))","v":""},null,{"$f":"IF(OR(E34355=\"\",ISBLANK(E34355)),\"\",VLOOKUP(E34355,Sheet2!A:G,6,FALSE))","v":""},""]
[{"$f":"IF(OR(E34364=\"\",ISBLANK(E34364)),\"\",VLOOKUP(E34364,Sheet2!A:F,2,FALSE))","v":""},{"$f":"IF(OR(E34364=\"\",ISBLANK(E34364)),\"\",VLOOKUP(E34364,Sheet2!A:G,4,FALSE))","v":""},"",{"$f":"IF(OR(E34364=\"\",ISBLANK(E34364)),\"\",VLOOKUP(E34364,Sheet2!A:H,3,FALSE))","v":""},null,{"$f":"IF(OR(E34364=\"\",ISBLANK(E34364)),\"\",VLOOKUP(E34364,Sheet2!A:G,6,FALSE))","v":""},""]
[{"$f":"IF(OR(E34396=\"\",ISBLANK(E34396)),\"\",VLOOKUP(E34396,Sheet2!A:F,2,FALSE))","v":""},{"$f":"IF(OR(E34396=\"\",ISBLANK(E34396)),\"\",VLOOKUP(E34396,Sheet2!A:G,4,FALSE))","v":""},"",{"$f":"IF(OR(E34396=\"\",ISBLANK(E34396)),\"\",VLOOKUP(E34396,Sheet2!A:H,3,FALSE))","v":""},null,{"$f":"IF(OR(E34396=\"\",ISBLANK(E34396)),\"\",VLOOKUP(E34396,Sheet2!A:G,6,FALSE))","v":""},""]
[{"$f":"IF(OR(E34423=\"\",ISBLANK(E34423)),\"\",VLOOKUP(E34423,Sheet2!A:F,2,FALSE))","v":""},{"$f":"IF(OR(E34423=\"\",ISBLANK(E34423)),\"\",VLOOKUP(E34423,Sheet2!A:G,4,FALSE))","v":""},"",{"$f":"IF(OR(E34423=\"\",ISBLANK(E34423)),\"\",VLOOKUP(E34423,Sheet2!A:H,3,FALSE))","v":""},null,{"$f":"IF(OR(E34423=\"\",ISBLANK(E34423)),\"\",VLOOKUP(E34423,Sheet2!A:G,6,FALSE))","v":""},""]
[{"$f":"IF(OR(E34446=\"\",ISBLANK(E34446)),\"\",VLOOKUP(E34446,Sheet2!A:F,2,FALSE))","v":""},{"$f":"IF(OR(E34446=\"\",ISBLANK(E34446)),\"\",VLOOKUP(E34446,Sheet2!A:G,4,FALSE))","v":""},"",{"$f":"IF(OR(E34446=\"\",ISBLANK(E34446)),\"\",VLOOKUP(E34446,Sheet2!A:H,3,FALSE))","v":""},null,{"$f":"IF(OR(E34446=\"\",ISBLANK(E34446)),\"\",VLOOKUP(E34446,Sheet2!A:G,6,FALSE))","v":""},""]
[{"$f":"IF(OR(E34482=\"\",ISBLANK(E34482)),\"\",VLOOKUP(E34482,Sheet2!A:F,2,FALSE))","v":""},{"$f":"IF(OR(E34482=\"\",ISBLANK(E34482)),\"\",VLOOKUP(E34482,Sheet2!A:G,4,FALSE))","v":""},"",{"$f":"IF(OR(E34482=\"\",ISBLANK(E34482)),\"\",VLOOKUP(E34482,Sheet2!A:H,3,FALSE))","v":""},null,{"$f":"IF(OR(E34482=\"\",ISBLANK(E34482)),\"\",VLOOKUP(E34482,Sheet2!A:G,6,FALSE))","v":""},""]
[{"$f":"IF(OR(E34491=\"\",ISBLANK(E34491)),\"\",VLOOKUP(E34491,Sheet2!A:F,2,FALSE))","v":""},{"$f":"IF(OR(E34491=\"\",ISBLANK(E34491)),\"\",VLOOKUP(E34491,Sheet2!A:G,4,FALSE))","v":""},"",{"$f":"IF(OR(E34491=\"\",ISBLANK(E34491)),\"\",VLOOKUP(E34491,Sheet2!A:H,3,FALSE))","v":""},null,{"$f":"IF(OR(E34491=\"\",ISBLANK(E34491)),\"\",VLOOKUP(E34491,Sheet2!A:G,6,FALSE))","v":""},""]
[{"$f":"IF(OR(E34510=\"\",ISBLANK(E34510)),\"\",VLOOKUP(E34510,Sheet2!A:F,2,FALSE))","v":""},{"$f":"IF(OR(E34510=\"\",ISBLANK(E34510)),\"\",VLOOKUP(E34510,Sheet2!A:G,4,FALSE))","v":""},"",{"$f":"IF(OR(E34510=\"\",ISBLANK(E34510)),\"\",VLOOKUP(E34510,Sheet2!A:H,3,FALSE))","v":""},null,{"$f":"IF(OR(E34510=\"\",ISBLANK(E34510)),\"\",VLOOKUP(E34510,Sheet2!A:G,6,FALSE))","v":""},""]
[{"$f":"IF(OR(E34550=\"\",ISBLANK(E34550)),\"\",VLOOKUP(E34550,Sheet2!A:F,2,FALSE))","v":""},{"$f":"IF(OR(E34550=\"\",ISBLANK(E34550)),\"\",VLOOKUP(E34550,Sheet2!A:G,4,FALSE))","v":""},"",{"$f":"IF(OR(E34550=\"\",ISBLANK(E34550)),\"\",VLOOKUP(E34550,Sheet2!A:H,3,FALSE))","v":""},null,{"$f":"IF(OR(E34550=\"\",ISBLANK(E34550)),\"\",VLOOKUP(E34550,Sheet2!A:G,6,FALSE))","v":""},""]
[{"$f":"IF(OR(E34564=\"\",ISBLANK(E34564)),\"\",VLOOKUP(E34564,Sheet2!A:F,2,FALSE))","v":""},{"$f":"IF(OR(E34564=\"\",ISBLANK(E34564)),\"\",VLOOKUP(E34564,Sheet2!A:G,4,FALSE))","v":""},"",{"$f":"IF(OR(E34564=\"\",ISBLANK(E34564)),\"\",VLOOKUP(E34564,Sheet2!A:H,3,FALSE))","v":""},null,{"$f":"IF(OR(E34564=\"\",ISBLANK(E34564)),\"\",VLOOKUP(E34564,Sheet2!A:G,6,FALSE))","v":""},""]
[{"$f":"IF(OR(E34585=\"\",ISBLANK(E34585)),\"\",VLOOKUP(E34585,Sheet2!A:F,2,FALSE))","v":""},{"$f":"IF(OR(E34585=\"\",ISBLANK(E34585)),\"\",VLOOKUP(E34585,Sheet2!A:G,4,FALSE))","v":""},"",{"$f":"IF(OR(E34585=\"\",ISBLANK(E34585)),\"\",VLOOKUP(E34585,Sheet2!A:H,3,FALSE))","v":""},null,{"$f":"IF(OR(E34585=\"\",ISBLANK(E34585)),\"\",VLOOKUP(E34585,Sheet2!A:G,6,FALSE))","v":""},""]
[{"$f":"IF(OR(E34618=\"\",ISBLANK(E34618)),\"\",VLOOKUP(E34618,Sheet2!A:F,2,FALSE))","v":""},{"$f":"IF(OR(E34618=\"\",ISBLANK(E34618)),\"\",VLOOKUP(E34618,Sheet2!A:G,4,FALSE))","v":""},"",{"$f":"IF(OR(E34618=\"\",ISBLANK(E34618)),\"\",VLOOKUP(E34618,Sheet2!A:H,3,FALSE))","v":""},null,{"$f":"IF(OR(E34618=\"\",ISBLANK(E34618)),\"\",VLOOKUP(E34618,Sheet2!A:G,6,FALSE))","v":""},""]
[{"$f":"IF(OR(E34649=\"\",ISBLANK(E34649)),\"\",VLOOKUP(E34649,Sheet2!A:F,2,FALSE))","v":""},{"$f":"IF(OR(E34649=\"\",ISBLANK(E34649)),\"\",VLOOKUP(E34649,Sheet2!A:G,4,FALSE))","v":""},"",{"$f":"IF(OR(E34649=\"\",ISBLANK(E34649)),\"\",VLOOKUP(E34649,Sheet2!A:H,3,FALSE))","v":""},null,{"$f":"IF(OR(E34649=\"\",ISBLANK(E34649)),\"\",VLOOKUP(E34649,Sheet2!A:G,6,FALSE))","v":""},""]
[{"$f":"IF(OR(E34677=\"\",ISBLANK(E34677)),\"\",VLOOKUP(E34677,Sheet2!A:F,2,FALSE))","v":""},{"$f":"IF(OR(E34677=\"\",ISBLANK(E34677)),\"\",VLOOKUP(E34677,Sheet2!A:G,4,FALSE))","v":""},"",{"$f":"IF(OR(E34677=\"\",ISBLANK(E34677)),\"\",VLOOKUP(E34677,Sheet2!A:H,3,FALSE))","v":""},null,{"$f":"IF(OR(E34677=\"\",ISBLANK(E34677)),\"\",VLOOKUP(E34677,Sheet2!A:G,6,FALSE))","v":""},""]
[{"$f":"IF(OR(E34686=\"\",ISBLANK(E34686)),\"\",VLOOKUP(E34686,Sheet2!A:F,2,FALSE))","v":""},{"$f":"IF(OR(E34686=\"\",ISBLANK(E34686)),\"\",VLOOKUP(E34686,Sheet2!A:G,4,FALSE))","v":""},"",{"$f":"IF(OR(E34686=\"\",ISBLANK(E34686)),\"\",VLOOKUP(E34686,Sheet2!A:H,3,FALSE))","v":""},null,{"$f":"IF(OR(E34686=\"\",ISBLANK(E34686)),\"\",VLOOKUP(E34686,Sheet2!A:G,6,FALSE))","v":""},""]
[{"$f":"IF(OR(E34713=\"\",ISBLANK(E34713)),\"\",VLOOKUP(E34713,Sheet2!A:F,2,FALSE))","v":""},{"$f":"IF(OR(E34713=\"\",ISBLANK(E34713)),\"\",VLOOKUP(E34713,Sheet2!A:G,4,FALSE))","v":""},"",{"$f":"IF(OR(E34713=\"\",ISBLANK(E34713)),\"\",VLOOKUP(E34713,Sheet2!A:H,3,FALSE))","v":""},null,{"$f":"IF(OR(E34713=\"\",ISBLANK(E34713)),\"\",VLOOKUP(E34713,Sheet2!A:G,6,FALSE))","v":""},""]
[{"$f":"IF(OR(E34745=\"\",ISBLANK(E34745)),\"\",VLOOKUP(E34745,Sheet2!A:F,2,FALSE))","v":""},{"$f":"IF(OR(E34745=\"\",ISBLANK(E34745)),\"\",VLOOKUP(E34745,Sheet2!A:G,4,FALSE))","v":""},"",{"$f":"IF(OR(E34745=\"\",ISBLANK(E34745)),\"\",VLOOKUP(E34745,Sheet2!A:H,3,FALSE))","v":""},null,{"$f":"IF(OR(E34745=\"\",ISBLANK(E34745)),\"\",VLOOKUP(E34745,Sheet2!A:G,6,FALSE))","v":""},""]
[{"$f":"IF(OR(E34767=\"\",ISBLANK(E34767)),\"\",VLOOKUP(E34767,Sheet2!A:F,2,FALSE))","v":""},{"$f":"IF(OR(E34767=\"\",ISBLANK(E34767)),\"\",VLOOKUP(E34767,Sheet2!A:G,4,FALSE))","v":""},"",{"$f":"IF(OR(E34767=\"\",ISBLANK(E34767)),\"\",VLOOKUP(E34767,Sheet2!A:H,3,FALSE))","v":""},null,{"$f":"IF(OR(E34767=\"\",ISBLANK(E34767)),\"\",VLOOKUP(E34767,Sheet2!A:G,6,FALSE))","v":""},""]
[{"$f":"IF(OR(E34780=\"\",ISBLANK(E34780)),\"\",VLOOKUP(E34780,Sheet2!A:F,2,FALSE))","v":""},{"$f":"IF(OR(E34780=\"\",ISBLANK(E34780)),\"\",VLOOKUP(E34780,Sheet2!A:G,4,FALSE))","v":""},"",{"$f":"IF(OR(E34780=\"\",ISBLANK(E34780)),\"\",VLOOKUP(E34780,Sheet2!A:H,3,FALSE))","v":""},null,{"$f":"IF(OR(E34780=\"\",ISBLANK(E34780)),\"\",VLOOKUP(E34780,Sheet2!A:G,6,FALSE))","v":""},""]
[{"$f":"IF(OR(E34813=\"\",ISBLANK(E34813)),\"\",VLOOKUP(E34813,Sheet2!A:F,2,FALSE))","v":""},{"$f":"IF(OR(E34813=\"\",ISBLANK(E34813)),\"\",VLOOKUP(E34813,Sheet2!A:G,4,FALSE))","v":""},"",{"$f":"IF(OR(E34813=\"\",ISBLANK(E34813)),\"\",VLOOKUP(E34813,Sheet2!A:H,3,FALSE))","v":""},null,{"$f":"IF(OR(E34813=\"\",ISBLANK(E34813)),\"\",VLOOKUP(E34813,Sheet2!A:G,6,FALSE))","v":""},""]
[{"$f":"IF(OR(E34827=\"\",ISBLANK(E34827)),\"\",VLOOKUP(E34827,Sheet2!A:F,2,FALSE))","v":""},{"$f":"IF(OR(E34827=\"\",ISBLANK(E34827)),\"\",VLOOKUP(E34827,Sheet2!A:G,4,FALSE))","v":""},"",{"$f":"IF(OR(E34827=\"\",ISBLANK(E34827)),\"\",VLOOKUP(E34827,Sheet2!A:H,3,FALSE))","v":""},null,{"$f":"IF(OR(E34827=\"\",ISBLANK(E34827)),\"\",VLOOKUP(E34827,Sheet2!A:G,6,FALSE))","v":""},""]
[{"$f":"IF(OR(E34872=\"\",ISBLANK(E34872)),\"\",VLOOKUP(E34872,Sheet2!A:F,2,FALSE))","v":""},{"$f":"IF(OR(E34872=\"\",ISBLANK(E34872)),\"\",VLOOKUP(E34872,Sheet2!A:G,4,FALSE))","v":""},"",{"$f":"IF(OR(E34872=\"\",ISBLANK(E34872)),\"\",VLOOKUP(E34872,Sheet2!A:H,3,FALSE))","v":""},null,{"$f":"IF(OR(E34872=\"\",ISBLANK(E34872)),\"\",VLOOKUP(E34872,Sheet2!A:G,6,FALSE))","v":""},""]
[{"$f":"IF(OR(E34881=\"\",ISBLANK(E34881)),\"\",VLOOKUP(E34881,Sheet2!A:F,2,FALSE))","v":""},{"$f":"IF(OR(E34881=\"\",ISBLANK(E34881)),\"\",VLOOKUP(E34881,Sheet2!A:G,4,FALSE))","v":""},"",{"$f":"IF(OR(E34881=\"\",ISBLANK(E34881)),\"\",VLOOKUP(E34881,Sheet2!A:H,3,FALSE))","v":""},null,{"$f":"IF(OR(E34881=\"\",ISBLANK(E34881)),\"\",VLOOKUP(E34881,Sheet2!A:G,6,FALSE))","v":""},""]
[{"$f":"IF(OR(E34907=\"\",ISBLANK(E34907)),\"\",VLOOKUP(E34907,Sheet2!A:F,2,FALSE))","v":""},{"$f":"IF(OR(E34907=\"\",ISBLANK(E34907)),\"\",VLOOKUP(E34907,Sheet2!A:G,4,FALSE))","v":""},"",{"$f":"IF(OR(E34907=\"\",ISBLANK(E34907)),\"\",VLOOKUP(E34907,Sheet2!A:H,3,FALSE))","v":""},null,{"$f":"IF(OR(E34907=\"\",ISBLANK(E34907)),\"\",VLOOKUP(E34907,Sheet2!A:G,6,FALSE))","v":""},""]
[{"$f":"IF(OR(E34940=\"\",ISBLANK(E34940)),\"\",VLOOKUP(E34940,Sheet2!A:F,2,FALSE))","v":""},{"$f":"IF(OR(E34940=\"\",ISBLANK(E34940)),\"\",VLOOKUP(E34940,Sheet2!A:G,4,FALSE))","v":""},"",{"$f":"IF(OR(E34940=\"\",ISBLANK(E34940)),\"\",VLOOKUP(E34940,Sheet2!A:H,3,FALSE))","v":""},null,{"$f":"IF(OR(E34940=\"\",ISBLANK(E34940)),\"\",VLOOKUP(E34940,Sheet2!A:G,6,FALSE))","v":""},""]
[{"$f":"IF(OR(E34966=\"\",ISBLANK(E34966)),\"\",VLOOKUP(E34966,Sheet2!A:F,2,FALSE))","v":""},{"$f":"IF(OR(E34966=\"\",ISBLANK(E34966)),\"\",VLOOKUP(E34966,Sheet2!A:G,4,FALSE))","v":""},"",{"$f":"IF(OR(E34966=\"\",ISBLANK(E34966)),\"\",VLOOKUP(E34966,Sheet2!A:H,3,FALSE))","v":""},null,{"$f":"IF(OR(E34966=\"\",ISBLANK(E34966)),\"\",VLOOKUP(E34966,Sheet2!A:G,6,FALSE))","v":""},""]
[{"$f":"IF(OR(E34975=\"\",ISBLANK(E34975)),\"\",VLOOKUP(E34975,Sheet2!A:F,2,FALSE))","v":""},{"$f":"IF(OR(E34975=\"\",ISBLANK(E34975)),\"\",VLOOKUP(E34975,Sheet2!A:G,4,FALSE))","v":""},"",{"$f":"IF(OR(E34975=\"\",ISBLANK(E34975)),\"\",VLOOKUP(E34975,Sheet2!A:H,3,FALSE))","v":""},null,{"$f":"IF(OR(E34975=\"\",ISBLANK(E34975)),\"\",VLOOKUP(E34975,Sheet2!A:G,6,FALSE))","v":""},""]
[{"$f":"IF(OR(E35020=\"\",ISBLANK(E35020)),\"\",VLOOKUP(E35020,Sheet2!A:F,2,FALSE))","v":""},{"$f":"IF(OR(E35020=\"\",ISBLANK(E35020)),\"\",VLOOKUP(E35020,Sheet2!A:G,4,FALSE))","v":""},"",{"$f":"IF(OR(E35020=\"\",ISBLANK(E35020)),\"\",VLOOKUP(E35020,Sheet2!A:H,3,FALSE))","v":""},null,{"$f":"IF(OR(E35020=\"\",ISBLANK(E35020)),\"\",VLOOKUP(E35020,Sheet2!A:G,6,FALSE))","v":""},""]
[{"$f":"IF(OR(E35034=\"\",ISBLANK(E35034)),\"\",VLOOKUP(E35034,Sheet2!A:F,2,FALSE))","v":""},{"$f":"IF(OR(E35034=\"\",ISBLANK(E35034)),\"\",VLOOKUP(E35034,Sheet2!A:G,4,FALSE))","v":""},"",{"$f":"IF(OR(E35034=\"\",ISBLANK(E35034)),\"\",VLOOKUP(E35034,Sheet2!A:H,3,FALSE))","v":""},null,{"$f":"IF(OR(E35034=\"\",ISBLANK(E35034)),\"\",VLOOKUP(E35034,Sheet2!A:G,6,FALSE))","v":""},""]
[{"$f":"IF(OR(E35067=\"\",ISBLANK(E35067)),\"\",VLOOKUP(E35067,Sheet2!A:F,2,FALSE))","v":""},{"$f":"IF(OR(E35067=\"\",ISBLANK(E35067)),\"\",VLOOKUP(E35067,Sheet2!A:G,4,FALSE))","v":""},"",{"$f":"IF(OR(E35067=\"\",ISBLANK(E35067)),\"\",VLOOKUP(E35067,Sheet2!A:H,3,FALSE))","v":""},null,{"$f":"IF(OR(E35067=\"\",ISBLANK(E35067)),\"\",VLOOKUP(E35067,Sheet2!A:G,6,FALSE))","v":""},""]
[{"$f":"IF(OR(E35084=\"\",ISBLANK(E35084)),\"\",VLOOKUP(E35084,Sheet2!A:F,2,FALSE))","v":""},{"$f":"IF(OR(E35084=\"\",ISBLANK(E35084)),\"\",VLOOKUP(E35084,Sheet2!A:G,4,FALSE))","v":""},"",{"$f":"IF(OR(E35084=\"\",ISBLANK(E35084)),\"\",VLOOKUP(E35084,Sheet2!A:H,3,FALSE))","v":""},null,{"$f":"IF(OR(E35084=\"\",ISBLANK(E35084)),\"\",VLOOKUP(E35084,Sheet2!A:G,6,FALSE))","v":""},""]
[{"$f":"IF(OR(E35102=\"\",ISBLANK(E35102)),\"\",VLOOKUP(E35102,Sheet2!A:F,2,FALSE))","v":""},{"$f":"IF(OR(E35102=\"\",ISBLANK(E35102)),\"\",VLOOKUP(E35102,Sheet2!A:G,4,FALSE))","v":""},"",{"$f":"IF(OR(E35102=\"\",ISBLANK(E35102)),\"\",VLOOKUP(E35102,Sheet2!A:H,3,FALSE))","v":""},null,{"$f":"IF(OR(E35102=\"\",ISBLANK(E35102)),\"\",VLOOKUP(E35102,Sheet2!A:G,6,FALSE))","v":""},""]
[{"$f":"IF(OR(E35135=\"\",ISBLANK(E35135)),\"\",VLOOKUP(E35135,Sheet2!A:F,2,FALSE))","v":""},{"$f":"IF(OR(E35135=\"\",ISBLANK(E35135)),\"\",VLOOKUP(E35135,Sheet2!A:G,4,FALSE))","v":""},"",{"$f":"IF(OR(E35135=\"\",ISBLANK(E35135)),\"\",VLOOKUP(E35135,Sheet2!A:H,3,FALSE))","v":""},null,{"$f":"IF(OR(E35135=\"\",ISBLANK(E35135)),\"\",VLOOKUP(E35135,Sheet2!A:G,6,FALSE))","v":""},""]
[{"$f":"IF(OR(E35144=\"\",ISBLANK(E35144)),\"\",VLOOKUP(E35144,Sheet2!A:F,2,FALSE))","v":""},{"$f":"IF(OR(E35144=\"\",ISBLANK(E35144)),\"\",VLOOKUP(E35144,Sheet2!A:G,4,FALSE))","v":""},"",{"$f":"IF(OR(E35144=\"\",ISBLANK(E35144)),\"\",VLOOKUP(E35144,Sheet2!A:H,3,FALSE))","v":""},null,{"$f":"IF(OR(E35144=\"\",ISBLANK(E35144)),\"\",VLOOKUP(E35144,Sheet2!A:G,6,FALSE))","v":""},""]
[{"$f":"IF(OR(E35170=\"\",ISBLANK(E35170)),\"\",VLOOKUP(E35170,Sheet2!A:F,2,FALSE))","v":""},{"$f":"IF(OR(E35170=\"\",ISBLANK(E35170)),\"\",VLOOKUP(E35170,Sheet2!A:G,4,FALSE))","v":""},"",{"$f":"IF(OR(E35170=\"\",ISBLANK(E35170)),\"\",VLOOKUP(E35170,Sheet2!A:H,3,FALSE))","v":""},null,{"$f":"IF(OR(E35170=\"\",ISBLANK(E35170)),\"\",VLOOKUP(E35170,Sheet2!A:G,6,FALSE))","v":""},""]
[{"$f":"IF(OR(E35198=\"\",ISBLANK(E35198)),\"\",VLOOKUP(E35198,Sheet2!A:F,2,FALSE))","v":""},{"$f":"IF(OR(E35198=\"\",ISBLANK(E35198)),\"\",VLOOKUP(E35198,Sheet2!A:G,4,FALSE))","v":""},"",{"$f":"IF(OR(E35198=\"\",ISBLANK(E35198)),\"\",VLOOKUP(E35198,Sheet2!A:H,3,FALSE))","v":""},null,{"$f":"IF(OR(E35198=\"\",ISBLANK(E35198)),\"\",VLOOKUP(E35198,Sheet2!A:G,6,FALSE))","v":""},""]
[{"$f":"IF(OR(E35229=\"\",ISBLANK(E35229)),\"\",VLOOKUP(E35229,Sheet2!A:F,2,FALSE))","v":""},{"$f":"IF(OR(E35229=\"\",ISBLANK(E35229)),\"\",VLOOKUP(E35229,Sheet2!A:G,4,FALSE))","v":""},"",{"$f":"IF(OR(E35229=\"\",ISBLANK(E35229)),\"\",VLOOKUP(E35229,Sheet2!A:H,3,FALSE))","v":""},null,{"$f":"IF(OR(E35229=\"\",ISBLANK(E35229)),\"\",VLOOKUP(E35229,Sheet2!A:G,6,FALSE))","v":""},""]
[{"$f":"IF(OR(E35262=\"\",ISBLANK(E35262)),\"\",VLOOKUP(E35262,Sheet2!A:F,2,FALSE))","v":""},{"$f":"IF(OR(E35262=\"\",ISBLANK(E35262)),\"\",VLOOKUP(E35262,Sheet2!A:G,4,FALSE))","v":""},"",{"$f":"IF(OR(E35262=\"\",ISBLANK(E35262)),\"\",VLOOKUP(E35262,Sheet2!A:H,3,FALSE))","v":""},null,{"$f":"IF(OR(E35262=\"\",ISBLANK(E35262)),\"\",VLOOKUP(E35262,Sheet2!A:G,6,FALSE))","v":""},""]
[{"$f":"IF(OR(E35283=\"\",ISBLANK(E35283)),\"\",VLOOKUP(E35283,Sheet2!A:F,2,FALSE))","v":""},{"$f":"IF(OR(E35283=\"\",ISBLANK(E35283)),\"\",VLOOKUP(E35283,Sheet2!A:G,4,FALSE))","v":""},"",{"$f":"IF(OR(E35283=\"\",ISBLANK(E35283)),\"\",VLOOKUP(E35283,Sheet2!A:H,3,FALSE))","v":""},null,{"$f":"IF(OR(E35283=\"\",ISBLANK(E35283)),\"\",VLOOKUP(E35283,Sheet2!A:G,6,FALSE))","v":""},""]
[{"$f":"IF(OR(E35297=\"\",ISBLANK(E35297)),\"\",VLOOKUP(E35297,Sheet2!A:F,2,FALSE))","v":""},{"$f":"IF(OR(E35297=\"\",ISBLANK(E35297)),\"\",VLOOKUP(E35297,Sheet2!A:G,4,FALSE))","v":""},"",{"$f":"IF(OR(E35297=\"\",ISBLANK(E35297)),\"\",VLOOKUP(E35297,Sheet2!A:H,3,FALSE))","v":""},null,{"$f":"IF(OR(E35297=\"\",ISBLANK(E35297)),\"\",VLOOKUP(E35297,Sheet2!A:G,6,FALSE))","v":""},""]
[{"$f":"IF(OR(E35337=\"\",ISBLANK(E35337)),\"\",VLOOKUP(E35337,Sheet2!A:F,2,FALSE))","v":""},{"$f":"IF(OR(E35337=\"\",ISBLANK(E35337)),\"\",VLOOKUP(E35337,Sheet2!A:G,4,FALSE))","v":""},"",{"$f":"IF(OR(E35337=\"\",ISBLANK(E35337)),\"\",VLOOKUP(E35337,Sheet2!A:H,3,FALSE))","v":""},null,{"$f":"IF(OR(E35337=\"\",ISBLANK(E35337)),\"\",VLOOKUP(E35337,Sheet2!A:G,6,FALSE))","v":""},""]
[{"$f":"IF(OR(E35356=\"\",ISBLANK(E35356)),\"\",VLOOKUP(E35356,Sheet2!A:F,2,FALSE))","v":""},{"$f":"IF(OR(E35356=\"\",ISBLANK(E35356)),\"\",VLOOKUP(E35356,Sheet2!A:G,4,FALSE))","v":""},"",{"$f":"IF(OR(E35356=\"\",ISBLANK(E35356)),\"\",VLOOKUP(E35356,Sheet2!A:H,3,FALSE))","v":""},null,{"$f":"IF(OR(E35356=\"\",ISBLANK(E35356)),\"\",VLOOKUP(E35356,Sheet2!A:G,6,FALSE))","v":""},""]
[{"$f":"IF(OR(E35365=\"\",ISBLANK(E35365)),\"\",VLOOKUP(E35365,Sheet2!A:F,2,FALSE))","v":""},{"$f":"IF(OR(E35365=\"\",ISBLANK(E35365)),\"\",VLOOKUP(E35365,Sheet2!A:G,4,FALSE))","v":""},"",{"$f":"IF(OR(E35365=\"\",ISBLANK(E35365)),\"\",VLOOKUP(E35365,Sheet2!A:H,3,FALSE))","v":""},null,{"$f":"IF(OR(E35365=\"\",ISBLANK(E35365)),\"\",VLOOKUP(E35365,Sheet2!A:G,6,FALSE))","v":""},""]
[{"$f":"IF(OR(E35401=\"\",ISBLANK(E35401)),\"\",VLOOKUP(E35401,Sheet2!A:F,2,FALSE))","v":""},{"$f":"IF(OR(E35401=\"\",ISBLANK(E35401)),\"\",VLOOKUP(E35401,Sheet2!A:G,4,FALSE))","v":""},"",{"$f":"IF(OR(E35401=\"\",ISBLANK(E35401)),\"\",VLOOKUP(E35401,Sheet2!A:H,3,FALSE))","v":""},null,{"$f":"IF(OR(E35401=\"\",ISBLANK(E35401)),\"\",VLOOKUP(E35401,Sheet2!A:G,6,FALSE))","v":""},""]
[{"$f":"IF(OR(E35424=\"\",ISBLANK(E35424)),\"\",VLOOKUP(E35424,Sheet2!A:F,2,FALSE))","v":""},{"$f":"IF(OR(E35424=\"\",ISBLANK(E35424)),\"\",VLOOKUP(E35424,Sheet2!A:G,4,FALSE))","v":""},"",{"$f":"IF(OR(E35424=\"\",ISBLANK(E35424)),\"\",VLOOKUP(E35424,Sheet2!A:H,3,FALSE))","v":""},null,{"$f":"IF(OR(E35424=\"\",ISBLANK(E35424)),\"\",VLOOKUP(E35424,Sheet2!A:G,6,FALSE))","v":""},""]
[{"$f":"IF(OR(E35451=\"\",ISBLANK(E35451)),\"\",VLOOKUP(E35451,Sheet2!A:F,2,FALSE))","v":""},{"$f":"IF(OR(E35451=\"\",ISBLANK(E35451)),\"\",VLOOKUP(E35451,Sheet2!A:G,4,FALSE))","v":""},"",{"$f":"IF(OR(E35451=\"\",ISBLANK(E35451)),\"\",VLOOKUP(E35451,Sheet2!A:H,3,FALSE))","v":""},null,{"$f":"IF(OR(E35451=\"\",ISBLANK(E35451)),\"\",VLOOKUP(E35451,Sheet2!A:G,6,FALSE))","v":""},""]
[{"$f":"IF(OR(E35483=\"\",ISBLANK(E35483)),\"\",VLOOKUP(E35483,Sheet2!A:F,2,FALSE))","v":""},{"$f":"IF(OR(E35483=\"\",ISBLANK(E35483)),\"\",VLOOKUP(E35483,Sheet2!A:G,4,FALSE))","v":""},"",{"$f":"IF(OR(E35483=\"\",ISBLANK(E35483)),\"\",VLOOKUP(E35483,Sheet2!A:H,3,FALSE))","v":""},null,{"$f":"IF(OR(E35483=\"\",ISBLANK(E35483)),\"\",VLOOKUP(E35483,Sheet2!A:G,6,FALSE))","v":""},""]
[{"$f":"IF(OR(E35492=\"\",ISBLANK(E35492)),\"\",VLOOKUP(E35492,Sheet2!A:F,2,FALSE))","v":""},{"$f":"IF(OR(E35492=\"\",ISBLANK(E35492)),\"\",VLOOKUP(E35492,Sheet2!A:G,4,FALSE))","v":""},"",{"$f":"IF(OR(E35492=\"\",ISBLANK(E35492)),\"\",VLOOKUP(E35492,Sheet2!A:H,3,FALSE))","v":""},null,{"$f":"IF(OR(E35492=\"\",ISBLANK(E35492)),\"\",VLOOKUP(E35492,Sheet2!A:G,6,FALSE))","v":""},""]
[{"$f":"IF(OR(E35515=\"\",ISBLANK(E35515)),\"\",VLOOKUP(E35515,Sheet2!A:F,2,FALSE))","v":""},{"$f":"IF(OR(E35515=\"\",ISBLANK(E35515)),\"\",VLOOKUP(E35515,Sheet2!A:G,4,FALSE))","v":""},"",{"$f":"IF(OR(E35515=\"\",ISBLANK(E35515)),\"\",VLOOKUP(E35515,Sheet2!A:H,3,FALSE))","v":""},null,{"$f":"IF(OR(E35515=\"\",ISBLANK(E35515)),\"\",VLOOKUP(E35515,Sheet2!A:G,6,FALSE))","v":""},""]
[{"$f":"IF(OR(E35551=\"\",ISBLANK(E35551)),\"\",VLOOKUP(E35551,Sheet2!A:F,2,FALSE))","v":""},{"$f":"IF(OR(E35551=\"\",ISBLANK(E35551)),\"\",VLOOKUP(E35551,Sheet2!A:G,4,FALSE))","v":""},"",{"$f":"IF(OR(E35551=\"\",ISBLANK(E35551)),\"\",VLOOKUP(E35551,Sheet2!A:H,3,FALSE))","v":""},null,{"$f":"IF(OR(E35551=\"\",ISBLANK(E35551)),\"\",VLOOKUP(E35551,Sheet2!A:G,6,FALSE))","v":""},""]
[{"$f":"IF(OR(E35560=\"\",ISBLANK(E35560)),\"\",VLOOKUP(E35560,Sheet2!A:F,2,FALSE))","v":""},{"$f":"IF(OR(E35560=\"\",ISBLANK(E35560)),\"\",VLOOKUP(E35560,Sheet2!A:G,4,FALSE))","v":""},"",{"$f":"IF(OR(E35560=\"\",ISBLANK(E35560)),\"\",VLOOKUP(E35560,Sheet2!A:H,3,FALSE))","v":""},null,{"$f":"IF(OR(E35560=\"\",ISBLANK(E35560)),\"\",VLOOKUP(E35560,Sheet2!A:G,6,FALSE))","v":""},""]
[{"$f":"IF(OR(E35604=\"\",ISBLANK(E35604)),\"\",VLOOKUP(E35604,Sheet2!A:F,2,FALSE))","v":""},{"$f":"IF(OR(E35604=\"\",ISBLANK(E35604)),\"\",VLOOKUP(E35604,Sheet2!A:G,4,FALSE))","v":""},"",{"$f":"IF(OR(E35604=\"\",ISBLANK(E35604)),\"\",VLOOKUP(E35604,Sheet2!A:H,3,FALSE))","v":""},null,{"$f":"IF(OR(E35604=\"\",ISBLANK(E35604)),\"\",VLOOKUP(E35604,Sheet2!A:G,6,FALSE))","v":""},""]
[{"$f":"IF(OR(E35619=\"\",ISBLANK(E35619)),\"\",VLOOKUP(E35619,Sheet2!A:F,2,FALSE))","v":""},{"$f":"IF(OR(E35619=\"\",ISBLANK(E35619)),\"\",VLOOKUP(E35619,Sheet2!A:G,4,FALSE))","v":""},"",{"$f":"IF(OR(E35619=\"\",ISBLANK(E35619)),\"\",VLOOKUP(E35619,Sheet2!A:H,3,FALSE))","v":""},null,{"$f":"IF(OR(E35619=\"\",ISBLANK(E35619)),\"\",VLOOKUP(E35619,Sheet2!A:G,6,FALSE))","v":""},""]
[{"$f":"IF(OR(E35654=\"\",ISBLANK(E35654)),\"\",VLOOKUP(E35654,Sheet2!A:F,2,FALSE))","v":""},{"$f":"IF(OR(E35654=\"\",ISBLANK(E35654)),\"\",VLOOKUP(E35654,Sheet2!A:G,4,FALSE))","v":""},"",{"$f":"IF(OR(E35654=\"\",ISBLANK(E35654)),\"\",VLOOKUP(E35654,Sheet2!A:H,3,FALSE))","v":""},null,{"$f":"IF(OR(E35654=\"\",ISBLANK(E35654)),\"\",VLOOKUP(E35654,Sheet2!A:G,6,FALSE))","v":""},""]
[{"$f":"IF(OR(E35678=\"\",ISBLANK(E35678)),\"\",VLOOKUP(E35678,Sheet2!A:F,2,FALSE))","v":""},{"$f":"IF(OR(E35678=\"\",ISBLANK(E35678)),\"\",VLOOKUP(E35678,Sheet2!A:G,4,FALSE))","v":""},"",{"$f":"IF(OR(E35678=\"\",ISBLANK(E35678)),\"\",VLOOKUP(E35678,Sheet2!A:H,3,FALSE))","v":""},null,{"$f":"IF(OR(E35678=\"\",ISBLANK(E35678)),\"\",VLOOKUP(E35678,Sheet2!A:G,6,FALSE))","v":""},""]
[{"$f":"IF(OR(E35687=\"\",ISBLANK(E35687)),\"\",VLOOKUP(E35687,Sheet2!A:F,2,FALSE))","v":""},{"$f":"IF(OR(E35687=\"\",ISBLANK(E35687)),\"\",VLOOKUP(E35687,Sheet2!A:G,4,FALSE))","v":""},"",{"$f":"IF(OR(E35687=\"\",ISBLANK(E35687)),\"\",VLOOKUP(E35687,Sheet2!A:H,3,FALSE))","v":""},null,{"$f":"IF(OR(E35687=\"\",ISBLANK(E35687)),\"\",VLOOKUP(E35687,Sheet2!A:G,6,FALSE))","v":""},""]
[{"$f":"IF(OR(E35718=\"\",ISBLANK(E35718)),\"\",VLOOKUP(E35718,Sheet2!A:F,2,FALSE))","v":""},{"$f":"IF(OR(E35718=\"\",ISBLANK(E35718)),\"\",VLOOKUP(E35718,Sheet2!A:G,4,FALSE))","v":""},"",{"$f":"IF(OR(E35718=\"\",ISBLANK(E35718)),\"\",VLOOKUP(E35718,Sheet2!A:H,3,FALSE))","v":""},null,{"$f":"IF(OR(E35718=\"\",ISBLANK(E35718)),\"\",VLOOKUP(E35718,Sheet2!A:G,6,FALSE))","v":""},""]
[{"$f":"IF(OR(E35746=\"\",ISBLANK(E35746)),\"\",VLOOKUP(E35746,Sheet2!A:F,2,FALSE))","v":""},{"$f":"IF(OR(E35746=\"\",ISBLANK(E35746)),\"\",VLOOKUP(E35746,Sheet2!A:G,4,FALSE))","v":""},"",{"$f":"IF(OR(E35746=\"\",ISBLANK(E35746)),\"\",VLOOKUP(E35746,Sheet2!A:H,3,FALSE))","v":""},null,{"$f":"IF(OR(E35746=\"\",ISBLANK(E35746)),\"\",VLOOKUP(E35746,Sheet2!A:G,6,FALSE))","v":""},""]
[{"$f":"IF(OR(E35768=\"\",ISBLANK(E35768)),\"\",VLOOKUP(E35768,Sheet2!A:F,2,FALSE))","v":""},{"$f":"IF(OR(E35768=\"\",ISBLANK(E35768)),\"\",VLOOKUP(E35768,Sheet2!A:G,4,FALSE))","v":""},"",{"$f":"IF(OR(E35768=\"\",ISBLANK(E35768)),\"\",VLOOKUP(E35768,Sheet2!A:H,3,FALSE))","v":""},null,{"$f":"IF(OR(E35768=\"\",ISBLANK(E35768)),\"\",VLOOKUP(E35768,Sheet2!A:G,6,FALSE))","v":""},""]
[{"$f":"IF(OR(E35781=\"\",ISBLANK(E35781)),\"\",VLOOKUP(E35781,Sheet2!A:F,2,FALSE))","v":""},{"$f":"IF(OR(E35781=\"\",ISBLANK(E35781)),\"\",VLOOKUP(E35781,Sheet2!A:G,4,FALSE))","v":""},"",{"$f":"IF(OR(E35781=\"\",ISBLANK(E35781)),\"\",VLOOKUP(E35781,Sheet2!A:H,3,FALSE))","v":""},null,{"$f":"IF(OR(E35781=\"\",ISBLANK(E35781)),\"\",VLOOKUP(E35781,Sheet2!A:G,6,FALSE))","v":""},""]
[{"$f":"IF(OR(E35814=\"\",ISBLANK(E35814)),\"\",VLOOKUP(E35814,Sheet2!A:F,2,FALSE))","v":""},{"$f":"IF(OR(E35814=\"\",ISBLANK(E35814)),\"\",VLOOKUP(E35814,Sheet2!A:G,4,FALSE))","v":""},"",{"$f":"IF(OR(E35814=\"\",ISBLANK(E35814)),\"\",VLOOKUP(E35814,Sheet2!A:H,3,FALSE))","v":""},null,{"$f":"IF(OR(E35814=\"\",ISBLANK(E35814)),\"\",VLOOKUP(E35814,Sheet2!A:G,6,FALSE))","v":""},""]
[{"$f":"IF(OR(E35832=\"\",ISBLANK(E35832)),\"\",VLOOKUP(E35832,Sheet2!A:F,2,FALSE))","v":""},{"$f":"IF(OR(E35832=\"\",ISBLANK(E35832)),\"\",VLOOKUP(E35832,Sheet2!A:G,4,FALSE))","v":""},"",{"$f":"IF(OR(E35832=\"\",ISBLANK(E35832)),\"\",VLOOKUP(E35832,Sheet2!A:H,3,FALSE))","v":""},null,{"$f":"IF(OR(E35832=\"\",ISBLANK(E35832)),\"\",VLOOKUP(E35832,Sheet2!A:G,6,FALSE))","v":""},""]
[{"$f":"IF(OR(E35873=\"\",ISBLANK(E35873)),\"\",VLOOKUP(E35873,Sheet2!A:F,2,FALSE))","v":""},{"$f":"IF(OR(E35873=\"\",ISBLANK(E35873)),\"\",VLOOKUP(E35873,Sheet2!A:G,4,FALSE))","v":""},"",{"$f":"IF(OR(E35873=\"\",ISBLANK(E35873)),\"\",VLOOKUP(E35873,Sheet2!A:H,3,FALSE))","v":""},null,{"$f":"IF(OR(E35873=\"\",ISBLANK(E35873)),\"\",VLOOKUP(E35873,Sheet2!A:G,6,FALSE))","v":""},""]
[{"$f":"IF(OR(E35882=\"\",ISBLANK(E35882)),\"\",VLOOKUP(E35882,Sheet2!A:F,2,FALSE))","v":""},{"$f":"IF(OR(E35882=\"\",ISBLANK(E35882)),\"\",VLOOKUP(E35882,Sheet2!A:G,4,FALSE))","v":""},"",{"$f":"IF(OR(E35882=\"\",ISBLANK(E35882)),\"\",VLOOKUP(E35882,Sheet2!A:H,3,FALSE))","v":""},null,{"$f":"IF(OR(E35882=\"\",ISBLANK(E35882)),\"\",VLOOKUP(E35882,Sheet2!A:G,6,FALSE))","v":""},""]
[{"$f":"IF(OR(E35916=\"\",ISBLANK(E35916)),\"\",VLOOKUP(E35916,Sheet2!A:F,2,FALSE))","v":""},{"$f":"IF(OR(E35916=\"\",ISBLANK(E35916)),\"\",VLOOKUP(E35916,Sheet2!A:G,4,FALSE))","v":""},"",{"$f":"IF(OR(E35916=\"\",ISBLANK(E35916)),\"\",VLOOKUP(E35916,Sheet2!A:H,3,FALSE))","v":""},null,{"$f":"IF(OR(E35916=\"\",ISBLANK(E35916)),\"\",VLOOKUP(E35916,Sheet2!A:G,6,FALSE))","v":""},""]
[{"$f":"IF(OR(E35941=\"\",ISBLANK(E35941)),\"\",VLOOKUP(E35941,Sheet2!A:F,2,FALSE))","v":""},{"$f":"IF(OR(E35941=\"\",ISBLANK(E35941)),\"\",VLOOKUP(E35941,Sheet2!A:G,4,FALSE))","v":""},"",{"$f":"IF(OR(E35941=\"\",ISBLANK(E35941)),\"\",VLOOKUP(E35941,Sheet2!A:H,3,FALSE))","v":""},null,{"$f":"IF(OR(E35941=\"\",ISBLANK(E35941)),\"\",VLOOKUP(E35941,Sheet2!A:G,6,FALSE))","v":""},""]
[{"$f":"IF(OR(E35971=\"\",ISBLANK(E35971)),\"\",VLOOKUP(E35971,Sheet2!A:F,2,FALSE))","v":""},{"$f":"IF(OR(E35971=\"\",ISBLANK(E35971)),\"\",VLOOKUP(E35971,Sheet2!A:G,4,FALSE))","v":""},{"$f":"IF(D35971=0,\"\",D35971)","v":""},{"$f":"IF(OR(E35971=\"\",ISBLANK(E35971)),\"\",VLOOKUP(E35971,Sheet2!A:H,3,FALSE))","v":""},null,{"$f":"IF(OR(E35971=\"\",ISBLANK(E35971)),\"\",VLOOKUP(E35971,Sheet2!A:G,6,FALSE))","v":""},{"$f":"IF(F35971=0,\"\",F35971)","v":""}]
[{"$f":"IF(OR(E35976=\"\",ISBLANK(E35976)),\"\",VLOOKUP(E35976,Sheet2!A:F,2,FALSE))","v":""},{"$f":"IF(OR(E35976=\"\",ISBLANK(E35976)),\"\",VLOOKUP(E35976,Sheet2!A:G,4,FALSE))","v":""},"",{"$f":"IF(OR(E35976=\"\",ISBLANK(E35976)),\"\",VLOOKUP(E35976,Sheet2!A:H,3,FALSE))","v":""},null,{"$f":"IF(OR(E35976=\"\",ISBLANK(E35976)),\"\",VLOOKUP(E35976,Sheet2!A:G,6,FALSE))","v":""},""]
[{"$f":"IF(OR(E36009=\"\",ISBLANK(E36009)),\"\",VLOOKUP(E36009,Sheet2!A:F,2,FALSE))","v":""},{"$f":"IF(OR(E36009=\"\",ISBLANK(E36009)),\"\",VLOOKUP(E36009,Sheet2!A:G,4,FALSE))","v":""},"",{"$f":"IF(OR(E36009=\"\",ISBLANK(E36009)),\"\",VLOOKUP(E36009,Sheet2!A:H,3,FALSE))","v":""},null,{"$f":"IF(OR(E36009=\"\",ISBLANK(E36009)),\"\",VLOOKUP(E36009,Sheet2!A:G,6,FALSE))","v":""},""]
[{"$f":"IF(OR(E36035=\"\",ISBLANK(E36035)),\"\",VLOOKUP(E36035,Sheet2!A:F,2,FALSE))","v":""},{"$f":"IF(OR(E36035=\"\",ISBLANK(E36035)),\"\",VLOOKUP(E36035,Sheet2!A:G,4,FALSE))","v":""},{"$f":"IF(D36035=0,\"\",D36035)","v":""},{"$f":"IF(OR(E36035=\"\",ISBLANK(E36035)),\"\",VLOOKUP(E36035,Sheet2!A:H,3,FALSE))","v":""},null,{"$f":"IF(OR(E36035=\"\",ISBLANK(E36035)),\"\",VLOOKUP(E36035,Sheet2!A:G,6,FALSE))","v":""},{"$f":"IF(F36035=0,\"\",F36035)","v":""}]
[{"$f":"IF(OR(E36068=\"\",ISBLANK(E36068)),\"\",VLOOKUP(E36068,Sheet2!A:F,2,FALSE))","v":""},{"$f":"IF(OR(E36068=\"\",ISBLANK(E36068)),\"\",VLOOKUP(E36068,Sheet2!A:G,4,FALSE))","v":""},"",{"$f":"IF(OR(E36068=\"\",ISBLANK(E36068)),\"\",VLOOKUP(E36068,Sheet2!A:H,3,FALSE))","v":""},null,{"$f":"IF(OR(E36068=\"\",ISBLANK(E36068)),\"\",VLOOKUP(E36068,Sheet2!A:G,6,FALSE))","v":""},""]
[{"$f":"IF(OR(E36085=\"\",ISBLANK(E36085)),\"\",VLOOKUP(E36085,Sheet2!A:F,2,FALSE))","v":""},{"$f":"IF(OR(E36085=\"\",ISBLANK(E36085)),\"\",VLOOKUP(E36085,Sheet2!A:G,4,FALSE))","v":""},"",{"$f":"IF(OR(E36085=\"\",ISBLANK(E36085)),\"\",VLOOKUP(E36085,Sheet2!A:H,3,FALSE))","v":""},null,{"$f":"IF(OR(E36085=\"\",ISBLANK(E36085)),\"\",VLOOKUP(E36085,Sheet2!A:G,6,FALSE))","v":""},""]
[{"$f":"IF(OR(E36111=\"\",ISBLANK(E36111)),\"\",VLOOKUP(E36111,Sheet2!A:F,2,FALSE))","v":""},{"$f":"IF(OR(E36111=\"\",ISBLANK(E36111)),\"\",VLOOKUP(E36111,Sheet2!A:G,4,FALSE))","v":""},"",{"$f":"IF(OR(E36111=\"\",ISBLANK(E36111)),\"\",VLOOKUP(E36111,Sheet2!A:H,3,FALSE))","v":""},null,{"$f":"IF(OR(E36111=\"\",ISBLANK(E36111)),\"\",VLOOKUP(E36111,Sheet2!A:G,6,FALSE))","v":""},""]
[{"$f":"IF(OR(E36136=\"\",ISBLANK(E36136)),\"\",VLOOKUP(E36136,Sheet2!A:F,2,FALSE))","v":""},{"$f":"IF(OR(E36136=\"\",ISBLANK(E36136)),\"\",VLOOKUP(E36136,Sheet2!A:G,4,FALSE))","v":""},"",{"$f":"IF(OR(E36136=\"\",ISBLANK(E36136)),\"\",VLOOKUP(E36136,Sheet2!A:H,3,FALSE))","v":""},null,{"$f":"IF(OR(E36136=\"\",ISBLANK(E36136)),\"\",VLOOKUP(E36136,Sheet2!A:G,6,FALSE))","v":""},""]
[{"$f":"IF(OR(E36149=\"\",ISBLANK(E36149)),\"\",VLOOKUP(E36149,Sheet2!A:F,2,FALSE))","v":""},{"$f":"IF(OR(E36149=\"\",ISBLANK(E36149)),\"\",VLOOKUP(E36149,Sheet2!A:G,4,FALSE))","v":""},"",{"$f":"IF(OR(E36149=\"\",ISBLANK(E36149)),\"\",VLOOKUP(E36149,Sheet2!A:H,3,FALSE))","v":""},null,{"$f":"IF(OR(E36149=\"\",ISBLANK(E36149)),\"\",VLOOKUP(E36149,Sheet2!A:G,6,FALSE))","v":""},""]
[{"$f":"IF(OR(E36171=\"\",ISBLANK(E36171)),\"\",VLOOKUP(E36171,Sheet2!A:F,2,FALSE))","v":""},{"$f":"IF(OR(E36171=\"\",ISBLANK(E36171)),\"\",VLOOKUP(E36171,Sheet2!A:G,4,FALSE))","v":""},"",{"$f":"IF(OR(E36171=\"\",ISBLANK(E36171)),\"\",VLOOKUP(E36171,Sheet2!A:H,3,FALSE))","v":""},null,{"$f":"IF(OR(E36171=\"\",ISBLANK(E36171)),\"\",VLOOKUP(E36171,Sheet2!A:G,6,FALSE))","v":""},""]
[{"$f":"IF(OR(E36199=\"\",ISBLANK(E36199)),\"\",VLOOKUP(E36199,Sheet2!A:F,2,FALSE))","v":""},{"$f":"IF(OR(E36199=\"\",ISBLANK(E36199)),\"\",VLOOKUP(E36199,Sheet2!A:G,4,FALSE))","v":""},"",{"$f":"IF(OR(E36199=\"\",ISBLANK(E36199)),\"\",VLOOKUP(E36199,Sheet2!A:H,3,FALSE))","v":""},null,{"$f":"IF(OR(E36199=\"\",ISBLANK(E36199)),\"\",VLOOKUP(E36199,Sheet2!A:G,6,FALSE))","v":""},""]
[{"$f":"IF(OR(E36238=\"\",ISBLANK(E36238)),\"\",VLOOKUP(E36238,Sheet2!A:F,2,FALSE))","v":""},{"$f":"IF(OR(E36238=\"\",ISBLANK(E36238)),\"\",VLOOKUP(E36238,Sheet2!A:G,4,FALSE))","v":""},"",{"$f":"IF(OR(E36238=\"\",ISBLANK(E36238)),\"\",VLOOKUP(E36238,Sheet2!A:H,3,FALSE))","v":""},null,{"$f":"IF(OR(E36238=\"\",ISBLANK(E36238)),\"\",VLOOKUP(E36238,Sheet2!A:G,6,FALSE))","v":""},""]
[{"$f":"IF(OR(E36263=\"\",ISBLANK(E36263)),\"\",VLOOKUP(E36263,Sheet2!A:F,2,FALSE))","v":""},{"$f":"IF(OR(E36263=\"\",ISBLANK(E36263)),\"\",VLOOKUP(E36263,Sheet2!A:G,4,FALSE))","v":""},"",{"$f":"IF(OR(E36263=\"\",ISBLANK(E36263)),\"\",VLOOKUP(E36263,Sheet2!A:H,3,FALSE))","v":""},null,{"$f":"IF(OR(E36263=\"\",ISBLANK(E36263)),\"\",VLOOKUP(E36263,Sheet2!A:G,6,FALSE))","v":""},""]
[{"$f":"IF(OR(E36288=\"\",ISBLANK(E36288)),\"\",VLOOKUP(E36288,Sheet2!A:F,2,FALSE))","v":""},{"$f":"IF(OR(E36288=\"\",ISBLANK(E36288)),\"\",VLOOKUP(E36288,Sheet2!A:G,4,FALSE))","v":""},"",{"$f":"IF(OR(E36288=\"\",ISBLANK(E36288)),\"\",VLOOKUP(E36288,Sheet2!A:H,3,FALSE))","v":""},null,{"$f":"IF(OR(E36288=\"\",ISBLANK(E36288)),\"\",VLOOKUP(E36288,Sheet2!A:G,6,FALSE))","v":""},""]
[{"$f":"IF(OR(E36298=\"\",ISBLANK(E36298)),\"\",VLOOKUP(E36298,Sheet2!A:F,2,FALSE))","v":""},{"$f":"IF(OR(E36298=\"\",ISBLANK(E36298)),\"\",VLOOKUP(E36298,Sheet2!A:G,4,FALSE))","v":""},"",{"$f":"IF(OR(E36298=\"\",ISBLANK(E36298)),\"\",VLOOKUP(E36298,Sheet2!A:H,3,FALSE))","v":""},null,{"$f":"IF(OR(E36298=\"\",ISBLANK(E36298)),\"\",VLOOKUP(E36298,Sheet2!A:G,6,FALSE))","v":""},""]
[{"$f":"IF(OR(E36338=\"\",ISBLANK(E36338)),\"\",VLOOKUP(E36338,Sheet2!A:F,2,FALSE))","v":""},{"$f":"IF(OR(E36338=\"\",ISBLANK(E36338)),\"\",VLOOKUP(E36338,Sheet2!A:G,4,FALSE))","v":""},"",{"$f":"IF(OR(E36338=\"\",ISBLANK(E36338)),\"\",VLOOKUP(E36338,Sheet2!A:H,3,FALSE))","v":""},null,{"$f":"IF(OR(E36338=\"\",ISBLANK(E36338)),\"\",VLOOKUP(E36338,Sheet2!A:G,6,FALSE))","v":""},""]
[{"$f":"IF(OR(E36341=\"\",ISBLANK(E36341)),\"\",VLOOKUP(E36341,Sheet2!A:F,2,FALSE))","v":""},{"$f":"IF(OR(E36341=\"\",ISBLANK(E36341)),\"\",VLOOKUP(E36341,Sheet2!A:G,4,FALSE))","v":""},"",{"$f":"IF(OR(E36341=\"\",ISBLANK(E36341)),\"\",VLOOKUP(E36341,Sheet2!A:H,3,FALSE))","v":""},null,{"$f":"IF(OR(E36341=\"\",ISBLANK(E36341)),\"\",VLOOKUP(E36341,Sheet2!A:G,6,FALSE))","v":""},""]
[{"$f":"IF(OR(E36366=\"\",ISBLANK(E36366)),\"\",VLOOKUP(E36366,Sheet2!A:F,2,FALSE))","v":""},{"$f":"IF(OR(E36366=\"\",ISBLANK(E36366)),\"\",VLOOKUP(E36366,Sheet2!A:G,4,FALSE))","v":""},"",{"$f":"IF(OR(E36366=\"\",ISBLANK(E36366)),\"\",VLOOKUP(E36366,Sheet2!A:H,3,FALSE))","v":""},null,{"$f":"IF(OR(E36366=\"\",ISBLANK(E36366)),\"\",VLOOKUP(E36366,Sheet2!A:G,6,FALSE))","v":""},""]
[{"$f":"IF(OR(E36402=\"\",ISBLANK(E36402)),\"\",VLOOKUP(E36402,Sheet2!A:F,2,FALSE))","v":""},{"$f":"IF(OR(E36402=\"\",ISBLANK(E36402)),\"\",VLOOKUP(E36402,Sheet2!A:G,4,FALSE))","v":""},"",{"$f":"IF(OR(E36402=\"\",ISBLANK(E36402)),\"\",VLOOKUP(E36402,Sheet2!A:H,3,FALSE))","v":""},null,{"$f":"IF(OR(E36402=\"\",ISBLANK(E36402)),\"\",VLOOKUP(E36402,Sheet2!A:G,6,FALSE))","v":""},""]
[{"$f":"IF(OR(E36433=\"\",ISBLANK(E36433)),\"\",VLOOKUP(E36433,Sheet2!A:F,2,FALSE))","v":""},{"$f":"IF(OR(E36433=\"\",ISBLANK(E36433)),\"\",VLOOKUP(E36433,Sheet2!A:G,4,FALSE))","v":""},"",{"$f":"IF(OR(E36433=\"\",ISBLANK(E36433)),\"\",VLOOKUP(E36433,Sheet2!A:H,3,FALSE))","v":""},null,{"$f":"IF(OR(E36433=\"\",ISBLANK(E36433)),\"\",VLOOKUP(E36433,Sheet2!A:G,6,FALSE))","v":""},""]
[{"$f":"IF(OR(E36458=\"\",ISBLANK(E36458)),\"\",VLOOKUP(E36458,Sheet2!A:F,2,FALSE))","v":""},{"$f":"IF(OR(E36458=\"\",ISBLANK(E36458)),\"\",VLOOKUP(E36458,Sheet2!A:G,4,FALSE))","v":""},"",{"$f":"IF(OR(E36458=\"\",ISBLANK(E36458)),\"\",VLOOKUP(E36458,Sheet2!A:H,3,FALSE))","v":""},null,{"$f":"IF(OR(E36458=\"\",ISBLANK(E36458)),\"\",VLOOKUP(E36458,Sheet2!A:G,6,FALSE))","v":""},""]
[{"$f":"IF(OR(E36466=\"\",ISBLANK(E36466)),\"\",VLOOKUP(E36466,Sheet2!A:F,2,FALSE))","v":""},{"$f":"IF(OR(E36466=\"\",ISBLANK(E36466)),\"\",VLOOKUP(E36466,Sheet2!A:G,4,FALSE))","v":""},"",{"$f":"IF(OR(E36466=\"\",ISBLANK(E36466)),\"\",VLOOKUP(E36466,Sheet2!A:H,3,FALSE))","v":""},null,{"$f":"IF(OR(E36466=\"\",ISBLANK(E36466)),\"\",VLOOKUP(E36466,Sheet2!A:G,6,FALSE))","v":""},""]
[{"$f":"IF(OR(E36493=\"\",ISBLANK(E36493)),\"\",VLOOKUP(E36493,Sheet2!A:F,2,FALSE))","v":""},{"$f":"IF(OR(E36493=\"\",ISBLANK(E36493)),\"\",VLOOKUP(E36493,Sheet2!A:G,4,FALSE))","v":""},"",{"$f":"IF(OR(E36493=\"\",ISBLANK(E36493)),\"\",VLOOKUP(E36493,Sheet2!A:H,3,FALSE))","v":""},null,{"$f":"IF(OR(E36493=\"\",ISBLANK(E36493)),\"\",VLOOKUP(E36493,Sheet2!A:G,6,FALSE))","v":""},""]
[{"$f":"IF(OR(E36516=\"\",ISBLANK(E36516)),\"\",VLOOKUP(E36516,Sheet2!A:F,2,FALSE))","v":""},{"$f":"IF(OR(E36516=\"\",ISBLANK(E36516)),\"\",VLOOKUP(E36516,Sheet2!A:G,4,FALSE))","v":""},"",{"$f":"IF(OR(E36516=\"\",ISBLANK(E36516)),\"\",VLOOKUP(E36516,Sheet2!A:H,3,FALSE))","v":""},null,{"$f":"IF(OR(E36516=\"\",ISBLANK(E36516)),\"\",VLOOKUP(E36516,Sheet2!A:G,6,FALSE))","v":""},""]
[{"$f":"IF(OR(E36536=\"\",ISBLANK(E36536)),\"\",VLOOKUP(E36536,Sheet2!A:F,2,FALSE))","v":""},{"$f":"IF(OR(E36536=\"\",ISBLANK(E36536)),\"\",VLOOKUP(E36536,Sheet2!A:G,4,FALSE))","v":""},"",{"$f":"IF(OR(E36536=\"\",ISBLANK(E36536)),\"\",VLOOKUP(E36536,Sheet2!A:H,3,FALSE))","v":""},null,{"$f":"IF(OR(E36536=\"\",ISBLANK(E36536)),\"\",VLOOKUP(E36536,Sheet2!A:G,6,FALSE))","v":""},""]
[{"$f":"IF(OR(E36561=\"\",ISBLANK(E36561)),\"\",VLOOKUP(E36561,Sheet2!A:F,2,FALSE))","v":""},{"$f":"IF(OR(E36561=\"\",ISBLANK(E36561)),\"\",VLOOKUP(E36561,Sheet2!A:G,4,FALSE))","v":""},"",{"$f":"IF(OR(E36561=\"\",ISBLANK(E36561)),\"\",VLOOKUP(E36561,Sheet2!A:H,3,FALSE))","v":""},null,{"$f":"IF(OR(E36561=\"\",ISBLANK(E36561)),\"\",VLOOKUP(E36561,Sheet2!A:G,6,FALSE))","v":""},""]
[{"$f":"IF(OR(E36605=\"\",ISBLANK(E36605)),\"\",VLOOKUP(E36605,Sheet2!A:F,2,FALSE))","v":""},{"$f":"IF(OR(E36605=\"\",ISBLANK(E36605)),\"\",VLOOKUP(E36605,Sheet2!A:G,4,FALSE))","v":""},"",{"$f":"IF(OR(E36605=\"\",ISBLANK(E36605)),\"\",VLOOKUP(E36605,Sheet2!A:H,3,FALSE))","v":""},null,{"$f":"IF(OR(E36605=\"\",ISBLANK(E36605)),\"\",VLOOKUP(E36605,Sheet2!A:G,6,FALSE))","v":""},""]
[{"$f":"IF(OR(E36620=\"\",ISBLANK(E36620)),\"\",VLOOKUP(E36620,Sheet2!A:F,2,FALSE))","v":""},{"$f":"IF(OR(E36620=\"\",ISBLANK(E36620)),\"\",VLOOKUP(E36620,Sheet2!A:G,4,FALSE))","v":""},"",{"$f":"IF(OR(E36620=\"\",ISBLANK(E36620)),\"\",VLOOKUP(E36620,Sheet2!A:H,3,FALSE))","v":""},null,{"$f":"IF(OR(E36620=\"\",ISBLANK(E36620)),\"\",VLOOKUP(E36620,Sheet2!A:G,6,FALSE))","v":""},""]
[{"$f":"IF(OR(E36655=\"\",ISBLANK(E36655)),\"\",VLOOKUP(E36655,Sheet2!A:F,2,FALSE))","v":""},{"$f":"IF(OR(E36655=\"\",ISBLANK(E36655)),\"\",VLOOKUP(E36655,Sheet2!A:G,4,FALSE))","v":""},"",{"$f":"IF(OR(E36655=\"\",ISBLANK(E36655)),\"\",VLOOKUP(E36655,Sheet2!A:H,3,FALSE))","v":""},null,{"$f":"IF(OR(E36655=\"\",ISBLANK(E36655)),\"\",VLOOKUP(E36655,Sheet2!A:G,6,FALSE))","v":""},""]
[{"$f":"IF(OR(E36663=\"\",ISBLANK(E36663)),\"\",VLOOKUP(E36663,Sheet2!A:F,2,FALSE))","v":""},{"$f":"IF(OR(E36663=\"\",ISBLANK(E36663)),\"\",VLOOKUP(E36663,Sheet2!A:G,4,FALSE))","v":""},"",{"$f":"IF(OR(E36663=\"\",ISBLANK(E36663)),\"\",VLOOKUP(E36663,Sheet2!A:H,3,FALSE))","v":""},null,{"$f":"IF(OR(E36663=\"\",ISBLANK(E36663)),\"\",VLOOKUP(E36663,Sheet2!A:G,6,FALSE))","v":""},""]
[{"$f":"IF(OR(E36688=\"\",ISBLANK(E36688)),\"\",VLOOKUP(E36688,Sheet2!A:F,2,FALSE))","v":""},{"$f":"IF(OR(E36688=\"\",ISBLANK(E36688)),\"\",VLOOKUP(E36688,Sheet2!A:G,4,FALSE))","v":""},"",{"$f":"IF(OR(E36688=\"\",ISBLANK(E36688)),\"\",VLOOKUP(E36688,Sheet2!A:H,3,FALSE))","v":""},null,{"$f":"IF(OR(E36688=\"\",ISBLANK(E36688)),\"\",VLOOKUP(E36688,Sheet2!A:G,6,FALSE))","v":""},""]
[{"$f":"IF(OR(E36719=\"\",ISBLANK(E36719)),\"\",VLOOKUP(E36719,Sheet2!A:F,2,FALSE))","v":""},{"$f":"IF(OR(E36719=\"\",ISBLANK(E36719)),\"\",VLOOKUP(E36719,Sheet2!A:G,4,FALSE))","v":""},"",{"$f":"IF(OR(E36719=\"\",ISBLANK(E36719)),\"\",VLOOKUP(E36719,Sheet2!A:H,3,FALSE))","v":""},null,{"$f":"IF(OR(E36719=\"\",ISBLANK(E36719)),\"\",VLOOKUP(E36719,Sheet2!A:G,6,FALSE))","v":""},""]
[{"$f":"IF(OR(E36731=\"\",ISBLANK(E36731)),\"\",VLOOKUP(E36731,Sheet2!A:F,2,FALSE))","v":""},{"$f":"IF(OR(E36731=\"\",ISBLANK(E36731)),\"\",VLOOKUP(E36731,Sheet2!A:G,4,FALSE))","v":""},"",{"$f":"IF(OR(E36731=\"\",ISBLANK(E36731)),\"\",VLOOKUP(E36731,Sheet2!A:H,3,FALSE))","v":""},null,{"$f":"IF(OR(E36731=\"\",ISBLANK(E36731)),\"\",VLOOKUP(E36731,Sheet2!A:G,6,FALSE))","v":""},""]
[{"$f":"IF(OR(E36769=\"\",ISBLANK(E36769)),\"\",VLOOKUP(E36769,Sheet2!A:F,2,FALSE))","v":""},{"$f":"IF(OR(E36769=\"\",ISBLANK(E36769)),\"\",VLOOKUP(E36769,Sheet2!A:G,4,FALSE))","v":""},"",{"$f":"IF(OR(E36769=\"\",ISBLANK(E36769)),\"\",VLOOKUP(E36769,Sheet2!A:H,3,FALSE))","v":""},null,{"$f":"IF(OR(E36769=\"\",ISBLANK(E36769)),\"\",VLOOKUP(E36769,Sheet2!A:G,6,FALSE))","v":""},""]
[{"$f":"IF(OR(E36790=\"\",ISBLANK(E36790)),\"\",VLOOKUP(E36790,Sheet2!A:F,2,FALSE))","v":""},{"$f":"IF(OR(E36790=\"\",ISBLANK(E36790)),\"\",VLOOKUP(E36790,Sheet2!A:G,4,FALSE))","v":""},"",{"$f":"IF(OR(E36790=\"\",ISBLANK(E36790)),\"\",VLOOKUP(E36790,Sheet2!A:H,3,FALSE))","v":""},null,{"$f":"IF(OR(E36790=\"\",ISBLANK(E36790)),\"\",VLOOKUP(E36790,Sheet2!A:G,6,FALSE))","v":""},""]
[{"$f":"IF(OR(E36815=\"\",ISBLANK(E36815)),\"\",VLOOKUP(E36815,Sheet2!A:F,2,FALSE))","v":""},{"$f":"IF(OR(E36815=\"\",ISBLANK(E36815)),\"\",VLOOKUP(E36815,Sheet2!A:G,4,FALSE))","v":""},"",{"$f":"IF(OR(E36815=\"\",ISBLANK(E36815)),\"\",VLOOKUP(E36815,Sheet2!A:H,3,FALSE))","v":""},null,{"$f":"IF(OR(E36815=\"\",ISBLANK(E36815)),\"\",VLOOKUP(E36815,Sheet2!A:G,6,FALSE))","v":""},""]
[{"$f":"IF(OR(E36833=\"\",ISBLANK(E36833)),\"\",VLOOKUP(E36833,Sheet2!A:F,2,FALSE))","v":""},{"$f":"IF(OR(E36833=\"\",ISBLANK(E36833)),\"\",VLOOKUP(E36833,Sheet2!A:G,4,FALSE))","v":""},"",{"$f":"IF(OR(E36833=\"\",ISBLANK(E36833)),\"\",VLOOKUP(E36833,Sheet2!A:H,3,FALSE))","v":""},null,{"$f":"IF(OR(E36833=\"\",ISBLANK(E36833)),\"\",VLOOKUP(E36833,Sheet2!A:G,6,FALSE))","v":""},""]
[{"$f":"IF(OR(E36858=\"\",ISBLANK(E36858)),\"\",VLOOKUP(E36858,Sheet2!A:F,2,FALSE))","v":""},{"$f":"IF(OR(E36858=\"\",ISBLANK(E36858)),\"\",VLOOKUP(E36858,Sheet2!A:G,4,FALSE))","v":""},"",{"$f":"IF(OR(E36858=\"\",ISBLANK(E36858)),\"\",VLOOKUP(E36858,Sheet2!A:H,3,FALSE))","v":""},null,{"$f":"IF(OR(E36858=\"\",ISBLANK(E36858)),\"\",VLOOKUP(E36858,Sheet2!A:G,6,FALSE))","v":""},""]
[{"$f":"IF(OR(E36883=\"\",ISBLANK(E36883)),\"\",VLOOKUP(E36883,Sheet2!A:F,2,FALSE))","v":""},{"$f":"IF(OR(E36883=\"\",ISBLANK(E36883)),\"\",VLOOKUP(E36883,Sheet2!A:G,4,FALSE))","v":""},"",{"$f":"IF(OR(E36883=\"\",ISBLANK(E36883)),\"\",VLOOKUP(E36883,Sheet2!A:H,3,FALSE))","v":""},null,{"$f":"IF(OR(E36883=\"\",ISBLANK(E36883)),\"\",VLOOKUP(E36883,Sheet2!A:G,6,FALSE))","v":""},""]
[{"$f":"IF(OR(E36922=\"\",ISBLANK(E36922)),\"\",VLOOKUP(E36922,Sheet2!A:F,2,FALSE))","v":""},{"$f":"IF(OR(E36922=\"\",ISBLANK(E36922)),\"\",VLOOKUP(E36922,Sheet2!A:G,4,FALSE))","v":""},"",{"$f":"IF(OR(E36922=\"\",ISBLANK(E36922)),\"\",VLOOKUP(E36922,Sheet2!A:H,3,FALSE))","v":""},null,{"$f":"IF(OR(E36922=\"\",ISBLANK(E36922)),\"\",VLOOKUP(E36922,Sheet2!A:G,6,FALSE))","v":""},""]
[{"$f":"IF(OR(E36926=\"\",ISBLANK(E36926)),\"\",VLOOKUP(E36926,Sheet2!A:F,2,FALSE))","v":""},{"$f":"IF(OR(E36926=\"\",ISBLANK(E36926)),\"\",VLOOKUP(E36926,Sheet2!A:G,4,FALSE))","v":""},"",{"$f":"IF(OR(E36926=\"\",ISBLANK(E36926)),\"\",VLOOKUP(E36926,Sheet2!A:H,3,FALSE))","v":""},null,{"$f":"IF(OR(E36926=\"\",ISBLANK(E36926)),\"\",VLOOKUP(E36926,Sheet2!A:G,6,FALSE))","v":""},""]
[{"$f":"IF(OR(E36972=\"\",ISBLANK(E36972)),\"\",VLOOKUP(E36972,Sheet2!A:F,2,FALSE))","v":""},{"$f":"IF(OR(E36972=\"\",ISBLANK(E36972)),\"\",VLOOKUP(E36972,Sheet2!A:G,4,FALSE))","v":""},"",{"$f":"IF(OR(E36972=\"\",ISBLANK(E36972)),\"\",VLOOKUP(E36972,Sheet2!A:H,3,FALSE))","v":""},null,{"$f":"IF(OR(E36972=\"\",ISBLANK(E36972)),\"\",VLOOKUP(E36972,Sheet2!A:G,6,FALSE))","v":""},""]
[{"$f":"IF(OR(E36985=\"\",ISBLANK(E36985)),\"\",VLOOKUP(E36985,Sheet2!A:F,2,FALSE))","v":""},{"$f":"IF(OR(E36985=\"\",ISBLANK(E36985)),\"\",VLOOKUP(E36985,Sheet2!A:G,4,FALSE))","v":""},"",{"$f":"IF(OR(E36985=\"\",ISBLANK(E36985)),\"\",VLOOKUP(E36985,Sheet2!A:H,3,FALSE))","v":""},null,{"$f":"IF(OR(E36985=\"\",ISBLANK(E36985)),\"\",VLOOKUP(E36985,Sheet2!A:G,6,FALSE))","v":""},""]
[{"$f":"IF(OR(E37010=\"\",ISBLANK(E37010)),\"\",VLOOKUP(E37010,Sheet2!A:F,2,FALSE))","v":""},{"$f":"IF(OR(E37010=\"\",ISBLANK(E37010)),\"\",VLOOKUP(E37010,Sheet2!A:G,4,FALSE))","v":""},"",{"$f":"IF(OR(E37010=\"\",ISBLANK(E37010)),\"\",VLOOKUP(E37010,Sheet2!A:H,3,FALSE))","v":""},null,{"$f":"IF(OR(E37010=\"\",ISBLANK(E37010)),\"\",VLOOKUP(E37010,Sheet2!A:G,6,FALSE))","v":""},""]
[{"$f":"IF(OR(E37036=\"\",ISBLANK(E37036)),\"\",VLOOKUP(E37036,Sheet2!A:F,2,FALSE))","v":""},{"$f":"IF(OR(E37036=\"\",ISBLANK(E37036)),\"\",VLOOKUP(E37036,Sheet2!A:G,4,FALSE))","v":""},"",{"$f":"IF(OR(E37036=\"\",ISBLANK(E37036)),\"\",VLOOKUP(E37036,Sheet2!A:H,3,FALSE))","v":""},null,{"$f":"IF(OR(E37036=\"\",ISBLANK(E37036)),\"\",VLOOKUP(E37036,Sheet2!A:G,6,FALSE))","v":""},""]
[{"$f":"IF(OR(E37053=\"\",ISBLANK(E37053)),\"\",VLOOKUP(E37053,Sheet2!A:F,2,FALSE))","v":""},{"$f":"IF(OR(E37053=\"\",ISBLANK(E37053)),\"\",VLOOKUP(E37053,Sheet2!A:G,4,FALSE))","v":""},"",{"$f":"IF(OR(E37053=\"\",ISBLANK(E37053)),\"\",VLOOKUP(E37053,Sheet2!A:H,3,FALSE))","v":""},null,{"$f":"IF(OR(E37053=\"\",ISBLANK(E37053)),\"\",VLOOKUP(E37053,Sheet2!A:G,6,FALSE))","v":""},""]
[{"$f":"IF(OR(E37086=\"\",ISBLANK(E37086)),\"\",VLOOKUP(E37086,Sheet2!A:F,2,FALSE))","v":""},{"$f":"IF(OR(E37086=\"\",ISBLANK(E37086)),\"\",VLOOKUP(E37086,Sheet2!A:G,4,FALSE))","v":""},"",{"$f":"IF(OR(E37086=\"\",ISBLANK(E37086)),\"\",VLOOKUP(E37086,Sheet2!A:H,3,FALSE))","v":""},null,{"$f":"IF(OR(E37086=\"\",ISBLANK(E37086)),\"\",VLOOKUP(E37086,Sheet2!A:G,6,FALSE))","v":""},""]
[{"$f":"IF(OR(E37112=\"\",ISBLANK(E37112)),\"\",VLOOKUP(E37112,Sheet2!A:F,2,FALSE))","v":""},{"$f":"IF(OR(E37112=\"\",ISBLANK(E37112)),\"\",VLOOKUP(E37112,Sheet2!A:G,4,FALSE))","v":""},"",{"$f":"IF(OR(E37112=\"\",ISBLANK(E37112)),\"\",VLOOKUP(E37112,Sheet2!A:H,3,FALSE))","v":""},null,{"$f":"IF(OR(E37112=\"\",ISBLANK(E37112)),\"\",VLOOKUP(E37112,Sheet2!A:G,6,FALSE))","v":""},""]
[{"$f":"IF(OR(E37137=\"\",ISBLANK(E37137)),\"\",VLOOKUP(E37137,Sheet2!A:F,2,FALSE))","v":""},{"$f":"IF(OR(E37137=\"\",ISBLANK(E37137)),\"\",VLOOKUP(E37137,Sheet2!A:G,4,FALSE))","v":""},"",{"$f":"IF(OR(E37137=\"\",ISBLANK(E37137)),\"\",VLOOKUP(E37137,Sheet2!A:H,3,FALSE))","v":""},null,{"$f":"IF(OR(E37137=\"\",ISBLANK(E37137)),\"\",VLOOKUP(E37137,Sheet2!A:G,6,FALSE))","v":""},""]
[{"$f":"IF(OR(E37150=\"\",ISBLANK(E37150)),\"\",VLOOKUP(E37150,Sheet2!A:F,2,FALSE))","v":""},{"$f":"IF(OR(E37150=\"\",ISBLANK(E37150)),\"\",VLOOKUP(E37150,Sheet2!A:G,4,FALSE))","v":""},"",{"$f":"IF(OR(E37150=\"\",ISBLANK(E37150)),\"\",VLOOKUP(E37150,Sheet2!A:H,3,FALSE))","v":""},null,{"$f":"IF(OR(E37150=\"\",ISBLANK(E37150)),\"\",VLOOKUP(E37150,Sheet2!A:G,6,FALSE))","v":""},""]
[{"$f":"IF(OR(E37180=\"\",ISBLANK(E37180)),\"\",VLOOKUP(E37180,Sheet2!A:F,2,FALSE))","v":""},{"$f":"IF(OR(E37180=\"\",ISBLANK(E37180)),\"\",VLOOKUP(E37180,Sheet2!A:G,4,FALSE))","v":""},"",{"$f":"IF(OR(E37180=\"\",ISBLANK(E37180)),\"\",VLOOKUP(E37180,Sheet2!A:H,3,FALSE))","v":""},null,{"$f":"IF(OR(E37180=\"\",ISBLANK(E37180)),\"\",VLOOKUP(E37180,Sheet2!A:G,6,FALSE))","v":""},""]
[{"$f":"IF(OR(E37205=\"\",ISBLANK(E37205)),\"\",VLOOKUP(E37205,Sheet2!A:F,2,FALSE))","v":""},{"$f":"IF(OR(E37205=\"\",ISBLANK(E37205)),\"\",VLOOKUP(E37205,Sheet2!A:G,4,FALSE))","v":""},"",{"$f":"IF(OR(E37205=\"\",ISBLANK(E37205)),\"\",VLOOKUP(E37205,Sheet2!A:H,3,FALSE))","v":""},null,{"$f":"IF(OR(E37205=\"\",ISBLANK(E37205)),\"\",VLOOKUP(E37205,Sheet2!A:G,6,FALSE))","v":""},""]
[{"$f":"IF(OR(E37239=\"\",ISBLANK(E37239)),\"\",VLOOKUP(E37239,Sheet2!A:F,2,FALSE))","v":""},{"$f":"IF(OR(E37239=\"\",ISBLANK(E37239)),\"\",VLOOKUP(E37239,Sheet2!A:G,4,FALSE))","v":""},"",{"$f":"IF(OR(E37239=\"\",ISBLANK(E37239)),\"\",VLOOKUP(E37239,Sheet2!A:H,3,FALSE))","v":""},null,{"$f":"IF(OR(E37239=\"\",ISBLANK(E37239)),\"\",VLOOKUP(E37239,Sheet2!A:G,6,FALSE))","v":""},""]
[{"$f":"IF(OR(E37248=\"\",ISBLANK(E37248)),\"\",VLOOKUP(E37248,Sheet2!A:F,2,FALSE))","v":""},{"$f":"IF(OR(E37248=\"\",ISBLANK(E37248)),\"\",VLOOKUP(E37248,Sheet2!A:G,4,FALSE))","v":""},"",{"$f":"IF(OR(E37248=\"\",ISBLANK(E37248)),\"\",VLOOKUP(E37248,Sheet2!A:H,3,FALSE))","v":""},null,{"$f":"IF(OR(E37248=\"\",ISBLANK(E37248)),\"\",VLOOKUP(E37248,Sheet2!A:G,6,FALSE))","v":""},""]
[{"$f":"IF(OR(E37289=\"\",ISBLANK(E37289)),\"\",VLOOKUP(E37289,Sheet2!A:F,2,FALSE))","v":""},{"$f":"IF(OR(E37289=\"\",ISBLANK(E37289)),\"\",VLOOKUP(E37289,Sheet2!A:G,4,FALSE))","v":""},"",{"$f":"IF(OR(E37289=\"\",ISBLANK(E37289)),\"\",VLOOKUP(E37289,Sheet2!A:H,3,FALSE))","v":""},null,{"$f":"IF(OR(E37289=\"\",ISBLANK(E37289)),\"\",VLOOKUP(E37289,Sheet2!A:G,6,FALSE))","v":""},""]
[{"$f":"IF(OR(E37307=\"\",ISBLANK(E37307)),\"\",VLOOKUP(E37307,Sheet2!A:F,2,FALSE))","v":""},{"$f":"IF(OR(E37307=\"\",ISBLANK(E37307)),\"\",VLOOKUP(E37307,Sheet2!A:G,4,FALSE))","v":""},"",{"$f":"IF(OR(E37307=\"\",ISBLANK(E37307)),\"\",VLOOKUP(E37307,Sheet2!A:H,3,FALSE))","v":""},null,{"$f":"IF(OR(E37307=\"\",ISBLANK(E37307)),\"\",VLOOKUP(E37307,Sheet2!A:G,6,FALSE))","v":""},""]
[{"$f":"IF(OR(E37332=\"\",ISBLANK(E37332)),\"\",VLOOKUP(E37332,Sheet2!A:F,2,FALSE))","v":""},{"$f":"IF(OR(E37332=\"\",ISBLANK(E37332)),\"\",VLOOKUP(E37332,Sheet2!A:G,4,FALSE))","v":""},"",{"$f":"IF(OR(E37332=\"\",ISBLANK(E37332)),\"\",VLOOKUP(E37332,Sheet2!A:H,3,FALSE))","v":""},null,{"$f":"IF(OR(E37332=\"\",ISBLANK(E37332)),\"\",VLOOKUP(E37332,Sheet2!A:G,6,FALSE))","v":""},""]
[{"$f":"IF(OR(E37353=\"\",ISBLANK(E37353)),\"\",VLOOKUP(E37353,Sheet2!A:F,2,FALSE))","v":""},{"$f":"IF(OR(E37353=\"\",ISBLANK(E37353)),\"\",VLOOKUP(E37353,Sheet2!A:G,4,FALSE))","v":""},"",{"$f":"IF(OR(E37353=\"\",ISBLANK(E37353)),\"\",VLOOKUP(E37353,Sheet2!A:H,3,FALSE))","v":""},null,{"$f":"IF(OR(E37353=\"\",ISBLANK(E37353)),\"\",VLOOKUP(E37353,Sheet2!A:G,6,FALSE))","v":""},""]
[{"$f":"IF(OR(E37375=\"\",ISBLANK(E37375)),\"\",VLOOKUP(E37375,Sheet2!A:F,2,FALSE))","v":""},{"$f":"IF(OR(E37375=\"\",ISBLANK(E37375)),\"\",VLOOKUP(E37375,Sheet2!A:G,4,FALSE))","v":""},"",{"$f":"IF(OR(E37375=\"\",ISBLANK(E37375)),\"\",VLOOKUP(E37375,Sheet2!A:H,3,FALSE))","v":""},null,{"$f":"IF(OR(E37375=\"\",ISBLANK(E37375)),\"\",VLOOKUP(E37375,Sheet2!A:G,6,FALSE))","v":""},""]
[{"$f":"IF(OR(E37403=\"\",ISBLANK(E37403)),\"\",VLOOKUP(E37403,Sheet2!A:F,2,FALSE))","v":""},{"$f":"IF(OR(E37403=\"\",ISBLANK(E37403)),\"\",VLOOKUP(E37403,Sheet2!A:G,4,FALSE))","v":""},"",{"$f":"IF(OR(E37403=\"\",ISBLANK(E37403)),\"\",VLOOKUP(E37403,Sheet2!A:H,3,FALSE))","v":""},null,{"$f":"IF(OR(E37403=\"\",ISBLANK(E37403)),\"\",VLOOKUP(E37403,Sheet2!A:G,6,FALSE))","v":""},""]
[{"$f":"IF(OR(E37434=\"\",ISBLANK(E37434)),\"\",VLOOKUP(E37434,Sheet2!A:F,2,FALSE))","v":""},{"$f":"IF(OR(E37434=\"\",ISBLANK(E37434)),\"\",VLOOKUP(E37434,Sheet2!A:G,4,FALSE))","v":""},"",{"$f":"IF(OR(E37434=\"\",ISBLANK(E37434)),\"\",VLOOKUP(E37434,Sheet2!A:H,3,FALSE))","v":""},null,{"$f":"IF(OR(E37434=\"\",ISBLANK(E37434)),\"\",VLOOKUP(E37434,Sheet2!A:G,6,FALSE))","v":""},""]
[{"$f":"IF(OR(E37443=\"\",ISBLANK(E37443)),\"\",VLOOKUP(E37443,Sheet2!A:F,2,FALSE))","v":""},{"$f":"IF(OR(E37443=\"\",ISBLANK(E37443)),\"\",VLOOKUP(E37443,Sheet2!A:G,4,FALSE))","v":""},{"$f":"IF(D37443=0,\"\",D37443)","v":""},{"$f":"IF(OR(E37443=\"\",ISBLANK(E37443)),\"\",VLOOKUP(E37443,Sheet2!A:H,3,FALSE))","v":""},null,{"$f":"IF(OR(E37443=\"\",ISBLANK(E37443)),\"\",VLOOKUP(E37443,Sheet2!A:G,6,FALSE))","v":""},{"$f":"IF(F37443=0,\"\",F37443)","v":""}]
[{"$f":"IF(OR(E37467=\"\",ISBLANK(E37467)),\"\",VLOOKUP(E37467,Sheet2!A:F,2,FALSE))","v":""},{"$f":"IF(OR(E37467=\"\",ISBLANK(E37467)),\"\",VLOOKUP(E37467,Sheet2!A:G,4,FALSE))","v":""},"",{"$f":"IF(OR(E37467=\"\",ISBLANK(E37467)),\"\",VLOOKUP(E37467,Sheet2!A:H,3,FALSE))","v":""},null,{"$f":"IF(OR(E37467=\"\",ISBLANK(E37467)),\"\",VLOOKUP(E37467,Sheet2!A:G,6,FALSE))","v":""},""]
[{"$f":"IF(OR(E37502=\"\",ISBLANK(E37502)),\"\",VLOOKUP(E37502,Sheet2!A:F,2,FALSE))","v":""},{"$f":"IF(OR(E37502=\"\",ISBLANK(E37502)),\"\",VLOOKUP(E37502,Sheet2!A:G,4,FALSE))","v":""},"",{"$f":"IF(OR(E37502=\"\",ISBLANK(E37502)),\"\",VLOOKUP(E37502,Sheet2!A:H,3,FALSE))","v":""},null,{"$f":"IF(OR(E37502=\"\",ISBLANK(E37502)),\"\",VLOOKUP(E37502,Sheet2!A:G,6,FALSE))","v":""},""]
[{"$f":"IF(OR(E37517=\"\",ISBLANK(E37517)),\"\",VLOOKUP(E37517,Sheet2!A:F,2,FALSE))","v":""},{"$f":"IF(OR(E37517=\"\",ISBLANK(E37517)),\"\",VLOOKUP(E37517,Sheet2!A:G,4,FALSE))","v":""},"",{"$f":"IF(OR(E37517=\"\",ISBLANK(E37517)),\"\",VLOOKUP(E37517,Sheet2!A:H,3,FALSE))","v":""},null,{"$f":"IF(OR(E37517=\"\",ISBLANK(E37517)),\"\",VLOOKUP(E37517,Sheet2!A:G,6,FALSE))","v":""},""]
[{"$f":"IF(OR(E37537=\"\",ISBLANK(E37537)),\"\",VLOOKUP(E37537,Sheet2!A:F,2,FALSE))","v":""},{"$f":"IF(OR(E37537=\"\",ISBLANK(E37537)),\"\",VLOOKUP(E37537,Sheet2!A:G,4,FALSE))","v":""},"",{"$f":"IF(OR(E37537=\"\",ISBLANK(E37537)),\"\",VLOOKUP(E37537,Sheet2!A:H,3,FALSE))","v":""},null,{"$f":"IF(OR(E37537=\"\",ISBLANK(E37537)),\"\",VLOOKUP(E37537,Sheet2!A:G,6,FALSE))","v":""},""]
[{"$f":"IF(OR(E37570=\"\",ISBLANK(E37570)),\"\",VLOOKUP(E37570,Sheet2!A:F,2,FALSE))","v":""},{"$f":"IF(OR(E37570=\"\",ISBLANK(E37570)),\"\",VLOOKUP(E37570,Sheet2!A:G,4,FALSE))","v":""},"",{"$f":"IF(OR(E37570=\"\",ISBLANK(E37570)),\"\",VLOOKUP(E37570,Sheet2!A:H,3,FALSE))","v":""},null,{"$f":"IF(OR(E37570=\"\",ISBLANK(E37570)),\"\",VLOOKUP(E37570,Sheet2!A:G,6,FALSE))","v":""},""]
[{"$f":"IF(OR(E37606=\"\",ISBLANK(E37606)),\"\",VLOOKUP(E37606,Sheet2!A:F,2,FALSE))","v":""},{"$f":"IF(OR(E37606=\"\",ISBLANK(E37606)),\"\",VLOOKUP(E37606,Sheet2!A:G,4,FALSE))","v":""},"",{"$f":"IF(OR(E37606=\"\",ISBLANK(E37606)),\"\",VLOOKUP(E37606,Sheet2!A:H,3,FALSE))","v":""},null,{"$f":"IF(OR(E37606=\"\",ISBLANK(E37606)),\"\",VLOOKUP(E37606,Sheet2!A:G,6,FALSE))","v":""},""]
[{"$f":"IF(OR(E37629=\"\",ISBLANK(E37629)),\"\",VLOOKUP(E37629,Sheet2!A:F,2,FALSE))","v":""},{"$f":"IF(OR(E37629=\"\",ISBLANK(E37629)),\"\",VLOOKUP(E37629,Sheet2!A:G,4,FALSE))","v":""},"",{"$f":"IF(OR(E37629=\"\",ISBLANK(E37629)),\"\",VLOOKUP(E37629,Sheet2!A:H,3,FALSE))","v":""},null,{"$f":"IF(OR(E37629=\"\",ISBLANK(E37629)),\"\",VLOOKUP(E37629,Sheet2!A:G,6,FALSE))","v":""},""]
[{"$f":"IF(OR(E37654=\"\",ISBLANK(E37654)),\"\",VLOOKUP(E37654,Sheet2!A:F,2,FALSE))","v":""},{"$f":"IF(OR(E37654=\"\",ISBLANK(E37654)),\"\",VLOOKUP(E37654,Sheet2!A:G,4,FALSE))","v":""},"",{"$f":"IF(OR(E37654=\"\",ISBLANK(E37654)),\"\",VLOOKUP(E37654,Sheet2!A:H,3,FALSE))","v":""},null,{"$f":"IF(OR(E37654=\"\",ISBLANK(E37654)),\"\",VLOOKUP(E37654,Sheet2!A:G,6,FALSE))","v":""},""]
[{"$f":"IF(OR(E37670=\"\",ISBLANK(E37670)),\"\",VLOOKUP(E37670,Sheet2!A:F,2,FALSE))","v":""},{"$f":"IF(OR(E37670=\"\",ISBLANK(E37670)),\"\",VLOOKUP(E37670,Sheet2!A:G,4,FALSE))","v":""},"",{"$f":"IF(OR(E37670=\"\",ISBLANK(E37670)),\"\",VLOOKUP(E37670,Sheet2!A:H,3,FALSE))","v":""},null,{"$f":"IF(OR(E37670=\"\",ISBLANK(E37670)),\"\",VLOOKUP(E37670,Sheet2!A:G,6,FALSE))","v":""},""]
[{"$f":"IF(OR(E37697=\"\",ISBLANK(E37697)),\"\",VLOOKUP(E37697,Sheet2!A:F,2,FALSE))","v":""},{"$f":"IF(OR(E37697=\"\",ISBLANK(E37697)),\"\",VLOOKUP(E37697,Sheet2!A:G,4,FALSE))","v":""},"",{"$f":"IF(OR(E37697=\"\",ISBLANK(E37697)),\"\",VLOOKUP(E37697,Sheet2!A:H,3,FALSE))","v":""},null,{"$f":"IF(OR(E37697=\"\",ISBLANK(E37697)),\"\",VLOOKUP(E37697,Sheet2!A:G,6,FALSE))","v":""},""]
[{"$f":"IF(OR(E37720=\"\",ISBLANK(E37720)),\"\",VLOOKUP(E37720,Sheet2!A:F,2,FALSE))","v":""},{"$f":"IF(OR(E37720=\"\",ISBLANK(E37720)),\"\",VLOOKUP(E37720,Sheet2!A:G,4,FALSE))","v":""},"",{"$f":"IF(OR(E37720=\"\",ISBLANK(E37720)),\"\",VLOOKUP(E37720,Sheet2!A:H,3,FALSE))","v":""},null,{"$f":"IF(OR(E37720=\"\",ISBLANK(E37720)),\"\",VLOOKUP(E37720,Sheet2!A:G,6,FALSE))","v":""},""]
[{"$f":"IF(OR(E37732=\"\",ISBLANK(E37732)),\"\",VLOOKUP(E37732,Sheet2!A:F,2,FALSE))","v":""},{"$f":"IF(OR(E37732=\"\",ISBLANK(E37732)),\"\",VLOOKUP(E37732,Sheet2!A:G,4,FALSE))","v":""},"",{"$f":"IF(OR(E37732=\"\",ISBLANK(E37732)),\"\",VLOOKUP(E37732,Sheet2!A:H,3,FALSE))","v":""},null,{"$f":"IF(OR(E37732=\"\",ISBLANK(E37732)),\"\",VLOOKUP(E37732,Sheet2!A:G,6,FALSE))","v":""},""]
[{"$f":"IF(OR(E37765=\"\",ISBLANK(E37765)),\"\",VLOOKUP(E37765,Sheet2!A:F,2,FALSE))","v":""},{"$f":"IF(OR(E37765=\"\",ISBLANK(E37765)),\"\",VLOOKUP(E37765,Sheet2!A:G,4,FALSE))","v":""},"",{"$f":"IF(OR(E37765=\"\",ISBLANK(E37765)),\"\",VLOOKUP(E37765,Sheet2!A:H,3,FALSE))","v":""},null,{"$f":"IF(OR(E37765=\"\",ISBLANK(E37765)),\"\",VLOOKUP(E37765,Sheet2!A:G,6,FALSE))","v":""},""]
[{"$f":"IF(OR(E37784=\"\",ISBLANK(E37784)),\"\",VLOOKUP(E37784,Sheet2!A:F,2,FALSE))","v":""},{"$f":"IF(OR(E37784=\"\",ISBLANK(E37784)),\"\",VLOOKUP(E37784,Sheet2!A:G,4,FALSE))","v":""},"",{"$f":"IF(OR(E37784=\"\",ISBLANK(E37784)),\"\",VLOOKUP(E37784,Sheet2!A:H,3,FALSE))","v":""},null,{"$f":"IF(OR(E37784=\"\",ISBLANK(E37784)),\"\",VLOOKUP(E37784,Sheet2!A:G,6,FALSE))","v":""},""]
[{"$f":"IF(OR(E37824=\"\",ISBLANK(E37824)),\"\",VLOOKUP(E37824,Sheet2!A:F,2,FALSE))","v":""},{"$f":"IF(OR(E37824=\"\",ISBLANK(E37824)),\"\",VLOOKUP(E37824,Sheet2!A:G,4,FALSE))","v":""},"",{"$f":"IF(OR(E37824=\"\",ISBLANK(E37824)),\"\",VLOOKUP(E37824,Sheet2!A:H,3,FALSE))","v":""},null,{"$f":"IF(OR(E37824=\"\",ISBLANK(E37824)),\"\",VLOOKUP(E37824,Sheet2!A:G,6,FALSE))","v":""},""]
[{"$f":"IF(OR(E37834=\"\",ISBLANK(E37834)),\"\",VLOOKUP(E37834,Sheet2!A:F,2,FALSE))","v":""},{"$f":"IF(OR(E37834=\"\",ISBLANK(E37834)),\"\",VLOOKUP(E37834,Sheet2!A:G,4,FALSE))","v":""},"",{"$f":"IF(OR(E37834=\"\",ISBLANK(E37834)),\"\",VLOOKUP(E37834,Sheet2!A:H,3,FALSE))","v":""},null,{"$f":"IF(OR(E37834=\"\",ISBLANK(E37834)),\"\",VLOOKUP(E37834,Sheet2!A:G,6,FALSE))","v":""},""]
[{"$f":"IF(OR(E37859=\"\",ISBLANK(E37859)),\"\",VLOOKUP(E37859,Sheet2!A:F,2,FALSE))","v":""},{"$f":"IF(OR(E37859=\"\",ISBLANK(E37859)),\"\",VLOOKUP(E37859,Sheet2!A:G,4,FALSE))","v":""},"",{"$f":"IF(OR(E37859=\"\",ISBLANK(E37859)),\"\",VLOOKUP(E37859,Sheet2!A:H,3,FALSE))","v":""},null,{"$f":"IF(OR(E37859=\"\",ISBLANK(E37859)),\"\",VLOOKUP(E37859,Sheet2!A:G,6,FALSE))","v":""},""]
[{"$f":"IF(OR(E37892=\"\",ISBLANK(E37892)),\"\",VLOOKUP(E37892,Sheet2!A:F,2,FALSE))","v":""},{"$f":"IF(OR(E37892=\"\",ISBLANK(E37892)),\"\",VLOOKUP(E37892,Sheet2!A:G,4,FALSE))","v":""},"",{"$f":"IF(OR(E37892=\"\",ISBLANK(E37892)),\"\",VLOOKUP(E37892,Sheet2!A:H,3,FALSE))","v":""},null,{"$f":"IF(OR(E37892=\"\",ISBLANK(E37892)),\"\",VLOOKUP(E37892,Sheet2!A:G,6,FALSE))","v":""},""]
[{"$f":"IF(OR(E37923=\"\",ISBLANK(E37923)),\"\",VLOOKUP(E37923,Sheet2!A:F,2,FALSE))","v":""},{"$f":"IF(OR(E37923=\"\",ISBLANK(E37923)),\"\",VLOOKUP(E37923,Sheet2!A:G,4,FALSE))","v":""},"",{"$f":"IF(OR(E37923=\"\",ISBLANK(E37923)),\"\",VLOOKUP(E37923,Sheet2!A:H,3,FALSE))","v":""},null,{"$f":"IF(OR(E37923=\"\",ISBLANK(E37923)),\"\",VLOOKUP(E37923,Sheet2!A:G,6,FALSE))","v":""},""]
[{"$f":"IF(OR(E37927=\"\",ISBLANK(E37927)),\"\",VLOOKUP(E37927,Sheet2!A:F,2,FALSE))","v":""},{"$f":"IF(OR(E37927=\"\",ISBLANK(E37927)),\"\",VLOOKUP(E37927,Sheet2!A:G,4,FALSE))","v":""},"",{"$f":"IF(OR(E37927=\"\",ISBLANK(E37927)),\"\",VLOOKUP(E37927,Sheet2!A:H,3,FALSE))","v":""},null,{"$f":"IF(OR(E37927=\"\",ISBLANK(E37927)),\"\",VLOOKUP(E37927,Sheet2!A:G,6,FALSE))","v":""},""]
[{"$f":"IF(OR(E37973=\"\",ISBLANK(E37973)),\"\",VLOOKUP(E37973,Sheet2!A:F,2,FALSE))","v":""},{"$f":"IF(OR(E37973=\"\",ISBLANK(E37973)),\"\",VLOOKUP(E37973,Sheet2!A:G,4,FALSE))","v":""},"",{"$f":"IF(OR(E37973=\"\",ISBLANK(E37973)),\"\",VLOOKUP(E37973,Sheet2!A:H,3,FALSE))","v":""},null,{"$f":"IF(OR(E37973=\"\",ISBLANK(E37973)),\"\",VLOOKUP(E37973,Sheet2!A:G,6,FALSE))","v":""},""]
[{"$f":"IF(OR(E37986=\"\",ISBLANK(E37986)),\"\",VLOOKUP(E37986,Sheet2!A:F,2,FALSE))","v":""},{"$f":"IF(OR(E37986=\"\",ISBLANK(E37986)),\"\",VLOOKUP(E37986,Sheet2!A:G,4,FALSE))","v":""},"",{"$f":"IF(OR(E37986=\"\",ISBLANK(E37986)),\"\",VLOOKUP(E37986,Sheet2!A:H,3,FALSE))","v":""},null,{"$f":"IF(OR(E37986=\"\",ISBLANK(E37986)),\"\",VLOOKUP(E37986,Sheet2!A:G,6,FALSE))","v":""},""]
[{"$f":"IF(OR(E38019=\"\",ISBLANK(E38019)),\"\",VLOOKUP(E38019,Sheet2!A:F,2,FALSE))","v":""},{"$f":"IF(OR(E38019=\"\",ISBLANK(E38019)),\"\",VLOOKUP(E38019,Sheet2!A:G,4,FALSE))","v":""},{"$f":"IF(D38019=0,\"\",D38019)","v":""},{"$f":"IF(OR(E38019=\"\",ISBLANK(E38019)),\"\",VLOOKUP(E38019,Sheet2!A:H,3,FALSE))","v":""},null,{"$f":"IF(OR(E38019=\"\",ISBLANK(E38019)),\"\",VLOOKUP(E38019,Sheet2!A:G,6,FALSE))","v":""},{"$f":"IF(F38019=0,\"\",F38019)","v":""}]
[{"$f":"IF(OR(E38037=\"\",ISBLANK(E38037)),\"\",VLOOKUP(E38037,Sheet2!A:F,2,FALSE))","v":""},{"$f":"IF(OR(E38037=\"\",ISBLANK(E38037)),\"\",VLOOKUP(E38037,Sheet2!A:G,4,FALSE))","v":""},"",{"$f":"IF(OR(E38037=\"\",ISBLANK(E38037)),\"\",VLOOKUP(E38037,Sheet2!A:H,3,FALSE))","v":""},null,{"$f":"IF(OR(E38037=\"\",ISBLANK(E38037)),\"\",VLOOKUP(E38037,Sheet2!A:G,6,FALSE))","v":""},""]
[{"$f":"IF(OR(E38054=\"\",ISBLANK(E38054)),\"\",VLOOKUP(E38054,Sheet2!A:F,2,FALSE))","v":""},{"$f":"IF(OR(E38054=\"\",ISBLANK(E38054)),\"\",VLOOKUP(E38054,Sheet2!A:G,4,FALSE))","v":""},"",{"$f":"IF(OR(E38054=\"\",ISBLANK(E38054)),\"\",VLOOKUP(E38054,Sheet2!A:H,3,FALSE))","v":""},null,{"$f":"IF(OR(E38054=\"\",ISBLANK(E38054)),\"\",VLOOKUP(E38054,Sheet2!A:G,6,FALSE))","v":""},""]
[{"$f":"IF(OR(E38087=\"\",ISBLANK(E38087)),\"\",VLOOKUP(E38087,Sheet2!A:F,2,FALSE))","v":""},{"$f":"IF(OR(E38087=\"\",ISBLANK(E38087)),\"\",VLOOKUP(E38087,Sheet2!A:G,4,FALSE))","v":""},"",{"$f":"IF(OR(E38087=\"\",ISBLANK(E38087)),\"\",VLOOKUP(E38087,Sheet2!A:H,3,FALSE))","v":""},null,{"$f":"IF(OR(E38087=\"\",ISBLANK(E38087)),\"\",VLOOKUP(E38087,Sheet2!A:G,6,FALSE))","v":""},""]
[{"$f":"IF(OR(E38101=\"\",ISBLANK(E38101)),\"\",VLOOKUP(E38101,Sheet2!A:F,2,FALSE))","v":""},{"$f":"IF(OR(E38101=\"\",ISBLANK(E38101)),\"\",VLOOKUP(E38101,Sheet2!A:G,4,FALSE))","v":""},"",{"$f":"IF(OR(E38101=\"\",ISBLANK(E38101)),\"\",VLOOKUP(E38101,Sheet2!A:H,3,FALSE))","v":""},null,{"$f":"IF(OR(E38101=\"\",ISBLANK(E38101)),\"\",VLOOKUP(E38101,Sheet2!A:G,6,FALSE))","v":""},""]
[{"$f":"IF(OR(E38122=\"\",ISBLANK(E38122)),\"\",VLOOKUP(E38122,Sheet2!A:F,2,FALSE))","v":""},{"$f":"IF(OR(E38122=\"\",ISBLANK(E38122)),\"\",VLOOKUP(E38122,Sheet2!A:G,4,FALSE))","v":""},"",{"$f":"IF(OR(E38122=\"\",ISBLANK(E38122)),\"\",VLOOKUP(E38122,Sheet2!A:H,3,FALSE))","v":""},null,{"$f":"IF(OR(E38122=\"\",ISBLANK(E38122)),\"\",VLOOKUP(E38122,Sheet2!A:G,6,FALSE))","v":""},""]
[{"$f":"IF(OR(E38151=\"\",ISBLANK(E38151)),\"\",VLOOKUP(E38151,Sheet2!A:F,2,FALSE))","v":""},{"$f":"IF(OR(E38151=\"\",ISBLANK(E38151)),\"\",VLOOKUP(E38151,Sheet2!A:G,4,FALSE))","v":""},"",{"$f":"IF(OR(E38151=\"\",ISBLANK(E38151)),\"\",VLOOKUP(E38151,Sheet2!A:H,3,FALSE))","v":""},null,{"$f":"IF(OR(E38151=\"\",ISBLANK(E38151)),\"\",VLOOKUP(E38151,Sheet2!A:G,6,FALSE))","v":""},""]
[{"$f":"IF(OR(E38181=\"\",ISBLANK(E38181)),\"\",VLOOKUP(E38181,Sheet2!A:F,2,FALSE))","v":""},{"$f":"IF(OR(E38181=\"\",ISBLANK(E38181)),\"\",VLOOKUP(E38181,Sheet2!A:G,4,FALSE))","v":""},"",{"$f":"IF(OR(E38181=\"\",ISBLANK(E38181)),\"\",VLOOKUP(E38181,Sheet2!A:H,3,FALSE))","v":""},null,{"$f":"IF(OR(E38181=\"\",ISBLANK(E38181)),\"\",VLOOKUP(E38181,Sheet2!A:G,6,FALSE))","v":""},""]
[{"$f":"IF(OR(E38214=\"\",ISBLANK(E38214)),\"\",VLOOKUP(E38214,Sheet2!A:F,2,FALSE))","v":""},{"$f":"IF(OR(E38214=\"\",ISBLANK(E38214)),\"\",VLOOKUP(E38214,Sheet2!A:G,4,FALSE))","v":""},"",{"$f":"IF(OR(E38214=\"\",ISBLANK(E38214)),\"\",VLOOKUP(E38214,Sheet2!A:H,3,FALSE))","v":""},null,{"$f":"IF(OR(E38214=\"\",ISBLANK(E38214)),\"\",VLOOKUP(E38214,Sheet2!A:G,6,FALSE))","v":""},""]
[{"$f":"IF(OR(E38240=\"\",ISBLANK(E38240)),\"\",VLOOKUP(E38240,Sheet2!A:F,2,FALSE))","v":""},{"$f":"IF(OR(E38240=\"\",ISBLANK(E38240)),\"\",VLOOKUP(E38240,Sheet2!A:G,4,FALSE))","v":""},"",{"$f":"IF(OR(E38240=\"\",ISBLANK(E38240)),\"\",VLOOKUP(E38240,Sheet2!A:H,3,FALSE))","v":""},null,{"$f":"IF(OR(E38240=\"\",ISBLANK(E38240)),\"\",VLOOKUP(E38240,Sheet2!A:G,6,FALSE))","v":""},""]
[{"$f":"IF(OR(E38249=\"\",ISBLANK(E38249)),\"\",VLOOKUP(E38249,Sheet2!A:F,2,FALSE))","v":""},{"$f":"IF(OR(E38249=\"\",ISBLANK(E38249)),\"\",VLOOKUP(E38249,Sheet2!A:G,4,FALSE))","v":""},"",{"$f":"IF(OR(E38249=\"\",ISBLANK(E38249)),\"\",VLOOKUP(E38249,Sheet2!A:H,3,FALSE))","v":""},null,{"$f":"IF(OR(E38249=\"\",ISBLANK(E38249)),\"\",VLOOKUP(E38249,Sheet2!A:G,6,FALSE))","v":""},""]
[{"$f":"IF(OR(E38269=\"\",ISBLANK(E38269)),\"\",VLOOKUP(E38269,Sheet2!A:F,2,FALSE))","v":""},{"$f":"IF(OR(E38269=\"\",ISBLANK(E38269)),\"\",VLOOKUP(E38269,Sheet2!A:G,4,FALSE))","v":""},"",{"$f":"IF(OR(E38269=\"\",ISBLANK(E38269)),\"\",VLOOKUP(E38269,Sheet2!A:H,3,FALSE))","v":""},null,{"$f":"IF(OR(E38269=\"\",ISBLANK(E38269)),\"\",VLOOKUP(E38269,Sheet2!A:G,6,FALSE))","v":""},""]
[{"$f":"IF(OR(E38308=\"\",ISBLANK(E38308)),\"\",VLOOKUP(E38308,Sheet2!A:F,2,FALSE))","v":""},{"$f":"IF(OR(E38308=\"\",ISBLANK(E38308)),\"\",VLOOKUP(E38308,Sheet2!A:G,4,FALSE))","v":""},"",{"$f":"IF(OR(E38308=\"\",ISBLANK(E38308)),\"\",VLOOKUP(E38308,Sheet2!A:H,3,FALSE))","v":""},null,{"$f":"IF(OR(E38308=\"\",ISBLANK(E38308)),\"\",VLOOKUP(E38308,Sheet2!A:G,6,FALSE))","v":""},""]
[{"$f":"IF(OR(E38317=\"\",ISBLANK(E38317)),\"\",VLOOKUP(E38317,Sheet2!A:F,2,FALSE))","v":""},{"$f":"IF(OR(E38317=\"\",ISBLANK(E38317)),\"\",VLOOKUP(E38317,Sheet2!A:G,4,FALSE))","v":""},"",{"$f":"IF(OR(E38317=\"\",ISBLANK(E38317)),\"\",VLOOKUP(E38317,Sheet2!A:H,3,FALSE))","v":""},null,{"$f":"IF(OR(E38317=\"\",ISBLANK(E38317)),\"\",VLOOKUP(E38317,Sheet2!A:G,6,FALSE))","v":""},""]
[{"$f":"IF(OR(E38354=\"\",ISBLANK(E38354)),\"\",VLOOKUP(E38354,Sheet2!A:F,2,FALSE))","v":""},{"$f":"IF(OR(E38354=\"\",ISBLANK(E38354)),\"\",VLOOKUP(E38354,Sheet2!A:G,4,FALSE))","v":""},"",{"$f":"IF(OR(E38354=\"\",ISBLANK(E38354)),\"\",VLOOKUP(E38354,Sheet2!A:H,3,FALSE))","v":""},null,{"$f":"IF(OR(E38354=\"\",ISBLANK(E38354)),\"\",VLOOKUP(E38354,Sheet2!A:G,6,FALSE))","v":""},""]
[{"$f":"IF(OR(E38376=\"\",ISBLANK(E38376)),\"\",VLOOKUP(E38376,Sheet2!A:F,2,FALSE))","v":""},{"$f":"IF(OR(E38376=\"\",ISBLANK(E38376)),\"\",VLOOKUP(E38376,Sheet2!A:G,4,FALSE))","v":""},"",{"$f":"IF(OR(E38376=\"\",ISBLANK(E38376)),\"\",VLOOKUP(E38376,Sheet2!A:H,3,FALSE))","v":""},null,{"$f":"IF(OR(E38376=\"\",ISBLANK(E38376)),\"\",VLOOKUP(E38376,Sheet2!A:G,6,FALSE))","v":""},""]
[{"$f":"IF(OR(E38408=\"\",ISBLANK(E38408)),\"\",VLOOKUP(E38408,Sheet2!A:F,2,FALSE))","v":""},{"$f":"IF(OR(E38408=\"\",ISBLANK(E38408)),\"\",VLOOKUP(E38408,Sheet2!A:G,4,FALSE))","v":""},"",{"$f":"IF(OR(E38408=\"\",ISBLANK(E38408)),\"\",VLOOKUP(E38408,Sheet2!A:H,3,FALSE))","v":""},null,{"$f":"IF(OR(E38408=\"\",ISBLANK(E38408)),\"\",VLOOKUP(E38408,Sheet2!A:G,6,FALSE))","v":""},""]
[{"$f":"IF(OR(E38435=\"\",ISBLANK(E38435)),\"\",VLOOKUP(E38435,Sheet2!A:F,2,FALSE))","v":""},{"$f":"IF(OR(E38435=\"\",ISBLANK(E38435)),\"\",VLOOKUP(E38435,Sheet2!A:G,4,FALSE))","v":""},"",{"$f":"IF(OR(E38435=\"\",ISBLANK(E38435)),\"\",VLOOKUP(E38435,Sheet2!A:H,3,FALSE))","v":""},null,{"$f":"IF(OR(E38435=\"\",ISBLANK(E38435)),\"\",VLOOKUP(E38435,Sheet2!A:G,6,FALSE))","v":""},""]
[{"$f":"IF(OR(E38444=\"\",ISBLANK(E38444)),\"\",VLOOKUP(E38444,Sheet2!A:F,2,FALSE))","v":""},{"$f":"IF(OR(E38444=\"\",ISBLANK(E38444)),\"\",VLOOKUP(E38444,Sheet2!A:G,4,FALSE))","v":""},"",{"$f":"IF(OR(E38444=\"\",ISBLANK(E38444)),\"\",VLOOKUP(E38444,Sheet2!A:H,3,FALSE))","v":""},null,{"$f":"IF(OR(E38444=\"\",ISBLANK(E38444)),\"\",VLOOKUP(E38444,Sheet2!A:G,6,FALSE))","v":""},""]
[{"$f":"IF(OR(E38468=\"\",ISBLANK(E38468)),\"\",VLOOKUP(E38468,Sheet2!A:F,2,FALSE))","v":""},{"$f":"IF(OR(E38468=\"\",ISBLANK(E38468)),\"\",VLOOKUP(E38468,Sheet2!A:G,4,FALSE))","v":""},"",{"$f":"IF(OR(E38468=\"\",ISBLANK(E38468)),\"\",VLOOKUP(E38468,Sheet2!A:H,3,FALSE))","v":""},null,{"$f":"IF(OR(E38468=\"\",ISBLANK(E38468)),\"\",VLOOKUP(E38468,Sheet2!A:G,6,FALSE))","v":""},""]
[{"$f":"IF(OR(E38503=\"\",ISBLANK(E38503)),\"\",VLOOKUP(E38503,Sheet2!A:F,2,FALSE))","v":""},{"$f":"IF(OR(E38503=\"\",ISBLANK(E38503)),\"\",VLOOKUP(E38503,Sheet2!A:G,4,FALSE))","v":""},"",{"$f":"IF(OR(E38503=\"\",ISBLANK(E38503)),\"\",VLOOKUP(E38503,Sheet2!A:H,3,FALSE))","v":""},null,{"$f":"IF(OR(E38503=\"\",ISBLANK(E38503)),\"\",VLOOKUP(E38503,Sheet2!A:G,6,FALSE))","v":""},""]
[{"$f":"IF(OR(E38512=\"\",ISBLANK(E38512)),\"\",VLOOKUP(E38512,Sheet2!A:F,2,FALSE))","v":""},{"$f":"IF(OR(E38512=\"\",ISBLANK(E38512)),\"\",VLOOKUP(E38512,Sheet2!A:G,4,FALSE))","v":""},"",{"$f":"IF(OR(E38512=\"\",ISBLANK(E38512)),\"\",VLOOKUP(E38512,Sheet2!A:H,3,FALSE))","v":""},null,{"$f":"IF(OR(E38512=\"\",ISBLANK(E38512)),\"\",VLOOKUP(E38512,Sheet2!A:G,6,FALSE))","v":""},""]
[{"$f":"IF(OR(E38557=\"\",ISBLANK(E38557)),\"\",VLOOKUP(E38557,Sheet2!A:F,2,FALSE))","v":""},{"$f":"IF(OR(E38557=\"\",ISBLANK(E38557)),\"\",VLOOKUP(E38557,Sheet2!A:G,4,FALSE))","v":""},"",{"$f":"IF(OR(E38557=\"\",ISBLANK(E38557)),\"\",VLOOKUP(E38557,Sheet2!A:H,3,FALSE))","v":""},null,{"$f":"IF(OR(E38557=\"\",ISBLANK(E38557)),\"\",VLOOKUP(E38557,Sheet2!A:G,6,FALSE))","v":""},""]
[{"$f":"IF(OR(E38571=\"\",ISBLANK(E38571)),\"\",VLOOKUP(E38571,Sheet2!A:F,2,FALSE))","v":""},{"$f":"IF(OR(E38571=\"\",ISBLANK(E38571)),\"\",VLOOKUP(E38571,Sheet2!A:G,4,FALSE))","v":""},"",{"$f":"IF(OR(E38571=\"\",ISBLANK(E38571)),\"\",VLOOKUP(E38571,Sheet2!A:H,3,FALSE))","v":""},null,{"$f":"IF(OR(E38571=\"\",ISBLANK(E38571)),\"\",VLOOKUP(E38571,Sheet2!A:G,6,FALSE))","v":""},""]
[{"$f":"IF(OR(E38586=\"\",ISBLANK(E38586)),\"\",VLOOKUP(E38586,Sheet2!A:F,2,FALSE))","v":""},{"$f":"IF(OR(E38586=\"\",ISBLANK(E38586)),\"\",VLOOKUP(E38586,Sheet2!A:G,4,FALSE))","v":""},"",{"$f":"IF(OR(E38586=\"\",ISBLANK(E38586)),\"\",VLOOKUP(E38586,Sheet2!A:H,3,FALSE))","v":""},null,{"$f":"IF(OR(E38586=\"\",ISBLANK(E38586)),\"\",VLOOKUP(E38586,Sheet2!A:G,6,FALSE))","v":""},""]
[{"$f":"IF(OR(E38630=\"\",ISBLANK(E38630)),\"\",VLOOKUP(E38630,Sheet2!A:F,2,FALSE))","v":""},{"$f":"IF(OR(E38630=\"\",ISBLANK(E38630)),\"\",VLOOKUP(E38630,Sheet2!A:G,4,FALSE))","v":""},"",{"$f":"IF(OR(E38630=\"\",ISBLANK(E38630)),\"\",VLOOKUP(E38630,Sheet2!A:H,3,FALSE))","v":""},null,{"$f":"IF(OR(E38630=\"\",ISBLANK(E38630)),\"\",VLOOKUP(E38630,Sheet2!A:G,6,FALSE))","v":""},""]
[{"$f":"IF(OR(E38639=\"\",ISBLANK(E38639)),\"\",VLOOKUP(E38639,Sheet2!A:F,2,FALSE))","v":""},{"$f":"IF(OR(E38639=\"\",ISBLANK(E38639)),\"\",VLOOKUP(E38639,Sheet2!A:G,4,FALSE))","v":""},"",{"$f":"IF(OR(E38639=\"\",ISBLANK(E38639)),\"\",VLOOKUP(E38639,Sheet2!A:H,3,FALSE))","v":""},null,{"$f":"IF(OR(E38639=\"\",ISBLANK(E38639)),\"\",VLOOKUP(E38639,Sheet2!A:G,6,FALSE))","v":""},""]
[{"$f":"IF(OR(E38671=\"\",ISBLANK(E38671)),\"\",VLOOKUP(E38671,Sheet2!A:F,2,FALSE))","v":""},{"$f":"IF(OR(E38671=\"\",ISBLANK(E38671)),\"\",VLOOKUP(E38671,Sheet2!A:G,4,FALSE))","v":""},"",{"$f":"IF(OR(E38671=\"\",ISBLANK(E38671)),\"\",VLOOKUP(E38671,Sheet2!A:H,3,FALSE))","v":""},null,{"$f":"IF(OR(E38671=\"\",ISBLANK(E38671)),\"\",VLOOKUP(E38671,Sheet2!A:G,6,FALSE))","v":""},""]
[{"$f":"IF(OR(E38698=\"\",ISBLANK(E38698)),\"\",VLOOKUP(E38698,Sheet2!A:F,2,FALSE))","v":""},{"$f":"IF(OR(E38698=\"\",ISBLANK(E38698)),\"\",VLOOKUP(E38698,Sheet2!A:G,4,FALSE))","v":""},"",{"$f":"IF(OR(E38698=\"\",ISBLANK(E38698)),\"\",VLOOKUP(E38698,Sheet2!A:H,3,FALSE))","v":""},null,{"$f":"IF(OR(E38698=\"\",ISBLANK(E38698)),\"\",VLOOKUP(E38698,Sheet2!A:G,6,FALSE))","v":""},""]
[{"$f":"IF(OR(E38725=\"\",ISBLANK(E38725)),\"\",VLOOKUP(E38725,Sheet2!A:F,2,FALSE))","v":""},{"$f":"IF(OR(E38725=\"\",ISBLANK(E38725)),\"\",VLOOKUP(E38725,Sheet2!A:G,4,FALSE))","v":""},"",{"$f":"IF(OR(E38725=\"\",ISBLANK(E38725)),\"\",VLOOKUP(E38725,Sheet2!A:H,3,FALSE))","v":""},null,{"$f":"IF(OR(E38725=\"\",ISBLANK(E38725)),\"\",VLOOKUP(E38725,Sheet2!A:G,6,FALSE))","v":""},""]
[{"$f":"IF(OR(E38733=\"\",ISBLANK(E38733)),\"\",VLOOKUP(E38733,Sheet2!A:F,2,FALSE))","v":""},{"$f":"IF(OR(E38733=\"\",ISBLANK(E38733)),\"\",VLOOKUP(E38733,Sheet2!A:G,4,FALSE))","v":""},"",{"$f":"IF(OR(E38733=\"\",ISBLANK(E38733)),\"\",VLOOKUP(E38733,Sheet2!A:H,3,FALSE))","v":""},null,{"$f":"IF(OR(E38733=\"\",ISBLANK(E38733)),\"\",VLOOKUP(E38733,Sheet2!A:G,6,FALSE))","v":""},""]
[{"$f":"IF(OR(E38766=\"\",ISBLANK(E38766)),\"\",VLOOKUP(E38766,Sheet2!A:F,2,FALSE))","v":""},{"$f":"IF(OR(E38766=\"\",ISBLANK(E38766)),\"\",VLOOKUP(E38766,Sheet2!A:G,4,FALSE))","v":""},"",{"$f":"IF(OR(E38766=\"\",ISBLANK(E38766)),\"\",VLOOKUP(E38766,Sheet2!A:H,3,FALSE))","v":""},null,{"$f":"IF(OR(E38766=\"\",ISBLANK(E38766)),\"\",VLOOKUP(E38766,Sheet2!A:G,6,FALSE))","v":""},""]
[{"$f":"IF(OR(E38785=\"\",ISBLANK(E38785)),\"\",VLOOKUP(E38785,Sheet2!A:F,2,FALSE))","v":""},{"$f":"IF(OR(E38785=\"\",ISBLANK(E38785)),\"\",VLOOKUP(E38785,Sheet2!A:G,4,FALSE))","v":""},"",{"$f":"IF(OR(E38785=\"\",ISBLANK(E38785)),\"\",VLOOKUP(E38785,Sheet2!A:H,3,FALSE))","v":""},null,{"$f":"IF(OR(E38785=\"\",ISBLANK(E38785)),\"\",VLOOKUP(E38785,Sheet2!A:G,6,FALSE))","v":""},""]
[{"$f":"IF(OR(E38825=\"\",ISBLANK(E38825)),\"\",VLOOKUP(E38825,Sheet2!A:F,2,FALSE))","v":""},{"$f":"IF(OR(E38825=\"\",ISBLANK(E38825)),\"\",VLOOKUP(E38825,Sheet2!A:G,4,FALSE))","v":""},"",{"$f":"IF(OR(E38825=\"\",ISBLANK(E38825)),\"\",VLOOKUP(E38825,Sheet2!A:H,3,FALSE))","v":""},null,{"$f":"IF(OR(E38825=\"\",ISBLANK(E38825)),\"\",VLOOKUP(E38825,Sheet2!A:G,6,FALSE))","v":""},""]
[{"$f":"IF(OR(E38839=\"\",ISBLANK(E38839)),\"\",VLOOKUP(E38839,Sheet2!A:F,2,FALSE))","v":""},{"$f":"IF(OR(E38839=\"\",ISBLANK(E38839)),\"\",VLOOKUP(E38839,Sheet2!A:G,4,FALSE))","v":""},"",{"$f":"IF(OR(E38839=\"\",ISBLANK(E38839)),\"\",VLOOKUP(E38839,Sheet2!A:H,3,FALSE))","v":""},null,{"$f":"IF(OR(E38839=\"\",ISBLANK(E38839)),\"\",VLOOKUP(E38839,Sheet2!A:G,6,FALSE))","v":""},""]
[{"$f":"IF(OR(E38860=\"\",ISBLANK(E38860)),\"\",VLOOKUP(E38860,Sheet2!A:F,2,FALSE))","v":""},{"$f":"IF(OR(E38860=\"\",ISBLANK(E38860)),\"\",VLOOKUP(E38860,Sheet2!A:G,4,FALSE))","v":""},"",{"$f":"IF(OR(E38860=\"\",ISBLANK(E38860)),\"\",VLOOKUP(E38860,Sheet2!A:H,3,FALSE))","v":""},null,{"$f":"IF(OR(E38860=\"\",ISBLANK(E38860)),\"\",VLOOKUP(E38860,Sheet2!A:G,6,FALSE))","v":""},""]
[{"$f":"IF(OR(E38893=\"\",ISBLANK(E38893)),\"\",VLOOKUP(E38893,Sheet2!A:F,2,FALSE))","v":""},{"$f":"IF(OR(E38893=\"\",ISBLANK(E38893)),\"\",VLOOKUP(E38893,Sheet2!A:G,4,FALSE))","v":""},"",{"$f":"IF(OR(E38893=\"\",ISBLANK(E38893)),\"\",VLOOKUP(E38893,Sheet2!A:H,3,FALSE))","v":""},null,{"$f":"IF(OR(E38893=\"\",ISBLANK(E38893)),\"\",VLOOKUP(E38893,Sheet2!A:G,6,FALSE))","v":""},""]
[{"$f":"IF(OR(E38903=\"\",ISBLANK(E38903)),\"\",VLOOKUP(E38903,Sheet2!A:F,2,FALSE))","v":""},{"$f":"IF(OR(E38903=\"\",ISBLANK(E38903)),\"\",VLOOKUP(E38903,Sheet2!A:G,4,FALSE))","v":""},"",{"$f":"IF(OR(E38903=\"\",ISBLANK(E38903)),\"\",VLOOKUP(E38903,Sheet2!A:H,3,FALSE))","v":""},null,{"$f":"IF(OR(E38903=\"\",ISBLANK(E38903)),\"\",VLOOKUP(E38903,Sheet2!A:G,6,FALSE))","v":""},""]
[{"$f":"IF(OR(E38928=\"\",ISBLANK(E38928)),\"\",VLOOKUP(E38928,Sheet2!A:F,2,FALSE))","v":""},{"$f":"IF(OR(E38928=\"\",ISBLANK(E38928)),\"\",VLOOKUP(E38928,Sheet2!A:G,4,FALSE))","v":""},"",{"$f":"IF(OR(E38928=\"\",ISBLANK(E38928)),\"\",VLOOKUP(E38928,Sheet2!A:H,3,FALSE))","v":""},null,{"$f":"IF(OR(E38928=\"\",ISBLANK(E38928)),\"\",VLOOKUP(E38928,Sheet2!A:G,6,FALSE))","v":""},""]
[{"$f":"IF(OR(E38961=\"\",ISBLANK(E38961)),\"\",VLOOKUP(E38961,Sheet2!A:F,2,FALSE))","v":""},{"$f":"IF(OR(E38961=\"\",ISBLANK(E38961)),\"\",VLOOKUP(E38961,Sheet2!A:G,4,FALSE))","v":""},"",{"$f":"IF(OR(E38961=\"\",ISBLANK(E38961)),\"\",VLOOKUP(E38961,Sheet2!A:H,3,FALSE))","v":""},null,{"$f":"IF(OR(E38961=\"\",ISBLANK(E38961)),\"\",VLOOKUP(E38961,Sheet2!A:G,6,FALSE))","v":""},""]
[{"$f":"IF(OR(E38988=\"\",ISBLANK(E38988)),\"\",VLOOKUP(E38988,Sheet2!A:F,2,FALSE))","v":""},{"$f":"IF(OR(E38988=\"\",ISBLANK(E38988)),\"\",VLOOKUP(E38988,Sheet2!A:G,4,FALSE))","v":""},"",{"$f":"IF(OR(E38988=\"\",ISBLANK(E38988)),\"\",VLOOKUP(E38988,Sheet2!A:H,3,FALSE))","v":""},null,{"$f":"IF(OR(E38988=\"\",ISBLANK(E38988)),\"\",VLOOKUP(E38988,Sheet2!A:G,6,FALSE))","v":""},""]
[{"$f":"IF(OR(E39020=\"\",ISBLANK(E39020)),\"\",VLOOKUP(E39020,Sheet2!A:F,2,FALSE))","v":""},{"$f":"IF(OR(E39020=\"\",ISBLANK(E39020)),\"\",VLOOKUP(E39020,Sheet2!A:G,4,FALSE))","v":""},"",{"$f":"IF(OR(E39020=\"\",ISBLANK(E39020)),\"\",VLOOKUP(E39020,Sheet2!A:H,3,FALSE))","v":""},null,{"$f":"IF(OR(E39020=\"\",ISBLANK(E39020)),\"\",VLOOKUP(E39020,Sheet2!A:G,6,FALSE))","v":""},""]
[{"$f":"IF(OR(E39042=\"\",ISBLANK(E39042)),\"\",VLOOKUP(E39042,Sheet2!A:F,2,FALSE))","v":""},{"$f":"IF(OR(E39042=\"\",ISBLANK(E39042)),\"\",VLOOKUP(E39042,Sheet2!A:G,4,FALSE))","v":""},"",{"$f":"IF(OR(E39042=\"\",ISBLANK(E39042)),\"\",VLOOKUP(E39042,Sheet2!A:H,3,FALSE))","v":""},null,{"$f":"IF(OR(E39042=\"\",ISBLANK(E39042)),\"\",VLOOKUP(E39042,Sheet2!A:G,6,FALSE))","v":""},""]
[{"$f":"IF(OR(E39055=\"\",ISBLANK(E39055)),\"\",VLOOKUP(E39055,Sheet2!A:F,2,FALSE))","v":""},{"$f":"IF(OR(E39055=\"\",ISBLANK(E39055)),\"\",VLOOKUP(E39055,Sheet2!A:G,4,FALSE))","v":""},"",{"$f":"IF(OR(E39055=\"\",ISBLANK(E39055)),\"\",VLOOKUP(E39055,Sheet2!A:H,3,FALSE))","v":""},null,{"$f":"IF(OR(E39055=\"\",ISBLANK(E39055)),\"\",VLOOKUP(E39055,Sheet2!A:G,6,FALSE))","v":""},""]
[{"$f":"IF(OR(E39088=\"\",ISBLANK(E39088)),\"\",VLOOKUP(E39088,Sheet2!A:F,2,FALSE))","v":""},{"$f":"IF(OR(E39088=\"\",ISBLANK(E39088)),\"\",VLOOKUP(E39088,Sheet2!A:G,4,FALSE))","v":""},"",{"$f":"IF(OR(E39088=\"\",ISBLANK(E39088)),\"\",VLOOKUP(E39088,Sheet2!A:H,3,FALSE))","v":""},null,{"$f":"IF(OR(E39088=\"\",ISBLANK(E39088)),\"\",VLOOKUP(E39088,Sheet2!A:G,6,FALSE))","v":""},""]
[{"$f":"IF(OR(E39106=\"\",ISBLANK(E39106)),\"\",VLOOKUP(E39106,Sheet2!A:F,2,FALSE))","v":""},{"$f":"IF(OR(E39106=\"\",ISBLANK(E39106)),\"\",VLOOKUP(E39106,Sheet2!A:G,4,FALSE))","v":""},"",{"$f":"IF(OR(E39106=\"\",ISBLANK(E39106)),\"\",VLOOKUP(E39106,Sheet2!A:H,3,FALSE))","v":""},null,{"$f":"IF(OR(E39106=\"\",ISBLANK(E39106)),\"\",VLOOKUP(E39106,Sheet2!A:G,6,FALSE))","v":""},""]
[{"$f":"IF(OR(E39123=\"\",ISBLANK(E39123)),\"\",VLOOKUP(E39123,Sheet2!A:F,2,FALSE))","v":""},{"$f":"IF(OR(E39123=\"\",ISBLANK(E39123)),\"\",VLOOKUP(E39123,Sheet2!A:G,4,FALSE))","v":""},"",{"$f":"IF(OR(E39123=\"\",ISBLANK(E39123)),\"\",VLOOKUP(E39123,Sheet2!A:H,3,FALSE))","v":""},null,{"$f":"IF(OR(E39123=\"\",ISBLANK(E39123)),\"\",VLOOKUP(E39123,Sheet2!A:G,6,FALSE))","v":""},""]
[{"$f":"IF(OR(E39156=\"\",ISBLANK(E39156)),\"\",VLOOKUP(E39156,Sheet2!A:F,2,FALSE))","v":""},{"$f":"IF(OR(E39156=\"\",ISBLANK(E39156)),\"\",VLOOKUP(E39156,Sheet2!A:G,4,FALSE))","v":""},"",{"$f":"IF(OR(E39156=\"\",ISBLANK(E39156)),\"\",VLOOKUP(E39156,Sheet2!A:H,3,FALSE))","v":""},null,{"$f":"IF(OR(E39156=\"\",ISBLANK(E39156)),\"\",VLOOKUP(E39156,Sheet2!A:G,6,FALSE))","v":""},""]
[{"$f":"IF(OR(E39182=\"\",ISBLANK(E39182)),\"\",VLOOKUP(E39182,Sheet2!A:F,2,FALSE))","v":""},{"$f":"IF(OR(E39182=\"\",ISBLANK(E39182)),\"\",VLOOKUP(E39182,Sheet2!A:G,4,FALSE))","v":""},"",{"$f":"IF(OR(E39182=\"\",ISBLANK(E39182)),\"\",VLOOKUP(E39182,Sheet2!A:H,3,FALSE))","v":""},null,{"$f":"IF(OR(E39182=\"\",ISBLANK(E39182)),\"\",VLOOKUP(E39182,Sheet2!A:G,6,FALSE))","v":""},""]
[{"$f":"IF(OR(E39215=\"\",ISBLANK(E39215)),\"\",VLOOKUP(E39215,Sheet2!A:F,2,FALSE))","v":""},{"$f":"IF(OR(E39215=\"\",ISBLANK(E39215)),\"\",VLOOKUP(E39215,Sheet2!A:G,4,FALSE))","v":""},"",{"$f":"IF(OR(E39215=\"\",ISBLANK(E39215)),\"\",VLOOKUP(E39215,Sheet2!A:H,3,FALSE))","v":""},null,{"$f":"IF(OR(E39215=\"\",ISBLANK(E39215)),\"\",VLOOKUP(E39215,Sheet2!A:G,6,FALSE))","v":""},""]
[{"$f":"IF(OR(E39220=\"\",ISBLANK(E39220)),\"\",VLOOKUP(E39220,Sheet2!A:F,2,FALSE))","v":""},{"$f":"IF(OR(E39220=\"\",ISBLANK(E39220)),\"\",VLOOKUP(E39220,Sheet2!A:G,4,FALSE))","v":""},"",{"$f":"IF(OR(E39220=\"\",ISBLANK(E39220)),\"\",VLOOKUP(E39220,Sheet2!A:H,3,FALSE))","v":""},null,{"$f":"IF(OR(E39220=\"\",ISBLANK(E39220)),\"\",VLOOKUP(E39220,Sheet2!A:G,6,FALSE))","v":""},""]
[{"$f":"IF(OR(E39250=\"\",ISBLANK(E39250)),\"\",VLOOKUP(E39250,Sheet2!A:F,2,FALSE))","v":""},{"$f":"IF(OR(E39250=\"\",ISBLANK(E39250)),\"\",VLOOKUP(E39250,Sheet2!A:G,4,FALSE))","v":""},"",{"$f":"IF(OR(E39250=\"\",ISBLANK(E39250)),\"\",VLOOKUP(E39250,Sheet2!A:H,3,FALSE))","v":""},null,{"$f":"IF(OR(E39250=\"\",ISBLANK(E39250)),\"\",VLOOKUP(E39250,Sheet2!A:G,6,FALSE))","v":""},""]
[{"$f":"IF(OR(E39270=\"\",ISBLANK(E39270)),\"\",VLOOKUP(E39270,Sheet2!A:F,2,FALSE))","v":""},{"$f":"IF(OR(E39270=\"\",ISBLANK(E39270)),\"\",VLOOKUP(E39270,Sheet2!A:G,4,FALSE))","v":""},"",{"$f":"IF(OR(E39270=\"\",ISBLANK(E39270)),\"\",VLOOKUP(E39270,Sheet2!A:H,3,FALSE))","v":""},null,{"$f":"IF(OR(E39270=\"\",ISBLANK(E39270)),\"\",VLOOKUP(E39270,Sheet2!A:G,6,FALSE))","v":""},""]
[{"$f":"IF(OR(E39309=\"\",ISBLANK(E39309)),\"\",VLOOKUP(E39309,Sheet2!A:F,2,FALSE))","v":""},{"$f":"IF(OR(E39309=\"\",ISBLANK(E39309)),\"\",VLOOKUP(E39309,Sheet2!A:G,4,FALSE))","v":""},"",{"$f":"IF(OR(E39309=\"\",ISBLANK(E39309)),\"\",VLOOKUP(E39309,Sheet2!A:H,3,FALSE))","v":""},null,{"$f":"IF(OR(E39309=\"\",ISBLANK(E39309)),\"\",VLOOKUP(E39309,Sheet2!A:G,6,FALSE))","v":""},""]
[{"$f":"IF(OR(E39318=\"\",ISBLANK(E39318)),\"\",VLOOKUP(E39318,Sheet2!A:F,2,FALSE))","v":""},{"$f":"IF(OR(E39318=\"\",ISBLANK(E39318)),\"\",VLOOKUP(E39318,Sheet2!A:G,4,FALSE))","v":""},"",{"$f":"IF(OR(E39318=\"\",ISBLANK(E39318)),\"\",VLOOKUP(E39318,Sheet2!A:H,3,FALSE))","v":""},null,{"$f":"IF(OR(E39318=\"\",ISBLANK(E39318)),\"\",VLOOKUP(E39318,Sheet2!A:G,6,FALSE))","v":""},""]
[{"$f":"IF(OR(E39359=\"\",ISBLANK(E39359)),\"\",VLOOKUP(E39359,Sheet2!A:F,2,FALSE))","v":""},{"$f":"IF(OR(E39359=\"\",ISBLANK(E39359)),\"\",VLOOKUP(E39359,Sheet2!A:G,4,FALSE))","v":""},"",{"$f":"IF(OR(E39359=\"\",ISBLANK(E39359)),\"\",VLOOKUP(E39359,Sheet2!A:H,3,FALSE))","v":""},null,{"$f":"IF(OR(E39359=\"\",ISBLANK(E39359)),\"\",VLOOKUP(E39359,Sheet2!A:G,6,FALSE))","v":""},""]
[{"$f":"IF(OR(E39377=\"\",ISBLANK(E39377)),\"\",VLOOKUP(E39377,Sheet2!A:F,2,FALSE))","v":""},{"$f":"IF(OR(E39377=\"\",ISBLANK(E39377)),\"\",VLOOKUP(E39377,Sheet2!A:G,4,FALSE))","v":""},"",{"$f":"IF(OR(E39377=\"\",ISBLANK(E39377)),\"\",VLOOKUP(E39377,Sheet2!A:H,3,FALSE))","v":""},null,{"$f":"IF(OR(E39377=\"\",ISBLANK(E39377)),\"\",VLOOKUP(E39377,Sheet2!A:G,6,FALSE))","v":""},""]
[{"$f":"IF(OR(E39410=\"\",ISBLANK(E39410)),\"\",VLOOKUP(E39410,Sheet2!A:F,2,FALSE))","v":""},{"$f":"IF(OR(E39410=\"\",ISBLANK(E39410)),\"\",VLOOKUP(E39410,Sheet2!A:G,4,FALSE))","v":""},"",{"$f":"IF(OR(E39410=\"\",ISBLANK(E39410)),\"\",VLOOKUP(E39410,Sheet2!A:H,3,FALSE))","v":""},null,{"$f":"IF(OR(E39410=\"\",ISBLANK(E39410)),\"\",VLOOKUP(E39410,Sheet2!A:G,6,FALSE))","v":""},""]
[{"$f":"IF(OR(E39423=\"\",ISBLANK(E39423)),\"\",VLOOKUP(E39423,Sheet2!A:F,2,FALSE))","v":""},{"$f":"IF(OR(E39423=\"\",ISBLANK(E39423)),\"\",VLOOKUP(E39423,Sheet2!A:G,4,FALSE))","v":""},"",{"$f":"IF(OR(E39423=\"\",ISBLANK(E39423)),\"\",VLOOKUP(E39423,Sheet2!A:H,3,FALSE))","v":""},null,{"$f":"IF(OR(E39423=\"\",ISBLANK(E39423)),\"\",VLOOKUP(E39423,Sheet2!A:G,6,FALSE))","v":""},""]
[{"$f":"IF(OR(E39445=\"\",ISBLANK(E39445)),\"\",VLOOKUP(E39445,Sheet2!A:F,2,FALSE))","v":""},{"$f":"IF(OR(E39445=\"\",ISBLANK(E39445)),\"\",VLOOKUP(E39445,Sheet2!A:G,4,FALSE))","v":""},"",{"$f":"IF(OR(E39445=\"\",ISBLANK(E39445)),\"\",VLOOKUP(E39445,Sheet2!A:H,3,FALSE))","v":""},null,{"$f":"IF(OR(E39445=\"\",ISBLANK(E39445)),\"\",VLOOKUP(E39445,Sheet2!A:G,6,FALSE))","v":""},""]
[{"$f":"IF(OR(E39473=\"\",ISBLANK(E39473)),\"\",VLOOKUP(E39473,Sheet2!A:F,2,FALSE))","v":""},{"$f":"IF(OR(E39473=\"\",ISBLANK(E39473)),\"\",VLOOKUP(E39473,Sheet2!A:G,4,FALSE))","v":""},"",{"$f":"IF(OR(E39473=\"\",ISBLANK(E39473)),\"\",VLOOKUP(E39473,Sheet2!A:H,3,FALSE))","v":""},null,{"$f":"IF(OR(E39473=\"\",ISBLANK(E39473)),\"\",VLOOKUP(E39473,Sheet2!A:G,6,FALSE))","v":""},""]
[{"$f":"IF(OR(E39504=\"\",ISBLANK(E39504)),\"\",VLOOKUP(E39504,Sheet2!A:F,2,FALSE))","v":""},{"$f":"IF(OR(E39504=\"\",ISBLANK(E39504)),\"\",VLOOKUP(E39504,Sheet2!A:G,4,FALSE))","v":""},"",{"$f":"IF(OR(E39504=\"\",ISBLANK(E39504)),\"\",VLOOKUP(E39504,Sheet2!A:H,3,FALSE))","v":""},null,{"$f":"IF(OR(E39504=\"\",ISBLANK(E39504)),\"\",VLOOKUP(E39504,Sheet2!A:G,6,FALSE))","v":""},""]
[{"$f":"IF(OR(E39513=\"\",ISBLANK(E39513)),\"\",VLOOKUP(E39513,Sheet2!A:F,2,FALSE))","v":""},{"$f":"IF(OR(E39513=\"\",ISBLANK(E39513)),\"\",VLOOKUP(E39513,Sheet2!A:G,4,FALSE))","v":""},"",{"$f":"IF(OR(E39513=\"\",ISBLANK(E39513)),\"\",VLOOKUP(E39513,Sheet2!A:H,3,FALSE))","v":""},null,{"$f":"IF(OR(E39513=\"\",ISBLANK(E39513)),\"\",VLOOKUP(E39513,Sheet2!A:G,6,FALSE))","v":""},""]
[{"$f":"IF(OR(E39537=\"\",ISBLANK(E39537)),\"\",VLOOKUP(E39537,Sheet2!A:F,2,FALSE))","v":""},{"$f":"IF(OR(E39537=\"\",ISBLANK(E39537)),\"\",VLOOKUP(E39537,Sheet2!A:G,4,FALSE))","v":""},"",{"$f":"IF(OR(E39537=\"\",ISBLANK(E39537)),\"\",VLOOKUP(E39537,Sheet2!A:H,3,FALSE))","v":""},null,{"$f":"IF(OR(E39537=\"\",ISBLANK(E39537)),\"\",VLOOKUP(E39537,Sheet2!A:G,6,FALSE))","v":""},""]
[{"$f":"IF(OR(E39572=\"\",ISBLANK(E39572)),\"\",VLOOKUP(E39572,Sheet2!A:F,2,FALSE))","v":""},{"$f":"IF(OR(E39572=\"\",ISBLANK(E39572)),\"\",VLOOKUP(E39572,Sheet2!A:G,4,FALSE))","v":""},"",{"$f":"IF(OR(E39572=\"\",ISBLANK(E39572)),\"\",VLOOKUP(E39572,Sheet2!A:H,3,FALSE))","v":""},null,{"$f":"IF(OR(E39572=\"\",ISBLANK(E39572)),\"\",VLOOKUP(E39572,Sheet2!A:G,6,FALSE))","v":""},""]
[{"$f":"IF(OR(E39587=\"\",ISBLANK(E39587)),\"\",VLOOKUP(E39587,Sheet2!A:F,2,FALSE))","v":""},{"$f":"IF(OR(E39587=\"\",ISBLANK(E39587)),\"\",VLOOKUP(E39587,Sheet2!A:G,4,FALSE))","v":""},"",{"$f":"IF(OR(E39587=\"\",ISBLANK(E39587)),\"\",VLOOKUP(E39587,Sheet2!A:H,3,FALSE))","v":""},null,{"$f":"IF(OR(E39587=\"\",ISBLANK(E39587)),\"\",VLOOKUP(E39587,Sheet2!A:G,6,FALSE))","v":""},""]
[{"$f":"IF(OR(E39615=\"\",ISBLANK(E39615)),\"\",VLOOKUP(E39615,Sheet2!A:F,2,FALSE))","v":""},{"$f":"IF(OR(E39615=\"\",ISBLANK(E39615)),\"\",VLOOKUP(E39615,Sheet2!A:G,4,FALSE))","v":""},"",{"$f":"IF(OR(E39615=\"\",ISBLANK(E39615)),\"\",VLOOKUP(E39615,Sheet2!A:H,3,FALSE))","v":""},null,{"$f":"IF(OR(E39615=\"\",ISBLANK(E39615)),\"\",VLOOKUP(E39615,Sheet2!A:G,6,FALSE))","v":""},""]
[{"$f":"IF(OR(E39640=\"\",ISBLANK(E39640)),\"\",VLOOKUP(E39640,Sheet2!A:F,2,FALSE))","v":""},{"$f":"IF(OR(E39640=\"\",ISBLANK(E39640)),\"\",VLOOKUP(E39640,Sheet2!A:G,4,FALSE))","v":""},"",{"$f":"IF(OR(E39640=\"\",ISBLANK(E39640)),\"\",VLOOKUP(E39640,Sheet2!A:H,3,FALSE))","v":""},null,{"$f":"IF(OR(E39640=\"\",ISBLANK(E39640)),\"\",VLOOKUP(E39640,Sheet2!A:G,6,FALSE))","v":""},""]
[{"$f":"IF(OR(E39676=\"\",ISBLANK(E39676)),\"\",VLOOKUP(E39676,Sheet2!A:F,2,FALSE))","v":""},{"$f":"IF(OR(E39676=\"\",ISBLANK(E39676)),\"\",VLOOKUP(E39676,Sheet2!A:G,4,FALSE))","v":""},"",{"$f":"IF(OR(E39676=\"\",ISBLANK(E39676)),\"\",VLOOKUP(E39676,Sheet2!A:H,3,FALSE))","v":""},null,{"$f":"IF(OR(E39676=\"\",ISBLANK(E39676)),\"\",VLOOKUP(E39676,Sheet2!A:G,6,FALSE))","v":""},""]
[{"$f":"IF(OR(E39699=\"\",ISBLANK(E39699)),\"\",VLOOKUP(E39699,Sheet2!A:F,2,FALSE))","v":""},{"$f":"IF(OR(E39699=\"\",ISBLANK(E39699)),\"\",VLOOKUP(E39699,Sheet2!A:G,4,FALSE))","v":""},"",{"$f":"IF(OR(E39699=\"\",ISBLANK(E39699)),\"\",VLOOKUP(E39699,Sheet2!A:H,3,FALSE))","v":""},null,{"$f":"IF(OR(E39699=\"\",ISBLANK(E39699)),\"\",VLOOKUP(E39699,Sheet2!A:G,6,FALSE))","v":""},""]
[{"$f":"IF(OR(E39726=\"\",ISBLANK(E39726)),\"\",VLOOKUP(E39726,Sheet2!A:F,2,FALSE))","v":""},{"$f":"IF(OR(E39726=\"\",ISBLANK(E39726)),\"\",VLOOKUP(E39726,Sheet2!A:G,4,FALSE))","v":""},"",{"$f":"IF(OR(E39726=\"\",ISBLANK(E39726)),\"\",VLOOKUP(E39726,Sheet2!A:H,3,FALSE))","v":""},null,{"$f":"IF(OR(E39726=\"\",ISBLANK(E39726)),\"\",VLOOKUP(E39726,Sheet2!A:G,6,FALSE))","v":""},""]
[{"$f":"IF(OR(E39742=\"\",ISBLANK(E39742)),\"\",VLOOKUP(E39742,Sheet2!A:F,2,FALSE))","v":""},{"$f":"IF(OR(E39742=\"\",ISBLANK(E39742)),\"\",VLOOKUP(E39742,Sheet2!A:G,4,FALSE))","v":""},"",{"$f":"IF(OR(E39742=\"\",ISBLANK(E39742)),\"\",VLOOKUP(E39742,Sheet2!A:H,3,FALSE))","v":""},null,{"$f":"IF(OR(E39742=\"\",ISBLANK(E39742)),\"\",VLOOKUP(E39742,Sheet2!A:G,6,FALSE))","v":""},""]
[{"$f":"IF(OR(E39767=\"\",ISBLANK(E39767)),\"\",VLOOKUP(E39767,Sheet2!A:F,2,FALSE))","v":""},{"$f":"IF(OR(E39767=\"\",ISBLANK(E39767)),\"\",VLOOKUP(E39767,Sheet2!A:G,4,FALSE))","v":""},"",{"$f":"IF(OR(E39767=\"\",ISBLANK(E39767)),\"\",VLOOKUP(E39767,Sheet2!A:H,3,FALSE))","v":""},null,{"$f":"IF(OR(E39767=\"\",ISBLANK(E39767)),\"\",VLOOKUP(E39767,Sheet2!A:G,6,FALSE))","v":""},""]
[{"$f":"IF(OR(E39790=\"\",ISBLANK(E39790)),\"\",VLOOKUP(E39790,Sheet2!A:F,2,FALSE))","v":""},{"$f":"IF(OR(E39790=\"\",ISBLANK(E39790)),\"\",VLOOKUP(E39790,Sheet2!A:G,4,FALSE))","v":""},"",{"$f":"IF(OR(E39790=\"\",ISBLANK(E39790)),\"\",VLOOKUP(E39790,Sheet2!A:H,3,FALSE))","v":""},null,{"$f":"IF(OR(E39790=\"\",ISBLANK(E39790)),\"\",VLOOKUP(E39790,Sheet2!A:G,6,FALSE))","v":""},""]
[{"$f":"IF(OR(E39826=\"\",ISBLANK(E39826)),\"\",VLOOKUP(E39826,Sheet2!A:F,2,FALSE))","v":""},{"$f":"IF(OR(E39826=\"\",ISBLANK(E39826)),\"\",VLOOKUP(E39826,Sheet2!A:G,4,FALSE))","v":""},"",{"$f":"IF(OR(E39826=\"\",ISBLANK(E39826)),\"\",VLOOKUP(E39826,Sheet2!A:H,3,FALSE))","v":""},null,{"$f":"IF(OR(E39826=\"\",ISBLANK(E39826)),\"\",VLOOKUP(E39826,Sheet2!A:G,6,FALSE))","v":""},""]
[{"$f":"IF(OR(E39835=\"\",ISBLANK(E39835)),\"\",VLOOKUP(E39835,Sheet2!A:F,2,FALSE))","v":""},{"$f":"IF(OR(E39835=\"\",ISBLANK(E39835)),\"\",VLOOKUP(E39835,Sheet2!A:G,4,FALSE))","v":""},"",{"$f":"IF(OR(E39835=\"\",ISBLANK(E39835)),\"\",VLOOKUP(E39835,Sheet2!A:H,3,FALSE))","v":""},null,{"$f":"IF(OR(E39835=\"\",ISBLANK(E39835)),\"\",VLOOKUP(E39835,Sheet2!A:G,6,FALSE))","v":""},""]
[{"$f":"IF(OR(E39854=\"\",ISBLANK(E39854)),\"\",VLOOKUP(E39854,Sheet2!A:F,2,FALSE))","v":""},{"$f":"IF(OR(E39854=\"\",ISBLANK(E39854)),\"\",VLOOKUP(E39854,Sheet2!A:G,4,FALSE))","v":""},"",{"$f":"IF(OR(E39854=\"\",ISBLANK(E39854)),\"\",VLOOKUP(E39854,Sheet2!A:H,3,FALSE))","v":""},null,{"$f":"IF(OR(E39854=\"\",ISBLANK(E39854)),\"\",VLOOKUP(E39854,Sheet2!A:G,6,FALSE))","v":""},""]
[{"$f":"IF(OR(E39894=\"\",ISBLANK(E39894)),\"\",VLOOKUP(E39894,Sheet2!A:F,2,FALSE))","v":""},{"$f":"IF(OR(E39894=\"\",ISBLANK(E39894)),\"\",VLOOKUP(E39894,Sheet2!A:G,4,FALSE))","v":""},"",{"$f":"IF(OR(E39894=\"\",ISBLANK(E39894)),\"\",VLOOKUP(E39894,Sheet2!A:H,3,FALSE))","v":""},null,{"$f":"IF(OR(E39894=\"\",ISBLANK(E39894)),\"\",VLOOKUP(E39894,Sheet2!A:G,6,FALSE))","v":""},""]
[{"$f":"IF(OR(E39904=\"\",ISBLANK(E39904)),\"\",VLOOKUP(E39904,Sheet2!A:F,2,FALSE))","v":""},{"$f":"IF(OR(E39904=\"\",ISBLANK(E39904)),\"\",VLOOKUP(E39904,Sheet2!A:G,4,FALSE))","v":""},"",{"$f":"IF(OR(E39904=\"\",ISBLANK(E39904)),\"\",VLOOKUP(E39904,Sheet2!A:H,3,FALSE))","v":""},null,{"$f":"IF(OR(E39904=\"\",ISBLANK(E39904)),\"\",VLOOKUP(E39904,Sheet2!A:G,6,FALSE))","v":""},""]
[{"$f":"IF(OR(E39937=\"\",ISBLANK(E39937)),\"\",VLOOKUP(E39937,Sheet2!A:F,2,FALSE))","v":""},{"$f":"IF(OR(E39937=\"\",ISBLANK(E39937)),\"\",VLOOKUP(E39937,Sheet2!A:G,4,FALSE))","v":""},"",{"$f":"IF(OR(E39937=\"\",ISBLANK(E39937)),\"\",VLOOKUP(E39937,Sheet2!A:H,3,FALSE))","v":""},null,{"$f":"IF(OR(E39937=\"\",ISBLANK(E39937)),\"\",VLOOKUP(E39937,Sheet2!A:G,6,FALSE))","v":""},""]
[{"$f":"IF(OR(E39962=\"\",ISBLANK(E39962)),\"\",VLOOKUP(E39962,Sheet2!A:F,2,FALSE))","v":""},{"$f":"IF(OR(E39962=\"\",ISBLANK(E39962)),\"\",VLOOKUP(E39962,Sheet2!A:G,4,FALSE))","v":""},"",{"$f":"IF(OR(E39962=\"\",ISBLANK(E39962)),\"\",VLOOKUP(E39962,Sheet2!A:H,3,FALSE))","v":""},null,{"$f":"IF(OR(E39962=\"\",ISBLANK(E39962)),\"\",VLOOKUP(E39962,Sheet2!A:G,6,FALSE))","v":""},""]
[{"$f":"IF(OR(E39993=\"\",ISBLANK(E39993)),\"\",VLOOKUP(E39993,Sheet2!A:F,2,FALSE))","v":""},{"$f":"IF(OR(E39993=\"\",ISBLANK(E39993)),\"\",VLOOKUP(E39993,Sheet2!A:G,4,FALSE))","v":""},"",{"$f":"IF(OR(E39993=\"\",ISBLANK(E39993)),\"\",VLOOKUP(E39993,Sheet2!A:H,3,FALSE))","v":""},null,{"$f":"IF(OR(E39993=\"\",ISBLANK(E39993)),\"\",VLOOKUP(E39993,Sheet2!A:G,6,FALSE))","v":""},""]
[{"$f":"IF(OR(E40021=\"\",ISBLANK(E40021)),\"\",VLOOKUP(E40021,Sheet2!A:F,2,FALSE))","v":""},{"$f":"IF(OR(E40021=\"\",ISBLANK(E40021)),\"\",VLOOKUP(E40021,Sheet2!A:G,4,FALSE))","v":""},"",{"$f":"IF(OR(E40021=\"\",ISBLANK(E40021)),\"\",VLOOKUP(E40021,Sheet2!A:H,3,FALSE))","v":""},null,{"$f":"IF(OR(E40021=\"\",ISBLANK(E40021)),\"\",VLOOKUP(E40021,Sheet2!A:G,6,FALSE))","v":""},""]
[{"$f":"IF(OR(E40043=\"\",ISBLANK(E40043)),\"\",VLOOKUP(E40043,Sheet2!A:F,2,FALSE))","v":""},{"$f":"IF(OR(E40043=\"\",ISBLANK(E40043)),\"\",VLOOKUP(E40043,Sheet2!A:G,4,FALSE))","v":""},"",{"$f":"IF(OR(E40043=\"\",ISBLANK(E40043)),\"\",VLOOKUP(E40043,Sheet2!A:H,3,FALSE))","v":""},null,{"$f":"IF(OR(E40043=\"\",ISBLANK(E40043)),\"\",VLOOKUP(E40043,Sheet2!A:G,6,FALSE))","v":""},""]
[{"$f":"IF(OR(E40064=\"\",ISBLANK(E40064)),\"\",VLOOKUP(E40064,Sheet2!A:F,2,FALSE))","v":""},{"$f":"IF(OR(E40064=\"\",ISBLANK(E40064)),\"\",VLOOKUP(E40064,Sheet2!A:G,4,FALSE))","v":""},"",{"$f":"IF(OR(E40064=\"\",ISBLANK(E40064)),\"\",VLOOKUP(E40064,Sheet2!A:H,3,FALSE))","v":""},null,{"$f":"IF(OR(E40064=\"\",ISBLANK(E40064)),\"\",VLOOKUP(E40064,Sheet2!A:G,6,FALSE))","v":""},""]
[{"$f":"IF(OR(E40089=\"\",ISBLANK(E40089)),\"\",VLOOKUP(E40089,Sheet2!A:F,2,FALSE))","v":""},{"$f":"IF(OR(E40089=\"\",ISBLANK(E40089)),\"\",VLOOKUP(E40089,Sheet2!A:G,4,FALSE))","v":""},"",{"$f":"IF(OR(E40089=\"\",ISBLANK(E40089)),\"\",VLOOKUP(E40089,Sheet2!A:H,3,FALSE))","v":""},null,{"$f":"IF(OR(E40089=\"\",ISBLANK(E40089)),\"\",VLOOKUP(E40089,Sheet2!A:G,6,FALSE))","v":""},""]
[{"$f":"IF(OR(E40107=\"\",ISBLANK(E40107)),\"\",VLOOKUP(E40107,Sheet2!A:F,2,FALSE))","v":""},{"$f":"IF(OR(E40107=\"\",ISBLANK(E40107)),\"\",VLOOKUP(E40107,Sheet2!A:G,4,FALSE))","v":""},"",{"$f":"IF(OR(E40107=\"\",ISBLANK(E40107)),\"\",VLOOKUP(E40107,Sheet2!A:H,3,FALSE))","v":""},null,{"$f":"IF(OR(E40107=\"\",ISBLANK(E40107)),\"\",VLOOKUP(E40107,Sheet2!A:G,6,FALSE))","v":""},""]
[{"$f":"IF(OR(E40124=\"\",ISBLANK(E40124)),\"\",VLOOKUP(E40124,Sheet2!A:F,2,FALSE))","v":""},{"$f":"IF(OR(E40124=\"\",ISBLANK(E40124)),\"\",VLOOKUP(E40124,Sheet2!A:G,4,FALSE))","v":""},"",{"$f":"IF(OR(E40124=\"\",ISBLANK(E40124)),\"\",VLOOKUP(E40124,Sheet2!A:H,3,FALSE))","v":""},null,{"$f":"IF(OR(E40124=\"\",ISBLANK(E40124)),\"\",VLOOKUP(E40124,Sheet2!A:G,6,FALSE))","v":""},""]
[{"$f":"IF(OR(E40157=\"\",ISBLANK(E40157)),\"\",VLOOKUP(E40157,Sheet2!A:F,2,FALSE))","v":""},{"$f":"IF(OR(E40157=\"\",ISBLANK(E40157)),\"\",VLOOKUP(E40157,Sheet2!A:G,4,FALSE))","v":""},"",{"$f":"IF(OR(E40157=\"\",ISBLANK(E40157)),\"\",VLOOKUP(E40157,Sheet2!A:H,3,FALSE))","v":""},null,{"$f":"IF(OR(E40157=\"\",ISBLANK(E40157)),\"\",VLOOKUP(E40157,Sheet2!A:G,6,FALSE))","v":""},""]
[{"$f":"IF(OR(E40191=\"\",ISBLANK(E40191)),\"\",VLOOKUP(E40191,Sheet2!A:F,2,FALSE))","v":""},{"$f":"IF(OR(E40191=\"\",ISBLANK(E40191)),\"\",VLOOKUP(E40191,Sheet2!A:G,4,FALSE))","v":""},"",{"$f":"IF(OR(E40191=\"\",ISBLANK(E40191)),\"\",VLOOKUP(E40191,Sheet2!A:H,3,FALSE))","v":""},null,{"$f":"IF(OR(E40191=\"\",ISBLANK(E40191)),\"\",VLOOKUP(E40191,Sheet2!A:G,6,FALSE))","v":""},""]
[{"$f":"IF(OR(E40216=\"\",ISBLANK(E40216)),\"\",VLOOKUP(E40216,Sheet2!A:F,2,FALSE))","v":""},{"$f":"IF(OR(E40216=\"\",ISBLANK(E40216)),\"\",VLOOKUP(E40216,Sheet2!A:G,4,FALSE))","v":""},"",{"$f":"IF(OR(E40216=\"\",ISBLANK(E40216)),\"\",VLOOKUP(E40216,Sheet2!A:H,3,FALSE))","v":""},null,{"$f":"IF(OR(E40216=\"\",ISBLANK(E40216)),\"\",VLOOKUP(E40216,Sheet2!A:G,6,FALSE))","v":""},""]
[{"$f":"IF(OR(E40221=\"\",ISBLANK(E40221)),\"\",VLOOKUP(E40221,Sheet2!A:F,2,FALSE))","v":""},{"$f":"IF(OR(E40221=\"\",ISBLANK(E40221)),\"\",VLOOKUP(E40221,Sheet2!A:G,4,FALSE))","v":""},"",{"$f":"IF(OR(E40221=\"\",ISBLANK(E40221)),\"\",VLOOKUP(E40221,Sheet2!A:H,3,FALSE))","v":""},null,{"$f":"IF(OR(E40221=\"\",ISBLANK(E40221)),\"\",VLOOKUP(E40221,Sheet2!A:G,6,FALSE))","v":""},""]
[{"$f":"IF(OR(E40259=\"\",ISBLANK(E40259)),\"\",VLOOKUP(E40259,Sheet2!A:F,2,FALSE))","v":""},{"$f":"IF(OR(E40259=\"\",ISBLANK(E40259)),\"\",VLOOKUP(E40259,Sheet2!A:G,4,FALSE))","v":""},{"$f":"IF(D40259=0,\"\",D40259)","v":""},{"$f":"IF(OR(E40259=\"\",ISBLANK(E40259)),\"\",VLOOKUP(E40259,Sheet2!A:H,3,FALSE))","v":""},null,{"$f":"IF(OR(E40259=\"\",ISBLANK(E40259)),\"\",VLOOKUP(E40259,Sheet2!A:G,6,FALSE))","v":""},{"$f":"IF(F40259=0,\"\",F40259)","v":""}]
[{"$f":"IF(OR(E40284=\"\",ISBLANK(E40284)),\"\",VLOOKUP(E40284,Sheet2!A:F,2,FALSE))","v":""},{"$f":"IF(OR(E40284=\"\",ISBLANK(E40284)),\"\",VLOOKUP(E40284,Sheet2!A:G,4,FALSE))","v":""},"",{"$f":"IF(OR(E40284=\"\",ISBLANK(E40284)),\"\",VLOOKUP(E40284,Sheet2!A:H,3,FALSE))","v":""},null,{"$f":"IF(OR(E40284=\"\",ISBLANK(E40284)),\"\",VLOOKUP(E40284,Sheet2!A:G,6,FALSE))","v":""},""]
[{"$f":"IF(OR(E40310=\"\",ISBLANK(E40310)),\"\",VLOOKUP(E40310,Sheet2!A:F,2,FALSE))","v":""},{"$f":"IF(OR(E40310=\"\",ISBLANK(E40310)),\"\",VLOOKUP(E40310,Sheet2!A:G,4,FALSE))","v":""},"",{"$f":"IF(OR(E40310=\"\",ISBLANK(E40310)),\"\",VLOOKUP(E40310,Sheet2!A:H,3,FALSE))","v":""},null,{"$f":"IF(OR(E40310=\"\",ISBLANK(E40310)),\"\",VLOOKUP(E40310,Sheet2!A:G,6,FALSE))","v":""},""]
[{"$f":"IF(OR(E40319=\"\",ISBLANK(E40319)),\"\",VLOOKUP(E40319,Sheet2!A:F,2,FALSE))","v":""},{"$f":"IF(OR(E40319=\"\",ISBLANK(E40319)),\"\",VLOOKUP(E40319,Sheet2!A:G,4,FALSE))","v":""},"",{"$f":"IF(OR(E40319=\"\",ISBLANK(E40319)),\"\",VLOOKUP(E40319,Sheet2!A:H,3,FALSE))","v":""},null,{"$f":"IF(OR(E40319=\"\",ISBLANK(E40319)),\"\",VLOOKUP(E40319,Sheet2!A:G,6,FALSE))","v":""},""]
[{"$f":"IF(OR(E40360=\"\",ISBLANK(E40360)),\"\",VLOOKUP(E40360,Sheet2!A:F,2,FALSE))","v":""},{"$f":"IF(OR(E40360=\"\",ISBLANK(E40360)),\"\",VLOOKUP(E40360,Sheet2!A:G,4,FALSE))","v":""},"",{"$f":"IF(OR(E40360=\"\",ISBLANK(E40360)),\"\",VLOOKUP(E40360,Sheet2!A:H,3,FALSE))","v":""},null,{"$f":"IF(OR(E40360=\"\",ISBLANK(E40360)),\"\",VLOOKUP(E40360,Sheet2!A:G,6,FALSE))","v":""},""]
[{"$f":"IF(OR(E40386=\"\",ISBLANK(E40386)),\"\",VLOOKUP(E40386,Sheet2!A:F,2,FALSE))","v":""},{"$f":"IF(OR(E40386=\"\",ISBLANK(E40386)),\"\",VLOOKUP(E40386,Sheet2!A:G,4,FALSE))","v":""},"",{"$f":"IF(OR(E40386=\"\",ISBLANK(E40386)),\"\",VLOOKUP(E40386,Sheet2!A:H,3,FALSE))","v":""},null,{"$f":"IF(OR(E40386=\"\",ISBLANK(E40386)),\"\",VLOOKUP(E40386,Sheet2!A:G,6,FALSE))","v":""},""]
[{"$f":"IF(OR(E40411=\"\",ISBLANK(E40411)),\"\",VLOOKUP(E40411,Sheet2!A:F,2,FALSE))","v":""},{"$f":"IF(OR(E40411=\"\",ISBLANK(E40411)),\"\",VLOOKUP(E40411,Sheet2!A:G,4,FALSE))","v":""},"",{"$f":"IF(OR(E40411=\"\",ISBLANK(E40411)),\"\",VLOOKUP(E40411,Sheet2!A:H,3,FALSE))","v":""},null,{"$f":"IF(OR(E40411=\"\",ISBLANK(E40411)),\"\",VLOOKUP(E40411,Sheet2!A:G,6,FALSE))","v":""},""]
[{"$f":"IF(OR(E40424=\"\",ISBLANK(E40424)),\"\",VLOOKUP(E40424,Sheet2!A:F,2,FALSE))","v":""},{"$f":"IF(OR(E40424=\"\",ISBLANK(E40424)),\"\",VLOOKUP(E40424,Sheet2!A:G,4,FALSE))","v":""},"",{"$f":"IF(OR(E40424=\"\",ISBLANK(E40424)),\"\",VLOOKUP(E40424,Sheet2!A:H,3,FALSE))","v":""},null,{"$f":"IF(OR(E40424=\"\",ISBLANK(E40424)),\"\",VLOOKUP(E40424,Sheet2!A:G,6,FALSE))","v":""},""]
[{"$f":"IF(OR(E40454=\"\",ISBLANK(E40454)),\"\",VLOOKUP(E40454,Sheet2!A:F,2,FALSE))","v":""},{"$f":"IF(OR(E40454=\"\",ISBLANK(E40454)),\"\",VLOOKUP(E40454,Sheet2!A:G,4,FALSE))","v":""},"",{"$f":"IF(OR(E40454=\"\",ISBLANK(E40454)),\"\",VLOOKUP(E40454,Sheet2!A:H,3,FALSE))","v":""},null,{"$f":"IF(OR(E40454=\"\",ISBLANK(E40454)),\"\",VLOOKUP(E40454,Sheet2!A:G,6,FALSE))","v":""},""]
[{"$f":"IF(OR(E40474=\"\",ISBLANK(E40474)),\"\",VLOOKUP(E40474,Sheet2!A:F,2,FALSE))","v":""},{"$f":"IF(OR(E40474=\"\",ISBLANK(E40474)),\"\",VLOOKUP(E40474,Sheet2!A:G,4,FALSE))","v":""},"",{"$f":"IF(OR(E40474=\"\",ISBLANK(E40474)),\"\",VLOOKUP(E40474,Sheet2!A:H,3,FALSE))","v":""},null,{"$f":"IF(OR(E40474=\"\",ISBLANK(E40474)),\"\",VLOOKUP(E40474,Sheet2!A:G,6,FALSE))","v":""},""]
[{"$f":"IF(OR(E40489=\"\",ISBLANK(E40489)),\"\",VLOOKUP(E40489,Sheet2!A:F,2,FALSE))","v":""},{"$f":"IF(OR(E40489=\"\",ISBLANK(E40489)),\"\",VLOOKUP(E40489,Sheet2!A:G,4,FALSE))","v":""},"",{"$f":"IF(OR(E40489=\"\",ISBLANK(E40489)),\"\",VLOOKUP(E40489,Sheet2!A:H,3,FALSE))","v":""},null,{"$f":"IF(OR(E40489=\"\",ISBLANK(E40489)),\"\",VLOOKUP(E40489,Sheet2!A:G,6,FALSE))","v":""},""]
[{"$f":"IF(OR(E40514=\"\",ISBLANK(E40514)),\"\",VLOOKUP(E40514,Sheet2!A:F,2,FALSE))","v":""},{"$f":"IF(OR(E40514=\"\",ISBLANK(E40514)),\"\",VLOOKUP(E40514,Sheet2!A:G,4,FALSE))","v":""},"",{"$f":"IF(OR(E40514=\"\",ISBLANK(E40514)),\"\",VLOOKUP(E40514,Sheet2!A:H,3,FALSE))","v":""},null,{"$f":"IF(OR(E40514=\"\",ISBLANK(E40514)),\"\",VLOOKUP(E40514,Sheet2!A:G,6,FALSE))","v":""},""]
[{"$f":"IF(OR(E40538=\"\",ISBLANK(E40538)),\"\",VLOOKUP(E40538,Sheet2!A:F,2,FALSE))","v":""},{"$f":"IF(OR(E40538=\"\",ISBLANK(E40538)),\"\",VLOOKUP(E40538,Sheet2!A:G,4,FALSE))","v":""},"",{"$f":"IF(OR(E40538=\"\",ISBLANK(E40538)),\"\",VLOOKUP(E40538,Sheet2!A:H,3,FALSE))","v":""},null,{"$f":"IF(OR(E40538=\"\",ISBLANK(E40538)),\"\",VLOOKUP(E40538,Sheet2!A:G,6,FALSE))","v":""},""]
[{"$f":"IF(OR(E40581=\"\",ISBLANK(E40581)),\"\",VLOOKUP(E40581,Sheet2!A:F,2,FALSE))","v":""},{"$f":"IF(OR(E40581=\"\",ISBLANK(E40581)),\"\",VLOOKUP(E40581,Sheet2!A:G,4,FALSE))","v":""},"",{"$f":"IF(OR(E40581=\"\",ISBLANK(E40581)),\"\",VLOOKUP(E40581,Sheet2!A:H,3,FALSE))","v":""},null,{"$f":"IF(OR(E40581=\"\",ISBLANK(E40581)),\"\",VLOOKUP(E40581,Sheet2!A:G,6,FALSE))","v":""},""]
[{"$f":"IF(OR(E40606=\"\",ISBLANK(E40606)),\"\",VLOOKUP(E40606,Sheet2!A:F,2,FALSE))","v":""},{"$f":"IF(OR(E40606=\"\",ISBLANK(E40606)),\"\",VLOOKUP(E40606,Sheet2!A:G,4,FALSE))","v":""},"",{"$f":"IF(OR(E40606=\"\",ISBLANK(E40606)),\"\",VLOOKUP(E40606,Sheet2!A:H,3,FALSE))","v":""},null,{"$f":"IF(OR(E40606=\"\",ISBLANK(E40606)),\"\",VLOOKUP(E40606,Sheet2!A:G,6,FALSE))","v":""},""]
[{"$f":"IF(OR(E40627=\"\",ISBLANK(E40627)),\"\",VLOOKUP(E40627,Sheet2!A:F,2,FALSE))","v":""},{"$f":"IF(OR(E40627=\"\",ISBLANK(E40627)),\"\",VLOOKUP(E40627,Sheet2!A:G,4,FALSE))","v":""},"",{"$f":"IF(OR(E40627=\"\",ISBLANK(E40627)),\"\",VLOOKUP(E40627,Sheet2!A:H,3,FALSE))","v":""},null,{"$f":"IF(OR(E40627=\"\",ISBLANK(E40627)),\"\",VLOOKUP(E40627,Sheet2!A:G,6,FALSE))","v":""},""]
[{"$f":"IF(OR(E40641=\"\",ISBLANK(E40641)),\"\",VLOOKUP(E40641,Sheet2!A:F,2,FALSE))","v":""},{"$f":"IF(OR(E40641=\"\",ISBLANK(E40641)),\"\",VLOOKUP(E40641,Sheet2!A:G,4,FALSE))","v":""},"",{"$f":"IF(OR(E40641=\"\",ISBLANK(E40641)),\"\",VLOOKUP(E40641,Sheet2!A:H,3,FALSE))","v":""},null,{"$f":"IF(OR(E40641=\"\",ISBLANK(E40641)),\"\",VLOOKUP(E40641,Sheet2!A:G,6,FALSE))","v":""},""]
[{"$f":"IF(OR(E40677=\"\",ISBLANK(E40677)),\"\",VLOOKUP(E40677,Sheet2!A:F,2,FALSE))","v":""},{"$f":"IF(OR(E40677=\"\",ISBLANK(E40677)),\"\",VLOOKUP(E40677,Sheet2!A:G,4,FALSE))","v":""},"",{"$f":"IF(OR(E40677=\"\",ISBLANK(E40677)),\"\",VLOOKUP(E40677,Sheet2!A:H,3,FALSE))","v":""},null,{"$f":"IF(OR(E40677=\"\",ISBLANK(E40677)),\"\",VLOOKUP(E40677,Sheet2!A:G,6,FALSE))","v":""},""]
[{"$f":"IF(OR(E40684=\"\",ISBLANK(E40684)),\"\",VLOOKUP(E40684,Sheet2!A:F,2,FALSE))","v":""},{"$f":"IF(OR(E40684=\"\",ISBLANK(E40684)),\"\",VLOOKUP(E40684,Sheet2!A:G,4,FALSE))","v":""},"",{"$f":"IF(OR(E40684=\"\",ISBLANK(E40684)),\"\",VLOOKUP(E40684,Sheet2!A:H,3,FALSE))","v":""},null,{"$f":"IF(OR(E40684=\"\",ISBLANK(E40684)),\"\",VLOOKUP(E40684,Sheet2!A:G,6,FALSE))","v":""},""]
[{"$f":"IF(OR(E40709=\"\",ISBLANK(E40709)),\"\",VLOOKUP(E40709,Sheet2!A:F,2,FALSE))","v":""},{"$f":"IF(OR(E40709=\"\",ISBLANK(E40709)),\"\",VLOOKUP(E40709,Sheet2!A:G,4,FALSE))","v":""},"",{"$f":"IF(OR(E40709=\"\",ISBLANK(E40709)),\"\",VLOOKUP(E40709,Sheet2!A:H,3,FALSE))","v":""},null,{"$f":"IF(OR(E40709=\"\",ISBLANK(E40709)),\"\",VLOOKUP(E40709,Sheet2!A:G,6,FALSE))","v":""},""]
[{"$f":"IF(OR(E40741=\"\",ISBLANK(E40741)),\"\",VLOOKUP(E40741,Sheet2!A:F,2,FALSE))","v":""},{"$f":"IF(OR(E40741=\"\",ISBLANK(E40741)),\"\",VLOOKUP(E40741,Sheet2!A:G,4,FALSE))","v":""},"",{"$f":"IF(OR(E40741=\"\",ISBLANK(E40741)),\"\",VLOOKUP(E40741,Sheet2!A:H,3,FALSE))","v":""},null,{"$f":"IF(OR(E40741=\"\",ISBLANK(E40741)),\"\",VLOOKUP(E40741,Sheet2!A:G,6,FALSE))","v":""},""]
[{"$f":"IF(OR(E40776=\"\",ISBLANK(E40776)),\"\",VLOOKUP(E40776,Sheet2!A:F,2,FALSE))","v":""},{"$f":"IF(OR(E40776=\"\",ISBLANK(E40776)),\"\",VLOOKUP(E40776,Sheet2!A:G,4,FALSE))","v":""},"",{"$f":"IF(OR(E40776=\"\",ISBLANK(E40776)),\"\",VLOOKUP(E40776,Sheet2!A:H,3,FALSE))","v":""},null,{"$f":"IF(OR(E40776=\"\",ISBLANK(E40776)),\"\",VLOOKUP(E40776,Sheet2!A:G,6,FALSE))","v":""},""]
[{"$f":"IF(OR(E40791=\"\",ISBLANK(E40791)),\"\",VLOOKUP(E40791,Sheet2!A:F,2,FALSE))","v":""},{"$f":"IF(OR(E40791=\"\",ISBLANK(E40791)),\"\",VLOOKUP(E40791,Sheet2!A:G,4,FALSE))","v":""},"",{"$f":"IF(OR(E40791=\"\",ISBLANK(E40791)),\"\",VLOOKUP(E40791,Sheet2!A:H,3,FALSE))","v":""},null,{"$f":"IF(OR(E40791=\"\",ISBLANK(E40791)),\"\",VLOOKUP(E40791,Sheet2!A:G,6,FALSE))","v":""},""]
[{"$f":"IF(OR(E40811=\"\",ISBLANK(E40811)),\"\",VLOOKUP(E40811,Sheet2!A:F,2,FALSE))","v":""},{"$f":"IF(OR(E40811=\"\",ISBLANK(E40811)),\"\",VLOOKUP(E40811,Sheet2!A:G,4,FALSE))","v":""},"",{"$f":"IF(OR(E40811=\"\",ISBLANK(E40811)),\"\",VLOOKUP(E40811,Sheet2!A:H,3,FALSE))","v":""},null,{"$f":"IF(OR(E40811=\"\",ISBLANK(E40811)),\"\",VLOOKUP(E40811,Sheet2!A:G,6,FALSE))","v":""},""]
[{"$f":"IF(OR(E40836=\"\",ISBLANK(E40836)),\"\",VLOOKUP(E40836,Sheet2!A:F,2,FALSE))","v":""},{"$f":"IF(OR(E40836=\"\",ISBLANK(E40836)),\"\",VLOOKUP(E40836,Sheet2!A:G,4,FALSE))","v":""},"",{"$f":"IF(OR(E40836=\"\",ISBLANK(E40836)),\"\",VLOOKUP(E40836,Sheet2!A:H,3,FALSE))","v":""},null,{"$f":"IF(OR(E40836=\"\",ISBLANK(E40836)),\"\",VLOOKUP(E40836,Sheet2!A:G,6,FALSE))","v":""},""]
[{"$f":"IF(OR(E40855=\"\",ISBLANK(E40855)),\"\",VLOOKUP(E40855,Sheet2!A:F,2,FALSE))","v":""},{"$f":"IF(OR(E40855=\"\",ISBLANK(E40855)),\"\",VLOOKUP(E40855,Sheet2!A:G,4,FALSE))","v":""},"",{"$f":"IF(OR(E40855=\"\",ISBLANK(E40855)),\"\",VLOOKUP(E40855,Sheet2!A:H,3,FALSE))","v":""},null,{"$f":"IF(OR(E40855=\"\",ISBLANK(E40855)),\"\",VLOOKUP(E40855,Sheet2!A:G,6,FALSE))","v":""},""]
[{"$f":"IF(OR(E40879=\"\",ISBLANK(E40879)),\"\",VLOOKUP(E40879,Sheet2!A:F,2,FALSE))","v":""},{"$f":"IF(OR(E40879=\"\",ISBLANK(E40879)),\"\",VLOOKUP(E40879,Sheet2!A:G,4,FALSE))","v":""},"",{"$f":"IF(OR(E40879=\"\",ISBLANK(E40879)),\"\",VLOOKUP(E40879,Sheet2!A:H,3,FALSE))","v":""},null,{"$f":"IF(OR(E40879=\"\",ISBLANK(E40879)),\"\",VLOOKUP(E40879,Sheet2!A:G,6,FALSE))","v":""},""]
[{"$f":"IF(OR(E40905=\"\",ISBLANK(E40905)),\"\",VLOOKUP(E40905,Sheet2!A:F,2,FALSE))","v":""},{"$f":"IF(OR(E40905=\"\",ISBLANK(E40905)),\"\",VLOOKUP(E40905,Sheet2!A:G,4,FALSE))","v":""},"",{"$f":"IF(OR(E40905=\"\",ISBLANK(E40905)),\"\",VLOOKUP(E40905,Sheet2!A:H,3,FALSE))","v":""},null,{"$f":"IF(OR(E40905=\"\",ISBLANK(E40905)),\"\",VLOOKUP(E40905,Sheet2!A:G,6,FALSE))","v":""},""]
[{"$f":"IF(OR(E40938=\"\",ISBLANK(E40938)),\"\",VLOOKUP(E40938,Sheet2!A:F,2,FALSE))","v":""},{"$f":"IF(OR(E40938=\"\",ISBLANK(E40938)),\"\",VLOOKUP(E40938,Sheet2!A:G,4,FALSE))","v":""},"",{"$f":"IF(OR(E40938=\"\",ISBLANK(E40938)),\"\",VLOOKUP(E40938,Sheet2!A:H,3,FALSE))","v":""},null,{"$f":"IF(OR(E40938=\"\",ISBLANK(E40938)),\"\",VLOOKUP(E40938,Sheet2!A:G,6,FALSE))","v":""},""]
[{"$f":"IF(OR(E40971=\"\",ISBLANK(E40971)),\"\",VLOOKUP(E40971,Sheet2!A:F,2,FALSE))","v":""},{"$f":"IF(OR(E40971=\"\",ISBLANK(E40971)),\"\",VLOOKUP(E40971,Sheet2!A:G,4,FALSE))","v":""},"",{"$f":"IF(OR(E40971=\"\",ISBLANK(E40971)),\"\",VLOOKUP(E40971,Sheet2!A:H,3,FALSE))","v":""},null,{"$f":"IF(OR(E40971=\"\",ISBLANK(E40971)),\"\",VLOOKUP(E40971,Sheet2!A:G,6,FALSE))","v":""},""]
[{"$f":"IF(OR(E40994=\"\",ISBLANK(E40994)),\"\",VLOOKUP(E40994,Sheet2!A:F,2,FALSE))","v":""},{"$f":"IF(OR(E40994=\"\",ISBLANK(E40994)),\"\",VLOOKUP(E40994,Sheet2!A:G,4,FALSE))","v":""},"",{"$f":"IF(OR(E40994=\"\",ISBLANK(E40994)),\"\",VLOOKUP(E40994,Sheet2!A:H,3,FALSE))","v":""},null,{"$f":"IF(OR(E40994=\"\",ISBLANK(E40994)),\"\",VLOOKUP(E40994,Sheet2!A:G,6,FALSE))","v":""},""]
[{"$f":"IF(OR(E41006=\"\",ISBLANK(E41006)),\"\",VLOOKUP(E41006,Sheet2!A:F,2,FALSE))","v":""},{"$f":"IF(OR(E41006=\"\",ISBLANK(E41006)),\"\",VLOOKUP(E41006,Sheet2!A:G,4,FALSE))","v":""},"",{"$f":"IF(OR(E41006=\"\",ISBLANK(E41006)),\"\",VLOOKUP(E41006,Sheet2!A:H,3,FALSE))","v":""},null,{"$f":"IF(OR(E41006=\"\",ISBLANK(E41006)),\"\",VLOOKUP(E41006,Sheet2!A:G,6,FALSE))","v":""},""]
[{"$f":"IF(OR(E41031=\"\",ISBLANK(E41031)),\"\",VLOOKUP(E41031,Sheet2!A:F,2,FALSE))","v":""},{"$f":"IF(OR(E41031=\"\",ISBLANK(E41031)),\"\",VLOOKUP(E41031,Sheet2!A:G,4,FALSE))","v":""},"",{"$f":"IF(OR(E41031=\"\",ISBLANK(E41031)),\"\",VLOOKUP(E41031,Sheet2!A:H,3,FALSE))","v":""},null,{"$f":"IF(OR(E41031=\"\",ISBLANK(E41031)),\"\",VLOOKUP(E41031,Sheet2!A:G,6,FALSE))","v":""},""]
[{"$f":"IF(OR(E41058=\"\",ISBLANK(E41058)),\"\",VLOOKUP(E41058,Sheet2!A:F,2,FALSE))","v":""},{"$f":"IF(OR(E41058=\"\",ISBLANK(E41058)),\"\",VLOOKUP(E41058,Sheet2!A:G,4,FALSE))","v":""},"",{"$f":"IF(OR(E41058=\"\",ISBLANK(E41058)),\"\",VLOOKUP(E41058,Sheet2!A:H,3,FALSE))","v":""},null,{"$f":"IF(OR(E41058=\"\",ISBLANK(E41058)),\"\",VLOOKUP(E41058,Sheet2!A:G,6,FALSE))","v":""},""]
[{"$f":"IF(OR(E41074=\"\",ISBLANK(E41074)),\"\",VLOOKUP(E41074,Sheet2!A:F,2,FALSE))","v":""},{"$f":"IF(OR(E41074=\"\",ISBLANK(E41074)),\"\",VLOOKUP(E41074,Sheet2!A:G,4,FALSE))","v":""},"",{"$f":"IF(OR(E41074=\"\",ISBLANK(E41074)),\"\",VLOOKUP(E41074,Sheet2!A:H,3,FALSE))","v":""},null,{"$f":"IF(OR(E41074=\"\",ISBLANK(E41074)),\"\",VLOOKUP(E41074,Sheet2!A:G,6,FALSE))","v":""},""]
[{"$f":"IF(OR(E41108=\"\",ISBLANK(E41108)),\"\",VLOOKUP(E41108,Sheet2!A:F,2,FALSE))","v":""},{"$f":"IF(OR(E41108=\"\",ISBLANK(E41108)),\"\",VLOOKUP(E41108,Sheet2!A:G,4,FALSE))","v":""},"",{"$f":"IF(OR(E41108=\"\",ISBLANK(E41108)),\"\",VLOOKUP(E41108,Sheet2!A:H,3,FALSE))","v":""},null,{"$f":"IF(OR(E41108=\"\",ISBLANK(E41108)),\"\",VLOOKUP(E41108,Sheet2!A:G,6,FALSE))","v":""},""]
[{"$f":"IF(OR(E41133=\"\",ISBLANK(E41133)),\"\",VLOOKUP(E41133,Sheet2!A:F,2,FALSE))","v":""},{"$f":"IF(OR(E41133=\"\",ISBLANK(E41133)),\"\",VLOOKUP(E41133,Sheet2!A:G,4,FALSE))","v":""},"",{"$f":"IF(OR(E41133=\"\",ISBLANK(E41133)),\"\",VLOOKUP(E41133,Sheet2!A:H,3,FALSE))","v":""},null,{"$f":"IF(OR(E41133=\"\",ISBLANK(E41133)),\"\",VLOOKUP(E41133,Sheet2!A:G,6,FALSE))","v":""},""]
[{"$f":"IF(OR(E41158=\"\",ISBLANK(E41158)),\"\",VLOOKUP(E41158,Sheet2!A:F,2,FALSE))","v":""},{"$f":"IF(OR(E41158=\"\",ISBLANK(E41158)),\"\",VLOOKUP(E41158,Sheet2!A:G,4,FALSE))","v":""},"",{"$f":"IF(OR(E41158=\"\",ISBLANK(E41158)),\"\",VLOOKUP(E41158,Sheet2!A:H,3,FALSE))","v":""},null,{"$f":"IF(OR(E41158=\"\",ISBLANK(E41158)),\"\",VLOOKUP(E41158,Sheet2!A:G,6,FALSE))","v":""},""]
[{"$f":"IF(OR(E41172=\"\",ISBLANK(E41172)),\"\",VLOOKUP(E41172,Sheet2!A:F,2,FALSE))","v":""},{"$f":"IF(OR(E41172=\"\",ISBLANK(E41172)),\"\",VLOOKUP(E41172,Sheet2!A:G,4,FALSE))","v":""},"",{"$f":"IF(OR(E41172=\"\",ISBLANK(E41172)),\"\",VLOOKUP(E41172,Sheet2!A:H,3,FALSE))","v":""},null,{"$f":"IF(OR(E41172=\"\",ISBLANK(E41172)),\"\",VLOOKUP(E41172,Sheet2!A:G,6,FALSE))","v":""},""]
[{"$f":"IF(OR(E41201=\"\",ISBLANK(E41201)),\"\",VLOOKUP(E41201,Sheet2!A:F,2,FALSE))","v":""},{"$f":"IF(OR(E41201=\"\",ISBLANK(E41201)),\"\",VLOOKUP(E41201,Sheet2!A:G,4,FALSE))","v":""},"",{"$f":"IF(OR(E41201=\"\",ISBLANK(E41201)),\"\",VLOOKUP(E41201,Sheet2!A:H,3,FALSE))","v":""},null,{"$f":"IF(OR(E41201=\"\",ISBLANK(E41201)),\"\",VLOOKUP(E41201,Sheet2!A:G,6,FALSE))","v":""},""]
[{"$f":"IF(OR(E41222=\"\",ISBLANK(E41222)),\"\",VLOOKUP(E41222,Sheet2!A:F,2,FALSE))","v":""},{"$f":"IF(OR(E41222=\"\",ISBLANK(E41222)),\"\",VLOOKUP(E41222,Sheet2!A:G,4,FALSE))","v":""},"",{"$f":"IF(OR(E41222=\"\",ISBLANK(E41222)),\"\",VLOOKUP(E41222,Sheet2!A:H,3,FALSE))","v":""},null,{"$f":"IF(OR(E41222=\"\",ISBLANK(E41222)),\"\",VLOOKUP(E41222,Sheet2!A:G,6,FALSE))","v":""},""]
[{"$f":"IF(OR(E41260=\"\",ISBLANK(E41260)),\"\",VLOOKUP(E41260,Sheet2!A:F,2,FALSE))","v":""},{"$f":"IF(OR(E41260=\"\",ISBLANK(E41260)),\"\",VLOOKUP(E41260,Sheet2!A:G,4,FALSE))","v":""},"",{"$f":"IF(OR(E41260=\"\",ISBLANK(E41260)),\"\",VLOOKUP(E41260,Sheet2!A:H,3,FALSE))","v":""},null,{"$f":"IF(OR(E41260=\"\",ISBLANK(E41260)),\"\",VLOOKUP(E41260,Sheet2!A:G,6,FALSE))","v":""},""]
[{"$f":"IF(OR(E41269=\"\",ISBLANK(E41269)),\"\",VLOOKUP(E41269,Sheet2!A:F,2,FALSE))","v":""},{"$f":"IF(OR(E41269=\"\",ISBLANK(E41269)),\"\",VLOOKUP(E41269,Sheet2!A:G,4,FALSE))","v":""},"",{"$f":"IF(OR(E41269=\"\",ISBLANK(E41269)),\"\",VLOOKUP(E41269,Sheet2!A:H,3,FALSE))","v":""},null,{"$f":"IF(OR(E41269=\"\",ISBLANK(E41269)),\"\",VLOOKUP(E41269,Sheet2!A:G,6,FALSE))","v":""},""]
[{"$f":"IF(OR(E41311=\"\",ISBLANK(E41311)),\"\",VLOOKUP(E41311,Sheet2!A:F,2,FALSE))","v":""},{"$f":"IF(OR(E41311=\"\",ISBLANK(E41311)),\"\",VLOOKUP(E41311,Sheet2!A:G,4,FALSE))","v":""},"",{"$f":"IF(OR(E41311=\"\",ISBLANK(E41311)),\"\",VLOOKUP(E41311,Sheet2!A:H,3,FALSE))","v":""},null,{"$f":"IF(OR(E41311=\"\",ISBLANK(E41311)),\"\",VLOOKUP(E41311,Sheet2!A:G,6,FALSE))","v":""},""]
[{"$f":"IF(OR(E41328=\"\",ISBLANK(E41328)),\"\",VLOOKUP(E41328,Sheet2!A:F,2,FALSE))","v":""},{"$f":"IF(OR(E41328=\"\",ISBLANK(E41328)),\"\",VLOOKUP(E41328,Sheet2!A:G,4,FALSE))","v":""},"",{"$f":"IF(OR(E41328=\"\",ISBLANK(E41328)),\"\",VLOOKUP(E41328,Sheet2!A:H,3,FALSE))","v":""},null,{"$f":"IF(OR(E41328=\"\",ISBLANK(E41328)),\"\",VLOOKUP(E41328,Sheet2!A:G,6,FALSE))","v":""},""]
[{"$f":"IF(OR(E41361=\"\",ISBLANK(E41361)),\"\",VLOOKUP(E41361,Sheet2!A:F,2,FALSE))","v":""},{"$f":"IF(OR(E41361=\"\",ISBLANK(E41361)),\"\",VLOOKUP(E41361,Sheet2!A:G,4,FALSE))","v":""},"",{"$f":"IF(OR(E41361=\"\",ISBLANK(E41361)),\"\",VLOOKUP(E41361,Sheet2!A:H,3,FALSE))","v":""},null,{"$f":"IF(OR(E41361=\"\",ISBLANK(E41361)),\"\",VLOOKUP(E41361,Sheet2!A:G,6,FALSE))","v":""},""]
[{"$f":"IF(OR(E41387=\"\",ISBLANK(E41387)),\"\",VLOOKUP(E41387,Sheet2!A:F,2,FALSE))","v":""},{"$f":"IF(OR(E41387=\"\",ISBLANK(E41387)),\"\",VLOOKUP(E41387,Sheet2!A:G,4,FALSE))","v":""},"",{"$f":"IF(OR(E41387=\"\",ISBLANK(E41387)),\"\",VLOOKUP(E41387,Sheet2!A:H,3,FALSE))","v":""},null,{"$f":"IF(OR(E41387=\"\",ISBLANK(E41387)),\"\",VLOOKUP(E41387,Sheet2!A:G,6,FALSE))","v":""},""]
[{"$f":"IF(OR(E41396=\"\",ISBLANK(E41396)),\"\",VLOOKUP(E41396,Sheet2!A:F,2,FALSE))","v":""},{"$f":"IF(OR(E41396=\"\",ISBLANK(E41396)),\"\",VLOOKUP(E41396,Sheet2!A:G,4,FALSE))","v":""},"",{"$f":"IF(OR(E41396=\"\",ISBLANK(E41396)),\"\",VLOOKUP(E41396,Sheet2!A:H,3,FALSE))","v":""},null,{"$f":"IF(OR(E41396=\"\",ISBLANK(E41396)),\"\",VLOOKUP(E41396,Sheet2!A:G,6,FALSE))","v":""},""]
[{"$f":"IF(OR(E41425=\"\",ISBLANK(E41425)),\"\",VLOOKUP(E41425,Sheet2!A:F,2,FALSE))","v":""},{"$f":"IF(OR(E41425=\"\",ISBLANK(E41425)),\"\",VLOOKUP(E41425,Sheet2!A:G,4,FALSE))","v":""},"",{"$f":"IF(OR(E41425=\"\",ISBLANK(E41425)),\"\",VLOOKUP(E41425,Sheet2!A:H,3,FALSE))","v":""},null,{"$f":"IF(OR(E41425=\"\",ISBLANK(E41425)),\"\",VLOOKUP(E41425,Sheet2!A:G,6,FALSE))","v":""},""]
[{"$f":"IF(OR(E41455=\"\",ISBLANK(E41455)),\"\",VLOOKUP(E41455,Sheet2!A:F,2,FALSE))","v":""},{"$f":"IF(OR(E41455=\"\",ISBLANK(E41455)),\"\",VLOOKUP(E41455,Sheet2!A:G,4,FALSE))","v":""},"",{"$f":"IF(OR(E41455=\"\",ISBLANK(E41455)),\"\",VLOOKUP(E41455,Sheet2!A:H,3,FALSE))","v":""},null,{"$f":"IF(OR(E41455=\"\",ISBLANK(E41455)),\"\",VLOOKUP(E41455,Sheet2!A:G,6,FALSE))","v":""},""]
[{"$f":"IF(OR(E41480=\"\",ISBLANK(E41480)),\"\",VLOOKUP(E41480,Sheet2!A:F,2,FALSE))","v":""},{"$f":"IF(OR(E41480=\"\",ISBLANK(E41480)),\"\",VLOOKUP(E41480,Sheet2!A:G,4,FALSE))","v":""},"",{"$f":"IF(OR(E41480=\"\",ISBLANK(E41480)),\"\",VLOOKUP(E41480,Sheet2!A:H,3,FALSE))","v":""},null,{"$f":"IF(OR(E41480=\"\",ISBLANK(E41480)),\"\",VLOOKUP(E41480,Sheet2!A:G,6,FALSE))","v":""},""]
[{"$f":"IF(OR(E41489=\"\",ISBLANK(E41489)),\"\",VLOOKUP(E41489,Sheet2!A:F,2,FALSE))","v":""},{"$f":"IF(OR(E41489=\"\",ISBLANK(E41489)),\"\",VLOOKUP(E41489,Sheet2!A:G,4,FALSE))","v":""},"",{"$f":"IF(OR(E41489=\"\",ISBLANK(E41489)),\"\",VLOOKUP(E41489,Sheet2!A:H,3,FALSE))","v":""},null,{"$f":"IF(OR(E41489=\"\",ISBLANK(E41489)),\"\",VLOOKUP(E41489,Sheet2!A:G,6,FALSE))","v":""},""]
[{"$f":"IF(OR(E41523=\"\",ISBLANK(E41523)),\"\",VLOOKUP(E41523,Sheet2!A:F,2,FALSE))","v":""},{"$f":"IF(OR(E41523=\"\",ISBLANK(E41523)),\"\",VLOOKUP(E41523,Sheet2!A:G,4,FALSE))","v":""},"",{"$f":"IF(OR(E41523=\"\",ISBLANK(E41523)),\"\",VLOOKUP(E41523,Sheet2!A:H,3,FALSE))","v":""},null,{"$f":"IF(OR(E41523=\"\",ISBLANK(E41523)),\"\",VLOOKUP(E41523,Sheet2!A:G,6,FALSE))","v":""},""]
[{"$f":"IF(OR(E41539=\"\",ISBLANK(E41539)),\"\",VLOOKUP(E41539,Sheet2!A:F,2,FALSE))","v":""},{"$f":"IF(OR(E41539=\"\",ISBLANK(E41539)),\"\",VLOOKUP(E41539,Sheet2!A:G,4,FALSE))","v":""},{"$f":"IF(D41539=0,\"\",D41539)","v":""},{"$f":"IF(OR(E41539=\"\",ISBLANK(E41539)),\"\",VLOOKUP(E41539,Sheet2!A:H,3,FALSE))","v":""},null,{"$f":"IF(OR(E41539=\"\",ISBLANK(E41539)),\"\",VLOOKUP(E41539,Sheet2!A:G,6,FALSE))","v":""},{"$f":"IF(F41539=0,\"\",F41539)","v":""}]
[{"$f":"IF(OR(E41582=\"\",ISBLANK(E41582)),\"\",VLOOKUP(E41582,Sheet2!A:F,2,FALSE))","v":""},{"$f":"IF(OR(E41582=\"\",ISBLANK(E41582)),\"\",VLOOKUP(E41582,Sheet2!A:G,4,FALSE))","v":""},"",{"$f":"IF(OR(E41582=\"\",ISBLANK(E41582)),\"\",VLOOKUP(E41582,Sheet2!A:H,3,FALSE))","v":""},null,{"$f":"IF(OR(E41582=\"\",ISBLANK(E41582)),\"\",VLOOKUP(E41582,Sheet2!A:G,6,FALSE))","v":""},""]
[{"$f":"IF(OR(E41591=\"\",ISBLANK(E41591)),\"\",VLOOKUP(E41591,Sheet2!A:F,2,FALSE))","v":""},{"$f":"IF(OR(E41591=\"\",ISBLANK(E41591)),\"\",VLOOKUP(E41591,Sheet2!A:G,4,FALSE))","v":""},"",{"$f":"IF(OR(E41591=\"\",ISBLANK(E41591)),\"\",VLOOKUP(E41591,Sheet2!A:H,3,FALSE))","v":""},null,{"$f":"IF(OR(E41591=\"\",ISBLANK(E41591)),\"\",VLOOKUP(E41591,Sheet2!A:G,6,FALSE))","v":""},""]
[{"$f":"IF(OR(E41628=\"\",ISBLANK(E41628)),\"\",VLOOKUP(E41628,Sheet2!A:F,2,FALSE))","v":""},{"$f":"IF(OR(E41628=\"\",ISBLANK(E41628)),\"\",VLOOKUP(E41628,Sheet2!A:G,4,FALSE))","v":""},"",{"$f":"IF(OR(E41628=\"\",ISBLANK(E41628)),\"\",VLOOKUP(E41628,Sheet2!A:H,3,FALSE))","v":""},null,{"$f":"IF(OR(E41628=\"\",ISBLANK(E41628)),\"\",VLOOKUP(E41628,Sheet2!A:G,6,FALSE))","v":""},""]
[{"$f":"IF(OR(E41650=\"\",ISBLANK(E41650)),\"\",VLOOKUP(E41650,Sheet2!A:F,2,FALSE))","v":""},{"$f":"IF(OR(E41650=\"\",ISBLANK(E41650)),\"\",VLOOKUP(E41650,Sheet2!A:G,4,FALSE))","v":""},"",{"$f":"IF(OR(E41650=\"\",ISBLANK(E41650)),\"\",VLOOKUP(E41650,Sheet2!A:H,3,FALSE))","v":""},null,{"$f":"IF(OR(E41650=\"\",ISBLANK(E41650)),\"\",VLOOKUP(E41650,Sheet2!A:G,6,FALSE))","v":""},""]
[{"$f":"IF(OR(E41678=\"\",ISBLANK(E41678)),\"\",VLOOKUP(E41678,Sheet2!A:F,2,FALSE))","v":""},{"$f":"IF(OR(E41678=\"\",ISBLANK(E41678)),\"\",VLOOKUP(E41678,Sheet2!A:G,4,FALSE))","v":""},"",{"$f":"IF(OR(E41678=\"\",ISBLANK(E41678)),\"\",VLOOKUP(E41678,Sheet2!A:H,3,FALSE))","v":""},null,{"$f":"IF(OR(E41678=\"\",ISBLANK(E41678)),\"\",VLOOKUP(E41678,Sheet2!A:G,6,FALSE))","v":""},""]
[{"$f":"IF(OR(E41685=\"\",ISBLANK(E41685)),\"\",VLOOKUP(E41685,Sheet2!A:F,2,FALSE))","v":""},{"$f":"IF(OR(E41685=\"\",ISBLANK(E41685)),\"\",VLOOKUP(E41685,Sheet2!A:G,4,FALSE))","v":""},"",{"$f":"IF(OR(E41685=\"\",ISBLANK(E41685)),\"\",VLOOKUP(E41685,Sheet2!A:H,3,FALSE))","v":""},null,{"$f":"IF(OR(E41685=\"\",ISBLANK(E41685)),\"\",VLOOKUP(E41685,Sheet2!A:G,6,FALSE))","v":""},""]
[{"$f":"IF(OR(E41718=\"\",ISBLANK(E41718)),\"\",VLOOKUP(E41718,Sheet2!A:F,2,FALSE))","v":""},{"$f":"IF(OR(E41718=\"\",ISBLANK(E41718)),\"\",VLOOKUP(E41718,Sheet2!A:G,4,FALSE))","v":""},"",{"$f":"IF(OR(E41718=\"\",ISBLANK(E41718)),\"\",VLOOKUP(E41718,Sheet2!A:H,3,FALSE))","v":""},null,{"$f":"IF(OR(E41718=\"\",ISBLANK(E41718)),\"\",VLOOKUP(E41718,Sheet2!A:G,6,FALSE))","v":""},""]
[{"$f":"IF(OR(E41742=\"\",ISBLANK(E41742)),\"\",VLOOKUP(E41742,Sheet2!A:F,2,FALSE))","v":""},{"$f":"IF(OR(E41742=\"\",ISBLANK(E41742)),\"\",VLOOKUP(E41742,Sheet2!A:G,4,FALSE))","v":""},"",{"$f":"IF(OR(E41742=\"\",ISBLANK(E41742)),\"\",VLOOKUP(E41742,Sheet2!A:H,3,FALSE))","v":""},null,{"$f":"IF(OR(E41742=\"\",ISBLANK(E41742)),\"\",VLOOKUP(E41742,Sheet2!A:G,6,FALSE))","v":""},""]
[{"$f":"IF(OR(E41777=\"\",ISBLANK(E41777)),\"\",VLOOKUP(E41777,Sheet2!A:F,2,FALSE))","v":""},{"$f":"IF(OR(E41777=\"\",ISBLANK(E41777)),\"\",VLOOKUP(E41777,Sheet2!A:G,4,FALSE))","v":""},"",{"$f":"IF(OR(E41777=\"\",ISBLANK(E41777)),\"\",VLOOKUP(E41777,Sheet2!A:H,3,FALSE))","v":""},null,{"$f":"IF(OR(E41777=\"\",ISBLANK(E41777)),\"\",VLOOKUP(E41777,Sheet2!A:G,6,FALSE))","v":""},""]
[{"$f":"IF(OR(E41796=\"\",ISBLANK(E41796)),\"\",VLOOKUP(E41796,Sheet2!A:F,2,FALSE))","v":""},{"$f":"IF(OR(E41796=\"\",ISBLANK(E41796)),\"\",VLOOKUP(E41796,Sheet2!A:G,4,FALSE))","v":""},"",{"$f":"IF(OR(E41796=\"\",ISBLANK(E41796)),\"\",VLOOKUP(E41796,Sheet2!A:H,3,FALSE))","v":""},null,{"$f":"IF(OR(E41796=\"\",ISBLANK(E41796)),\"\",VLOOKUP(E41796,Sheet2!A:G,6,FALSE))","v":""},""]
[{"$f":"IF(OR(E41812=\"\",ISBLANK(E41812)),\"\",VLOOKUP(E41812,Sheet2!A:F,2,FALSE))","v":""},{"$f":"IF(OR(E41812=\"\",ISBLANK(E41812)),\"\",VLOOKUP(E41812,Sheet2!A:G,4,FALSE))","v":""},"",{"$f":"IF(OR(E41812=\"\",ISBLANK(E41812)),\"\",VLOOKUP(E41812,Sheet2!A:H,3,FALSE))","v":""},null,{"$f":"IF(OR(E41812=\"\",ISBLANK(E41812)),\"\",VLOOKUP(E41812,Sheet2!A:G,6,FALSE))","v":""},""]
[{"$f":"IF(OR(E41845=\"\",ISBLANK(E41845)),\"\",VLOOKUP(E41845,Sheet2!A:F,2,FALSE))","v":""},{"$f":"IF(OR(E41845=\"\",ISBLANK(E41845)),\"\",VLOOKUP(E41845,Sheet2!A:G,4,FALSE))","v":""},"",{"$f":"IF(OR(E41845=\"\",ISBLANK(E41845)),\"\",VLOOKUP(E41845,Sheet2!A:H,3,FALSE))","v":""},null,{"$f":"IF(OR(E41845=\"\",ISBLANK(E41845)),\"\",VLOOKUP(E41845,Sheet2!A:G,6,FALSE))","v":""},""]
[{"$f":"IF(OR(E41856=\"\",ISBLANK(E41856)),\"\",VLOOKUP(E41856,Sheet2!A:F,2,FALSE))","v":""},{"$f":"IF(OR(E41856=\"\",ISBLANK(E41856)),\"\",VLOOKUP(E41856,Sheet2!A:G,4,FALSE))","v":""},"",{"$f":"IF(OR(E41856=\"\",ISBLANK(E41856)),\"\",VLOOKUP(E41856,Sheet2!A:H,3,FALSE))","v":""},null,{"$f":"IF(OR(E41856=\"\",ISBLANK(E41856)),\"\",VLOOKUP(E41856,Sheet2!A:G,6,FALSE))","v":""},""]
[{"$f":"IF(OR(E41880=\"\",ISBLANK(E41880)),\"\",VLOOKUP(E41880,Sheet2!A:F,2,FALSE))","v":""},{"$f":"IF(OR(E41880=\"\",ISBLANK(E41880)),\"\",VLOOKUP(E41880,Sheet2!A:G,4,FALSE))","v":""},"",{"$f":"IF(OR(E41880=\"\",ISBLANK(E41880)),\"\",VLOOKUP(E41880,Sheet2!A:H,3,FALSE))","v":""},null,{"$f":"IF(OR(E41880=\"\",ISBLANK(E41880)),\"\",VLOOKUP(E41880,Sheet2!A:G,6,FALSE))","v":""},""]
[{"$f":"IF(OR(E41913=\"\",ISBLANK(E41913)),\"\",VLOOKUP(E41913,Sheet2!A:F,2,FALSE))","v":""},{"$f":"IF(OR(E41913=\"\",ISBLANK(E41913)),\"\",VLOOKUP(E41913,Sheet2!A:G,4,FALSE))","v":""},"",{"$f":"IF(OR(E41913=\"\",ISBLANK(E41913)),\"\",VLOOKUP(E41913,Sheet2!A:H,3,FALSE))","v":""},null,{"$f":"IF(OR(E41913=\"\",ISBLANK(E41913)),\"\",VLOOKUP(E41913,Sheet2!A:G,6,FALSE))","v":""},""]
[{"$f":"IF(OR(E41945=\"\",ISBLANK(E41945)),\"\",VLOOKUP(E41945,Sheet2!A:F,2,FALSE))","v":""},{"$f":"IF(OR(E41945=\"\",ISBLANK(E41945)),\"\",VLOOKUP(E41945,Sheet2!A:G,4,FALSE))","v":""},"",{"$f":"IF(OR(E41945=\"\",ISBLANK(E41945)),\"\",VLOOKUP(E41945,Sheet2!A:H,3,FALSE))","v":""},null,{"$f":"IF(OR(E41945=\"\",ISBLANK(E41945)),\"\",VLOOKUP(E41945,Sheet2!A:G,6,FALSE))","v":""},""]
[{"$f":"IF(OR(E41972=\"\",ISBLANK(E41972)),\"\",VLOOKUP(E41972,Sheet2!A:F,2,FALSE))","v":""},{"$f":"IF(OR(E41972=\"\",ISBLANK(E41972)),\"\",VLOOKUP(E41972,Sheet2!A:G,4,FALSE))","v":""},"",{"$f":"IF(OR(E41972=\"\",ISBLANK(E41972)),\"\",VLOOKUP(E41972,Sheet2!A:H,3,FALSE))","v":""},null,{"$f":"IF(OR(E41972=\"\",ISBLANK(E41972)),\"\",VLOOKUP(E41972,Sheet2!A:G,6,FALSE))","v":""},""]
[{"$f":"IF(OR(E41995=\"\",ISBLANK(E41995)),\"\",VLOOKUP(E41995,Sheet2!A:F,2,FALSE))","v":""},{"$f":"IF(OR(E41995=\"\",ISBLANK(E41995)),\"\",VLOOKUP(E41995,Sheet2!A:G,4,FALSE))","v":""},"",{"$f":"IF(OR(E41995=\"\",ISBLANK(E41995)),\"\",VLOOKUP(E41995,Sheet2!A:H,3,FALSE))","v":""},null,{"$f":"IF(OR(E41995=\"\",ISBLANK(E41995)),\"\",VLOOKUP(E41995,Sheet2!A:G,6,FALSE))","v":""},""]
[{"$f":"IF(OR(E42007=\"\",ISBLANK(E42007)),\"\",VLOOKUP(E42007,Sheet2!A:F,2,FALSE))","v":""},{"$f":"IF(OR(E42007=\"\",ISBLANK(E42007)),\"\",VLOOKUP(E42007,Sheet2!A:G,4,FALSE))","v":""},"",{"$f":"IF(OR(E42007=\"\",ISBLANK(E42007)),\"\",VLOOKUP(E42007,Sheet2!A:H,3,FALSE))","v":""},null,{"$f":"IF(OR(E42007=\"\",ISBLANK(E42007)),\"\",VLOOKUP(E42007,Sheet2!A:G,6,FALSE))","v":""},""]
[{"$f":"IF(OR(E42040=\"\",ISBLANK(E42040)),\"\",VLOOKUP(E42040,Sheet2!A:F,2,FALSE))","v":""},{"$f":"IF(OR(E42040=\"\",ISBLANK(E42040)),\"\",VLOOKUP(E42040,Sheet2!A:G,4,FALSE))","v":""},"",{"$f":"IF(OR(E42040=\"\",ISBLANK(E42040)),\"\",VLOOKUP(E42040,Sheet2!A:H,3,FALSE))","v":""},null,{"$f":"IF(OR(E42040=\"\",ISBLANK(E42040)),\"\",VLOOKUP(E42040,Sheet2!A:G,6,FALSE))","v":""},""]
[{"$f":"IF(OR(E42059=\"\",ISBLANK(E42059)),\"\",VLOOKUP(E42059,Sheet2!A:F,2,FALSE))","v":""},{"$f":"IF(OR(E42059=\"\",ISBLANK(E42059)),\"\",VLOOKUP(E42059,Sheet2!A:G,4,FALSE))","v":""},"",{"$f":"IF(OR(E42059=\"\",ISBLANK(E42059)),\"\",VLOOKUP(E42059,Sheet2!A:H,3,FALSE))","v":""},null,{"$f":"IF(OR(E42059=\"\",ISBLANK(E42059)),\"\",VLOOKUP(E42059,Sheet2!A:G,6,FALSE))","v":""},""]
[{"$f":"IF(OR(E42075=\"\",ISBLANK(E42075)),\"\",VLOOKUP(E42075,Sheet2!A:F,2,FALSE))","v":""},{"$f":"IF(OR(E42075=\"\",ISBLANK(E42075)),\"\",VLOOKUP(E42075,Sheet2!A:G,4,FALSE))","v":""},"",{"$f":"IF(OR(E42075=\"\",ISBLANK(E42075)),\"\",VLOOKUP(E42075,Sheet2!A:H,3,FALSE))","v":""},null,{"$f":"IF(OR(E42075=\"\",ISBLANK(E42075)),\"\",VLOOKUP(E42075,Sheet2!A:G,6,FALSE))","v":""},""]
[{"$f":"IF(OR(E42113=\"\",ISBLANK(E42113)),\"\",VLOOKUP(E42113,Sheet2!A:F,2,FALSE))","v":""},{"$f":"IF(OR(E42113=\"\",ISBLANK(E42113)),\"\",VLOOKUP(E42113,Sheet2!A:G,4,FALSE))","v":""},"",{"$f":"IF(OR(E42113=\"\",ISBLANK(E42113)),\"\",VLOOKUP(E42113,Sheet2!A:H,3,FALSE))","v":""},null,{"$f":"IF(OR(E42113=\"\",ISBLANK(E42113)),\"\",VLOOKUP(E42113,Sheet2!A:G,6,FALSE))","v":""},""]
[{"$f":"IF(OR(E42134=\"\",ISBLANK(E42134)),\"\",VLOOKUP(E42134,Sheet2!A:F,2,FALSE))","v":""},{"$f":"IF(OR(E42134=\"\",ISBLANK(E42134)),\"\",VLOOKUP(E42134,Sheet2!A:G,4,FALSE))","v":""},"",{"$f":"IF(OR(E42134=\"\",ISBLANK(E42134)),\"\",VLOOKUP(E42134,Sheet2!A:H,3,FALSE))","v":""},null,{"$f":"IF(OR(E42134=\"\",ISBLANK(E42134)),\"\",VLOOKUP(E42134,Sheet2!A:G,6,FALSE))","v":""},""]
[{"$f":"IF(OR(E42167=\"\",ISBLANK(E42167)),\"\",VLOOKUP(E42167,Sheet2!A:F,2,FALSE))","v":""},{"$f":"IF(OR(E42167=\"\",ISBLANK(E42167)),\"\",VLOOKUP(E42167,Sheet2!A:G,4,FALSE))","v":""},"",{"$f":"IF(OR(E42167=\"\",ISBLANK(E42167)),\"\",VLOOKUP(E42167,Sheet2!A:H,3,FALSE))","v":""},null,{"$f":"IF(OR(E42167=\"\",ISBLANK(E42167)),\"\",VLOOKUP(E42167,Sheet2!A:G,6,FALSE))","v":""},""]
[{"$f":"IF(OR(E42173=\"\",ISBLANK(E42173)),\"\",VLOOKUP(E42173,Sheet2!A:F,2,FALSE))","v":""},{"$f":"IF(OR(E42173=\"\",ISBLANK(E42173)),\"\",VLOOKUP(E42173,Sheet2!A:G,4,FALSE))","v":""},"",{"$f":"IF(OR(E42173=\"\",ISBLANK(E42173)),\"\",VLOOKUP(E42173,Sheet2!A:H,3,FALSE))","v":""},null,{"$f":"IF(OR(E42173=\"\",ISBLANK(E42173)),\"\",VLOOKUP(E42173,Sheet2!A:G,6,FALSE))","v":""},""]
[{"$f":"IF(OR(E42202=\"\",ISBLANK(E42202)),\"\",VLOOKUP(E42202,Sheet2!A:F,2,FALSE))","v":""},{"$f":"IF(OR(E42202=\"\",ISBLANK(E42202)),\"\",VLOOKUP(E42202,Sheet2!A:G,4,FALSE))","v":""},"",{"$f":"IF(OR(E42202=\"\",ISBLANK(E42202)),\"\",VLOOKUP(E42202,Sheet2!A:H,3,FALSE))","v":""},null,{"$f":"IF(OR(E42202=\"\",ISBLANK(E42202)),\"\",VLOOKUP(E42202,Sheet2!A:G,6,FALSE))","v":""},""]
[{"$f":"IF(OR(E42227=\"\",ISBLANK(E42227)),\"\",VLOOKUP(E42227,Sheet2!A:F,2,FALSE))","v":""},{"$f":"IF(OR(E42227=\"\",ISBLANK(E42227)),\"\",VLOOKUP(E42227,Sheet2!A:G,4,FALSE))","v":""},"",{"$f":"IF(OR(E42227=\"\",ISBLANK(E42227)),\"\",VLOOKUP(E42227,Sheet2!A:H,3,FALSE))","v":""},null,{"$f":"IF(OR(E42227=\"\",ISBLANK(E42227)),\"\",VLOOKUP(E42227,Sheet2!A:G,6,FALSE))","v":""},""]
[{"$f":"IF(OR(E42261=\"\",ISBLANK(E42261)),\"\",VLOOKUP(E42261,Sheet2!A:F,2,FALSE))","v":""},{"$f":"IF(OR(E42261=\"\",ISBLANK(E42261)),\"\",VLOOKUP(E42261,Sheet2!A:G,4,FALSE))","v":""},"",{"$f":"IF(OR(E42261=\"\",ISBLANK(E42261)),\"\",VLOOKUP(E42261,Sheet2!A:H,3,FALSE))","v":""},null,{"$f":"IF(OR(E42261=\"\",ISBLANK(E42261)),\"\",VLOOKUP(E42261,Sheet2!A:G,6,FALSE))","v":""},""]
[{"$f":"IF(OR(E42270=\"\",ISBLANK(E42270)),\"\",VLOOKUP(E42270,Sheet2!A:F,2,FALSE))","v":""},{"$f":"IF(OR(E42270=\"\",ISBLANK(E42270)),\"\",VLOOKUP(E42270,Sheet2!A:G,4,FALSE))","v":""},"",{"$f":"IF(OR(E42270=\"\",ISBLANK(E42270)),\"\",VLOOKUP(E42270,Sheet2!A:H,3,FALSE))","v":""},null,{"$f":"IF(OR(E42270=\"\",ISBLANK(E42270)),\"\",VLOOKUP(E42270,Sheet2!A:G,6,FALSE))","v":""},""]
[{"$f":"IF(OR(E42312=\"\",ISBLANK(E42312)),\"\",VLOOKUP(E42312,Sheet2!A:F,2,FALSE))","v":""},{"$f":"IF(OR(E42312=\"\",ISBLANK(E42312)),\"\",VLOOKUP(E42312,Sheet2!A:G,4,FALSE))","v":""},"",{"$f":"IF(OR(E42312=\"\",ISBLANK(E42312)),\"\",VLOOKUP(E42312,Sheet2!A:H,3,FALSE))","v":""},null,{"$f":"IF(OR(E42312=\"\",ISBLANK(E42312)),\"\",VLOOKUP(E42312,Sheet2!A:G,6,FALSE))","v":""},""]
[{"$f":"IF(OR(E42329=\"\",ISBLANK(E42329)),\"\",VLOOKUP(E42329,Sheet2!A:F,2,FALSE))","v":""},{"$f":"IF(OR(E42329=\"\",ISBLANK(E42329)),\"\",VLOOKUP(E42329,Sheet2!A:G,4,FALSE))","v":""},"",{"$f":"IF(OR(E42329=\"\",ISBLANK(E42329)),\"\",VLOOKUP(E42329,Sheet2!A:H,3,FALSE))","v":""},null,{"$f":"IF(OR(E42329=\"\",ISBLANK(E42329)),\"\",VLOOKUP(E42329,Sheet2!A:G,6,FALSE))","v":""},""]
[{"$f":"IF(OR(E42362=\"\",ISBLANK(E42362)),\"\",VLOOKUP(E42362,Sheet2!A:F,2,FALSE))","v":""},{"$f":"IF(OR(E42362=\"\",ISBLANK(E42362)),\"\",VLOOKUP(E42362,Sheet2!A:G,4,FALSE))","v":""},"",{"$f":"IF(OR(E42362=\"\",ISBLANK(E42362)),\"\",VLOOKUP(E42362,Sheet2!A:H,3,FALSE))","v":""},null,{"$f":"IF(OR(E42362=\"\",ISBLANK(E42362)),\"\",VLOOKUP(E42362,Sheet2!A:G,6,FALSE))","v":""},""]
[{"$f":"IF(OR(E42376=\"\",ISBLANK(E42376)),\"\",VLOOKUP(E42376,Sheet2!A:F,2,FALSE))","v":""},{"$f":"IF(OR(E42376=\"\",ISBLANK(E42376)),\"\",VLOOKUP(E42376,Sheet2!A:G,4,FALSE))","v":""},"",{"$f":"IF(OR(E42376=\"\",ISBLANK(E42376)),\"\",VLOOKUP(E42376,Sheet2!A:H,3,FALSE))","v":""},null,{"$f":"IF(OR(E42376=\"\",ISBLANK(E42376)),\"\",VLOOKUP(E42376,Sheet2!A:G,6,FALSE))","v":""},""]
[{"$f":"IF(OR(E42397=\"\",ISBLANK(E42397)),\"\",VLOOKUP(E42397,Sheet2!A:F,2,FALSE))","v":""},{"$f":"IF(OR(E42397=\"\",ISBLANK(E42397)),\"\",VLOOKUP(E42397,Sheet2!A:G,4,FALSE))","v":""},"",{"$f":"IF(OR(E42397=\"\",ISBLANK(E42397)),\"\",VLOOKUP(E42397,Sheet2!A:H,3,FALSE))","v":""},null,{"$f":"IF(OR(E42397=\"\",ISBLANK(E42397)),\"\",VLOOKUP(E42397,Sheet2!A:G,6,FALSE))","v":""},""]
[{"$f":"IF(OR(E42430=\"\",ISBLANK(E42430)),\"\",VLOOKUP(E42430,Sheet2!A:F,2,FALSE))","v":""},{"$f":"IF(OR(E42430=\"\",ISBLANK(E42430)),\"\",VLOOKUP(E42430,Sheet2!A:G,4,FALSE))","v":""},"",{"$f":"IF(OR(E42430=\"\",ISBLANK(E42430)),\"\",VLOOKUP(E42430,Sheet2!A:H,3,FALSE))","v":""},null,{"$f":"IF(OR(E42430=\"\",ISBLANK(E42430)),\"\",VLOOKUP(E42430,Sheet2!A:G,6,FALSE))","v":""},""]
[{"$f":"IF(OR(E42456=\"\",ISBLANK(E42456)),\"\",VLOOKUP(E42456,Sheet2!A:F,2,FALSE))","v":""},{"$f":"IF(OR(E42456=\"\",ISBLANK(E42456)),\"\",VLOOKUP(E42456,Sheet2!A:G,4,FALSE))","v":""},"",{"$f":"IF(OR(E42456=\"\",ISBLANK(E42456)),\"\",VLOOKUP(E42456,Sheet2!A:H,3,FALSE))","v":""},null,{"$f":"IF(OR(E42456=\"\",ISBLANK(E42456)),\"\",VLOOKUP(E42456,Sheet2!A:G,6,FALSE))","v":""},""]
[{"$f":"IF(OR(E42465=\"\",ISBLANK(E42465)),\"\",VLOOKUP(E42465,Sheet2!A:F,2,FALSE))","v":""},{"$f":"IF(OR(E42465=\"\",ISBLANK(E42465)),\"\",VLOOKUP(E42465,Sheet2!A:G,4,FALSE))","v":""},"",{"$f":"IF(OR(E42465=\"\",ISBLANK(E42465)),\"\",VLOOKUP(E42465,Sheet2!A:H,3,FALSE))","v":""},null,{"$f":"IF(OR(E42465=\"\",ISBLANK(E42465)),\"\",VLOOKUP(E42465,Sheet2!A:G,6,FALSE))","v":""},""]
[{"$f":"IF(OR(E42490=\"\",ISBLANK(E42490)),\"\",VLOOKUP(E42490,Sheet2!A:F,2,FALSE))","v":""},{"$f":"IF(OR(E42490=\"\",ISBLANK(E42490)),\"\",VLOOKUP(E42490,Sheet2!A:G,4,FALSE))","v":""},"",{"$f":"IF(OR(E42490=\"\",ISBLANK(E42490)),\"\",VLOOKUP(E42490,Sheet2!A:H,3,FALSE))","v":""},null,{"$f":"IF(OR(E42490=\"\",ISBLANK(E42490)),\"\",VLOOKUP(E42490,Sheet2!A:G,6,FALSE))","v":""},""]
[{"$f":"IF(OR(E42524=\"\",ISBLANK(E42524)),\"\",VLOOKUP(E42524,Sheet2!A:F,2,FALSE))","v":""},{"$f":"IF(OR(E42524=\"\",ISBLANK(E42524)),\"\",VLOOKUP(E42524,Sheet2!A:G,4,FALSE))","v":""},"",{"$f":"IF(OR(E42524=\"\",ISBLANK(E42524)),\"\",VLOOKUP(E42524,Sheet2!A:H,3,FALSE))","v":""},null,{"$f":"IF(OR(E42524=\"\",ISBLANK(E42524)),\"\",VLOOKUP(E42524,Sheet2!A:G,6,FALSE))","v":""},""]
[{"$f":"IF(OR(E42544=\"\",ISBLANK(E42544)),\"\",VLOOKUP(E42544,Sheet2!A:F,2,FALSE))","v":""},{"$f":"IF(OR(E42544=\"\",ISBLANK(E42544)),\"\",VLOOKUP(E42544,Sheet2!A:G,4,FALSE))","v":""},"",{"$f":"IF(OR(E42544=\"\",ISBLANK(E42544)),\"\",VLOOKUP(E42544,Sheet2!A:H,3,FALSE))","v":""},null,{"$f":"IF(OR(E42544=\"\",ISBLANK(E42544)),\"\",VLOOKUP(E42544,Sheet2!A:G,6,FALSE))","v":""},""]
[{"$f":"IF(OR(E42559=\"\",ISBLANK(E42559)),\"\",VLOOKUP(E42559,Sheet2!A:F,2,FALSE))","v":""},{"$f":"IF(OR(E42559=\"\",ISBLANK(E42559)),\"\",VLOOKUP(E42559,Sheet2!A:G,4,FALSE))","v":""},"",{"$f":"IF(OR(E42559=\"\",ISBLANK(E42559)),\"\",VLOOKUP(E42559,Sheet2!A:H,3,FALSE))","v":""},null,{"$f":"IF(OR(E42559=\"\",ISBLANK(E42559)),\"\",VLOOKUP(E42559,Sheet2!A:G,6,FALSE))","v":""},""]
[{"$f":"IF(OR(E42592=\"\",ISBLANK(E42592)),\"\",VLOOKUP(E42592,Sheet2!A:F,2,FALSE))","v":""},{"$f":"IF(OR(E42592=\"\",ISBLANK(E42592)),\"\",VLOOKUP(E42592,Sheet2!A:G,4,FALSE))","v":""},"",{"$f":"IF(OR(E42592=\"\",ISBLANK(E42592)),\"\",VLOOKUP(E42592,Sheet2!A:H,3,FALSE))","v":""},null,{"$f":"IF(OR(E42592=\"\",ISBLANK(E42592)),\"\",VLOOKUP(E42592,Sheet2!A:G,6,FALSE))","v":""},""]
[{"$f":"IF(OR(E42608=\"\",ISBLANK(E42608)),\"\",VLOOKUP(E42608,Sheet2!A:F,2,FALSE))","v":""},{"$f":"IF(OR(E42608=\"\",ISBLANK(E42608)),\"\",VLOOKUP(E42608,Sheet2!A:G,4,FALSE))","v":""},"",{"$f":"IF(OR(E42608=\"\",ISBLANK(E42608)),\"\",VLOOKUP(E42608,Sheet2!A:H,3,FALSE))","v":""},null,{"$f":"IF(OR(E42608=\"\",ISBLANK(E42608)),\"\",VLOOKUP(E42608,Sheet2!A:G,6,FALSE))","v":""},""]
[{"$f":"IF(OR(E42651=\"\",ISBLANK(E42651)),\"\",VLOOKUP(E42651,Sheet2!A:F,2,FALSE))","v":""},{"$f":"IF(OR(E42651=\"\",ISBLANK(E42651)),\"\",VLOOKUP(E42651,Sheet2!A:G,4,FALSE))","v":""},"",{"$f":"IF(OR(E42651=\"\",ISBLANK(E42651)),\"\",VLOOKUP(E42651,Sheet2!A:H,3,FALSE))","v":""},null,{"$f":"IF(OR(E42651=\"\",ISBLANK(E42651)),\"\",VLOOKUP(E42651,Sheet2!A:G,6,FALSE))","v":""},""]
[{"$f":"IF(OR(E42658=\"\",ISBLANK(E42658)),\"\",VLOOKUP(E42658,Sheet2!A:F,2,FALSE))","v":""},{"$f":"IF(OR(E42658=\"\",ISBLANK(E42658)),\"\",VLOOKUP(E42658,Sheet2!A:G,4,FALSE))","v":""},"",{"$f":"IF(OR(E42658=\"\",ISBLANK(E42658)),\"\",VLOOKUP(E42658,Sheet2!A:H,3,FALSE))","v":""},null,{"$f":"IF(OR(E42658=\"\",ISBLANK(E42658)),\"\",VLOOKUP(E42658,Sheet2!A:G,6,FALSE))","v":""},""]
[{"$f":"IF(OR(E42686=\"\",ISBLANK(E42686)),\"\",VLOOKUP(E42686,Sheet2!A:F,2,FALSE))","v":""},{"$f":"IF(OR(E42686=\"\",ISBLANK(E42686)),\"\",VLOOKUP(E42686,Sheet2!A:G,4,FALSE))","v":""},"",{"$f":"IF(OR(E42686=\"\",ISBLANK(E42686)),\"\",VLOOKUP(E42686,Sheet2!A:H,3,FALSE))","v":""},null,{"$f":"IF(OR(E42686=\"\",ISBLANK(E42686)),\"\",VLOOKUP(E42686,Sheet2!A:G,6,FALSE))","v":""},""]
[{"$f":"IF(OR(E42719=\"\",ISBLANK(E42719)),\"\",VLOOKUP(E42719,Sheet2!A:F,2,FALSE))","v":""},{"$f":"IF(OR(E42719=\"\",ISBLANK(E42719)),\"\",VLOOKUP(E42719,Sheet2!A:G,4,FALSE))","v":""},"",{"$f":"IF(OR(E42719=\"\",ISBLANK(E42719)),\"\",VLOOKUP(E42719,Sheet2!A:H,3,FALSE))","v":""},null,{"$f":"IF(OR(E42719=\"\",ISBLANK(E42719)),\"\",VLOOKUP(E42719,Sheet2!A:G,6,FALSE))","v":""},""]
[{"$f":"IF(OR(E42747=\"\",ISBLANK(E42747)),\"\",VLOOKUP(E42747,Sheet2!A:F,2,FALSE))","v":""},{"$f":"IF(OR(E42747=\"\",ISBLANK(E42747)),\"\",VLOOKUP(E42747,Sheet2!A:G,4,FALSE))","v":""},"",{"$f":"IF(OR(E42747=\"\",ISBLANK(E42747)),\"\",VLOOKUP(E42747,Sheet2!A:H,3,FALSE))","v":""},null,{"$f":"IF(OR(E42747=\"\",ISBLANK(E42747)),\"\",VLOOKUP(E42747,Sheet2!A:G,6,FALSE))","v":""},""]
[{"$f":"IF(OR(E42754=\"\",ISBLANK(E42754)),\"\",VLOOKUP(E42754,Sheet2!A:F,2,FALSE))","v":""},{"$f":"IF(OR(E42754=\"\",ISBLANK(E42754)),\"\",VLOOKUP(E42754,Sheet2!A:G,4,FALSE))","v":""},"",{"$f":"IF(OR(E42754=\"\",ISBLANK(E42754)),\"\",VLOOKUP(E42754,Sheet2!A:H,3,FALSE))","v":""},null,{"$f":"IF(OR(E42754=\"\",ISBLANK(E42754)),\"\",VLOOKUP(E42754,Sheet2!A:G,6,FALSE))","v":""},""]
[{"$f":"IF(OR(E42787=\"\",ISBLANK(E42787)),\"\",VLOOKUP(E42787,Sheet2!A:F,2,FALSE))","v":""},{"$f":"IF(OR(E42787=\"\",ISBLANK(E42787)),\"\",VLOOKUP(E42787,Sheet2!A:G,4,FALSE))","v":""},"",{"$f":"IF(OR(E42787=\"\",ISBLANK(E42787)),\"\",VLOOKUP(E42787,Sheet2!A:H,3,FALSE))","v":""},null,{"$f":"IF(OR(E42787=\"\",ISBLANK(E42787)),\"\",VLOOKUP(E42787,Sheet2!A:G,6,FALSE))","v":""},""]
[{"$f":"IF(OR(E42807=\"\",ISBLANK(E42807)),\"\",VLOOKUP(E42807,Sheet2!A:F,2,FALSE))","v":""},{"$f":"IF(OR(E42807=\"\",ISBLANK(E42807)),\"\",VLOOKUP(E42807,Sheet2!A:G,4,FALSE))","v":""},"",{"$f":"IF(OR(E42807=\"\",ISBLANK(E42807)),\"\",VLOOKUP(E42807,Sheet2!A:H,3,FALSE))","v":""},null,{"$f":"IF(OR(E42807=\"\",ISBLANK(E42807)),\"\",VLOOKUP(E42807,Sheet2!A:G,6,FALSE))","v":""},""]
[{"$f":"IF(OR(E42846=\"\",ISBLANK(E42846)),\"\",VLOOKUP(E42846,Sheet2!A:F,2,FALSE))","v":""},{"$f":"IF(OR(E42846=\"\",ISBLANK(E42846)),\"\",VLOOKUP(E42846,Sheet2!A:G,4,FALSE))","v":""},"",{"$f":"IF(OR(E42846=\"\",ISBLANK(E42846)),\"\",VLOOKUP(E42846,Sheet2!A:H,3,FALSE))","v":""},null,{"$f":"IF(OR(E42846=\"\",ISBLANK(E42846)),\"\",VLOOKUP(E42846,Sheet2!A:G,6,FALSE))","v":""},""]
[{"$f":"IF(OR(E42861=\"\",ISBLANK(E42861)),\"\",VLOOKUP(E42861,Sheet2!A:F,2,FALSE))","v":""},{"$f":"IF(OR(E42861=\"\",ISBLANK(E42861)),\"\",VLOOKUP(E42861,Sheet2!A:G,4,FALSE))","v":""},"",{"$f":"IF(OR(E42861=\"\",ISBLANK(E42861)),\"\",VLOOKUP(E42861,Sheet2!A:H,3,FALSE))","v":""},null,{"$f":"IF(OR(E42861=\"\",ISBLANK(E42861)),\"\",VLOOKUP(E42861,Sheet2!A:G,6,FALSE))","v":""},""]
[{"$f":"IF(OR(E42881=\"\",ISBLANK(E42881)),\"\",VLOOKUP(E42881,Sheet2!A:F,2,FALSE))","v":""},{"$f":"IF(OR(E42881=\"\",ISBLANK(E42881)),\"\",VLOOKUP(E42881,Sheet2!A:G,4,FALSE))","v":""},"",{"$f":"IF(OR(E42881=\"\",ISBLANK(E42881)),\"\",VLOOKUP(E42881,Sheet2!A:H,3,FALSE))","v":""},null,{"$f":"IF(OR(E42881=\"\",ISBLANK(E42881)),\"\",VLOOKUP(E42881,Sheet2!A:G,6,FALSE))","v":""},""]
[{"$f":"IF(OR(E42914=\"\",ISBLANK(E42914)),\"\",VLOOKUP(E42914,Sheet2!A:F,2,FALSE))","v":""},{"$f":"IF(OR(E42914=\"\",ISBLANK(E42914)),\"\",VLOOKUP(E42914,Sheet2!A:G,4,FALSE))","v":""},"",{"$f":"IF(OR(E42914=\"\",ISBLANK(E42914)),\"\",VLOOKUP(E42914,Sheet2!A:H,3,FALSE))","v":""},null,{"$f":"IF(OR(E42914=\"\",ISBLANK(E42914)),\"\",VLOOKUP(E42914,Sheet2!A:G,6,FALSE))","v":""},""]
[{"$f":"IF(OR(E42925=\"\",ISBLANK(E42925)),\"\",VLOOKUP(E42925,Sheet2!A:F,2,FALSE))","v":""},{"$f":"IF(OR(E42925=\"\",ISBLANK(E42925)),\"\",VLOOKUP(E42925,Sheet2!A:G,4,FALSE))","v":""},"",{"$f":"IF(OR(E42925=\"\",ISBLANK(E42925)),\"\",VLOOKUP(E42925,Sheet2!A:H,3,FALSE))","v":""},null,{"$f":"IF(OR(E42925=\"\",ISBLANK(E42925)),\"\",VLOOKUP(E42925,Sheet2!A:G,6,FALSE))","v":""},""]
[{"$f":"IF(OR(E42949=\"\",ISBLANK(E42949)),\"\",VLOOKUP(E42949,Sheet2!A:F,2,FALSE))","v":""},{"$f":"IF(OR(E42949=\"\",ISBLANK(E42949)),\"\",VLOOKUP(E42949,Sheet2!A:G,4,FALSE))","v":""},"",{"$f":"IF(OR(E42949=\"\",ISBLANK(E42949)),\"\",VLOOKUP(E42949,Sheet2!A:H,3,FALSE))","v":""},null,{"$f":"IF(OR(E42949=\"\",ISBLANK(E42949)),\"\",VLOOKUP(E42949,Sheet2!A:G,6,FALSE))","v":""},""]
[{"$f":"IF(OR(E42975=\"\",ISBLANK(E42975)),\"\",VLOOKUP(E42975,Sheet2!A:F,2,FALSE))","v":""},{"$f":"IF(OR(E42975=\"\",ISBLANK(E42975)),\"\",VLOOKUP(E42975,Sheet2!A:G,4,FALSE))","v":""},"",{"$f":"IF(OR(E42975=\"\",ISBLANK(E42975)),\"\",VLOOKUP(E42975,Sheet2!A:H,3,FALSE))","v":""},null,{"$f":"IF(OR(E42975=\"\",ISBLANK(E42975)),\"\",VLOOKUP(E42975,Sheet2!A:G,6,FALSE))","v":""},""]
[{"$f":"IF(OR(E43008=\"\",ISBLANK(E43008)),\"\",VLOOKUP(E43008,Sheet2!A:F,2,FALSE))","v":""},{"$f":"IF(OR(E43008=\"\",ISBLANK(E43008)),\"\",VLOOKUP(E43008,Sheet2!A:G,4,FALSE))","v":""},"",{"$f":"IF(OR(E43008=\"\",ISBLANK(E43008)),\"\",VLOOKUP(E43008,Sheet2!A:H,3,FALSE))","v":""},null,{"$f":"IF(OR(E43008=\"\",ISBLANK(E43008)),\"\",VLOOKUP(E43008,Sheet2!A:G,6,FALSE))","v":""},""]
[{"$f":"IF(OR(E43041=\"\",ISBLANK(E43041)),\"\",VLOOKUP(E43041,Sheet2!A:F,2,FALSE))","v":""},{"$f":"IF(OR(E43041=\"\",ISBLANK(E43041)),\"\",VLOOKUP(E43041,Sheet2!A:G,4,FALSE))","v":""},"",{"$f":"IF(OR(E43041=\"\",ISBLANK(E43041)),\"\",VLOOKUP(E43041,Sheet2!A:H,3,FALSE))","v":""},null,{"$f":"IF(OR(E43041=\"\",ISBLANK(E43041)),\"\",VLOOKUP(E43041,Sheet2!A:G,6,FALSE))","v":""},""]
[{"$f":"IF(OR(E43064=\"\",ISBLANK(E43064)),\"\",VLOOKUP(E43064,Sheet2!A:F,2,FALSE))","v":""},{"$f":"IF(OR(E43064=\"\",ISBLANK(E43064)),\"\",VLOOKUP(E43064,Sheet2!A:G,4,FALSE))","v":""},"",{"$f":"IF(OR(E43064=\"\",ISBLANK(E43064)),\"\",VLOOKUP(E43064,Sheet2!A:H,3,FALSE))","v":""},null,{"$f":"IF(OR(E43064=\"\",ISBLANK(E43064)),\"\",VLOOKUP(E43064,Sheet2!A:G,6,FALSE))","v":""},""]
[{"$f":"IF(OR(E43076=\"\",ISBLANK(E43076)),\"\",VLOOKUP(E43076,Sheet2!A:F,2,FALSE))","v":""},{"$f":"IF(OR(E43076=\"\",ISBLANK(E43076)),\"\",VLOOKUP(E43076,Sheet2!A:G,4,FALSE))","v":""},"",{"$f":"IF(OR(E43076=\"\",ISBLANK(E43076)),\"\",VLOOKUP(E43076,Sheet2!A:H,3,FALSE))","v":""},null,{"$f":"IF(OR(E43076=\"\",ISBLANK(E43076)),\"\",VLOOKUP(E43076,Sheet2!A:G,6,FALSE))","v":""},""]
[{"$f":"IF(OR(E43114=\"\",ISBLANK(E43114)),\"\",VLOOKUP(E43114,Sheet2!A:F,2,FALSE))","v":""},{"$f":"IF(OR(E43114=\"\",ISBLANK(E43114)),\"\",VLOOKUP(E43114,Sheet2!A:G,4,FALSE))","v":""},"",{"$f":"IF(OR(E43114=\"\",ISBLANK(E43114)),\"\",VLOOKUP(E43114,Sheet2!A:H,3,FALSE))","v":""},null,{"$f":"IF(OR(E43114=\"\",ISBLANK(E43114)),\"\",VLOOKUP(E43114,Sheet2!A:G,6,FALSE))","v":""},""]
[{"$f":"IF(OR(E43143=\"\",ISBLANK(E43143)),\"\",VLOOKUP(E43143,Sheet2!A:F,2,FALSE))","v":""},{"$f":"IF(OR(E43143=\"\",ISBLANK(E43143)),\"\",VLOOKUP(E43143,Sheet2!A:G,4,FALSE))","v":""},"",{"$f":"IF(OR(E43143=\"\",ISBLANK(E43143)),\"\",VLOOKUP(E43143,Sheet2!A:H,3,FALSE))","v":""},null,{"$f":"IF(OR(E43143=\"\",ISBLANK(E43143)),\"\",VLOOKUP(E43143,Sheet2!A:G,6,FALSE))","v":""},""]
[{"$f":"IF(OR(E43144=\"\",ISBLANK(E43144)),\"\",VLOOKUP(E43144,Sheet2!A:F,2,FALSE))","v":""},{"$f":"IF(OR(E43144=\"\",ISBLANK(E43144)),\"\",VLOOKUP(E43144,Sheet2!A:G,4,FALSE))","v":""},"",{"$f":"IF(OR(E43144=\"\",ISBLANK(E43144)),\"\",VLOOKUP(E43144,Sheet2!A:H,3,FALSE))","v":""},null,{"$f":"IF(OR(E43144=\"\",ISBLANK(E43144)),\"\",VLOOKUP(E43144,Sheet2!A:G,6,FALSE))","v":""},""]
[{"$f":"IF(OR(E43178=\"\",ISBLANK(E43178)),\"\",VLOOKUP(E43178,Sheet2!A:F,2,FALSE))","v":""},{"$f":"IF(OR(E43178=\"\",ISBLANK(E43178)),\"\",VLOOKUP(E43178,Sheet2!A:G,4,FALSE))","v":""},"",{"$f":"IF(OR(E43178=\"\",ISBLANK(E43178)),\"\",VLOOKUP(E43178,Sheet2!A:H,3,FALSE))","v":""},null,{"$f":"IF(OR(E43178=\"\",ISBLANK(E43178)),\"\",VLOOKUP(E43178,Sheet2!A:G,6,FALSE))","v":""},""]
[{"$f":"IF(OR(E43203=\"\",ISBLANK(E43203)),\"\",VLOOKUP(E43203,Sheet2!A:F,2,FALSE))","v":""},{"$f":"IF(OR(E43203=\"\",ISBLANK(E43203)),\"\",VLOOKUP(E43203,Sheet2!A:G,4,FALSE))","v":""},{"$f":"IF(D43203=0,\"\",D43203)","v":""},{"$f":"IF(OR(E43203=\"\",ISBLANK(E43203)),\"\",VLOOKUP(E43203,Sheet2!A:H,3,FALSE))","v":""},null,{"$f":"IF(OR(E43203=\"\",ISBLANK(E43203)),\"\",VLOOKUP(E43203,Sheet2!A:G,6,FALSE))","v":""},{"$f":"IF(F43203=0,\"\",F43203)","v":""}]
[{"$f":"IF(OR(E43236=\"\",ISBLANK(E43236)),\"\",VLOOKUP(E43236,Sheet2!A:F,2,FALSE))","v":""},{"$f":"IF(OR(E43236=\"\",ISBLANK(E43236)),\"\",VLOOKUP(E43236,Sheet2!A:G,4,FALSE))","v":""},"",{"$f":"IF(OR(E43236=\"\",ISBLANK(E43236)),\"\",VLOOKUP(E43236,Sheet2!A:H,3,FALSE))","v":""},null,{"$f":"IF(OR(E43236=\"\",ISBLANK(E43236)),\"\",VLOOKUP(E43236,Sheet2!A:G,6,FALSE))","v":""},""]
[{"$f":"IF(OR(E43242=\"\",ISBLANK(E43242)),\"\",VLOOKUP(E43242,Sheet2!A:F,2,FALSE))","v":""},{"$f":"IF(OR(E43242=\"\",ISBLANK(E43242)),\"\",VLOOKUP(E43242,Sheet2!A:G,4,FALSE))","v":""},"",{"$f":"IF(OR(E43242=\"\",ISBLANK(E43242)),\"\",VLOOKUP(E43242,Sheet2!A:H,3,FALSE))","v":""},null,{"$f":"IF(OR(E43242=\"\",ISBLANK(E43242)),\"\",VLOOKUP(E43242,Sheet2!A:G,6,FALSE))","v":""},""]
[{"$f":"IF(OR(E43271=\"\",ISBLANK(E43271)),\"\",VLOOKUP(E43271,Sheet2!A:F,2,FALSE))","v":""},{"$f":"IF(OR(E43271=\"\",ISBLANK(E43271)),\"\",VLOOKUP(E43271,Sheet2!A:G,4,FALSE))","v":""},"",{"$f":"IF(OR(E43271=\"\",ISBLANK(E43271)),\"\",VLOOKUP(E43271,Sheet2!A:H,3,FALSE))","v":""},null,{"$f":"IF(OR(E43271=\"\",ISBLANK(E43271)),\"\",VLOOKUP(E43271,Sheet2!A:G,6,FALSE))","v":""},""]
[{"$f":"IF(OR(E43292=\"\",ISBLANK(E43292)),\"\",VLOOKUP(E43292,Sheet2!A:F,2,FALSE))","v":""},{"$f":"IF(OR(E43292=\"\",ISBLANK(E43292)),\"\",VLOOKUP(E43292,Sheet2!A:G,4,FALSE))","v":""},"",{"$f":"IF(OR(E43292=\"\",ISBLANK(E43292)),\"\",VLOOKUP(E43292,Sheet2!A:H,3,FALSE))","v":""},null,{"$f":"IF(OR(E43292=\"\",ISBLANK(E43292)),\"\",VLOOKUP(E43292,Sheet2!A:G,6,FALSE))","v":""},""]
[{"$f":"IF(OR(E43330=\"\",ISBLANK(E43330)),\"\",VLOOKUP(E43330,Sheet2!A:F,2,FALSE))","v":""},{"$f":"IF(OR(E43330=\"\",ISBLANK(E43330)),\"\",VLOOKUP(E43330,Sheet2!A:G,4,FALSE))","v":""},"",{"$f":"IF(OR(E43330=\"\",ISBLANK(E43330)),\"\",VLOOKUP(E43330,Sheet2!A:H,3,FALSE))","v":""},null,{"$f":"IF(OR(E43330=\"\",ISBLANK(E43330)),\"\",VLOOKUP(E43330,Sheet2!A:G,6,FALSE))","v":""},""]
[{"$f":"IF(OR(E43339=\"\",ISBLANK(E43339)),\"\",VLOOKUP(E43339,Sheet2!A:F,2,FALSE))","v":""},{"$f":"IF(OR(E43339=\"\",ISBLANK(E43339)),\"\",VLOOKUP(E43339,Sheet2!A:G,4,FALSE))","v":""},"",{"$f":"IF(OR(E43339=\"\",ISBLANK(E43339)),\"\",VLOOKUP(E43339,Sheet2!A:H,3,FALSE))","v":""},null,{"$f":"IF(OR(E43339=\"\",ISBLANK(E43339)),\"\",VLOOKUP(E43339,Sheet2!A:G,6,FALSE))","v":""},""]
[{"$f":"IF(OR(E43381=\"\",ISBLANK(E43381)),\"\",VLOOKUP(E43381,Sheet2!A:F,2,FALSE))","v":""},{"$f":"IF(OR(E43381=\"\",ISBLANK(E43381)),\"\",VLOOKUP(E43381,Sheet2!A:G,4,FALSE))","v":""},"",{"$f":"IF(OR(E43381=\"\",ISBLANK(E43381)),\"\",VLOOKUP(E43381,Sheet2!A:H,3,FALSE))","v":""},null,{"$f":"IF(OR(E43381=\"\",ISBLANK(E43381)),\"\",VLOOKUP(E43381,Sheet2!A:G,6,FALSE))","v":""},""]
[{"$f":"IF(OR(E43398=\"\",ISBLANK(E43398)),\"\",VLOOKUP(E43398,Sheet2!A:F,2,FALSE))","v":""},{"$f":"IF(OR(E43398=\"\",ISBLANK(E43398)),\"\",VLOOKUP(E43398,Sheet2!A:G,4,FALSE))","v":""},"",{"$f":"IF(OR(E43398=\"\",ISBLANK(E43398)),\"\",VLOOKUP(E43398,Sheet2!A:H,3,FALSE))","v":""},null,{"$f":"IF(OR(E43398=\"\",ISBLANK(E43398)),\"\",VLOOKUP(E43398,Sheet2!A:G,6,FALSE))","v":""},""]
[{"$f":"IF(OR(E43431=\"\",ISBLANK(E43431)),\"\",VLOOKUP(E43431,Sheet2!A:F,2,FALSE))","v":""},{"$f":"IF(OR(E43431=\"\",ISBLANK(E43431)),\"\",VLOOKUP(E43431,Sheet2!A:G,4,FALSE))","v":""},"",{"$f":"IF(OR(E43431=\"\",ISBLANK(E43431)),\"\",VLOOKUP(E43431,Sheet2!A:H,3,FALSE))","v":""},null,{"$f":"IF(OR(E43431=\"\",ISBLANK(E43431)),\"\",VLOOKUP(E43431,Sheet2!A:G,6,FALSE))","v":""},""]
[{"$f":"IF(OR(E43441=\"\",ISBLANK(E43441)),\"\",VLOOKUP(E43441,Sheet2!A:F,2,FALSE))","v":""},{"$f":"IF(OR(E43441=\"\",ISBLANK(E43441)),\"\",VLOOKUP(E43441,Sheet2!A:G,4,FALSE))","v":""},"",{"$f":"IF(OR(E43441=\"\",ISBLANK(E43441)),\"\",VLOOKUP(E43441,Sheet2!A:H,3,FALSE))","v":""},null,{"$f":"IF(OR(E43441=\"\",ISBLANK(E43441)),\"\",VLOOKUP(E43441,Sheet2!A:G,6,FALSE))","v":""},""]
[{"$f":"IF(OR(E43466=\"\",ISBLANK(E43466)),\"\",VLOOKUP(E43466,Sheet2!A:F,2,FALSE))","v":""},{"$f":"IF(OR(E43466=\"\",ISBLANK(E43466)),\"\",VLOOKUP(E43466,Sheet2!A:G,4,FALSE))","v":""},"",{"$f":"IF(OR(E43466=\"\",ISBLANK(E43466)),\"\",VLOOKUP(E43466,Sheet2!A:H,3,FALSE))","v":""},null,{"$f":"IF(OR(E43466=\"\",ISBLANK(E43466)),\"\",VLOOKUP(E43466,Sheet2!A:G,6,FALSE))","v":""},""]
[{"$f":"IF(OR(E43495=\"\",ISBLANK(E43495)),\"\",VLOOKUP(E43495,Sheet2!A:F,2,FALSE))","v":""},{"$f":"IF(OR(E43495=\"\",ISBLANK(E43495)),\"\",VLOOKUP(E43495,Sheet2!A:G,4,FALSE))","v":""},"",{"$f":"IF(OR(E43495=\"\",ISBLANK(E43495)),\"\",VLOOKUP(E43495,Sheet2!A:H,3,FALSE))","v":""},null,{"$f":"IF(OR(E43495=\"\",ISBLANK(E43495)),\"\",VLOOKUP(E43495,Sheet2!A:G,6,FALSE))","v":""},""]
[{"$f":"IF(OR(E43525=\"\",ISBLANK(E43525)),\"\",VLOOKUP(E43525,Sheet2!A:F,2,FALSE))","v":""},{"$f":"IF(OR(E43525=\"\",ISBLANK(E43525)),\"\",VLOOKUP(E43525,Sheet2!A:G,4,FALSE))","v":""},"",{"$f":"IF(OR(E43525=\"\",ISBLANK(E43525)),\"\",VLOOKUP(E43525,Sheet2!A:H,3,FALSE))","v":""},null,{"$f":"IF(OR(E43525=\"\",ISBLANK(E43525)),\"\",VLOOKUP(E43525,Sheet2!A:G,6,FALSE))","v":""},""]
[{"$f":"IF(OR(E43545=\"\",ISBLANK(E43545)),\"\",VLOOKUP(E43545,Sheet2!A:F,2,FALSE))","v":""},{"$f":"IF(OR(E43545=\"\",ISBLANK(E43545)),\"\",VLOOKUP(E43545,Sheet2!A:G,4,FALSE))","v":""},"",{"$f":"IF(OR(E43545=\"\",ISBLANK(E43545)),\"\",VLOOKUP(E43545,Sheet2!A:H,3,FALSE))","v":""},null,{"$f":"IF(OR(E43545=\"\",ISBLANK(E43545)),\"\",VLOOKUP(E43545,Sheet2!A:G,6,FALSE))","v":""},""]
[{"$f":"IF(OR(E43568=\"\",ISBLANK(E43568)),\"\",VLOOKUP(E43568,Sheet2!A:F,2,FALSE))","v":""},{"$f":"IF(OR(E43568=\"\",ISBLANK(E43568)),\"\",VLOOKUP(E43568,Sheet2!A:G,4,FALSE))","v":""},"",{"$f":"IF(OR(E43568=\"\",ISBLANK(E43568)),\"\",VLOOKUP(E43568,Sheet2!A:H,3,FALSE))","v":""},null,{"$f":"IF(OR(E43568=\"\",ISBLANK(E43568)),\"\",VLOOKUP(E43568,Sheet2!A:G,6,FALSE))","v":""},""]
[{"$f":"IF(OR(E43593=\"\",ISBLANK(E43593)),\"\",VLOOKUP(E43593,Sheet2!A:F,2,FALSE))","v":""},{"$f":"IF(OR(E43593=\"\",ISBLANK(E43593)),\"\",VLOOKUP(E43593,Sheet2!A:G,4,FALSE))","v":""},"",{"$f":"IF(OR(E43593=\"\",ISBLANK(E43593)),\"\",VLOOKUP(E43593,Sheet2!A:H,3,FALSE))","v":""},null,{"$f":"IF(OR(E43593=\"\",ISBLANK(E43593)),\"\",VLOOKUP(E43593,Sheet2!A:G,6,FALSE))","v":""},""]
[{"$f":"IF(OR(E43609=\"\",ISBLANK(E43609)),\"\",VLOOKUP(E43609,Sheet2!A:F,2,FALSE))","v":""},{"$f":"IF(OR(E43609=\"\",ISBLANK(E43609)),\"\",VLOOKUP(E43609,Sheet2!A:G,4,FALSE))","v":""},"",{"$f":"IF(OR(E43609=\"\",ISBLANK(E43609)),\"\",VLOOKUP(E43609,Sheet2!A:H,3,FALSE))","v":""},null,{"$f":"IF(OR(E43609=\"\",ISBLANK(E43609)),\"\",VLOOKUP(E43609,Sheet2!A:G,6,FALSE))","v":""},""]
[{"$f":"IF(OR(E43652=\"\",ISBLANK(E43652)),\"\",VLOOKUP(E43652,Sheet2!A:F,2,FALSE))","v":""},{"$f":"IF(OR(E43652=\"\",ISBLANK(E43652)),\"\",VLOOKUP(E43652,Sheet2!A:G,4,FALSE))","v":""},"",{"$f":"IF(OR(E43652=\"\",ISBLANK(E43652)),\"\",VLOOKUP(E43652,Sheet2!A:H,3,FALSE))","v":""},null,{"$f":"IF(OR(E43652=\"\",ISBLANK(E43652)),\"\",VLOOKUP(E43652,Sheet2!A:G,6,FALSE))","v":""},""]
[{"$f":"IF(OR(E43661=\"\",ISBLANK(E43661)),\"\",VLOOKUP(E43661,Sheet2!A:F,2,FALSE))","v":""},{"$f":"IF(OR(E43661=\"\",ISBLANK(E43661)),\"\",VLOOKUP(E43661,Sheet2!A:G,4,FALSE))","v":""},"",{"$f":"IF(OR(E43661=\"\",ISBLANK(E43661)),\"\",VLOOKUP(E43661,Sheet2!A:H,3,FALSE))","v":""},null,{"$f":"IF(OR(E43661=\"\",ISBLANK(E43661)),\"\",VLOOKUP(E43661,Sheet2!A:G,6,FALSE))","v":""},""]
[{"$f":"IF(OR(E43698=\"\",ISBLANK(E43698)),\"\",VLOOKUP(E43698,Sheet2!A:F,2,FALSE))","v":""},{"$f":"IF(OR(E43698=\"\",ISBLANK(E43698)),\"\",VLOOKUP(E43698,Sheet2!A:G,4,FALSE))","v":""},"",{"$f":"IF(OR(E43698=\"\",ISBLANK(E43698)),\"\",VLOOKUP(E43698,Sheet2!A:H,3,FALSE))","v":""},null,{"$f":"IF(OR(E43698=\"\",ISBLANK(E43698)),\"\",VLOOKUP(E43698,Sheet2!A:G,6,FALSE))","v":""},""]
[{"$f":"IF(OR(E43720=\"\",ISBLANK(E43720)),\"\",VLOOKUP(E43720,Sheet2!A:F,2,FALSE))","v":""},{"$f":"IF(OR(E43720=\"\",ISBLANK(E43720)),\"\",VLOOKUP(E43720,Sheet2!A:G,4,FALSE))","v":""},"",{"$f":"IF(OR(E43720=\"\",ISBLANK(E43720)),\"\",VLOOKUP(E43720,Sheet2!A:H,3,FALSE))","v":""},null,{"$f":"IF(OR(E43720=\"\",ISBLANK(E43720)),\"\",VLOOKUP(E43720,Sheet2!A:G,6,FALSE))","v":""},""]
[{"$f":"IF(OR(E43748=\"\",ISBLANK(E43748)),\"\",VLOOKUP(E43748,Sheet2!A:F,2,FALSE))","v":""},{"$f":"IF(OR(E43748=\"\",ISBLANK(E43748)),\"\",VLOOKUP(E43748,Sheet2!A:G,4,FALSE))","v":""},"",{"$f":"IF(OR(E43748=\"\",ISBLANK(E43748)),\"\",VLOOKUP(E43748,Sheet2!A:H,3,FALSE))","v":""},null,{"$f":"IF(OR(E43748=\"\",ISBLANK(E43748)),\"\",VLOOKUP(E43748,Sheet2!A:G,6,FALSE))","v":""},""]
[{"$f":"IF(OR(E43763=\"\",ISBLANK(E43763)),\"\",VLOOKUP(E43763,Sheet2!A:F,2,FALSE))","v":""},{"$f":"IF(OR(E43763=\"\",ISBLANK(E43763)),\"\",VLOOKUP(E43763,Sheet2!A:G,4,FALSE))","v":""},"",{"$f":"IF(OR(E43763=\"\",ISBLANK(E43763)),\"\",VLOOKUP(E43763,Sheet2!A:H,3,FALSE))","v":""},null,{"$f":"IF(OR(E43763=\"\",ISBLANK(E43763)),\"\",VLOOKUP(E43763,Sheet2!A:G,6,FALSE))","v":""},""]
[{"$f":"IF(OR(E43788=\"\",ISBLANK(E43788)),\"\",VLOOKUP(E43788,Sheet2!A:F,2,FALSE))","v":""},{"$f":"IF(OR(E43788=\"\",ISBLANK(E43788)),\"\",VLOOKUP(E43788,Sheet2!A:G,4,FALSE))","v":""},"",{"$f":"IF(OR(E43788=\"\",ISBLANK(E43788)),\"\",VLOOKUP(E43788,Sheet2!A:H,3,FALSE))","v":""},null,{"$f":"IF(OR(E43788=\"\",ISBLANK(E43788)),\"\",VLOOKUP(E43788,Sheet2!A:G,6,FALSE))","v":""},""]
[{"$f":"IF(OR(E43812=\"\",ISBLANK(E43812)),\"\",VLOOKUP(E43812,Sheet2!A:F,2,FALSE))","v":""},{"$f":"IF(OR(E43812=\"\",ISBLANK(E43812)),\"\",VLOOKUP(E43812,Sheet2!A:G,4,FALSE))","v":""},"",{"$f":"IF(OR(E43812=\"\",ISBLANK(E43812)),\"\",VLOOKUP(E43812,Sheet2!A:H,3,FALSE))","v":""},null,{"$f":"IF(OR(E43812=\"\",ISBLANK(E43812)),\"\",VLOOKUP(E43812,Sheet2!A:G,6,FALSE))","v":""},""]
[{"$f":"IF(OR(E43847=\"\",ISBLANK(E43847)),\"\",VLOOKUP(E43847,Sheet2!A:F,2,FALSE))","v":""},{"$f":"IF(OR(E43847=\"\",ISBLANK(E43847)),\"\",VLOOKUP(E43847,Sheet2!A:G,4,FALSE))","v":""},"",{"$f":"IF(OR(E43847=\"\",ISBLANK(E43847)),\"\",VLOOKUP(E43847,Sheet2!A:H,3,FALSE))","v":""},null,{"$f":"IF(OR(E43847=\"\",ISBLANK(E43847)),\"\",VLOOKUP(E43847,Sheet2!A:G,6,FALSE))","v":""},""]
[{"$f":"IF(OR(E43862=\"\",ISBLANK(E43862)),\"\",VLOOKUP(E43862,Sheet2!A:F,2,FALSE))","v":""},{"$f":"IF(OR(E43862=\"\",ISBLANK(E43862)),\"\",VLOOKUP(E43862,Sheet2!A:G,4,FALSE))","v":""},"",{"$f":"IF(OR(E43862=\"\",ISBLANK(E43862)),\"\",VLOOKUP(E43862,Sheet2!A:H,3,FALSE))","v":""},null,{"$f":"IF(OR(E43862=\"\",ISBLANK(E43862)),\"\",VLOOKUP(E43862,Sheet2!A:G,6,FALSE))","v":""},""]
[{"$f":"IF(OR(E43890=\"\",ISBLANK(E43890)),\"\",VLOOKUP(E43890,Sheet2!A:F,2,FALSE))","v":""},{"$f":"IF(OR(E43890=\"\",ISBLANK(E43890)),\"\",VLOOKUP(E43890,Sheet2!A:G,4,FALSE))","v":""},"",{"$f":"IF(OR(E43890=\"\",ISBLANK(E43890)),\"\",VLOOKUP(E43890,Sheet2!A:H,3,FALSE))","v":""},null,{"$f":"IF(OR(E43890=\"\",ISBLANK(E43890)),\"\",VLOOKUP(E43890,Sheet2!A:G,6,FALSE))","v":""},""]
[{"$f":"IF(OR(E43915=\"\",ISBLANK(E43915)),\"\",VLOOKUP(E43915,Sheet2!A:F,2,FALSE))","v":""},{"$f":"IF(OR(E43915=\"\",ISBLANK(E43915)),\"\",VLOOKUP(E43915,Sheet2!A:G,4,FALSE))","v":""},"",{"$f":"IF(OR(E43915=\"\",ISBLANK(E43915)),\"\",VLOOKUP(E43915,Sheet2!A:H,3,FALSE))","v":""},null,{"$f":"IF(OR(E43915=\"\",ISBLANK(E43915)),\"\",VLOOKUP(E43915,Sheet2!A:G,6,FALSE))","v":""},""]
[{"$f":"IF(OR(E43926=\"\",ISBLANK(E43926)),\"\",VLOOKUP(E43926,Sheet2!A:F,2,FALSE))","v":""},{"$f":"IF(OR(E43926=\"\",ISBLANK(E43926)),\"\",VLOOKUP(E43926,Sheet2!A:G,4,FALSE))","v":""},"",{"$f":"IF(OR(E43926=\"\",ISBLANK(E43926)),\"\",VLOOKUP(E43926,Sheet2!A:H,3,FALSE))","v":""},null,{"$f":"IF(OR(E43926=\"\",ISBLANK(E43926)),\"\",VLOOKUP(E43926,Sheet2!A:G,6,FALSE))","v":""},""]
[{"$f":"IF(OR(E43958=\"\",ISBLANK(E43958)),\"\",VLOOKUP(E43958,Sheet2!A:F,2,FALSE))","v":""},{"$f":"IF(OR(E43958=\"\",ISBLANK(E43958)),\"\",VLOOKUP(E43958,Sheet2!A:G,4,FALSE))","v":""},"",{"$f":"IF(OR(E43958=\"\",ISBLANK(E43958)),\"\",VLOOKUP(E43958,Sheet2!A:H,3,FALSE))","v":""},null,{"$f":"IF(OR(E43958=\"\",ISBLANK(E43958)),\"\",VLOOKUP(E43958,Sheet2!A:G,6,FALSE))","v":""},""]
[{"$f":"IF(OR(E43983=\"\",ISBLANK(E43983)),\"\",VLOOKUP(E43983,Sheet2!A:F,2,FALSE))","v":""},{"$f":"IF(OR(E43983=\"\",ISBLANK(E43983)),\"\",VLOOKUP(E43983,Sheet2!A:G,4,FALSE))","v":""},"",{"$f":"IF(OR(E43983=\"\",ISBLANK(E43983)),\"\",VLOOKUP(E43983,Sheet2!A:H,3,FALSE))","v":""},null,{"$f":"IF(OR(E43983=\"\",ISBLANK(E43983)),\"\",VLOOKUP(E43983,Sheet2!A:G,6,FALSE))","v":""},""]
[{"$f":"IF(OR(E44015=\"\",ISBLANK(E44015)),\"\",VLOOKUP(E44015,Sheet2!A:F,2,FALSE))","v":""},{"$f":"IF(OR(E44015=\"\",ISBLANK(E44015)),\"\",VLOOKUP(E44015,Sheet2!A:G,4,FALSE))","v":""},"",{"$f":"IF(OR(E44015=\"\",ISBLANK(E44015)),\"\",VLOOKUP(E44015,Sheet2!A:H,3,FALSE))","v":""},null,{"$f":"IF(OR(E44015=\"\",ISBLANK(E44015)),\"\",VLOOKUP(E44015,Sheet2!A:G,6,FALSE))","v":""},""]
[{"$f":"IF(OR(E44042=\"\",ISBLANK(E44042)),\"\",VLOOKUP(E44042,Sheet2!A:F,2,FALSE))","v":""},{"$f":"IF(OR(E44042=\"\",ISBLANK(E44042)),\"\",VLOOKUP(E44042,Sheet2!A:G,4,FALSE))","v":""},"",{"$f":"IF(OR(E44042=\"\",ISBLANK(E44042)),\"\",VLOOKUP(E44042,Sheet2!A:H,3,FALSE))","v":""},null,{"$f":"IF(OR(E44042=\"\",ISBLANK(E44042)),\"\",VLOOKUP(E44042,Sheet2!A:G,6,FALSE))","v":""},""]
[{"$f":"IF(OR(E44065=\"\",ISBLANK(E44065)),\"\",VLOOKUP(E44065,Sheet2!A:F,2,FALSE))","v":""},{"$f":"IF(OR(E44065=\"\",ISBLANK(E44065)),\"\",VLOOKUP(E44065,Sheet2!A:G,4,FALSE))","v":""},"",{"$f":"IF(OR(E44065=\"\",ISBLANK(E44065)),\"\",VLOOKUP(E44065,Sheet2!A:H,3,FALSE))","v":""},null,{"$f":"IF(OR(E44065=\"\",ISBLANK(E44065)),\"\",VLOOKUP(E44065,Sheet2!A:G,6,FALSE))","v":""},""]
[{"$f":"IF(OR(E44085=\"\",ISBLANK(E44085)),\"\",VLOOKUP(E44085,Sheet2!A:F,2,FALSE))","v":""},{"$f":"IF(OR(E44085=\"\",ISBLANK(E44085)),\"\",VLOOKUP(E44085,Sheet2!A:G,4,FALSE))","v":""},"",{"$f":"IF(OR(E44085=\"\",ISBLANK(E44085)),\"\",VLOOKUP(E44085,Sheet2!A:H,3,FALSE))","v":""},null,{"$f":"IF(OR(E44085=\"\",ISBLANK(E44085)),\"\",VLOOKUP(E44085,Sheet2!A:G,6,FALSE))","v":""},""]
[{"$f":"IF(OR(E44110=\"\",ISBLANK(E44110)),\"\",VLOOKUP(E44110,Sheet2!A:F,2,FALSE))","v":""},{"$f":"IF(OR(E44110=\"\",ISBLANK(E44110)),\"\",VLOOKUP(E44110,Sheet2!A:G,4,FALSE))","v":""},"",{"$f":"IF(OR(E44110=\"\",ISBLANK(E44110)),\"\",VLOOKUP(E44110,Sheet2!A:H,3,FALSE))","v":""},null,{"$f":"IF(OR(E44110=\"\",ISBLANK(E44110)),\"\",VLOOKUP(E44110,Sheet2!A:G,6,FALSE))","v":""},""]
[{"$f":"IF(OR(E44129=\"\",ISBLANK(E44129)),\"\",VLOOKUP(E44129,Sheet2!A:F,2,FALSE))","v":""},{"$f":"IF(OR(E44129=\"\",ISBLANK(E44129)),\"\",VLOOKUP(E44129,Sheet2!A:G,4,FALSE))","v":""},"",{"$f":"IF(OR(E44129=\"\",ISBLANK(E44129)),\"\",VLOOKUP(E44129,Sheet2!A:H,3,FALSE))","v":""},null,{"$f":"IF(OR(E44129=\"\",ISBLANK(E44129)),\"\",VLOOKUP(E44129,Sheet2!A:G,6,FALSE))","v":""},""]
[{"$f":"IF(OR(E44145=\"\",ISBLANK(E44145)),\"\",VLOOKUP(E44145,Sheet2!A:F,2,FALSE))","v":""},{"$f":"IF(OR(E44145=\"\",ISBLANK(E44145)),\"\",VLOOKUP(E44145,Sheet2!A:G,4,FALSE))","v":""},"",{"$f":"IF(OR(E44145=\"\",ISBLANK(E44145)),\"\",VLOOKUP(E44145,Sheet2!A:H,3,FALSE))","v":""},null,{"$f":"IF(OR(E44145=\"\",ISBLANK(E44145)),\"\",VLOOKUP(E44145,Sheet2!A:G,6,FALSE))","v":""},""]
[{"$f":"IF(OR(E44179=\"\",ISBLANK(E44179)),\"\",VLOOKUP(E44179,Sheet2!A:F,2,FALSE))","v":""},{"$f":"IF(OR(E44179=\"\",ISBLANK(E44179)),\"\",VLOOKUP(E44179,Sheet2!A:G,4,FALSE))","v":""},"",{"$f":"IF(OR(E44179=\"\",ISBLANK(E44179)),\"\",VLOOKUP(E44179,Sheet2!A:H,3,FALSE))","v":""},null,{"$f":"IF(OR(E44179=\"\",ISBLANK(E44179)),\"\",VLOOKUP(E44179,Sheet2!A:G,6,FALSE))","v":""},""]
[{"$f":"IF(OR(E44212=\"\",ISBLANK(E44212)),\"\",VLOOKUP(E44212,Sheet2!A:F,2,FALSE))","v":""},{"$f":"IF(OR(E44212=\"\",ISBLANK(E44212)),\"\",VLOOKUP(E44212,Sheet2!A:G,4,FALSE))","v":""},"",{"$f":"IF(OR(E44212=\"\",ISBLANK(E44212)),\"\",VLOOKUP(E44212,Sheet2!A:H,3,FALSE))","v":""},null,{"$f":"IF(OR(E44212=\"\",ISBLANK(E44212)),\"\",VLOOKUP(E44212,Sheet2!A:G,6,FALSE))","v":""},""]
[{"$f":"IF(OR(E44237=\"\",ISBLANK(E44237)),\"\",VLOOKUP(E44237,Sheet2!A:F,2,FALSE))","v":""},{"$f":"IF(OR(E44237=\"\",ISBLANK(E44237)),\"\",VLOOKUP(E44237,Sheet2!A:G,4,FALSE))","v":""},"",{"$f":"IF(OR(E44237=\"\",ISBLANK(E44237)),\"\",VLOOKUP(E44237,Sheet2!A:H,3,FALSE))","v":""},null,{"$f":"IF(OR(E44237=\"\",ISBLANK(E44237)),\"\",VLOOKUP(E44237,Sheet2!A:G,6,FALSE))","v":""},""]
[{"$f":"IF(OR(E44243=\"\",ISBLANK(E44243)),\"\",VLOOKUP(E44243,Sheet2!A:F,2,FALSE))","v":""},{"$f":"IF(OR(E44243=\"\",ISBLANK(E44243)),\"\",VLOOKUP(E44243,Sheet2!A:G,4,FALSE))","v":""},"",{"$f":"IF(OR(E44243=\"\",ISBLANK(E44243)),\"\",VLOOKUP(E44243,Sheet2!A:H,3,FALSE))","v":""},null,{"$f":"IF(OR(E44243=\"\",ISBLANK(E44243)),\"\",VLOOKUP(E44243,Sheet2!A:G,6,FALSE))","v":""},""]
[{"$f":"IF(OR(E44280=\"\",ISBLANK(E44280)),\"\",VLOOKUP(E44280,Sheet2!A:F,2,FALSE))","v":""},{"$f":"IF(OR(E44280=\"\",ISBLANK(E44280)),\"\",VLOOKUP(E44280,Sheet2!A:G,4,FALSE))","v":""},"",{"$f":"IF(OR(E44280=\"\",ISBLANK(E44280)),\"\",VLOOKUP(E44280,Sheet2!A:H,3,FALSE))","v":""},null,{"$f":"IF(OR(E44280=\"\",ISBLANK(E44280)),\"\",VLOOKUP(E44280,Sheet2!A:G,6,FALSE))","v":""},""]
[{"$f":"IF(OR(E44293=\"\",ISBLANK(E44293)),\"\",VLOOKUP(E44293,Sheet2!A:F,2,FALSE))","v":""},{"$f":"IF(OR(E44293=\"\",ISBLANK(E44293)),\"\",VLOOKUP(E44293,Sheet2!A:G,4,FALSE))","v":""},"",{"$f":"IF(OR(E44293=\"\",ISBLANK(E44293)),\"\",VLOOKUP(E44293,Sheet2!A:H,3,FALSE))","v":""},null,{"$f":"IF(OR(E44293=\"\",ISBLANK(E44293)),\"\",VLOOKUP(E44293,Sheet2!A:G,6,FALSE))","v":""},""]
[{"$f":"IF(OR(E44315=\"\",ISBLANK(E44315)),\"\",VLOOKUP(E44315,Sheet2!A:F,2,FALSE))","v":""},{"$f":"IF(OR(E44315=\"\",ISBLANK(E44315)),\"\",VLOOKUP(E44315,Sheet2!A:G,4,FALSE))","v":""},"",{"$f":"IF(OR(E44315=\"\",ISBLANK(E44315)),\"\",VLOOKUP(E44315,Sheet2!A:H,3,FALSE))","v":""},null,{"$f":"IF(OR(E44315=\"\",ISBLANK(E44315)),\"\",VLOOKUP(E44315,Sheet2!A:G,6,FALSE))","v":""},""]
[{"$f":"IF(OR(E44340=\"\",ISBLANK(E44340)),\"\",VLOOKUP(E44340,Sheet2!A:F,2,FALSE))","v":""},{"$f":"IF(OR(E44340=\"\",ISBLANK(E44340)),\"\",VLOOKUP(E44340,Sheet2!A:G,4,FALSE))","v":""},"",{"$f":"IF(OR(E44340=\"\",ISBLANK(E44340)),\"\",VLOOKUP(E44340,Sheet2!A:H,3,FALSE))","v":""},null,{"$f":"IF(OR(E44340=\"\",ISBLANK(E44340)),\"\",VLOOKUP(E44340,Sheet2!A:G,6,FALSE))","v":""},""]
[{"$f":"IF(OR(E44382=\"\",ISBLANK(E44382)),\"\",VLOOKUP(E44382,Sheet2!A:F,2,FALSE))","v":""},{"$f":"IF(OR(E44382=\"\",ISBLANK(E44382)),\"\",VLOOKUP(E44382,Sheet2!A:G,4,FALSE))","v":""},"",{"$f":"IF(OR(E44382=\"\",ISBLANK(E44382)),\"\",VLOOKUP(E44382,Sheet2!A:H,3,FALSE))","v":""},null,{"$f":"IF(OR(E44382=\"\",ISBLANK(E44382)),\"\",VLOOKUP(E44382,Sheet2!A:G,6,FALSE))","v":""},""]
[{"$f":"IF(OR(E44407=\"\",ISBLANK(E44407)),\"\",VLOOKUP(E44407,Sheet2!A:F,2,FALSE))","v":""},{"$f":"IF(OR(E44407=\"\",ISBLANK(E44407)),\"\",VLOOKUP(E44407,Sheet2!A:G,4,FALSE))","v":""},"",{"$f":"IF(OR(E44407=\"\",ISBLANK(E44407)),\"\",VLOOKUP(E44407,Sheet2!A:H,3,FALSE))","v":""},null,{"$f":"IF(OR(E44407=\"\",ISBLANK(E44407)),\"\",VLOOKUP(E44407,Sheet2!A:G,6,FALSE))","v":""},""]
[{"$f":"IF(OR(E44432=\"\",ISBLANK(E44432)),\"\",VLOOKUP(E44432,Sheet2!A:F,2,FALSE))","v":""},{"$f":"IF(OR(E44432=\"\",ISBLANK(E44432)),\"\",VLOOKUP(E44432,Sheet2!A:G,4,FALSE))","v":""},"",{"$f":"IF(OR(E44432=\"\",ISBLANK(E44432)),\"\",VLOOKUP(E44432,Sheet2!A:H,3,FALSE))","v":""},null,{"$f":"IF(OR(E44432=\"\",ISBLANK(E44432)),\"\",VLOOKUP(E44432,Sheet2!A:G,6,FALSE))","v":""},""]
[{"$f":"IF(OR(E44446=\"\",ISBLANK(E44446)),\"\",VLOOKUP(E44446,Sheet2!A:F,2,FALSE))","v":""},{"$f":"IF(OR(E44446=\"\",ISBLANK(E44446)),\"\",VLOOKUP(E44446,Sheet2!A:G,4,FALSE))","v":""},"",{"$f":"IF(OR(E44446=\"\",ISBLANK(E44446)),\"\",VLOOKUP(E44446,Sheet2!A:H,3,FALSE))","v":""},null,{"$f":"IF(OR(E44446=\"\",ISBLANK(E44446)),\"\",VLOOKUP(E44446,Sheet2!A:G,6,FALSE))","v":""},""]
[{"$f":"IF(OR(E44467=\"\",ISBLANK(E44467)),\"\",VLOOKUP(E44467,Sheet2!A:F,2,FALSE))","v":""},{"$f":"IF(OR(E44467=\"\",ISBLANK(E44467)),\"\",VLOOKUP(E44467,Sheet2!A:G,4,FALSE))","v":""},"",{"$f":"IF(OR(E44467=\"\",ISBLANK(E44467)),\"\",VLOOKUP(E44467,Sheet2!A:H,3,FALSE))","v":""},null,{"$f":"IF(OR(E44467=\"\",ISBLANK(E44467)),\"\",VLOOKUP(E44467,Sheet2!A:G,6,FALSE))","v":""},""]
[{"$f":"IF(OR(E44496=\"\",ISBLANK(E44496)),\"\",VLOOKUP(E44496,Sheet2!A:F,2,FALSE))","v":""},{"$f":"IF(OR(E44496=\"\",ISBLANK(E44496)),\"\",VLOOKUP(E44496,Sheet2!A:G,4,FALSE))","v":""},"",{"$f":"IF(OR(E44496=\"\",ISBLANK(E44496)),\"\",VLOOKUP(E44496,Sheet2!A:H,3,FALSE))","v":""},null,{"$f":"IF(OR(E44496=\"\",ISBLANK(E44496)),\"\",VLOOKUP(E44496,Sheet2!A:G,6,FALSE))","v":""},""]
[{"$f":"IF(OR(E44510=\"\",ISBLANK(E44510)),\"\",VLOOKUP(E44510,Sheet2!A:F,2,FALSE))","v":""},{"$f":"IF(OR(E44510=\"\",ISBLANK(E44510)),\"\",VLOOKUP(E44510,Sheet2!A:G,4,FALSE))","v":""},"",{"$f":"IF(OR(E44510=\"\",ISBLANK(E44510)),\"\",VLOOKUP(E44510,Sheet2!A:H,3,FALSE))","v":""},null,{"$f":"IF(OR(E44510=\"\",ISBLANK(E44510)),\"\",VLOOKUP(E44510,Sheet2!A:G,6,FALSE))","v":""},""]
[{"$f":"IF(OR(E44535=\"\",ISBLANK(E44535)),\"\",VLOOKUP(E44535,Sheet2!A:F,2,FALSE))","v":""},{"$f":"IF(OR(E44535=\"\",ISBLANK(E44535)),\"\",VLOOKUP(E44535,Sheet2!A:G,4,FALSE))","v":""},"",{"$f":"IF(OR(E44535=\"\",ISBLANK(E44535)),\"\",VLOOKUP(E44535,Sheet2!A:H,3,FALSE))","v":""},null,{"$f":"IF(OR(E44535=\"\",ISBLANK(E44535)),\"\",VLOOKUP(E44535,Sheet2!A:G,6,FALSE))","v":""},""]
[{"$f":"IF(OR(E44560=\"\",ISBLANK(E44560)),\"\",VLOOKUP(E44560,Sheet2!A:F,2,FALSE))","v":""},{"$f":"IF(OR(E44560=\"\",ISBLANK(E44560)),\"\",VLOOKUP(E44560,Sheet2!A:G,4,FALSE))","v":""},"",{"$f":"IF(OR(E44560=\"\",ISBLANK(E44560)),\"\",VLOOKUP(E44560,Sheet2!A:H,3,FALSE))","v":""},null,{"$f":"IF(OR(E44560=\"\",ISBLANK(E44560)),\"\",VLOOKUP(E44560,Sheet2!A:G,6,FALSE))","v":""},""]
[{"$f":"IF(OR(E44602=\"\",ISBLANK(E44602)),\"\",VLOOKUP(E44602,Sheet2!A:F,2,FALSE))","v":""},{"$f":"IF(OR(E44602=\"\",ISBLANK(E44602)),\"\",VLOOKUP(E44602,Sheet2!A:G,4,FALSE))","v":""},"",{"$f":"IF(OR(E44602=\"\",ISBLANK(E44602)),\"\",VLOOKUP(E44602,Sheet2!A:H,3,FALSE))","v":""},null,{"$f":"IF(OR(E44602=\"\",ISBLANK(E44602)),\"\",VLOOKUP(E44602,Sheet2!A:G,6,FALSE))","v":""},""]
[{"$f":"IF(OR(E44610=\"\",ISBLANK(E44610)),\"\",VLOOKUP(E44610,Sheet2!A:F,2,FALSE))","v":""},{"$f":"IF(OR(E44610=\"\",ISBLANK(E44610)),\"\",VLOOKUP(E44610,Sheet2!A:G,4,FALSE))","v":""},"",{"$f":"IF(OR(E44610=\"\",ISBLANK(E44610)),\"\",VLOOKUP(E44610,Sheet2!A:H,3,FALSE))","v":""},null,{"$f":"IF(OR(E44610=\"\",ISBLANK(E44610)),\"\",VLOOKUP(E44610,Sheet2!A:G,6,FALSE))","v":""},""]
[{"$f":"IF(OR(E44637=\"\",ISBLANK(E44637)),\"\",VLOOKUP(E44637,Sheet2!A:F,2,FALSE))","v":""},{"$f":"IF(OR(E44637=\"\",ISBLANK(E44637)),\"\",VLOOKUP(E44637,Sheet2!A:G,4,FALSE))","v":""},"",{"$f":"IF(OR(E44637=\"\",ISBLANK(E44637)),\"\",VLOOKUP(E44637,Sheet2!A:H,3,FALSE))","v":""},null,{"$f":"IF(OR(E44637=\"\",ISBLANK(E44637)),\"\",VLOOKUP(E44637,Sheet2!A:G,6,FALSE))","v":""},""]
[{"$f":"IF(OR(E44662=\"\",ISBLANK(E44662)),\"\",VLOOKUP(E44662,Sheet2!A:F,2,FALSE))","v":""},{"$f":"IF(OR(E44662=\"\",ISBLANK(E44662)),\"\",VLOOKUP(E44662,Sheet2!A:G,4,FALSE))","v":""},"",{"$f":"IF(OR(E44662=\"\",ISBLANK(E44662)),\"\",VLOOKUP(E44662,Sheet2!A:H,3,FALSE))","v":""},null,{"$f":"IF(OR(E44662=\"\",ISBLANK(E44662)),\"\",VLOOKUP(E44662,Sheet2!A:G,6,FALSE))","v":""},""]
[{"$f":"IF(OR(E44699=\"\",ISBLANK(E44699)),\"\",VLOOKUP(E44699,Sheet2!A:F,2,FALSE))","v":""},{"$f":"IF(OR(E44699=\"\",ISBLANK(E44699)),\"\",VLOOKUP(E44699,Sheet2!A:G,4,FALSE))","v":""},"",{"$f":"IF(OR(E44699=\"\",ISBLANK(E44699)),\"\",VLOOKUP(E44699,Sheet2!A:H,3,FALSE))","v":""},null,{"$f":"IF(OR(E44699=\"\",ISBLANK(E44699)),\"\",VLOOKUP(E44699,Sheet2!A:G,6,FALSE))","v":""},""]
[{"$f":"IF(OR(E44705=\"\",ISBLANK(E44705)),\"\",VLOOKUP(E44705,Sheet2!A:F,2,FALSE))","v":""},{"$f":"IF(OR(E44705=\"\",ISBLANK(E44705)),\"\",VLOOKUP(E44705,Sheet2!A:G,4,FALSE))","v":""},"",{"$f":"IF(OR(E44705=\"\",ISBLANK(E44705)),\"\",VLOOKUP(E44705,Sheet2!A:H,3,FALSE))","v":""},null,{"$f":"IF(OR(E44705=\"\",ISBLANK(E44705)),\"\",VLOOKUP(E44705,Sheet2!A:G,6,FALSE))","v":""},""]
[{"$f":"IF(OR(E44749=\"\",ISBLANK(E44749)),\"\",VLOOKUP(E44749,Sheet2!A:F,2,FALSE))","v":""},{"$f":"IF(OR(E44749=\"\",ISBLANK(E44749)),\"\",VLOOKUP(E44749,Sheet2!A:G,4,FALSE))","v":""},"",{"$f":"IF(OR(E44749=\"\",ISBLANK(E44749)),\"\",VLOOKUP(E44749,Sheet2!A:H,3,FALSE))","v":""},null,{"$f":"IF(OR(E44749=\"\",ISBLANK(E44749)),\"\",VLOOKUP(E44749,Sheet2!A:G,6,FALSE))","v":""},""]
[{"$f":"IF(OR(E44764=\"\",ISBLANK(E44764)),\"\",VLOOKUP(E44764,Sheet2!A:F,2,FALSE))","v":""},{"$f":"IF(OR(E44764=\"\",ISBLANK(E44764)),\"\",VLOOKUP(E44764,Sheet2!A:G,4,FALSE))","v":""},"",{"$f":"IF(OR(E44764=\"\",ISBLANK(E44764)),\"\",VLOOKUP(E44764,Sheet2!A:H,3,FALSE))","v":""},null,{"$f":"IF(OR(E44764=\"\",ISBLANK(E44764)),\"\",VLOOKUP(E44764,Sheet2!A:G,6,FALSE))","v":""},""]
[{"$f":"IF(OR(E44797=\"\",ISBLANK(E44797)),\"\",VLOOKUP(E44797,Sheet2!A:F,2,FALSE))","v":""},{"$f":"IF(OR(E44797=\"\",ISBLANK(E44797)),\"\",VLOOKUP(E44797,Sheet2!A:G,4,FALSE))","v":""},"",{"$f":"IF(OR(E44797=\"\",ISBLANK(E44797)),\"\",VLOOKUP(E44797,Sheet2!A:H,3,FALSE))","v":""},null,{"$f":"IF(OR(E44797=\"\",ISBLANK(E44797)),\"\",VLOOKUP(E44797,Sheet2!A:G,6,FALSE))","v":""},""]
[{"$f":"IF(OR(E44813=\"\",ISBLANK(E44813)),\"\",VLOOKUP(E44813,Sheet2!A:F,2,FALSE))","v":""},{"$f":"IF(OR(E44813=\"\",ISBLANK(E44813)),\"\",VLOOKUP(E44813,Sheet2!A:G,4,FALSE))","v":""},"",{"$f":"IF(OR(E44813=\"\",ISBLANK(E44813)),\"\",VLOOKUP(E44813,Sheet2!A:H,3,FALSE))","v":""},null,{"$f":"IF(OR(E44813=\"\",ISBLANK(E44813)),\"\",VLOOKUP(E44813,Sheet2!A:G,6,FALSE))","v":""},""]
[{"$f":"IF(OR(E44832=\"\",ISBLANK(E44832)),\"\",VLOOKUP(E44832,Sheet2!A:F,2,FALSE))","v":""},{"$f":"IF(OR(E44832=\"\",ISBLANK(E44832)),\"\",VLOOKUP(E44832,Sheet2!A:G,4,FALSE))","v":""},"",{"$f":"IF(OR(E44832=\"\",ISBLANK(E44832)),\"\",VLOOKUP(E44832,Sheet2!A:H,3,FALSE))","v":""},null,{"$f":"IF(OR(E44832=\"\",ISBLANK(E44832)),\"\",VLOOKUP(E44832,Sheet2!A:G,6,FALSE))","v":""},""]
[{"$f":"IF(OR(E44857=\"\",ISBLANK(E44857)),\"\",VLOOKUP(E44857,Sheet2!A:F,2,FALSE))","v":""},{"$f":"IF(OR(E44857=\"\",ISBLANK(E44857)),\"\",VLOOKUP(E44857,Sheet2!A:G,4,FALSE))","v":""},"",{"$f":"IF(OR(E44857=\"\",ISBLANK(E44857)),\"\",VLOOKUP(E44857,Sheet2!A:H,3,FALSE))","v":""},null,{"$f":"IF(OR(E44857=\"\",ISBLANK(E44857)),\"\",VLOOKUP(E44857,Sheet2!A:G,6,FALSE))","v":""},""]
[{"$f":"IF(OR(E44877=\"\",ISBLANK(E44877)),\"\",VLOOKUP(E44877,Sheet2!A:F,2,FALSE))","v":""},{"$f":"IF(OR(E44877=\"\",ISBLANK(E44877)),\"\",VLOOKUP(E44877,Sheet2!A:G,4,FALSE))","v":""},"",{"$f":"IF(OR(E44877=\"\",ISBLANK(E44877)),\"\",VLOOKUP(E44877,Sheet2!A:H,3,FALSE))","v":""},null,{"$f":"IF(OR(E44877=\"\",ISBLANK(E44877)),\"\",VLOOKUP(E44877,Sheet2!A:G,6,FALSE))","v":""},""]
[{"$f":"IF(OR(E44900=\"\",ISBLANK(E44900)),\"\",VLOOKUP(E44900,Sheet2!A:F,2,FALSE))","v":""},{"$f":"IF(OR(E44900=\"\",ISBLANK(E44900)),\"\",VLOOKUP(E44900,Sheet2!A:G,4,FALSE))","v":""},"",{"$f":"IF(OR(E44900=\"\",ISBLANK(E44900)),\"\",VLOOKUP(E44900,Sheet2!A:H,3,FALSE))","v":""},null,{"$f":"IF(OR(E44900=\"\",ISBLANK(E44900)),\"\",VLOOKUP(E44900,Sheet2!A:G,6,FALSE))","v":""},""]
[{"$f":"IF(OR(E44927=\"\",ISBLANK(E44927)),\"\",VLOOKUP(E44927,Sheet2!A:F,2,FALSE))","v":""},{"$f":"IF(OR(E44927=\"\",ISBLANK(E44927)),\"\",VLOOKUP(E44927,Sheet2!A:G,4,FALSE))","v":""},"",{"$f":"IF(OR(E44927=\"\",ISBLANK(E44927)),\"\",VLOOKUP(E44927,Sheet2!A:H,3,FALSE))","v":""},null,{"$f":"IF(OR(E44927=\"\",ISBLANK(E44927)),\"\",VLOOKUP(E44927,Sheet2!A:G,6,FALSE))","v":""},""]
[{"$f":"IF(OR(E44959=\"\",ISBLANK(E44959)),\"\",VLOOKUP(E44959,Sheet2!A:F,2,FALSE))","v":""},{"$f":"IF(OR(E44959=\"\",ISBLANK(E44959)),\"\",VLOOKUP(E44959,Sheet2!A:G,4,FALSE))","v":""},"",{"$f":"IF(OR(E44959=\"\",ISBLANK(E44959)),\"\",VLOOKUP(E44959,Sheet2!A:H,3,FALSE))","v":""},null,{"$f":"IF(OR(E44959=\"\",ISBLANK(E44959)),\"\",VLOOKUP(E44959,Sheet2!A:G,6,FALSE))","v":""},""]
[{"$f":"IF(OR(E44984=\"\",ISBLANK(E44984)),\"\",VLOOKUP(E44984,Sheet2!A:F,2,FALSE))","v":""},{"$f":"IF(OR(E44984=\"\",ISBLANK(E44984)),\"\",VLOOKUP(E44984,Sheet2!A:G,4,FALSE))","v":""},"",{"$f":"IF(OR(E44984=\"\",ISBLANK(E44984)),\"\",VLOOKUP(E44984,Sheet2!A:H,3,FALSE))","v":""},null,{"$f":"IF(OR(E44984=\"\",ISBLANK(E44984)),\"\",VLOOKUP(E44984,Sheet2!A:G,6,FALSE))","v":""},""]
[{"$f":"IF(OR(E45016=\"\",ISBLANK(E45016)),\"\",VLOOKUP(E45016,Sheet2!A:F,2,FALSE))","v":""},{"$f":"IF(OR(E45016=\"\",ISBLANK(E45016)),\"\",VLOOKUP(E45016,Sheet2!A:G,4,FALSE))","v":""},"",{"$f":"IF(OR(E45016=\"\",ISBLANK(E45016)),\"\",VLOOKUP(E45016,Sheet2!A:H,3,FALSE))","v":""},null,{"$f":"IF(OR(E45016=\"\",ISBLANK(E45016)),\"\",VLOOKUP(E45016,Sheet2!A:G,6,FALSE))","v":""},""]
[{"$f":"IF(OR(E45027=\"\",ISBLANK(E45027)),\"\",VLOOKUP(E45027,Sheet2!A:F,2,FALSE))","v":""},{"$f":"IF(OR(E45027=\"\",ISBLANK(E45027)),\"\",VLOOKUP(E45027,Sheet2!A:G,4,FALSE))","v":""},"",{"$f":"IF(OR(E45027=\"\",ISBLANK(E45027)),\"\",VLOOKUP(E45027,Sheet2!A:H,3,FALSE))","v":""},null,{"$f":"IF(OR(E45027=\"\",ISBLANK(E45027)),\"\",VLOOKUP(E45027,Sheet2!A:G,6,FALSE))","v":""},""]
[{"$f":"IF(OR(E45066=\"\",ISBLANK(E45066)),\"\",VLOOKUP(E45066,Sheet2!A:F,2,FALSE))","v":""},{"$f":"IF(OR(E45066=\"\",ISBLANK(E45066)),\"\",VLOOKUP(E45066,Sheet2!A:G,4,FALSE))","v":""},"",{"$f":"IF(OR(E45066=\"\",ISBLANK(E45066)),\"\",VLOOKUP(E45066,Sheet2!A:H,3,FALSE))","v":""},null,{"$f":"IF(OR(E45066=\"\",ISBLANK(E45066)),\"\",VLOOKUP(E45066,Sheet2!A:G,6,FALSE))","v":""},""]
[{"$f":"IF(OR(E45086=\"\",ISBLANK(E45086)),\"\",VLOOKUP(E45086,Sheet2!A:F,2,FALSE))","v":""},{"$f":"IF(OR(E45086=\"\",ISBLANK(E45086)),\"\",VLOOKUP(E45086,Sheet2!A:G,4,FALSE))","v":""},"",{"$f":"IF(OR(E45086=\"\",ISBLANK(E45086)),\"\",VLOOKUP(E45086,Sheet2!A:H,3,FALSE))","v":""},null,{"$f":"IF(OR(E45086=\"\",ISBLANK(E45086)),\"\",VLOOKUP(E45086,Sheet2!A:G,6,FALSE))","v":""},""]
[{"$f":"IF(OR(E45095=\"\",ISBLANK(E45095)),\"\",VLOOKUP(E45095,Sheet2!A:F,2,FALSE))","v":""},{"$f":"IF(OR(E45095=\"\",ISBLANK(E45095)),\"\",VLOOKUP(E45095,Sheet2!A:G,4,FALSE))","v":""},"",{"$f":"IF(OR(E45095=\"\",ISBLANK(E45095)),\"\",VLOOKUP(E45095,Sheet2!A:H,3,FALSE))","v":""},null,{"$f":"IF(OR(E45095=\"\",ISBLANK(E45095)),\"\",VLOOKUP(E45095,Sheet2!A:G,6,FALSE))","v":""},""]
[{"$f":"IF(OR(E45130=\"\",ISBLANK(E45130)),\"\",VLOOKUP(E45130,Sheet2!A:F,2,FALSE))","v":""},{"$f":"IF(OR(E45130=\"\",ISBLANK(E45130)),\"\",VLOOKUP(E45130,Sheet2!A:G,4,FALSE))","v":""},"",{"$f":"IF(OR(E45130=\"\",ISBLANK(E45130)),\"\",VLOOKUP(E45130,Sheet2!A:H,3,FALSE))","v":""},null,{"$f":"IF(OR(E45130=\"\",ISBLANK(E45130)),\"\",VLOOKUP(E45130,Sheet2!A:G,6,FALSE))","v":""},""]
[{"$f":"IF(OR(E45154=\"\",ISBLANK(E45154)),\"\",VLOOKUP(E45154,Sheet2!A:F,2,FALSE))","v":""},{"$f":"IF(OR(E45154=\"\",ISBLANK(E45154)),\"\",VLOOKUP(E45154,Sheet2!A:G,4,FALSE))","v":""},"",{"$f":"IF(OR(E45154=\"\",ISBLANK(E45154)),\"\",VLOOKUP(E45154,Sheet2!A:H,3,FALSE))","v":""},null,{"$f":"IF(OR(E45154=\"\",ISBLANK(E45154)),\"\",VLOOKUP(E45154,Sheet2!A:G,6,FALSE))","v":""},""]
[{"$f":"IF(OR(E45180=\"\",ISBLANK(E45180)),\"\",VLOOKUP(E45180,Sheet2!A:F,2,FALSE))","v":""},{"$f":"IF(OR(E45180=\"\",ISBLANK(E45180)),\"\",VLOOKUP(E45180,Sheet2!A:G,4,FALSE))","v":""},"",{"$f":"IF(OR(E45180=\"\",ISBLANK(E45180)),\"\",VLOOKUP(E45180,Sheet2!A:H,3,FALSE))","v":""},null,{"$f":"IF(OR(E45180=\"\",ISBLANK(E45180)),\"\",VLOOKUP(E45180,Sheet2!A:G,6,FALSE))","v":""},""]
[{"$f":"IF(OR(E45213=\"\",ISBLANK(E45213)),\"\",VLOOKUP(E45213,Sheet2!A:F,2,FALSE))","v":""},{"$f":"IF(OR(E45213=\"\",ISBLANK(E45213)),\"\",VLOOKUP(E45213,Sheet2!A:G,4,FALSE))","v":""},"",{"$f":"IF(OR(E45213=\"\",ISBLANK(E45213)),\"\",VLOOKUP(E45213,Sheet2!A:H,3,FALSE))","v":""},null,{"$f":"IF(OR(E45213=\"\",ISBLANK(E45213)),\"\",VLOOKUP(E45213,Sheet2!A:G,6,FALSE))","v":""},""]
[{"$f":"IF(OR(E45222=\"\",ISBLANK(E45222)),\"\",VLOOKUP(E45222,Sheet2!A:F,2,FALSE))","v":""},{"$f":"IF(OR(E45222=\"\",ISBLANK(E45222)),\"\",VLOOKUP(E45222,Sheet2!A:G,4,FALSE))","v":""},"",{"$f":"IF(OR(E45222=\"\",ISBLANK(E45222)),\"\",VLOOKUP(E45222,Sheet2!A:H,3,FALSE))","v":""},null,{"$f":"IF(OR(E45222=\"\",ISBLANK(E45222)),\"\",VLOOKUP(E45222,Sheet2!A:G,6,FALSE))","v":""},""]
[{"$f":"IF(OR(E45244=\"\",ISBLANK(E45244)),\"\",VLOOKUP(E45244,Sheet2!A:F,2,FALSE))","v":""},{"$f":"IF(OR(E45244=\"\",ISBLANK(E45244)),\"\",VLOOKUP(E45244,Sheet2!A:G,4,FALSE))","v":""},"",{"$f":"IF(OR(E45244=\"\",ISBLANK(E45244)),\"\",VLOOKUP(E45244,Sheet2!A:H,3,FALSE))","v":""},null,{"$f":"IF(OR(E45244=\"\",ISBLANK(E45244)),\"\",VLOOKUP(E45244,Sheet2!A:G,6,FALSE))","v":""},""]
[{"$f":"IF(OR(E45281=\"\",ISBLANK(E45281)),\"\",VLOOKUP(E45281,Sheet2!A:F,2,FALSE))","v":""},{"$f":"IF(OR(E45281=\"\",ISBLANK(E45281)),\"\",VLOOKUP(E45281,Sheet2!A:G,4,FALSE))","v":""},"",{"$f":"IF(OR(E45281=\"\",ISBLANK(E45281)),\"\",VLOOKUP(E45281,Sheet2!A:H,3,FALSE))","v":""},null,{"$f":"IF(OR(E45281=\"\",ISBLANK(E45281)),\"\",VLOOKUP(E45281,Sheet2!A:G,6,FALSE))","v":""},""]
[{"$f":"IF(OR(E45290=\"\",ISBLANK(E45290)),\"\",VLOOKUP(E45290,Sheet2!A:F,2,FALSE))","v":""},{"$f":"IF(OR(E45290=\"\",ISBLANK(E45290)),\"\",VLOOKUP(E45290,Sheet2!A:G,4,FALSE))","v":""},"",{"$f":"IF(OR(E45290=\"\",ISBLANK(E45290)),\"\",VLOOKUP(E45290,Sheet2!A:H,3,FALSE))","v":""},null,{"$f":"IF(OR(E45290=\"\",ISBLANK(E45290)),\"\",VLOOKUP(E45290,Sheet2!A:G,6,FALSE))","v":""},""]
[{"$f":"IF(OR(E45333=\"\",ISBLANK(E45333)),\"\",VLOOKUP(E45333,Sheet2!A:F,2,FALSE))","v":""},{"$f":"IF(OR(E45333=\"\",ISBLANK(E45333)),\"\",VLOOKUP(E45333,Sheet2!A:G,4,FALSE))","v":""},"",{"$f":"IF(OR(E45333=\"\",ISBLANK(E45333)),\"\",VLOOKUP(E45333,Sheet2!A:H,3,FALSE))","v":""},null,{"$f":"IF(OR(E45333=\"\",ISBLANK(E45333)),\"\",VLOOKUP(E45333,Sheet2!A:G,6,FALSE))","v":""},""]
[{"$f":"IF(OR(E45349=\"\",ISBLANK(E45349)),\"\",VLOOKUP(E45349,Sheet2!A:F,2,FALSE))","v":""},{"$f":"IF(OR(E45349=\"\",ISBLANK(E45349)),\"\",VLOOKUP(E45349,Sheet2!A:G,4,FALSE))","v":""},"",{"$f":"IF(OR(E45349=\"\",ISBLANK(E45349)),\"\",VLOOKUP(E45349,Sheet2!A:H,3,FALSE))","v":""},null,{"$f":"IF(OR(E45349=\"\",ISBLANK(E45349)),\"\",VLOOKUP(E45349,Sheet2!A:G,6,FALSE))","v":""},""]
[{"$f":"IF(OR(E45383=\"\",ISBLANK(E45383)),\"\",VLOOKUP(E45383,Sheet2!A:F,2,FALSE))","v":""},{"$f":"IF(OR(E45383=\"\",ISBLANK(E45383)),\"\",VLOOKUP(E45383,Sheet2!A:G,4,FALSE))","v":""},"",{"$f":"IF(OR(E45383=\"\",ISBLANK(E45383)),\"\",VLOOKUP(E45383,Sheet2!A:H,3,FALSE))","v":""},null,{"$f":"IF(OR(E45383=\"\",ISBLANK(E45383)),\"\",VLOOKUP(E45383,Sheet2!A:G,6,FALSE))","v":""},""]
[{"$f":"IF(OR(E45408=\"\",ISBLANK(E45408)),\"\",VLOOKUP(E45408,Sheet2!A:F,2,FALSE))","v":""},{"$f":"IF(OR(E45408=\"\",ISBLANK(E45408)),\"\",VLOOKUP(E45408,Sheet2!A:G,4,FALSE))","v":""},"",{"$f":"IF(OR(E45408=\"\",ISBLANK(E45408)),\"\",VLOOKUP(E45408,Sheet2!A:H,3,FALSE))","v":""},null,{"$f":"IF(OR(E45408=\"\",ISBLANK(E45408)),\"\",VLOOKUP(E45408,Sheet2!A:G,6,FALSE))","v":""},""]
[{"$f":"IF(OR(E45417=\"\",ISBLANK(E45417)),\"\",VLOOKUP(E45417,Sheet2!A:F,2,FALSE))","v":""},{"$f":"IF(OR(E45417=\"\",ISBLANK(E45417)),\"\",VLOOKUP(E45417,Sheet2!A:G,4,FALSE))","v":""},"",{"$f":"IF(OR(E45417=\"\",ISBLANK(E45417)),\"\",VLOOKUP(E45417,Sheet2!A:H,3,FALSE))","v":""},null,{"$f":"IF(OR(E45417=\"\",ISBLANK(E45417)),\"\",VLOOKUP(E45417,Sheet2!A:G,6,FALSE))","v":""},""]
[{"$f":"IF(OR(E45447=\"\",ISBLANK(E45447)),\"\",VLOOKUP(E45447,Sheet2!A:F,2,FALSE))","v":""},{"$f":"IF(OR(E45447=\"\",ISBLANK(E45447)),\"\",VLOOKUP(E45447,Sheet2!A:G,4,FALSE))","v":""},"",{"$f":"IF(OR(E45447=\"\",ISBLANK(E45447)),\"\",VLOOKUP(E45447,Sheet2!A:H,3,FALSE))","v":""},null,{"$f":"IF(OR(E45447=\"\",ISBLANK(E45447)),\"\",VLOOKUP(E45447,Sheet2!A:G,6,FALSE))","v":""},""]
[{"$f":"IF(OR(E45476=\"\",ISBLANK(E45476)),\"\",VLOOKUP(E45476,Sheet2!A:F,2,FALSE))","v":""},{"$f":"IF(OR(E45476=\"\",ISBLANK(E45476)),\"\",VLOOKUP(E45476,Sheet2!A:G,4,FALSE))","v":""},"",{"$f":"IF(OR(E45476=\"\",ISBLANK(E45476)),\"\",VLOOKUP(E45476,Sheet2!A:H,3,FALSE))","v":""},null,{"$f":"IF(OR(E45476=\"\",ISBLANK(E45476)),\"\",VLOOKUP(E45476,Sheet2!A:G,6,FALSE))","v":""},""]
[{"$f":"IF(OR(E45497=\"\",ISBLANK(E45497)),\"\",VLOOKUP(E45497,Sheet2!A:F,2,FALSE))","v":""},{"$f":"IF(OR(E45497=\"\",ISBLANK(E45497)),\"\",VLOOKUP(E45497,Sheet2!A:G,4,FALSE))","v":""},"",{"$f":"IF(OR(E45497=\"\",ISBLANK(E45497)),\"\",VLOOKUP(E45497,Sheet2!A:H,3,FALSE))","v":""},null,{"$f":"IF(OR(E45497=\"\",ISBLANK(E45497)),\"\",VLOOKUP(E45497,Sheet2!A:G,6,FALSE))","v":""},""]
[{"$f":"IF(OR(E45511=\"\",ISBLANK(E45511)),\"\",VLOOKUP(E45511,Sheet2!A:F,2,FALSE))","v":""},{"$f":"IF(OR(E45511=\"\",ISBLANK(E45511)),\"\",VLOOKUP(E45511,Sheet2!A:G,4,FALSE))","v":""},"",{"$f":"IF(OR(E45511=\"\",ISBLANK(E45511)),\"\",VLOOKUP(E45511,Sheet2!A:H,3,FALSE))","v":""},null,{"$f":"IF(OR(E45511=\"\",ISBLANK(E45511)),\"\",VLOOKUP(E45511,Sheet2!A:G,6,FALSE))","v":""},""]
[{"$f":"IF(OR(E45544=\"\",ISBLANK(E45544)),\"\",VLOOKUP(E45544,Sheet2!A:F,2,FALSE))","v":""},{"$f":"IF(OR(E45544=\"\",ISBLANK(E45544)),\"\",VLOOKUP(E45544,Sheet2!A:G,4,FALSE))","v":""},"",{"$f":"IF(OR(E45544=\"\",ISBLANK(E45544)),\"\",VLOOKUP(E45544,Sheet2!A:H,3,FALSE))","v":""},null,{"$f":"IF(OR(E45544=\"\",ISBLANK(E45544)),\"\",VLOOKUP(E45544,Sheet2!A:G,6,FALSE))","v":""},""]
[{"$f":"IF(OR(E45561=\"\",ISBLANK(E45561)),\"\",VLOOKUP(E45561,Sheet2!A:F,2,FALSE))","v":""},{"$f":"IF(OR(E45561=\"\",ISBLANK(E45561)),\"\",VLOOKUP(E45561,Sheet2!A:G,4,FALSE))","v":""},"",{"$f":"IF(OR(E45561=\"\",ISBLANK(E45561)),\"\",VLOOKUP(E45561,Sheet2!A:H,3,FALSE))","v":""},null,{"$f":"IF(OR(E45561=\"\",ISBLANK(E45561)),\"\",VLOOKUP(E45561,Sheet2!A:G,6,FALSE))","v":""},""]
[{"$f":"IF(OR(E45603=\"\",ISBLANK(E45603)),\"\",VLOOKUP(E45603,Sheet2!A:F,2,FALSE))","v":""},{"$f":"IF(OR(E45603=\"\",ISBLANK(E45603)),\"\",VLOOKUP(E45603,Sheet2!A:G,4,FALSE))","v":""},"",{"$f":"IF(OR(E45603=\"\",ISBLANK(E45603)),\"\",VLOOKUP(E45603,Sheet2!A:H,3,FALSE))","v":""},null,{"$f":"IF(OR(E45603=\"\",ISBLANK(E45603)),\"\",VLOOKUP(E45603,Sheet2!A:G,6,FALSE))","v":""},""]
[{"$f":"IF(OR(E45615=\"\",ISBLANK(E45615)),\"\",VLOOKUP(E45615,Sheet2!A:F,2,FALSE))","v":""},{"$f":"IF(OR(E45615=\"\",ISBLANK(E45615)),\"\",VLOOKUP(E45615,Sheet2!A:G,4,FALSE))","v":""},"",{"$f":"IF(OR(E45615=\"\",ISBLANK(E45615)),\"\",VLOOKUP(E45615,Sheet2!A:H,3,FALSE))","v":""},null,{"$f":"IF(OR(E45615=\"\",ISBLANK(E45615)),\"\",VLOOKUP(E45615,Sheet2!A:G,6,FALSE))","v":""},""]
[{"$f":"IF(OR(E45638=\"\",ISBLANK(E45638)),\"\",VLOOKUP(E45638,Sheet2!A:F,2,FALSE))","v":""},{"$f":"IF(OR(E45638=\"\",ISBLANK(E45638)),\"\",VLOOKUP(E45638,Sheet2!A:G,4,FALSE))","v":""},"",{"$f":"IF(OR(E45638=\"\",ISBLANK(E45638)),\"\",VLOOKUP(E45638,Sheet2!A:H,3,FALSE))","v":""},null,{"$f":"IF(OR(E45638=\"\",ISBLANK(E45638)),\"\",VLOOKUP(E45638,Sheet2!A:G,6,FALSE))","v":""},""]
[{"$f":"IF(OR(E45671=\"\",ISBLANK(E45671)),\"\",VLOOKUP(E45671,Sheet2!A:F,2,FALSE))","v":""},{"$f":"IF(OR(E45671=\"\",ISBLANK(E45671)),\"\",VLOOKUP(E45671,Sheet2!A:G,4,FALSE))","v":""},"",{"$f":"IF(OR(E45671=\"\",ISBLANK(E45671)),\"\",VLOOKUP(E45671,Sheet2!A:H,3,FALSE))","v":""},null,{"$f":"IF(OR(E45671=\"\",ISBLANK(E45671)),\"\",VLOOKUP(E45671,Sheet2!A:G,6,FALSE))","v":""},""]
[{"$f":"IF(OR(E45700=\"\",ISBLANK(E45700)),\"\",VLOOKUP(E45700,Sheet2!A:F,2,FALSE))","v":""},{"$f":"IF(OR(E45700=\"\",ISBLANK(E45700)),\"\",VLOOKUP(E45700,Sheet2!A:G,4,FALSE))","v":""},"",{"$f":"IF(OR(E45700=\"\",ISBLANK(E45700)),\"\",VLOOKUP(E45700,Sheet2!A:H,3,FALSE))","v":""},null,{"$f":"IF(OR(E45700=\"\",ISBLANK(E45700)),\"\",VLOOKUP(E45700,Sheet2!A:G,6,FALSE))","v":""},""]
[{"$f":"IF(OR(E45706=\"\",ISBLANK(E45706)),\"\",VLOOKUP(E45706,Sheet2!A:F,2,FALSE))","v":""},{"$f":"IF(OR(E45706=\"\",ISBLANK(E45706)),\"\",VLOOKUP(E45706,Sheet2!A:G,4,FALSE))","v":""},"",{"$f":"IF(OR(E45706=\"\",ISBLANK(E45706)),\"\",VLOOKUP(E45706,Sheet2!A:H,3,FALSE))","v":""},null,{"$f":"IF(OR(E45706=\"\",ISBLANK(E45706)),\"\",VLOOKUP(E45706,Sheet2!A:G,6,FALSE))","v":""},""]
[{"$f":"IF(OR(E45739=\"\",ISBLANK(E45739)),\"\",VLOOKUP(E45739,Sheet2!A:F,2,FALSE))","v":""},{"$f":"IF(OR(E45739=\"\",ISBLANK(E45739)),\"\",VLOOKUP(E45739,Sheet2!A:G,4,FALSE))","v":""},"",{"$f":"IF(OR(E45739=\"\",ISBLANK(E45739)),\"\",VLOOKUP(E45739,Sheet2!A:H,3,FALSE))","v":""},null,{"$f":"IF(OR(E45739=\"\",ISBLANK(E45739)),\"\",VLOOKUP(E45739,Sheet2!A:G,6,FALSE))","v":""},""]
[{"$f":"IF(OR(E45764=\"\",ISBLANK(E45764)),\"\",VLOOKUP(E45764,Sheet2!A:F,2,FALSE))","v":""},{"$f":"IF(OR(E45764=\"\",ISBLANK(E45764)),\"\",VLOOKUP(E45764,Sheet2!A:G,4,FALSE))","v":""},"",{"$f":"IF(OR(E45764=\"\",ISBLANK(E45764)),\"\",VLOOKUP(E45764,Sheet2!A:H,3,FALSE))","v":""},null,{"$f":"IF(OR(E45764=\"\",ISBLANK(E45764)),\"\",VLOOKUP(E45764,Sheet2!A:G,6,FALSE))","v":""},""]
[{"$f":"IF(OR(E45798=\"\",ISBLANK(E45798)),\"\",VLOOKUP(E45798,Sheet2!A:F,2,FALSE))","v":""},{"$f":"IF(OR(E45798=\"\",ISBLANK(E45798)),\"\",VLOOKUP(E45798,Sheet2!A:G,4,FALSE))","v":""},"",{"$f":"IF(OR(E45798=\"\",ISBLANK(E45798)),\"\",VLOOKUP(E45798,Sheet2!A:H,3,FALSE))","v":""},null,{"$f":"IF(OR(E45798=\"\",ISBLANK(E45798)),\"\",VLOOKUP(E45798,Sheet2!A:G,6,FALSE))","v":""},""]
[{"$f":"IF(OR(E45814=\"\",ISBLANK(E45814)),\"\",VLOOKUP(E45814,Sheet2!A:F,2,FALSE))","v":""},{"$f":"IF(OR(E45814=\"\",ISBLANK(E45814)),\"\",VLOOKUP(E45814,Sheet2!A:G,4,FALSE))","v":""},"",{"$f":"IF(OR(E45814=\"\",ISBLANK(E45814)),\"\",VLOOKUP(E45814,Sheet2!A:H,3,FALSE))","v":""},null,{"$f":"IF(OR(E45814=\"\",ISBLANK(E45814)),\"\",VLOOKUP(E45814,Sheet2!A:G,6,FALSE))","v":""},""]
[{"$f":"IF(OR(E45833=\"\",ISBLANK(E45833)),\"\",VLOOKUP(E45833,Sheet2!A:F,2,FALSE))","v":""},{"$f":"IF(OR(E45833=\"\",ISBLANK(E45833)),\"\",VLOOKUP(E45833,Sheet2!A:G,4,FALSE))","v":""},"",{"$f":"IF(OR(E45833=\"\",ISBLANK(E45833)),\"\",VLOOKUP(E45833,Sheet2!A:H,3,FALSE))","v":""},null,{"$f":"IF(OR(E45833=\"\",ISBLANK(E45833)),\"\",VLOOKUP(E45833,Sheet2!A:G,6,FALSE))","v":""},""]
[{"$f":"IF(OR(E45866=\"\",ISBLANK(E45866)),\"\",VLOOKUP(E45866,Sheet2!A:F,2,FALSE))","v":""},{"$f":"IF(OR(E45866=\"\",ISBLANK(E45866)),\"\",VLOOKUP(E45866,Sheet2!A:G,4,FALSE))","v":""},"",{"$f":"IF(OR(E45866=\"\",ISBLANK(E45866)),\"\",VLOOKUP(E45866,Sheet2!A:H,3,FALSE))","v":""},null,{"$f":"IF(OR(E45866=\"\",ISBLANK(E45866)),\"\",VLOOKUP(E45866,Sheet2!A:G,6,FALSE))","v":""},""]
[{"$f":"IF(OR(E45878=\"\",ISBLANK(E45878)),\"\",VLOOKUP(E45878,Sheet2!A:F,2,FALSE))","v":""},{"$f":"IF(OR(E45878=\"\",ISBLANK(E45878)),\"\",VLOOKUP(E45878,Sheet2!A:G,4,FALSE))","v":""},"",{"$f":"IF(OR(E45878=\"\",ISBLANK(E45878)),\"\",VLOOKUP(E45878,Sheet2!A:H,3,FALSE))","v":""},null,{"$f":"IF(OR(E45878=\"\",ISBLANK(E45878)),\"\",VLOOKUP(E45878,Sheet2!A:G,6,FALSE))","v":""},""]
[{"$f":"IF(OR(E45901=\"\",ISBLANK(E45901)),\"\",VLOOKUP(E45901,Sheet2!A:F,2,FALSE))","v":""},{"$f":"IF(OR(E45901=\"\",ISBLANK(E45901)),\"\",VLOOKUP(E45901,Sheet2!A:G,4,FALSE))","v":""},"",{"$f":"IF(OR(E45901=\"\",ISBLANK(E45901)),\"\",VLOOKUP(E45901,Sheet2!A:H,3,FALSE))","v":""},null,{"$f":"IF(OR(E45901=\"\",ISBLANK(E45901)),\"\",VLOOKUP(E45901,Sheet2!A:G,6,FALSE))","v":""},""]
[{"$f":"IF(OR(E45932=\"\",ISBLANK(E45932)),\"\",VLOOKUP(E45932,Sheet2!A:F,2,FALSE))","v":""},{"$f":"IF(OR(E45932=\"\",ISBLANK(E45932)),\"\",VLOOKUP(E45932,Sheet2!A:G,4,FALSE))","v":""},"",{"$f":"IF(OR(E45932=\"\",ISBLANK(E45932)),\"\",VLOOKUP(E45932,Sheet2!A:H,3,FALSE))","v":""},null,{"$f":"IF(OR(E45932=\"\",ISBLANK(E45932)),\"\",VLOOKUP(E45932,Sheet2!A:G,6,FALSE))","v":""},""]
[{"$f":"IF(OR(E45960=\"\",ISBLANK(E45960)),\"\",VLOOKUP(E45960,Sheet2!A:F,2,FALSE))","v":""},{"$f":"IF(OR(E45960=\"\",ISBLANK(E45960)),\"\",VLOOKUP(E45960,Sheet2!A:G,4,FALSE))","v":""},"",{"$f":"IF(OR(E45960=\"\",ISBLANK(E45960)),\"\",VLOOKUP(E45960,Sheet2!A:H,3,FALSE))","v":""},null,{"$f":"IF(OR(E45960=\"\",ISBLANK(E45960)),\"\",VLOOKUP(E45960,Sheet2!A:G,6,FALSE))","v":""},""]
[{"$f":"IF(OR(E45993=\"\",ISBLANK(E45993)),\"\",VLOOKUP(E45993,Sheet2!A:F,2,FALSE))","v":""},{"$f":"IF(OR(E45993=\"\",ISBLANK(E45993)),\"\",VLOOKUP(E45993,Sheet2!A:G,4,FALSE))","v":""},"",{"$f":"IF(OR(E45993=\"\",ISBLANK(E45993)),\"\",VLOOKUP(E45993,Sheet2!A:H,3,FALSE))","v":""},null,{"$f":"IF(OR(E45993=\"\",ISBLANK(E45993)),\"\",VLOOKUP(E45993,Sheet2!A:G,6,FALSE))","v":""},""]
[{"$f":"IF(OR(E46017=\"\",ISBLANK(E46017)),\"\",VLOOKUP(E46017,Sheet2!A:F,2,FALSE))","v":""},{"$f":"IF(OR(E46017=\"\",ISBLANK(E46017)),\"\",VLOOKUP(E46017,Sheet2!A:G,4,FALSE))","v":""},"",{"$f":"IF(OR(E46017=\"\",ISBLANK(E46017)),\"\",VLOOKUP(E46017,Sheet2!A:H,3,FALSE))","v":""},null,{"$f":"IF(OR(E46017=\"\",ISBLANK(E46017)),\"\",VLOOKUP(E46017,Sheet2!A:G,6,FALSE))","v":""},""]
[{"$f":"IF(OR(E46028=\"\",ISBLANK(E46028)),\"\",VLOOKUP(E46028,Sheet2!A:F,2,FALSE))","v":""},{"$f":"IF(OR(E46028=\"\",ISBLANK(E46028)),\"\",VLOOKUP(E46028,Sheet2!A:G,4,FALSE))","v":""},"",{"$f":"IF(OR(E46028=\"\",ISBLANK(E46028)),\"\",VLOOKUP(E46028,Sheet2!A:H,3,FALSE))","v":""},null,{"$f":"IF(OR(E46028=\"\",ISBLANK(E46028)),\"\",VLOOKUP(E46028,Sheet2!A:G,6,FALSE))","v":""},""]
[{"$f":"IF(OR(E46046=\"\",ISBLANK(E46046)),\"\",VLOOKUP(E46046,Sheet2!A:F,2,FALSE))","v":""},{"$f":"IF(OR(E46046=\"\",ISBLANK(E46046)),\"\",VLOOKUP(E46046,Sheet2!A:G,4,FALSE))","v":""},"",{"$f":"IF(OR(E46046=\"\",ISBLANK(E46046)),\"\",VLOOKUP(E46046,Sheet2!A:H,3,FALSE))","v":""},null,{"$f":"IF(OR(E46046=\"\",ISBLANK(E46046)),\"\",VLOOKUP(E46046,Sheet2!A:G,6,FALSE))","v":""},""]
[{"$f":"IF(OR(E46087=\"\",ISBLANK(E46087)),\"\",VLOOKUP(E46087,Sheet2!A:F,2,FALSE))","v":""},{"$f":"IF(OR(E46087=\"\",ISBLANK(E46087)),\"\",VLOOKUP(E46087,Sheet2!A:G,4,FALSE))","v":""},"",{"$f":"IF(OR(E46087=\"\",ISBLANK(E46087)),\"\",VLOOKUP(E46087,Sheet2!A:H,3,FALSE))","v":""},null,{"$f":"IF(OR(E46087=\"\",ISBLANK(E46087)),\"\",VLOOKUP(E46087,Sheet2!A:G,6,FALSE))","v":""},""]
[{"$f":"IF(OR(E46096=\"\",ISBLANK(E46096)),\"\",VLOOKUP(E46096,Sheet2!A:F,2,FALSE))","v":""},{"$f":"IF(OR(E46096=\"\",ISBLANK(E46096)),\"\",VLOOKUP(E46096,Sheet2!A:G,4,FALSE))","v":""},"",{"$f":"IF(OR(E46096=\"\",ISBLANK(E46096)),\"\",VLOOKUP(E46096,Sheet2!A:H,3,FALSE))","v":""},null,{"$f":"IF(OR(E46096=\"\",ISBLANK(E46096)),\"\",VLOOKUP(E46096,Sheet2!A:G,6,FALSE))","v":""},""]
[{"$f":"IF(OR(E46135=\"\",ISBLANK(E46135)),\"\",VLOOKUP(E46135,Sheet2!A:F,2,FALSE))","v":""},{"$f":"IF(OR(E46135=\"\",ISBLANK(E46135)),\"\",VLOOKUP(E46135,Sheet2!A:G,4,FALSE))","v":""},"",{"$f":"IF(OR(E46135=\"\",ISBLANK(E46135)),\"\",VLOOKUP(E46135,Sheet2!A:H,3,FALSE))","v":""},null,{"$f":"IF(OR(E46135=\"\",ISBLANK(E46135)),\"\",VLOOKUP(E46135,Sheet2!A:G,6,FALSE))","v":""},""]
[{"$f":"IF(OR(E46155=\"\",ISBLANK(E46155)),\"\",VLOOKUP(E46155,Sheet2!A:F,2,FALSE))","v":""},{"$f":"IF(OR(E46155=\"\",ISBLANK(E46155)),\"\",VLOOKUP(E46155,Sheet2!A:G,4,FALSE))","v":""},"",{"$f":"IF(OR(E46155=\"\",ISBLANK(E46155)),\"\",VLOOKUP(E46155,Sheet2!A:H,3,FALSE))","v":""},null,{"$f":"IF(OR(E46155=\"\",ISBLANK(E46155)),\"\",VLOOKUP(E46155,Sheet2!A:G,6,FALSE))","v":""},""]
[{"$f":"IF(OR(E46188=\"\",ISBLANK(E46188)),\"\",VLOOKUP(E46188,Sheet2!A:F,2,FALSE))","v":""},{"$f":"IF(OR(E46188=\"\",ISBLANK(E46188)),\"\",VLOOKUP(E46188,Sheet2!A:G,4,FALSE))","v":""},"",{"$f":"IF(OR(E46188=\"\",ISBLANK(E46188)),\"\",VLOOKUP(E46188,Sheet2!A:H,3,FALSE))","v":""},null,{"$f":"IF(OR(E46188=\"\",ISBLANK(E46188)),\"\",VLOOKUP(E46188,Sheet2!A:G,6,FALSE))","v":""},""]
[{"$f":"IF(OR(E46195=\"\",ISBLANK(E46195)),\"\",VLOOKUP(E46195,Sheet2!A:F,2,FALSE))","v":""},{"$f":"IF(OR(E46195=\"\",ISBLANK(E46195)),\"\",VLOOKUP(E46195,Sheet2!A:G,4,FALSE))","v":""},"",{"$f":"IF(OR(E46195=\"\",ISBLANK(E46195)),\"\",VLOOKUP(E46195,Sheet2!A:H,3,FALSE))","v":""},null,{"$f":"IF(OR(E46195=\"\",ISBLANK(E46195)),\"\",VLOOKUP(E46195,Sheet2!A:G,6,FALSE))","v":""},""]
[{"$f":"IF(OR(E46223=\"\",ISBLANK(E46223)),\"\",VLOOKUP(E46223,Sheet2!A:F,2,FALSE))","v":""},{"$f":"IF(OR(E46223=\"\",ISBLANK(E46223)),\"\",VLOOKUP(E46223,Sheet2!A:G,4,FALSE))","v":""},"",{"$f":"IF(OR(E46223=\"\",ISBLANK(E46223)),\"\",VLOOKUP(E46223,Sheet2!A:H,3,FALSE))","v":""},null,{"$f":"IF(OR(E46223=\"\",ISBLANK(E46223)),\"\",VLOOKUP(E46223,Sheet2!A:G,6,FALSE))","v":""},""]
[{"$f":"IF(OR(E46249=\"\",ISBLANK(E46249)),\"\",VLOOKUP(E46249,Sheet2!A:F,2,FALSE))","v":""},{"$f":"IF(OR(E46249=\"\",ISBLANK(E46249)),\"\",VLOOKUP(E46249,Sheet2!A:G,4,FALSE))","v":""},"",{"$f":"IF(OR(E46249=\"\",ISBLANK(E46249)),\"\",VLOOKUP(E46249,Sheet2!A:H,3,FALSE))","v":""},null,{"$f":"IF(OR(E46249=\"\",ISBLANK(E46249)),\"\",VLOOKUP(E46249,Sheet2!A:G,6,FALSE))","v":""},""]
[{"$f":"IF(OR(E46282=\"\",ISBLANK(E46282)),\"\",VLOOKUP(E46282,Sheet2!A:F,2,FALSE))","v":""},{"$f":"IF(OR(E46282=\"\",ISBLANK(E46282)),\"\",VLOOKUP(E46282,Sheet2!A:G,4,FALSE))","v":""},"",{"$f":"IF(OR(E46282=\"\",ISBLANK(E46282)),\"\",VLOOKUP(E46282,Sheet2!A:H,3,FALSE))","v":""},null,{"$f":"IF(OR(E46282=\"\",ISBLANK(E46282)),\"\",VLOOKUP(E46282,Sheet2!A:G,6,FALSE))","v":""},""]
[{"$f":"IF(OR(E46291=\"\",ISBLANK(E46291)),\"\",VLOOKUP(E46291,Sheet2!A:F,2,FALSE))","v":""},{"$f":"IF(OR(E46291=\"\",ISBLANK(E46291)),\"\",VLOOKUP(E46291,Sheet2!A:G,4,FALSE))","v":""},"",{"$f":"IF(OR(E46291=\"\",ISBLANK(E46291)),\"\",VLOOKUP(E46291,Sheet2!A:H,3,FALSE))","v":""},null,{"$f":"IF(OR(E46291=\"\",ISBLANK(E46291)),\"\",VLOOKUP(E46291,Sheet2!A:G,6,FALSE))","v":""},""]
[{"$f":"IF(OR(E46334=\"\",ISBLANK(E46334)),\"\",VLOOKUP(E46334,Sheet2!A:F,2,FALSE))","v":""},{"$f":"IF(OR(E46334=\"\",ISBLANK(E46334)),\"\",VLOOKUP(E46334,Sheet2!A:G,4,FALSE))","v":""},"",{"$f":"IF(OR(E46334=\"\",ISBLANK(E46334)),\"\",VLOOKUP(E46334,Sheet2!A:H,3,FALSE))","v":""},null,{"$f":"IF(OR(E46334=\"\",ISBLANK(E46334)),\"\",VLOOKUP(E46334,Sheet2!A:G,6,FALSE))","v":""},""]
[{"$f":"IF(OR(E46350=\"\",ISBLANK(E46350)),\"\",VLOOKUP(E46350,Sheet2!A:F,2,FALSE))","v":""},{"$f":"IF(OR(E46350=\"\",ISBLANK(E46350)),\"\",VLOOKUP(E46350,Sheet2!A:G,4,FALSE))","v":""},"",{"$f":"IF(OR(E46350=\"\",ISBLANK(E46350)),\"\",VLOOKUP(E46350,Sheet2!A:H,3,FALSE))","v":""},null,{"$f":"IF(OR(E46350=\"\",ISBLANK(E46350)),\"\",VLOOKUP(E46350,Sheet2!A:G,6,FALSE))","v":""},""]
[{"$f":"IF(OR(E46363=\"\",ISBLANK(E46363)),\"\",VLOOKUP(E46363,Sheet2!A:F,2,FALSE))","v":""},{"$f":"IF(OR(E46363=\"\",ISBLANK(E46363)),\"\",VLOOKUP(E46363,Sheet2!A:G,4,FALSE))","v":""},"",{"$f":"IF(OR(E46363=\"\",ISBLANK(E46363)),\"\",VLOOKUP(E46363,Sheet2!A:H,3,FALSE))","v":""},null,{"$f":"IF(OR(E46363=\"\",ISBLANK(E46363)),\"\",VLOOKUP(E46363,Sheet2!A:G,6,FALSE))","v":""},""]
[{"$f":"IF(OR(E46409=\"\",ISBLANK(E46409)),\"\",VLOOKUP(E46409,Sheet2!A:F,2,FALSE))","v":""},{"$f":"IF(OR(E46409=\"\",ISBLANK(E46409)),\"\",VLOOKUP(E46409,Sheet2!A:G,4,FALSE))","v":""},"",{"$f":"IF(OR(E46409=\"\",ISBLANK(E46409)),\"\",VLOOKUP(E46409,Sheet2!A:H,3,FALSE))","v":""},null,{"$f":"IF(OR(E46409=\"\",ISBLANK(E46409)),\"\",VLOOKUP(E46409,Sheet2!A:G,6,FALSE))","v":""},""]
[{"$f":"IF(OR(E46418=\"\",ISBLANK(E46418)),\"\",VLOOKUP(E46418,Sheet2!A:F,2,FALSE))","v":""},{"$f":"IF(OR(E46418=\"\",ISBLANK(E46418)),\"\",VLOOKUP(E46418,Sheet2!A:G,4,FALSE))","v":""},"",{"$f":"IF(OR(E46418=\"\",ISBLANK(E46418)),\"\",VLOOKUP(E46418,Sheet2!A:H,3,FALSE))","v":""},null,{"$f":"IF(OR(E46418=\"\",ISBLANK(E46418)),\"\",VLOOKUP(E46418,Sheet2!A:G,6,FALSE))","v":""},""]
[{"$f":"IF(OR(E46452=\"\",ISBLANK(E46452)),\"\",VLOOKUP(E46452,Sheet2!A:F,2,FALSE))","v":""},{"$f":"IF(OR(E46452=\"\",ISBLANK(E46452)),\"\",VLOOKUP(E46452,Sheet2!A:G,4,FALSE))","v":""},"",{"$f":"IF(OR(E46452=\"\",ISBLANK(E46452)),\"\",VLOOKUP(E46452,Sheet2!A:H,3,FALSE))","v":""},null,{"$f":"IF(OR(E46452=\"\",ISBLANK(E46452)),\"\",VLOOKUP(E46452,Sheet2!A:G,6,FALSE))","v":""},""]
[{"$f":"IF(OR(E46477=\"\",ISBLANK(E46477)),\"\",VLOOKUP(E46477,Sheet2!A:F,2,FALSE))","v":""},{"$f":"IF(OR(E46477=\"\",ISBLANK(E46477)),\"\",VLOOKUP(E46477,Sheet2!A:G,4,FALSE))","v":""},"",{"$f":"IF(OR(E46477=\"\",ISBLANK(E46477)),\"\",VLOOKUP(E46477,Sheet2!A:H,3,FALSE))","v":""},null,{"$f":"IF(OR(E46477=\"\",ISBLANK(E46477)),\"\",VLOOKUP(E46477,Sheet2!A:G,6,FALSE))","v":""},""]
[{"$f":"IF(OR(E46502=\"\",ISBLANK(E46502)),\"\",VLOOKUP(E46502,Sheet2!A:F,2,FALSE))","v":""},{"$f":"IF(OR(E46502=\"\",ISBLANK(E46502)),\"\",VLOOKUP(E46502,Sheet2!A:G,4,FALSE))","v":""},"",{"$f":"IF(OR(E46502=\"\",ISBLANK(E46502)),\"\",VLOOKUP(E46502,Sheet2!A:H,3,FALSE))","v":""},null,{"$f":"IF(OR(E46502=\"\",ISBLANK(E46502)),\"\",VLOOKUP(E46502,Sheet2!A:G,6,FALSE))","v":""},""]
[{"$f":"IF(OR(E46512=\"\",ISBLANK(E46512)),\"\",VLOOKUP(E46512,Sheet2!A:F,2,FALSE))","v":""},{"$f":"IF(OR(E46512=\"\",ISBLANK(E46512)),\"\",VLOOKUP(E46512,Sheet2!A:G,4,FALSE))","v":""},"",{"$f":"IF(OR(E46512=\"\",ISBLANK(E46512)),\"\",VLOOKUP(E46512,Sheet2!A:H,3,FALSE))","v":""},null,{"$f":"IF(OR(E46512=\"\",ISBLANK(E46512)),\"\",VLOOKUP(E46512,Sheet2!A:G,6,FALSE))","v":""},""]
[{"$f":"IF(OR(E46545=\"\",ISBLANK(E46545)),\"\",VLOOKUP(E46545,Sheet2!A:F,2,FALSE))","v":""},{"$f":"IF(OR(E46545=\"\",ISBLANK(E46545)),\"\",VLOOKUP(E46545,Sheet2!A:G,4,FALSE))","v":""},"",{"$f":"IF(OR(E46545=\"\",ISBLANK(E46545)),\"\",VLOOKUP(E46545,Sheet2!A:H,3,FALSE))","v":""},null,{"$f":"IF(OR(E46545=\"\",ISBLANK(E46545)),\"\",VLOOKUP(E46545,Sheet2!A:G,6,FALSE))","v":""},""]
[{"$f":"IF(OR(E46566=\"\",ISBLANK(E46566)),\"\",VLOOKUP(E46566,Sheet2!A:F,2,FALSE))","v":""},{"$f":"IF(OR(E46566=\"\",ISBLANK(E46566)),\"\",VLOOKUP(E46566,Sheet2!A:G,4,FALSE))","v":""},"",{"$f":"IF(OR(E46566=\"\",ISBLANK(E46566)),\"\",VLOOKUP(E46566,Sheet2!A:H,3,FALSE))","v":""},null,{"$f":"IF(OR(E46566=\"\",ISBLANK(E46566)),\"\",VLOOKUP(E46566,Sheet2!A:G,6,FALSE))","v":""},""]
[{"$f":"IF(OR(E46604=\"\",ISBLANK(E46604)),\"\",VLOOKUP(E46604,Sheet2!A:F,2,FALSE))","v":""},{"$f":"IF(OR(E46604=\"\",ISBLANK(E46604)),\"\",VLOOKUP(E46604,Sheet2!A:G,4,FALSE))","v":""},"",{"$f":"IF(OR(E46604=\"\",ISBLANK(E46604)),\"\",VLOOKUP(E46604,Sheet2!A:H,3,FALSE))","v":""},null,{"$f":"IF(OR(E46604=\"\",ISBLANK(E46604)),\"\",VLOOKUP(E46604,Sheet2!A:G,6,FALSE))","v":""},""]
[{"$f":"IF(OR(E46613=\"\",ISBLANK(E46613)),\"\",VLOOKUP(E46613,Sheet2!A:F,2,FALSE))","v":""},{"$f":"IF(OR(E46613=\"\",ISBLANK(E46613)),\"\",VLOOKUP(E46613,Sheet2!A:G,4,FALSE))","v":""},"",{"$f":"IF(OR(E46613=\"\",ISBLANK(E46613)),\"\",VLOOKUP(E46613,Sheet2!A:H,3,FALSE))","v":""},null,{"$f":"IF(OR(E46613=\"\",ISBLANK(E46613)),\"\",VLOOKUP(E46613,Sheet2!A:G,6,FALSE))","v":""},""]
[{"$f":"IF(OR(E46655=\"\",ISBLANK(E46655)),\"\",VLOOKUP(E46655,Sheet2!A:F,2,FALSE))","v":""},{"$f":"IF(OR(E46655=\"\",ISBLANK(E46655)),\"\",VLOOKUP(E46655,Sheet2!A:G,4,FALSE))","v":""},"",{"$f":"IF(OR(E46655=\"\",ISBLANK(E46655)),\"\",VLOOKUP(E46655,Sheet2!A:H,3,FALSE))","v":""},null,{"$f":"IF(OR(E46655=\"\",ISBLANK(E46655)),\"\",VLOOKUP(E46655,Sheet2!A:G,6,FALSE))","v":""},""]
[{"$f":"IF(OR(E46672=\"\",ISBLANK(E46672)),\"\",VLOOKUP(E46672,Sheet2!A:F,2,FALSE))","v":""},{"$f":"IF(OR(E46672=\"\",ISBLANK(E46672)),\"\",VLOOKUP(E46672,Sheet2!A:G,4,FALSE))","v":""},"",{"$f":"IF(OR(E46672=\"\",ISBLANK(E46672)),\"\",VLOOKUP(E46672,Sheet2!A:H,3,FALSE))","v":""},null,{"$f":"IF(OR(E46672=\"\",ISBLANK(E46672)),\"\",VLOOKUP(E46672,Sheet2!A:G,6,FALSE))","v":""},""]
[{"$f":"IF(OR(E46680=\"\",ISBLANK(E46680)),\"\",VLOOKUP(E46680,Sheet2!A:F,2,FALSE))","v":""},{"$f":"IF(OR(E46680=\"\",ISBLANK(E46680)),\"\",VLOOKUP(E46680,Sheet2!A:G,4,FALSE))","v":""},"",{"$f":"IF(OR(E46680=\"\",ISBLANK(E46680)),\"\",VLOOKUP(E46680,Sheet2!A:H,3,FALSE))","v":""},null,{"$f":"IF(OR(E46680=\"\",ISBLANK(E46680)),\"\",VLOOKUP(E46680,Sheet2!A:G,6,FALSE))","v":""},""]
[{"$f":"IF(OR(E46707=\"\",ISBLANK(E46707)),\"\",VLOOKUP(E46707,Sheet2!A:F,2,FALSE))","v":""},{"$f":"IF(OR(E46707=\"\",ISBLANK(E46707)),\"\",VLOOKUP(E46707,Sheet2!A:G,4,FALSE))","v":""},"",{"$f":"IF(OR(E46707=\"\",ISBLANK(E46707)),\"\",VLOOKUP(E46707,Sheet2!A:H,3,FALSE))","v":""},null,{"$f":"IF(OR(E46707=\"\",ISBLANK(E46707)),\"\",VLOOKUP(E46707,Sheet2!A:G,6,FALSE))","v":""},""]
[{"$f":"IF(OR(E46740=\"\",ISBLANK(E46740)),\"\",VLOOKUP(E46740,Sheet2!A:F,2,FALSE))","v":""},{"$f":"IF(OR(E46740=\"\",ISBLANK(E46740)),\"\",VLOOKUP(E46740,Sheet2!A:G,4,FALSE))","v":""},"",{"$f":"IF(OR(E46740=\"\",ISBLANK(E46740)),\"\",VLOOKUP(E46740,Sheet2!A:H,3,FALSE))","v":""},null,{"$f":"IF(OR(E46740=\"\",ISBLANK(E46740)),\"\",VLOOKUP(E46740,Sheet2!A:G,6,FALSE))","v":""},""]
[{"$f":"IF(OR(E46769=\"\",ISBLANK(E46769)),\"\",VLOOKUP(E46769,Sheet2!A:F,2,FALSE))","v":""},{"$f":"IF(OR(E46769=\"\",ISBLANK(E46769)),\"\",VLOOKUP(E46769,Sheet2!A:G,4,FALSE))","v":""},"",{"$f":"IF(OR(E46769=\"\",ISBLANK(E46769)),\"\",VLOOKUP(E46769,Sheet2!A:H,3,FALSE))","v":""},null,{"$f":"IF(OR(E46769=\"\",ISBLANK(E46769)),\"\",VLOOKUP(E46769,Sheet2!A:G,6,FALSE))","v":""},""]
[{"$f":"IF(OR(E46799=\"\",ISBLANK(E46799)),\"\",VLOOKUP(E46799,Sheet2!A:F,2,FALSE))","v":""},{"$f":"IF(OR(E46799=\"\",ISBLANK(E46799)),\"\",VLOOKUP(E46799,Sheet2!A:G,4,FALSE))","v":""},"",{"$f":"IF(OR(E46799=\"\",ISBLANK(E46799)),\"\",VLOOKUP(E46799,Sheet2!A:H,3,FALSE))","v":""},null,{"$f":"IF(OR(E46799=\"\",ISBLANK(E46799)),\"\",VLOOKUP(E46799,Sheet2!A:G,6,FALSE))","v":""},""]
[{"$f":"IF(OR(E46819=\"\",ISBLANK(E46819)),\"\",VLOOKUP(E46819,Sheet2!A:F,2,FALSE))","v":""},{"$f":"IF(OR(E46819=\"\",ISBLANK(E46819)),\"\",VLOOKUP(E46819,Sheet2!A:G,4,FALSE))","v":""},"",{"$f":"IF(OR(E46819=\"\",ISBLANK(E46819)),\"\",VLOOKUP(E46819,Sheet2!A:H,3,FALSE))","v":""},null,{"$f":"IF(OR(E46819=\"\",ISBLANK(E46819)),\"\",VLOOKUP(E46819,Sheet2!A:G,6,FALSE))","v":""},""]
[{"$f":"IF(OR(E46834=\"\",ISBLANK(E46834)),\"\",VLOOKUP(E46834,Sheet2!A:F,2,FALSE))","v":""},{"$f":"IF(OR(E46834=\"\",ISBLANK(E46834)),\"\",VLOOKUP(E46834,Sheet2!A:G,4,FALSE))","v":""},"",{"$f":"IF(OR(E46834=\"\",ISBLANK(E46834)),\"\",VLOOKUP(E46834,Sheet2!A:H,3,FALSE))","v":""},null,{"$f":"IF(OR(E46834=\"\",ISBLANK(E46834)),\"\",VLOOKUP(E46834,Sheet2!A:G,6,FALSE))","v":""},""]
[{"$f":"IF(OR(E46867=\"\",ISBLANK(E46867)),\"\",VLOOKUP(E46867,Sheet2!A:F,2,FALSE))","v":""},{"$f":"IF(OR(E46867=\"\",ISBLANK(E46867)),\"\",VLOOKUP(E46867,Sheet2!A:G,4,FALSE))","v":""},"",{"$f":"IF(OR(E46867=\"\",ISBLANK(E46867)),\"\",VLOOKUP(E46867,Sheet2!A:H,3,FALSE))","v":""},null,{"$f":"IF(OR(E46867=\"\",ISBLANK(E46867)),\"\",VLOOKUP(E46867,Sheet2!A:G,6,FALSE))","v":""},""]
[{"$f":"IF(OR(E46883=\"\",ISBLANK(E46883)),\"\",VLOOKUP(E46883,Sheet2!A:F,2,FALSE))","v":""},{"$f":"IF(OR(E46883=\"\",ISBLANK(E46883)),\"\",VLOOKUP(E46883,Sheet2!A:G,4,FALSE))","v":""},"",{"$f":"IF(OR(E46883=\"\",ISBLANK(E46883)),\"\",VLOOKUP(E46883,Sheet2!A:H,3,FALSE))","v":""},null,{"$f":"IF(OR(E46883=\"\",ISBLANK(E46883)),\"\",VLOOKUP(E46883,Sheet2!A:G,6,FALSE))","v":""},""]
[{"$f":"IF(OR(E46902=\"\",ISBLANK(E46902)),\"\",VLOOKUP(E46902,Sheet2!A:F,2,FALSE))","v":""},{"$f":"IF(OR(E46902=\"\",ISBLANK(E46902)),\"\",VLOOKUP(E46902,Sheet2!A:G,4,FALSE))","v":""},"",{"$f":"IF(OR(E46902=\"\",ISBLANK(E46902)),\"\",VLOOKUP(E46902,Sheet2!A:H,3,FALSE))","v":""},null,{"$f":"IF(OR(E46902=\"\",ISBLANK(E46902)),\"\",VLOOKUP(E46902,Sheet2!A:G,6,FALSE))","v":""},""]
[{"$f":"IF(OR(E46933=\"\",ISBLANK(E46933)),\"\",VLOOKUP(E46933,Sheet2!A:F,2,FALSE))","v":""},{"$f":"IF(OR(E46933=\"\",ISBLANK(E46933)),\"\",VLOOKUP(E46933,Sheet2!A:G,4,FALSE))","v":""},"",{"$f":"IF(OR(E46933=\"\",ISBLANK(E46933)),\"\",VLOOKUP(E46933,Sheet2!A:H,3,FALSE))","v":""},null,{"$f":"IF(OR(E46933=\"\",ISBLANK(E46933)),\"\",VLOOKUP(E46933,Sheet2!A:G,6,FALSE))","v":""},""]
[{"$f":"IF(OR(E46969=\"\",ISBLANK(E46969)),\"\",VLOOKUP(E46969,Sheet2!A:F,2,FALSE))","v":""},{"$f":"IF(OR(E46969=\"\",ISBLANK(E46969)),\"\",VLOOKUP(E46969,Sheet2!A:G,4,FALSE))","v":""},"",{"$f":"IF(OR(E46969=\"\",ISBLANK(E46969)),\"\",VLOOKUP(E46969,Sheet2!A:H,3,FALSE))","v":""},null,{"$f":"IF(OR(E46969=\"\",ISBLANK(E46969)),\"\",VLOOKUP(E46969,Sheet2!A:G,6,FALSE))","v":""},""]
[{"$f":"IF(OR(E46994=\"\",ISBLANK(E46994)),\"\",VLOOKUP(E46994,Sheet2!A:F,2,FALSE))","v":""},{"$f":"IF(OR(E46994=\"\",ISBLANK(E46994)),\"\",VLOOKUP(E46994,Sheet2!A:G,4,FALSE))","v":""},"",{"$f":"IF(OR(E46994=\"\",ISBLANK(E46994)),\"\",VLOOKUP(E46994,Sheet2!A:H,3,FALSE))","v":""},null,{"$f":"IF(OR(E46994=\"\",ISBLANK(E46994)),\"\",VLOOKUP(E46994,Sheet2!A:G,6,FALSE))","v":""},""]
[{"$f":"IF(OR(E46997=\"\",ISBLANK(E46997)),\"\",VLOOKUP(E46997,Sheet2!A:F,2,FALSE))","v":""},{"$f":"IF(OR(E46997=\"\",ISBLANK(E46997)),\"\",VLOOKUP(E46997,Sheet2!A:G,4,FALSE))","v":""},"",{"$f":"IF(OR(E46997=\"\",ISBLANK(E46997)),\"\",VLOOKUP(E46997,Sheet2!A:H,3,FALSE))","v":""},null,{"$f":"IF(OR(E46997=\"\",ISBLANK(E46997)),\"\",VLOOKUP(E46997,Sheet2!A:G,6,FALSE))","v":""},""]
[{"$f":"IF(OR(E47029=\"\",ISBLANK(E47029)),\"\",VLOOKUP(E47029,Sheet2!A:F,2,FALSE))","v":""},{"$f":"IF(OR(E47029=\"\",ISBLANK(E47029)),\"\",VLOOKUP(E47029,Sheet2!A:G,4,FALSE))","v":""},"",{"$f":"IF(OR(E47029=\"\",ISBLANK(E47029)),\"\",VLOOKUP(E47029,Sheet2!A:H,3,FALSE))","v":""},null,{"$f":"IF(OR(E47029=\"\",ISBLANK(E47029)),\"\",VLOOKUP(E47029,Sheet2!A:G,6,FALSE))","v":""},""]
[{"$f":"IF(OR(E47062=\"\",ISBLANK(E47062)),\"\",VLOOKUP(E47062,Sheet2!A:F,2,FALSE))","v":""},{"$f":"IF(OR(E47062=\"\",ISBLANK(E47062)),\"\",VLOOKUP(E47062,Sheet2!A:G,4,FALSE))","v":""},"",{"$f":"IF(OR(E47062=\"\",ISBLANK(E47062)),\"\",VLOOKUP(E47062,Sheet2!A:H,3,FALSE))","v":""},null,{"$f":"IF(OR(E47062=\"\",ISBLANK(E47062)),\"\",VLOOKUP(E47062,Sheet2!A:G,6,FALSE))","v":""},""]
[{"$f":"IF(OR(E47086=\"\",ISBLANK(E47086)),\"\",VLOOKUP(E47086,Sheet2!A:F,2,FALSE))","v":""},{"$f":"IF(OR(E47086=\"\",ISBLANK(E47086)),\"\",VLOOKUP(E47086,Sheet2!A:G,4,FALSE))","v":""},"",{"$f":"IF(OR(E47086=\"\",ISBLANK(E47086)),\"\",VLOOKUP(E47086,Sheet2!A:H,3,FALSE))","v":""},null,{"$f":"IF(OR(E47086=\"\",ISBLANK(E47086)),\"\",VLOOKUP(E47086,Sheet2!A:G,6,FALSE))","v":""},""]
[{"$f":"IF(OR(E47097=\"\",ISBLANK(E47097)),\"\",VLOOKUP(E47097,Sheet2!A:F,2,FALSE))","v":""},{"$f":"IF(OR(E47097=\"\",ISBLANK(E47097)),\"\",VLOOKUP(E47097,Sheet2!A:G,4,FALSE))","v":""},"",{"$f":"IF(OR(E47097=\"\",ISBLANK(E47097)),\"\",VLOOKUP(E47097,Sheet2!A:H,3,FALSE))","v":""},null,{"$f":"IF(OR(E47097=\"\",ISBLANK(E47097)),\"\",VLOOKUP(E47097,Sheet2!A:G,6,FALSE))","v":""},""]
[{"$f":"IF(OR(E47136=\"\",ISBLANK(E47136)),\"\",VLOOKUP(E47136,Sheet2!A:F,2,FALSE))","v":""},{"$f":"IF(OR(E47136=\"\",ISBLANK(E47136)),\"\",VLOOKUP(E47136,Sheet2!A:G,4,FALSE))","v":""},"",{"$f":"IF(OR(E47136=\"\",ISBLANK(E47136)),\"\",VLOOKUP(E47136,Sheet2!A:H,3,FALSE))","v":""},null,{"$f":"IF(OR(E47136=\"\",ISBLANK(E47136)),\"\",VLOOKUP(E47136,Sheet2!A:G,6,FALSE))","v":""},""]
[{"$f":"IF(OR(E47156=\"\",ISBLANK(E47156)),\"\",VLOOKUP(E47156,Sheet2!A:F,2,FALSE))","v":""},{"$f":"IF(OR(E47156=\"\",ISBLANK(E47156)),\"\",VLOOKUP(E47156,Sheet2!A:G,4,FALSE))","v":""},"",{"$f":"IF(OR(E47156=\"\",ISBLANK(E47156)),\"\",VLOOKUP(E47156,Sheet2!A:H,3,FALSE))","v":""},null,{"$f":"IF(OR(E47156=\"\",ISBLANK(E47156)),\"\",VLOOKUP(E47156,Sheet2!A:G,6,FALSE))","v":""},""]
[{"$f":"IF(OR(E47189=\"\",ISBLANK(E47189)),\"\",VLOOKUP(E47189,Sheet2!A:F,2,FALSE))","v":""},{"$f":"IF(OR(E47189=\"\",ISBLANK(E47189)),\"\",VLOOKUP(E47189,Sheet2!A:G,4,FALSE))","v":""},"",{"$f":"IF(OR(E47189=\"\",ISBLANK(E47189)),\"\",VLOOKUP(E47189,Sheet2!A:H,3,FALSE))","v":""},null,{"$f":"IF(OR(E47189=\"\",ISBLANK(E47189)),\"\",VLOOKUP(E47189,Sheet2!A:G,6,FALSE))","v":""},""]
[{"$f":"IF(OR(E47200=\"\",ISBLANK(E47200)),\"\",VLOOKUP(E47200,Sheet2!A:F,2,FALSE))","v":""},{"$f":"IF(OR(E47200=\"\",ISBLANK(E47200)),\"\",VLOOKUP(E47200,Sheet2!A:G,4,FALSE))","v":""},"",{"$f":"IF(OR(E47200=\"\",ISBLANK(E47200)),\"\",VLOOKUP(E47200,Sheet2!A:H,3,FALSE))","v":""},null,{"$f":"IF(OR(E47200=\"\",ISBLANK(E47200)),\"\",VLOOKUP(E47200,Sheet2!A:G,6,FALSE))","v":""},""]
[{"$f":"IF(OR(E47224=\"\",ISBLANK(E47224)),\"\",VLOOKUP(E47224,Sheet2!A:F,2,FALSE))","v":""},{"$f":"IF(OR(E47224=\"\",ISBLANK(E47224)),\"\",VLOOKUP(E47224,Sheet2!A:G,4,FALSE))","v":""},"",{"$f":"IF(OR(E47224=\"\",ISBLANK(E47224)),\"\",VLOOKUP(E47224,Sheet2!A:H,3,FALSE))","v":""},null,{"$f":"IF(OR(E47224=\"\",ISBLANK(E47224)),\"\",VLOOKUP(E47224,Sheet2!A:G,6,FALSE))","v":""},""]
[{"$f":"IF(OR(E47250=\"\",ISBLANK(E47250)),\"\",VLOOKUP(E47250,Sheet2!A:F,2,FALSE))","v":""},{"$f":"IF(OR(E47250=\"\",ISBLANK(E47250)),\"\",VLOOKUP(E47250,Sheet2!A:G,4,FALSE))","v":""},"",{"$f":"IF(OR(E47250=\"\",ISBLANK(E47250)),\"\",VLOOKUP(E47250,Sheet2!A:H,3,FALSE))","v":""},null,{"$f":"IF(OR(E47250=\"\",ISBLANK(E47250)),\"\",VLOOKUP(E47250,Sheet2!A:G,6,FALSE))","v":""},""]
[{"$f":"IF(OR(E47267=\"\",ISBLANK(E47267)),\"\",VLOOKUP(E47267,Sheet2!A:F,2,FALSE))","v":""},{"$f":"IF(OR(E47267=\"\",ISBLANK(E47267)),\"\",VLOOKUP(E47267,Sheet2!A:G,4,FALSE))","v":""},"",{"$f":"IF(OR(E47267=\"\",ISBLANK(E47267)),\"\",VLOOKUP(E47267,Sheet2!A:H,3,FALSE))","v":""},null,{"$f":"IF(OR(E47267=\"\",ISBLANK(E47267)),\"\",VLOOKUP(E47267,Sheet2!A:G,6,FALSE))","v":""},""]
[{"$f":"IF(OR(E47292=\"\",ISBLANK(E47292)),\"\",VLOOKUP(E47292,Sheet2!A:F,2,FALSE))","v":""},{"$f":"IF(OR(E47292=\"\",ISBLANK(E47292)),\"\",VLOOKUP(E47292,Sheet2!A:G,4,FALSE))","v":""},"",{"$f":"IF(OR(E47292=\"\",ISBLANK(E47292)),\"\",VLOOKUP(E47292,Sheet2!A:H,3,FALSE))","v":""},null,{"$f":"IF(OR(E47292=\"\",ISBLANK(E47292)),\"\",VLOOKUP(E47292,Sheet2!A:G,6,FALSE))","v":""},""]
[{"$f":"IF(OR(E47314=\"\",ISBLANK(E47314)),\"\",VLOOKUP(E47314,Sheet2!A:F,2,FALSE))","v":""},{"$f":"IF(OR(E47314=\"\",ISBLANK(E47314)),\"\",VLOOKUP(E47314,Sheet2!A:G,4,FALSE))","v":""},"",{"$f":"IF(OR(E47314=\"\",ISBLANK(E47314)),\"\",VLOOKUP(E47314,Sheet2!A:H,3,FALSE))","v":""},null,{"$f":"IF(OR(E47314=\"\",ISBLANK(E47314)),\"\",VLOOKUP(E47314,Sheet2!A:G,6,FALSE))","v":""},""]
[{"$f":"IF(OR(E47351=\"\",ISBLANK(E47351)),\"\",VLOOKUP(E47351,Sheet2!A:F,2,FALSE))","v":""},{"$f":"IF(OR(E47351=\"\",ISBLANK(E47351)),\"\",VLOOKUP(E47351,Sheet2!A:G,4,FALSE))","v":""},"",{"$f":"IF(OR(E47351=\"\",ISBLANK(E47351)),\"\",VLOOKUP(E47351,Sheet2!A:H,3,FALSE))","v":""},null,{"$f":"IF(OR(E47351=\"\",ISBLANK(E47351)),\"\",VLOOKUP(E47351,Sheet2!A:G,6,FALSE))","v":""},""]
[{"$f":"IF(OR(E47384=\"\",ISBLANK(E47384)),\"\",VLOOKUP(E47384,Sheet2!A:F,2,FALSE))","v":""},{"$f":"IF(OR(E47384=\"\",ISBLANK(E47384)),\"\",VLOOKUP(E47384,Sheet2!A:G,4,FALSE))","v":""},"",{"$f":"IF(OR(E47384=\"\",ISBLANK(E47384)),\"\",VLOOKUP(E47384,Sheet2!A:H,3,FALSE))","v":""},null,{"$f":"IF(OR(E47384=\"\",ISBLANK(E47384)),\"\",VLOOKUP(E47384,Sheet2!A:G,6,FALSE))","v":""},""]
[{"$f":"IF(OR(E47403=\"\",ISBLANK(E47403)),\"\",VLOOKUP(E47403,Sheet2!A:F,2,FALSE))","v":""},{"$f":"IF(OR(E47403=\"\",ISBLANK(E47403)),\"\",VLOOKUP(E47403,Sheet2!A:G,4,FALSE))","v":""},"",{"$f":"IF(OR(E47403=\"\",ISBLANK(E47403)),\"\",VLOOKUP(E47403,Sheet2!A:H,3,FALSE))","v":""},null,{"$f":"IF(OR(E47403=\"\",ISBLANK(E47403)),\"\",VLOOKUP(E47403,Sheet2!A:G,6,FALSE))","v":""},""]
[{"$f":"IF(OR(E47419=\"\",ISBLANK(E47419)),\"\",VLOOKUP(E47419,Sheet2!A:F,2,FALSE))","v":""},{"$f":"IF(OR(E47419=\"\",ISBLANK(E47419)),\"\",VLOOKUP(E47419,Sheet2!A:G,4,FALSE))","v":""},"",{"$f":"IF(OR(E47419=\"\",ISBLANK(E47419)),\"\",VLOOKUP(E47419,Sheet2!A:H,3,FALSE))","v":""},null,{"$f":"IF(OR(E47419=\"\",ISBLANK(E47419)),\"\",VLOOKUP(E47419,Sheet2!A:G,6,FALSE))","v":""},""]
[{"$f":"IF(OR(E47453=\"\",ISBLANK(E47453)),\"\",VLOOKUP(E47453,Sheet2!A:F,2,FALSE))","v":""},{"$f":"IF(OR(E47453=\"\",ISBLANK(E47453)),\"\",VLOOKUP(E47453,Sheet2!A:G,4,FALSE))","v":""},"",{"$f":"IF(OR(E47453=\"\",ISBLANK(E47453)),\"\",VLOOKUP(E47453,Sheet2!A:H,3,FALSE))","v":""},null,{"$f":"IF(OR(E47453=\"\",ISBLANK(E47453)),\"\",VLOOKUP(E47453,Sheet2!A:G,6,FALSE))","v":""},""]
[{"$f":"IF(OR(E47462=\"\",ISBLANK(E47462)),\"\",VLOOKUP(E47462,Sheet2!A:F,2,FALSE))","v":""},{"$f":"IF(OR(E47462=\"\",ISBLANK(E47462)),\"\",VLOOKUP(E47462,Sheet2!A:G,4,FALSE))","v":""},"",{"$f":"IF(OR(E47462=\"\",ISBLANK(E47462)),\"\",VLOOKUP(E47462,Sheet2!A:H,3,FALSE))","v":""},null,{"$f":"IF(OR(E47462=\"\",ISBLANK(E47462)),\"\",VLOOKUP(E47462,Sheet2!A:G,6,FALSE))","v":""},""]
[{"$f":"IF(OR(E47487=\"\",ISBLANK(E47487)),\"\",VLOOKUP(E47487,Sheet2!A:F,2,FALSE))","v":""},{"$f":"IF(OR(E47487=\"\",ISBLANK(E47487)),\"\",VLOOKUP(E47487,Sheet2!A:G,4,FALSE))","v":""},"",{"$f":"IF(OR(E47487=\"\",ISBLANK(E47487)),\"\",VLOOKUP(E47487,Sheet2!A:H,3,FALSE))","v":""},null,{"$f":"IF(OR(E47487=\"\",ISBLANK(E47487)),\"\",VLOOKUP(E47487,Sheet2!A:G,6,FALSE))","v":""},""]
[{"$f":"IF(OR(E47517=\"\",ISBLANK(E47517)),\"\",VLOOKUP(E47517,Sheet2!A:F,2,FALSE))","v":""},{"$f":"IF(OR(E47517=\"\",ISBLANK(E47517)),\"\",VLOOKUP(E47517,Sheet2!A:G,4,FALSE))","v":""},"",{"$f":"IF(OR(E47517=\"\",ISBLANK(E47517)),\"\",VLOOKUP(E47517,Sheet2!A:H,3,FALSE))","v":""},null,{"$f":"IF(OR(E47517=\"\",ISBLANK(E47517)),\"\",VLOOKUP(E47517,Sheet2!A:G,6,FALSE))","v":""},""]
[{"$f":"IF(OR(E47546=\"\",ISBLANK(E47546)),\"\",VLOOKUP(E47546,Sheet2!A:F,2,FALSE))","v":""},{"$f":"IF(OR(E47546=\"\",ISBLANK(E47546)),\"\",VLOOKUP(E47546,Sheet2!A:G,4,FALSE))","v":""},"",{"$f":"IF(OR(E47546=\"\",ISBLANK(E47546)),\"\",VLOOKUP(E47546,Sheet2!A:H,3,FALSE))","v":""},null,{"$f":"IF(OR(E47546=\"\",ISBLANK(E47546)),\"\",VLOOKUP(E47546,Sheet2!A:G,6,FALSE))","v":""},""]
[{"$f":"IF(OR(E47567=\"\",ISBLANK(E47567)),\"\",VLOOKUP(E47567,Sheet2!A:F,2,FALSE))","v":""},{"$f":"IF(OR(E47567=\"\",ISBLANK(E47567)),\"\",VLOOKUP(E47567,Sheet2!A:G,4,FALSE))","v":""},"",{"$f":"IF(OR(E47567=\"\",ISBLANK(E47567)),\"\",VLOOKUP(E47567,Sheet2!A:H,3,FALSE))","v":""},null,{"$f":"IF(OR(E47567=\"\",ISBLANK(E47567)),\"\",VLOOKUP(E47567,Sheet2!A:G,6,FALSE))","v":""},""]
[{"$f":"IF(OR(E47589=\"\",ISBLANK(E47589)),\"\",VLOOKUP(E47589,Sheet2!A:F,2,FALSE))","v":""},{"$f":"IF(OR(E47589=\"\",ISBLANK(E47589)),\"\",VLOOKUP(E47589,Sheet2!A:G,4,FALSE))","v":""},"",{"$f":"IF(OR(E47589=\"\",ISBLANK(E47589)),\"\",VLOOKUP(E47589,Sheet2!A:H,3,FALSE))","v":""},null,{"$f":"IF(OR(E47589=\"\",ISBLANK(E47589)),\"\",VLOOKUP(E47589,Sheet2!A:G,6,FALSE))","v":""},""]
[{"$f":"IF(OR(E47614=\"\",ISBLANK(E47614)),\"\",VLOOKUP(E47614,Sheet2!A:F,2,FALSE))","v":""},{"$f":"IF(OR(E47614=\"\",ISBLANK(E47614)),\"\",VLOOKUP(E47614,Sheet2!A:G,4,FALSE))","v":""},"",{"$f":"IF(OR(E47614=\"\",ISBLANK(E47614)),\"\",VLOOKUP(E47614,Sheet2!A:H,3,FALSE))","v":""},null,{"$f":"IF(OR(E47614=\"\",ISBLANK(E47614)),\"\",VLOOKUP(E47614,Sheet2!A:G,6,FALSE))","v":""},""]
[{"$f":"IF(OR(E47631=\"\",ISBLANK(E47631)),\"\",VLOOKUP(E47631,Sheet2!A:F,2,FALSE))","v":""},{"$f":"IF(OR(E47631=\"\",ISBLANK(E47631)),\"\",VLOOKUP(E47631,Sheet2!A:G,4,FALSE))","v":""},"",{"$f":"IF(OR(E47631=\"\",ISBLANK(E47631)),\"\",VLOOKUP(E47631,Sheet2!A:H,3,FALSE))","v":""},null,{"$f":"IF(OR(E47631=\"\",ISBLANK(E47631)),\"\",VLOOKUP(E47631,Sheet2!A:G,6,FALSE))","v":""},""]
[{"$f":"IF(OR(E47673=\"\",ISBLANK(E47673)),\"\",VLOOKUP(E47673,Sheet2!A:F,2,FALSE))","v":""},{"$f":"IF(OR(E47673=\"\",ISBLANK(E47673)),\"\",VLOOKUP(E47673,Sheet2!A:G,4,FALSE))","v":""},"",{"$f":"IF(OR(E47673=\"\",ISBLANK(E47673)),\"\",VLOOKUP(E47673,Sheet2!A:H,3,FALSE))","v":""},null,{"$f":"IF(OR(E47673=\"\",ISBLANK(E47673)),\"\",VLOOKUP(E47673,Sheet2!A:G,6,FALSE))","v":""},""]
[{"$f":"IF(OR(E47681=\"\",ISBLANK(E47681)),\"\",VLOOKUP(E47681,Sheet2!A:F,2,FALSE))","v":""},{"$f":"IF(OR(E47681=\"\",ISBLANK(E47681)),\"\",VLOOKUP(E47681,Sheet2!A:G,4,FALSE))","v":""},"",{"$f":"IF(OR(E47681=\"\",ISBLANK(E47681)),\"\",VLOOKUP(E47681,Sheet2!A:H,3,FALSE))","v":""},null,{"$f":"IF(OR(E47681=\"\",ISBLANK(E47681)),\"\",VLOOKUP(E47681,Sheet2!A:G,6,FALSE))","v":""},""]
[{"$f":"IF(OR(E47716=\"\",ISBLANK(E47716)),\"\",VLOOKUP(E47716,Sheet2!A:F,2,FALSE))","v":""},{"$f":"IF(OR(E47716=\"\",ISBLANK(E47716)),\"\",VLOOKUP(E47716,Sheet2!A:G,4,FALSE))","v":""},"",{"$f":"IF(OR(E47716=\"\",ISBLANK(E47716)),\"\",VLOOKUP(E47716,Sheet2!A:H,3,FALSE))","v":""},null,{"$f":"IF(OR(E47716=\"\",ISBLANK(E47716)),\"\",VLOOKUP(E47716,Sheet2!A:G,6,FALSE))","v":""},""]
[{"$f":"IF(OR(E47741=\"\",ISBLANK(E47741)),\"\",VLOOKUP(E47741,Sheet2!A:F,2,FALSE))","v":""},{"$f":"IF(OR(E47741=\"\",ISBLANK(E47741)),\"\",VLOOKUP(E47741,Sheet2!A:G,4,FALSE))","v":""},"",{"$f":"IF(OR(E47741=\"\",ISBLANK(E47741)),\"\",VLOOKUP(E47741,Sheet2!A:H,3,FALSE))","v":""},null,{"$f":"IF(OR(E47741=\"\",ISBLANK(E47741)),\"\",VLOOKUP(E47741,Sheet2!A:G,6,FALSE))","v":""},""]
[{"$f":"IF(OR(E47770=\"\",ISBLANK(E47770)),\"\",VLOOKUP(E47770,Sheet2!A:F,2,FALSE))","v":""},{"$f":"IF(OR(E47770=\"\",ISBLANK(E47770)),\"\",VLOOKUP(E47770,Sheet2!A:G,4,FALSE))","v":""},"",{"$f":"IF(OR(E47770=\"\",ISBLANK(E47770)),\"\",VLOOKUP(E47770,Sheet2!A:H,3,FALSE))","v":""},null,{"$f":"IF(OR(E47770=\"\",ISBLANK(E47770)),\"\",VLOOKUP(E47770,Sheet2!A:G,6,FALSE))","v":""},""]
[{"$f":"IF(OR(E47784=\"\",ISBLANK(E47784)),\"\",VLOOKUP(E47784,Sheet2!A:F,2,FALSE))","v":""},{"$f":"IF(OR(E47784=\"\",ISBLANK(E47784)),\"\",VLOOKUP(E47784,Sheet2!A:G,4,FALSE))","v":""},"",{"$f":"IF(OR(E47784=\"\",ISBLANK(E47784)),\"\",VLOOKUP(E47784,Sheet2!A:H,3,FALSE))","v":""},null,{"$f":"IF(OR(E47784=\"\",ISBLANK(E47784)),\"\",VLOOKUP(E47784,Sheet2!A:G,6,FALSE))","v":""},""]
[{"$f":"IF(OR(E47809=\"\",ISBLANK(E47809)),\"\",VLOOKUP(E47809,Sheet2!A:F,2,FALSE))","v":""},{"$f":"IF(OR(E47809=\"\",ISBLANK(E47809)),\"\",VLOOKUP(E47809,Sheet2!A:G,4,FALSE))","v":""},"",{"$f":"IF(OR(E47809=\"\",ISBLANK(E47809)),\"\",VLOOKUP(E47809,Sheet2!A:H,3,FALSE))","v":""},null,{"$f":"IF(OR(E47809=\"\",ISBLANK(E47809)),\"\",VLOOKUP(E47809,Sheet2!A:G,6,FALSE))","v":""},""]
[{"$f":"IF(OR(E47834=\"\",ISBLANK(E47834)),\"\",VLOOKUP(E47834,Sheet2!A:F,2,FALSE))","v":""},{"$f":"IF(OR(E47834=\"\",ISBLANK(E47834)),\"\",VLOOKUP(E47834,Sheet2!A:G,4,FALSE))","v":""},"",{"$f":"IF(OR(E47834=\"\",ISBLANK(E47834)),\"\",VLOOKUP(E47834,Sheet2!A:H,3,FALSE))","v":""},null,{"$f":"IF(OR(E47834=\"\",ISBLANK(E47834)),\"\",VLOOKUP(E47834,Sheet2!A:G,6,FALSE))","v":""},""]
[{"$f":"IF(OR(E47868=\"\",ISBLANK(E47868)),\"\",VLOOKUP(E47868,Sheet2!A:F,2,FALSE))","v":""},{"$f":"IF(OR(E47868=\"\",ISBLANK(E47868)),\"\",VLOOKUP(E47868,Sheet2!A:G,4,FALSE))","v":""},"",{"$f":"IF(OR(E47868=\"\",ISBLANK(E47868)),\"\",VLOOKUP(E47868,Sheet2!A:H,3,FALSE))","v":""},null,{"$f":"IF(OR(E47868=\"\",ISBLANK(E47868)),\"\",VLOOKUP(E47868,Sheet2!A:G,6,FALSE))","v":""},""]
[{"$f":"IF(OR(E47884=\"\",ISBLANK(E47884)),\"\",VLOOKUP(E47884,Sheet2!A:F,2,FALSE))","v":""},{"$f":"IF(OR(E47884=\"\",ISBLANK(E47884)),\"\",VLOOKUP(E47884,Sheet2!A:G,4,FALSE))","v":""},"",{"$f":"IF(OR(E47884=\"\",ISBLANK(E47884)),\"\",VLOOKUP(E47884,Sheet2!A:H,3,FALSE))","v":""},null,{"$f":"IF(OR(E47884=\"\",ISBLANK(E47884)),\"\",VLOOKUP(E47884,Sheet2!A:G,6,FALSE))","v":""},""]
[{"$f":"IF(OR(E47911=\"\",ISBLANK(E47911)),\"\",VLOOKUP(E47911,Sheet2!A:F,2,FALSE))","v":""},{"$f":"IF(OR(E47911=\"\",ISBLANK(E47911)),\"\",VLOOKUP(E47911,Sheet2!A:G,4,FALSE))","v":""},"",{"$f":"IF(OR(E47911=\"\",ISBLANK(E47911)),\"\",VLOOKUP(E47911,Sheet2!A:H,3,FALSE))","v":""},null,{"$f":"IF(OR(E47911=\"\",ISBLANK(E47911)),\"\",VLOOKUP(E47911,Sheet2!A:G,6,FALSE))","v":""},""]
[{"$f":"IF(OR(E47936=\"\",ISBLANK(E47936)),\"\",VLOOKUP(E47936,Sheet2!A:F,2,FALSE))","v":""},{"$f":"IF(OR(E47936=\"\",ISBLANK(E47936)),\"\",VLOOKUP(E47936,Sheet2!A:G,4,FALSE))","v":""},"",{"$f":"IF(OR(E47936=\"\",ISBLANK(E47936)),\"\",VLOOKUP(E47936,Sheet2!A:H,3,FALSE))","v":""},null,{"$f":"IF(OR(E47936=\"\",ISBLANK(E47936)),\"\",VLOOKUP(E47936,Sheet2!A:G,6,FALSE))","v":""},""]
[{"$f":"IF(OR(E47948=\"\",ISBLANK(E47948)),\"\",VLOOKUP(E47948,Sheet2!A:F,2,FALSE))","v":""},{"$f":"IF(OR(E47948=\"\",ISBLANK(E47948)),\"\",VLOOKUP(E47948,Sheet2!A:G,4,FALSE))","v":""},"",{"$f":"IF(OR(E47948=\"\",ISBLANK(E47948)),\"\",VLOOKUP(E47948,Sheet2!A:H,3,FALSE))","v":""},null,{"$f":"IF(OR(E47948=\"\",ISBLANK(E47948)),\"\",VLOOKUP(E47948,Sheet2!A:G,6,FALSE))","v":""},""]
[{"$f":"IF(OR(E47995=\"\",ISBLANK(E47995)),\"\",VLOOKUP(E47995,Sheet2!A:F,2,FALSE))","v":""},{"$f":"IF(OR(E47995=\"\",ISBLANK(E47995)),\"\",VLOOKUP(E47995,Sheet2!A:G,4,FALSE))","v":""},"",{"$f":"IF(OR(E47995=\"\",ISBLANK(E47995)),\"\",VLOOKUP(E47995,Sheet2!A:H,3,FALSE))","v":""},null,{"$f":"IF(OR(E47995=\"\",ISBLANK(E47995)),\"\",VLOOKUP(E47995,Sheet2!A:G,6,FALSE))","v":""},""]
[{"$f":"IF(OR(E47998=\"\",ISBLANK(E47998)),\"\",VLOOKUP(E47998,Sheet2!A:F,2,FALSE))","v":""},{"$f":"IF(OR(E47998=\"\",ISBLANK(E47998)),\"\",VLOOKUP(E47998,Sheet2!A:G,4,FALSE))","v":""},"",{"$f":"IF(OR(E47998=\"\",ISBLANK(E47998)),\"\",VLOOKUP(E47998,Sheet2!A:H,3,FALSE))","v":""},null,{"$f":"IF(OR(E47998=\"\",ISBLANK(E47998)),\"\",VLOOKUP(E47998,Sheet2!A:G,6,FALSE))","v":""},""]
[{"$f":"IF(OR(E48038=\"\",ISBLANK(E48038)),\"\",VLOOKUP(E48038,Sheet2!A:F,2,FALSE))","v":""},{"$f":"IF(OR(E48038=\"\",ISBLANK(E48038)),\"\",VLOOKUP(E48038,Sheet2!A:G,4,FALSE))","v":""},"",{"$f":"IF(OR(E48038=\"\",ISBLANK(E48038)),\"\",VLOOKUP(E48038,Sheet2!A:H,3,FALSE))","v":""},null,{"$f":"IF(OR(E48038=\"\",ISBLANK(E48038)),\"\",VLOOKUP(E48038,Sheet2!A:G,6,FALSE))","v":""},""]
[{"$f":"IF(OR(E48063=\"\",ISBLANK(E48063)),\"\",VLOOKUP(E48063,Sheet2!A:F,2,FALSE))","v":""},{"$f":"IF(OR(E48063=\"\",ISBLANK(E48063)),\"\",VLOOKUP(E48063,Sheet2!A:G,4,FALSE))","v":""},"",{"$f":"IF(OR(E48063=\"\",ISBLANK(E48063)),\"\",VLOOKUP(E48063,Sheet2!A:H,3,FALSE))","v":""},null,{"$f":"IF(OR(E48063=\"\",ISBLANK(E48063)),\"\",VLOOKUP(E48063,Sheet2!A:G,6,FALSE))","v":""},""]
[{"$f":"IF(OR(E48087=\"\",ISBLANK(E48087)),\"\",VLOOKUP(E48087,Sheet2!A:F,2,FALSE))","v":""},{"$f":"IF(OR(E48087=\"\",ISBLANK(E48087)),\"\",VLOOKUP(E48087,Sheet2!A:G,4,FALSE))","v":""},"",{"$f":"IF(OR(E48087=\"\",ISBLANK(E48087)),\"\",VLOOKUP(E48087,Sheet2!A:H,3,FALSE))","v":""},null,{"$f":"IF(OR(E48087=\"\",ISBLANK(E48087)),\"\",VLOOKUP(E48087,Sheet2!A:G,6,FALSE))","v":""},""]
[{"$f":"IF(OR(E48106=\"\",ISBLANK(E48106)),\"\",VLOOKUP(E48106,Sheet2!A:F,2,FALSE))","v":""},{"$f":"IF(OR(E48106=\"\",ISBLANK(E48106)),\"\",VLOOKUP(E48106,Sheet2!A:G,4,FALSE))","v":""},"",{"$f":"IF(OR(E48106=\"\",ISBLANK(E48106)),\"\",VLOOKUP(E48106,Sheet2!A:H,3,FALSE))","v":""},null,{"$f":"IF(OR(E48106=\"\",ISBLANK(E48106)),\"\",VLOOKUP(E48106,Sheet2!A:G,6,FALSE))","v":""},""]
[{"$f":"IF(OR(E48137=\"\",ISBLANK(E48137)),\"\",VLOOKUP(E48137,Sheet2!A:F,2,FALSE))","v":""},{"$f":"IF(OR(E48137=\"\",ISBLANK(E48137)),\"\",VLOOKUP(E48137,Sheet2!A:G,4,FALSE))","v":""},"",{"$f":"IF(OR(E48137=\"\",ISBLANK(E48137)),\"\",VLOOKUP(E48137,Sheet2!A:H,3,FALSE))","v":""},null,{"$f":"IF(OR(E48137=\"\",ISBLANK(E48137)),\"\",VLOOKUP(E48137,Sheet2!A:G,6,FALSE))","v":""},""]
[{"$f":"IF(OR(E48165=\"\",ISBLANK(E48165)),\"\",VLOOKUP(E48165,Sheet2!A:F,2,FALSE))","v":""},{"$f":"IF(OR(E48165=\"\",ISBLANK(E48165)),\"\",VLOOKUP(E48165,Sheet2!A:G,4,FALSE))","v":""},"",{"$f":"IF(OR(E48165=\"\",ISBLANK(E48165)),\"\",VLOOKUP(E48165,Sheet2!A:H,3,FALSE))","v":""},null,{"$f":"IF(OR(E48165=\"\",ISBLANK(E48165)),\"\",VLOOKUP(E48165,Sheet2!A:G,6,FALSE))","v":""},""]
[{"$f":"IF(OR(E48190=\"\",ISBLANK(E48190)),\"\",VLOOKUP(E48190,Sheet2!A:F,2,FALSE))","v":""},{"$f":"IF(OR(E48190=\"\",ISBLANK(E48190)),\"\",VLOOKUP(E48190,Sheet2!A:G,4,FALSE))","v":""},"",{"$f":"IF(OR(E48190=\"\",ISBLANK(E48190)),\"\",VLOOKUP(E48190,Sheet2!A:H,3,FALSE))","v":""},null,{"$f":"IF(OR(E48190=\"\",ISBLANK(E48190)),\"\",VLOOKUP(E48190,Sheet2!A:G,6,FALSE))","v":""},""]
[{"$f":"IF(OR(E48201=\"\",ISBLANK(E48201)),\"\",VLOOKUP(E48201,Sheet2!A:F,2,FALSE))","v":""},{"$f":"IF(OR(E48201=\"\",ISBLANK(E48201)),\"\",VLOOKUP(E48201,Sheet2!A:G,4,FALSE))","v":""},"",{"$f":"IF(OR(E48201=\"\",ISBLANK(E48201)),\"\",VLOOKUP(E48201,Sheet2!A:H,3,FALSE))","v":""},null,{"$f":"IF(OR(E48201=\"\",ISBLANK(E48201)),\"\",VLOOKUP(E48201,Sheet2!A:G,6,FALSE))","v":""},""]
[{"$f":"IF(OR(E48233=\"\",ISBLANK(E48233)),\"\",VLOOKUP(E48233,Sheet2!A:F,2,FALSE))","v":""},{"$f":"IF(OR(E48233=\"\",ISBLANK(E48233)),\"\",VLOOKUP(E48233,Sheet2!A:G,4,FALSE))","v":""},"",{"$f":"IF(OR(E48233=\"\",ISBLANK(E48233)),\"\",VLOOKUP(E48233,Sheet2!A:H,3,FALSE))","v":""},null,{"$f":"IF(OR(E48233=\"\",ISBLANK(E48233)),\"\",VLOOKUP(E48233,Sheet2!A:G,6,FALSE))","v":""},""]
[{"$f":"IF(OR(E48258=\"\",ISBLANK(E48258)),\"\",VLOOKUP(E48258,Sheet2!A:F,2,FALSE))","v":""},{"$f":"IF(OR(E48258=\"\",ISBLANK(E48258)),\"\",VLOOKUP(E48258,Sheet2!A:G,4,FALSE))","v":""},"",{"$f":"IF(OR(E48258=\"\",ISBLANK(E48258)),\"\",VLOOKUP(E48258,Sheet2!A:H,3,FALSE))","v":""},null,{"$f":"IF(OR(E48258=\"\",ISBLANK(E48258)),\"\",VLOOKUP(E48258,Sheet2!A:G,6,FALSE))","v":""},""]
[{"$f":"IF(OR(E48265=\"\",ISBLANK(E48265)),\"\",VLOOKUP(E48265,Sheet2!A:F,2,FALSE))","v":""},{"$f":"IF(OR(E48265=\"\",ISBLANK(E48265)),\"\",VLOOKUP(E48265,Sheet2!A:G,4,FALSE))","v":""},"",{"$f":"IF(OR(E48265=\"\",ISBLANK(E48265)),\"\",VLOOKUP(E48265,Sheet2!A:H,3,FALSE))","v":""},null,{"$f":"IF(OR(E48265=\"\",ISBLANK(E48265)),\"\",VLOOKUP(E48265,Sheet2!A:G,6,FALSE))","v":""},""]
[{"$f":"IF(OR(E48301=\"\",ISBLANK(E48301)),\"\",VLOOKUP(E48301,Sheet2!A:F,2,FALSE))","v":""},{"$f":"IF(OR(E48301=\"\",ISBLANK(E48301)),\"\",VLOOKUP(E48301,Sheet2!A:G,4,FALSE))","v":""},"",{"$f":"IF(OR(E48301=\"\",ISBLANK(E48301)),\"\",VLOOKUP(E48301,Sheet2!A:H,3,FALSE))","v":""},null,{"$f":"IF(OR(E48301=\"\",ISBLANK(E48301)),\"\",VLOOKUP(E48301,Sheet2!A:G,6,FALSE))","v":""},""]
[{"$f":"IF(OR(E48315=\"\",ISBLANK(E48315)),\"\",VLOOKUP(E48315,Sheet2!A:F,2,FALSE))","v":""},{"$f":"IF(OR(E48315=\"\",ISBLANK(E48315)),\"\",VLOOKUP(E48315,Sheet2!A:G,4,FALSE))","v":""},"",{"$f":"IF(OR(E48315=\"\",ISBLANK(E48315)),\"\",VLOOKUP(E48315,Sheet2!A:H,3,FALSE))","v":""},null,{"$f":"IF(OR(E48315=\"\",ISBLANK(E48315)),\"\",VLOOKUP(E48315,Sheet2!A:G,6,FALSE))","v":""},""]
[{"$f":"IF(OR(E48360=\"\",ISBLANK(E48360)),\"\",VLOOKUP(E48360,Sheet2!A:F,2,FALSE))","v":""},{"$f":"IF(OR(E48360=\"\",ISBLANK(E48360)),\"\",VLOOKUP(E48360,Sheet2!A:G,4,FALSE))","v":""},"",{"$f":"IF(OR(E48360=\"\",ISBLANK(E48360)),\"\",VLOOKUP(E48360,Sheet2!A:H,3,FALSE))","v":""},null,{"$f":"IF(OR(E48360=\"\",ISBLANK(E48360)),\"\",VLOOKUP(E48360,Sheet2!A:G,6,FALSE))","v":""},""]
[{"$f":"IF(OR(E48385=\"\",ISBLANK(E48385)),\"\",VLOOKUP(E48385,Sheet2!A:F,2,FALSE))","v":""},{"$f":"IF(OR(E48385=\"\",ISBLANK(E48385)),\"\",VLOOKUP(E48385,Sheet2!A:G,4,FALSE))","v":""},"",{"$f":"IF(OR(E48385=\"\",ISBLANK(E48385)),\"\",VLOOKUP(E48385,Sheet2!A:H,3,FALSE))","v":""},null,{"$f":"IF(OR(E48385=\"\",ISBLANK(E48385)),\"\",VLOOKUP(E48385,Sheet2!A:G,6,FALSE))","v":""},""]
[{"$f":"IF(OR(E48404=\"\",ISBLANK(E48404)),\"\",VLOOKUP(E48404,Sheet2!A:F,2,FALSE))","v":""},{"$f":"IF(OR(E48404=\"\",ISBLANK(E48404)),\"\",VLOOKUP(E48404,Sheet2!A:G,4,FALSE))","v":""},"",{"$f":"IF(OR(E48404=\"\",ISBLANK(E48404)),\"\",VLOOKUP(E48404,Sheet2!A:H,3,FALSE))","v":""},null,{"$f":"IF(OR(E48404=\"\",ISBLANK(E48404)),\"\",VLOOKUP(E48404,Sheet2!A:G,6,FALSE))","v":""},""]
[{"$f":"IF(OR(E48428=\"\",ISBLANK(E48428)),\"\",VLOOKUP(E48428,Sheet2!A:F,2,FALSE))","v":""},{"$f":"IF(OR(E48428=\"\",ISBLANK(E48428)),\"\",VLOOKUP(E48428,Sheet2!A:G,4,FALSE))","v":""},"",{"$f":"IF(OR(E48428=\"\",ISBLANK(E48428)),\"\",VLOOKUP(E48428,Sheet2!A:H,3,FALSE))","v":""},null,{"$f":"IF(OR(E48428=\"\",ISBLANK(E48428)),\"\",VLOOKUP(E48428,Sheet2!A:G,6,FALSE))","v":""},""]
[{"$f":"IF(OR(E48454=\"\",ISBLANK(E48454)),\"\",VLOOKUP(E48454,Sheet2!A:F,2,FALSE))","v":""},{"$f":"IF(OR(E48454=\"\",ISBLANK(E48454)),\"\",VLOOKUP(E48454,Sheet2!A:G,4,FALSE))","v":""},"",{"$f":"IF(OR(E48454=\"\",ISBLANK(E48454)),\"\",VLOOKUP(E48454,Sheet2!A:H,3,FALSE))","v":""},null,{"$f":"IF(OR(E48454=\"\",ISBLANK(E48454)),\"\",VLOOKUP(E48454,Sheet2!A:G,6,FALSE))","v":""},""]
[{"$f":"IF(OR(E48463=\"\",ISBLANK(E48463)),\"\",VLOOKUP(E48463,Sheet2!A:F,2,FALSE))","v":""},{"$f":"IF(OR(E48463=\"\",ISBLANK(E48463)),\"\",VLOOKUP(E48463,Sheet2!A:G,4,FALSE))","v":""},"",{"$f":"IF(OR(E48463=\"\",ISBLANK(E48463)),\"\",VLOOKUP(E48463,Sheet2!A:H,3,FALSE))","v":""},null,{"$f":"IF(OR(E48463=\"\",ISBLANK(E48463)),\"\",VLOOKUP(E48463,Sheet2!A:G,6,FALSE))","v":""},""]
[{"$f":"IF(OR(E48488=\"\",ISBLANK(E48488)),\"\",VLOOKUP(E48488,Sheet2!A:F,2,FALSE))","v":""},{"$f":"IF(OR(E48488=\"\",ISBLANK(E48488)),\"\",VLOOKUP(E48488,Sheet2!A:G,4,FALSE))","v":""},"",{"$f":"IF(OR(E48488=\"\",ISBLANK(E48488)),\"\",VLOOKUP(E48488,Sheet2!A:H,3,FALSE))","v":""},null,{"$f":"IF(OR(E48488=\"\",ISBLANK(E48488)),\"\",VLOOKUP(E48488,Sheet2!A:G,6,FALSE))","v":""},""]
[{"$f":"IF(OR(E48518=\"\",ISBLANK(E48518)),\"\",VLOOKUP(E48518,Sheet2!A:F,2,FALSE))","v":""},{"$f":"IF(OR(E48518=\"\",ISBLANK(E48518)),\"\",VLOOKUP(E48518,Sheet2!A:G,4,FALSE))","v":""},"",{"$f":"IF(OR(E48518=\"\",ISBLANK(E48518)),\"\",VLOOKUP(E48518,Sheet2!A:H,3,FALSE))","v":""},null,{"$f":"IF(OR(E48518=\"\",ISBLANK(E48518)),\"\",VLOOKUP(E48518,Sheet2!A:G,6,FALSE))","v":""},""]
[{"$f":"IF(OR(E48555=\"\",ISBLANK(E48555)),\"\",VLOOKUP(E48555,Sheet2!A:F,2,FALSE))","v":""},{"$f":"IF(OR(E48555=\"\",ISBLANK(E48555)),\"\",VLOOKUP(E48555,Sheet2!A:G,4,FALSE))","v":""},"",{"$f":"IF(OR(E48555=\"\",ISBLANK(E48555)),\"\",VLOOKUP(E48555,Sheet2!A:H,3,FALSE))","v":""},null,{"$f":"IF(OR(E48555=\"\",ISBLANK(E48555)),\"\",VLOOKUP(E48555,Sheet2!A:G,6,FALSE))","v":""},""]
[{"$f":"IF(OR(E48568=\"\",ISBLANK(E48568)),\"\",VLOOKUP(E48568,Sheet2!A:F,2,FALSE))","v":""},{"$f":"IF(OR(E48568=\"\",ISBLANK(E48568)),\"\",VLOOKUP(E48568,Sheet2!A:G,4,FALSE))","v":""},"",{"$f":"IF(OR(E48568=\"\",ISBLANK(E48568)),\"\",VLOOKUP(E48568,Sheet2!A:H,3,FALSE))","v":""},null,{"$f":"IF(OR(E48568=\"\",ISBLANK(E48568)),\"\",VLOOKUP(E48568,Sheet2!A:G,6,FALSE))","v":""},""]
[{"$f":"IF(OR(E48590=\"\",ISBLANK(E48590)),\"\",VLOOKUP(E48590,Sheet2!A:F,2,FALSE))","v":""},{"$f":"IF(OR(E48590=\"\",ISBLANK(E48590)),\"\",VLOOKUP(E48590,Sheet2!A:G,4,FALSE))","v":""},"",{"$f":"IF(OR(E48590=\"\",ISBLANK(E48590)),\"\",VLOOKUP(E48590,Sheet2!A:H,3,FALSE))","v":""},null,{"$f":"IF(OR(E48590=\"\",ISBLANK(E48590)),\"\",VLOOKUP(E48590,Sheet2!A:G,6,FALSE))","v":""},""]
[{"$f":"IF(OR(E48623=\"\",ISBLANK(E48623)),\"\",VLOOKUP(E48623,Sheet2!A:F,2,FALSE))","v":""},{"$f":"IF(OR(E48623=\"\",ISBLANK(E48623)),\"\",VLOOKUP(E48623,Sheet2!A:G,4,FALSE))","v":""},"",{"$f":"IF(OR(E48623=\"\",ISBLANK(E48623)),\"\",VLOOKUP(E48623,Sheet2!A:H,3,FALSE))","v":""},null,{"$f":"IF(OR(E48623=\"\",ISBLANK(E48623)),\"\",VLOOKUP(E48623,Sheet2!A:G,6,FALSE))","v":""},""]
[{"$f":"IF(OR(E48632=\"\",ISBLANK(E48632)),\"\",VLOOKUP(E48632,Sheet2!A:F,2,FALSE))","v":""},{"$f":"IF(OR(E48632=\"\",ISBLANK(E48632)),\"\",VLOOKUP(E48632,Sheet2!A:G,4,FALSE))","v":""},"",{"$f":"IF(OR(E48632=\"\",ISBLANK(E48632)),\"\",VLOOKUP(E48632,Sheet2!A:H,3,FALSE))","v":""},null,{"$f":"IF(OR(E48632=\"\",ISBLANK(E48632)),\"\",VLOOKUP(E48632,Sheet2!A:G,6,FALSE))","v":""},""]
[{"$f":"IF(OR(E48658=\"\",ISBLANK(E48658)),\"\",VLOOKUP(E48658,Sheet2!A:F,2,FALSE))","v":""},{"$f":"IF(OR(E48658=\"\",ISBLANK(E48658)),\"\",VLOOKUP(E48658,Sheet2!A:G,4,FALSE))","v":""},"",{"$f":"IF(OR(E48658=\"\",ISBLANK(E48658)),\"\",VLOOKUP(E48658,Sheet2!A:H,3,FALSE))","v":""},null,{"$f":"IF(OR(E48658=\"\",ISBLANK(E48658)),\"\",VLOOKUP(E48658,Sheet2!A:G,6,FALSE))","v":""},""]
[{"$f":"IF(OR(E48683=\"\",ISBLANK(E48683)),\"\",VLOOKUP(E48683,Sheet2!A:F,2,FALSE))","v":""},{"$f":"IF(OR(E48683=\"\",ISBLANK(E48683)),\"\",VLOOKUP(E48683,Sheet2!A:G,4,FALSE))","v":""},"",{"$f":"IF(OR(E48683=\"\",ISBLANK(E48683)),\"\",VLOOKUP(E48683,Sheet2!A:H,3,FALSE))","v":""},null,{"$f":"IF(OR(E48683=\"\",ISBLANK(E48683)),\"\",VLOOKUP(E48683,Sheet2!A:G,6,FALSE))","v":""},""]
[{"$f":"IF(OR(E48721=\"\",ISBLANK(E48721)),\"\",VLOOKUP(E48721,Sheet2!A:F,2,FALSE))","v":""},{"$f":"IF(OR(E48721=\"\",ISBLANK(E48721)),\"\",VLOOKUP(E48721,Sheet2!A:G,4,FALSE))","v":""},"",{"$f":"IF(OR(E48721=\"\",ISBLANK(E48721)),\"\",VLOOKUP(E48721,Sheet2!A:H,3,FALSE))","v":""},null,{"$f":"IF(OR(E48721=\"\",ISBLANK(E48721)),\"\",VLOOKUP(E48721,Sheet2!A:G,6,FALSE))","v":""},""]
[{"$f":"IF(OR(E48750=\"\",ISBLANK(E48750)),\"\",VLOOKUP(E48750,Sheet2!A:F,2,FALSE))","v":""},{"$f":"IF(OR(E48750=\"\",ISBLANK(E48750)),\"\",VLOOKUP(E48750,Sheet2!A:G,4,FALSE))","v":""},"",{"$f":"IF(OR(E48750=\"\",ISBLANK(E48750)),\"\",VLOOKUP(E48750,Sheet2!A:H,3,FALSE))","v":""},null,{"$f":"IF(OR(E48750=\"\",ISBLANK(E48750)),\"\",VLOOKUP(E48750,Sheet2!A:G,6,FALSE))","v":""},""]
[{"$f":"IF(OR(E48771=\"\",ISBLANK(E48771)),\"\",VLOOKUP(E48771,Sheet2!A:F,2,FALSE))","v":""},{"$f":"IF(OR(E48771=\"\",ISBLANK(E48771)),\"\",VLOOKUP(E48771,Sheet2!A:G,4,FALSE))","v":""},{"$f":"IF(D48771=0,\"\",D48771)","v":""},{"$f":"IF(OR(E48771=\"\",ISBLANK(E48771)),\"\",VLOOKUP(E48771,Sheet2!A:H,3,FALSE))","v":""},null,{"$f":"IF(OR(E48771=\"\",ISBLANK(E48771)),\"\",VLOOKUP(E48771,Sheet2!A:G,6,FALSE))","v":""},{"$f":"IF(F48771=0,\"\",F48771)","v":""}]
[{"$f":"IF(OR(E48785=\"\",ISBLANK(E48785)),\"\",VLOOKUP(E48785,Sheet2!A:F,2,FALSE))","v":""},{"$f":"IF(OR(E48785=\"\",ISBLANK(E48785)),\"\",VLOOKUP(E48785,Sheet2!A:G,4,FALSE))","v":""},"",{"$f":"IF(OR(E48785=\"\",ISBLANK(E48785)),\"\",VLOOKUP(E48785,Sheet2!A:H,3,FALSE))","v":""},null,{"$f":"IF(OR(E48785=\"\",ISBLANK(E48785)),\"\",VLOOKUP(E48785,Sheet2!A:G,6,FALSE))","v":""},""]
[{"$f":"IF(OR(E48818=\"\",ISBLANK(E48818)),\"\",VLOOKUP(E48818,Sheet2!A:F,2,FALSE))","v":""},{"$f":"IF(OR(E48818=\"\",ISBLANK(E48818)),\"\",VLOOKUP(E48818,Sheet2!A:G,4,FALSE))","v":""},"",{"$f":"IF(OR(E48818=\"\",ISBLANK(E48818)),\"\",VLOOKUP(E48818,Sheet2!A:H,3,FALSE))","v":""},null,{"$f":"IF(OR(E48818=\"\",ISBLANK(E48818)),\"\",VLOOKUP(E48818,Sheet2!A:G,6,FALSE))","v":""},""]
[{"$f":"IF(OR(E48835=\"\",ISBLANK(E48835)),\"\",VLOOKUP(E48835,Sheet2!A:F,2,FALSE))","v":""},{"$f":"IF(OR(E48835=\"\",ISBLANK(E48835)),\"\",VLOOKUP(E48835,Sheet2!A:G,4,FALSE))","v":""},{"$f":"IF(D48835=0,\"\",D48835)","v":""},{"$f":"IF(OR(E48835=\"\",ISBLANK(E48835)),\"\",VLOOKUP(E48835,Sheet2!A:H,3,FALSE))","v":""},null,{"$f":"IF(OR(E48835=\"\",ISBLANK(E48835)),\"\",VLOOKUP(E48835,Sheet2!A:G,6,FALSE))","v":""},{"$f":"IF(F48835=0,\"\",F48835)","v":""}]
[{"$f":"IF(OR(E48853=\"\",ISBLANK(E48853)),\"\",VLOOKUP(E48853,Sheet2!A:F,2,FALSE))","v":""},{"$f":"IF(OR(E48853=\"\",ISBLANK(E48853)),\"\",VLOOKUP(E48853,Sheet2!A:G,4,FALSE))","v":""},"",{"$f":"IF(OR(E48853=\"\",ISBLANK(E48853)),\"\",VLOOKUP(E48853,Sheet2!A:H,3,FALSE))","v":""},null,{"$f":"IF(OR(E48853=\"\",ISBLANK(E48853)),\"\",VLOOKUP(E48853,Sheet2!A:G,6,FALSE))","v":""},""]
[{"$f":"IF(OR(E48885=\"\",ISBLANK(E48885)),\"\",VLOOKUP(E48885,Sheet2!A:F,2,FALSE))","v":""},{"$f":"IF(OR(E48885=\"\",ISBLANK(E48885)),\"\",VLOOKUP(E48885,Sheet2!A:G,4,FALSE))","v":""},"",{"$f":"IF(OR(E48885=\"\",ISBLANK(E48885)),\"\",VLOOKUP(E48885,Sheet2!A:H,3,FALSE))","v":""},null,{"$f":"IF(OR(E48885=\"\",ISBLANK(E48885)),\"\",VLOOKUP(E48885,Sheet2!A:G,6,FALSE))","v":""},""]
[{"$f":"IF(OR(E48912=\"\",ISBLANK(E48912)),\"\",VLOOKUP(E48912,Sheet2!A:F,2,FALSE))","v":""},{"$f":"IF(OR(E48912=\"\",ISBLANK(E48912)),\"\",VLOOKUP(E48912,Sheet2!A:G,4,FALSE))","v":""},"",{"$f":"IF(OR(E48912=\"\",ISBLANK(E48912)),\"\",VLOOKUP(E48912,Sheet2!A:H,3,FALSE))","v":""},null,{"$f":"IF(OR(E48912=\"\",ISBLANK(E48912)),\"\",VLOOKUP(E48912,Sheet2!A:G,6,FALSE))","v":""},""]
[{"$f":"IF(OR(E48945=\"\",ISBLANK(E48945)),\"\",VLOOKUP(E48945,Sheet2!A:F,2,FALSE))","v":""},{"$f":"IF(OR(E48945=\"\",ISBLANK(E48945)),\"\",VLOOKUP(E48945,Sheet2!A:G,4,FALSE))","v":""},"",{"$f":"IF(OR(E48945=\"\",ISBLANK(E48945)),\"\",VLOOKUP(E48945,Sheet2!A:H,3,FALSE))","v":""},null,{"$f":"IF(OR(E48945=\"\",ISBLANK(E48945)),\"\",VLOOKUP(E48945,Sheet2!A:G,6,FALSE))","v":""},""]
[{"$f":"IF(OR(E48949=\"\",ISBLANK(E48949)),\"\",VLOOKUP(E48949,Sheet2!A:F,2,FALSE))","v":""},{"$f":"IF(OR(E48949=\"\",ISBLANK(E48949)),\"\",VLOOKUP(E48949,Sheet2!A:G,4,FALSE))","v":""},"",{"$f":"IF(OR(E48949=\"\",ISBLANK(E48949)),\"\",VLOOKUP(E48949,Sheet2!A:H,3,FALSE))","v":""},null,{"$f":"IF(OR(E48949=\"\",ISBLANK(E48949)),\"\",VLOOKUP(E48949,Sheet2!A:G,6,FALSE))","v":""},""]
[{"$f":"IF(OR(E48980=\"\",ISBLANK(E48980)),\"\",VLOOKUP(E48980,Sheet2!A:F,2,FALSE))","v":""},{"$f":"IF(OR(E48980=\"\",ISBLANK(E48980)),\"\",VLOOKUP(E48980,Sheet2!A:G,4,FALSE))","v":""},"",{"$f":"IF(OR(E48980=\"\",ISBLANK(E48980)),\"\",VLOOKUP(E48980,Sheet2!A:H,3,FALSE))","v":""},null,{"$f":"IF(OR(E48980=\"\",ISBLANK(E48980)),\"\",VLOOKUP(E48980,Sheet2!A:G,6,FALSE))","v":""},""]
[{"$f":"IF(OR(E48999=\"\",ISBLANK(E48999)),\"\",VLOOKUP(E48999,Sheet2!A:F,2,FALSE))","v":""},{"$f":"IF(OR(E48999=\"\",ISBLANK(E48999)),\"\",VLOOKUP(E48999,Sheet2!A:G,4,FALSE))","v":""},"",{"$f":"IF(OR(E48999=\"\",ISBLANK(E48999)),\"\",VLOOKUP(E48999,Sheet2!A:H,3,FALSE))","v":""},null,{"$f":"IF(OR(E48999=\"\",ISBLANK(E48999)),\"\",VLOOKUP(E48999,Sheet2!A:G,6,FALSE))","v":""},""]
[{"$f":"IF(OR(E49039=\"\",ISBLANK(E49039)),\"\",VLOOKUP(E49039,Sheet2!A:F,2,FALSE))","v":""},{"$f":"IF(OR(E49039=\"\",ISBLANK(E49039)),\"\",VLOOKUP(E49039,Sheet2!A:G,4,FALSE))","v":""},"",{"$f":"IF(OR(E49039=\"\",ISBLANK(E49039)),\"\",VLOOKUP(E49039,Sheet2!A:H,3,FALSE))","v":""},null,{"$f":"IF(OR(E49039=\"\",ISBLANK(E49039)),\"\",VLOOKUP(E49039,Sheet2!A:G,6,FALSE))","v":""},""]
[{"$f":"IF(OR(E49048=\"\",ISBLANK(E49048)),\"\",VLOOKUP(E49048,Sheet2!A:F,2,FALSE))","v":""},{"$f":"IF(OR(E49048=\"\",ISBLANK(E49048)),\"\",VLOOKUP(E49048,Sheet2!A:G,4,FALSE))","v":""},"",{"$f":"IF(OR(E49048=\"\",ISBLANK(E49048)),\"\",VLOOKUP(E49048,Sheet2!A:H,3,FALSE))","v":""},null,{"$f":"IF(OR(E49048=\"\",ISBLANK(E49048)),\"\",VLOOKUP(E49048,Sheet2!A:G,6,FALSE))","v":""},""]
[{"$f":"IF(OR(E49088=\"\",ISBLANK(E49088)),\"\",VLOOKUP(E49088,Sheet2!A:F,2,FALSE))","v":""},{"$f":"IF(OR(E49088=\"\",ISBLANK(E49088)),\"\",VLOOKUP(E49088,Sheet2!A:G,4,FALSE))","v":""},"",{"$f":"IF(OR(E49088=\"\",ISBLANK(E49088)),\"\",VLOOKUP(E49088,Sheet2!A:H,3,FALSE))","v":""},null,{"$f":"IF(OR(E49088=\"\",ISBLANK(E49088)),\"\",VLOOKUP(E49088,Sheet2!A:G,6,FALSE))","v":""},""]
[{"$f":"IF(OR(E49107=\"\",ISBLANK(E49107)),\"\",VLOOKUP(E49107,Sheet2!A:F,2,FALSE))","v":""},{"$f":"IF(OR(E49107=\"\",ISBLANK(E49107)),\"\",VLOOKUP(E49107,Sheet2!A:G,4,FALSE))","v":""},"",{"$f":"IF(OR(E49107=\"\",ISBLANK(E49107)),\"\",VLOOKUP(E49107,Sheet2!A:H,3,FALSE))","v":""},null,{"$f":"IF(OR(E49107=\"\",ISBLANK(E49107)),\"\",VLOOKUP(E49107,Sheet2!A:G,6,FALSE))","v":""},""]
[{"$f":"IF(OR(E49140=\"\",ISBLANK(E49140)),\"\",VLOOKUP(E49140,Sheet2!A:F,2,FALSE))","v":""},{"$f":"IF(OR(E49140=\"\",ISBLANK(E49140)),\"\",VLOOKUP(E49140,Sheet2!A:G,4,FALSE))","v":""},"",{"$f":"IF(OR(E49140=\"\",ISBLANK(E49140)),\"\",VLOOKUP(E49140,Sheet2!A:H,3,FALSE))","v":""},null,{"$f":"IF(OR(E49140=\"\",ISBLANK(E49140)),\"\",VLOOKUP(E49140,Sheet2!A:G,6,FALSE))","v":""},""]
[{"$f":"IF(OR(E49152=\"\",ISBLANK(E49152)),\"\",VLOOKUP(E49152,Sheet2!A:F,2,FALSE))","v":""},{"$f":"IF(OR(E49152=\"\",ISBLANK(E49152)),\"\",VLOOKUP(E49152,Sheet2!A:G,4,FALSE))","v":""},"",{"$f":"IF(OR(E49152=\"\",ISBLANK(E49152)),\"\",VLOOKUP(E49152,Sheet2!A:H,3,FALSE))","v":""},null,{"$f":"IF(OR(E49152=\"\",ISBLANK(E49152)),\"\",VLOOKUP(E49152,Sheet2!A:G,6,FALSE))","v":""},""]
[{"$f":"IF(OR(E49175=\"\",ISBLANK(E49175)),\"\",VLOOKUP(E49175,Sheet2!A:F,2,FALSE))","v":""},{"$f":"IF(OR(E49175=\"\",ISBLANK(E49175)),\"\",VLOOKUP(E49175,Sheet2!A:G,4,FALSE))","v":""},"",{"$f":"IF(OR(E49175=\"\",ISBLANK(E49175)),\"\",VLOOKUP(E49175,Sheet2!A:H,3,FALSE))","v":""},null,{"$f":"IF(OR(E49175=\"\",ISBLANK(E49175)),\"\",VLOOKUP(E49175,Sheet2!A:G,6,FALSE))","v":""},""]
[{"$f":"IF(OR(E49202=\"\",ISBLANK(E49202)),\"\",VLOOKUP(E49202,Sheet2!A:F,2,FALSE))","v":""},{"$f":"IF(OR(E49202=\"\",ISBLANK(E49202)),\"\",VLOOKUP(E49202,Sheet2!A:G,4,FALSE))","v":""},"",{"$f":"IF(OR(E49202=\"\",ISBLANK(E49202)),\"\",VLOOKUP(E49202,Sheet2!A:H,3,FALSE))","v":""},null,{"$f":"IF(OR(E49202=\"\",ISBLANK(E49202)),\"\",VLOOKUP(E49202,Sheet2!A:G,6,FALSE))","v":""},""]
[{"$f":"IF(OR(E49234=\"\",ISBLANK(E49234)),\"\",VLOOKUP(E49234,Sheet2!A:F,2,FALSE))","v":""},{"$f":"IF(OR(E49234=\"\",ISBLANK(E49234)),\"\",VLOOKUP(E49234,Sheet2!A:G,4,FALSE))","v":""},"",{"$f":"IF(OR(E49234=\"\",ISBLANK(E49234)),\"\",VLOOKUP(E49234,Sheet2!A:H,3,FALSE))","v":""},null,{"$f":"IF(OR(E49234=\"\",ISBLANK(E49234)),\"\",VLOOKUP(E49234,Sheet2!A:G,6,FALSE))","v":""},""]
[{"$f":"IF(OR(E49243=\"\",ISBLANK(E49243)),\"\",VLOOKUP(E49243,Sheet2!A:F,2,FALSE))","v":""},{"$f":"IF(OR(E49243=\"\",ISBLANK(E49243)),\"\",VLOOKUP(E49243,Sheet2!A:G,4,FALSE))","v":""},"",{"$f":"IF(OR(E49243=\"\",ISBLANK(E49243)),\"\",VLOOKUP(E49243,Sheet2!A:H,3,FALSE))","v":""},null,{"$f":"IF(OR(E49243=\"\",ISBLANK(E49243)),\"\",VLOOKUP(E49243,Sheet2!A:G,6,FALSE))","v":""},""]
[{"$f":"IF(OR(E49266=\"\",ISBLANK(E49266)),\"\",VLOOKUP(E49266,Sheet2!A:F,2,FALSE))","v":""},{"$f":"IF(OR(E49266=\"\",ISBLANK(E49266)),\"\",VLOOKUP(E49266,Sheet2!A:G,4,FALSE))","v":""},"",{"$f":"IF(OR(E49266=\"\",ISBLANK(E49266)),\"\",VLOOKUP(E49266,Sheet2!A:H,3,FALSE))","v":""},null,{"$f":"IF(OR(E49266=\"\",ISBLANK(E49266)),\"\",VLOOKUP(E49266,Sheet2!A:G,6,FALSE))","v":""},""]
[{"$f":"IF(OR(E49302=\"\",ISBLANK(E49302)),\"\",VLOOKUP(E49302,Sheet2!A:F,2,FALSE))","v":""},{"$f":"IF(OR(E49302=\"\",ISBLANK(E49302)),\"\",VLOOKUP(E49302,Sheet2!A:G,4,FALSE))","v":""},"",{"$f":"IF(OR(E49302=\"\",ISBLANK(E49302)),\"\",VLOOKUP(E49302,Sheet2!A:H,3,FALSE))","v":""},null,{"$f":"IF(OR(E49302=\"\",ISBLANK(E49302)),\"\",VLOOKUP(E49302,Sheet2!A:G,6,FALSE))","v":""},""]
[{"$f":"IF(OR(E49316=\"\",ISBLANK(E49316)),\"\",VLOOKUP(E49316,Sheet2!A:F,2,FALSE))","v":""},{"$f":"IF(OR(E49316=\"\",ISBLANK(E49316)),\"\",VLOOKUP(E49316,Sheet2!A:G,4,FALSE))","v":""},"",{"$f":"IF(OR(E49316=\"\",ISBLANK(E49316)),\"\",VLOOKUP(E49316,Sheet2!A:H,3,FALSE))","v":""},null,{"$f":"IF(OR(E49316=\"\",ISBLANK(E49316)),\"\",VLOOKUP(E49316,Sheet2!A:G,6,FALSE))","v":""},""]
[{"$f":"IF(OR(E49361=\"\",ISBLANK(E49361)),\"\",VLOOKUP(E49361,Sheet2!A:F,2,FALSE))","v":""},{"$f":"IF(OR(E49361=\"\",ISBLANK(E49361)),\"\",VLOOKUP(E49361,Sheet2!A:G,4,FALSE))","v":""},"",{"$f":"IF(OR(E49361=\"\",ISBLANK(E49361)),\"\",VLOOKUP(E49361,Sheet2!A:H,3,FALSE))","v":""},null,{"$f":"IF(OR(E49361=\"\",ISBLANK(E49361)),\"\",VLOOKUP(E49361,Sheet2!A:G,6,FALSE))","v":""},""]
[{"$f":"IF(OR(E49370=\"\",ISBLANK(E49370)),\"\",VLOOKUP(E49370,Sheet2!A:F,2,FALSE))","v":""},{"$f":"IF(OR(E49370=\"\",ISBLANK(E49370)),\"\",VLOOKUP(E49370,Sheet2!A:G,4,FALSE))","v":""},"",{"$f":"IF(OR(E49370=\"\",ISBLANK(E49370)),\"\",VLOOKUP(E49370,Sheet2!A:H,3,FALSE))","v":""},null,{"$f":"IF(OR(E49370=\"\",ISBLANK(E49370)),\"\",VLOOKUP(E49370,Sheet2!A:G,6,FALSE))","v":""},""]
[{"$f":"IF(OR(E49405=\"\",ISBLANK(E49405)),\"\",VLOOKUP(E49405,Sheet2!A:F,2,FALSE))","v":""},{"$f":"IF(OR(E49405=\"\",ISBLANK(E49405)),\"\",VLOOKUP(E49405,Sheet2!A:G,4,FALSE))","v":""},"",{"$f":"IF(OR(E49405=\"\",ISBLANK(E49405)),\"\",VLOOKUP(E49405,Sheet2!A:H,3,FALSE))","v":""},null,{"$f":"IF(OR(E49405=\"\",ISBLANK(E49405)),\"\",VLOOKUP(E49405,Sheet2!A:G,6,FALSE))","v":""},""]
[{"$f":"IF(OR(E49429=\"\",ISBLANK(E49429)),\"\",VLOOKUP(E49429,Sheet2!A:F,2,FALSE))","v":""},{"$f":"IF(OR(E49429=\"\",ISBLANK(E49429)),\"\",VLOOKUP(E49429,Sheet2!A:G,4,FALSE))","v":""},"",{"$f":"IF(OR(E49429=\"\",ISBLANK(E49429)),\"\",VLOOKUP(E49429,Sheet2!A:H,3,FALSE))","v":""},null,{"$f":"IF(OR(E49429=\"\",ISBLANK(E49429)),\"\",VLOOKUP(E49429,Sheet2!A:G,6,FALSE))","v":""},""]
[{"$f":"IF(OR(E49459=\"\",ISBLANK(E49459)),\"\",VLOOKUP(E49459,Sheet2!A:F,2,FALSE))","v":""},{"$f":"IF(OR(E49459=\"\",ISBLANK(E49459)),\"\",VLOOKUP(E49459,Sheet2!A:G,4,FALSE))","v":""},"",{"$f":"IF(OR(E49459=\"\",ISBLANK(E49459)),\"\",VLOOKUP(E49459,Sheet2!A:H,3,FALSE))","v":""},null,{"$f":"IF(OR(E49459=\"\",ISBLANK(E49459)),\"\",VLOOKUP(E49459,Sheet2!A:G,6,FALSE))","v":""},""]
[{"$f":"IF(OR(E49464=\"\",ISBLANK(E49464)),\"\",VLOOKUP(E49464,Sheet2!A:F,2,FALSE))","v":""},{"$f":"IF(OR(E49464=\"\",ISBLANK(E49464)),\"\",VLOOKUP(E49464,Sheet2!A:G,4,FALSE))","v":""},"",{"$f":"IF(OR(E49464=\"\",ISBLANK(E49464)),\"\",VLOOKUP(E49464,Sheet2!A:H,3,FALSE))","v":""},null,{"$f":"IF(OR(E49464=\"\",ISBLANK(E49464)),\"\",VLOOKUP(E49464,Sheet2!A:G,6,FALSE))","v":""},""]
[{"$f":"IF(OR(E49497=\"\",ISBLANK(E49497)),\"\",VLOOKUP(E49497,Sheet2!A:F,2,FALSE))","v":""},{"$f":"IF(OR(E49497=\"\",ISBLANK(E49497)),\"\",VLOOKUP(E49497,Sheet2!A:G,4,FALSE))","v":""},"",{"$f":"IF(OR(E49497=\"\",ISBLANK(E49497)),\"\",VLOOKUP(E49497,Sheet2!A:H,3,FALSE))","v":""},null,{"$f":"IF(OR(E49497=\"\",ISBLANK(E49497)),\"\",VLOOKUP(E49497,Sheet2!A:G,6,FALSE))","v":""},""]
[{"$f":"IF(OR(E49519=\"\",ISBLANK(E49519)),\"\",VLOOKUP(E49519,Sheet2!A:F,2,FALSE))","v":""},{"$f":"IF(OR(E49519=\"\",ISBLANK(E49519)),\"\",VLOOKUP(E49519,Sheet2!A:G,4,FALSE))","v":""},"",{"$f":"IF(OR(E49519=\"\",ISBLANK(E49519)),\"\",VLOOKUP(E49519,Sheet2!A:H,3,FALSE))","v":""},null,{"$f":"IF(OR(E49519=\"\",ISBLANK(E49519)),\"\",VLOOKUP(E49519,Sheet2!A:G,6,FALSE))","v":""},""]
[{"$f":"IF(OR(E49556=\"\",ISBLANK(E49556)),\"\",VLOOKUP(E49556,Sheet2!A:F,2,FALSE))","v":""},{"$f":"IF(OR(E49556=\"\",ISBLANK(E49556)),\"\",VLOOKUP(E49556,Sheet2!A:G,4,FALSE))","v":""},"",{"$f":"IF(OR(E49556=\"\",ISBLANK(E49556)),\"\",VLOOKUP(E49556,Sheet2!A:H,3,FALSE))","v":""},null,{"$f":"IF(OR(E49556=\"\",ISBLANK(E49556)),\"\",VLOOKUP(E49556,Sheet2!A:G,6,FALSE))","v":""},""]
[{"$f":"IF(OR(E49565=\"\",ISBLANK(E49565)),\"\",VLOOKUP(E49565,Sheet2!A:F,2,FALSE))","v":""},{"$f":"IF(OR(E49565=\"\",ISBLANK(E49565)),\"\",VLOOKUP(E49565,Sheet2!A:G,4,FALSE))","v":""},"",{"$f":"IF(OR(E49565=\"\",ISBLANK(E49565)),\"\",VLOOKUP(E49565,Sheet2!A:H,3,FALSE))","v":""},null,{"$f":"IF(OR(E49565=\"\",ISBLANK(E49565)),\"\",VLOOKUP(E49565,Sheet2!A:G,6,FALSE))","v":""},""]
[{"$f":"IF(OR(E49583=\"\",ISBLANK(E49583)),\"\",VLOOKUP(E49583,Sheet2!A:F,2,FALSE))","v":""},{"$f":"IF(OR(E49583=\"\",ISBLANK(E49583)),\"\",VLOOKUP(E49583,Sheet2!A:G,4,FALSE))","v":""},"",{"$f":"IF(OR(E49583=\"\",ISBLANK(E49583)),\"\",VLOOKUP(E49583,Sheet2!A:H,3,FALSE))","v":""},null,{"$f":"IF(OR(E49583=\"\",ISBLANK(E49583)),\"\",VLOOKUP(E49583,Sheet2!A:G,6,FALSE))","v":""},""]
[{"$f":"IF(OR(E49624=\"\",ISBLANK(E49624)),\"\",VLOOKUP(E49624,Sheet2!A:F,2,FALSE))","v":""},{"$f":"IF(OR(E49624=\"\",ISBLANK(E49624)),\"\",VLOOKUP(E49624,Sheet2!A:G,4,FALSE))","v":""},"",{"$f":"IF(OR(E49624=\"\",ISBLANK(E49624)),\"\",VLOOKUP(E49624,Sheet2!A:H,3,FALSE))","v":""},null,{"$f":"IF(OR(E49624=\"\",ISBLANK(E49624)),\"\",VLOOKUP(E49624,Sheet2!A:G,6,FALSE))","v":""},""]
[{"$f":"IF(OR(E49637=\"\",ISBLANK(E49637)),\"\",VLOOKUP(E49637,Sheet2!A:F,2,FALSE))","v":""},{"$f":"IF(OR(E49637=\"\",ISBLANK(E49637)),\"\",VLOOKUP(E49637,Sheet2!A:G,4,FALSE))","v":""},"",{"$f":"IF(OR(E49637=\"\",ISBLANK(E49637)),\"\",VLOOKUP(E49637,Sheet2!A:H,3,FALSE))","v":""},null,{"$f":"IF(OR(E49637=\"\",ISBLANK(E49637)),\"\",VLOOKUP(E49637,Sheet2!A:G,6,FALSE))","v":""},""]
[{"$f":"IF(OR(E49659=\"\",ISBLANK(E49659)),\"\",VLOOKUP(E49659,Sheet2!A:F,2,FALSE))","v":""},{"$f":"IF(OR(E49659=\"\",ISBLANK(E49659)),\"\",VLOOKUP(E49659,Sheet2!A:G,4,FALSE))","v":""},"",{"$f":"IF(OR(E49659=\"\",ISBLANK(E49659)),\"\",VLOOKUP(E49659,Sheet2!A:H,3,FALSE))","v":""},null,{"$f":"IF(OR(E49659=\"\",ISBLANK(E49659)),\"\",VLOOKUP(E49659,Sheet2!A:G,6,FALSE))","v":""},""]
[{"$f":"IF(OR(E49692=\"\",ISBLANK(E49692)),\"\",VLOOKUP(E49692,Sheet2!A:F,2,FALSE))","v":""},{"$f":"IF(OR(E49692=\"\",ISBLANK(E49692)),\"\",VLOOKUP(E49692,Sheet2!A:G,4,FALSE))","v":""},"",{"$f":"IF(OR(E49692=\"\",ISBLANK(E49692)),\"\",VLOOKUP(E49692,Sheet2!A:H,3,FALSE))","v":""},null,{"$f":"IF(OR(E49692=\"\",ISBLANK(E49692)),\"\",VLOOKUP(E49692,Sheet2!A:G,6,FALSE))","v":""},""]
[{"$f":"IF(OR(E49722=\"\",ISBLANK(E49722)),\"\",VLOOKUP(E49722,Sheet2!A:F,2,FALSE))","v":""},{"$f":"IF(OR(E49722=\"\",ISBLANK(E49722)),\"\",VLOOKUP(E49722,Sheet2!A:G,4,FALSE))","v":""},"",{"$f":"IF(OR(E49722=\"\",ISBLANK(E49722)),\"\",VLOOKUP(E49722,Sheet2!A:H,3,FALSE))","v":""},null,{"$f":"IF(OR(E49722=\"\",ISBLANK(E49722)),\"\",VLOOKUP(E49722,Sheet2!A:G,6,FALSE))","v":""},""]
[{"$f":"IF(OR(E49751=\"\",ISBLANK(E49751)),\"\",VLOOKUP(E49751,Sheet2!A:F,2,FALSE))","v":""},{"$f":"IF(OR(E49751=\"\",ISBLANK(E49751)),\"\",VLOOKUP(E49751,Sheet2!A:G,4,FALSE))","v":""},"",{"$f":"IF(OR(E49751=\"\",ISBLANK(E49751)),\"\",VLOOKUP(E49751,Sheet2!A:H,3,FALSE))","v":""},null,{"$f":"IF(OR(E49751=\"\",ISBLANK(E49751)),\"\",VLOOKUP(E49751,Sheet2!A:G,6,FALSE))","v":""},""]
[{"$f":"IF(OR(E49776=\"\",ISBLANK(E49776)),\"\",VLOOKUP(E49776,Sheet2!A:F,2,FALSE))","v":""},{"$f":"IF(OR(E49776=\"\",ISBLANK(E49776)),\"\",VLOOKUP(E49776,Sheet2!A:G,4,FALSE))","v":""},"",{"$f":"IF(OR(E49776=\"\",ISBLANK(E49776)),\"\",VLOOKUP(E49776,Sheet2!A:H,3,FALSE))","v":""},null,{"$f":"IF(OR(E49776=\"\",ISBLANK(E49776)),\"\",VLOOKUP(E49776,Sheet2!A:G,6,FALSE))","v":""},""]
[{"$f":"IF(OR(E49786=\"\",ISBLANK(E49786)),\"\",VLOOKUP(E49786,Sheet2!A:F,2,FALSE))","v":""},{"$f":"IF(OR(E49786=\"\",ISBLANK(E49786)),\"\",VLOOKUP(E49786,Sheet2!A:G,4,FALSE))","v":""},"",{"$f":"IF(OR(E49786=\"\",ISBLANK(E49786)),\"\",VLOOKUP(E49786,Sheet2!A:H,3,FALSE))","v":""},null,{"$f":"IF(OR(E49786=\"\",ISBLANK(E49786)),\"\",VLOOKUP(E49786,Sheet2!A:G,6,FALSE))","v":""},""]
[{"$f":"IF(OR(E49819=\"\",ISBLANK(E49819)),\"\",VLOOKUP(E49819,Sheet2!A:F,2,FALSE))","v":""},{"$f":"IF(OR(E49819=\"\",ISBLANK(E49819)),\"\",VLOOKUP(E49819,Sheet2!A:G,4,FALSE))","v":""},"",{"$f":"IF(OR(E49819=\"\",ISBLANK(E49819)),\"\",VLOOKUP(E49819,Sheet2!A:H,3,FALSE))","v":""},null,{"$f":"IF(OR(E49819=\"\",ISBLANK(E49819)),\"\",VLOOKUP(E49819,Sheet2!A:G,6,FALSE))","v":""},""]
[{"$f":"IF(OR(E49836=\"\",ISBLANK(E49836)),\"\",VLOOKUP(E49836,Sheet2!A:F,2,FALSE))","v":""},{"$f":"IF(OR(E49836=\"\",ISBLANK(E49836)),\"\",VLOOKUP(E49836,Sheet2!A:G,4,FALSE))","v":""},"",{"$f":"IF(OR(E49836=\"\",ISBLANK(E49836)),\"\",VLOOKUP(E49836,Sheet2!A:H,3,FALSE))","v":""},null,{"$f":"IF(OR(E49836=\"\",ISBLANK(E49836)),\"\",VLOOKUP(E49836,Sheet2!A:G,6,FALSE))","v":""},""]
[{"$f":"IF(OR(E49854=\"\",ISBLANK(E49854)),\"\",VLOOKUP(E49854,Sheet2!A:F,2,FALSE))","v":""},{"$f":"IF(OR(E49854=\"\",ISBLANK(E49854)),\"\",VLOOKUP(E49854,Sheet2!A:G,4,FALSE))","v":""},"",{"$f":"IF(OR(E49854=\"\",ISBLANK(E49854)),\"\",VLOOKUP(E49854,Sheet2!A:H,3,FALSE))","v":""},null,{"$f":"IF(OR(E49854=\"\",ISBLANK(E49854)),\"\",VLOOKUP(E49854,Sheet2!A:G,6,FALSE))","v":""},""]
[{"$f":"IF(OR(E49890=\"\",ISBLANK(E49890)),\"\",VLOOKUP(E49890,Sheet2!A:F,2,FALSE))","v":""},{"$f":"IF(OR(E49890=\"\",ISBLANK(E49890)),\"\",VLOOKUP(E49890,Sheet2!A:G,4,FALSE))","v":""},"",{"$f":"IF(OR(E49890=\"\",ISBLANK(E49890)),\"\",VLOOKUP(E49890,Sheet2!A:H,3,FALSE))","v":""},null,{"$f":"IF(OR(E49890=\"\",ISBLANK(E49890)),\"\",VLOOKUP(E49890,Sheet2!A:G,6,FALSE))","v":""},""]
[{"$f":"IF(OR(E49913=\"\",ISBLANK(E49913)),\"\",VLOOKUP(E49913,Sheet2!A:F,2,FALSE))","v":""},{"$f":"IF(OR(E49913=\"\",ISBLANK(E49913)),\"\",VLOOKUP(E49913,Sheet2!A:G,4,FALSE))","v":""},"",{"$f":"IF(OR(E49913=\"\",ISBLANK(E49913)),\"\",VLOOKUP(E49913,Sheet2!A:H,3,FALSE))","v":""},null,{"$f":"IF(OR(E49913=\"\",ISBLANK(E49913)),\"\",VLOOKUP(E49913,Sheet2!A:G,6,FALSE))","v":""},""]
[{"$f":"IF(OR(E49946=\"\",ISBLANK(E49946)),\"\",VLOOKUP(E49946,Sheet2!A:F,2,FALSE))","v":""},{"$f":"IF(OR(E49946=\"\",ISBLANK(E49946)),\"\",VLOOKUP(E49946,Sheet2!A:G,4,FALSE))","v":""},"",{"$f":"IF(OR(E49946=\"\",ISBLANK(E49946)),\"\",VLOOKUP(E49946,Sheet2!A:H,3,FALSE))","v":""},null,{"$f":"IF(OR(E49946=\"\",ISBLANK(E49946)),\"\",VLOOKUP(E49946,Sheet2!A:G,6,FALSE))","v":""},""]
[{"$f":"IF(OR(E49954=\"\",ISBLANK(E49954)),\"\",VLOOKUP(E49954,Sheet2!A:F,2,FALSE))","v":""},{"$f":"IF(OR(E49954=\"\",ISBLANK(E49954)),\"\",VLOOKUP(E49954,Sheet2!A:G,4,FALSE))","v":""},"",{"$f":"IF(OR(E49954=\"\",ISBLANK(E49954)),\"\",VLOOKUP(E49954,Sheet2!A:H,3,FALSE))","v":""},null,{"$f":"IF(OR(E49954=\"\",ISBLANK(E49954)),\"\",VLOOKUP(E49954,Sheet2!A:G,6,FALSE))","v":""},""]
[{"$f":"IF(OR(E49981=\"\",ISBLANK(E49981)),\"\",VLOOKUP(E49981,Sheet2!A:F,2,FALSE))","v":""},{"$f":"IF(OR(E49981=\"\",ISBLANK(E49981)),\"\",VLOOKUP(E49981,Sheet2!A:G,4,FALSE))","v":""},"",{"$f":"IF(OR(E49981=\"\",ISBLANK(E49981)),\"\",VLOOKUP(E49981,Sheet2!A:H,3,FALSE))","v":""},null,{"$f":"IF(OR(E49981=\"\",ISBLANK(E49981)),\"\",VLOOKUP(E49981,Sheet2!A:G,6,FALSE))","v":""},""]
[{"$f":"IF(OR(E50014=\"\",ISBLANK(E50014)),\"\",VLOOKUP(E50014,Sheet2!A:F,2,FALSE))","v":""},{"$f":"IF(OR(E50014=\"\",ISBLANK(E50014)),\"\",VLOOKUP(E50014,Sheet2!A:G,4,FALSE))","v":""},"",{"$f":"IF(OR(E50014=\"\",ISBLANK(E50014)),\"\",VLOOKUP(E50014,Sheet2!A:H,3,FALSE))","v":""},null,{"$f":"IF(OR(E50014=\"\",ISBLANK(E50014)),\"\",VLOOKUP(E50014,Sheet2!A:G,6,FALSE))","v":""},""]
[{"$f":"IF(OR(E50039=\"\",ISBLANK(E50039)),\"\",VLOOKUP(E50039,Sheet2!A:F,2,FALSE))","v":""},{"$f":"IF(OR(E50039=\"\",ISBLANK(E50039)),\"\",VLOOKUP(E50039,Sheet2!A:G,4,FALSE))","v":""},"",{"$f":"IF(OR(E50039=\"\",ISBLANK(E50039)),\"\",VLOOKUP(E50039,Sheet2!A:H,3,FALSE))","v":""},null,{"$f":"IF(OR(E50039=\"\",ISBLANK(E50039)),\"\",VLOOKUP(E50039,Sheet2!A:G,6,FALSE))","v":""},""]
[{"$f":"IF(OR(E50049=\"\",ISBLANK(E50049)),\"\",VLOOKUP(E50049,Sheet2!A:F,2,FALSE))","v":""},{"$f":"IF(OR(E50049=\"\",ISBLANK(E50049)),\"\",VLOOKUP(E50049,Sheet2!A:G,4,FALSE))","v":""},"",{"$f":"IF(OR(E50049=\"\",ISBLANK(E50049)),\"\",VLOOKUP(E50049,Sheet2!A:H,3,FALSE))","v":""},null,{"$f":"IF(OR(E50049=\"\",ISBLANK(E50049)),\"\",VLOOKUP(E50049,Sheet2!A:G,6,FALSE))","v":""},""]
[]
[]
[]
[]
[]
[]
[]
[]
[]
[]
[]
[]
[]
[]
[]
[]
[]
[]
[]
[]
[]
[]
[]
[]
[]
[]
[]
[]
[]
[]
[]
[]
[]
[]
[]
[]
[]
[]
[]
[]
[]
[]
[]
[]
[]
[]
[]
[]
[]
[]
[]
[]
[]
[]
[]
[]
[]
[]
[]
[]
[]
[]
[]
[]
[]
[]
[]
[]
[]
[]
[]
[]
[]
[]
[]
[]
[]
[]
[]
[]
[]
[]
[]
[]
[]
[]
[]
[]
[]
[]
[]
[]
[]
[]
[]
[]
[]
[]
[]
[]
[]
[]
[]
[]
[]
[]
[]
[]
[]
[]
[]
[]
[]
[]
[]
[]
[]
[]
[]
[]
[]
[]
[]
[]
[]
[]
[]
[]
[]
[]
[]
[]
[]
[]
[]
[]
[]
[]
[]
[]
[]
[]
[]
[]
[]
[]
[]
[]
[]
[]
[]
[]
[]
[]
[]
[]
[]
[]
[]
[]
[]
[]
[]
[]
[]
[]
[]
[]
[]
[]
[]
[]
[]
[]
[]
[]
[]
[]
[]
[]
[]
[]
[]
[]
[]
[]
[]
[]
[]
[]
[]
[]
[]
[]
[]
[]
[]
[]
[]
[]
[]
[]
[]
[]
[]
[]
[]
[]
[]
[]
[]
[]
[]
[]
[]
[]
[]
[]
[]
[]
[]
[]
[]
[]
[]
[]
[]
[]
[]
[]
[]
[]
[]
[]
[]
[]
[]
[]
[]
[]
[]
[]
[]
[]
[]
[]
[]
[]
[]
[]
[]
[]
[]
[]
[]
[]
[]
[]
[]
[]
[]
[]
[]
[]
[]
[]
[]
[]
[]
[]
[]
[]
[]
[]
[]
[]
[]
[]
[]
[]
[]
[]
[]
[]
[]
[]
[]
[]
[]
[]
[]
[]
[]
[]
[]
[]
[]
[]
[]
[]
[]
[]
[]
[]
[]
[]
[]
[]
[]
[]
[]
[]
[]
[]
[]
[]
[]
[]
[]
[]
[]
[]
[]
[]
[]
[]
[]
[]
[]
[]
[]
[]
[]
[]
[]
[]
[]
[]
[]
[]
[]
[]
[]
[]
[]
[]
[]
[]
[]
[]
[]
[]
[]
[]
[]
[]
[]
[]
[]
[]
[]
[]
[]
[]
[]
[]
[]
[]
[]
[]
[]
[]
[]
[]
[]
[]
[]
[]
[]
[]
[]
[]
[]
[]
[]
[]
[]
[]
[]
[]
[]
[]
[]
[]
[]
[]
[]
[]
[]
[]
[]
[]
[]
[]
[]
[]
[]
[]
[]
[]
[]
[]
[]
[]
[]
[]
[]
[]
[]
[]
[]
[]
[]
[]
[]
[]
[]
[]
[]
[]
[]
[]
[]
[]
[]
[]
[]
[]
[]
[]
[]
[]
[]
[]
[]
[]
[]
[]
[]
[]
[]
[]
[]
[]
[]
[]
[]
[]
[]
[]
[]
[]
[]
[]
[]
[]
[]
[]
[]
[]
[]
[]
[]
[]
[]
[]
[]
[]
[]
[]
[]
[]
[]
[]
[]
[]
[]
[]
[]
[]
[]
[]
[]
[]
[]
[]
[]
[]
[]
[]
[]
[]
[]
[]
[]
[]
[]
[]
[]
[]
[]
[]
[]
[]
[]
[]
[]
[]
[]
[]
[]
[]
[]
[]
[]
[]
[]
[]
[null,null,{"$f":"IF(D51277=0,\"\",D51277)","v":""},{"$f":"IF(OR(B51277=\"\",ISBLANK(B51277)),\"\",VLOOKUP(B51277,#REF!,5,FALSE))","v":""},{"$f":"IF(OR(B51277=\"\",ISBLANK(B51277)),\"\",VLOOKUP(B51277,#REF!,2,FALSE))","v":""}]

{"sheet":"FREE TEXT","index":2,"n_rows":1,"n_cols":16,"rows_kept":1,"cut":false,"hidden":false,"merged":[]}
["RES No","B&S","Common name","Taxon","Site","Gridref","VC","Recorder","Determiner","Date","Quantity","Method","Sex","Stage","Status","Comment"]

{"sheet":"Daily record summary","index":3,"n_rows":10,"n_cols":4,"rows_kept":10,"cut":false,"hidden":false,"merged":[[0,3,0,9],[3,2,3,6]]}
["Method","(All)",null,"Click on the triangle button to change the data presented in the summary below"]
["Site","(All)"]
["Stage","(All)"]
["Comment","(All)","Click on any cell in the table, right click and click on refresh"]
[]
["Sum of Quantity","Column Labels"]
["Row Labels","(blank)","Grand Total"]
[]
["(blank)"]
["Grand Total"]

{"sheet":"Monthly record summary","index":4,"n_rows":11,"n_cols":4,"rows_kept":11,"cut":false,"hidden":false,"merged":[[0,3,0,11],[3,2,3,8]]}
["Method","(All)",null,"Click on the triangle button to change the data presented in the summary below"]
["Site","(All)"]
["Stage","(All)"]
["Comment","(All)","Click on any cell in the table, right click and click on refresh"]
[]
["Sum of Quantity","Column Labels"]
[null,"<01/01/1905","Grand Total"]
["Row Labels","(blank)"]
[]
["(blank)"]
["Grand Total"]

{"sheet":"Earliest & latest date, peak No","index":5,"n_rows":4,"n_cols":6,"rows_kept":4,"cut":false,"hidden":false,"merged":[[1,5,1,11]]}
[null,"Earliest","Latest","Peak No"]
["Row Labels","Min of Date","Max of Date","Max of Quantity",null,"Click on any cell in the table, right click and click on refresh"]
[]
["(blank)"]

{"sheet":"Sheet2","index":6,"n_rows":1555,"n_cols":6,"rows_kept":1555,"cut":false,"hidden":true,"merged":[]}
["Taxon","RES no","Common name","B&S",null,"ID GUIDE"]
["Acanthopsyche atra",11.016,null,191,"micro","Not currently recorded in Kent, provide verification"]
["Acentria ephemerella",63.115000000000002,"Water Veneer ",1331,"micro"]
["Achroia grisella",62.005000000000003,"Lesser Wax Moth ",1426,"micro"]
["Acleris abietana",49.067,null,1059,"micro"]
["Acleris aspersana",49.078000000000003,null,1043,"micro"]
["Acleris bergmanniana",49.063000000000002,null,1035,"micro"]
["Acleris caledoniana",49.064,null,1040,"micro","Not currently recorded in Kent, provide verification"]
["Acleris comariana",49.064999999999998,"Strawberry Tortrix ",1039,"micro"]
["Acleris cristana",49.076000000000001,null,1054,"micro"]
["Acleris effractana",49.072000000000003,null,"1062a","micro"]
["Acleris emargana",49.070999999999998,null,1062,"micro"]
["Acleris ferrugana",49.082999999999998,null,1044,"micro"]
["Acleris forsskaleana",49.061999999999998,null,1036,"micro"]
["Acleris hastiana",49.08,null,1053,"micro"]
["Acleris holmiana",49.061,null,1037,"micro"]
["Acleris hyemana",49.082000000000001,null,1055,"micro","Not currently recorded in Kent, provide verification"]
["Acleris kochiella",49.085000000000001,null,1050,"micro"]
["Acleris laterana",49.066000000000003,null,1038,"micro"]
["Acleris lipsiana",49.088000000000001,null,1056,"micro","Not currently recorded in Kent, provide verification"]
["Acleris literana",49.087000000000003,null,1061,"micro"]
["Acleris logiana",49.085999999999999,null,1051,"micro"]
["Acleris lorquiniana",49.073999999999998,null,1058,"micro"]
["Acleris maccana",49.067999999999998,null,1060,"micro","Not currently recorded in Kent, provide verification"]
["Acleris notana",49.084000000000003,null,1045,"micro"]
["Acleris permutana",49.081000000000003,null,1049,"micro"]
["Acleris rhombana",49.07,"Rhomboid Tortrix ",1042,"micro"]
["Acleris rufana",49.088999999999999,null,1057,"micro","Not currently recorded in Kent, provide verification"]
["Acleris schalleriana",49.073,null,1047,"micro"]
["Acleris shepherdana",49.079000000000001,null,1046,"micro"]
["Acleris sparsana",49.069000000000003,null,1041,"micro"]
["Acleris umbrana",49.075000000000003,null,1052,"micro"]
["Acleris variegana",49.076999999999998,"Garden Rose Tortrix ",1048,"micro"]
["Acompsia cinerella",35.026000000000003,null,855,"micro"]
["Acompsia schmidtiellus",35.027000000000001,null,861,"micro"]
["Acrobasis advenella",62.034999999999997,null,1439,"micro"]
["Acrobasis consociella",62.037999999999997,null,1437,"micro"]
["Acrobasis marmorea",62.036999999999999,null,1440,"micro"]
["Acrobasis repandana",62.033999999999999,null,1436,"micro"]
["Acrobasis suavella",62.036000000000001,null,1438,"micro"]
["Acrobasis tumidana",62.033000000000001,null,1435,"micro"]
["Acrocercops brongniardella",15.019,null,313,"micro"]
["Acroclita subsequana",49.225999999999999,null,1160,"micro","Not currently recorded in Kent, provide verification"]
["Acrolepia autumnitella",19.013999999999999,null,476,"micro"]
["Acrolepiopsis assectella",19.010999999999999,"Leek Moth ",473,"micro"]
["Acrolepiopsis betulella",19.012,null,474,"micro","Not currently recorded in Kent, provide verification"]
["Acrolepiopsis marcidella",19.013000000000002,null,475,"micro","Not currently recorded in Kent, provide verification"]
["Adaina microdactyla",45.042999999999999,"Hemp Agrimony Plume ",1517,"micro"]
["Adela croesella",7.008,null,151,"micro"]
["Adela cuprella",7.0069999999999997,null,149,"micro","Not currently recorded in Kent, provide verification"]
["Adela reaumurella",7.0060000000000002,null,150,"micro"]
["Adoxophyes orana",49.040999999999997,"Summer Fruit Tortrix ",999,"micro"]
["Aethes beatricella",49.122999999999998,null,951,"micro"]
["Aethes bilbaensis",49.125,null,"951a ","micro","Not currently recorded in Kent, provide verification"]
["Aethes cnicana",49.127000000000002,null,945,"micro"]
["Aethes dilucidana",49.122,null,949,"micro"]
["Aethes fennicana",49.125999999999998,null,"950a ","micro","Not currently recorded in Kent, provide verification"]
["Aethes francillana",49.124000000000002,null,950,"micro"]
["Aethes hartmanniana",49.113999999999997,null,941,"micro"]
["Aethes margaritana",49.118000000000002,null,948,"micro"]
["Aethes margarotana",49.116999999999997,null,943,"micro","Not currently recorded in Kent, provide verification"]
["Aethes piercei",49.115000000000002,null,942,"micro"]
["Aethes rubigana",49.128,null,946,"micro"]
["Aethes rutilana",49.119,null,940,"micro","Not currently recorded in Kent, provide verification"]
["Aethes smeathmanniana",49.12,null,947,"micro"]
["Aethes tesserana",49.121000000000002,null,939,"micro"]
["Aethes williana",49.116,null,944,"micro"]
["Agapeta hamana",49.109000000000002,null,937,"micro"]
["Agapeta zoegana",49.11,null,938,"micro"]
["Agdistis bennetii",45.000999999999998,"Saltmarsh Plume ",1488,"micro"]
["Agdistis meridionalis",45.002000000000002,"Cliff Plume ",1487,"micro","Not currently recorded in Kent, provide verification"]
["Agdistis tamaricis",45.003,"Tamarisk Plume ","1488a","micro","Not currently recorded in Kent, provide verification"]
["Aglossa caprealis",62.073,"Small Tabby ",1420,"micro"]
["Aglossa pinguinalis",62.073999999999998,"Large Tabby ",1421,"micro"]
["Agonopterix alstromeriana",32.030999999999999,null,695,"micro"]
["Agonopterix angelicella",32.031999999999996,null,713,"micro"]
["Agonopterix arenella",32.017000000000003,null,697,"micro"]
["Agonopterix assimilella",32.024000000000001,null,702,"micro"]
["Agonopterix astrantiae",32.033000000000001,null,712,"micro"]
["Agonopterix atomella",32.012,null,703,"micro"]
["Agonopterix bipunctosa",32.027000000000001,null,699,"micro","Not currently recorded in Kent, provide verification"]
["Agonopterix capreolella",32.021999999999998,null,715,"micro"]
["Agonopterix carduella",32.012999999999998,null,708,"micro"]
["Agonopterix ciliella",32.018999999999998,null,689,"micro"]
["Agonopterix cnicella",32.033999999999999,null,690,"micro"]
["Agonopterix conterminella",32.01,null,710,"micro"]
["Agonopterix curvipunctosa",32.020000000000003,null,711,"micro","Not currently recorded in Kent, provide verification"]
["Agonopterix heracliana",32.018000000000001,null,688,"micro"]
["Agonopterix kaekeritziana",32.026000000000003,null,698,"micro"]
["Agonopterix kuznetzovi",32.014000000000003,null,"697a","micro","Not currently recorded in Kent, provide verification"]
["Agonopterix liturosa",32.008000000000003,null,709,"micro"]
["Agonopterix nanatella",32.024999999999999,null,694,"micro"]
["Agonopterix nervosa",32.03,null,706,"micro"]
["Agonopterix ocellana",32.006999999999998,null,701,"micro"]
["Agonopterix pallorella",32.027999999999999,null,700,"micro"]
["Agonopterix propinquella",32.015999999999998,null,696,"micro"]
["Agonopterix purpurea",32.009,null,691,"micro"]
["Agonopterix putridella",32.021000000000001,null,693,"micro"]
["Agonopterix rotundella",32.023000000000003,null,716,"micro"]
["Agonopterix scopariella",32.011000000000003,null,704,"micro"]
["Agonopterix subpropinquella",32.015000000000001,null,692,"micro"]
["Agonopterix umbellana",32.029000000000003,null,705,"micro"]
["Agonopterix yeatiana",32.034999999999997,null,714,"micro"]
["Agriphila geniculea",63.094999999999999,null,1309,"micro"]
["Agriphila inquinatella",63.09,null,1306,"micro"]
["Agriphila latistria",63.091000000000001,null,1307,"micro"]
["Agriphila poliellus",63.094000000000001,null,1308,"micro"]
["Agriphila selasella",63.091999999999999,null,1303,"micro"]
["Agriphila straminella",63.093000000000004,null,1304,"micro"]
["Agriphila tristella",63.088999999999999,null,1305,"micro"]
["Agrotera nemoralis",63.040999999999997,null,1410,"micro"]
["Alabonia geoffrella",28.021999999999998,null,652,"micro"]
["Aleimma loeflingiana",49.06,null,1032,"micro"]
["Altenia scriptella",35.155000000000001,null,766,"micro"]
["Alucita hexadactyla",44.000999999999998,"Twenty-plume Moth ",1288,"micro"]
["Amblyptilia acanthadactyla",45.01,"Beautiful Plume ",1497,"micro"]
["Amblyptilia punctidactyla",45.011000000000003,"Brindled Plume ",1498,"micro"]
["Amphisbatis incongruella",30.004000000000001,null,659,"micro"]
["Anacampsis blattariella",35.012,null,854,"micro","Gen det required"]
["Anacampsis populella",35.011000000000003,null,853,"micro","Gen det required"]
["Anacampsis temerella",35.012999999999998,null,852,"micro","Not currently recorded in Kent, provide verification"]
["Anania coronata",63.018000000000001,null,1378,"micro"]
["Anania crocealis",63.021999999999998,null,1385,"micro"]
["Anania funebris",63.024000000000001,null,1381,"micro"]
["Anania fuscalis",63.015999999999998,null,1386,"micro"]
["Anania hortulata",63.024999999999999,"Small Magpie ",1376,"micro"]
["Anania lancealis",63.017000000000003,null,1377,"micro"]
["Anania perlucidalis",63.02,null,1380,"micro"]
["Anania stachydalis",63.018999999999998,null,1384,"micro","Not currently recorded in Kent, provide verification"]
["Anania terrealis ",63.021000000000001,null,1379,"micro","Not currently recorded in Kent, provide verification"]
["Anania verbascalis",63.023000000000003,null,1382,"micro"]
["Anarsia innoxiella",35.019100000000002,null,null,"micro"]
["Anarsia lineatella",35.018999999999998,"Peach Twig Borer ",857,"micro"]
["Anarsia spartiella",35.020000000000003,null,856,"micro"]
["Ancylis achatana",49.215000000000003,null,1115,"micro"]
["Ancylis apicella",49.212000000000003,null,1129,"micro"]
["Ancylis badiana",49.213999999999999,null,1126,"micro"]
["Ancylis comptana",49.204999999999998,null,1116,"micro"]
["Ancylis diminutana",49.209000000000003,null,"1119a","micro"]
["Ancylis geminana",49.207000000000001,null,1119,"micro"]
["Ancylis laetana",49.203000000000003,null,1123,"micro"]
["Ancylis mitterbacheriana",49.216000000000001,null,1120,"micro"]
["Ancylis myrtillana",49.210999999999999,null,1128,"micro","Not currently recorded in Kent, provide verification"]
["Ancylis obtusana",49.204000000000001,null,1122,"micro"]
["Ancylis paludana",49.213000000000001,null,1127,"micro","Not currently recorded in Kent, provide verification"]
["Ancylis subarcuana",49.207999999999998,null,"1119b","micro"]
["Ancylis tineana",49.216999999999999,null,1124,"micro","Not currently recorded in Kent, provide verification"]
["Ancylis uncella",49.201999999999998,null,1118,"micro"]
["Ancylis unculana",49.21,null,1125,"micro"]
["Ancylis unguicella",49.201000000000001,null,1117,"micro"]
["Ancylis upupana",49.206000000000003,null,1121,"micro"]
["Ancylodes pallens",62.043999999999997,null,"1464b","micro","Not currently recorded in Kent, provide verification"]
["Ancylolomia tentaculella",63.113,null,1327,"micro"]
["Ancylosis cinnamomella",62.052,null,"1466a","micro","Not currently recorded in Kent, provide verification"]
["Ancylosis oblitella",62.052999999999997,null,1467,"micro"]
["Anerastia lotella",62.069000000000003,null,1432,"micro"]
["Anthophila fabriciana",48.000999999999998,null,385,"micro"]
["Antigastra catalaunalis",63.051000000000002,null,1400,"micro"]
["Antispila metallella",6.0010000000000003,null,158,"micro"]
["Antispila treitschkiella",6.0019999999999998,null,159,"micro"]
["Aphelia paleana",49.030999999999999,"Timothy Tortrix ",989,"micro"]
["Aphelia unitana",49.031999999999996,null,990,"micro","Not currently recorded in Kent, provide verification"]
["Aphelia viburnana",49.033000000000001,"Bilberry Tortrix ",988,"micro"]
["Aphomia sociella",62.000999999999998,"Bee Moth ",1428,"micro"]
["Aphomia zelleri",62.002000000000002,null,1429,"micro"]
["Aplota palpellus",28.027000000000001,null,653,"micro","Not currently recorded in Kent, provide verification"]
["Apodia bifractella",35.06,null,730,"micro"]
["Apomyelois bistriatella",62.039000000000001,null,1486,"micro"]
["Apomyelois ceratoniae",62.04,"Locust Bean Moth ",1460,"micro","Not currently recorded in Kent, provide verification"]
["Apotomis betuletana",49.15,null,1093,"micro"]
["Apotomis capreana",49.151000000000003,null,1094,"micro"]
["Apotomis infida",49.146999999999998,null,1090,"micro","Not currently recorded in Kent, provide verification"]
["Apotomis lineana",49.148000000000003,null,1091,"micro"]
["Apotomis sauciana",49.152999999999999,null,1096,"micro"]
["Apotomis semifasciana",49.146000000000001,null,1089,"micro"]
["Apotomis sororculana",49.152000000000001,null,1095,"micro"]
["Apotomis turbidana",49.149000000000001,null,1092,"micro"]
["Aproaerema anthyllidella",35.01,null,843,"micro","Gen det required"]
["Archinemapogon yildizae",12.013,null,222,"micro","Not currently recorded in Kent, provide verification"]
["Archips betulana",49.012,null,978,"micro","Not currently recorded in Kent, provide verification"]
["Archips crataegana",49.014000000000003,"Brown Oak Tortrix ",979,"micro"]
["Archips oporana",49.011000000000003,null,976,"micro"]
["Archips podana",49.012999999999998,"Large Fruit-tree Tortrix ",977,"micro"]
["Archips rosana",49.015999999999998,"Rose Tortrix ",981,"micro"]
["Archips xylosteana",49.015000000000001,"Variegated Golden Tortrix ",980,"micro"]
["Argolamprotes micella",35.064,null,734,"micro"]
["Argyresthia abdominalis",20.007999999999999,null,406,"micro","Not currently recorded in Kent, provide verification"]
["Argyresthia albistria",20.023,null,422,"micro"]
["Argyresthia arceuthina",20.004000000000001,null,405,"micro"]
["Argyresthia aurulentella",20.009,null,408,"micro","Not currently recorded in Kent, provide verification"]
["Argyresthia bonnetella",20.021999999999998,null,421,"micro"]
["Argyresthia brockeella",20.010999999999999,null,410,"micro"]
["Argyresthia conjugella",20.018999999999998,"Apple Fruit Moth ",418,"micro"]
["Argyresthia cupressella",20.007000000000001,null,"409b","micro"]
["Argyresthia curvella",20.015000000000001,null,414,"micro"]
["Argyresthia dilectella",20.006,null,407,"micro"]
["Argyresthia glabratella",20.001999999999999,null,403,"micro"]
["Argyresthia glaucinella",20.016999999999999,null,416,"micro"]
["Argyresthia goedartella",20.012,null,411,"micro"]
["Argyresthia ivella",20.010000000000002,null,409,"micro"]
["Argyresthia laevigatella",20.001000000000001,null,401,"micro"]
["Argyresthia praecocella",20.003,null,404,"micro","Not currently recorded in Kent, provide verification"]
["Argyresthia pruniella",20.021000000000001,"Cherry Fruit Moth ",420,"micro"]
["Argyresthia pygmaeella",20.013000000000002,null,412,"micro"]
["Argyresthia retinella",20.015999999999998,null,415,"micro"]
["Argyresthia semifusca",20.02,null,419,"micro"]
["Argyresthia semitestacella",20.024000000000001,null,423,"micro"]
["Argyresthia sorbiella",20.013999999999999,null,413,"micro"]
["Argyresthia spinosella",20.018000000000001,null,417,"micro"]
["Argyresthia trifasciata",20.004999999999999,null,"409a","micro"]
["Argyroploce arbutella",49.177,null,1071,"micro","Not currently recorded in Kent, provide verification"]
["Argyrotaenia ljungiana",49.02,null,974,"micro"]
["Aristotelia brizella",35.052,null,753,"micro"]
["Aristotelia ericinella",35.049999999999997,null,752,"micro"]
["Aristotelia subdecurtella",35.051000000000002,null,751,"micro","Not currently recorded in Kent, provide verification"]
["Aroga velocella",35.094000000000001,null,796,"micro"]
["Aspilapteryx tringipennella",15.015000000000001,null,294,"micro"]
["Assara terebrella",62.046999999999997,null,1461,"micro"]
["Atemelia torquatella",22.001000000000001,null,448,"micro","Not currently recorded in Kent, provide verification"]
["Athrips mouffetella",35.085000000000001,null,762,"micro"]
["Athrips rancidella",35.084000000000003,"Cotoneaster Webworm ","761a","micro","Not currently recorded in Kent, provide verification"]
["Athrips tetrapunctella",35.085999999999999,null,761,"micro"]
["Augasma aeratella",37.000999999999998,null,486,"micro"]
["Bacotia claustrella",11.01,null,183,"micro","Not currently recorded in Kent, provide verification"]
["Bactra furfurana",49.195,null,1110,"micro"]
["Bactra lacteana",49.195999999999998,null,"1111a","micro"]
["Bactra lancealana",49.194000000000003,null,1111,"micro"]
["Bactra robustana",49.197000000000003,null,1112,"micro"]
["Bactra venosana",49.198,null,"1112a","micro","Not currently recorded in Kent, provide verification"]
["Bankesia conspurcatella",11.007,null,182,"micro","Not currently recorded in Kent, provide verification"]
["Barea asbolaea",28.027999999999999,null,"656a ","micro","Not currently recorded in Kent, provide verification"]
["Batia internella",28.015999999999998,null,"640a","micro","Not currently recorded in Kent, provide verification"]
["Batia lambdella",28.016999999999999,null,641,"micro"]
["Batia lunaris",28.015000000000001,null,640,"micro"]
["Batrachedra pinicolella",36.002000000000002,null,879,"micro"]
["Batrachedra praeangusta",36.000999999999998,null,878,"micro"]
["Bedellia somnulentella",24.001000000000001,null,264,"micro"]
["Bisigna procerella",28.001000000000001,null,639,"micro"]
["Blastobasis adustella",41.002000000000002,null,873,"micro"]
["Blastobasis lacticolella",41.003,null,874,"micro"]
["Blastobasis phycidella",41.000999999999998,null,875,"micro","Not currently recorded in Kent, provide verification"]
["Blastobasis rebeli",41.005000000000003,null,"875a","micro","Not currently recorded in Kent, provide verification"]
["Blastobasis vittata",41.003999999999998,null,"873a","micro","Not currently recorded in Kent, provide verification"]
["Blastodacna atra",39.002000000000002,"Apple Pith Moth ",906,"micro"]
["Blastodacna hellerella",39.000999999999998,null,905,"micro"]
["Bohemannia auriciliella",4.0730000000000004,null,33,"micro","Not currently recorded in Kent, provide verification"]
["Bohemannia pulverosella",4.0709999999999997,null,40,"micro"]
["Bohemannia quadrimaculella",4.0720000000000001,null,19,"micro"]
["Borkhausenia fuscescens",28.012,null,644,"micro"]
["Borkhausenia minutella",28.010999999999999,null,645,"micro"]
["Brachmia blandella",35.027999999999999,null,866,"micro"]
["Brachmia inornatella",35.029000000000003,null,867,"micro"]
["Bryotropha affinis",35.046999999999997,null,779,"micro"]
["Bryotropha basaltinella",35.045000000000002,null,777,"micro"]
["Bryotropha boreella",35.042000000000002,null,783,"micro","Not currently recorded in Kent, provide verification"]
["Bryotropha desertella",35.040999999999997,null,786,"micro"]
["Bryotropha domestica",35.037999999999997,null,789,"micro"]
["Bryotropha dryadella",35.043999999999997,null,"777a","micro","Not currently recorded in Kent, provide verification"]
["Bryotropha galbanella",35.042999999999999,null,784,"micro","Not currently recorded in Kent, provide verification"]
["Bryotropha mundella",35.048000000000002,null,781,"micro"]
["Bryotropha politella",35.039000000000001,null,788,"micro"]
["Bryotropha senectella",35.045999999999999,null,782,"micro"]
["Bryotropha similis",35.048999999999999,null,780,"micro"]
["Bryotropha terrella",35.04,null,787,"micro"]
["Bryotropha umbrosella",35.048000000000002,null,778,"micro"]
["Bucculatrix albedinella",14.007,null,271,"micro"]
["Bucculatrix bechsteinella",14.012,null,275,"micro"]
["Bucculatrix chrysanthemella",14.004,null,"269a","micro","Not currently recorded in Kent, provide verification"]
["Bucculatrix cidarella",14.007999999999999,null,272,"micro"]
["Bucculatrix cristatella",14.000999999999999,null,265,"micro"]
["Bucculatrix demaryella",14.013,null,276,"micro"]
["Bucculatrix frangutella",14.006,null,270,"micro"]
["Bucculatrix humiliella",14.005000000000001,null,268,"micro","Not currently recorded in Kent, provide verification"]
["Bucculatrix maritima",14.003,null,267,"micro"]
["Bucculatrix nigricomella",14.002000000000001,null,266,"micro"]
["Bucculatrix thoracella",14.009,null,273,"micro"]
["Bucculatrix ulmella",14.01,null,274,"micro"]
["Bucculatrix ulmifoliae",14.010999999999999,null,"274a","micro","Not currently recorded in Kent, provide verification"]
["Buckleria paludum",45.029000000000003,"Sundew Plume ",1493,"micro"]
["Cacoecimorpha pronubana",49.03,"Carnation Tortrix ",985,"micro"]
["Cadra calidella",62.067999999999998,"Dried Fruit Moth ",1478,"micro","Not currently recorded in Kent, provide verification"]
["Cadra cautella",62.067,"Dried Currant Moth",1476,"micro","Not currently recorded in Kent, provide verification"]
["Cadra figulilella",62.066000000000003,"Raisin Moth ",1477,"micro","Not currently recorded in Kent, provide verification"]
["Calamotropha paludella",63.079000000000001,null,1292,"micro"]
["Callisto coffeella",15.023,null,"310a","micro","Not currently recorded in Kent, provide verification"]
["Callisto denticulella",15.022,null,310,"micro"]
["Caloptilia alchimiella",15.007999999999999,null,286,"micro"]
["Caloptilia azaleella",15.007,"Azalea Leaf Miner ",285,"micro"]
["Caloptilia betulicola",15.005000000000001,null,283,"micro"]
["Caloptilia cuculipennella",15.002000000000001,null,280,"micro"]
["Caloptilia elongella",15.004,null,282,"micro"]
["Caloptilia falconipennella",15.010999999999999,null,289,"micro"]
["Caloptilia hemidactylella",15.013,null,291,"micro","Not currently recorded in Kent, provide verification"]
["Caloptilia populetorum",15.003,null,281,"micro"]
["Caloptilia robustella",15.009,null,287,"micro"]
["Caloptilia rufipennella",15.006,null,284,"micro"]
["Caloptilia semifascia",15.012,null,290,"micro"]
["Caloptilia stigmatella",15.01,null,288,"micro"]
["Calybites phasianipennella",15.016999999999999,null,296,"micro"]
["Cameraria ohridella",15.089,"Horse Chestnut Leaf-miner ","366a","micro"]
["Capperia britanniodactylus",45.027999999999999,"Wood Sage Plume ",1494,"micro"]
["Capua vulgana",49.009,null,1007,"micro"]
["Carcina quercana",31.001000000000001,null,658,"micro"]
["Carpatolechia alburnella",35.149000000000001,null,771,"micro"]
["Carpatolechia decorella",35.146999999999998,null,767,"micro","Not currently recorded in Kent, provide verification"]
["Carpatolechia fugitivella",35.148000000000003,null,772,"micro"]
["Carpatolechia notatella",35.15,null,768,"micro"]
["Carpatolechia proximella",35.151000000000003,null,770,"micro"]
["Caryocolum alsinella",35.128,null,827,"micro"]
["Caryocolum blandella",35.133000000000003,null,832,"micro"]
["Caryocolum blandelloides",35.134,null,"832a ","micro","Not currently recorded in Kent, provide verification"]
["Caryocolum blandulella",35.136000000000003,null,835,"micro"]
["Caryocolum fraternella",35.131999999999998,null,830,"micro"]
["Caryocolum huebneri",35.139000000000003,null,837,"micro","Not currently recorded in Kent, provide verification"]
["Caryocolum junctella",35.137999999999998,null,833,"micro","Not currently recorded in Kent, provide verification"]
["Caryocolum kroesmanniella",35.14,null,836,"micro"]
["Caryocolum marmorea",35.131,null,829,"micro","Not currently recorded in Kent, provide verification"]
["Caryocolum proxima",35.134999999999998,null,831,"micro","Not currently recorded in Kent, provide verification"]
["Caryocolum tricolorella",35.137,null,834,"micro"]
["Caryocolum vicinella",35.130000000000003,null,826,"micro"]
["Caryocolum viscariella",35.128999999999998,null,828,"micro"]
["Cataclysta lemnata",63.116,"Small China-mark ",1354,"micro"]
["Catoptria falsella",63.101999999999997,null,1316,"micro"]
["Catoptria furcatellus",63.100999999999999,null,1315,"micro","Not currently recorded in Kent, provide verification"]
["Catoptria lythargyrella",63.103999999999999,null,1318,"micro","Not currently recorded in Kent, provide verification"]
["Catoptria margaritella",63.1,null,1314,"micro"]
["Catoptria osthelderi",63.097000000000001,null,1311,"micro","Not currently recorded in Kent, provide verification"]
["Catoptria permutatellus",63.095999999999997,null,1310,"micro","Not currently recorded in Kent, provide verification"]
["Catoptria pinella",63.098999999999997,null,1313,"micro"]
["Catoptria speculalis",63.097999999999999,null,1312,"micro","Not currently recorded in Kent, provide verification"]
["Catoptria verellus",63.103000000000002,null,1317,"micro"]
["Cauchas fibulella",7.0090000000000003,null,153,"micro"]
["Cauchas rufimitrella",7.01,null,152,"micro"]
["Cedestis gysseleniella",16.021000000000001,null,442,"micro"]
["Cedestis subfasciella",16.021999999999998,null,443,"micro"]
["Celypha aurofasciana",49.168999999999997,null,1069,"micro","Not currently recorded in Kent, provide verification"]
["Celypha cespitana",49.164000000000001,null,1067,"micro"]
["Celypha doubledayana",49.167999999999999,null,1078,"micro","Not currently recorded in Kent, provide verification"]
["Celypha lacunana",49.165999999999997,null,1076,"micro"]
["Celypha rivulana",49.167000000000002,null,1068,"micro"]
["Celypha rosaceana",49.161999999999999,null,1064,"micro"]
["Celypha rufana",49.16,null,1065,"micro"]
["Celypha rurestrana",49.162999999999997,null,"1067a","micro","Not currently recorded in Kent, provide verification"]
["Celypha striana",49.161000000000001,null,1063,"micro"]
["Celypha woodiana",49.164999999999999,null,1066,"micro","Not currently recorded in Kent, provide verification"]
["Cephimallota crassiflavella",12.023999999999999,null,213,"micro","Not currently recorded in Kent, provide verification"]
["Chilo phragmitella",63.076999999999998,null,1290,"micro"]
["Chionodes distinctella",35.094999999999999,null,791,"micro"]
["Chionodes fumatella",35.095999999999997,null,790,"micro"]
["Choreutis diana",48.006,null,390,"micro","Not currently recorded in Kent, provide verification"]
["Choreutis pariana",48.006999999999998,"Apple Leaf Skeletonizer ",389,"micro"]
["Choristoneura diversana",49.017000000000003,null,982,"micro"]
["Choristoneura hebenstreitella",49.018000000000001,null,983,"micro"]
["Choristoneura lafauryana",49.018999999999998,null,984,"micro","Not currently recorded in Kent, provide verification"]
["Chrysoclista lathamella",39.006,null,902,"micro"]
["Chrysoclista linneella",39.005000000000003,null,903,"micro"]
["Chrysocrambus craterella",63.106000000000002,null,1320,"micro","Not currently recorded in Kent, provide verification"]
["Chrysocrambus linetella",63.104999999999997,null,1319,"micro","Not currently recorded in Kent, provide verification"]
["Chrysoesthia drurella",35.034999999999997,null,746,"micro"]
["Chrysoesthia sexguttella",35.036000000000001,null,747,"micro"]
["Chrysoteuchia culmella",63.08,null,1293,"micro"]
["Clavigesta purdeyi",49.304000000000002,"Pine Leaf-mining Moth ",1207,"micro"]
["Clavigesta sylvestrana",49.302999999999997,null,1206,"micro"]
["Clepsis consimilana",49.037999999999997,null,994,"micro"]
["Clepsis rurinana",49.036000000000001,null,992,"micro"]
["Clepsis senecionana",49.034999999999997,null,991,"micro"]
["Clepsis spectrana",49.036999999999999,"Cyclamen Tortrix ",993,"micro"]
["Cnaemidophorus rhododactyla",45.021999999999998,"Rose Plume ",1496,"micro"]
["Cnephasia asseclana",49.051000000000002,"Flax Tortrix ",1021,"micro"]
["Cnephasia communana",49.055,null,1018,"micro"]
["Cnephasia conspersana",49.055999999999997,null,1019,"micro"]
["Cnephasia genitalana",49.054000000000002,null,1023,"micro"]
["Cnephasia incertana",49.048999999999999,"Light Grey Tortrix ",1024,"micro"]
["Cnephasia longana",49.057000000000002,null,1016,"micro"]
["Cnephasia pasiuana",49.052,null,1022,"micro"]
["Cnephasia pumicana",49.052999999999997,null,"1022a","micro"]
["Cnephasia stephensiana",49.05,"Grey Tortrix ",1020,"micro"]
["Cochylidia heydeniana",49.131,null,957,"micro"]
["Cochylidia implicitana",49.131999999999998,null,956,"micro"]
["Cochylidia rupicola",49.128999999999998,null,959,"micro"]
["Cochylidia subroseana",49.13,null,958,"micro"]
["Cochylimorpha alternana",49.097999999999999,null,935,"micro"]
["Cochylimorpha straminea",49.097000000000001,null,936,"micro"]
["Cochylis atricapitana",49.139000000000003,null,966,"micro"]
["Cochylis dubitana",49.137,null,964,"micro"]
["Cochylis flaviciliana",49.134999999999998,null,963,"micro"]
["Cochylis hybridella",49.136000000000003,null,965,"micro"]
["Cochylis molliculana",49.137999999999998,null,"964a","micro"]
["Cochylis nana",49.133000000000003,null,968,"micro"]
["Cochylis pallidana",49.14,null,967,"micro"]
["Cochylis roseana",49.134,null,962,"micro"]
["Coleophora adjectella",37.008000000000003,null,"496a","micro"]
["Coleophora adjunctella",37.067999999999998,null,586,"micro"]
["Coleophora adspersella",37.103999999999999,null,567,"micro"]
["Coleophora aestuariella",37.079000000000001,null,"574a","micro"]
["Coleophora ahenella ",37.030999999999999,null,514,"micro","Not currently recorded in Kent, provide verification"]
["Coleophora albella",37.003999999999998,null,489,"micro","Not currently recorded in Kent, provide verification"]
["Coleophora albicans",37.100999999999999,null,576,"micro"]
["Coleophora albicosta",37.063000000000002,null,544,"micro"]
["Coleophora albidella",37.049999999999997,null,532,"micro"]
["Coleophora albitarsella ",37.031999999999996,null,515,"micro"]
["Coleophora alcyonipennella",37.034999999999997,"Small Clover Case-bearer ",517,"micro"]
["Coleophora alnifoliae",37.01,null,498,"micro"]
["Coleophora alticolella",37.073,null,584,"micro"]
["Coleophora amethystinella",37.046999999999997,null,520,"micro","Not currently recorded in Kent, provide verification"]
["Coleophora anatipennella",37.048999999999999,"Pistol Case-bearer ",533,"micro"]
["Coleophora antennariella",37.067,null,579,"micro","Not currently recorded in Kent, provide verification"]
["Coleophora arctostaphyli",37.021000000000001,null,508,"micro","Not currently recorded in Kent, provide verification"]
["Coleophora argentula",37.101999999999997,null,563,"micro"]
["Coleophora artemisicolella",37.090000000000003,null,577,"micro"]
["Coleophora asteris",37.082000000000001,null,562,"micro"]
["Coleophora atriplicis",37.088000000000001,null,573,"micro"]
["Coleophora badiipennella",37.011000000000003,null,497,"micro"]
["Coleophora betulella",37.052999999999997,null,536,"micro"]
["Coleophora binderella",37.03,null,512,"micro"]
["Coleophora caespititiella",37.069000000000003,null,587,"micro"]
["Coleophora calycotomella",37.036999999999999,null,"521a ","micro","Not currently recorded in Kent, provide verification"]
["Coleophora chalcogrammella",37.045000000000002,null,528,"micro"]
["Coleophora clypeiferella",37.106999999999999,null,589,"micro"]
["Coleophora conspicuella",37.058,null,539,"micro"]
["Coleophora conyzae",37.036000000000001,null,521,"micro"]
["Coleophora coracipennella",37.014000000000003,null,494,"micro"]
["Coleophora currucipennella",37.054000000000002,null,534,"micro"]
["Coleophora deauratella",37.045999999999999,null,519,"micro"]
["Coleophora deviella",37.091000000000001,null,574,"micro"]
["Coleophora discordella",37.043999999999997,null,547,"micro"]
["Coleophora flavipennella",37.006999999999998,null,492,"micro"]
["Coleophora follicularis",37.103000000000002,null,555,"micro"]
["Coleophora frischella",37.033999999999999,"Clover Case-bearer ","517a","micro"]
["Coleophora fuscocuprella",37.020000000000003,null,503,"micro"]
["Coleophora galbulipennella",37.091999999999999,null,551,"micro"]
["Coleophora gardesanella",37.095999999999997,null,557,"micro"]
["Coleophora genistae",37.040999999999997,null,546,"micro"]
["Coleophora glaucicolella",37.070999999999998,null,582,"micro"]
["Coleophora glitzella",37.024999999999999,null,507,"micro","Not currently recorded in Kent, provide verification"]
["Coleophora gryphipennella",37.006,null,491,"micro"]
["Coleophora hemerobiella",37.039000000000001,null,523,"micro"]
["Coleophora hydrolapathella",37.018000000000001,null,500,"micro","Not currently recorded in Kent, provide verification"]
["Coleophora ibipennella",37.052,null,535,"micro"]
["Coleophora idaeella",37.023000000000003,null,505,"micro","Not currently recorded in Kent, provide verification"]
["Coleophora inulae",37.097999999999999,null,554,"micro"]
["Coleophora juncicolella",37.027999999999999,null,510,"micro"]
["Coleophora kuehnella",37.051000000000002,null,537,"micro"]
["Coleophora laricella",37.066000000000003,"Larch Case-bearer ",526,"micro"]
["Coleophora lassella",37.076999999999998,null,552,"micro"]
["Coleophora limoniella",37.003,null,488,"micro"]
["Coleophora limosipennella",37.012,null,499,"micro"]
["Coleophora lineolea",37.037999999999997,null,522,"micro"]
["Coleophora linosyridella",37.097000000000001,null,"556a","micro"]
["Coleophora lithargyrinella",37.04,null,524,"micro"]
["Coleophora lixella",37.061,null,530,"micro"]
["Coleophora lusciniaepennella",37.021999999999998,null,504,"micro"]
["Coleophora lutarea",37.002000000000002,null,487,"micro"]
["Coleophora lutipennella",37.005000000000003,null,490,"micro"]
["Coleophora maritimella",37.078000000000003,null,585,"micro"]
["Coleophora mayrella",37.048000000000002,null,518,"micro"]
["Coleophora milvipennis",37.009,null,496,"micro"]
["Coleophora niveicostella",37.042999999999999,null,548,"micro"]
["Coleophora nutantella",37.104999999999997,null,550,"micro","Not currently recorded in Kent, provide verification"]
["Coleophora ochrea",37.06,null,531,"micro"]
["Coleophora orbitella",37.029000000000003,null,511,"micro"]
["Coleophora otidipennella",37.072000000000003,null,578,"micro"]
["Coleophora pappiferella",37.088999999999999,null,570,"micro","Not currently recorded in Kent, provide verification"]
["Coleophora paripennella",37.106000000000002,null,560,"micro"]
["Coleophora pennella",37.064999999999998,null,549,"micro"]
["Coleophora peribenanderi",37.093000000000004,null,559,"micro"]
["Coleophora potentillae",37.027000000000001,null,513,"micro"]
["Coleophora prunifoliae",37.017000000000003,null,"494a","micro","Not currently recorded in Kent, provide verification"]
["Coleophora pyrrhulipennella",37.055,null,541,"micro"]
["Coleophora ramosella",37.094000000000001,null,558,"micro"]
["Coleophora salicorniae",37.107999999999997,null,588,"micro"]
["Coleophora salinella",37.075000000000003,null,575,"micro"]
["Coleophora saturatella",37.042000000000002,null,545,"micro"]
["Coleophora saxicolella",37.082999999999998,null,565,"micro"]
["Coleophora serpylletorum",37.055999999999997,null,542,"micro"]
["Coleophora serratella",37.015000000000001,null,493,"micro"]
["Coleophora siccifolia",37.012999999999998,null,501,"micro"]
["Coleophora solitariella",37.1,null,525,"micro"]
["Coleophora spinella",37.015999999999998,"Apple & Plum Case-bearer ",495,"micro"]
["Coleophora squamosella",37.085000000000001,null,569,"micro","Not currently recorded in Kent, provide verification"]
["Coleophora sternipennella",37.084000000000003,null,566,"micro"]
["Coleophora striatipennella",37.098999999999997,null,553,"micro"]
["Coleophora sylvaticella",37.076000000000001,null,580,"micro"]
["Coleophora taeniipennella",37.073999999999998,null,581,"micro"]
["Coleophora tamesis",37.07,null,583,"micro","Not currently recorded in Kent, provide verification"]
["Coleophora therinella",37.081000000000003,null,561,"micro"]
["Coleophora tricolor",37.061999999999998,null,529,"micro","Not currently recorded in Kent, provide verification"]
["Coleophora trifolii",37.033000000000001,null,516,"micro"]
["Coleophora trigeminella",37.018999999999998,null,502,"micro"]
["Coleophora trochilella",37.094999999999999,null,556,"micro"]
["Coleophora versurella",37.085999999999999,null,568,"micro"]
["Coleophora vestianella",37.087000000000003,null,572,"micro"]
["Coleophora vibicella",37.058999999999997,null,538,"micro","Not currently recorded in Kent, provide verification"]
["Coleophora vibicigerella",37.057000000000002,null,540,"micro"]
["Coleophora violacea",37.026000000000003,null,509,"micro"]
["Coleophora virgaureae",37.08,null,564,"micro"]
["Coleophora vitisella",37.024000000000001,null,506,"micro","Not currently recorded in Kent, provide verification"]
["Coleophora vulnerariae",37.064,null,543,"micro","Not currently recorded in Kent, provide verification"]
["Coleophora wockeella",37.109000000000002,null,527,"micro"]
["Coleotechnites piceaella",35.158000000000001,null,759,"micro"]
["Commophila aeneana",49.113,null,952,"micro"]
["Coptotriche angusticollella",10.006,null,127,"micro"]
["Coptotriche gaunacella",10.005000000000001,null,126,"micro","Not currently recorded in Kent, provide verification"]
["Coptotriche heinemanni",10.004,null,"125a","micro","Not currently recorded in Kent, provide verification"]
["Coptotriche marginea",10.003,null,125,"micro"]
["Corcyra cephalonica",62.003999999999998,"Rice Moth ",1427,"micro"]
["Cosmopterix lienigiella",34.01,null,897,"micro"]
["Cosmopterix orichalcea",34.006999999999998,null,896,"micro"]
["Cosmopterix pulchrimella",34.009,null,"896b","micro"]
["Cosmopterix schmidiella",34.006,null,895,"micro","Not currently recorded in Kent, provide verification"]
["Cosmopterix scribaiella",34.008000000000003,null,"896a","micro","Not currently recorded in Kent, provide verification"]
["Cosmopterix zieglerella",34.005000000000003,null,894,"micro"]
["Crambus ericella",63.084000000000003,null,1298,"micro","Not currently recorded in Kent, provide verification"]
["Crambus hamella",63.087000000000003,null,1299,"micro","Not currently recorded in Kent, provide verification"]
["Crambus lathoniellus",63.085999999999999,null,1301,"micro"]
["Crambus pascuella",63.081000000000003,null,1294,"micro"]
["Crambus perlella",63.088000000000001,null,1302,"micro"]
["Crambus pratella",63.085000000000001,null,1300,"micro"]
["Crambus silvella",63.082000000000001,null,1296,"micro"]
["Crambus uliginosellus",63.082999999999998,null,1297,"micro"]
["Crassa tinctella",28.013000000000002,null,637,"micro"]
["Crassa unitella",28.013999999999999,null,642,"micro"]
["Crocidosema plebejana",49.261000000000003,null,1157,"micro"]
["Crombrugghia distans",45.026000000000003,"Breckland Plume ",1491,"micro"]
["Crombrugghia laetus",45.027000000000001,"Scarse Light Plume ",1492,"micro"]
["Cryptoblabes bistriga",62.006999999999998,null,1433,"micro"]
["Cydalima perspectalis",63.054000000000002,"Box-tree Moth","1409a","micro"]
["Cydia amplana",49.343000000000004,null,1262,"micro"]
["Cydia cognatana",49.328000000000003,null,1265,"micro","Not currently recorded in Kent, provide verification"]
["Cydia conicolana",49.33,null,1269,"micro"]
["Cydia coniferana",49.332000000000001,null,1268,"micro"]
["Cydia corollana",49.331000000000003,null,1270,"micro"]
["Cydia cosmophorana",49.334000000000003,null,1267,"micro"]
["Cydia fagiglandana",49.341999999999999,null,1259,"micro"]
["Cydia illutana",49.329000000000001,null,"1266a","micro"]
["Cydia indivisa",49.332999999999998,null,"1266b","micro","Not currently recorded in Kent, provide verification"]
["Cydia inquinatana",49.344000000000001,null,1263,"micro","Not currently recorded in Kent, provide verification"]
["Cydia leguminana",49.34,null,1264,"micro","Not currently recorded in Kent, provide verification"]
["Cydia medicaginis",49.326000000000001,"Alfalfa Moth ","1255a","micro"]
["Cydia microgrammana",49.326999999999998,null,1220,"micro"]
["Cydia millenniana",49.337000000000003,null,1258,"micro","Not currently recorded in Kent, provide verification"]
["Cydia nigricana",49.323999999999998,"Pea Moth ",1257,"micro"]
["Cydia pactolana",49.335999999999999,null,1266,"micro","Not currently recorded in Kent, provide verification"]
["Cydia pomonella",49.338000000000001,"Codling Moth ",1261,"micro"]
["Cydia servillana",49.338999999999999,null,1256,"micro"]
["Cydia splendana",49.341000000000001,null,1260,"micro"]
["Cydia strobilella",49.335000000000001,"Spruce Seed Moth ",1254,"micro"]
["Cydia ulicetana",49.325000000000003,null,1255,"micro"]
["Cymolomia hartigiana",49.176000000000002,null,"1080a","micro","Not currently recorded in Kent, provide verification"]
["Cynaeda dentalis",63.055999999999997,null,1359,"micro"]
["Dahlica inconspicuella",11.004,"Lesser Lichen Case-bearer ",177,"micro"]
["Dahlica lichenella",11.005000000000001,"Lichen Case-bearer ",179,"micro"]
["Dahlica triquetrella",11.003,null,176,"micro"]
["Dasycera oliviella",28.02,null,650,"micro"]
["Dasystoma salicella",29.003,null,665,"micro"]
["Delplanqueia dilutella",62.015000000000001,null,1462,"micro","Not currently recorded in Kent, provide verification"]
["Delplanqueia inscriptella",62.015099999999997,null,null,"micro"]
["Denisia albimaculea",28.004999999999999,null,"638a","micro","Not currently recorded in Kent, provide verification"]
["Denisia augustella",28.006,null,638,"micro","Not currently recorded in Kent, provide verification"]
["Denisia similella",28.004000000000001,null,636,"micro","Not currently recorded in Kent, provide verification"]
["Denisia subaquilea",28.007000000000001,null,635,"micro","Not currently recorded in Kent, provide verification"]
["Depressaria albipunctella",32.045000000000002,null,680,"micro"]
["Depressaria badiella",32.037999999999997,null,674,"micro"]
["Depressaria chaerophylli",32.046999999999997,null,682,"micro"]
["Depressaria daucella",32.039000000000001,null,670,"micro"]
["Depressaria depressana",32.048000000000002,null,683,"micro","Not currently recorded in Kent, provide verification"]
["Depressaria discipunctella",32.048999999999999,null,669,"micro","Not currently recorded in Kent, provide verification"]
["Depressaria douglasella",32.043999999999997,null,677,"micro"]
["Depressaria olerella",32.045999999999999,null,681,"micro"]
["Depressaria pimpinellae",32.036999999999999,null,673,"micro","Not currently recorded in Kent, provide verification"]
["Depressaria pulcherrimella",32.042000000000002,null,676,"micro"]
["Depressaria radiella",32.036000000000001,"Parsnip Moth ",672,"micro"]
["Depressaria silesiaca",32.040999999999997,null,684,"micro","Not currently recorded in Kent, provide verification"]
["Depressaria sordidatella",32.042999999999999,null,678,"micro"]
["Depressaria ultimella",32.04,null,671,"micro"]
["Dialectica imperialella",15.02,null,311,"micro","Not currently recorded in Kent, provide verification"]
["Diasemia reticularis",63.042999999999999,null,1402,"micro"]
["Diasemiopsis ramburialis",63.043999999999997,null,1403,"micro"]
["Dichelia histrionana",49.033999999999999,null,"990a ","micro","Not currently recorded in Kent, provide verification"]
["Dichomeris alacella",35.024999999999999,null,851,"micro"]
["Dichomeris derasella",35.024000000000001,null,865,"micro","Not currently recorded in Kent, provide verification"]
["Dichomeris juniperella",35.021000000000001,null,863,"micro","Not currently recorded in Kent, provide verification"]
["Dichomeris marginella",35.021999999999998,"Juniper Webber ",862,"micro"]
["Dichomeris ustalella",35.023000000000003,null,864,"micro","Not currently recorded in Kent, provide verification"]
["Dichrorampha acuminatana",49.313000000000002,null,1279,"micro"]
["Dichrorampha aeratana",49.311,null,1287,"micro"]
["Dichrorampha alpinana",49.32,null,1274,"micro"]
["Dichrorampha consortana",49.311999999999998,null,1280,"micro"]
["Dichrorampha flavidorsana",49.319000000000003,null,1275,"micro"]
["Dichrorampha montanana",49.323,null,1283,"micro"]
["Dichrorampha petiverella",49.320999999999998,null,1273,"micro"]
["Dichrorampha plumbagana",49.322000000000003,null,1276,"micro"]
["Dichrorampha plumbana",49.308999999999997,null,1285,"micro"]
["Dichrorampha sedatana",49.31,null,1286,"micro"]
["Dichrorampha senectana",49.317,null,1277,"micro"]
["Dichrorampha sequana",49.316000000000003,null,1278,"micro"]
["Dichrorampha simpliciana",49.314999999999998,null,1281,"micro"]
["Dichrorampha sylvicolana",49.314,null,1282,"micro","Not currently recorded in Kent, provide verification"]
["Dichrorampha vancouverana",49.317999999999998,null,1284,"micro"]
["Digitivalva perlepidella",19.009,null,471,"micro"]
["Digitivalva pulicariae",19.010000000000002,null,472,"micro"]
["Dioryctria abietella",62.027999999999999,null,1454,"micro"]
["Dioryctria schuetzeella",62.026000000000003,null,"1454a","micro"]
["Dioryctria simplicella",62.027000000000001,null,1455,"micro"]
["Dioryctria sylvestrella",62.024999999999999,null,"1454b","micro"]
["Diplodoma laichartingella",11.000999999999999,null,180,"micro"]
["Diplopseustis perieresalis",63.042000000000002,null,"1397a","micro","Not currently recorded in Kent, provide verification"]
["Ditula angustiorana",49.003999999999998,"Red-barred Tortrix ",1010,"micro"]
["Diurnea fagella",29.001000000000001,null,663,"micro"]
["Diurnea lipsiella",29.001999999999999,null,664,"micro"]
["Dolicharthria punctalis",63.05,null,1399,"micro"]
["Donacaula forficella",63.121000000000002,null,1329,"micro"]
["Donacaula mucronella",63.122,null,1330,"micro"]
["Dryadaula pactolia",12.009,null,198,"micro","Not currently recorded in Kent, provide verification"]
["Duponchelia fovealis",63.045999999999999,null,"1403a","micro"]
["Dyseriocrania subpurpurella",2.0009999999999999,null,6,"micro"]
["Dystebenna stephensi",39.003999999999998,null,907,"micro","Not currently recorded in Kent, provide verification"]
["Eana argentana",49.045999999999999,null,1028,"micro","Not currently recorded in Kent, provide verification"]
["Eana incanana",49.046999999999997,null,1030,"micro"]
["Eana osseana",49.045000000000002,null,1029,"micro"]
["Eana penziana",49.048000000000002,null,1031,"micro","Not currently recorded in Kent, provide verification"]
["Eccopisa effractella",62.045999999999999,null,"1461a","micro"]
["Ectoedemia agrimoniae",4.093,null,26,"micro"]
["Ectoedemia albifasciella",4.0890000000000004,null,37,"micro"]
["Ectoedemia amani",4.0810000000000004,null,"41a","micro","Not currently recorded in Kent, provide verification"]
["Ectoedemia angulifasciella",4.0940000000000003,null,28,"micro"]
["Ectoedemia arcuatella",4.0960000000000001,null,30,"micro"]
["Ectoedemia argyropeza",4.085,null,23,"micro"]
["Ectoedemia atricollis",4.0949999999999998,null,29,"micro"]
["Ectoedemia atrifrontella",4.0789999999999997,null,41,"micro"]
["Ectoedemia decentella",4.0759999999999996,null,20,"micro","Please check ID & provide verification"]
["Ectoedemia erythrogenella",4.0919999999999996,null,32,"micro"]
["Ectoedemia hannoverella",4.0830000000000002,null,"24a","micro","Not currently recorded in Kent, provide verification"]
["Ectoedemia heckfordi",4.0860000000000003,null,"35a","micro","Not currently recorded in Kent, provide verification"]
["Ectoedemia heringella",4.0880000000000001,null,"36a","micro"]
["Ectoedemia heringi",4.0910000000000002,null,39,"micro"]
["Ectoedemia intimella",4.0819999999999999,null,25,"micro"]
["Ectoedemia longicaudella",4.08,null,"41b","micro","Not currently recorded in Kent, provide verification"]
["Ectoedemia louisella",4.0750000000000002,null,22,"micro"]
["Ectoedemia minimella",4.0999999999999996,null,35,"micro"]
["Ectoedemia occultella",4.0990000000000002,null,34,"micro"]
["Ectoedemia quinquella",4.0869999999999997,null,36,"micro"]
["Ectoedemia rubivora",4.0970000000000004,null,31,"micro"]
["Ectoedemia septembrella",4.0780000000000003,null,42,"micro"]
["Ectoedemia sericopeza",4.0739999999999998,null,21,"micro"]
["Ectoedemia spinosella",4.0979999999999999,null,27,"micro"]
["Ectoedemia subbimaculella",4.09,null,38,"micro"]
["Ectoedemia turbidella",4.0839999999999996,null,24,"micro","Not currently recorded in Kent, provide verification"]
["Ectoedemia weaveri",4.077,null,43,"micro","Not currently recorded in Kent, provide verification"]
["Eidophasia messingiella",18.007000000000001,null,469,"micro"]
["Elachista adscitella",38.017000000000003,null,622,"micro"]
["Elachista albidella",38.045999999999999,null,630,"micro","Not currently recorded in Kent, provide verification"]
["Elachista albifrontella",38.03,null,601,"micro"]
["Elachista alpinella",38.027999999999999,null,599,"micro"]
["Elachista apicipunctella",38.031999999999996,null,602,"micro"]
["Elachista argentella",38.003999999999998,null,610,"micro"]
["Elachista atricomella",38.024999999999999,null,597,"micro"]
["Elachista bedellella",38.01,null,616,"micro"]
["Elachista biatomella",38.023000000000003,null,595,"micro"]
["Elachista bisulcella",38.018000000000001,null,623,"micro"]
["Elachista cahorsensis",38.009,null,615,"micro","Not currently recorded in Kent, provide verification"]
["Elachista canapennella",38.036999999999999,null,607,"micro"]
["Elachista cinereopunctella",38.040999999999997,null,625,"micro","Not currently recorded in Kent, provide verification"]
["Elachista cingillella",38.012999999999998,null,618,"micro","Not currently recorded in Kent, provide verification"]
["Elachista collitella",38.006,null,612,"micro","Not currently recorded in Kent, provide verification"]
["Elachista consortella",38.048000000000002,null,632,"micro","Not currently recorded in Kent, provide verification"]
["Elachista eleochariella",38.043999999999997,null,628,"micro","Not currently recorded in Kent, provide verification"]
["Elachista eskoi",38.027000000000001,null,"598a","micro","Not currently recorded in Kent, provide verification"]
["Elachista freyerella",38.046999999999997,null,631,"micro"]
["Elachista gangabella",38.015000000000001,null,620,"micro"]
["Elachista geminatella",38.020000000000003,null,"593a ","micro","Not currently recorded in Kent, provide verification"]
["Elachista gleichenella",38.021999999999998,null,594,"micro"]
["Elachista humilis",38.036000000000001,null,606,"micro"]
["Elachista kilmunella",38.026000000000003,null,598,"micro","Not currently recorded in Kent, provide verification"]
["Elachista littoricola",38.011000000000003,null,"616a","micro","Not currently recorded in Kent, provide verification"]
["Elachista luticomella",38.029000000000003,null,600,"micro"]
["Elachista maculicerusella",38.039000000000001,null,609,"micro"]
["Elachista nobilella",38.030999999999999,null,"601a ","micro","Not currently recorded in Kent, provide verification"]
["Elachista obliquella",38.012,null,617,"micro"]
["Elachista orstadii",38.033999999999999,null,604,"micro","Not currently recorded in Kent, provide verification"]
["Elachista poae",38.024000000000001,null,596,"micro"]
["Elachista pomerana",38.034999999999997,null,605,"micro","Not currently recorded in Kent, provide verification"]
["Elachista regificella",38.018999999999998,null,593,"micro","Not currently recorded in Kent, provide verification"]
["Elachista rufocinerea",38.037999999999997,null,608,"micro"]
["Elachista scirpi",38.042999999999999,null,627,"micro","Not currently recorded in Kent, provide verification"]
["Elachista serricornis",38.042000000000002,null,626,"micro","Not currently recorded in Kent, provide verification"]
["Elachista stabilella",38.048999999999999,null,633,"micro"]
["Elachista subalbidella",38.015999999999998,null,621,"micro"]
["Elachista subnigrella",38.033000000000001,null,603,"micro"]
["Elachista subocellea",38.006999999999998,null,613,"micro"]
["Elachista tengstromi",38.021000000000001,null,"593b ","micro","Not currently recorded in Kent, provide verification"]
["Elachista trapeziella",38.04,null,624,"micro","Not currently recorded in Kent, provide verification"]
["Elachista triatomea",38.005000000000003,null,611,"micro"]
["Elachista triseriatella",38.008000000000003,null,614,"micro","Not currently recorded in Kent, provide verification"]
["Elachista unifasciella",38.014000000000003,null,619,"micro"]
["Elachista utonella",38.045000000000002,null,629,"micro"]
["Elegia fallax",62.009,null,"1448a","micro","Not currently recorded in Kent, provide verification"]
["Elegia similella",62.01,null,1449,"micro"]
["Elophila nymphaeata",63.113999999999997,"Brown China-mark ",1345,"micro"]
["Emmelina argoteles",45.045000000000002,"Reedbed Plume ","1524a","micro","Not currently recorded in Kent, provide verification"]
["Emmelina monodactyla",45.043999999999997,"Common Plume ",1524,"micro"]
["Enarmonia formosana",49.2,"Cherry-bark Moth ",1216,"micro"]
["Endothenia ericetana",49.192,null,1103,"micro"]
["Endothenia gentianaeana",49.186,null,1097,"micro"]
["Endothenia marginana",49.188000000000002,null,1099,"micro"]
["Endothenia nigricostana",49.191000000000003,null,1102,"micro"]
["Endothenia oblongana",49.186999999999998,null,1098,"micro"]
["Endothenia pullana",49.189,null,1100,"micro"]
["Endothenia quadrimaculana",49.192999999999998,null,1104,"micro"]
["Endothenia ustulana",49.19,null,1101,"micro"]
["Endotricha flammealis",62.076999999999998,null,1424,"micro"]
["Endrosis sarcitrella",28.009,"White-shouldered House-moth ",648,"micro"]
["Enteucha acetosae",4.0010000000000003,null,118,"micro","Please check ID & provide verification"]
["Epagoge grotiana",49.005000000000003,null,1006,"micro"]
["Epermenia aequidentellus",47.003999999999998,null,484,"micro"]
["Epermenia chaerophyllella",47.005000000000003,null,483,"micro"]
["Epermenia falciformis",47.006,null,481,"micro"]
["Epermenia farreni",47.006999999999998,null,479,"micro","Not currently recorded in Kent, provide verification"]
["Epermenia insecurella",47.003,null,482,"micro","Not currently recorded in Kent, provide verification"]
["Epermenia profugella",47.008000000000003,null,480,"micro"]
["Ephestia elutella",62.064,"Cacao Moth ",1473,"micro"]
["Ephestia kuehniella",62.063000000000002,"Mediterranean Flour Moth ",1475,"micro"]
["Ephestia woodiella",62.064999999999998,null,1474,"micro"]
["Epiblema cirsiana",49.286000000000001,null,"1184a","micro"]
["Epiblema cnicicolana",49.286999999999999,null,1185,"micro","Not currently recorded in Kent, provide verification"]
["Epiblema costipunctana",49.289000000000001,null,1187,"micro"]
["Epiblema foenella",49.287999999999997,null,1183,"micro"]
["Epiblema grandaevana",49.290999999999997,null,1181,"micro","Not currently recorded in Kent, provide verification"]
["Epiblema scutulana",49.284999999999997,null,1184,"micro"]
["Epiblema sticticana",49.283999999999999,null,1186,"micro"]
["Epiblema turbidana",49.29,null,1182,"micro"]
["Epicallima formosella",28.018000000000001,null,643,"micro","Not currently recorded in Kent, provide verification"]
["Epichnopterix plumella",11.013999999999999,null,189,"micro"]
["Epinotia abbreviana",49.234000000000002,null,1150,"micro"]
["Epinotia bilunana",49.253999999999998,null,1133,"micro"]
["Epinotia brunnichana",49.231000000000002,null,1155,"micro"]
["Epinotia caprana",49.228999999999999,null,1154,"micro"]
["Epinotia cinereana",49.256,null,null,"micro"]
["Epinotia crenana",49.241,null,1149,"micro","Not currently recorded in Kent, provide verification"]
["Epinotia cruciana",49.238,"Willow Tortrix ",1147,"micro"]
["Epinotia demarniana",49.243000000000002,null,1135,"micro"]
["Epinotia fraternana",49.253,null,1143,"micro"]
["Epinotia granitana",49.235999999999997,null,"1144a","micro","Not currently recorded in Kent, provide verification"]
["Epinotia immundana",49.24,null,1136,"micro"]
["Epinotia maculana",49.231999999999999,null,1152,"micro"]
["Epinotia mercuriana",49.238999999999997,null,1148,"micro","Not currently recorded in Kent, provide verification"]
["Epinotia nanana",49.241999999999997,null,1145,"micro"]
["Epinotia nemorivaga",49.234999999999999,null,1141,"micro","Not currently recorded in Kent, provide verification"]
["Epinotia nigricana",49.25,null,1140,"micro","Not currently recorded in Kent, provide verification"]
["Epinotia nisella",49.255000000000003,null,1138,"micro"]
["Epinotia pygmaeana",49.246000000000002,null,1130,"micro"]
["Epinotia ramella",49.249000000000002,null,1134,"micro"]
["Epinotia rubiginosana",49.250999999999998,null,1146,"micro"]
["Epinotia signatana",49.237000000000002,null,1144,"micro"]
["Epinotia solandriana",49.232999999999997,null,1156,"micro"]
["Epinotia sordidana",49.228000000000002,null,1153,"micro"]
["Epinotia subocellana",49.244,null,1132,"micro"]
["Epinotia subsequana",49.247,null,1131,"micro"]
["Epinotia tedella",49.252000000000002,null,1142,"micro"]
["Epinotia tenerana",49.247999999999998,"Nut Bud Moth ",1139,"micro"]
["Epinotia tetraquetrana",49.244999999999997,null,1137,"micro"]
["Epinotia trigonella",49.23,null,1151,"micro"]
["Epiphyas postvittana",49.039000000000001,"Light Brown Apple Moth ",998,"micro"]
["Epischnia asteris",62.030999999999999,null,1456,"micro","Not currently recorded in Kent, provide verification"]
["Eriocrania cicatricella",2.0059999999999998,null,11,"micro","Please check ID & provide verification"]
["Eriocrania salopiella",2.0049999999999999,null,10,"micro"]
["Eriocrania sangii",2.008,null,12,"micro"]
["Eriocrania semipurpurella",2.0070000000000001,null,13,"micro"]
["Eriocrania sparrmannella",2.004," ",9,"micro"]
["Eriocrania unimaculella",2.0030000000000001,null,8,"micro"]
["Eriopsela quadrana",49.218000000000004,null,1189,"micro"]
["Esperia sulphurella",28.018999999999998,null,649,"micro"]
["Ethmia bipunctella",33.006,null,720,"micro"]
["Ethmia dodecea",33.000999999999998,null,718,"micro"]
["Ethmia pusiella",33.003,null,721,"micro","Not currently recorded in Kent, provide verification"]
["Ethmia pyrausta",33.005000000000003,null,722,"micro","Not currently recorded in Kent, provide verification"]
["Ethmia quadrillella",33.002000000000002,null,719,"micro"]
["Ethmia terminella",33.003999999999998,null,717,"micro"]
["Etiella zinckenella",62.02,null,"1451a","micro"]
["Euchromius ocellea",63.076000000000001,null,1289,"micro"]
["Euclemensia woodiella",34.003,null,901,"micro"]
["Eucosma aemulana",49.27,null,1194,"micro"]
["Eucosma aspidiscana",49.276000000000003,null,1190,"micro"]
["Eucosma campoliliana",49.268999999999998,null,1197,"micro"]
["Eucosma cana",49.265000000000001,null,1201,"micro"]
["Eucosma conterminana",49.274999999999999,null,1192,"micro"]
["Eucosma fulvana",49.267000000000003,null,"1200b","micro"]
["Eucosma hohenwartiana",49.265999999999998,null,1200,"micro"]
["Eucosma lacteana",49.273000000000003,null,1195,"micro"]
["Eucosma metzneriana",49.274000000000001,null,1196,"micro"]
["Eucosma obumbratana",49.264000000000003,null,1202,"micro"]
["Eucosma parvulana",49.268000000000001,null,"1200a","micro","Not currently recorded in Kent, provide verification"]
["Eucosma pupillana",49.277000000000001,null,1199,"micro"]
["Eucosma rubescana",49.271000000000001,null,1191,"micro"]
["Eucosma tripoliana",49.271999999999998,null,1193,"micro"]
["Eucosmomorpha albersana",49.198999999999998,null,1217,"micro"]
["Eudarcia richardsoni",12.003,null,202,"micro","Not currently recorded in Kent, provide verification"]
["Eudemis porphyrana",49.143000000000001,null,1114,"micro"]
["Eudemis profundana",49.143999999999998,null,1113,"micro"]
["Eudonia alpina",63.07,null,1337,"micro","Not currently recorded in Kent, provide verification"]
["Eudonia angustea",63.069000000000003,null,1342,"micro"]
["Eudonia delunella",63.072000000000003,null,1343,"micro"]
["Eudonia lacustrata",63.067,null,1338,"micro"]
["Eudonia lineola",63.070999999999998,null,1341,"micro"]
["Eudonia mercurella",63.073999999999998,null,1344,"micro"]
["Eudonia murana",63.067999999999998,null,1339,"micro","Not currently recorded in Kent, provide verification"]
["Eudonia pallida",63.075000000000003,null,1336,"micro"]
["Eudonia truncicolella",63.073,null,1340,"micro"]
["Euhyponomeuta stannella",16.009,null,432,"micro","Not currently recorded in Kent, provide verification"]
["Eulamprotes atrella",35.081000000000003,null,731,"micro"]
["Eulamprotes immaculatella",35.082000000000001,null,"731a","micro"]
["Eulamprotes unicolorella",35.08,null,732,"micro"]
["Eulamprotes wilkella",35.079000000000001,null,733,"micro"]
["Eulia ministrana",49.09,null,1015,"micro"]
["Eupoecilia ambiguella",49.112000000000002,"Vine Moth ",955,"micro"]
["Eupoecilia angustana",49.110999999999997,null,954,"micro"]
["Eurhodope cirrigerella",62.040999999999997,null,1459,"micro","Not currently recorded in Kent, provide verification"]
["Euspilapteryx auroguttella",15.016,null,297,"micro"]
["Euzophera bigella",62.048999999999999,null,1472,"micro","Not currently recorded in Kent, provide verification"]
["Euzophera cinerosella",62.05,null,1469,"micro"]
["Euzophera pinguis",62.048000000000002,null,1470,"micro"]
["Evergestis extimalis",63.058,null,1357,"micro"]
["Evergestis forficalis",63.057000000000002,"Garden Pebble",1356,"micro"]
["Evergestis limbata",63.058999999999997,null,"1356a","micro"]
["Evergestis pallidata",63.06,null,1358,"micro"]
["Exaeretia allisella",32.006,null,687,"micro"]
["Exaeretia ciniflonella",32.005000000000003,null,686,"micro","Not currently recorded in Kent, provide verification"]
["Exapate congelatella",49.042999999999999,null,1026,"micro"]
["Exoteleia dodecella",35.158999999999999,null,760,"micro"]
["Falseuncaria degreyana",49.140999999999998,null,961,"micro"]
["Falseuncaria ruficiliana",49.142000000000003,null,960,"micro"]
["Friedlanderia cicatricella",63.078000000000003,null,1291,"micro","Not currently recorded in Kent, provide verification"]
["Galleria mellonella",62.006,"Wax Moth ",1425,"micro"]
["Gelechia cuneatella",35.103000000000002,null,804,"micro","Not currently recorded in Kent, provide verification"]
["Gelechia hippophaella",35.103999999999999,null,805,"micro"]
["Gelechia muscosella",35.101999999999997,null,803,"micro"]
["Gelechia nigra",35.104999999999997,null,806,"micro"]
["Gelechia rhombella",35.097000000000001,null,800,"micro"]
["Gelechia sabinellus",35.1,null,802,"micro","Not currently recorded in Kent, provide verification"]
["Gelechia scotinella",35.097999999999999,null,801,"micro","Not currently recorded in Kent, provide verification"]
["Gelechia senticetella",35.098999999999997,null,"801a","micro"]
["Gelechia sororculella",35.100999999999999,null,"802a","micro"]
["Gelechia turpella",35.106000000000002,null,807,"micro"]
["Gibberifera simplana",49.226999999999997,null,1173,"micro"]
["Gillmeria ochrodactyla",45.009,"Tansy Plume ",1503,"micro"]
["Gillmeria pallidactyla",45.008000000000003,"Yarrow Plume ",1504,"micro"]
["Glyphipterix equitella",19.004000000000001,null,393,"micro","Not currently recorded in Kent, provide verification"]
["Glyphipterix forsterella",19.006,null,394,"micro"]
["Glyphipterix fuscoviridella",19.003,null,396,"micro"]
["Glyphipterix haworthana",19.004999999999999,null,395,"micro","Not currently recorded in Kent, provide verification"]
["Glyphipterix schoenicolella",19.007999999999999,null,392,"micro","Not currently recorded in Kent, provide verification"]
["Glyphipterix simpliciella",19.007000000000001,"Cocksfoot Moth ",391,"micro"]
["Glyphipterix thrasonella",19.001999999999999,null,397,"micro"]
["Gnorimoschema streliciella",35.107999999999997,null,824,"micro","Not currently recorded in Kent, provide verification"]
["Gracillaria syringella",15.013999999999999,null,293,"micro"]
["Grapholita caecana",49.35,null,1240,"micro"]
["Grapholita compositella",49.347000000000001,null,1241,"micro"]
["Grapholita funebrana",49.356999999999999,"Plum Fruit Moth ",1247,"micro"]
["Grapholita gemmiferana",49.353000000000002,null,1244,"micro","Not currently recorded in Kent, provide verification"]
["Grapholita internana",49.348999999999997,null,1242,"micro"]
["Grapholita janthinana",49.359000000000002,null,1245,"micro"]
["Grapholita jungiella",49.353999999999999,null,1251,"micro"]
["Grapholita lathyrana",49.354999999999997,null,1250,"micro","Not currently recorded in Kent, provide verification"]
["Grapholita lobarzewskii",49.356000000000002,null,1249,"micro"]
["Grapholita lunulana",49.350999999999999,null,1252,"micro","Not currently recorded in Kent, provide verification"]
["Grapholita orobana",49.351999999999997,null,1253,"micro"]
["Grapholita pallifrontana",49.347999999999999,null,1243,"micro","Not currently recorded in Kent, provide verification"]
["Grapholita tenebrosana",49.357999999999997,null,1246,"micro"]
["Gravitarmata margarotana",49.302,null,"1207a","micro"]
["Gymnancyla canella",62.042999999999999,null,1464,"micro"]
["Gynnidomorpha alismana",49.107999999999997,null,930,"micro"]
["Gynnidomorpha luridana",49.103999999999999,null,931,"micro","Not currently recorded in Kent, provide verification"]
["Gynnidomorpha minimana",49.106000000000002,null,927,"micro","Not currently recorded in Kent, provide verification"]
["Gynnidomorpha permixtana",49.106999999999999,null,928,"micro"]
["Gynnidomorpha vectisana",49.104999999999997,null,929,"micro"]
["Gypsonoma aceriana",49.283000000000001,null,1167,"micro"]
["Gypsonoma dealbana",49.279000000000003,null,1169,"micro"]
["Gypsonoma minutana",49.277999999999999,null,1171,"micro"]
["Gypsonoma nitidulana",49.281999999999996,null,1172,"micro","Not currently recorded in Kent, provide verification"]
["Gypsonoma oppressana",49.28,null,1170,"micro"]
["Gypsonoma sociana",49.280999999999999,null,1168,"micro"]
["Haplotinea ditella",12.042999999999999,null,211,"micro","Not currently recorded in Kent, provide verification"]
["Haplotinea insectella",12.044,null,212,"micro"]
["Harpella forficella",28.023,null,"652a ","micro","Not currently recorded in Kent, provide verification"]
["Hedya atropunctana",49.158999999999999,null,1085,"micro","Not currently recorded in Kent, provide verification"]
["Hedya nubiferana",49.155999999999999,"Marbled Orchard Tortrix ",1083,"micro"]
["Hedya ochroleucana",49.158000000000001,null,1084,"micro"]
["Hedya pruniana",49.156999999999996,"Plum Tortrix ",1082,"micro"]
["Hedya salicella",49.155000000000001,null,1086,"micro"]
["Helcystogramma lutatella",35.03,null,869,"micro","Not currently recorded in Kent, provide verification"]
["Helcystogramma rufescens",35.030999999999999,null,868,"micro"]
["Heliodines roesella",23.001000000000001,null,400,"micro"]
["Heliozela hammoniella",6.0049999999999999,null,157,"micro"]
["Heliozela resplendella",6.0039999999999996,null,156,"micro"]
["Heliozela sericiella",6.0030000000000001,null,154,"micro"]
["Hellinsia carphodactyla",45.039000000000001,"Citron Plume ",1519,"micro"]
["Hellinsia chrysocomae",45.042000000000002,"Scarce Goldenrod Plume ",1521,"micro"]
["Hellinsia lienigianus",45.04,"Mugwort Plume ",1518,"micro"]
["Hellinsia osteodactylus",45.040999999999997,"Small Goldenrod Plume ",1520,"micro"]
["Hellinsia tephradactyla",45.037999999999997,"Plain Plume ",1522,"micro","Not currently recorded in Kent, provide verification"]
["Hellula undalis",63.061,"Old World Webworm ",1360,"micro"]
["Herpetogramma licarsisalis",63.055,"Grass Webworm ","1406a","micro"]
["Hodebertia testalis",63.048999999999999,null,"1408a","micro","Not currently recorded in Kent, provide verification"]
["Hofmannophila pseudospretella",28.01,"Brown House-moth ",647,"micro"]
["Homoeosoma nebulella",62.055,null,1480,"micro"]
["Homoeosoma nimbella",62.055999999999997,null,1482,"micro","Not currently recorded in Kent, provide verification"]
["Homoeosoma sinuella",62.054000000000002,null,1481,"micro"]
["Hypatima rhomboidella",35.018000000000001,null,858,"micro"]
["Hypatopa binotella",41.006,null,"875b","micro","Not currently recorded in Kent, provide verification"]
["Hypercallia citrinalis",32.051000000000002,null,657,"micro","Not currently recorded in Kent, provide verification"]
["Hypochalcia ahenella",62.03,null,1457,"micro"]
["Hypsopygia costalis",62.075000000000003,"Gold Triangle ",1413,"micro"]
["Hypsopygia glaucinalis",62.076000000000001,null,1415,"micro"]
["Hysterophora maculosana",49.095999999999997,null,924,"micro"]
["Incurvaria masculella",8.0020000000000007,null,130,"micro"]
["Incurvaria oehlmanniella",8.0030000000000001,null,131,"micro"]
["Incurvaria pectinea",8.0009999999999994,null,129,"micro"]
["Incurvaria praelatella",8.0039999999999996,null,132,"micro"]
["Infurcitinea albicomella",12.005000000000001,null,204,"micro","Not currently recorded in Kent, provide verification"]
["Infurcitinea argentimaculella",12.006,null,203,"micro"]
["Infurcitinea captans",12.004,null,null,"micro","Not currently recorded in Kent, provide verification"]
["Ischnoscia borreonella",12.007,null,205,"micro","Not currently recorded in Kent, provide verification"]
["Isophrictis striatella",35.052999999999997,null,729,"micro"]
["Isotrias rectifasciana",49.002000000000002,null,1014,"micro"]
["Kessleria fasciapennella",16.013000000000002,null,433,"micro","Not currently recorded in Kent, provide verification"]
["Kessleria saxifragae",16.012,null,434,"micro","Not currently recorded in Kent, provide verification"]
["Lampronia capitella",9.0009999999999994,"Currant Shoot Borer ",133,"micro","Please check ID & provide verification"]
["Lampronia corticella",9.0030000000000001,"Raspberry Moth ",136,"micro","Not currently recorded in Kent, provide verification"]
["Lampronia flavimitrella",9.0050000000000008,null,134,"micro"]
["Lampronia fuscatella",9.0060000000000002,null,138,"micro"]
["Lampronia luzella",9.0020000000000007,null,135,"micro"]
["Lampronia morosa",9.0039999999999996,null,137,"micro"]
["Lampronia pubicornis",9.0069999999999997,null,139,"micro","Not currently recorded in Kent, provide verification"]
["Lathronympha strigana",49.344999999999999,null,1219,"micro"]
["Leucoptera laburnella",21.004000000000001,"Laburnum Leaf Miner",254,"micro"]
["Leucoptera lathyrifoliella",21.006,null,258,"micro","Not currently recorded in Kent, provide verification"]
["Leucoptera lotella",21.003,null,259,"micro","Not currently recorded in Kent, provide verification"]
["Leucoptera malifoliella",21.007999999999999,"Pear Leaf Blister Moth ",260,"micro"]
["Leucoptera orobi",21.007000000000001,null,257,"micro","Not currently recorded in Kent, provide verification"]
["Leucoptera sinuella",21.009,null,261,"micro","Not currently recorded in Kent, provide verification"]
["Leucoptera spartifoliella",21.004999999999999,null,256,"micro"]
["Leucospilapteryx omissella",15.021000000000001,null,314,"micro"]
["Levipalpus hepatariella",32.003999999999998,null,685,"micro","Not currently recorded in Kent, provide verification"]
["Limnaecia phragmitella",34.003999999999998,null,898,"micro"]
["Lobesia abscisana",49.183,null,1108,"micro"]
["Lobesia botrana",49.182000000000002,"European Vine Moth ",1107,"micro","Not currently recorded in Kent, provide verification"]
["Lobesia littoralis",49.185000000000002,null,1109,"micro"]
["Lobesia occidentis",49.180999999999997,null,1105,"micro"]
["Lobesia reliquana",49.183999999999997,null,1106,"micro"]
["Loxostege sticticalis",63.002000000000002,null,1368,"micro"]
["Lozotaenia forsterana",49.029000000000003,null,1002,"micro"]
["Lozotaeniodes formosana",49.04,null,1001,"micro"]
["Luffia ferchaultella",11.009,null,185,"micro"]
["Luffia lapidella",11.007999999999999,null,184,"micro"]
["Luquetia lobella",32.003,null,668,"micro"]
["Lyonetia clerkella",21.001000000000001,"Apple Leaf Miner",263,"micro"]
["Lyonetia prunifoliella",21.001999999999999,null,262,"micro"]
["Marasmarcha lunaedactyla",45.023000000000003,"Crescent Plume ",1495,"micro"]
["Maruca vitrata",63.045000000000002,"Mung Moth ",1401,"micro","Not currently recorded in Kent, provide verification"]
["Matilella fusca",62.012,null,1451,"micro"]
["Mecyna asinalis",63.04,null,1397,"micro"]
["Mecyna flavalis",63.039000000000001,null,1396,"micro"]
["Merrifieldia baliodactylus",45.033999999999999,"Dingy White Plume ",1512,"micro"]
["Merrifieldia leucodactyla",45.033000000000001,"Thyme Plume ",1510,"micro"]
["Merrifieldia tridactyla",45.031999999999996,"Western Thyme Plume ",1511,"micro"]
["Mesophleps silacella",35.014000000000003,null,860,"micro","Not currently recorded in Kent, provide verification"]
["Metalampra italica",28.007999999999999,null,"642a","micro"]
["Metzneria aestivella",35.055,null,725,"micro"]
["Metzneria aprilella",35.058999999999997,null,"727a","micro"]
["Metzneria lappella",35.055999999999997,null,724,"micro"]
["Metzneria littorella",35.057000000000002,null,723,"micro"]
["Metzneria metzneriella",35.058,null,726,"micro"]
["Metzneria neuropterella",35.054000000000002,null,727,"micro"]
["Micropterix aruncella",1.004,null,4,"micro"]
["Micropterix aureatella",1.0029999999999999,null,3,"micro","Please check ID & provide verification"]
["Micropterix calthella",1.0049999999999999,null,5,"micro"]
["Micropterix mansuetella",1.002,null,2,"micro"]
["Micropterix tunbergella",1.0009999999999999,null,1,"micro"]
["Mirificarma lentiginosella",35.091999999999999,null,793,"micro"]
["Mirificarma mulinella",35.093000000000004,null,792,"micro"]
["Moitrelia obductella",62.012999999999998,null,1444,"micro"]
["Mompha bradleyi",40.006999999999998,null,"889a","micro","Not currently recorded in Kent, provide verification"]
["Mompha conturbatella",40.000999999999998,null,885,"micro"]
["Mompha divisella",40.005000000000003,null,889,"micro"]
["Mompha epilobiella",40.01,null,893,"micro"]
["Mompha jurassicella",40.006,null,890,"micro"]
["Mompha lacteella",40.003,null,887,"micro"]
["Mompha langiella",40.011000000000003,null,880,"micro"]
["Mompha locupletella",40.012999999999998,null,882,"micro"]
["Mompha miscella",40.012,null,884,"micro"]
["Mompha ochraceella",40.002000000000002,null,886,"micro"]
["Mompha propinquella",40.003999999999998,null,888,"micro"]
["Mompha raschkiella",40.015000000000001,null,883,"micro"]
["Mompha sturnipennella",40.009,null,891,"micro"]
["Mompha subbistrigella",40.008000000000003,null,892,"micro"]
["Mompha terminella",40.014000000000003,null,881,"micro"]
["Monochroa arundinetella",35.075000000000003,null,744,"micro","Not currently recorded in Kent, provide verification"]
["Monochroa conspersella",35.067,null,739,"micro"]
["Monochroa cytisella",35.064999999999998,null,728,"micro"]
["Monochroa divisella",35.072000000000003,null,745,"micro","Not currently recorded in Kent, provide verification"]
["Monochroa elongella",35.069000000000003,null,743,"micro"]
["Monochroa hornigi",35.076999999999998,null,740,"micro","Not currently recorded in Kent, provide verification"]
["Monochroa lucidella",35.070999999999998,null,736,"micro"]
["Monochroa lutulentella",35.07,null,742,"micro"]
["Monochroa moyses",35.073999999999998,null,"744a","micro"]
["Monochroa niphognatha",35.078000000000003,null,"740a","micro"]
["Monochroa palustrellus",35.073,null,737,"micro"]
["Monochroa suffusella",35.076000000000001,null,741,"micro","Not currently recorded in Kent, provide verification"]
["Monochroa tenebrella",35.066000000000003,null,735,"micro"]
["Monochroa tetragonella",35.067999999999998,null,738,"micro","Not currently recorded in Kent, provide verification"]
["Monopis crocicapitella",12.039,null,230,"micro"]
["Monopis fenestratella",12.042,null,233,"micro","Not currently recorded in Kent, provide verification"]
["Monopis imella",12.04,null,231,"micro"]
["Monopis laevigella",12.036,"Skin Moth ",227,"micro"]
["Monopis monachella",12.041,null,232,"micro"]
["Monopis obviella",12.038,null,229,"micro"]
["Monopis weaverella",12.037000000000001,null,228,"micro"]
["Morophaga choragella",12.01,null,196,"micro"]
["Musotima nitidalis",63.119,null,"1355a","micro","Not currently recorded in Kent, provide verification"]
["Myelois circumvoluta",62.042000000000002,"Thistle Ermine ",1458,"micro"]
["Myrmecozela ochraceella",12.000999999999999,null,207,"micro","Please check ID & provide verification"]
["Narycia duplicella",11.002000000000001,null,175,"micro"]
["Nascia cilialis",63.012999999999998,null,1387,"micro"]
["Nemapogon clematella",12.021000000000001,null,220,"micro"]
["Nemapogon cloacella",12.016,"Cork Moth ",216,"micro"]
["Nemapogon granella",12.015000000000001,"Corn Moth ",215,"micro"]
["Nemapogon inconditella",12.018000000000001,null,"216a","micro","Not currently recorded in Kent, provide verification"]
["Nemapogon picarella",12.022,null,221,"micro","Not currently recorded in Kent, provide verification"]
["Nemapogon ruricolella",12.019,null,219,"micro"]
["Nemapogon variatella",12.02,null,218,"micro"]
["Nemapogon wolffiella",12.016999999999999,null,217,"micro"]
["Nematopogon magna",7.0129999999999999,null,"143a","micro","Not currently recorded in Kent, provide verification"]
["Nematopogon metaxella",7.0140000000000002,null,143,"micro"]
["Nematopogon pilella",7.0110000000000001,null,142,"micro","Not currently recorded in Kent, provide verification"]
["Nematopogon schwarziellus",7.0119999999999996,null,141,"micro"]
["Nematopogon swammerdamella",7.0149999999999997,null,140,"micro"]
["Nemaxera betulinella",12.013999999999999,null,223,"micro","Not currently recorded in Kent, provide verification"]
["Nemophora cupriacella",7.0030000000000001,null,146,"micro"]
["Nemophora degeerella",7.0010000000000003,null,148,"micro"]
["Nemophora fasciella",7.0039999999999996,null,144,"micro"]
["Nemophora metallica",7.0019999999999998,null,147,"micro"]
["Nemophora minimella",7.0049999999999999,null,145,"micro"]
["Neofaculta ericetella",35.017000000000003,null,797,"micro"]
["Neofriseria peliella",35.087000000000003,null,798,"micro"]
["Neofriseria singula",35.088000000000001,null,799,"micro"]
["Neosphaleroptera nubilana",49.042000000000002,null,1027,"micro"]
["Nephopterix angustella",62.031999999999996,null,1465,"micro"]
["Niditinea fuscella",12.034000000000001,"Brown-dotted Clothes Moth ",237,"micro"]
["Niditinea striolella",12.035,null,238,"micro"]
["Nomophila nearctica",63.052999999999997,null,"1398a","micro","Not currently recorded in Kent, provide verification"]
["Nomophila noctuella",63.052,"Rush Veneer ",1398,"micro"]
["Nothris congressariella",35.015999999999998,null,839,"micro","Not currently recorded in Kent, provide verification"]
["Nothris verbascella",35.015000000000001,null,838,"micro","Not currently recorded in Kent, provide verification"]
["Notocelia cynosbatella",49.292000000000002,null,1174,"micro"]
["Notocelia incarnatana",49.295999999999999,null,1179,"micro"]
["Notocelia roborana",49.295000000000002,null,1178,"micro"]
["Notocelia rosaecolana",49.296999999999997,null,1177,"micro"]
["Notocelia tetragonana",49.292999999999999,null,1180,"micro"]
["Notocelia trimaculana",49.298000000000002,null,1176,"micro"]
["Notocelia uddmanniana",49.293999999999997,"Bramble Shoot Moth ",1175,"micro"]
["Nyctegretis lineana",62.051000000000002,null,1468,"micro"]
["Nymphula nitidulata",63.118000000000002,"Beautiful China-mark ",1350,"micro"]
["Ochsenheimeria taurella",17.013999999999999,null,251,"micro"]
["Ochsenheimeria urella",17.015000000000001,null,252,"micro"]
["Ochsenheimeria vacculella",17.015999999999998,null,253,"micro"]
["Ocnerostoma friesei",16.024000000000001,null,445,"micro"]
["Ocnerostoma piniariella",16.023,null,444,"micro"]
["Oecophora bractella",28.021000000000001,null,651,"micro"]
["Oegoconia caradjai",27.001999999999999,null,"871a","micro"]
["Oegoconia deauratella",27.003,null,871,"micro"]
["Oegoconia quadripuncta",27.001000000000001,null,870,"micro"]
["Oegoconia sp.",null,null,"871x","micro"]
["Oidaematophorus lithodactyla",45.036999999999999,"Dusky Plume ",1523,"micro"]
["Oinophila v-flava",12.045999999999999,"Yellow V Moth ",277,"micro"]
["Olethreutes arcuella",49.179000000000002,null,1080,"micro"]
["Olindia schumacherana",49.000999999999998,null,1013,"micro"]
["Oncocera semirubella",62.021000000000001,null,1441,"micro","Not currently recorded in Kent, provide verification"]
["Opogona omoscopa",12.045,null,null,"micro","Not currently recorded in Kent, provide verification"]
["Opostega salaciella",5.0010000000000003,null,119,"micro"]
["Opostega spatulella",5.0019999999999998,null,122,"micro","Not currently recorded in Kent, provide verification"]
["Ortholepis betulae",62.011000000000003,null,1450,"micro"]
["Orthotaenia undulana",49.154000000000003,null,1087,"micro"]
["Orthotelia sparganella",19.001000000000001,null,470,"micro"]
["Ostrinia nubilalis",63.027999999999999,"European Corn-borer ",1375,"micro"]
["Oxyptilus parvidactyla",45.024999999999999,"Small Plume ",1490,"micro"]
["Oxyptilus pilosellae",45.024000000000001,"Downland Plume ",1489,"micro"]
["Pachyrhabda steropodes",42.000999999999998,null,null,"micro","Not currently recorded in Kent, provide verification"]
["Pachythelia villosella",11.016999999999999,null,192,"micro","Not currently recorded in Kent, provide verification"]
["Palpita vitrealis",63.048000000000002,null,1408,"micro"]
["Pammene agnotana",49.369,null,1226,"micro","Not currently recorded in Kent, provide verification"]
["Pammene albuginana",49.365000000000002,null,1229,"micro"]
["Pammene argyrana",49.363,null,1228,"micro"]
["Pammene aurana",49.378999999999998,null,1272,"micro"]
["Pammene aurita",49.375999999999998,null,1233,"micro"]
["Pammene fasciana",49.366999999999997,null,1236,"micro"]
["Pammene gallicana",49.38,null,1271,"micro"]
["Pammene germmana",49.377000000000002,null,1237,"micro"]
["Pammene giganteana",49.362000000000002,null,1227,"micro"]
["Pammene herrichiana",49.368000000000002,null,"1236a","micro"]
["Pammene ignorata",49.360999999999997,null,"1228a","micro","Not currently recorded in Kent, provide verification"]
["Pammene luedersiana",49.37,null,1224,"micro","Not currently recorded in Kent, provide verification"]
["Pammene obscurana",49.366,null,1225,"micro","Not currently recorded in Kent, provide verification"]
["Pammene ochsenheimeriana",49.378,null,1238,"micro"]
["Pammene populana",49.372,null,1232,"micro"]
["Pammene regiana",49.375,null,1234,"micro"]
["Pammene rhediella",49.371000000000002,"Fruitlet Mining Tortrix ",1239,"micro"]
["Pammene spiniana",49.372999999999998,null,1231,"micro"]
["Pammene splendidulana",49.36,null,1223,"micro"]
["Pammene suspectana",49.363999999999997,null,1230,"micro","Not currently recorded in Kent, provide verification"]
["Pammene trauniana",49.374000000000002,null,1235,"micro"]
["Pancalia leuwenhoekella",34.000999999999998,null,899,"micro"]
["Pancalia schwarzella",34.002000000000002,null,900,"micro","Not currently recorded in Kent, provide verification"]
["Pandemis cerasana",49.024999999999999,"Barred Fruit-tree Tortrix ",970,"micro"]
["Pandemis cinnamomeana",49.023000000000003,null,971,"micro"]
["Pandemis corylana",49.024000000000001,"Chequered Fruit-tree Tortrix ",969,"micro"]
["Pandemis dumetana",49.027000000000001,null,973,"micro"]
["Pandemis heparana",49.026000000000003,"Dark Fruit-tree Tortrix ",972,"micro"]
["Parachronistis albiceps",35.161000000000001,null,756,"micro"]
["Paracorsia repandalis",63.000999999999998,null,1372,"micro","Not currently recorded in Kent, provide verification"]
["Paracrania chrysolepidella",2.0019999999999998,null,7,"micro"]
["Paralipsa gularis",62.003,"Stored Nut Moth ",1430,"micro"]
["Paramesia gnomana",49.006,null,1004,"micro","Not currently recorded in Kent, provide verification"]
["Parapoynx stratiotata",63.116999999999997,"Ringed China-mark ",1348,"micro"]
["Paraswammerdamia albicapitella",16.018999999999998,null,440,"micro"]
["Paraswammerdamia nebulella",16.02,null,441,"micro"]
["Paratalanta hyalinalis",63.03,null,1374,"micro"]
["Paratalanta pandalis",63.029000000000003,"Bordered Pearl ",1373,"micro"]
["Parectopa ononidis",15.000999999999999,null,299,"micro"]
["Parornix alpicola",15.031000000000001,null,306,"micro","Not currently recorded in Kent, provide verification"]
["Parornix anglicella",15.028,null,303,"micro"]
["Parornix betulae",15.025,null,301,"micro"]
["Parornix carpinella",15.026999999999999,null,"302a","micro"]
["Parornix devoniella",15.029,null,304,"micro"]
["Parornix fagivora",15.026,null,302,"micro"]
["Parornix finitimella",15.032,null,308,"micro"]
["Parornix loganella",15.023999999999999,null,300,"micro"]
["Parornix scoticella",15.03,null,305,"micro"]
["Parornix torquillella",15.032999999999999,null,309,"micro"]
["Pediasia aridella",63.11,null,1324,"micro"]
["Pediasia contaminella",63.109000000000002,null,1323,"micro"]
["Pediasia fascelinella",63.107999999999997,null,1322,"micro"]
["Pelochrista caecimaculana",49.262999999999998,null,1188,"micro"]
["Pempelia genistella",62.021999999999998,null,1443,"micro"]
["Pempelia palumbella",62.023000000000003,null,1442,"micro"]
["Pempeliella ornatella",62.014000000000003,null,1463,"micro"]
["Periclepsis cinctana",49.006999999999998,null,1005,"micro"]
["Perittia farinella",38.002000000000002,null,591,"micro","Not currently recorded in Kent, provide verification"]
["Perittia obscurepunctella",38.000999999999998,null,590,"micro"]
["Pexicopia malvella",35.031999999999996,"Hollyhock Seed Moth ",809,"micro"]
["Phalonidia affinitana",49.103000000000002,null,932,"micro"]
["Phalonidia curvistrigana",49.1,null,934,"micro"]
["Phalonidia gilvicomana",49.098999999999997,null,933,"micro"]
["Phalonidia manniana",49.100999999999999,null,926,"micro"]
["Phalonidia udana",49.101999999999997,null,null,"micro","Not currently recorded in Kent, provide verification"]
["Phaneta pauperana",49.262,null,1198,"micro","Not currently recorded in Kent, provide verification"]
["Phaulernis dentella",47.002000000000002,null,477,"micro"]
["Phaulernis fulviguttella",47.000999999999998,null,478,"micro"]
["Phiaris metallicana",49.170999999999999,null,1072,"micro","Not currently recorded in Kent, provide verification"]
["Phiaris micana",49.173000000000002,null,1075,"micro"]
["Phiaris obsoletana",49.17,null,1077,"micro","Not currently recorded in Kent, provide verification"]
["Phiaris palustrana",49.173999999999999,null,1074,"micro","Not currently recorded in Kent, provide verification"]
["Phiaris schulziana",49.171999999999997,null,1073,"micro","Not currently recorded in Kent, provide verification"]
["Philedone gerningana",49.008000000000003,null,1008,"micro","Not currently recorded in Kent, provide verification"]
["Philedonides lunana",49.01,null,1009,"micro","Not currently recorded in Kent, provide verification"]
["Phtheochroa inopiana",49.091999999999999,null,921,"micro"]
["Phtheochroa rugosana",49.094999999999999,null,925,"micro"]
["Phtheochroa schreibersiana",49.093000000000004,null,922,"micro"]
["Phtheochroa sodaliana",49.094000000000001,null,923,"micro"]
["Phthorimaea operculella",35.125999999999998,"Potato Tuber Moth ",825,"micro"]
["Phycita roborella",62.029000000000003,null,1452,"micro"]
["Phycitodes binaevella",62.058,null,1483,"micro"]
["Phycitodes maritima",62.057000000000002,null,1485,"micro"]
["Phycitodes saxicola",62.058999999999997,null,1484,"micro"]
["Phyllocnistis ramulicola",15.090999999999999,null,"367a","micro","Not currently recorded in Kent, provide verification"]
["Phyllocnistis saligna",15.09,null,367,"micro"]
["Phyllocnistis unipunctella",15.092000000000001,null,368,"micro"]
["Phyllocnistis xenia",15.093,null,369,"micro"]
["Phyllonorycter acerifoliella",15.084,null,362,"micro"]
["Phyllonorycter anderidae",15.069000000000001,null,347,"micro"]
["Phyllonorycter blancardella",15.045999999999999,null,326,"micro"]
["Phyllonorycter cavella",15.058999999999999,null,338,"micro"]
["Phyllonorycter cerasicolella",15.05,null,330,"micro"]
["Phyllonorycter comparella",15.087,null,365,"micro"]
["Phyllonorycter coryli",15.064,"Nut Leaf Blister Moth ",342,"micro"]
["Phyllonorycter corylifoliella",15.052,null,332,"micro"]
["Phyllonorycter distentella",15.068,null,346,"micro"]
["Phyllonorycter dubitella",15.057,null,336,"micro"]
["Phyllonorycter emberizaepenella",15.076000000000001,null,354,"micro"]
["Phyllonorycter esperella",15.065,null,343,"micro"]
["Phyllonorycter froelichiella",15.08,null,358,"micro"]
["Phyllonorycter geniculella",15.086,null,364,"micro"]
["Phyllonorycter harrisella",15.034000000000001,null,315,"micro"]
["Phyllonorycter heegeriella",15.036,null,317,"micro"]
["Phyllonorycter hilarella",15.058,null,337,"micro"]
["Phyllonorycter hostis",15.047000000000001,null,327,"micro"]
["Phyllonorycter insignitella",15.071999999999999,null,350,"micro"]
["Phyllonorycter joannisi",15.085000000000001,null,363,"micro"]
["Phyllonorycter junoniella",15.048,null,328,"micro","Not currently recorded in Kent, provide verification"]
["Phyllonorycter klemannella",15.082000000000001,null,360,"micro"]
["Phyllonorycter kuhlweiniella",15.038,null,319,"micro"]
["Phyllonorycter lantanella",15.051,null,331,"micro"]
["Phyllonorycter lautella",15.073,null,351,"micro"]
["Phyllonorycter leucographella",15.053000000000001,"Firethorn Leaf Miner ","332a","micro"]
["Phyllonorycter maestingella",15.063000000000001,null,341,"micro"]
["Phyllonorycter mespilella",15.045,null,325,"micro"]
["Phyllonorycter messaniella",15.04,null,321,"micro"]
["Phyllonorycter muelleriella",15.042,null,322,"micro"]
["Phyllonorycter nicellii",15.081,null,359,"micro"]
["Phyllonorycter nigrescentella",15.071,null,349,"micro"]
["Phyllonorycter oxyacanthae",15.042999999999999,null,323,"micro"]
["Phyllonorycter platani",15.041,null,"321a","micro"]
["Phyllonorycter quercifoliella",15.039,null,320,"micro"]
["Phyllonorycter quinqueguttella",15.07,null,348,"micro"]
["Phyllonorycter rajella",15.067,null,345,"micro"]
["Phyllonorycter roboris",15.035,null,316,"micro"]
["Phyllonorycter sagitella",15.087999999999999,null,366,"micro"]
["Phyllonorycter salicicolella",15.055999999999999,null,335,"micro"]
["Phyllonorycter scabiosella",15.077,null,355,"micro"]
["Phyllonorycter schreberella",15.074,null,352,"micro"]
["Phyllonorycter scopariella",15.061,null,340,"micro"]
["Phyllonorycter sorbi",15.044,null,324,"micro"]
["Phyllonorycter spinicolella",15.048999999999999,null,329,"micro"]
["Phyllonorycter staintoniella",15.061999999999999,null,"340a","micro","Not currently recorded in Kent, provide verification"]
["Phyllonorycter stettinensis",15.079000000000001,null,357,"micro"]
["Phyllonorycter strigulatella",15.066000000000001,null,344,"micro"]
["Phyllonorycter tenerella",15.037000000000001,null,318,"micro"]
["Phyllonorycter trifasciella",15.083,null,361,"micro"]
["Phyllonorycter tristrigella",15.077999999999999,null,356,"micro"]
["Phyllonorycter ulicicolella",15.06,null,339,"micro"]
["Phyllonorycter ulmifoliella",15.074999999999999,null,353,"micro"]
["Phyllonorycter viminetorum",15.055,null,334,"micro"]
["Phyllonorycter viminiella",15.054,null,333,"micro"]
["Phylloporia bistrigella",8.0050000000000008,null,128,"micro"]
["Pima boisduvaliella",62.018999999999998,null,1453,"micro"]
["Piniphila bifasciana",49.18,null,1079,"micro"]
["Platyedra subcinerea",35.033000000000001,null,808,"micro"]
["Platyptilia calodactyla",45.005000000000003,"Goldenrod Plume ",1500,"micro"]
["Platyptilia gonodactyla",45.003999999999998,"Triangle Plume ",1501,"micro"]
["Platyptilia isodactylus",45.006,"Hoary Plume ",1502,"micro","Not currently recorded in Kent, provide verification"]
["Platyptilia tesseradactyla",45.006999999999998,"Irish Plume ",1499,"micro"]
["Platytes alpinella",63.112000000000002,null,1325,"micro"]
["Platytes cerussella",63.110999999999997,null,1326,"micro"]
["Pleuroptya ruralis",63.037999999999997,"Mother of Pearl",1405,"micro"]
["Pleurota aristella",28.026,null,655,"micro","Not currently recorded in Kent, provide verification"]
["Pleurota bicostella",28.024999999999999,null,654,"micro"]
["Plodia interpunctella",62.061999999999998,"Indian Meal Moth ",1479,"micro"]
["Plutella haasi",18.001999999999999,null,"465a","micro","Not currently recorded in Kent, provide verification"]
["Plutella porrectella",18.003,null,465,"micro"]
["Plutella xylostella",18.001000000000001,"Diamond-back Moth ",464,"micro"]
["Porrittia galactodactyla",45.030999999999999,"Spotted White Plume ",1514,"micro"]
["Povolnya leucapennella",15.018000000000001,null,292,"micro","Not currently recorded in Kent, provide verification"]
["Prays fraxinella",22.001999999999999,"Ash Bud Moth ",449,"micro"]
["Prays oleae",22.004000000000001,null,"449c ","micro"]
["Prays peregrina",22.004999999999999,null,"449b ","micro","Not currently recorded in Kent, provide verification"]
["Prays ruficeps",22.003,null,null,"micro"]
["Pristerognatha penthinana",49.174999999999997,null,1081,"micro","Not currently recorded in Kent, provide verification"]
["Prochoreutis myllerana",48.002000000000002,null,388,"micro"]
["Prochoreutis sehestediana",48.003,null,387,"micro"]
["Prolita sexpunctella",35.088999999999999,null,794,"micro","Not currently recorded in Kent, provide verification"]
["Prolita solutella",35.090000000000003,null,795,"micro","Not currently recorded in Kent, provide verification"]
["Proutia betulina",11.010999999999999,null,188,"micro","Not currently recorded in Kent, provide verification"]
["Psamathocrita argentella",35.063000000000002,null,"750a","micro","Not currently recorded in Kent, provide verification"]
["Psamathocrita osseella",35.061999999999998,null,750,"micro","Not currently recorded in Kent, provide verification"]
["Psammotis pulveralis",63.027000000000001,null,1383,"micro"]
["Pselnophorus heterodactyla",45.036000000000001,"Short-winged Plume ",1516,"micro","Not currently recorded in Kent, provide verification"]
["Pseudargyrotoza conwagana",49.091000000000001,null,1011,"micro"]
["Pseudatemelia flavifrontella",30.001000000000001,null,661,"micro"]
["Pseudatemelia josephinae",30.003,null,660,"micro"]
["Pseudatemelia subochreella",30.001999999999999,null,662,"micro"]
["Pseudococcyx posticana",49.298999999999999,null,1208,"micro"]
["Pseudococcyx turionella",49.3,"Pine Bud Moth",1209,"micro"]
["Pseudopostega auritella",5.0030000000000001,null,120,"micro","Not currently recorded in Kent, provide verification"]
["Pseudopostega crepusculella",5.0039999999999996,null,121,"micro"]
["Pseudosciaphila branderiana",49.145000000000003,null,1088,"micro"]
["Pseudoswammerdamia combinella",16.013999999999999,null,436,"micro"]
["Pseudotelphusa paripunctella",35.152999999999999,null,773,"micro"]
["Pseudotelphusa scalella",35.152000000000001,null,764,"micro"]
["Psoricoptera gibbosella",35.106999999999999,null,859,"micro"]
["Psyche casta",11.012,null,186,"micro"]
["Psyche crassiorella",11.013,null,187,"micro","Not currently recorded in Kent, provide verification"]
["Psychoides filicivora",12.048,null,200,"micro"]
["Psychoides verhuella",12.047000000000001,null,199,"micro"]
["Pterophorus pentadactyla",45.03,"White Plume Moth",1513,"micro"]
["Ptocheuusa paupella",35.061,null,748,"micro"]
["Ptycholoma lecheana",49.021999999999998,null,1000,"micro"]
["Ptycholomoides aeriferana",49.021000000000001,null,987,"micro","Not currently recorded in Kent, provide verification"]
["Pyralis farinalis",62.072000000000003,"Meal Moth ",1417,"micro"]
["Pyralis lienigialis",62.070999999999998,null,1416,"micro","Not currently recorded in Kent, provide verification"]
["Pyrausta aerealis",63.01,null,"1367a","micro"]
["Pyrausta aurata",63.006,null,1361,"micro"]
["Pyrausta cingulata",63.003,null,1367,"micro"]
["Pyrausta despicata",63.005000000000003,null,1365,"micro"]
["Pyrausta nigrata",63.009,null,1366,"micro"]
["Pyrausta ostrinalis",63.008000000000003,null,1363,"micro"]
["Pyrausta purpuralis",63.006999999999998,null,1362,"micro"]
["Pyrausta sanguinalis",63.003999999999998,null,1364,"micro","Not currently recorded in Kent, provide verification"]
["Pyroderces argyrogrammos",34.011000000000003,null,"898a ","micro","Not currently recorded in Kent, provide verification"]
["Recurvaria leucatella",35.156999999999996,null,758,"micro"]
["Recurvaria nanella",35.155999999999999,null,757,"micro"]
["Retinia resinella",49.301000000000002,"Pine Resin-gall Moth ",1214,"micro"]
["Rhigognostis annulatella",18.004999999999999,null,467,"micro","Not currently recorded in Kent, provide verification"]
["Rhigognostis incarnatella",18.006,null,468,"micro","Not currently recorded in Kent, provide verification"]
["Rhigognostis senilella",18.004000000000001,null,466,"micro","Not currently recorded in Kent, provide verification"]
["Rhodophaea formosa",62.024000000000001,null,1445,"micro"]
["Rhopobota myrtillana",49.22,null,1162,"micro","Not currently recorded in Kent, provide verification"]
["Rhopobota naevana",49.222999999999999,"Holly Tortrix ",1159,"micro"]
["Rhopobota stagnana",49.220999999999997,null,1161,"micro"]
["Rhopobota ustomaculana",49.222000000000001,null,1158,"micro","Not currently recorded in Kent, provide verification"]
["Rhyacionia buoliana",49.305,"Pine Shoot Moth ",1210,"micro"]
["Rhyacionia logaea",49.308,"Elgin Shoot Moth ",1213,"micro","Not currently recorded in Kent, provide verification"]
["Rhyacionia pinicolana",49.305999999999997,null,1211,"micro"]
["Rhyacionia pinivorana",49.307000000000002,"Spotted Shoot Moth ",1212,"micro"]
["Roeslerstammia erxlebella",13.002000000000001,null,447,"micro"]
["Roeslerstammia pronubella",13.000999999999999,null,446,"micro","Not currently recorded in Kent, provide verification"]
["Salebriopsis albicilla",62.008000000000003,null,1446,"micro","Not currently recorded in Kent, provide verification"]
["Schiffermuelleria grandis",28.003,null,634,"micro","Not currently recorded in Kent, provide verification"]
["Schiffermuelleria schaefferella",28.001999999999999,null,null,"micro","Not currently recorded in Kent, provide verification"]
["Schoenobius gigantella",63.12,null,1328,"micro"]
["Schrekensteinia festaliella",46.000999999999998,null,485,"micro"]
["Sciota adelphella",62.017000000000003,null,"1447a","micro"]
["Sciota hostilis",62.015999999999998,null,1447,"micro"]
["Sciota rhenella",62.018000000000001,null,"1447b","micro"]
["Sclerocona acutellus",63.026000000000003,null,"1374a","micro","Not currently recorded in Kent, provide verification"]
["Scoparia ambigualis",63.064,null,1334,"micro"]
["Scoparia ancipitella",63.064999999999998,null,1335,"micro"]
["Scoparia basistrigalis",63.063000000000002,null,"1334a","micro"]
["Scoparia pyralella",63.066000000000003,null,1333,"micro"]
["Scoparia subfusca",63.061999999999998,null,1332,"micro"]
["Scrobipalpa acuminatella",35.109000000000002,null,822,"micro"]
["Scrobipalpa artemisiella",35.119999999999997,"Thyme Moth ",820,"micro"]
["Scrobipalpa atriplicella",35.116999999999997,null,818,"micro"]
["Scrobipalpa clintoni",35.122,null,817,"micro","Not currently recorded in Kent, provide verification"]
["Scrobipalpa costella",35.122999999999998,null,819,"micro"]
["Scrobipalpa instabilella",35.113999999999997,null,812,"micro"]
["Scrobipalpa murinella",35.110999999999997,null,821,"micro","Not currently recorded in Kent, provide verification"]
["Scrobipalpa nitentella",35.115000000000002,null,815,"micro"]
["Scrobipalpa obsoletella",35.116,null,816,"micro"]
["Scrobipalpa ocellatella",35.118000000000002,"Beet Moth ",814,"micro"]
["Scrobipalpa pauperella",35.11,null,"814a","micro","Not currently recorded in Kent, provide verification"]
["Scrobipalpa salicorniae",35.113,null,813,"micro"]
["Scrobipalpa samadensis",35.119,null,811,"micro"]
["Scrobipalpa stangei",35.121000000000002,null,"811a","micro","Not currently recorded in Kent, provide verification"]
["Scrobipalpa suaedella",35.112000000000002,null,810,"micro"]
["Scrobipalpula diffluella",35.124000000000002,null,823,"micro","Not currently recorded in Kent, provide verification"]
["Scrobipalpula tussilaginis",35.125,null,"823a","micro","Not currently recorded in Kent, provide verification"]
["Scythris cicadella",43.011000000000003,null,919,"micro","Not currently recorded in Kent, provide verification"]
["Scythris crassiuscula",43.005000000000003,null,914,"micro"]
["Scythris empetrella",43.009,null,917,"micro","Not currently recorded in Kent, provide verification"]
["Scythris fallacella",43.000999999999998,null,913,"micro","Not currently recorded in Kent, provide verification"]
["Scythris fuscoaenea",43.003,null,912,"micro","Not currently recorded in Kent, provide verification"]
["Scythris grandipennis",43.002000000000002,null,911,"micro"]
["Scythris inspersella",43.008000000000003,null,"920a","micro","Not currently recorded in Kent, provide verification"]
["Scythris limbella",43.006999999999998,null,918,"micro"]
["Scythris picaepennis",43.003999999999998,null,915,"micro"]
["Scythris potentillella",43.006,null,920,"micro","Not currently recorded in Kent, provide verification"]
["Scythris siccella",43.01,null,916,"micro","Not currently recorded in Kent, provide verification"]
["Scythropia crataegella",25.001000000000001,"Hawthorn Moth ",450,"micro"]
["Selania leplastriana",49.345999999999997,null,1218,"micro"]
["Semioscopis avellanella",32.000999999999998,null,666,"micro"]
["Semioscopis steinkellneriana",32.002000000000002,null,667,"micro"]
["Sitochroa palealis",63.014000000000003,null,1370,"micro"]
["Sitochroa verticalis",63.015000000000001,null,1371,"micro"]
["Sitotroga cerealella",35.033999999999999,"Angoumis Grain Moth ",749,"micro"]
["Sophronia semicostella",35.091000000000001,null,841,"micro"]
["Sorhagenia janiszewskae",34.014000000000003,null,910,"micro"]
["Sorhagenia lophyrella",34.012999999999998,null,909,"micro"]
["Sorhagenia rhamniella",34.012,null,908,"micro"]
["Sparganothis pilleriana",49.003,null,1012,"micro"]
["Spatalistis bifasciana",49.058,null,1034,"micro"]
["Spilonota laricana",49.225000000000001,null,"1205a","micro"]
["Spilonota ocellana",49.223999999999997,"Bud Moth ",1205,"micro"]
["Spoladea recurvalis",63.046999999999997,null,1404,"micro"]
["Spuleria flavicaput",39.003,null,904,"micro"]
["Stathmopoda pedella",42.002000000000002,null,877,"micro"]
["Stenolechia gemmella",35.159999999999997,null,755,"micro"]
["Stenoptilia annadactyla",45.017000000000003,"Small Scabious Plume ","1508c","micro","Not currently recorded in Kent, provide verification"]
["Stenoptilia bipunctidactyla",45.012999999999998,"Twin-spot Plume ",1508,"micro"]
["Stenoptilia gallobritannidactyla",45.015999999999998,null,null,"micro","Not currently recorded in Kent, provide verification"]
["Stenoptilia inopinata",45.015000000000001,"Scarce Plume ",null,"micro","Not currently recorded in Kent, provide verification"]
["Stenoptilia islandicus",45.018000000000001,"Mountain Plume ","1508a","micro","Not currently recorded in Kent, provide verification"]
["Stenoptilia millieridactyla",45.018999999999998,"Saxifrage Plume ",1506,"micro","Not currently recorded in Kent, provide verification"]
["Stenoptilia pneumonanthes",45.02,"Gentian Plume ",1505,"micro"]
["Stenoptilia pterodactyla",45.012,"Brown Plume ",1509,"micro"]
["Stenoptilia scabiodactylus",45.014000000000003,"Gregson's Plume ","1508e","micro","Not currently recorded in Kent, provide verification"]
["Stenoptilia zophodactylus",45.021000000000001,"Dowdy Plume ",1507,"micro"]
["Stenoptinea cyaneimarmorella",12.007999999999999,null,206,"micro","Not currently recorded in Kent, provide verification"]
["Stephensia brunnichella",38.003,null,592,"micro"]
["Sterrhopterix fusca",11.018000000000001,null,195,"micro","Not currently recorded in Kent, provide verification"]
["Stictea mygindiana",49.177999999999997,null,1070,"micro","Not currently recorded in Kent, provide verification"]
["Stigmella aceris",4.0119999999999996,null,102,"micro","Requires gen det if adult"]
["Stigmella aeneofasciella",4.0490000000000004,null,55,"micro","Requires gen det if adult"]
["Stigmella alnetella",4.0090000000000003,null,115,"micro","Requires gen det if adult"]
["Stigmella anomalella",4.0149999999999997,"Rose Leaf Miner ",92,"micro","Requires gen det if adult"]
["Stigmella assimilella",4.04,null,74,"micro","Requires gen det if adult"]
["Stigmella atricapitella",4.0609999999999999,null,83,"micro","Requires gen det if adult"]
["Stigmella aurella",4.0449999999999999,null,50,"micro","Requires gen det if adult"]
["Stigmella auromarginella",4.0460000000000003,null,54,"micro","Not currently recorded in Kent, provide verification"]
["Stigmella basiguttella",4.0579999999999998,null,89,"micro","Requires gen det if adult"]
["Stigmella betulicola",4.0049999999999999,null,110,"micro","Requires gen det if adult"]
["Stigmella carpinella",4.0330000000000004,null,76,"micro","Requires gen det if adult"]
["Stigmella catharticella",4.0140000000000002,null,98,"micro","Requires gen det if adult"]
["Stigmella centifoliella",4.0170000000000003,null,93,"micro","Requires gen det if adult"]
["Stigmella confusella",4.0030000000000001,null,117,"micro","Requires gen det if adult"]
["Stigmella continuella",4.0439999999999996,null,64,"micro","Requires gen det if adult"]
["Stigmella crataegella",4.0229999999999997,null,108,"micro","Requires gen det if adult"]
["Stigmella desperatella",4.0289999999999999,null,105,"micro","Requires gen det if adult"]
["Stigmella dryadella",4.05,null,56,"micro","Not currently recorded in Kent, provide verification"]
["Stigmella filipendulae",4.0519999999999996,null,57,"micro","Not currently recorded in Kent, provide verification"]
["Stigmella floslactella",4.032,null,75,"micro","Requires gen det if adult"]
["Stigmella fragariella",4.0449999999999999,null,51,"micro","Requires gen det if adult"]
["Stigmella glutinosae",4.008,null,114,"micro","Requires gen det if adult"]
["Stigmella hemargyrella",4.0549999999999997,null,81,"micro","Requires gen det if adult"]
["Stigmella hybnerella",4.03,null,99,"micro","Requires gen det if adult"]
["Stigmella incognitella",4.0529999999999999,null,78,"micro","Requires gen det if adult"]
["Stigmella lapponica",4.0019999999999998,null,116,"micro","Requires gen det if adult"]
["Stigmella lemniscella",4.0430000000000001,null,63,"micro","Requires gen det if adult"]
["Stigmella luteella",4.0069999999999997,null,112,"micro","Requires gen det if adult"]
["Stigmella magdalenae",4.024,null,104,"micro","Not currently recorded in Kent, provide verification"]
["Stigmella malella",4.0129999999999999,"Apple Pygmy ",97,"micro","Requires gen det if adult"]
["Stigmella mespilicola",4.0309999999999997,null,"99a","micro","Not currently recorded in Kent, provide verification"]
["Stigmella microtheriella",4.01,null,111,"micro","Requires gen det if adult"]
["Stigmella minusculella",4.0279999999999996,null,91,"micro","Not currently recorded in Kent, provide verification"]
["Stigmella myrtillella",4.0359999999999996,null,72,"micro","Not currently recorded in Kent, provide verification"]
["Stigmella nylandriella",4.0250000000000004,null,103,"micro","Requires gen det if adult"]
["Stigmella obliquella",4.0380000000000003,null,70,"micro","Requires gen det if adult"]
["Stigmella oxyacanthella",4.0259999999999998,null,100,"micro","Requires gen det if adult"]
["Stigmella paradoxa",4.0199999999999996,null,82,"micro","Requires gen det if adult"]
["Stigmella perpygmaeella",4.0540000000000003,null,79,"micro","Requires gen det if adult"]
["Stigmella plagicolella",4.0419999999999998,null,67,"micro","Requires gen det if adult"]
["Stigmella poterii",4.0510000000000002,null,59,"micro","Requires gen det if adult"]
["Stigmella pretiosa",4.048,null,"54a","micro","Not currently recorded in Kent, provide verification"]
["Stigmella prunetorum",4.0110000000000001,null,109,"micro","Requires gen det if adult"]
["Stigmella pyri",4.0270000000000001,null,101,"micro","Requires gen det if adult"]
["Stigmella regiella",4.0220000000000002,null,107,"micro","Requires gen det if adult"]
["Stigmella roborella",4.0629999999999997,null,86,"micro","Requires gen det if adult"]
["Stigmella ruficapitella",4.0599999999999996,null,84,"micro","Requires gen det if adult"]
["Stigmella sakhalinella",4.0060000000000002,null,113,"micro","Requires gen det if adult"]
["Stigmella salicis",4.0350000000000001,null,68,"micro","Requires gen det if adult"]
["Stigmella samiatella",4.0620000000000003,null,88,"micro","Requires gen det if adult"]
["Stigmella sorbi",4.0410000000000004,null,66,"micro","Not currently recorded in Kent, provide verification"]
["Stigmella speciosa",4.056,null,65,"micro","Requires gen det if adult"]
["Stigmella spinosissimae",4.016,null,94,"micro","Not currently recorded in Kent, provide verification"]
["Stigmella splendidissimella",4.0469999999999997,null,53,"micro","Requires gen det if adult"]
["Stigmella suberivora",4.0570000000000004,null,85,"micro","Requires gen det if adult"]
["Stigmella svenssoni",4.0590000000000002,null,87,"micro","Requires gen det if adult"]
["Stigmella tiliae",4.0039999999999996,null,90,"micro","Not currently recorded in Kent, provide verification"]
["Stigmella tityrella",4.0339999999999998,null,77,"micro","Requires gen det if adult"]
["Stigmella torminalis",4.0209999999999999,null,106,"micro","Requires gen det if adult"]
["Stigmella trimaculella",4.0389999999999997,null,73,"micro","Requires gen det if adult"]
["Stigmella ulmivora",4.0179999999999998,null,80,"micro","Requires gen det if adult"]
["Stigmella viscerella",4.0190000000000001,null,95,"micro","Requires gen det if adult"]
["Stigmella zelleriella",4.0369999999999999,null,71,"micro","Requires gen det if adult"]
["Strophedra nitidana",49.381999999999998,null,1222,"micro"]
["Strophedra weirana",49.381,null,1221,"micro"]
["Swammerdamia caesiella",16.015000000000001,null,437,"micro"]
["Swammerdamia compunctella",16.018000000000001,null,439,"micro"]
["Swammerdamia passerella",16.015999999999998,null,"437a","micro","Not currently recorded in Kent, provide verification"]
["Swammerdamia pyrella",16.016999999999999,null,438,"micro"]
["Symmoca signatella",27.004000000000001,null,872,"micro"]
["Synaphe punctalis",62.07,null,1414,"micro"]
["Syncopacma albifrontella",35.005000000000003,null,"847a ","micro","Not currently recorded in Kent, provide verification"]
["Syncopacma albipalpella",35.006999999999998,null,848,"micro","Not currently recorded in Kent, provide verification"]
["Syncopacma cinctella",35.002000000000002,null,849,"micro"]
["Syncopacma larseniella",35.003,null,844,"micro"]
["Syncopacma polychromella",35.009,null,850,"micro","Please check ID & provide verification"]
["Syncopacma sangiella",35.000999999999998,null,845,"micro","Not currently recorded in Kent, provide verification"]
["Syncopacma suecicella",35.008000000000003,null,"848a","micro","Not currently recorded in Kent, provide verification"]
["Syncopacma taeniolella",35.003999999999998,null,847,"micro"]
["Syncopacma vinella",35.006,null,846,"micro","Not currently recorded in Kent, provide verification"]
["Syndemis musculana",49.027999999999999,null,986,"micro"]
["Tachystola acroxantha",28.024000000000001,null,656,"micro"]
["Taleporia tubulosa",11.006,null,181,"micro"]
["Tebenna bjerkandrella",48.003999999999998,null,null,"micro","Not currently recorded in Kent, provide verification"]
["Tebenna micalis",48.005000000000003,null,386,"micro"]
["Telechrysis tripuncta",32.049999999999997,null,646,"micro"]
["Teleiodes flavimaculella",35.143999999999998,null,"774a","micro"]
["Teleiodes luculella",35.143000000000001,null,774,"micro"]
["Teleiodes sequax",35.145000000000003,null,775,"micro"]
["Teleiodes vulgella",35.140999999999998,null,765,"micro"]
["Teleiodes wagae",35.142000000000003,null,769,"micro"]
["Teleiopsis diffinis",35.146000000000001,null,776,"micro"]
["Tenaga nigripunctella",12.002000000000001,null,201,"micro","Please check ID & provide verification"]
["Thaumatotibia leucotreta",49.3431,"False Codling Moth",1215,"micro"]
["Thiodia citrana",49.219000000000001,null,1204,"micro"]
["Thiotricha subocellea",35.036999999999999,null,840,"micro"]
["Thisanotia chrysonuchella",63.106999999999999,null,1321,"micro"]
["Tinagma balteolella",26.001999999999999,null,399,"micro"]
["Tinagma ocnerostomella",26.001000000000001,null,398,"micro"]
["Tinea columbariella",12.031000000000001,null,239,"micro"]
["Tinea dubiella",12.028,null,243,"micro"]
["Tinea flavescentella",12.029,null,244,"micro","Not currently recorded in Kent, provide verification"]
["Tinea pallescentella",12.03,"Large Pale Clothes Moth ",245,"micro"]
["Tinea pellionella",12.026999999999999,"Case-bearing Clothes Moth ",240,"micro"]
["Tinea semifulvella",12.032,null,246,"micro"]
["Tinea trinotella",12.032999999999999,null,247,"micro"]
["Tineola bisselliella",12.026,"Common Clothes Moth ",236,"micro"]
["Tischeria dodonaea",10.002000000000001,null,124,"micro"]
["Tischeria ekebladella",10.000999999999999,null,123,"micro"]
["Tortricodes alternella",49.043999999999997,null,1025,"micro"]
["Tortrix viridana",49.058999999999997,"Green Oak Tortrix",1033,"micro"]
["Triaxomasia caprimulgella",12.023,null,226,"micro"]
["Triaxomera fulvimitrella",12.010999999999999,null,225,"micro"]
["Triaxomera parasitella",12.012,null,224,"micro"]
["Trichophaga tapetzella",12.025,"Tapestry Moth ",234,"micro"]
["Trifurcula beirnei",4.069,null,47,"micro","Not currently recorded in Kent, provide verification"]
["Trifurcula cryptella",4.0650000000000004,null,48,"micro","Not currently recorded in Kent, provide verification"]
["Trifurcula eurema",4.0659999999999998,null,49,"micro","Not currently recorded in Kent, provide verification"]
["Trifurcula headleyella",4.0640000000000001,null,44,"micro","Not currently recorded in Kent, provide verification"]
["Trifurcula immundella",4.0679999999999996,null,46,"micro"]
["Trifurcula squamatella",4.07,null,"46a","micro","Not currently recorded in Kent, provide verification"]
["Trifurcula subnitidella",4.0670000000000002,null,45,"micro","Not currently recorded in Kent, provide verification"]
["Tuta absoluta",35.127000000000002,null,"825a ","micro","Not currently recorded in Kent, provide verification"]
["Udea decrepitalis",63.036000000000001,null,1391,"micro","Not currently recorded in Kent, provide verification"]
["Udea ferrugalis",63.030999999999999,"Rusty-dot Pearl ",1395,"micro"]
["Udea fulvalis",63.031999999999996,null,1389,"micro","Not currently recorded in Kent, provide verification"]
["Udea lutealis",63.033000000000001,null,1388,"micro"]
["Udea olivalis",63.036999999999999,null,1392,"micro"]
["Udea prunalis",63.033999999999999,null,1390,"micro"]
["Udea uliginosalis",63.034999999999997,null,1393,"micro","Not currently recorded in Kent, provide verification"]
["Uresiphita gilvata",63.011000000000003,null,1369,"micro"]
["Uresiphita reversalis",63.012,null,"1369a","micro","Not currently recorded in Kent, provide verification"]
["Vitula biviella",62.061,null,"1478b","micro"]
["Vitula edmandsii",62.06,null,"1478a","micro","Not currently recorded in Kent, provide verification"]
["Wheeleria spilodactylus",45.034999999999997,"Horehound Plume ",1515,"micro","Not currently recorded in Kent, provide verification"]
["Whittleia retiella",11.015000000000001,null,190,"micro","Please check ID & provide verification"]
["Xenolechia aethiops",35.154000000000003,null,763,"micro","Not currently recorded in Kent, provide verification"]
["Xystophora pulveratella",35.082999999999998,null,754,"micro","Not currently recorded in Kent, provide verification"]
["Yponomeuta cagnagella",16.004000000000001,"Spindle Ermine ",427,"micro"]
["Yponomeuta evonymella",16.001000000000001,"Bird-cherry Ermine ",424,"micro"]
["Yponomeuta irrorella",16.006,null,429,"micro"]
["Yponomeuta malinellus",16.003,"Apple Ermine ",426,"micro"]
["Yponomeuta padella",16.001999999999999,"Orchard Ermine ",425,"micro"]
["Yponomeuta plumbella",16.007000000000001,null,430,"micro"]
["Yponomeuta rorrella",16.004999999999999,"Willow Ermine ",428,"micro"]
["Yponomeuta sedella",16.007999999999999,null,431,"micro"]
["Ypsolopha alpella",17.007999999999999,null,458,"micro"]
["Ypsolopha asperella",17.004000000000001,null,454,"micro","Not currently recorded in Kent, provide verification"]
["Ypsolopha dentella",17.003,"Honeysuckle Moth ",453,"micro"]
["Ypsolopha horridella",17.006,null,456,"micro"]
["Ypsolopha lucella",17.007000000000001,null,457,"micro"]
["Ypsolopha mucronella",17.001000000000001,null,451,"micro"]
["Ypsolopha nemorella",17.001999999999999,null,452,"micro"]
["Ypsolopha parenthesella",17.010000000000002,null,460,"micro"]
["Ypsolopha scabrella",17.004999999999999,null,455,"micro"]
["Ypsolopha sequella",17.012,null,462,"micro"]
["Ypsolopha sylvella",17.009,null,459,"micro"]
["Ypsolopha ustella",17.010999999999999,null,461,"micro"]
["Ypsolopha vittella",17.013000000000002,null,463,"micro"]
["Zeiraphera griseana",49.256999999999998,"Larch Tortrix ",1166,"micro"]
["Zeiraphera isertana",49.26,null,1165,"micro"]
["Zeiraphera ratzeburgiana",49.259,"Spruce Bud Moth ",1163,"micro"]
["Zeiraphera rufimitrana",49.258000000000003,null,1164,"micro","Not currently recorded in Kent, provide verification"]
["Zelleria hepariella",16.010000000000002,null,435,"micro"]
["Zelleria oleastrella",16.010999999999999,null,"435a ","micro","Not currently recorded in Kent, provide verification"]
["Zophodia grossulariella",62.045000000000002,null,"1464a","micro"]